{"text_format":"1","workbook":"xlsx","n_sheets":39,"sheets":["Hoja2","Matriz para imagen","Matriz VERDE-GBCe","Revisión","portada","Instrucciones","DG","zona clima","BD GRAL","CA","PRE","PE","EA","RN ","RN 01","BD RIEGO","P","ETo","JR","Nf","RN 02","RN 04","RN 07","RN 11","DATOSMat","Mat Ref","AI","AI 03","Ayuda CAI 03","AS","AS 03","AUX - DATOS","capitales","CE ","IN","Informe resultados","Resultados por impactos","Indicadores","hojitas"],"not_rendered":{"charts":7,"images":42,"macros":1,"external_links":10,"defined_names":492,"comments":0,"pivot_tables":0},"unopened":[],"bounds":{"document_bytes":16777216,"sheet_cells":100000,"rows_first":2000,"rows_last":500,"rows_between":2000,"halvings":0,"cell_chars":16384,"cell_head_chars":4096},"cells_cut":0,"cells_raw":0,"read":"whole","date_system":"1900"}

{"sheet":"Hoja2","index":0,"n_rows":6,"n_cols":2,"rows_kept":6,"cut":false,"hidden":true,"merged":[]}
[{"$f":"CA!E5","v":"Parcela y emplazamiento"},{"$f":"CA!G5","v":0.15244622413881617}]
[{"$f":"CA!E28","v":"Energía y atmósfera"},{"$f":"CA!G28","v":0.17601006211817857}]
[{"$f":"CA!E41","v":"Recursos naturales"},{"$f":"CA!G41","v":0.22922121258791522}]
[{"$f":"CA!E70","v":"Ambiente Interior."},{"$f":"CA!G70","v":9.4871399969197606E-2}]
[{"$f":"CA!E85","v":"Aspectos sociales"},{"$f":"CA!G85","v":0.16715437137430056}]
[{"$f":"CA!E109","v":"Calidad de la edificación"},{"$f":"CA!G109","v":0.18029672981159198}]

{"sheet":"Matriz para imagen","index":1,"n_rows":45,"n_cols":15,"rows_kept":45,"cut":false,"hidden":true,"merged":[[0,1,0,2]]}
[null,null,null,"Cambio climático","Emisiones a la atmósfera, tierra y agua","Cambios en la biodiversidad","Agotamiento de energía no renovable","Agotamiento de agua potable","Agotamiento de recursos materiales","Generación de residuos","Impactos sobre el vecindario","Accesibilidad","Salud y confort","Aspectos económicos del resultado","Ahorro en el coste del ciclo de vida"]
[null,"Parcela y Emplazamiento"]
[null,"PyE 01","Proximidad al transporte publico.",null,null,null,null,null,null,null,null,1,1,1]
[null,"PyE 02","Proximidad a equipamiento y servicios.",null,null,null,null,null,null,null,null,1,1,1]
[null,"PyE 03","Facilidades para la bicicleta.",null,null,null,null,null,null,null,null,1,1,1]
[null,"PyE 04","Clasificación de RSU",null,null,null,null,null,1,2]
[null,"PyE 05","Gestión y Restauración del hábitat",null,null,1,null,null,1,null,1,null,null,1]
[null,"PyE 06","Uso de plantas para crear sombras",0.15,null,1,null,null,null,null,1,null,1]
[null,"PyE 07","Efecto isla de calor",0.75,null,1,null,null,null,null,1]
[null,"PyE 08","Contaminación lumínica.",null,null,2,null,null,null,null,1]
[null,"Energía y Atmósfera"]
[null,"EyA 01","Demanda de calefacción y refrigeración",1,1,null,1,null,null,null,null,null,2,1,2]
[null,"EyA 02","Consumo de energía primaria no renovable",1,1,null,2,null,null,null,null,null,null,null,1]
[null,"EyA 03","Emisiones de CO2 por procesos de climatización y ACS",2,2]
[null,"EyA 04","Demanda de energía eléctrica en fase de uso",0.25,0.25,null,0.25,null,null,null,null,null,null,null,0.25]
[null,"EyA 05","Emisión de NOx en calderas de combustión.",null,1,null,null,null,null,null,null,null,1]
[null,"EyA 06","Elección responsable de refrigerantes",1,2,1]
[null,"Recursos Naturales"]
[null,"RN 01","Consumo de agua en aparatos sanitarios",null,1,null,null,2,null,null,null,null,null,null,2]
[null,"RN 02","Necesidades de riego en jardines",null,null,null,null,1,null,null,null,null,null,1,1]
[null,"RN 03","Consumo de agua en zonas comunes",null,null,null,null,0.5,null,null,null,null,null,null,1]
[null,"RN 04","Uso de aguas no potables.",null,null,null,null,1,null,null,null,null,null,1,1]
[null,"RN 05","Uso de materiales reciclados.",null,null,null,null,null,1,1]
[null,"RN 06","Uso de materiales obtenidos de recursos sostenibles.",null,null,null,null,null,0.5,null,null,null,null,1]
[null,"RN 07","Uso de materiales locales.",null,null,null,null,null,null,null,1,null,null,3]
[null,"RN 08","Planificación de una estrategia de demolición selectiva,",null,null,null,null,null,1,1,null,null,null,null,1]
[null,"RN 09","Gestión de los residuos de la construcción.",null,null,null,null,null,1,1]
[null,"RN 10","Impacto de los materiales de la construcción.",null,2,null,1,1,1,1]
[null,"RN 11","Ecoetiquetado de producto.",null,null,null,null,null,1,null,null,null,null,3]
[null,"Calidad del Ambiente Interior"]
[null,"CAI 01","Limitación en las emisiones de COVs.",null,null,null,null,null,null,null,null,null,2,1]
[null,"CAI 02","Eficacia de la ventilación natural.",null,null,null,null,null,null,null,null,null,3,1]
[null,"CAI 03","Iluminación natural.",null,null,null,null,null,null,null,null,null,3,2]
[null,"CAI 04","Protección frente al ruido.",null,null,null,null,null,null,null,null,null,3,1]
[null,"Aspectos Sociales y Económicos"]
[null,"ASE 01","Acceso universal.",null,null,null,null,null,null,null,1,3,null,2]
[null,"ASE 02","Derecho al sol.",null,null,null,null,null,null,null,null,null,2,1]
[null,"ASE 03","Acceso a espacios abiertos privados.",null,null,null,null,null,null,null,null,null,1,1]
[null,"ASE 04","Derecho a la intimidad.",null,null,null,null,null,null,null,null,null,1,1]
[null,"ASE 05","Coste de construcción.",null,null,null,null,null,null,null,null,null,null,null,3]
[null,"Concepto de Calidad"]
[null,"CC 01","Eficiencia de los espacios.",null,null,null,null,null,null,null,null,null,null,2,1]
[null,"CC 02","Disponibilidad de un sistema de gestión del edificio (BMS).",null,null,null,1,1,null,null,null,null,null,2,1]
[null,"CC 03","Custodia de la documentación del proyecto",null,null,null,null,null,null,null,null,null,null,3]
[null,"CC 04","El edificio como una herramienta para la educación",null,null,null,null,null,null,null,1,null,null,3]

{"sheet":"Matriz VERDE-GBCe","index":2,"n_rows":61,"n_cols":84,"rows_kept":61,"cut":false,"hidden":true,"merged":[[2,21,2,22],[2,27,2,32],[2,35,2,49]]}
[]
["Residencial colectivo","Unifamiliar","Urbanizaciones","Vivienda en un edificio","Edificios administrativos","Equipamiento público","Edificios docentes","Edificios comerciales","Alojamiento y hospedaje","Servicios de restauración","Edificios deportivos","Edificios sanitarios","Industria ligera o logística","Local o parte de un edificio",null,"Nueva Edificación","Rehabilitación","Existente","Mixto","Límites de aplicabilidad"," "," ","Lista de criterios","Peso del criterio",null,"Solidez del criterio","Solidez del criterio","Alcance del efecto","Duración del efecto","Intensidad del efecto","Fiabilidad de los datos","Capacidad de lograr el objetivo","Complejidad del criterio","Peso por impactos","Peso por impactos","Cambio climático","Emisiones a la atmósfera, tierra y agua","Cambios en la biodiversidad","Agotamiento de energía no renovable","Agotamiento de agua potable","Agotamiento de recursos materiales","Generación de residuos","Accesibilidad","Adaptabilidad","Salud y confort","Impactos sobre el vecindario","Mantenimiento","Seguridad","Aspectos económicos del resultado","Ahorro en el coste del ciclo de vida",null,"Cambio climático","Emisiones a la atmósfera, tierra y agua","Cambios en la biodiversidad","Agotamiento de energía no renovable","Agotamiento de agua potable","Agotamiento de recursos materiales","Generación de residuos","Accesibilidad","Adaptabilidad","Salud y confort","Impactos sobre el vecindario","Mantenimiento","Seguridad","Aspectos económicos del resultado","Ahorro en el coste del ciclo de vida",null,"Cambio climático","Emisiones a la atmósfera, tierra y agua","Cambios en la biodiversidad","Agotamiento de energía no renovable","Agotamiento de agua potable","Agotamiento de recursos materiales","Generación de residuos","Accesibilidad","Adaptabilidad","Salud y confort","Impactos sobre el vecindario","Mantenimiento","Seguridad","Aspectos económicos del resultado","Ahorro en el coste del ciclo de vida"]
[null,null,null,null,null,null,null,null,null,null,null,null,null,null,null,null,null,null,null,null,null,"Listas de criterios",null,"Peso",null,null,null,"Solidez del criterio",null,null,null,null,null,null,null,"Influencia de los impactos"]
[null,null,null,null,null,null,null,null,null,null,null,null,null,null,null,null,null,null,null,null,null,null,null,null,null,null,null,3,3,2,1,3,1,null,null,3,2,3,3,2,2,1,2,1,3,2,1,2,2,3,null,3,2,3,3,2,2,1,2,1,3,2,1,2,2,3,null,3,2,3,3,2,2,1,2,1,3,2,1,2,2,3]
[null,null,null,null,null,null,null,null,null,null,null,null,null,null,null,null,null,null,null,null,null,null,null,null,null,null,{"$f":"SUM(AB5:AG5)","v":1},{"$f":"AB4/SUM($AB4:$AG4)","v":0.23076923076923078},0.23076923076923078,0.15384615384615385,7.6923076923076927E-2,0.23076923076923078,7.6923076923076927E-2,null,{"$f":"SUM(AJ5:AX5)","v":1},{"$f":"AJ4/SUM($AJ4:$AX4)","v":9.375E-2},6.25E-2,9.375E-2,9.375E-2,6.25E-2,6.25E-2,3.125E-2,6.25E-2,{"$f":"AR4/SUM($AJ4:$AX4)","v":3.125E-2},9.375E-2,6.25E-2,3.125E-2,6.25E-2,6.25E-2,9.375E-2,null,{"$f":"AZ4/SUM($AJ4:$AX4)","v":9.375E-2},6.25E-2,9.375E-2,9.375E-2,6.25E-2,6.25E-2,3.125E-2,6.25E-2,3.125E-2,9.375E-2,6.25E-2,{"$f":"BK4/SUM($AJ4:$AX4)","v":3.125E-2},{"$f":"BL4/SUM($AJ4:$AX4)","v":6.25E-2},{"$f":"BM4/SUM($AJ4:$AX4)","v":6.25E-2},{"$f":"BN4/SUM($AJ4:$AX4)","v":9.375E-2},null,{"$f":"BP4/SUM($AJ4:$AX4)","v":9.375E-2},6.25E-2,9.375E-2,9.375E-2,6.25E-2,6.25E-2,3.125E-2,6.25E-2,3.125E-2,9.375E-2,6.25E-2,{"$f":"CA4/SUM($AJ4:$AX4)","v":3.125E-2},{"$f":"CB4/SUM($AJ4:$AX4)","v":6.25E-2},{"$f":"CC4/SUM($AJ4:$AX4)","v":6.25E-2},{"$f":"CD4/SUM($AJ4:$AX4)","v":9.375E-2}]
[null,null,null,null,null,null,null,null,null,null,null,null,null,null,null,null,null,null,null,null,"PE","Parcela y emplazamiento",null,{"$f":"SUM(X7:X15)","v":0.15244622413881617},null,null,{"$f":"SUM(AA7:AA15)","v":0.14713896457765671},null,null,null,null,null,null,null,{"$f":"SUM(AI7:AI15)","v":0.16050420168067225}]
["si","si","si","si","si","si","si","si","si","si","si","si","si","si",null,null,null,null,null,"NO",{"$f":"VLOOKUP(V7,CA!$E$9:$L$132,5,FALSE)","v":1},"PE 01","Proximidad al transporte publico.",{"$f":"($Z7+2*$AH7)/($Z$60+2*$AH$60)","v":1.4297448534319013E-2},{"$f":"'Informe resultados'!N27","v":0},{"$f":"IF($U7=1,SUMPRODUCT(AB7:AG7,AB$5:AG$5),\"0\")","v":1.6153846153846156},{"$f":"IF($Z$60=0,0,$Z7/$Z$60)","v":1.4305177111716626E-2},2,2,1,3,1,1,{"$f":"IF($U7=1,SUMPRODUCT(AJ7:AX7,AJ$5:AX$5),\"0\")","v":0.53125},{"$f":"IF($AH$60=0,0,$AH7/$AH$60)","v":1.4285714285714285E-2},1,1,null,null,null,null,null,3,2,null,null,null,null,2,null,null,{"$f":"(AJ7*AJ$5)*$X7/SUMPRODUCT($AJ7:$AX7,$AJ$5:$AX$5)","v":2.5230791531151201E-3},1.6820527687434134E-3,0,0,0,0,0,5.0461583062302402E-3,{"$f":"(AU7*AU$5)*$X7/SUMPRODUCT($AJ7:$AX7,$AJ$5:$AX$5)","v":0},0,3.3641055374868268E-3,0,{"$f":"(AV7*AV$5)*$X7/SUMPRODUCT($AJ7:$AX7,$AJ$5:$AX$5)","v":0},3.3641055374868268E-3,0,null,{"$f":"(AJ7*AJ$5)*$Y7/SUMPRODUCT($AJ7:$AX7,$AJ$5:$AX$5)","v":0},0,0,0,0,0,0,0,{"$f":"(AO7*AO$5)*$Y7/SUMPRODUCT($AJ7:$AX7,$AJ$5:$AX$5)","v":0},0,0,{"$f":"(AU7*AU$5)*$Y7/SUMPRODUCT($AJ7:$AX7,$AJ$5:$AX$5)","v":0},0,0,0]
["si","si","si","si","si","si","si","si","si","si","si","si","si","si",null,null,null,null,null,"NO",{"$f":"VLOOKUP(V8,CA!$E$9:$L$132,5,FALSE)","v":1},"PE 02","Proximidad a equipamiento y servicios.",1.3476051131988296E-2,{"$f":"'Informe resultados'!N28","v":0},{"$f":"IF($U8=1,SUMPRODUCT(AB8:AG8,AB$5:AG$5),\"0\")","v":1.4615384615384617},1.2942779291553137E-2,2,1,1,3,1,2,{"$f":"IF($U8=1,SUMPRODUCT(AJ8:AX8,AJ$5:AX$5),\"0\")","v":0.53125},1.4285714285714285E-2,1,1,null,null,null,null,null,3,2,null,null,null,null,2,null,null,2.3781266703508759E-3,1.5854177802339172E-3,0,0,0,0,0,4.7562533407017518E-3,0,0,3.1708355604678344E-3,0,0,3.1708355604678344E-3,0,null,0,0,0,0,0,0,0,0,0,0,0,0,0,0,0]
["si","no","no","no","si","si","si","si","si","si","si","si","si","no",null,null,null,null,null,null,{"$f":"IF(OR(DG!F$29=\"Unifamiliar\",DG!F29=\"Urbanizaciones\",DG!F29=\"Vivienda en un edificio\",DG!F29=\"Local o parte de un edificio\"),0,VLOOKUP(V9,CA!$E$9:$L$132,5,FALSE))","v":1},"PE 03","Facilidades para la bicicleta.",1.6299604702500133E-2,{"$f":"'Informe resultados'!N29","v":0},1.6153846153846156,1.4305177111716626E-2,2,2,1,3,1,1,0.71875,1.9327731092436976E-2,1,1,null,null,null,null,null,3,2,2,null,null,null,2,null,null,2.126035395978278E-3,1.4173569306521856E-3,0,0,0,0,0,4.252070791956556E-3,0,0,2.8347138613043711E-3,0,0,2.8347138613043711E-3,0,null,0,0,0,0,0,0,0,0,0,0,0,0,0,0,0]
["si","si","si","no","si","si","si","si","si","si","si","si","si","no",null,null,null,null,null,null,{"$f":"IF(OR(DG!F29=\"Vivienda en un edificio\",DG!F29=\"Local o parte de un edificio\",DG!F43=\"NO\"),0,VLOOKUP(V10,CA!$E$9:$L$132,5,FALSE))","v":1},"PE 04","Capacidad de carga de vehículos eléctricos.",1.6017249345448948E-2,{"$f":"'Informe resultados'!N30","v":0},2.0000000000000004,1.7711171662125349E-2,2,2,2,3,2,1,0.5,1.3445378151260505E-2,1,1,null,null,null,null,null,1,2,null,null,null,null,2,1,null,3.003234252271678E-3,2.0021561681811185E-3,0,0,0,0,0,2.0021561681811185E-3,0,0,4.004312336362237E-3,3.003234252271678E-3,0,4.004312336362237E-3,3.003234252271678E-3,null,0,0,0,0,0,0,0,0,0,0,0,0,0,0,0]
["si","si","si","no","si","si","si","si","si","si","si","si","si","no",null,null,null,null,null,null,{"$f":"IF(OR(DG!F29=\"Vivienda en un edificio\",DG!F29=\"Local o parte de un edificio\"),0,VLOOKUP(V11,CA!$E$9:$L$132,5,FALSE))","v":1},"PE 05","Clasificación de RSU.",1.1294214282047332E-2,{"$f":"'Informe resultados'!N31","v":0},1.6153846153846152,1.4305177111716623E-2,2,1,1,3,2,1,0.25,6.7226890756302525E-3,null,null,1,null,null,1,3,null,null,null,null,null,null,null,null,null,0,0,4.2353303557677493E-3,0,0,2.823553570511833E-3,4.2353303557677493E-3,0,0,0,0,0,0,0,0,null,0,0,0,0,0,0,0,0,0,0,0,0,0,0,0]
["si","si","si","no","si","si","si","si","si","si","si","si","si","no",null,null,null,null,null,null,{"$f":"IF(OR(DG!F29=\"Vivienda en un edificio\",DG!F29=\"Local o parte de un edificio\"),0,VLOOKUP(V12,CA!$E$9:$L$132,5,FALSE))","v":1},"PE 06","Gestión y Restauración del hábitat.",2.2819446583500182E-2,{"$f":"'Informe resultados'!N32","v":0},2.4615384615384612,2.1798365122615803E-2,2,3,2,2,3,2,0.90625,2.4369747899159664E-2,1,1,3,null,2,1,null,null,null,1,2,null,null,1,null,null,2.360632405189674E-3,1.5737549367931161E-3,7.081897215569022E-3,0,3.1475098735862322E-3,1.5737549367931161E-3,0,0,0,0,1.5737549367931161E-3,0,0,1.5737549367931161E-3,0,null,0,0,0,0,0,0,0,0,0,0,0,0,0,0,0]
["si","si","si","no","si","si","si","si","si","si","si","si","si","no",null,null,null,null,null,null,{"$f":"IF(OR(DG!F29=\"Vivienda en un edificio\",DG!F29=\"Local o parte de un edificio\"),0,VLOOKUP(V13,CA!$E$9:$L$132,5,FALSE))","v":1},"PE 07","Uso de plantas para crear sombras.",1.8122080188921405E-2,{"$f":"'Informe resultados'!N33","v":0},1.7692307692307692,1.5667574931880111E-2,2,1,1,2,3,1,0.8125,2.1848739495798318E-2,1,1,3,1,2,null,null,null,null,1,1,null,null,null,null,null,2.0910092525678542E-3,1.3940061683785697E-3,6.2730277577035636E-3,2.0910092525678542E-3,2.7880123367571394E-3,0,0,0,0,0,0,0,0,0,0,null,0,0,0,0,0,0,0,0,0,0,0,0,0,0,0]
["si","si","si","no","si","si","si","si","si","si","si","si","si","no",null,null,null,null,null,null,{"$f":"IF(OR(DG!F29=\"Vivienda en un edificio\",DG!F29=\"Local o parte de un edificio\"),0,VLOOKUP(V14,CA!$E$9:$L$132,5,FALSE))","v":1},"PE 08","Efecto isla de calor.",2.043226038297654E-2,{"$f":"'Informe resultados'!N34","v":0},2.0769230769230771,1.8392370572207089E-2,2,1,2,3,3,2,0.875,2.3529411764705882E-2,2,2,2,null,null,null,null,null,null,2,3,null,null,null,null,null,4.3783415106378298E-3,2.9188943404252201E-3,4.3783415106378298E-3,0,0,0,0,0,0,0,0,0,0,0,0,null,0,0,0,0,0,0,0,0,0,0,0,0,0,0,0]
["si","si","si","no","si","si","si","si","si","si","si","si","si","no",null,null,null,null,null,null,{"$f":"IF(OR(DG!F29=\"Vivienda en un edificio\",DG!F29=\"Local o parte de un edificio\"),0,VLOOKUP(V15,CA!$E$9:$L$132,5,FALSE))","v":1},"PE 09","Contaminación lumínica.",1.9687868987114329E-2,{"$f":"'Informe resultados'!N35","v":0},2,1.7711171662125342E-2,2,1,2,3,3,1,0.84375,2.26890756302521E-2,null,3,3,null,null,null,null,null,null,2,3,null,null,null,null,null,0,4.3750819971365169E-3,6.5626229957047762E-3,0,0,0,0,0,0,0,0,0,0,0,0,null,0,0,0,0,0,0,0,0,0,0,0,0,0,0,0]
[null,null,null,null,null,null,null,null,null,null,null,null,null,null,null,null,null,null,null,null,"EA","Energía y atmósfera",null,{"$f":"SUM(X17:X22)","v":0.17601006211817857},null,null,{"$f":"SUM(AA17:AA22)","v":0.18732970027247964},null,null,null,null,null,null,null,{"$f":"SUM(AI17:AI22)","v":0.1588235294117647}]
[null,null,null,null,null,null,null,null,null,null,null,null,null,null,null,null,null,null,null,null,0,"EA 00","Demanda de calefacción y refrigeración",{"$f":"($Z17+2*$AH17)/($Z$60+2*$AH$60)","v":0},null,{"$f":"IF($U17=1,SUMPRODUCT(AB17:AG17,AB$5:AG$5),\"0\")","v":"0"},{"$f":"IF($Z$60=0,0,$Z17/$Z$60)","v":0},3,3,3,3,3,5,{"$f":"IF($U17=1,SUMPRODUCT(AJ17:AX17,AJ$5:AX$5),\"0\")","v":"0"},{"$f":"IF($AH$60=0,0,$AH17/$AH$60)","v":0},3,3,null,3,null,null,null,null,null,3,null,null,null,3,3,null,{"$f":"(AJ17*AJ$5)*$X17/SUMPRODUCT($AJ17:$AX17,$AJ$5:$AX$5)","v":0},0,0,0,0,0,0,0,{"$f":"(AU17*AU$5)*$X17/SUMPRODUCT($AJ17:$AX17,$AJ$5:$AX$5)","v":0},0,0,0,{"$f":"(AV17*AV$5)*$X17/SUMPRODUCT($AJ17:$AX17,$AJ$5:$AX$5)","v":0},0,0,null,{"$f":"(AJ17*AJ$5)*$Y17/SUMPRODUCT($AJ17:$AX17,$AJ$5:$AX$5)","v":0},0,0,0,0,0,0,0,{"$f":"(AO17*AO$5)*$Y17/SUMPRODUCT($AJ17:$AX17,$AJ$5:$AX$5)","v":0},0,0,{"$f":"(AU17*AU$5)*$Y17/SUMPRODUCT($AJ17:$AX17,$AJ$5:$AX$5)","v":0},0,0,0]
["si","si","si","si","si","si","si","si","si","si","si","si","si","si",null,null,null,null,null,"NO",{"$f":"VLOOKUP(V18,CA!$E$9:$L$132,5,FALSE)","v":1},"EA 01","Consumo de energía primaria",7.5414549001488793E-2,{"$f":"'Informe resultados'!N36","v":0},10.000000000000002,8.8555858310626734E-2,10,10,10,10,10,10,2.0625,5.5462184873949577E-2,10,3,2,3,null,null,null,null,null,null,null,null,null,3,3,null,3.4279340455222178E-2,6.8558680910444352E-3,6.8558680910444352E-3,1.0283802136566654E-2,0,0,0,0,0,0,6.8558680910444352E-3,1.0283802136566654E-2,0,6.8558680910444352E-3,1.0283802136566654E-2,null,0,0,0,0,0,0,0,0,0,0,0,0,0,0,0]
["si","si","si","no","si","si","si","si","si","si","si","si","si","no",null,null,null,null,null,null,{"$f":"IF(OR(DG!F29=\"Vivienda en un edificio\",DG!F29=\"Local o parte de un edificio\"),0,VLOOKUP(V19,CA!$E$9:$L$132,5,FALSE))","v":1},"EA 02","Generación distribuida",4.8513784075157877E-2,{"$f":"'Informe resultados'!N37","v":0},5.4615384615384626,4.8365122615803828E-2,5,5,3,3,10,2,1.8125,4.8739495798319328E-2,10,3,2,2,null,null,null,null,null,null,null,null,null,2,2,null,2.5093336590598904E-2,5.0186673181197797E-3,5.0186673181197797E-3,5.0186673181197797E-3,0,0,0,0,0,0,3.3457782120798535E-3,5.0186673181197797E-3,0,3.3457782120798535E-3,5.0186673181197797E-3,null,0,0,0,0,0,0,0,0,0,0,0,0,0,0,0]
["si","no","no","no","si","si","si","si","si","si","si","si","si","si",null,null,null,null,null,null,{"$f":"IF(OR(DG!F$29=\"Vivienda unifamiliar\",DG!F$29=\"Urbanizaciones\",DG!F$29=\"Vivienda en un edificio\"),0,VLOOKUP(V20,CA!$E$9:$L$132,5,FALSE))","v":1},"EA 03","Consumo en zonas comunes",2.5411982134606503E-2,{"$f":"'Informe resultados'!N38","v":0},2.384615384615385,2.1117166212534066E-2,3,3,2,2,2,1,1.1875,3.1932773109243695E-2,2,2,2,3,null,null,null,null,null,null,null,null,null,2,3,null,4.0124182317799739E-3,2.6749454878533161E-3,4.0124182317799739E-3,6.0186273476699609E-3,0,0,0,0,0,0,2.6749454878533161E-3,6.0186273476699609E-3,0,2.6749454878533161E-3,6.0186273476699609E-3,null,0,0,0,0,0,0,0,0,0,0,0,0,0,0,0]
[null,null,null,null,null,null,null,null,null,null,"si","si",null,null,null,null,null,null,null,null,0,"EA 05","Emisión de NOx en calderas de combustión.",0,null,"0",0,1,2,1,2,3,1,"0",0,null,2,null,null,null,null,null,null,null,1,null,null,null,null,null,null,0,0,0,0,0,0,0,0,0,0,0,0,0,0,0,null,0,0,0,0,0,0,0,0,0,0,0,0,0,0,0]
["si","si","si","si","si","si","si","si","si","si","si","si","si","si",null,null,null,null,null,"NO",{"$f":"VLOOKUP(V22,CA!$E$9:$L$132,5,FALSE)","v":1},"EA 04","Elección responsable de refrigerantes",2.6669746906925414E-2,{"$f":"'Informe resultados'!N39","v":0},3.3076923076923079,2.9291553133514992E-2,3,3,3,3,5,1,0.84375,2.26890756302521E-2,5,3,2,null,null,null,null,null,null,null,null,null,null,null,null,null,1.4816526059403009E-2,5.9266104237612029E-3,5.9266104237612029E-3,0,0,0,0,0,0,0,0,0,0,0,0,null,0,0,0,0,0,0,0,0,0,0,0,0,0,0,0]
[null,null,null,null,null,null,null,null,null,null,null,null,null,null,null,null,null,null,null,null,"RN","Recursos naturales",null,{"$f":"SUM(X24:X35)","v":0.22922121258791522},null,null,{"$f":"SUM(AA24:AA35)","v":0.25068119891008178},null,null,null,null,null,null,null,{"$f":"SUM(AI24:AI35)","v":0.1966386554621849}]
["si","si","si","si","si","si","si","si","si","si","si","si","si","si",null,null,null,null,null,"NO",{"$f":"VLOOKUP(V24,CA!$E$9:$L$132,5,FALSE)","v":1},"RN 01","Consumo de agua en aparatos sanitarios",{"$f":"($Z24+2*$AH24)/($Z$60+2*$AH$60)","v":2.1407669798244267E-2},{"$f":"'Informe resultados'!N40","v":0},{"$f":"IF($U24=1,SUMPRODUCT(AB24:AG24,AB$5:AG$5),\"0\")","v":2.3846153846153846},{"$f":"IF($Z$60=0,0,$Z24/$Z$60)","v":2.1117166212534063E-2},3,1,3,3,3,1,{"$f":"IF($U24=1,SUMPRODUCT(AJ24:AX24,AJ$5:AX$5),\"0\")","v":0.8125},{"$f":"IF($AH$60=0,0,$AH24/$AH$60)","v":2.1848739495798318E-2},null,2,1,null,3,null,null,null,null,null,null,null,null,2,3,null,{"$f":"(AJ24*AJ$5)*$X24/SUMPRODUCT($AJ24:$AX24,$AJ$5:$AX$5)","v":0},3.2934876612683486E-3,2.4701157459512614E-3,0,4.9402314919025228E-3,0,0,0,{"$f":"(AU24*AU$5)*$X24/SUMPRODUCT($AJ24:$AX24,$AJ$5:$AX$5)","v":0},0,3.2934876612683486E-3,7.4103472378537847E-3,{"$f":"(AV24*AV$5)*$X24/SUMPRODUCT($AJ24:$AX24,$AJ$5:$AX$5)","v":0},3.2934876612683486E-3,7.4103472378537847E-3,null,{"$f":"(AJ24*AJ$5)*$Y24/SUMPRODUCT($AJ24:$AX24,$AJ$5:$AX$5)","v":0},0,0,0,0,0,0,0,{"$f":"(AO24*AO$5)*$Y24/SUMPRODUCT($AJ24:$AX24,$AJ$5:$AX$5)","v":0},0,0,{"$f":"(AU24*AU$5)*$Y24/SUMPRODUCT($AJ24:$AX24,$AJ$5:$AX$5)","v":0},0,0,0]
["si","si","si","no","si","si","si","si","si","si","si","si","si","no",null,null,null,null,null,null,{"$f":"IF(OR(DG!F29=\"Vivienda en un edificio\",DG!F29=\"Local o parte de un edificio\",DG!F47<=20),0,VLOOKUP(V25,CA!$E$9:$L$132,5,FALSE))","v":0},"RN 02","Necesidades de riego en jardines.",0,{"$f":"'Informe resultados'!N41","v":0},"0",0,3,1,3,3,3,2,"0",0,null,2,1,null,3,null,null,null,null,null,null,null,null,2,3,null,0,0,0,0,0,0,0,0,0,0,0,0,0,0,0,null,0,0,0,0,0,0,0,0,0,0,0,0,0,0,0]
["si","no","no","no","si","si","si","si","si","si","si","si","si","si",null,null,null,null,null,null,{"$f":"IF(OR(DG!F$29=\"Vivienda unifamiliar\",DG!F$29=\"Urbanizaciones\",DG!F$29=\"Vivienda en un edificio\"),0,VLOOKUP(V26,CA!$E$9:$L$132,5,FALSE))","v":1},"RN 03","Consumos de agua singulares.",1.8122080188921405E-2,{"$f":"'Informe resultados'!N42","v":0},1.7692307692307694,1.5667574931880111E-2,3,1,1,2,2,1,0.8125,2.1848739495798318E-2,null,2,1,null,3,null,null,null,null,null,null,null,null,2,3,null,0,2.7880123367571394E-3,2.0910092525678542E-3,0,4.1820185051357085E-3,0,0,0,0,0,2.7880123367571394E-3,6.2730277577035636E-3,0,2.7880123367571394E-3,6.2730277577035636E-3,null,0,0,0,0,0,0,0,0,0,0,0,0,0,0,0]
["si","si","si","no","si","si","si","si","si","si","si","si","si","no",null,null,null,null,null,null,{"$f":"IF(OR(DG!F$29=\"Vivienda en un edificio\",DG!F$29=\"Local o parte de un edificio\"),0,VLOOKUP(V27,CA!$E$9:$L$132,5,FALSE))","v":1},"RN 04","Uso de agua no potable.",2.0842959084141899E-2,{"$f":"'Informe resultados'!N43","v":0},2.1538461538461537,1.9073569482288829E-2,3,1,1,3,3,2,0.875,2.3529411764705882E-2,null,2,1,null,3,null,null,null,null,null,null,null,null,3,3,null,0,2.9775655834488428E-3,2.2331741875866321E-3,0,4.4663483751732642E-3,0,0,0,0,0,4.4663483751732642E-3,6.6995225627598963E-3,0,4.4663483751732642E-3,6.6995225627598963E-3,null,0,0,0,0,0,0,0,0,0,0,0,0,0,0,0]
["si","si","si","si","si","si","si","si","si","si","si","si","si","si",null,null,null,"no",null,null,{"$f":"IF(DG!F31=\"Edificio existente\",0,VLOOKUP(V28,CA!$E$9:$L$132,5,FALSE))","v":1},"RN 05","Uso de materiales reciclados.",1.8122080188921405E-2,{"$f":"'Informe resultados'!N44","v":0},2.7692307692307692,2.4523160762942784E-2,3,3,2,3,3,2,0.3125,8.4033613445378148E-3,null,null,null,null,null,3,1,null,null,null,null,null,null,null,1,null,0,0,0,0,0,1.0873248113352843E-2,1.8122080188921405E-3,0,0,0,0,5.4366240566764215E-3,0,0,5.4366240566764215E-3,null,0,0,0,0,0,0,0,0,0,0,0,0,0,0,0]
["si","si","si","si","si","si","si","si","si","si","si","si","si","si",null,null,null,"no",null,null,{"$f":"IF(DG!F$31=\"Edificio existente\",0,VLOOKUP(V29,CA!$E$9:$L$132,5,FALSE))","v":1},"RN 06","Elección responsable de materiales",1.8789465578315109E-2,{"$f":"'Informe resultados'!N45","v":0},2.7692307692307692,2.4523160762942784E-2,3,3,2,3,3,2,0.375,1.0084033613445379E-2,null,null,1,null,null,3,null,null,null,1,null,null,null,null,null,null,0,0,4.6973663945787773E-3,0,0,9.3947327891575547E-3,0,0,0,0,0,0,0,0,0,null,0,0,0,0,0,0,0,0,0,0,0,0,0,0,0]
["si","si","si","si","si","si","si","si","si","si","si","si","si","si",null,null,null,"no",null,null,{"$f":"IF(DG!F$31=\"Edificio existente\",0,VLOOKUP(V30,CA!$E$9:$L$132,5,FALSE))","v":1},"RN 07","Uso de materiales de producción local.",1.9739206324759999E-2,{"$f":"'Informe resultados'!N46","v":0},2.3846153846153846,2.1117166212534063E-2,3,1,3,3,3,1,0.65625,1.7647058823529412E-2,1,1,null,null,null,null,null,null,null,null,3,null,null,2,2,null,2.8198866178228569E-3,1.8799244118819047E-3,0,0,0,0,0,0,0,0,3.7598488237638094E-3,5.6397732356457137E-3,0,3.7598488237638094E-3,5.6397732356457137E-3,null,0,0,0,0,0,0,0,0,0,0,0,0,0,0,0]
["si","si","si","si","si","si","si","si","si","si","si","si","si","si",null,null,null,"no",null,null,{"$f":"IF(DG!F$31=\"Edificio existente\",0,VLOOKUP(V31,CA!$E$9:$L$132,5,FALSE))","v":1},"RN 08","El edificio como banco de materiales",2.1638687817649778E-2,{"$f":"'Informe resultados'!N47","v":0},2.6153846153846154,2.3160762942779297E-2,3,2,3,2,3,2,0.71875,1.9327731092436976E-2,null,null,null,null,null,3,3,null,3,null,null,null,null,1,3,null,0,0,0,0,0,5.6448750828651598E-3,2.8224375414325799E-3,0,0,0,1.8816250276217198E-3,8.4673126242977396E-3,0,1.8816250276217198E-3,8.4673126242977396E-3,null,0,0,0,0,0,0,0,0,0,0,0,0,0,0,0]
["si","si","si","si","si","si","si","si","si","si","si","si","si","si",null,null,null,"no",null,null,{"$f":"IF(DG!F$31=\"Edificio existente\",0,VLOOKUP(V32,CA!$E$9:$L$132,5,FALSE))","v":1},"RN 09","Gestión de los residuos de la construcción.",1.5657887981929259E-2,{"$f":"'Informe resultados'!N48","v":0},2.3076923076923079,2.0435967302452323E-2,3,2,1,3,3,1,0.3125,8.4033613445378148E-3,null,null,null,null,null,2,3,null,null,null,null,null,null,null,1,null,0,0,0,0,0,6.2631551927717034E-3,4.6973663945787782E-3,0,0,0,0,4.6973663945787782E-3,0,0,4.6973663945787782E-3,null,0,0,0,0,0,0,0,0,0,0,0,0,0,0,0]
["si","si","si","si","si","si","si","si","si","si","si","si","si","si",null,"no",null,"no",null,null,{"$f":"IF(DG!F31=\"Rehabilitación\",VLOOKUP(V33,CA!$E$9:$L$132,5,FALSE),0)","v":0},"RN 10","Nivel de intervención en rehabilitaciones",0,{"$f":"'Informe resultados'!N49","v":0},"0",0,3,2,2,2,3,2,"0",0,null,null,null,null,null,3,3,null,2,null,null,null,null,null,3,null,0,0,0,0,0,0,0,0,0,0,0,0,0,0,0,null,0,0,0,0,0,0,0,0,0,0,0,0,0,0,0]
["si","si","si","si","si","si","si","si","si","si","si","si","si","si",null,null,null,"no",null,null,{"$f":"IF(DG!F$31=\"Edificio existente\",0,VLOOKUP(V34,CA!$E$9:$L$132,5,FALSE))","v":1},"RN 11","Impacto de los materiales de la construcción.",5.4853945274398075E-2,{"$f":"'Informe resultados'!N50","v":0},6.4615384615384617,5.7220708446866497E-2,8,3,8,3,8,8,1.90625,5.1260504201680671E-2,3,3,1,3,3,3,3,null,1,null,null,3,null,3,3,null,8.0932050404849618E-3,5.3954700269899748E-3,2.6977350134949874E-3,8.0932050404849618E-3,5.3954700269899748E-3,5.3954700269899748E-3,2.6977350134949874E-3,0,2.6977350134949874E-3,0,5.3954700269899748E-3,8.0932050404849618E-3,0,5.3954700269899748E-3,8.0932050404849618E-3,null,0,0,0,0,0,0,0,0,0,0,0,0,0,0,0]
["si","si","si","si","si","si","si","si","si","si","si","si","si","si",null,null,null,"no",null,null,{"$f":"IF(DG!F$31=\"Edificio existente\",0,VLOOKUP(V35,CA!$E$9:$L$132,5,FALSE))","v":1},"RN 12","Ecoetiquetado de producto.",2.0047230350634018E-2,{"$f":"'Informe resultados'!N51","v":0},2.6923076923076925,2.3841961852861041E-2,3,3,2,3,3,1,0.53125,1.4285714285714285E-2,1,1,null,1,1,1,1,null,null,null,null,null,null,2,null,null,3.5377465324648266E-3,2.3584976883098845E-3,0,3.5377465324648266E-3,2.3584976883098845E-3,2.3584976883098845E-3,1.1792488441549423E-3,0,0,0,4.7169953766197691E-3,0,0,4.7169953766197691E-3,0,null,0,0,0,0,0,0,0,0,0,0,0,0,0,0,0]
[null,null,null,null,null,null,null,null,null,null,null,null,null,null,null,null,null,null,null,null,"AI","Ambiente Interior.",null,{"$f":"SUM(X37:X41)","v":9.4871399969197606E-2},null,null,{"$f":"SUM(AA37:AA41)","v":8.6512261580381472E-2},null,null,null,null,null,null,null,{"$f":"SUM(AI37:AI41)","v":0.10756302521008404}]
["si","si","si","si","si","si","si","si","si","si","si","si","si","si",null,null,null,"no",null,null,{"$f":"IF(DG!F$31=\"Edificio existente\",0,VLOOKUP(V37,CA!$E$9:$L$132,5,FALSE))","v":1},"AI 01","Limitación de las emisiones de COVs",{"$f":"($Z37+2*$AH37)/($Z$60+2*$AH$60)","v":1.9020483597720624E-2},{"$f":"'Informe resultados'!N52","v":0},{"$f":"IF($U37=1,SUMPRODUCT(AB37:AG37,AB$5:AG$5),\"0\")","v":2},{"$f":"IF($Z$60=0,0,$Z37/$Z$60)","v":1.7711171662125342E-2},1,1,3,3,3,2,{"$f":"IF($U37=1,SUMPRODUCT(AJ37:AX37,AJ$5:AX$5),\"0\")","v":0.78125},{"$f":"IF($AH$60=0,0,$AH37/$AH$60)","v":2.100840336134454E-2},null,null,null,null,null,null,null,null,null,5,null,null,null,5,null,null,{"$f":"(AJ37*AJ$5)*$X37/SUMPRODUCT($AJ37:$AX37,$AJ$5:$AX$5)","v":0},0,0,0,0,0,0,0,{"$f":"(AU37*AU$5)*$X37/SUMPRODUCT($AJ37:$AX37,$AJ$5:$AX$5)","v":0},0,7.6081934390882502E-3,0,{"$f":"(AV37*AV$5)*$X37/SUMPRODUCT($AJ37:$AX37,$AJ$5:$AX$5)","v":0},7.6081934390882502E-3,0,null,{"$f":"(AJ37*AJ$5)*$Y37/SUMPRODUCT($AJ37:$AX37,$AJ$5:$AX$5)","v":0},0,0,0,0,0,0,0,{"$f":"(AO37*AO$5)*$Y37/SUMPRODUCT($AJ37:$AX37,$AJ$5:$AX$5)","v":0},0,0,{"$f":"(AU37*AU$5)*$Y37/SUMPRODUCT($AJ37:$AX37,$AJ$5:$AX$5)","v":0},0,0,0]
["si","si","si","si","si","si","si","si","si","si","si","si","si","si",null,null,null,null,null,"NO",{"$f":"VLOOKUP(V38,CA!$E$9:$L$132,5,FALSE)","v":1},"AI 02","Control de la calidad del aire",{"$f":"($Z38+2*$AH38)/($Z$60+2*$AH$60)","v":1.8609784896555268E-2},{"$f":"'Informe resultados'!N53","v":0},{"$f":"IF($U38=1,SUMPRODUCT(AB38:AG38,AB$5:AG$5),\"0\")","v":1.9230769230769231},{"$f":"IF($Z$60=0,0,$Z38/$Z$60)","v":1.7029972752043598E-2},1,1,3,3,3,1,{"$f":"IF($U38=1,SUMPRODUCT(AJ38:AX38,AJ$5:AX$5),\"0\")","v":0.78125},{"$f":"IF($AH$60=0,0,$AH38/$AH$60)","v":2.100840336134454E-2},null,null,null,null,null,null,null,null,null,5,null,null,null,5,null,null,0,0,0,0,0,0,0,0,0,0,7.443913958622107E-3,0,0,7.443913958622107E-3,0,null,0,0,0,0,0,0,0,0,0,0,0,0,0,0,0]
["si","no","no","si","si","si","si","si","si","si","si","si","si","si",null,null,null,null,null,null,{"$f":"IF(OR(DG!F29=\"Unifamiliar\",DG!F29=\"Urbanización\"),0,VLOOKUP(V39,CA!$E$9:$L$132,5,FALSE))","v":1},"AI 03","Iluminación natural.",{"$f":"($Z39+2*$AH39)/($Z$60+2*$AH$60)","v":1.8609784896555268E-2},{"$f":"'Informe resultados'!N54","v":0},{"$f":"IF($U39=1,SUMPRODUCT(AB39:AG39,AB$5:AG$5),\"0\")","v":1.9230769230769234},{"$f":"IF($Z$60=0,0,$Z39/$Z$60)","v":1.7029972752043602E-2},1,1,3,2,3,2,{"$f":"IF($U39=1,SUMPRODUCT(AJ39:AX39,AJ$5:AX$5),\"0\")","v":0.78125},{"$f":"IF($AH$60=0,0,$AH39/$AH$60)","v":2.100840336134454E-2},null,null,null,null,null,null,null,null,null,5,null,null,null,5,null,null,0,0,0,0,0,0,0,0,0,0,7.443913958622107E-3,0,0,7.443913958622107E-3,0,null,0,0,0,0,0,0,0,0,0,0,0,0,0,0,0]
["no","no","no","no","si","si","si","si","si","si","si","si","si","si",null,null,null,null,null,null,{"$f":"IF(OR(DG!F$29=\"Residencial colectivo\",DG!F$29=\"unifamiliar\",DG!F$29=\"urbanización\",DG!F$29=\"Vivienda en un edificio\"),0,VLOOKUP(V40,CA!$E$9:$L$132,5,FALSE))","v":1},"AI 04","Iluminación artificial",{"$f":"($Z40+2*$AH40)/($Z$60+2*$AH$60)","v":2.0021561681811184E-2},{"$f":"'Informe resultados'!N55","v":0},{"$f":"IF($U40=1,SUMPRODUCT(AB40:AG40,AB$5:AG$5),\"0\")","v":2},{"$f":"IF($Z$60=0,0,$Z40/$Z$60)","v":1.7711171662125342E-2},1,1,3,3,3,2,{"$f":"IF($U40=1,SUMPRODUCT(AJ40:AX40,AJ$5:AX$5),\"0\")","v":0.875},{"$f":"IF($AH$60=0,0,$AH40/$AH$60)","v":2.3529411764705882E-2},1,null,null,null,null,null,null,null,null,5,null,null,null,5,null,null,2.1451673230511981E-3,0,0,0,0,0,0,0,0,0,7.1505577435039946E-3,0,0,7.1505577435039946E-3,0,null,0,0,0,0,0,0,0,0,0,0,0,0,0,0,0]
["si","si","si","si","si","si","si","si","si","si","si","si","si","si",null,null,null,null,null,"NO",{"$f":"VLOOKUP(V41,CA!$E$9:$L$132,5,FALSE)","v":1},"AI 05","Protección frente al ruido.",{"$f":"($Z41+2*$AH41)/($Z$60+2*$AH$60)","v":1.8609784896555268E-2},{"$f":"'Informe resultados'!N56","v":0},{"$f":"IF($U41=1,SUMPRODUCT(AB41:AG41,AB$5:AG$5),\"0\")","v":1.9230769230769231},{"$f":"IF($Z$60=0,0,$Z41/$Z$60)","v":1.7029972752043598E-2},1,1,3,3,3,1,{"$f":"IF($U41=1,SUMPRODUCT(AJ41:AX41,AJ$5:AX$5),\"0\")","v":0.78125},{"$f":"IF($AH$60=0,0,$AH41/$AH$60)","v":2.100840336134454E-2},null,null,null,null,null,null,null,null,null,5,null,null,null,5,null,null,0,0,0,0,0,0,0,0,0,0,7.443913958622107E-3,0,0,7.443913958622107E-3,0,null,0,0,0,0,0,0,0,0,0,0,0,0,0,0,0]
[null,null,null,null,null,null,null,null,null,null,null,null,null,null,null,null,null,null,null,null,"AS","Aspectos sociales",null,{"$f":"SUM(X43:X51)","v":0.16715437137430056},null,null,{"$f":"SUM(AA43:AA51)","v":0.17098092643051774},null,null,null,null,null,null,null,{"$f":"SUM(AI43:AI51)","v":0.16134453781512606}]
["si","si","si","si","si","si","si","si","si","si","si","si","si","si",null,null,null,null,null,"NO",{"$f":"VLOOKUP(V43,CA!$E$9:$L$132,5,FALSE)","v":1},"AS 01","Espacios para todas las personas",{"$f":"($Z43+2*$AH43)/($Z$60+2*$AH$60)","v":1.8276092201858416E-2},{"$f":"'Informe resultados'!N57","v":0},{"$f":"IF($U43=1,SUMPRODUCT(AB43:AG43,AB$5:AG$5),\"0\")","v":1.9230769230769234},{"$f":"IF($Z$60=0,0,$Z43/$Z$60)","v":1.7029972752043602E-2},1,1,3,2,3,2,{"$f":"IF($U43=1,SUMPRODUCT(AJ43:AX43,AJ$5:AX$5),\"0\")","v":0.75},{"$f":"IF($AH$60=0,0,$AH43/$AH$60)","v":2.0168067226890758E-2},null,null,null,null,null,null,null,3,3,3,1,null,null,2,null,null,{"$f":"(AJ43*AJ$5)*$X43/SUMPRODUCT($AJ43:$AX43,$AJ$5:$AX$5)","v":0},0,0,0,0,0,0,4.569023050464604E-3,{"$f":"(AU43*AU$5)*$X43/SUMPRODUCT($AJ43:$AX43,$AJ$5:$AX$5)","v":0},0,3.0460153669764028E-3,0,{"$f":"(AV43*AV$5)*$X43/SUMPRODUCT($AJ43:$AX43,$AJ$5:$AX$5)","v":0},3.0460153669764028E-3,0,null,{"$f":"(AJ43*AJ$5)*$Y43/SUMPRODUCT($AJ43:$AX43,$AJ$5:$AX$5)","v":0},0,0,0,0,0,0,0,{"$f":"(AO43*AO$5)*$Y43/SUMPRODUCT($AJ43:$AX43,$AJ$5:$AX$5)","v":0},0,0,{"$f":"(AU43*AU$5)*$Y43/SUMPRODUCT($AJ43:$AX43,$AJ$5:$AX$5)","v":0},0,0,0]
["si","no","no","no","si","si","si","si","si","no","no","si","si","si",null,null,null,null,null,null,{"$f":"IF(OR(DG!F$29=\"unifamiliar\",DG!F$29=\"urbanización\",DG!F$29=\"Vivienda en un edificio\",DG!F$29=\"Servicios de restauración\",DG!F$29=\"Edificios deportivos\"),0,VLOOKUP(V44,CA!$E$9:$L$132,5,FALSE))","v":1},"AS 02","Espacios para la comunicación",1.7608706812464708E-2,{"$f":"'Informe resultados'!N58","v":0},1.9230769230769234,1.7029972752043602E-2,1,1,3,2,3,2,0.6875,1.8487394957983194E-2,null,null,null,null,null,null,null,3,3,3,null,null,null,2,null,null,0,0,0,0,0,0,0,4.8023745852176477E-3,0,0,3.201583056811765E-3,0,0,3.201583056811765E-3,0,null,0,0,0,0,0,0,0,0,0,0,0,0,0,0,0]
["si","si","si","si","no","no","no","no","si","no","no","si","no","si",null,null,null,null,null,null,{"$f":"IF(OR(DG!F$29=\"Edificios administrativos\",DG!F$29=\"equipamiento público\",DG!F$29=\"Edificios docentes\",DG!F$29=\"Edificios comerciales\",DG!F$29=\"Servicios de restauración\",DG!F$29=\"Edificios deportivos\",DG!F$29=\"Industria ligera o logística\"),0,VLOOKUP(V45,CA!$E$9:$L$132,5,FALSE))","v":1},"AS 03","Derecho al sol",1.6607628728374148E-2,{"$f":"'Informe resultados'!N59","v":0},1.9230769230769231,1.7029972752043598E-2,1,1,3,3,3,1,0.59375,1.5966386554621848E-2,null,null,null,null,null,null,null,null,2,3,1,null,null,3,null,null,0,0,0,0,0,0,0,0,0,0,5.2445143352760461E-3,0,0,5.2445143352760461E-3,0,null,0,0,0,0,0,0,0,0,0,0,0,0,0,0,0]
["si","si","si","si","no","no","no","no","si","no","no","si","no","si",null,null,null,null,null,null,{"$f":"IF(OR(DG!F$29=\"Edificios administrativos\",DG!F$29=\"equipamiento público\",DG!F$29=\"Edificios docentes\",DG!F$29=\"Edificios comerciales\",DG!F$29=\"Servicios de restauración\",DG!F$29=\"Edificios deportivos\",DG!F$29=\"Industria ligera o logística\"),0,VLOOKUP(V46,CA!$E$9:$L$132,5,FALSE))","v":1},"AS 04","Derecho a la intimidad",1.6017249345448948E-2,{"$f":"'Informe resultados'!N60","v":0},2,1.7711171662125342E-2,1,1,3,3,3,2,0.5,1.3445378151260505E-2,null,null,null,null,null,null,null,null,2,3,null,1,null,2,null,null,0,0,0,0,0,0,0,0,1.0010780840905592E-3,0,4.004312336362237E-3,0,0,4.004312336362237E-3,0,null,0,0,0,0,0,0,0,0,0,0,0,0,0,0,0]
["si","si","si","si","si","no","si","no","si","no","si","si","no","si",null,null,null,null,null,null,{"$f":"IF(OR(DG!F$29=\"equipamiento público\",DG!F$29=\"Edificios comerciales\",DG!F$29=\"Servicios de restauración\",DG!F$29=\"Industria ligera o logística\"),0,VLOOKUP(V47,CA!$E$9:$L$132,5,FALSE))","v":1},"AS 05","Contacto visual con el exterior",1.7018327429539504E-2,{"$f":"'Informe resultados'!N61","v":0},2,1.7711171662125342E-2,1,1,3,3,3,2,0.59375,1.5966386554621848E-2,null,null,null,null,null,null,null,null,2,3,null,null,1,3,null,null,0,0,0,0,0,0,0,0,0,1.7914028873199479E-3,5.3742086619598438E-3,0,1.7914028873199479E-3,5.3742086619598438E-3,0,null,0,0,0,0,0,0,0,0,0,0,0,0,0,0,0]
["si","si","si","si","si","no","no","no","si","no","no","si","no","no",null,null,null,null,null,null,{"$f":"IF(OR(DG!F$29=\"equipamiento público\",DG!F$29=\"Edificios docentes\",DG!F$29=\"Edificios comerciales\",DG!F$29=\"Servicios de restauración\",DG!F$29=\"Edificios deportivos\",DG!F$29=\"Industria ligera o logística\",DG!F$29=\"local o parte de un edificio\"),0,VLOOKUP(V48,CA!$E$9:$L$132,5,FALSE))","v":1},"AS 06","Espacios abiertos privados",1.735202012423636E-2,{"$f":"'Informe resultados'!N62","v":0},2,1.7711171662125342E-2,1,1,3,3,3,2,0.625,1.680672268907563E-2,null,null,null,null,null,null,null,null,3,3,null,null,1,3,null,null,0,0,0,0,0,0,0,0,0,1.735202012423636E-3,5.2056060372709084E-3,0,1.735202012423636E-3,5.2056060372709084E-3,0,null,0,0,0,0,0,0,0,0,0,0,0,0,0,0,0]
["si","si","si","si","si","si","si","si","si","si","si","si","si","si",null,null,null,null,null,"NO",{"$f":"VLOOKUP(V49,CA!$E$9:$L$132,5,FALSE)","v":1},"AS 07","Diseño inclusivo",1.9764874993582836E-2,{"$f":"'Informe resultados'!N63","v":0},2.0769230769230771,1.8392370572207089E-2,1,1,3,3,3,3,0.8125,2.1848739495798318E-2,null,null,null,null,null,null,null,3,3,3,null,null,1,3,null,null,0,0,0,0,0,0,0,4.5611249985191161E-3,0,1.5203749995063719E-3,4.5611249985191161E-3,0,1.5203749995063719E-3,4.5611249985191161E-3,0,null,0,0,0,0,0,0,0,0,0,0,0,0,0,0,0]
["si","si","si","si","si","si","si","si","si","si","si","si","si","si",null,null,null,null,null,"NO",{"$f":"VLOOKUP(V50,CA!$E$9:$L$132,5,FALSE)","v":1},"AS 08","Conexión con la naturaleza",2.6053698855177373E-2,{"$f":"'Informe resultados'!N64","v":0},2.6923076923076925,2.3841961852861041E-2,2,3,3,2,3,3,1.09375,2.9411764705882353E-2,1,null,3,null,2,null,null,null,2,3,null,null,1,3,null,null,2.2331741875866321E-3,0,6.6995225627598963E-3,0,2.9775655834488428E-3,0,0,0,0,1.4887827917244214E-3,4.4663483751732642E-3,0,1.4887827917244214E-3,4.4663483751732642E-3,0,null,0,0,0,0,0,0,0,0,0,0,0,0,0,0,0]
["si","si","si","si","si","si","si","si","si","si","si","si","si","si",null,null,null,null,null,"NO",{"$f":"VLOOKUP(V51,CA!$E$9:$L$132,5,FALSE)","v":1},"AS 09","El edificio como herramienta de comunicación",1.8455772883618257E-2,{"$f":"'Informe resultados'!N65","v":0},2.7692307692307692,2.4523160762942784E-2,3,3,2,2,3,3,0.34375,9.2436974789915968E-3,1,null,null,null,null,null,null,null,null,null,3,null,1,null,null,null,5.0333926046231608E-3,0,0,0,0,0,0,0,0,3.3555950697487739E-3,0,0,3.3555950697487739E-3,0,0,null,0,0,0,0,0,0,0,0,0,0,0,0,0,0,0]
[null,null,null,null,null,null,null,null,null,null,null,null,null,null,null,null,null,null,null,null,"CE","Calidad de la edificación",null,{"$f":"SUM(X53:X59)","v":0.18029672981159198},null,null,{"$f":"SUM(AA53:AA59)","v":0.15735694822888288},null,null,null,null,null,null,null,{"$f":"SUM(AI53:AI59)","v":0.21512605042016805}]
["si","si","si","si","si","si","si","si","si","si","si","si","si","si",null,null,null,null,null,"NO",{"$f":"VLOOKUP(V53,CA!$E$9:$L$132,5,FALSE)","v":1},"CE 01","Diseño pasivo",{"$f":"($Z53+2*$AH53)/($Z$60+2*$AH$60)","v":2.8363879049232509E-2},{"$f":"'Informe resultados'!N66","v":0},{"$f":"IF($U53=1,SUMPRODUCT(AB53:AG53,AB$5:AG$5),\"0\")","v":3},{"$f":"IF($Z$60=0,0,$Z53/$Z$60)","v":2.6566757493188015E-2},3,3,3,3,3,3,{"$f":"IF($U53=1,SUMPRODUCT(AJ53:AX53,AJ$5:AX$5),\"0\")","v":1.15625},{"$f":"IF($AH$60=0,0,$AH53/$AH$60)","v":3.1092436974789917E-2},3,3,null,3,null,null,null,null,null,null,null,null,null,2,3,null,{"$f":"(AJ53*AJ$5)*$X53/SUMPRODUCT($AJ53:$AX53,$AJ$5:$AX$5)","v":6.8993219308943936E-3},4.5995479539295957E-3,0,6.8993219308943936E-3,0,0,0,0,{"$f":"(AU53*AU$5)*$X53/SUMPRODUCT($AJ53:$AX53,$AJ$5:$AX$5)","v":0},0,3.0663653026197306E-3,6.8993219308943936E-3,{"$f":"(AV53*AV$5)*$X53/SUMPRODUCT($AJ53:$AX53,$AJ$5:$AX$5)","v":0},3.0663653026197306E-3,6.8993219308943936E-3,null,{"$f":"(AJ53*AJ$5)*$Y53/SUMPRODUCT($AJ53:$AX53,$AJ$5:$AX$5)","v":0},0,0,0,0,0,0,0,{"$f":"(AO53*AO$5)*$Y53/SUMPRODUCT($AJ53:$AX53,$AJ$5:$AX$5)","v":0},0,0,{"$f":"(AU53*AU$5)*$Y53/SUMPRODUCT($AJ53:$AX53,$AJ$5:$AX$5)","v":0},0,0,0]
["no","no","no","no","si","si","si","si","si","si","si","si","si","si",null,null,null,null,null,null,{"$f":"IF(OR(DG!F$29=\"Residencial colectivo\",DG!F$29=\"unifamiliar\",DG!F$29=\"urbanización\",DG!F$29=\"Vivienda en un edificio\"),0,VLOOKUP(V54,CA!$E$9:$L$132,5,FALSE))","v":1},"CE 02","Control parcial de los sistemas de clima (HVAC)",{"$f":"($Z54+2*$AH54)/($Z$60+2*$AH$60)","v":2.6695415575748244E-2},{"$f":"'Informe resultados'!N67","v":0},3,2.6566757493188015E-2,3,3,3,3,3,3,1,2.689075630252101E-2,2,2,null,2,null,null,null,null,null,null,null,3,null,2,3,null,5.005390420452796E-3,3.3369269469685305E-3,0,5.005390420452796E-3,0,0,0,0,2.502695210226398E-3,0,3.3369269469685305E-3,7.508085630679194E-3,0,3.3369269469685305E-3,7.508085630679194E-3,null,0,0,0,0,0,0,0,0,0,0,0,0,0,0,0]
["no","no","no","no","si","si","si","si","si","si","si","si","si","si",null,null,null,null,null,null,{"$f":"IF(OR(DG!F$29=\"Residencial colectivo\",DG!F$29=\"unifamiliar\",DG!F$29=\"urbanización\",DG!F$29=\"Vivienda en un edificio\"),0,VLOOKUP(V55,CA!$E$9:$L$132,5,FALSE))","v":1},"CE 03","Control local de la iluminación",{"$f":"($Z55+2*$AH55)/($Z$60+2*$AH$60)","v":2.2229067200574978E-2},{"$f":"'Informe resultados'!N68","v":0},2.5384615384615388,2.2479564032697553E-2,3,3,2,1,3,1,0.8125,2.1848739495798318E-2,1,1,null,1,null,null,null,null,null,null,null,3,null,3,3,null,2.5648923692971129E-3,1.7099282461980753E-3,0,2.5648923692971129E-3,0,0,0,0,2.5648923692971129E-3,0,5.1297847385942258E-3,7.6946771078913396E-3,0,5.1297847385942258E-3,7.6946771078913396E-3,null,0,0,0,0,0,0,0,0,0,0,0,0,0,0,0]
["si","si","si","si","si","si","si","si","si","si","si","si","si","si",null,null,null,null,null,"NO",{"$f":"VLOOKUP(V56,CA!$E$9:$L$132,5,FALSE)","v":1},"CE 04","Calidad en la construcción",{"$f":"($Z56+(2*$AH56))/($Z$60+(2*$AH$60))","v":3.4781046254941224E-2},{"$f":"'Informe resultados'!N69","v":0},3.0769230769230771,2.7247956403269762E-2,2,2,3,2,5,5,1.71875,4.6218487394957986E-2,3,3,null,3,null,null,null,null,null,3,null,3,2,3,3,null,5.6914439326267458E-3,3.7942959550844972E-3,0,5.6914439326267458E-3,0,0,0,0,1.8971479775422486E-3,2.529530636722998E-3,3.7942959550844972E-3,5.6914439326267458E-3,2.529530636722998E-3,3.7942959550844972E-3,5.6914439326267458E-3,null,0,0,0,0,0,0,0,0,0,0,0,0,0,0,0]
["si","si","si","si","si","si","si","si","si","si","si","si","si","si",null,null,null,null,null,"NO",{"$f":"VLOOKUP(V57,CA!$E$9:$L$132,5,FALSE)","v":1},"CE 05","Puesta en marcha sistemática",{"$f":"($Z57+(2*$AH57))/($Z$60+(2*$AH$60))","v":3.6115817033728632E-2},{"$f":"'Informe resultados'!N70","v":0},3.0769230769230771,2.7247956403269762E-2,2,2,3,2,5,5,1.84375,4.9579831932773107E-2,3,3,null,3,2,null,null,null,null,3,null,3,2,3,3,null,5.5091924288738587E-3,3.6727949525825732E-3,0,5.5091924288738587E-3,2.4485299683883817E-3,0,0,0,1.8363974762912866E-3,2.4485299683883817E-3,3.6727949525825732E-3,5.5091924288738587E-3,2.4485299683883817E-3,3.6727949525825732E-3,5.5091924288738587E-3,null,0,0,0,0,0,0,0,0,0,0,0,0,0,0,0]
["si","si","si","si","si","si","si","si","si","si","si","si","si","si",null,null,null,null,null,"NO",{"$f":"VLOOKUP(V58,CA!$E$9:$L$132,5,FALSE)","v":1},"CE 06","Custodia de la documentación del proyecto",{"$f":"($Z58+(2*$AH58))/($Z$60+(2*$AH$60))","v":3.2111504697366393E-2},{"$f":"'Informe resultados'!N71","v":0},3.0769230769230771,2.7247956403269762E-2,2,2,3,2,5,5,1.46875,3.949579831932773E-2,2,2,null,2,null,null,null,null,null,3,null,3,2,3,3,null,4.0993410251957095E-3,2.7328940167971397E-3,0,4.0993410251957095E-3,0,0,0,0,2.0496705125978548E-3,2.7328940167971397E-3,4.0993410251957095E-3,6.1490115377935651E-3,2.7328940167971397E-3,4.0993410251957095E-3,6.1490115377935651E-3,null,0,0,0,0,0,0,0,0,0,0,0,0,0,0,0]
["no","no","no","si","no","no","no","no","no","no","no","no","no","si",null,null,null,null,null,null,{"$f":"IF(OR(DG!F$29=\"Vivienda en un edificio\",DG!F$29=\"Local o parte de un edificio\"),VLOOKUP(V59,CA!$E$9:$L$132,5,FALSE),0)","v":0},"CE 07","Certificaciones voluntarias de edificios",{"$f":"($Z59+(2*$AH59))/($Z$60+(2*$AH$60))","v":0},{"$f":"'Informe resultados'!N72","v":0},"0",0,3,3,5,2,5,1,"0",0,3,3,null,2,null,null,null,null,null,3,null,2,2,3,1,null,0,0,0,0,0,0,0,0,0,0,0,0,0,0,0,null,0,0,0,0,0,0,0,0,0,0,0,0,0,0,0]
[null,null,null,null,null,null,null,null,null,null,null,null,null,null,null,null,null,null,null,null,null,null,null,{"$f":"SUM(X6:X59)","v":1.9999999999999991},null,{"$f":"SUM(Z7:Z59)","v":112.92307692307691},{"$f":"SUM(AA6:AA59)","v":2.0000000000000009},null,null,null,null,null,null,{"$f":"SUM(AH7:AH59)","v":37.1875},{"$f":"SUM(AI6:AI59)","v":1.9999999999999989},{"$f":"SUM(AJ7:AJ59)","v":63},57,29,32,24,20,17,19,34,74,17,21,13,101,56,null,{"$f":"SUM(AZ7:AZ59)","v":0.1506942343904896},{"$f":"SUM(BA7:BA59)","v":7.5964158191539316E-2},7.1233707057027737E-2,6.4812639735214644E-2,3.2704183849691953E-2,4.4327287400752063E-2,1.7444326168321176E-2,2.9989161241271031E-2,1.4549616643540446E-2,1.7602312382631671E-2,0.14941981679943944,0.11649324253338801,1.7602312382631671E-2,0.14941981679943944,0.11649324253338801,null,{"$f":"SUM(BP7:BP59)","v":0},{"$f":"SUM(BQ7:BQ59)","v":0},0,0,0,0,0,0,0,0,0,0,0,0,0,null,{"$f":"SUM(AZ60:BN60)","v":1.0687500581087661}]
[null,null,null,null,null,null,null,null,null,null,null,null,null,null,null,null,null,null,null,null,null,null,null,null,null,null,null,null,null,null,null,null,null,null,null,{"$f":"SUM(AJ7:AJ59)*AJ5","v":5.90625},3.5625,2.71875,3,1.5,1.25,0.53125,1.1875,1.0625,6.9375,1.0625,0.65625,0.8125,6.3125,5.25,null,1.41275844741084E-2,4.7477598869712073E-3,6.6781600365963499E-3,6.0761849751763729E-3,2.0440114906057471E-3,2.770455462547004E-3,5.4513519276003675E-4,1.8743225775794395E-3,4.5467552011063894E-4,1.6502167858717192E-3,9.3387385499649651E-3,3.6404138291683753E-3,1.1001445239144795E-3,9.3387385499649651E-3,1.0921241487505126E-2,null,0,0,0,0,0,0,0,0,0,0,0,0,0,0,0]

{"sheet":"Revisión","index":3,"n_rows":572,"n_cols":32,"rows_kept":572,"cut":false,"hidden":true,"merged":[[566,5,566,7],[566,9,566,11],[566,13,566,15],[566,17,566,19],[569,2,569,5],[569,6,569,8],[557,11,557,19],[559,3,559,4],[559,7,559,9],[559,11,560,19],[564,9,564,11],[564,13,564,15],[564,17,564,19],[547,11,547,19],[549,3,549,4],[549,7,549,9],[549,11,550,19],[552,11,552,19],[554,3,554,4],[554,7,554,9],[554,11,555,19],[537,11,537,19],[539,3,539,4],[539,7,539,9],[539,11,540,19],[542,11,542,19],[544,3,544,4],[544,7,544,9],[544,11,545,19],[529,5,529,7],[529,9,529,11],[529,13,529,15],[529,17,529,19],[532,3,532,4],[532,5,532,6],[532,7,532,8],[532,9,532,10],[532,11,532,12],[518,7,518,9],[518,11,519,19],[521,7,521,9],[521,11,522,19],[527,9,527,11],[527,13,527,15],[527,17,527,19],[503,7,503,9],[503,11,504,19],[506,7,506,9],[506,11,507,19],[513,11,513,19],[515,7,515,9],[515,11,516,19],[488,7,488,9],[488,11,489,19],[491,7,491,9],[491,11,492,19],[498,11,498,19],[500,7,500,9],[500,11,501,19],[477,11,477,19],[479,7,479,9],[479,11,480,19],[482,7,482,9],[482,11,483,19],[485,7,485,9],[485,11,486,19],[472,3,472,4],[472,5,472,6],[472,7,472,8],[472,9,472,10],[472,11,472,12],[465,7,465,9],[465,11,466,19],[468,7,468,9],[468,11,469,19],[454,11,454,19],[456,7,456,9],[456,11,457,19],[459,7,459,9],[459,11,460,19],[462,7,462,9],[462,11,463,19],[435,7,435,9],[435,11,436,19],[442,11,442,19],[444,7,444,9],[444,11,445,19],[447,7,447,9],[447,11,448,19],[420,7,420,9],[420,11,421,19],[427,11,427,19],[429,7,429,9],[429,11,430,19],[432,7,432,9],[432,11,433,19],[405,7,405,9],[405,11,406,19],[408,7,408,9],[408,11,409,19],[415,11,415,19],[417,7,417,9],[417,11,418,19],[396,7,396,9],[396,11,397,19],[399,7,399,9],[399,11,400,19],[402,7,402,9],[402,11,403,19],[382,11,382,19],[384,7,384,9],[384,11,385,19],[387,7,387,9],[387,11,388,19],[394,11,394,19],[370,7,370,9],[370,11,371,19],[373,7,373,9],[373,11,374,19],[377,3,377,4],[377,5,377,6],[377,7,377,8],[377,9,377,10],[377,11,377,12],[355,7,355,9],[355,11,356,19],[358,7,358,9],[358,11,359,19],[365,11,365,19],[367,7,367,9],[367,11,368,19],[346,7,346,9],[346,11,347,19],[349,7,349,9],[349,11,350,19],[352,7,352,9],[352,11,353,19],[332,11,332,19],[334,7,334,9],[334,11,335,19],[337,7,337,9],[337,11,338,19],[344,11,344,19],[313,7,313,9],[313,11,314,19],[320,11,320,19],[322,7,322,9],[322,11,323,19],[325,7,325,9],[325,11,326,19],[298,7,298,9],[298,11,299,19],[301,7,301,9],[301,11,302,19],[308,11,308,19],[310,7,310,9],[310,11,311,19],[280,7,280,9],[280,11,281,19],[287,11,287,19],[289,7,289,9],[289,11,290,19],[296,11,296,19],[269,11,269,19],[271,7,271,9],[271,11,272,19],[274,7,274,9],[274,11,275,19],[277,7,277,9],[277,11,278,19],[239,11,239,19],[241,7,241,9],[241,11,242,19],[244,7,244,9],[244,11,245,19],[247,7,247,9],[247,11,248,19],[254,11,254,19],[256,7,256,9],[256,11,257,19],[259,7,259,9],[259,11,260,19],[262,7,262,9],[262,11,263,19],[224,11,224,19],[226,7,226,9],[226,11,227,19],[229,7,229,9],[229,11,230,19],[232,7,232,9],[232,11,233,19],[212,11,212,19],[214,7,214,9],[214,11,215,19],[219,3,219,4],[219,5,219,6],[219,7,219,8],[219,9,219,10],[219,11,219,12],[194,11,194,19],[196,7,196,9],[196,11,197,19],[203,11,203,19],[205,7,205,9],[205,11,206,19],[181,7,181,9],[181,11,182,19],[184,7,184,9],[184,11,185,19],[187,7,187,9],[187,11,188,19],[163,7,163,9],[163,11,164,19],[170,11,170,19],[172,7,172,9],[172,11,173,19],[179,11,179,19],[152,11,152,19],[154,7,154,9],[154,11,155,19],[157,7,157,9],[157,11,158,19],[160,7,160,9],[160,11,161,19],[134,7,134,9],[134,11,135,19],[141,11,141,19],[143,7,143,9],[143,11,144,19],[147,3,147,4],[147,5,147,6],[147,7,147,8],[147,9,147,10],[147,11,147,12],[123,11,123,19],[125,7,125,9],[125,11,126,19],[128,7,128,9],[128,11,129,19],[131,7,131,9],[131,11,132,19],[101,7,101,9],[101,11,102,19],[117,3,117,4],[117,5,117,6],[117,7,117,8],[117,9,117,10],[117,11,117,12],[90,11,90,19],[92,7,92,9],[92,11,93,19],[95,7,95,9],[95,11,96,19],[98,7,98,9],[98,11,99,19],[108,11,108,19],[110,7,110,9],[110,11,111,19],[113,7,113,9],[113,11,114,19],[76,11,76,19],[78,7,78,9],[78,11,79,19],[81,7,81,9],[81,11,82,19],[85,3,85,4],[85,5,85,6],[85,7,85,8],[85,9,85,10],[85,11,85,12],[63,7,63,9],[63,11,64,19],[66,7,66,9],[66,11,67,19],[69,7,69,9],[69,11,70,19],[52,11,52,19],[54,7,54,9],[54,11,55,19],[57,7,57,9],[57,11,58,19],[60,7,60,9],[60,11,61,19],[40,7,40,9],[40,11,41,19],[43,7,43,9],[43,11,44,19],[47,3,47,4],[47,5,47,6],[47,7,47,8],[47,9,47,10],[47,11,47,12],[28,7,28,9],[28,11,29,19],[35,11,35,19],[37,7,37,9],[37,11,38,19],[10,7,10,9],[10,11,11,19],[13,7,13,9],[13,11,14,19],[20,11,20,19],[22,7,22,9],[22,11,23,19],[8,11,8,19],[1,1,1,21],[2,1,2,21],[3,3,3,4],[3,5,3,6],[3,7,3,8],[3,9,3,10],[3,11,3,12],[25,7,25,9],[25,11,26,19]]}
[]
[null,"VERDE W Residencial",null,null,null,null,null,null,null,null,null,null,null,null,null,null,null,null,null,null,null,null,null,null,"SEGURO"]
[null,"REVISIÓN",null,null,null,null,null,null,null,null,null,null,null,null,null,null,null,null,null,null,null,null,null,null,"EN REVISIÓN"]
[null,{"$f":"'Matriz VERDE-GBCe'!U6","v":"PE"},null,{"$f":"VLOOKUP($B4,'Matriz VERDE-GBCe'!$U$6:$V$53,2,FALSE)","v":"Parcela y emplazamiento"},{"$f":"VLOOKUP($D4,'Matriz VERDE-GBCe'!$V$6:$Y$53,2,FALSE)","v":0},null,null,null,null,null,null,null,null,null,null,null,null,null,null,null,null,null,null,null,"NO CUMPLE"]
[]
[]
[null,null,null,{"$f":"'Matriz VERDE-GBCe'!V7","v":"PE 01"},{"$f":"VLOOKUP($D7,'Matriz VERDE-GBCe'!$V$6:$Y$53,2,FALSE)","v":"Proximidad al transporte publico."},{"$f":"VLOOKUP($D7,'Matriz VERDE-GBCe'!$V$6:$Z$53,5,FALSE)","v":1.6153846153846156},null,null,null,null,null,null,null,null,null,null,null,null,null,null,null,null,null,null,"Target","SEGURO",null,"EN REVISIÓN",null,"NO CUMPLE",null,"NO APLICA"]
[]
[null,null,null,"D.J","Fecha de entrega del archivo"]
[]
[null,null,null,"AA 01.1","Mantenimiento de corredores naturales",null,null,null,null,null,null,null,null,null,null,null,null,null,null,null,null,null,null,null,{"$f":"IF(AF11=0,1,0)","v":1},{"$f":"+IF($H11=\"seguro\",$Y11,0)","v":0},null,{"$f":"+IF($H11=\"EN REVISIÓN\",$Y11,0)","v":0},null,{"$f":"+IF($H11=\"NO CUMPLE\",$Y11,0)","v":0},null,{"$f":"+IF($H11=\"no aplica\",2,0)","v":0}]
[]
[]
[null,null,null,"AA 01.2","Medidas de protección de la biodiversidad",null,null,null,null,null,null,null,null,null,null,null,null,null,null,null,null,null,null,null,{"$f":"IF(AF14=0,1,0)","v":1},{"$f":"+IF($H14=\"seguro\",$Y14,0)","v":0},null,{"$f":"+IF($H14=\"EN REVISIÓN\",$Y14,0)","v":0},null,{"$f":"+IF($H14=\"NO CUMPLE\",$Y14,0)","v":0},null,{"$f":"+IF($H14=\"no aplica\",2,0)","v":0}]
[]
[null,null,null,null,null,null,null,null,null,null,null,null,null,null,null,null,null,null,null,null,null,null,null,null,{"$f":"SUM(Y11:Y14)","v":2},{"$f":"IF($F7=\"\",0,SUM(Z11:Z14)*$F7/$Y16)","v":0},null,{"$f":"IF($F7=\"\",0,SUM(AB11:AB14)*$F7/$Y16)","v":0},null,{"$f":"IF($F7=\"\",0,SUM(AD11:AD14)*$F7/$Y16)","v":0}]
[]
[]
[null,null,null,{"$f":"'Matriz VERDE-GBCe'!V11","v":"PE 05"},{"$f":"VLOOKUP($D19,'Matriz VERDE-GBCe'!$V$6:$Y$53,2,FALSE)","v":"Clasificación de RSU."},4.1597337770382714E-2,null,null,null,null,null,"NOTAS",null,null,null,null,null,null,null,null,null,null,null,null,"Target","SEGURO",null,"EN REVISIÓN",null,"NO CUMPLE",null,"NO APLICA"]
[]
[null,null,null,"D.J","Fecha del archivo"]
[]
[null,null,null,"AA 02.1","20% de superficie ajardinada con plantas autóctonas o adaptadas",null,null,null,null,null,null,null,null,null,null,null,null,null,null,null,null,null,null,null,{"$f":"IF(AF23=0,0.4,0)","v":0.4},{"$f":"+IF($H23=\"seguro\",$Y23,0)","v":0},null,{"$f":"+IF($H23=\"EN REVISIÓN\",$Y23,0)","v":0},null,{"$f":"+IF($H23=\"NO CUMPLE\",$Y23,0)","v":0},null,{"$f":"+IF($H23=\"no aplica\",2,0)","v":0}]
[]
[]
[null,null,null,"AA 02.2","Existe un estudio previo del terreno",null,null,null,null,null,null,null,null,null,null,null,null,null,null,null,null,null,null,null,{"$f":"IF(AF26=0,0.3,0)","v":0.3},{"$f":"+IF($H26=\"seguro\",$Y26,0)","v":0},null,{"$f":"+IF($H26=\"EN REVISIÓN\",$Y26,0)","v":0},null,{"$f":"+IF($H26=\"NO CUMPLE\",$Y26,0)","v":0},null,{"$f":"+IF($H26=\"no aplica\",2,0)","v":0}]
[]
[]
[null,null,null,"AA 02.3","Se supera en un 10% las superficies ajardinadas fijadas por normativa",null,null,null,null,null,null,null,null,null,null,null,null,null,null,null,null,null,null,null,{"$f":"IF(AF29=0,0.3,0)","v":0.3},{"$f":"+IF($H29=\"seguro\",$Y29,0)","v":0},null,{"$f":"+IF($H29=\"EN REVISIÓN\",$Y29,0)","v":0},null,{"$f":"+IF($H29=\"NO CUMPLE\",$Y29,0)","v":0},null,{"$f":"+IF($H29=\"no aplica\",2,0)","v":0}]
[]
[null,null,null,null,null,null,null,null,null,null,null,null,null,null,null,null,null,null,null,null,null,null,null,null,{"$f":"SUM(Y23:Y29)","v":1},{"$f":"IF($F19=\"\",0,SUM(Z22:Z29)*$F19/$Y31)","v":0},null,{"$f":"IF($F19=\"\",0,SUM(AB22:AB29)*$F19/$Y31)","v":0},null,{"$f":"IF($F19=\"\",0,SUM(AD22:AD29)*$F19/$Y31)","v":0}]
[]
[]
[null,null,null,{"$f":"'Matriz VERDE-GBCe'!V15","v":"PE 09"},{"$f":"VLOOKUP($D34,'Matriz VERDE-GBCe'!$V$6:$Y$53,2,FALSE)","v":"Contaminación lumínica."},{"$f":"VLOOKUP($D34,'Matriz VERDE-GBCe'!$V$6:$Y$53,6,FALSE)","v":{"$error":"#REF!"}},null,null,null,null,null,"NOTAS",null,null,null,null,null,null,null,null,null,null,null,null,"Target","SEGURO",null,"EN REVISIÓN",null,"NO CUMPLE",null,"NO APLICA"]
[]
[null,null,null,"D.J","Fecha del archivo"]
[]
[null,null,null,"AA 03.1","Valor ecológico previo de la zona",null,null,null,null,null,null,null,null,null,null,null,null,null,null,null,null,null,null,null,{"$f":"IF(AF38=0,0.4,0)","v":0.4},{"$f":"+IF($H38=\"seguro\",$Y38,0)","v":0},null,{"$f":"+IF($H38=\"EN REVISIÓN\",$Y38,0)","v":0},null,{"$f":"+IF($H38=\"NO CUMPLE\",$Y38,0)","v":0},null,{"$f":"+IF($H38=\"no aplica\",2,0)","v":0}]
[]
[]
[null,null,null,"AA 03.2","Implantación sobre terrenos ya urbanizados",null,null,null,null,null,null,null,null,null,null,null,null,null,null,null,null,null,null,null,{"$f":"IF(AF41=0,0.3,0)","v":0.3},{"$f":"+IF($H41=\"seguro\",$Y41,0)","v":0},null,{"$f":"+IF($H41=\"EN REVISIÓN\",$Y41,0)","v":0},null,{"$f":"+IF($H41=\"NO CUMPLE\",$Y41,0)","v":0},null,{"$f":"+IF($H41=\"no aplica\",2,0)","v":0}]
[]
[]
[null,null,null,"AA 03.3","Estudio previo de la contaminación del suelo",null,null,null,null,null,null,null,null,null,null,null,null,null,null,null,null,null,null,null,{"$f":"IF(AF44=0,0.3,0)","v":0.3},{"$f":"+IF($H44=\"seguro\",$Y44,0)","v":0},null,{"$f":"+IF($H44=\"EN REVISIÓN\",$Y44,0)","v":0},null,{"$f":"+IF($H44=\"NO CUMPLE\",$Y44,0)","v":0},null,{"$f":"+IF($H44=\"no aplica\",2,0)","v":0}]
[]
[null,null,null,null,null,null,null,null,null,null,null,null,null,null,null,null,null,null,null,null,null,null,null,null,{"$f":"SUM(Y38:Y44)","v":1},{"$f":"IF($F34=\"\",0,SUM(Z37:Z44)*$F34/$Y46)","v":{"$error":"#REF!"}},null,{"$f":"IF($F34=\"\",0,SUM(AB37:AB44)*$F34/$Y46)","v":{"$error":"#REF!"}},null,{"$f":"IF($F34=\"\",0,SUM(AD37:AD44)*$F34/$Y46)","v":{"$error":"#REF!"}}]
[]
[null,null,null,{"$f":"'Matriz VERDE-GBCe'!V16","v":"Energía y atmósfera"}]
[]
[]
[null,null,null,{"$f":"'Matriz VERDE-GBCe'!V17","v":"EA 00"},{"$f":"VLOOKUP($D51,'Matriz VERDE-GBCe'!$V$6:$Y$53,2,FALSE)","v":"Demanda de calefacción y refrigeración"},{"$f":"VLOOKUP($D51,'Matriz VERDE-GBCe'!$V$6:$Y$53,6,FALSE)","v":{"$error":"#REF!"}},null,null,null,null,null,"NOTAS",null,null,null,null,null,null,null,null,null,null,null,null,"Target","SEGURO",null,"EN REVISIÓN",null,"NO CUMPLE",null,"NO APLICA"]
[]
[null,null,null,"D.J","Fecha del archivo"]
[]
[null,null,null,"AA 05.1","El Índice de calificación energética es D",null,null,null,null,null,null,null,null,null,null,null,null,null,null,null,null,null,null,null,{"$f":"IF(AF55=0,0.1,0)","v":0.1},{"$f":"+IF($H55=\"seguro\",$Y55,0)","v":0},null,{"$f":"+IF($H55=\"EN REVISIÓN\",$Y55,0)","v":0},null,{"$f":"+IF($H55=\"NO CUMPLE\",$Y55,0)","v":0},null,{"$f":"+IF($H55=\"no aplica\",2,0)","v":0}]
[]
[]
[null,null,null,"AA 05.2","El Índice de calificación energética es C",null,null,null,null,null,null,null,null,null,null,null,null,null,null,null,null,null,null,null,{"$f":"IF(AF58=0,0.2,0)","v":0.2},{"$f":"+IF($H58=\"seguro\",$Y58,0)","v":0},null,{"$f":"+IF($H58=\"EN REVISIÓN\",$Y58,0)","v":0},null,{"$f":"+IF($H58=\"NO CUMPLE\",$Y58,0)","v":0},null,{"$f":"+IF($H58=\"no aplica\",2,0)","v":0}]
[]
[]
[null,null,null,"AA 05.3","El Índice de calificación energética es B",null,null,null,null,null,null,null,null,null,null,null,null,null,null,null,null,null,null,null,0.5,{"$f":"+IF($H61=\"seguro\",$Y61,0)","v":0},null,{"$f":"+IF($H61=\"EN REVISIÓN\",$Y61,0)","v":0},null,{"$f":"+IF($H61=\"NO CUMPLE\",$Y61,0)","v":0},null,{"$f":"+IF($H61=\"no aplica\",2,0)","v":0}]
[]
[]
[null,null,null,"AA 05.4","El Índice de calificación energética es A",null,null,null,null,null,null,null,null,null,null,null,null,null,null,null,null,null,null,null,0.7,{"$f":"+IF($H64=\"seguro\",$Y64,0)","v":0},null,{"$f":"+IF($H64=\"EN REVISIÓN\",$Y64,0)","v":0},null,{"$f":"+IF($H64=\"NO CUMPLE\",$Y64,0)","v":0},null,{"$f":"+IF($H64=\"no aplica\",2,0)","v":0}]
[]
[]
[null,null,null,"AA 05.5","Se utilizan equipos de bombeo eficientes",null,null,null,null,null,null,null,null,null,null,null,null,null,null,null,null,null,null,null,{"$f":"IF(AF67=0,0.2,0)","v":0.2},{"$f":"+IF($H67=\"seguro\",$Y67,0)","v":0},null,{"$f":"+IF($H67=\"EN REVISIÓN\",$Y67,0)","v":0},null,{"$f":"+IF($H67=\"NO CUMPLE\",$Y67,0)","v":0},null,{"$f":"+IF($H67=\"no aplica\",2,0)","v":0}]
[]
[]
[null,null,null,"AA 05.6","Medidas de telecontrol para gestionart los sistemas de bombeo",null,null,null,null,null,null,null,null,null,null,null,null,null,null,null,null,null,null,null,{"$f":"IF(AF70=0,0.1,0)","v":0.1},{"$f":"+IF($H70=\"seguro\",$Y70,0)","v":0},null,{"$f":"+IF($H70=\"EN REVISIÓN\",$Y70,0)","v":0},null,{"$f":"+IF($H70=\"NO CUMPLE\",$Y70,0)","v":0},null,{"$f":"+IF($H70=\"no aplica\",2,0)","v":0}]
[]
[null,null,null,null,null,null,null,null,null,null,null,null,null,null,null,null,null,null,null,null,null,null,null,null,{"$f":"SUM(Y63:Y70)","v":0.99999999999999989},{"$f":"IF($F51=\"\",0,SUM(Z55:Z70)*$F51/$Y72)","v":{"$error":"#REF!"}},null,{"$f":"IF($F51=\"\",0,SUM(AB55:AB70)*$F51/$Y72)","v":{"$error":"#REF!"}},null,{"$f":"IF($F51=\"\",0,SUM(AD55:AD70)*$F51/$Y72)","v":{"$error":"#REF!"}}]
[]
[]
[null,null,null,{"$f":"'Matriz VERDE-GBCe'!V21","v":"EA 05"},{"$f":"VLOOKUP($D75,'Matriz VERDE-GBCe'!$V$6:$Y$53,2,FALSE)","v":"Emisión de NOx en calderas de combustión."},{"$f":"VLOOKUP($D75,'Matriz VERDE-GBCe'!$V$6:$Y$53,6,FALSE)","v":{"$error":"#REF!"}},null,null,null,null,null,"NOTAS",null,null,null,null,null,null,null,null,null,null,null,null,"Target","SEGURO",null,"EN REVISIÓN",null,"NO CUMPLE",null,"NO APLICA"]
[]
[null,null,null,"D.J","Fecha del archivo"]
[]
[null,null,null,"AA 06.1","Estudio previo de implantación de renovables",null,null,null,null,null,null,null,null,null,null,null,null,null,null,null,null,null,null,null,0.4,{"$f":"+IF($H79=\"seguro\",$Y79,0)","v":0},null,{"$f":"+IF($H79=\"EN REVISIÓN\",$Y79,0)","v":0},null,{"$f":"+IF($H79=\"NO CUMPLE\",$Y79,0)","v":0},null,{"$f":"+IF($H79=\"no aplica\",2,0)","v":0}]
[]
[]
[null,null,null,"AA 06.2","Sistema de producción y distribución de energía cumunitario",null,null,null,null,null,null,null,null,null,null,null,null,null,null,null,null,null,null,null,0.6,{"$f":"+IF($H82=\"seguro\",$Y82,0)","v":0},null,{"$f":"+IF($H82=\"EN REVISIÓN\",$Y82,0)","v":0},null,{"$f":"+IF($H82=\"NO CUMPLE\",$Y82,0)","v":0},null,{"$f":"+IF($H82=\"no aplica\",2,0)","v":0}]
[]
[null,null,null,null,null,null,null,null,null,null,null,null,null,null,null,null,null,null,null,null,null,null,null,null,{"$f":"SUM(Y79:Y82)","v":1},{"$f":"IF($F75=\"\",0,SUM(Z79:Z82)*$F75/$Y84)","v":{"$error":"#REF!"}},null,{"$f":"IF($F75=\"\",0,SUM(AB79:AB82)*$F75/$Y84)","v":{"$error":"#REF!"}},null,{"$f":"IF($F75=\"\",0,SUM(AD79:AD82)*$F75/$Y84)","v":{"$error":"#REF!"}}]
[]
[null,null,null,{"$f":"'Matriz VERDE-GBCe'!V23","v":"Recursos naturales"}]
[]
[]
[null,null,null,{"$f":"'Matriz VERDE-GBCe'!V24","v":"RN 01"},{"$f":"VLOOKUP($D89,'Matriz VERDE-GBCe'!$V$6:$Y$53,2,FALSE)","v":"Consumo de agua en aparatos sanitarios"},{"$f":"VLOOKUP($D89,'Matriz VERDE-GBCe'!$V$6:$Y$53,6,FALSE)","v":{"$error":"#REF!"}},null,null,null,null,null,"NOTAS",null,null,null,null,null,null,null,null,null,null,null,null,"Target","SEGURO",null,"EN REVISIÓN",null,"NO CUMPLE",null,"NO APLICA"]
[]
[null,null,null,"D.J","Fecha del archivo"]
[]
[null,null,null,"AA 07.1","Las necesidades de riego se reducen en un 20%",null,null,null,null,null,null,null,null,null,null,null,null,null,null,null,null,null,null,null,{"$f":"IF(AF93=0,0.15,0)","v":0.15},{"$f":"+IF($H93=\"seguro\",$Y93,0)","v":0},null,{"$f":"+IF($H93=\"EN REVISIÓN\",$Y93,0)","v":0},null,{"$f":"+IF($H93=\"NO CUMPLE\",$Y93,0)","v":0},null,{"$f":"+IF($H93=\"no aplica\",2,0)","v":0}]
[]
[]
[null,null,null,"AA 07.2","Las necesidades de riego se reducen en un 50%",null,null,null,null,null,null,null,null,null,null,null,null,null,null,null,null,null,null,null,{"$f":"IF(AF96=0,0.25,0)","v":0.25},{"$f":"+IF($H96=\"seguro\",$Y96,0)","v":0},null,{"$f":"+IF($H96=\"EN REVISIÓN\",$Y96,0)","v":0},null,{"$f":"+IF($H96=\"NO CUMPLE\",$Y96,0)","v":0},null,{"$f":"+IF($H96=\"no aplica\",2,0)","v":0}]
[]
[]
[null,null,null,"AA 07.3","Sistema de monitorización para gestionar el consumo de agua",null,null,null,null,null,null,null,null,null,null,null,null,null,null,null,null,null,null,null,{"$f":"IF(AF99=0,0.3,0)","v":0.3},{"$f":"+IF($H99=\"seguro\",$Y99,0)","v":0},null,{"$f":"+IF($H99=\"EN REVISIÓN\",$Y99,0)","v":0},null,{"$f":"+IF($H99=\"NO CUMPLE\",$Y99,0)","v":0},null,{"$f":"+IF($H99=\"no aplica\",2,0)","v":0}]
[]
[]
[null,null,null,"AA 07.4","Se reaprovechas las aguas pluviales y/o grises",null,null,null,null,null,null,null,null,null,null,null,null,null,null,null,null,null,null,null,{"$f":"IF(AF102=0,0.3,0)","v":0.3},{"$f":"+IF($H102=\"seguro\",$Y102,0)","v":0},null,{"$f":"+IF($H102=\"EN REVISIÓN\",$Y102,0)","v":0},null,{"$f":"+IF($H102=\"NO CUMPLE\",$Y102,0)","v":0},null,{"$f":"+IF($H102=\"no aplica\",2,0)","v":0}]
[]
[null,null,null,null,null,null,null,null,null,null,null,null,null,null,null,null,null,null,null,null,null,null,null,null,{"$f":"SUM(Y93:Y102)","v":1},{"$f":"IF($F89=\"\",0,SUM(Z93:Z102)*$F89/$Y104)","v":{"$error":"#REF!"}},null,{"$f":"IF($F89=\"\",0,SUM(AB93:AB102)*$F89/$Y104)","v":{"$error":"#REF!"}},null,{"$f":"IF($F89=\"\",0,SUM(AD93:AD102)*$F89/$Y104)","v":{"$error":"#REF!"}}]
[]
[]
[null,null,null,{"$f":"'Matriz VERDE-GBCe'!V34","v":"RN 11"},{"$f":"VLOOKUP($D107,'Matriz VERDE-GBCe'!$V$6:$Y$53,2,FALSE)","v":"Impacto de los materiales de la construcción."},{"$f":"VLOOKUP($D107,'Matriz VERDE-GBCe'!$V$6:$Y$53,6,FALSE)","v":{"$error":"#REF!"}},null,null,null,null,null,"NOTAS",null,null,null,null,null,null,null,null,null,null,null,null,"Target","SEGURO",null,"EN REVISIÓN",null,"NO CUMPLE",null,"NO APLICA"]
[]
[null,null,null,"D.J","Fecha del archivo"]
[]
[null,null,null,"AA 06.1","Estudio previo de implantación de renovables",null,null,null,null,null,null,null,null,null,null,null,null,null,null,null,null,null,null,null,0.4,{"$f":"+IF($H111=\"seguro\",$Y111,0)","v":0},null,{"$f":"+IF($H111=\"EN REVISIÓN\",$Y111,0)","v":0},null,{"$f":"+IF($H111=\"NO CUMPLE\",$Y111,0)","v":0},null,{"$f":"+IF($H111=\"no aplica\",2,0)","v":0}]
[]
[]
[null,null,null,"AA 06.2","Sistema de producción y distribución de energía cumunitario",null,null,null,null,null,null,null,null,null,null,null,null,null,null,null,null,null,null,null,0.6,{"$f":"+IF($H114=\"seguro\",$Y114,0)","v":0},null,{"$f":"+IF($H114=\"EN REVISIÓN\",$Y114,0)","v":0},null,{"$f":"+IF($H114=\"NO CUMPLE\",$Y114,0)","v":0},null,{"$f":"+IF($H114=\"no aplica\",2,0)","v":0}]
[]
[null,null,null,null,null,null,null,null,null,null,null,null,null,null,null,null,null,null,null,null,null,null,null,null,{"$f":"SUM(Y111:Y114)","v":1},{"$f":"IF($F107=\"\",0,SUM(Z111:Z114)*$F107/$Y116)","v":{"$error":"#REF!"}},null,{"$f":"IF($F107=\"\",0,SUM(AB111:AB114)*$F107/$Y116)","v":{"$error":"#REF!"}},null,{"$f":"IF($F107=\"\",0,SUM(AD111:AD114)*$F107/$Y116)","v":{"$error":"#REF!"}}]
[]
[null,null,null,{"$f":"'Matriz VERDE-GBCe'!V35","v":"RN 12"}]
[]
[]
[]
[null,null,null,{"$f":"'Matriz VERDE-GBCe'!V36","v":"Ambiente Interior."},{"$f":"VLOOKUP($D122,'Matriz VERDE-GBCe'!$V$6:$Y$53,2,FALSE)","v":0},{"$f":"VLOOKUP($D122,'Matriz VERDE-GBCe'!$V$6:$Y$53,6,FALSE)","v":{"$error":"#REF!"}},null,null,null,null,null,"NOTAS",null,null,null,null,null,null,null,null,null,null,null,null,"Target","SEGURO",null,"EN REVISIÓN",null,"NO CUMPLE",null,"NO APLICA"]
[]
[null,null,null,"D.J","Fecha del archivo"]
[]
[null,null,null,"AA 09.1","Se ha reutilizado, al menos, un 5% del material",null,null,null,null,null,null,null,null,null,null,null,null,null,null,null,null,null,null,null,{"$f":"IF(AF126=0,0.25,0)","v":0.25},{"$f":"+IF($H126=\"seguro\",$Y126,0)","v":0},null,{"$f":"+IF($H126=\"EN REVISIÓN\",$Y126,0)","v":0},null,{"$f":"+IF($H126=\"NO CUMPLE\",$Y126,0)","v":0},null,{"$f":"+IF($H126=\"no aplica\",2,0)","v":0}]
[]
[]
[null,null,null,"AA 09.2","Los materiles reciclados alcanzan, al menos, un 40% del total",null,null,null,null,null,null,null,null,null,null,null,null,null,null,null,null,null,null,null,{"$f":"IF(AF129=0,0.25,0)","v":0.25},{"$f":"+IF($H129=\"seguro\",$Y129,0)","v":0},null,{"$f":"+IF($H129=\"EN REVISIÓN\",$Y129,0)","v":0},null,{"$f":"+IF($H129=\"NO CUMPLE\",$Y129,0)","v":0},null,{"$f":"+IF($H129=\"no aplica\",2,0)","v":0}]
[]
[]
[null,null,null,"AA 09.3","Se alcanza, al menos, un 15% de materiales de origen sostenible",null,null,null,null,null,null,null,null,null,null,null,null,null,null,null,null,null,null,null,{"$f":"IF(AF132=0,0.25,0)","v":0.25},{"$f":"+IF($H132=\"seguro\",$Y132,0)","v":0},null,{"$f":"+IF($H132=\"EN REVISIÓN\",$Y132,0)","v":0},null,{"$f":"+IF($H132=\"NO CUMPLE\",$Y132,0)","v":0},null,{"$f":"+IF($H132=\"no aplica\",2,0)","v":0}]
[]
[]
[null,null,null,"AA 09.4","Se disponene de, al menos, 5 materiales con ecoetiqueta tipo I o III",null,null,null,null,null,null,null,null,null,null,null,null,null,null,null,null,null,null,null,{"$f":"IF(AF135=0,0.25,0)","v":0.25},{"$f":"+IF($H135=\"seguro\",$Y135,0)","v":0},null,{"$f":"+IF($H135=\"EN REVISIÓN\",$Y135,0)","v":0},null,{"$f":"+IF($H135=\"NO CUMPLE\",$Y135,0)","v":0},null,{"$f":"+IF($H135=\"no aplica\",2,0)","v":0}]
[]
[null,null,null,null,null,null,null,null,null,null,null,null,null,null,null,null,null,null,null,null,null,null,null,null,{"$f":"SUM(Y126:Y135)","v":1},{"$f":"IF($F122=\"\",0,SUM(Z126:Z135)*$F122/$Y137)","v":{"$error":"#REF!"}},null,{"$f":"IF($F122=\"\",0,SUM(AB126:AB135)*$F122/$Y137)","v":{"$error":"#REF!"}},null,{"$f":"IF($F122=\"\",0,SUM(AD126:AD135)*$F122/$Y137)","v":{"$error":"#REF!"}}]
[]
[]
[null,null,null,{"$f":"'Matriz VERDE-GBCe'!#REF!","v":{"$error":"#REF!"}},{"$f":"VLOOKUP($D140,'Matriz VERDE-GBCe'!$V$6:$Y$53,2,FALSE)","v":{"$error":"#REF!"}},8.8740987243483116E-2,null,null,null,null,null,"NOTAS",null,null,null,null,null,null,null,null,null,null,null,null,"Target","SEGURO",null,"EN REVISIÓN",null,"NO CUMPLE",null,"NO APLICA"]
[]
[null,null,null,"D.J","Fecha del archivo"]
[]
[null,null,null,"AA 10.1","Se ha desarrollado un ACV de los materiales empleados",null,null,null,null,null,null,null,null,null,null,null,null,null,null,null,null,null,null,null,{"$f":"IF(AF144=0,1,0)","v":1},{"$f":"+IF($H144=\"seguro\",$Y144,0)","v":0},null,{"$f":"+IF($H144=\"EN REVISIÓN\",$Y144,0)","v":0},null,{"$f":"+IF($H144=\"NO CUMPLE\",$Y144,0)","v":0},null,{"$f":"+IF($H144=\"no aplica\",2,0)","v":0}]
[]
[null,null,null,null,null,null,null,null,null,null,null,null,null,null,null,null,null,null,null,null,null,null,null,null,{"$f":"Y144","v":1},{"$f":"IF($F140=\"\",0,Z144*$F140)","v":0},null,{"$f":"IF($F140=\"\",0,AB144*$F140)","v":0},null,{"$f":"IF($F140=\"\",0,AD144*$F140)","v":0}]
[]
[null,null,null,{"$f":"'Matriz VERDE-GBCe'!V44","v":"AS 02"}]
[]
[]
[null,null,null,{"$f":"'Matriz VERDE-GBCe'!V45","v":"AS 03"},{"$f":"VLOOKUP($D151,'Matriz VERDE-GBCe'!$V$6:$Y$53,2,FALSE)","v":"Derecho al sol"},{"$f":"VLOOKUP($D151,'Matriz VERDE-GBCe'!$V$6:$Y$53,6,FALSE)","v":{"$error":"#REF!"}},null,null,null,null,null,"NOTAS",null,null,null,null,null,null,null,null,null,null,null,null,"Target","SEGURO",null,"EN REVISIÓN",null,"NO CUMPLE",null,"NO APLICA"]
[]
[null,null,null,"D.J","Fecha del archivo"]
[]
[null,null,null,"AA 11.1","Instalación de contenedores por fracciones para residuos NO peligrosos",null,null,null,null,null,null,null,null,null,null,null,null,null,null,null,null,null,null,null,0.25,{"$f":"+IF($H155=\"seguro\",$Y155,0)","v":0},null,{"$f":"+IF($H155=\"EN REVISIÓN\",$Y155,0)","v":0},null,{"$f":"+IF($H155=\"NO CUMPLE\",$Y155,0)","v":0},null,{"$f":"+IF($H155=\"no aplica\",2,0)","v":0}]
[]
[]
[null,null,null,"AA 11.2","Instalacción de contenedores para residuos peligrosos",null,null,null,null,null,null,null,null,null,null,null,null,null,null,null,null,null,null,null,0.25,{"$f":"+IF($H158=\"seguro\",$Y158,0)","v":0},null,{"$f":"+IF($H158=\"EN REVISIÓN\",$Y158,0)","v":0},null,{"$f":"+IF($H158=\"NO CUMPLE\",$Y158,0)","v":0},null,{"$f":"+IF($H158=\"no aplica\",2,0)","v":0}]
[]
[]
[null,null,null,"AA 11.3","Compromiso de retirada selectiva de residuos",null,null,null,null,null,null,null,null,null,null,null,null,null,null,null,null,null,null,null,0.25,{"$f":"+IF($H161=\"seguro\",$Y161,0)","v":0},null,{"$f":"+IF($H161=\"EN REVISIÓN\",$Y161,0)","v":0},null,{"$f":"+IF($H161=\"NO CUMPLE\",$Y161,0)","v":0},null,{"$f":"+IF($H161=\"no aplica\",2,0)","v":0}]
[]
[]
[null,null,null,"AA 11.4","Mejora sustancial en la gestión de residuos",null,null,null,null,null,null,null,null,null,null,null,null,null,null,null,null,null,null,null,0.25,{"$f":"+IF($H164=\"seguro\",$Y164,0)","v":0},null,{"$f":"+IF($H164=\"EN REVISIÓN\",$Y164,0)","v":0},null,{"$f":"+IF($H164=\"NO CUMPLE\",$Y164,0)","v":0},null,{"$f":"+IF($H164=\"no aplica\",2,0)","v":0}]
[]
[null,null,null,null,null,null,null,null,null,null,null,null,null,null,null,null,null,null,null,null,null,null,null,null,{"$f":"SUM(Y155:Y164)","v":1},{"$f":"IF($F151=\"\",0,SUM(Z154:Z164)*$F151/$Y166)","v":{"$error":"#REF!"}},null,{"$f":"IF($F151=\"\",0,SUM(AB154:AB164)*$F151/$Y166)","v":{"$error":"#REF!"}},null,{"$f":"IF($F151=\"\",0,SUM(AD154:AD164)*$F151/$Y166)","v":{"$error":"#REF!"}}]
[]
[]
[null,null,null,{"$f":"'Matriz VERDE-GBCe'!V46","v":"AS 04"},{"$f":"VLOOKUP($D169,'Matriz VERDE-GBCe'!$V$6:$Y$53,2,FALSE)","v":"Derecho a la intimidad"},{"$f":"VLOOKUP($D169,'Matriz VERDE-GBCe'!$V$6:$Y$53,6,FALSE)","v":{"$error":"#REF!"}},null,null,null,null,null,"NOTAS",null,null,null,null,null,null,null,null,null,null,null,null,"Target","SEGURO",null,"EN REVISIÓN",null,"NO CUMPLE",null,"NO APLICA"]
[]
[null,null,null,"D.J","Fecha del archivo"]
[]
[null,null,null,"AA 12.1","Existe un plan de prevención de las actividades de la construcción",null,null,null,null,null,null,null,null,null,null,null,null,null,null,null,null,null,null,null,{"$f":"IF(AF173=0,1,0)","v":1},{"$f":"+IF($H173=\"seguro\",$Y173,0)","v":0},null,{"$f":"+IF($H173=\"EN REVISIÓN\",$Y173,0)","v":0},null,{"$f":"+IF($H173=\"NO CUMPLE\",$Y173,0)","v":0},null,{"$f":"+IF($H173=\"no aplica\",2,0)","v":0}]
[]
[null,null,null,null,null,null,null,null,null,null,null,null,null,null,null,null,null,null,null,null,null,null,null,null,{"$f":"Y173","v":1},{"$f":"IF($F169=\"\",0,Z173*$F169)","v":{"$error":"#REF!"}},null,{"$f":"IF($F169=\"\",0,AB173*$F169)","v":{"$error":"#REF!"}},null,{"$f":"IF($F169=\"\",0,AD173*$F169)","v":{"$error":"#REF!"}}]
[]
[]
[null,null,null,{"$f":"'Matriz VERDE-GBCe'!#REF!","v":{"$error":"#REF!"}},{"$f":"VLOOKUP($D178,'Matriz VERDE-GBCe'!$V$6:$Y$53,2,FALSE)","v":{"$error":"#REF!"}},{"$f":"VLOOKUP($D178,'Matriz VERDE-GBCe'!$V$6:$Y$53,6,FALSE)","v":{"$error":"#REF!"}},null,null,null,null,null,"NOTAS",null,null,null,null,null,null,null,null,null,null,null,null,"Target","SEGURO",null,"EN REVISIÓN",null,"NO CUMPLE",null,"NO APLICA"]
[]
[null,null,null,"D.J","Fecha del archivo"]
[]
[null,null,null,"AA 13.1","Red separativa de pluviales",null,null,null,null,null,null,null,null,null,null,null,null,null,null,null,null,null,null,null,0.6,{"$f":"+IF($H182=\"seguro\",$Y182,0)","v":0},null,{"$f":"+IF($H182=\"EN REVISIÓN\",$Y182,0)","v":0},null,{"$f":"+IF($H182=\"NO CUMPLE\",$Y182,0)","v":0},null,{"$f":"+IF($H182=\"no aplica\",2,0)","v":0}]
[]
[]
[null,null,null,"AA 13.2","Separadores de contaminantes (hidrocarburos y otros)",null,null,null,null,null,null,null,null,null,null,null,null,null,null,null,null,null,null,null,0.2,{"$f":"+IF($H185=\"seguro\",$Y185,0)","v":0},null,{"$f":"+IF($H185=\"EN REVISIÓN\",$Y185,0)","v":0},null,{"$f":"+IF($H185=\"NO CUMPLE\",$Y185,0)","v":0},null,{"$f":"+IF($H185=\"no aplica\",2,0)","v":0}]
[]
[]
[null,null,null,"AA 13.3","Gestión de escorrentías",null,null,null,null,null,null,null,null,null,null,null,null,null,null,null,null,null,null,null,0.2,{"$f":"+IF($H188=\"seguro\",$Y188,0)","v":0},null,{"$f":"+IF($H188=\"EN REVISIÓN\",$Y188,0)","v":0},null,{"$f":"+IF($H188=\"NO CUMPLE\",$Y188,0)","v":0},null,{"$f":"+IF($H188=\"no aplica\",2,0)","v":0}]
[]
[null,null,null,null,null,null,null,null,null,null,null,null,null,null,null,null,null,null,null,null,null,null,null,null,{"$f":"SUM(Y182:Y189)","v":1},{"$f":"IF($F178=\"\",0,SUM(Z181:Z188)*$F178/$Y190)","v":{"$error":"#REF!"}},null,{"$f":"IF($F178=\"\",0,SUM(AB181:AB188)*$F178/$Y190)","v":{"$error":"#REF!"}},null,{"$f":"IF($F178=\"\",0,SUM(AD181:AD188)*$F178/$Y190)","v":{"$error":"#REF!"}}]
[]
[]
[null,null,null,{"$f":"'Matriz VERDE-GBCe'!#REF!","v":{"$error":"#REF!"}},{"$f":"VLOOKUP($D193,'Matriz VERDE-GBCe'!$V$6:$Y$53,2,FALSE)","v":{"$error":"#REF!"}},{"$f":"VLOOKUP($D193,'Matriz VERDE-GBCe'!$V$6:$Y$53,6,FALSE)","v":{"$error":"#REF!"}},null,null,null,null,null,"NOTAS",null,null,null,null,null,null,null,null,null,null,null,null,"Target","SEGURO",null,"EN REVISIÓN",null,"NO CUMPLE",null,"NO APLICA"]
[]
[null,null,null,"D.J","Fecha del archivo"]
[]
[null,null,null,"AA 14.1","El FHS reduce el exigido por normativa en un 50%",null,null,null,null,null,null,null,null,null,null,null,null,null,null,null,null,null,null,null,{"$f":"IF(AF197=0,1,0)","v":1},{"$f":"+IF($H197=\"seguro\",$Y197,0)","v":0},null,{"$f":"+IF($H197=\"EN REVISIÓN\",$Y197,0)","v":0},null,{"$f":"+IF($H197=\"NO CUMPLE\",$Y197,0)","v":0},null,{"$f":"+IF($H197=\"no aplica\",2,0)","v":0}]
[]
[null,null,null,null,null,null,null,null,null,null,null,null,null,null,null,null,null,null,null,null,null,null,null,null,{"$f":"Y197","v":1},{"$f":"IF($F193=\"\",0,Z197*$F193)","v":{"$error":"#REF!"}},null,{"$f":"IF($F193=\"\",0,AB197*$F193)","v":{"$error":"#REF!"}},null,{"$f":"IF($F193=\"\",0,AD197*$F193)","v":{"$error":"#REF!"}}]
[]
[]
[null,null,null,{"$f":"'Matriz VERDE-GBCe'!#REF!","v":{"$error":"#REF!"}},{"$f":"VLOOKUP($D202,'Matriz VERDE-GBCe'!$V$6:$Y$53,2,FALSE)","v":{"$error":"#REF!"}},{"$f":"VLOOKUP($D202,'Matriz VERDE-GBCe'!$V$6:$Y$53,6,FALSE)","v":{"$error":"#REF!"}},null,null,null,null,null,"NOTAS",null,null,null,null,null,null,null,null,null,null,null,null,"Target","SEGURO",null,"EN REVISIÓN",null,"NO CUMPLE",null,"NO APLICA"]
[null,null,null,{"$f":"'Matriz VERDE-GBCe'!#REF!","v":{"$error":"#REF!"}}]
[null,null,null,"D.J","Fecha del archivo"]
[]
[null,null,null,"AA 15.1","Las superficies tratadas para evitar la isla de calor supera el 25%",null,null,null,null,null,null,null,null,null,null,null,null,null,null,null,null,null,null,null,{"$f":"IF(AF206=0,1,0)","v":1},{"$f":"+IF($H206=\"seguro\",$Y206,0)","v":0},null,{"$f":"+IF($H206=\"EN REVISIÓN\",$Y206,0)","v":0},null,{"$f":"+IF($H206=\"NO CUMPLE\",$Y206,0)","v":0},null,{"$f":"+IF($H206=\"no aplica\",2,0)","v":0}]
[]
[null,null,null,null,null,null,null,null,null,null,null,null,null,null,null,null,null,null,null,null,null,null,null,null,{"$f":"Y206","v":1},{"$f":"IF($F202=\"\",0,Z206*$F202)","v":{"$error":"#REF!"}},null,{"$f":"IF($F202=\"\",0,AB206*$F202)","v":{"$error":"#REF!"}},null,{"$f":"IF($F202=\"\",0,AD206*$F202)","v":{"$error":"#REF!"}}]
[]
[]
[null,null,null,{"$f":"'Matriz VERDE-GBCe'!#REF!","v":{"$error":"#REF!"}},{"$f":"VLOOKUP($D211,'Matriz VERDE-GBCe'!$V$6:$Y$53,2,FALSE)","v":{"$error":"#REF!"}},{"$f":"VLOOKUP($D211,'Matriz VERDE-GBCe'!$V$6:$Y$53,6,FALSE)","v":{"$error":"#REF!"}},null,null,null,null,null,"NOTAS",null,null,null,null,null,null,null,null,null,null,null,null,"Target","SEGURO",null,"EN REVISIÓN",null,"NO CUMPLE",null,"NO APLICA"]
[]
[null,null,null,"D.J","Fecha del archivo"]
[null,null,null,null,null,null,null,null,null,null,null,null,null,null,null,null,null,null,null,null,null,null,null,{"$f":"D211","v":{"$error":"#REF!"}}]
[null,null,null,"AA 16.1","Se emplea asfalto fonoabsorvente (solo cerca de poblaciones)",null,null,null,null,null,null,null,null,null,null,null,null,null,null,null,null,null,null,null,{"$f":"IF(AF215=0,1,0)","v":1},{"$f":"+IF($H215=\"seguro\",$Y215,0)","v":0},null,{"$f":"+IF($H215=\"EN REVISIÓN\",$Y215,0)","v":0},null,{"$f":"+IF($H215=\"NO CUMPLE\",$Y215,0)","v":0},null,{"$f":"+IF($H215=\"no aplica\",2,0)","v":0}]
[]
[null,null,null,null,null,null,null,null,null,null,null,null,null,null,null,null,null,null,null,null,null,null,null,null,{"$f":"Y215","v":1},{"$f":"IF($F211=\"\",0,Z215*$F211)","v":{"$error":"#REF!"}},null,{"$f":"IF($F211=\"\",0,AB215*$F211)","v":{"$error":"#REF!"}},null,{"$f":"IF($F211=\"\",0,AD215*$F211)","v":{"$error":"#REF!"}}]
[]
[]
[null,{"$f":"'Matriz VERDE-GBCe'!U41","v":1},null,{"$f":"'Matriz VERDE-GBCe'!V41","v":"AI 05"}]
[]
[]
[null,null,null,{"$f":"'Matriz VERDE-GBCe'!V42","v":"Aspectos sociales"},{"$f":"VLOOKUP($D223,'Matriz VERDE-GBCe'!$V$6:$Y$53,2,FALSE)","v":0},{"$f":"VLOOKUP($D223,'Matriz VERDE-GBCe'!$V$6:$Y$53,6,FALSE)","v":{"$error":"#REF!"}},null,null,null,null,null,"NOTAS",null,null,null,null,null,null,null,null,null,null,null,null,"Target","SEGURO",null,"EN REVISIÓN",null,"NO CUMPLE",null,"NO APLICA"]
[]
[null,null,null,"D.J","Fecha del archivo"]
[]
[null,null,null,"AS 01.1","Existe una estación que mide la calidad del aire",null,null,null,null,null,null,null,null,null,null,null,null,null,null,null,null,null,null,null,{"$f":"IF(AF227=0,1,0)","v":1},{"$f":"+IF($H227=\"seguro\",$Y227,0)","v":0},null,{"$f":"+IF($H227=\"EN REVISIÓN\",$Y227,0)","v":0},null,{"$f":"+IF($H227=\"NO CUMPLE\",$Y227,0)","v":0},null,{"$f":"+IF($H227=\"no aplica\",2,0)","v":0}]
[]
[]
[null,null,null,"AS 01.2","Los datos de dicha estación se comparten con los servicios municipales",null,null,null,null,null,null,null,null,null,null,null,null,null,null,null,null,null,null,null,{"$f":"IF(AF230=0,1,0)","v":1},{"$f":"+IF($H230=\"seguro\",$Y230,0)","v":0},null,{"$f":"+IF($H230=\"EN REVISIÓN\",$Y230,0)","v":0},null,{"$f":"+IF($H230=\"NO CUMPLE\",$Y230,0)","v":0},null,{"$f":"+IF($H230=\"no aplica\",2,0)","v":0}]
[]
[]
[null,null,null,"AS 01.3","Los datos de la estación son públicos",null,null,null,null,null,null,null,null,null,null,null,null,null,null,null,null,null,null,null,{"$f":"IF(AF233=0,1,0)","v":1},{"$f":"+IF($H233=\"seguro\",$Y233,0)","v":0},null,{"$f":"+IF($H233=\"EN REVISIÓN\",$Y233,0)","v":0},null,{"$f":"+IF($H233=\"NO CUMPLE\",$Y233,0)","v":0},null,{"$f":"+IF($H233=\"no aplica\",2,0)","v":0}]
[]
[null,null,null,null,null,null,null,null,null,null,null,null,null,null,null,null,null,null,null,null,null,null,null,null,{"$f":"SUM(Y226:Y233)","v":3},{"$f":"IF($F223=\"\",0,SUM(Z227:Z233)*$F223/$Y235)","v":{"$error":"#REF!"}},null,{"$f":"IF($F223=\"\",0,SUM(AB227:AB233)*$F223/$Y235)","v":{"$error":"#REF!"}},null,{"$f":"IF($F223=\"\",0,SUM(AD227:AD233)*$F223/$Y235)","v":{"$error":"#REF!"}}]
[]
[]
[null,null,null,{"$f":"'Matriz VERDE-GBCe'!#REF!","v":{"$error":"#REF!"}},{"$f":"VLOOKUP($D238,'Matriz VERDE-GBCe'!$V$6:$Y$53,2,FALSE)","v":{"$error":"#REF!"}},{"$f":"VLOOKUP($D238,'Matriz VERDE-GBCe'!$V$6:$Y$53,6,FALSE)","v":{"$error":"#REF!"}},null,null,null,null,null,"NOTAS",null,null,null,null,null,null,null,null,null,null,null,null,"Target","SEGURO",null,"EN REVISIÓN",null,"NO CUMPLE",null,"NO APLICA"]
[]
[null,null,null,"D.J","Fecha del archivo"]
[]
[null,null,null,"AS 02.1","El 70% tienen acceso a equipamientos a menos de 1,000 m",null,null,null,null,null,null,null,null,null,null,null,null,null,null,null,null,null,null,null,{"$f":"IF(AF242=0,0.4,0)","v":0.4},{"$f":"+IF($H242=\"seguro\",$Y242,0)","v":0},null,{"$f":"+IF($H242=\"EN REVISIÓN\",$Y242,0)","v":0},null,{"$f":"+IF($H242=\"NO CUMPLE\",$Y242,0)","v":0},null,{"$f":"+IF($H242=\"no aplica\",2,0)","v":0}]
[]
[]
[null,null,null,"AS 02.2","Las zonas verdes están dotadas de, al menos, 3 equipaciones",null,null,null,null,null,null,null,null,null,null,null,null,null,null,null,null,null,null,null,{"$f":"IF(AF245=0,0.3,0)","v":0.3},{"$f":"+IF($H245=\"seguro\",$Y245,0)","v":0},null,{"$f":"+IF($H245=\"EN REVISIÓN\",$Y245,0)","v":0},null,{"$f":"+IF($H245=\"NO CUMPLE\",$Y245,0)","v":0},null,{"$f":"+IF($H245=\"no aplica\",2,0)","v":0}]
[]
[]
[null,null,null,"AS 02.3","Existen, al menos, dos usos complementarios al de nave logística.",null,null,null,null,null,null,null,null,null,null,null,null,null,null,null,null,null,null,null,{"$f":"IF(AF248=0,0.3,0)","v":0.3},{"$f":"+IF($H248=\"seguro\",$Y248,0)","v":0},null,{"$f":"+IF($H248=\"EN REVISIÓN\",$Y248,0)","v":0},null,{"$f":"+IF($H248=\"NO CUMPLE\",$Y248,0)","v":0},null,{"$f":"+IF($H248=\"no aplica\",2,0)","v":0}]
[]
[null,null,null,null,null,null,null,null,null,null,null,null,null,null,null,null,null,null,null,null,null,null,null,null,{"$f":"SUM(Y242:Y248)","v":1},{"$f":"IF($F238=\"\",0,SUM(Z242:Z248)*$F238/$Y250)","v":{"$error":"#REF!"}},null,{"$f":"IF($F238=\"\",0,SUM(AB242:AB248)*$F238/$Y250)","v":{"$error":"#REF!"}},null,{"$f":"IF($F238=\"\",0,SUM(AD242:AD248)*$F238/$Y250)","v":{"$error":"#REF!"}}]
[]
[]
[null,null,null,{"$f":"'Matriz VERDE-GBCe'!#REF!","v":{"$error":"#REF!"}},{"$f":"VLOOKUP($D253,'Matriz VERDE-GBCe'!$V$6:$Y$53,2,FALSE)","v":{"$error":"#REF!"}},{"$f":"VLOOKUP($D253,'Matriz VERDE-GBCe'!$V$6:$Y$53,6,FALSE)","v":{"$error":"#REF!"}},null,null,null,null,null,"NOTAS",null,null,null,null,null,null,null,null,null,null,null,null,"Target","SEGURO",null,"EN REVISIÓN",null,"NO CUMPLE",null,"NO APLICA"]
[]
[null,null,null,"D.J","Fecha del archivo"]
[]
[null,null,null,"AS 02.1","El 70% tienen acceso a equipamientos a menos de 1,000 m",null,null,null,null,null,null,null,null,null,null,null,null,null,null,null,null,null,null,null,{"$f":"IF(AF257=0,0.4,0)","v":0.4},{"$f":"+IF($H257=\"seguro\",$Y257,0)","v":0},null,{"$f":"+IF($H257=\"EN REVISIÓN\",$Y257,0)","v":0},null,{"$f":"+IF($H257=\"NO CUMPLE\",$Y257,0)","v":0},null,{"$f":"+IF($H257=\"no aplica\",2,0)","v":0}]
[]
[]
[null,null,null,"AS 02.2","Las zonas verdes están dotadas de, al menos, 3 equipaciones",null,null,null,null,null,null,null,null,null,null,null,null,null,null,null,null,null,null,null,{"$f":"IF(AF260=0,0.3,0)","v":0.3},{"$f":"+IF($H260=\"seguro\",$Y260,0)","v":0},null,{"$f":"+IF($H260=\"EN REVISIÓN\",$Y260,0)","v":0},null,{"$f":"+IF($H260=\"NO CUMPLE\",$Y260,0)","v":0},null,{"$f":"+IF($H260=\"no aplica\",2,0)","v":0}]
[]
[]
[null,null,null,"AS 02.3","Existen, al menos, dos usos complementarios al de nave logística.",null,null,null,null,null,null,null,null,null,null,null,null,null,null,null,null,null,null,null,{"$f":"IF(AF263=0,0.3,0)","v":0.3},{"$f":"+IF($H263=\"seguro\",$Y263,0)","v":0},null,{"$f":"+IF($H263=\"EN REVISIÓN\",$Y263,0)","v":0},null,{"$f":"+IF($H263=\"NO CUMPLE\",$Y263,0)","v":0},null,{"$f":"+IF($H263=\"no aplica\",2,0)","v":0}]
[]
[null,null,null,null,null,null,null,null,null,null,null,null,null,null,null,null,null,null,null,null,null,null,null,null,{"$f":"SUM(Y257:Y263)","v":1},{"$f":"IF($F253=\"\",0,SUM(Z257:Z263)*$F253/$Y265)","v":{"$error":"#REF!"}},null,{"$f":"IF($F253=\"\",0,SUM(AB257:AB263)*$F253/$Y265)","v":{"$error":"#REF!"}},null,{"$f":"IF($F253=\"\",0,SUM(AD257:AD263)*$F253/$Y265)","v":{"$error":"#REF!"}}]
[]
[]
[null,null,null,{"$f":"'Matriz VERDE-GBCe'!#REF!","v":{"$error":"#REF!"}},{"$f":"VLOOKUP($D268,'Matriz VERDE-GBCe'!$V$6:$Y$53,2,FALSE)","v":{"$error":"#REF!"}},{"$f":"VLOOKUP($D268,'Matriz VERDE-GBCe'!$V$6:$Y$53,6,FALSE)","v":{"$error":"#REF!"}},null,null,null,null,null,"NOTAS",null,null,null,null,null,null,null,null,null,null,null,null,"Target","SEGURO",null,"EN REVISIÓN",null,"NO CUMPLE",null,"NO APLICA"]
[]
[null,null,null,"D.J","Fecha del archivo"]
[]
[null,null,null,"AS 03.1","Existe un núcleo que cumple con el criterio a menos de 15,000 m",null,null,null,null,null,null,null,null,null,null,null,null,null,null,null,null,null,null,null,0.25,{"$f":"+IF($H272=\"seguro\",$Y272,0)","v":0},null,{"$f":"+IF($H272=\"EN REVISIÓN\",$Y272,0)","v":0},null,{"$f":"+IF($H272=\"NO CUMPLE\",$Y272,0)","v":0},null,{"$f":"+IF($H272=\"no aplica\",2,0)","v":0}]
[]
[]
[null,null,null,"AS 03.2","Existe un núcleo que cumple con el criterio a menos de 10,000 m",null,null,null,null,null,null,null,null,null,null,null,null,null,null,null,null,null,null,null,0.25,{"$f":"+IF($H275=\"seguro\",$Y275,0)","v":0},null,{"$f":"+IF($H275=\"EN REVISIÓN\",$Y275,0)","v":0},null,{"$f":"+IF($H275=\"NO CUMPLE\",$Y275,0)","v":0},null,{"$f":"+IF($H275=\"no aplica\",2,0)","v":0}]
[]
[]
[null,null,null,"AS 03.3","Existe un núcleo que cumple con el criterio a menos de 5,000 m",null,null,null,null,null,null,null,null,null,null,null,null,null,null,null,null,null,null,null,0.25,{"$f":"+IF($H278=\"seguro\",$Y278,0)","v":0},null,{"$f":"+IF($H278=\"EN REVISIÓN\",$Y278,0)","v":0},null,{"$f":"+IF($H278=\"NO CUMPLE\",$Y278,0)","v":0},null,{"$f":"+IF($H278=\"no aplica\",2,0)","v":0}]
[]
[]
[null,null,null,"AS 03.4","Existe un núcleo que cumple con el criterio a menos de 2,000 m",null,null,null,null,null,null,null,null,null,null,null,null,null,null,null,null,null,null,null,0.25,{"$f":"+IF($H281=\"seguro\",$Y281,0)","v":0},null,{"$f":"+IF($H281=\"EN REVISIÓN\",$Y281,0)","v":0},null,{"$f":"+IF($H281=\"NO CUMPLE\",$Y281,0)","v":0},null,{"$f":"+IF($H281=\"no aplica\",2,0)","v":0}]
[]
[null,null,null,null,null,null,null,null,null,null,null,null,null,null,null,null,null,null,null,null,null,null,null,null,{"$f":"SUM(Y271:Y281)","v":1},{"$f":"IF($F268=\"\",0,SUM(Z271:Z281)*$F268/$Y283)","v":{"$error":"#REF!"}},null,{"$f":"IF($F268=\"\",0,SUM(AB271:AB281)*$F268/$Y283)","v":{"$error":"#REF!"}},null,{"$f":"IF($F268=\"\",0,SUM(AD271:AD281)*$F268/$Y283)","v":{"$error":"#REF!"}}]
[]
[]
[null,null,null,{"$f":"'Matriz VERDE-GBCe'!#REF!","v":{"$error":"#REF!"}},{"$f":"VLOOKUP($D286,'Matriz VERDE-GBCe'!$V$6:$Y$53,2,FALSE)","v":{"$error":"#REF!"}},{"$f":"VLOOKUP($D286,'Matriz VERDE-GBCe'!$V$6:$Y$53,6,FALSE)","v":{"$error":"#REF!"}},null,null,null,null,null,"NOTAS",null,null,null,null,null,null,null,null,null,null,null,null,"Target","SEGURO",null,"EN REVISIÓN",null,"NO CUMPLE",null,"NO APLICA"]
[]
[null,null,null,"D.J","Fecha del archivo"]
[]
[null,null,null,"AS 04.1","Existe un Plan de Movilidad Sostenible",null,null,null,null,null,null,null,null,null,null,null,null,null,null,null,null,null,null,null,1,{"$f":"+IF($H290=\"seguro\",$Y290,0)","v":0},null,{"$f":"+IF($H290=\"EN REVISIÓN\",$Y290,0)","v":0},null,{"$f":"+IF($H290=\"NO CUMPLE\",$Y290,0)","v":0},null,{"$f":"+IF($H290=\"no aplica\",2,0)","v":0}]
[]
[null,null,null,null,null,null,null,null,null,null,null,null,null,null,null,null,null,null,null,null,null,null,null,null,{"$f":"SUM(Y289:Y290)","v":1},{"$f":"IF($F286=\"\",0,SUM(Z289:Z290)*$F286/$Y292)","v":{"$error":"#REF!"}},null,{"$f":"IF($F286=\"\",0,SUM(AB289:AB290)*$F286/$Y292)","v":{"$error":"#REF!"}},null,{"$f":"IF($F286=\"\",0,SUM(AD289:AD290)*$F286/$Y292)","v":{"$error":"#REF!"}}]
[]
[]
[null,null,null,{"$f":"'Matriz VERDE-GBCe'!#REF!","v":{"$error":"#REF!"}},{"$f":"VLOOKUP($D295,'Matriz VERDE-GBCe'!$V$6:$Y$53,2,FALSE)","v":{"$error":"#REF!"}},{"$f":"VLOOKUP($D295,'Matriz VERDE-GBCe'!$V$6:$Y$53,6,FALSE)","v":{"$error":"#REF!"}},null,null,null,null,null,"NOTAS",null,null,null,null,null,null,null,null,null,null,null,null,"Target","SEGURO",null,"EN REVISIÓN",null,"NO CUMPLE",null,"NO APLICA"]
[]
[null,null,null,"D.J","Fecha del archivo"]
[]
[null,null,null,"AS 05.1","El diseño de los viales garantizan la accesibilidad",null,null,null,null,null,null,null,null,null,null,null,null,null,null,null,null,null,null,null,{"$f":"IF(AF299=0,0.7,0)","v":0.7},{"$f":"+IF($H299=\"seguro\",$Y299,0)","v":0},null,{"$f":"+IF($H299=\"EN REVISIÓN\",$Y299,0)","v":0},null,{"$f":"+IF($H299=\"NO CUMPLE\",$Y299,0)","v":0},null,{"$f":"+IF($H299=\"no aplica\",2,0)","v":0}]
[]
[]
[null,null,null,"AS 05.2","La señalización del parque es adecuada",null,null,null,null,null,null,null,null,null,null,null,null,null,null,null,null,null,null,null,{"$f":"IF(AF302=0,0.3,0)","v":0.3},{"$f":"+IF($H302=\"seguro\",$Y302,0)","v":0},null,{"$f":"+IF($H302=\"EN REVISIÓN\",$Y302,0)","v":0},null,{"$f":"+IF($H302=\"NO CUMPLE\",$Y302,0)","v":0},null,{"$f":"+IF($H302=\"no aplica\",2,0)","v":0}]
[]
[null,null,null,null,null,null,null,null,null,null,null,null,null,null,null,null,null,null,null,null,null,null,null,null,{"$f":"SUM(Y299:Y302)","v":1},{"$f":"IF($F295=\"\",0,SUM(Z299:Z302)*$F295/$Y304)","v":{"$error":"#REF!"}},null,{"$f":"IF($F295=\"\",0,SUM(AB299:AB302)*$F295/$Y304)","v":{"$error":"#REF!"}},null,{"$f":"IF($F295=\"\",0,SUM(AD299:AD302)*$F295/$Y304)","v":{"$error":"#REF!"}}]
[]
[]
[null,null,null,{"$f":"'Matriz VERDE-GBCe'!#REF!","v":{"$error":"#REF!"}},{"$f":"VLOOKUP($D307,'Matriz VERDE-GBCe'!$V$6:$Y$53,2,FALSE)","v":{"$error":"#REF!"}},{"$f":"VLOOKUP($D307,'Matriz VERDE-GBCe'!$V$6:$Y$53,6,FALSE)","v":{"$error":"#REF!"}},null,null,null,null,null,"NOTAS",null,null,null,null,null,null,null,null,null,null,null,null,"Target","SEGURO",null,"EN REVISIÓN",null,"NO CUMPLE",null,"NO APLICA"]
[]
[null,null,null,"D.J","Fecha del archivo"]
[]
[null,null,null,"AS 06.1","Existe aparcamiento de bicicletas ",null,null,null,null,null,null,null,null,null,null,null,null,null,null,null,null,null,null,null,0.5,{"$f":"+IF($H311=\"seguro\",$Y311,0)","v":0},null,{"$f":"+IF($H311=\"EN REVISIÓN\",$Y311,0)","v":0},null,{"$f":"+IF($H311=\"NO CUMPLE\",$Y311,0)","v":0},null,{"$f":"+IF($H311=\"no aplica\",2,0)","v":0}]
[]
[]
[null,null,null,"AS 06.2","Se ha diseñado una red viaria para bicicletas",null,null,null,null,null,null,null,null,null,null,null,null,null,null,null,null,null,null,null,0.5,{"$f":"+IF($H314=\"seguro\",$Y314,0)","v":0},null,{"$f":"+IF($H314=\"EN REVISIÓN\",$Y314,0)","v":0},null,{"$f":"+IF($H314=\"NO CUMPLE\",$Y314,0)","v":0},null,{"$f":"+IF($H314=\"no aplica\",2,0)","v":0}]
[]
[null,null,null,null,null,null,null,null,null,null,null,null,null,null,null,null,null,null,null,null,null,null,null,null,{"$f":"SUM(Y311:Y314)","v":1},{"$f":"IF($F307=\"\",0,SUM(Z311:Z314)*$F307/$Y316)","v":{"$error":"#REF!"}},null,{"$f":"IF($F307=\"\",0,SUM(AB311:AB314)*$F307/$Y316)","v":{"$error":"#REF!"}},null,{"$f":"IF($F307=\"\",0,SUM(AD311:AD314)*$F307/$Y316)","v":{"$error":"#REF!"}}]
[]
[]
[null,null,null,{"$f":"'Matriz VERDE-GBCe'!#REF!","v":{"$error":"#REF!"}},{"$f":"VLOOKUP($D319,'Matriz VERDE-GBCe'!$V$6:$Y$53,2,FALSE)","v":{"$error":"#REF!"}},{"$f":"VLOOKUP($D319,'Matriz VERDE-GBCe'!$V$6:$Y$53,6,FALSE)","v":{"$error":"#REF!"}},null,null,null,null,null,"NOTAS",null,null,null,null,null,null,null,null,null,null,null,null,"Target","SEGURO",null,"EN REVISIÓN",null,"NO CUMPLE",null,"NO APLICA"]
[]
[null,null,null,"D.J","Fecha del archivo"]
[]
[null,null,null,"AS 07.1","El 70% de las parcelas tienen un nodo de trasnporte a menos de 1.000 m",null,null,null,null,null,null,null,null,null,null,null,null,null,null,null,null,null,null,null,{"$f":"IF(AF323=0,0.7,0)","v":0.7},{"$f":"+IF($H323=\"seguro\",$Y323,0)","v":0},null,{"$f":"+IF($H323=\"EN REVISIÓN\",$Y323,0)","v":0},null,{"$f":"+IF($H323=\"NO CUMPLE\",$Y323,0)","v":0},null,{"$f":"+IF($H323=\"no aplica\",2,0)","v":0}]
[]
[]
[null,null,null,"AS 07.2","El parque tiene conexión con al menos, dos lineas de trasnporte",null,null,null,null,null,null,null,null,null,null,null,null,null,null,null,null,null,null,null,{"$f":"IF(AF326=0,0.3,0)","v":0.3},{"$f":"+IF($H326=\"seguro\",$Y326,0)","v":0},null,{"$f":"+IF($H326=\"EN REVISIÓN\",$Y326,0)","v":0},null,{"$f":"+IF($H326=\"NO CUMPLE\",$Y326,0)","v":0},null,{"$f":"+IF($H326=\"no aplica\",2,0)","v":0}]
[]
[null,null,null,null,null,null,null,null,null,null,null,null,null,null,null,null,null,null,null,null,null,null,null,null,{"$f":"SUM(Y323:Y326)","v":1},{"$f":"IF($F319=\"\",0,SUM(Z323:Z326)*$F319/$Y328)","v":{"$error":"#REF!"}},null,{"$f":"IF($F319=\"\",0,SUM(AB323:AB326)*$F319/$Y328)","v":{"$error":"#REF!"}},null,{"$f":"IF($F319=\"\",0,SUM(AD323:AD326)*$F319/$Y328)","v":{"$error":"#REF!"}}]
[]
[]
[null,null,null,{"$f":"'Matriz VERDE-GBCe'!#REF!","v":{"$error":"#REF!"}},{"$f":"VLOOKUP($D331,'Matriz VERDE-GBCe'!$V$6:$Y$53,2,FALSE)","v":{"$error":"#REF!"}},{"$f":"VLOOKUP($D331,'Matriz VERDE-GBCe'!$V$6:$Y$53,6,FALSE)","v":{"$error":"#REF!"}},null,null,null,null,null,"NOTAS",null,null,null,null,null,null,null,null,null,null,null,null,"Target","SEGURO",null,"EN REVISIÓN",null,"NO CUMPLE",null,"NO APLICA"]
[]
[null,null,null,"D.J","Fecha del archivo"]
[]
[null,null,null,"AS 08.1","Las plazas de aparcamiento no superan las exigencias normativas",null,null,null,null,null,null,null,null,null,null,null,null,null,null,null,null,null,null,null,{"$f":"IF(AF335=0,0.7,0)","v":0.7},{"$f":"+IF($H335=\"seguro\",$Y335,0)","v":0},null,{"$f":"+IF($H335=\"EN REVISIÓN\",$Y335,0)","v":0},null,{"$f":"+IF($H335=\"NO CUMPLE\",$Y335,0)","v":0},null,{"$f":"+IF($H335=\"no aplica\",2,0)","v":0}]
[]
[]
[null,null,null,"AS 08.2","Se cumple con la reserva de plazas para vehículos eléctricos",null,null,null,null,null,null,null,null,null,null,null,null,null,null,null,null,null,null,null,{"$f":"IF(AF338=0,0.3,0)","v":0.3},{"$f":"+IF($H338=\"seguro\",$Y338,0)","v":0},null,{"$f":"+IF($H338=\"EN REVISIÓN\",$Y338,0)","v":0},null,{"$f":"+IF($H338=\"NO CUMPLE\",$Y338,0)","v":0},null,{"$f":"+IF($H338=\"no aplica\",2,0)","v":0}]
[]
[null,null,null,null,null,null,null,null,null,null,null,null,null,null,null,null,null,null,null,null,null,null,null,null,{"$f":"SUM(Y335:Y338)","v":1},{"$f":"IF($F331=\"\",0,SUM(Z335:Z338)*$F331/$Y340)","v":{"$error":"#REF!"}},null,{"$f":"IF($F331=\"\",0,SUM(AB335:AB338)*$F331/$Y340)","v":{"$error":"#REF!"}},null,{"$f":"IF($F331=\"\",0,SUM(AD335:AD338)*$F331/$Y340)","v":{"$error":"#REF!"}}]
[]
[]
[null,null,null,{"$f":"'Matriz VERDE-GBCe'!#REF!","v":{"$error":"#REF!"}},{"$f":"VLOOKUP($D343,'Matriz VERDE-GBCe'!$V$6:$Y$53,2,FALSE)","v":{"$error":"#REF!"}},{"$f":"VLOOKUP($D343,'Matriz VERDE-GBCe'!$V$6:$Y$53,6,FALSE)","v":{"$error":"#REF!"}},null,null,null,null,null,"NOTAS",null,null,null,null,null,null,null,null,null,null,null,null,"Target","SEGURO",null,"EN REVISIÓN",null,"NO CUMPLE",null,"NO APLICA"]
[]
[null,null,null,"D.J","Fecha del archivo"]
[]
[null,null,null,"AS 09.1","Se cumple con una de las medidas propuestas",null,null,null,null,null,null,null,null,null,null,null,null,null,null,null,null,null,null,null,{"$f":"IF(AF347=0,0.2,0)","v":0.2},{"$f":"+IF($H347=\"seguro\",$Y347,0)","v":0},null,{"$f":"+IF($H347=\"EN REVISIÓN\",$Y347,0)","v":0},null,{"$f":"+IF($H347=\"NO CUMPLE\",$Y347,0)","v":0},null,{"$f":"+IF($H347=\"no aplica\",2,0)","v":0}]
[]
[]
[null,null,null,"AS 09.2","Se cumple con dos de las medidas propuestas",null,null,null,null,null,null,null,null,null,null,null,null,null,null,null,null,null,null,null,{"$f":"IF(AF350=0,0.2,0)","v":0.2},{"$f":"+IF($H350=\"seguro\",$Y350,0)","v":0},null,{"$f":"+IF($H350=\"EN REVISIÓN\",$Y350,0)","v":0},null,{"$f":"+IF($H350=\"NO CUMPLE\",$Y350,0)","v":0},null,{"$f":"+IF($H350=\"no aplica\",2,0)","v":0}]
[]
[]
[null,null,null,"AS 09.3","Se cumple con tres de las medidas propuestas",null,null,null,null,null,null,null,null,null,null,null,null,null,null,null,null,null,null,null,{"$f":"IF(AF353=0,0.2,0)","v":0.2},{"$f":"+IF($H353=\"seguro\",$Y353,0)","v":0},null,{"$f":"+IF($H353=\"EN REVISIÓN\",$Y353,0)","v":0},null,{"$f":"+IF($H353=\"NO CUMPLE\",$Y353,0)","v":0},null,{"$f":"+IF($H353=\"no aplica\",2,0)","v":0}]
[]
[]
[null,null,null,"AS 09.4","Se cumple con cuatro de las medidas propuestas",null,null,null,null,null,null,null,null,null,null,null,null,null,null,null,null,null,null,null,{"$f":"IF(AF356=0,0.2,0)","v":0.2},{"$f":"+IF($H356=\"seguro\",$Y356,0)","v":0},null,{"$f":"+IF($H356=\"EN REVISIÓN\",$Y356,0)","v":0},null,{"$f":"+IF($H356=\"NO CUMPLE\",$Y356,0)","v":0},null,{"$f":"+IF($H356=\"no aplica\",2,0)","v":0}]
[]
[]
[null,null,null,"AS 09.5","Se cumplen con cinco de las medidas propuestas",null,null,null,null,null,null,null,null,null,null,null,null,null,null,null,null,null,null,null,{"$f":"IF(AF359=0,0.2,0)","v":0.2},{"$f":"+IF($H359=\"seguro\",$Y359,0)","v":0},null,{"$f":"+IF($H359=\"EN REVISIÓN\",$Y359,0)","v":0},null,{"$f":"+IF($H359=\"NO CUMPLE\",$Y359,0)","v":0},null,{"$f":"+IF($H359=\"no aplica\",2,0)","v":0}]
[]
[null,null,null,null,null,null,null,null,null,null,null,null,null,null,null,null,null,null,null,null,null,null,null,null,{"$f":"SUM(Y347:Y359)","v":1},{"$f":"IF($F343=\"\",0,SUM(Z347:Z359)*$F343/$Y361)","v":{"$error":"#REF!"}},null,{"$f":"IF($F343=\"\",0,SUM(AB347:AB359)*$F343/$Y361)","v":{"$error":"#REF!"}},null,{"$f":"IF($F343=\"\",0,SUM(AD347:AD359)*$F343/$Y361)","v":{"$error":"#REF!"}}]
[]
[]
[null,null,null,{"$f":"'Matriz VERDE-GBCe'!#REF!","v":{"$error":"#REF!"}},{"$f":"VLOOKUP($D364,'Matriz VERDE-GBCe'!$V$6:$Y$53,2,FALSE)","v":{"$error":"#REF!"}},{"$f":"VLOOKUP($D364,'Matriz VERDE-GBCe'!$V$6:$Y$53,6,FALSE)","v":{"$error":"#REF!"}},null,null,null,null,null,"NOTAS",null,null,null,null,null,null,null,null,null,null,null,null,"Target","SEGURO",null,"EN REVISIÓN",null,"NO CUMPLE",null,"NO APLICA"]
[]
[null,null,null,"D.J","Fecha del archivo"]
[]
[null,null,null,"AS 10.1","Control de acceso",null,null,null,null,null,null,null,null,null,null,null,null,null,null,null,null,null,null,null,0.5,{"$f":"+IF($H368=\"seguro\",$Y368,0)","v":0},null,{"$f":"+IF($H368=\"EN REVISIÓN\",$Y368,0)","v":0},null,{"$f":"+IF($H368=\"NO CUMPLE\",$Y368,0)","v":0},null,{"$f":"+IF($H368=\"no aplica\",2,0)","v":0}]
[]
[]
[null,null,null,"AS 10.2","Estudio de seguridad",null,null,null,null,null,null,null,null,null,null,null,null,null,null,null,null,null,null,null,0.25,{"$f":"+IF($H371=\"seguro\",$Y371,0)","v":0},null,{"$f":"+IF($H371=\"EN REVISIÓN\",$Y371,0)","v":0},null,{"$f":"+IF($H371=\"NO CUMPLE\",$Y371,0)","v":0},null,{"$f":"+IF($H371=\"no aplica\",2,0)","v":0}]
[]
[]
[null,null,null,"AS 10.3","Medidas extraordinarias de seguridad",null,null,null,null,null,null,null,null,null,null,null,null,null,null,null,null,null,null,null,0.25,{"$f":"+IF($H374=\"seguro\",$Y374,0)","v":0},null,{"$f":"+IF($H374=\"EN REVISIÓN\",$Y374,0)","v":0},null,{"$f":"+IF($H374=\"NO CUMPLE\",$Y374,0)","v":0},null,{"$f":"+IF($H374=\"no aplica\",2,0)","v":0}]
[]
[null,null,null,null,null,null,null,null,null,null,null,null,null,null,null,null,null,null,null,null,null,null,null,null,{"$f":"SUM(Y368:Y374)","v":1},{"$f":"IF($F364=\"\",0,SUM(Z368:Z374)*$F364/$Y376)","v":{"$error":"#REF!"}},null,{"$f":"IF($F364=\"\",0,SUM(AB368:AB374)*$F364/$Y376)","v":{"$error":"#REF!"}},null,{"$f":"IF($F364=\"\",0,SUM(AD368:AD374)*$F364/$Y376)","v":{"$error":"#REF!"}}]
[]
[null,{"$f":"'Matriz VERDE-GBCe'!#REF!","v":{"$error":"#REF!"}},null,{"$f":"'Matriz VERDE-GBCe'!#REF!","v":{"$error":"#REF!"}}]
[]
[]
[null,null,null,{"$f":"'Matriz VERDE-GBCe'!#REF!","v":{"$error":"#REF!"}},{"$f":"VLOOKUP($D381,'Matriz VERDE-GBCe'!$V$6:$Y$53,2,FALSE)","v":{"$error":"#REF!"}},{"$f":"VLOOKUP($D381,'Matriz VERDE-GBCe'!$V$6:$Y$53,6,FALSE)","v":{"$error":"#REF!"}},null,null,null,null,null,"NOTAS",null,null,null,null,null,null,null,null,null,null,null,null,"Target","SEGURO",null,"EN REVISIÓN",null,"NO CUMPLE",null,"NO APLICA"]
[]
[null,null,null,"D.J","Fecha del archivo"]
[]
[null,null,null,"AE 01.1","Existe un estudio de viabilidad económica del polígono",null,null,null,null,null,null,null,null,null,null,null,null,null,null,null,null,null,null,null,0.5,{"$f":"+IF($H385=\"seguro\",$Y385,0)","v":0},null,{"$f":"+IF($H385=\"EN REVISIÓN\",$Y385,0)","v":0},null,{"$f":"+IF($H385=\"NO CUMPLE\",$Y385,0)","v":0},null,{"$f":"+IF($H385=\"no aplica\",2,0)","v":0}]
[]
[]
[null,null,null,"AE 01.2","Se han adoptado medidas para mejorar la viabilidad económica",null,null,null,null,null,null,null,null,null,null,null,null,null,null,null,null,null,null,null,0.5,{"$f":"+IF($H388=\"seguro\",$Y388,0)","v":0},null,{"$f":"+IF($H388=\"EN REVISIÓN\",$Y388,0)","v":0},null,{"$f":"+IF($H388=\"NO CUMPLE\",$Y388,0)","v":0},null,{"$f":"+IF($H388=\"no aplica\",2,0)","v":0}]
[]
[null,null,null,null,null,null,null,null,null,null,null,null,null,null,null,null,null,null,null,null,null,null,null,null,{"$f":"SUM(Y385:Y388)","v":1},{"$f":"IF($F381=\"\",0,SUM(Z385:Z388)*$F381/$Y390)","v":{"$error":"#REF!"}},null,{"$f":"IF($F381=\"\",0,SUM(AB385:AB388)*$F381/$Y390)","v":{"$error":"#REF!"}},null,{"$f":"IF($F381=\"\",0,SUM(AD385:AD388)*$F381/$Y390)","v":{"$error":"#REF!"}}]
[]
[]
[null,null,null,{"$f":"'Matriz VERDE-GBCe'!#REF!","v":{"$error":"#REF!"}},{"$f":"VLOOKUP($D393,'Matriz VERDE-GBCe'!$V$6:$Y$53,2,FALSE)","v":{"$error":"#REF!"}},{"$f":"VLOOKUP($D393,'Matriz VERDE-GBCe'!$V$6:$Y$53,6,FALSE)","v":{"$error":"#REF!"}},null,null,null,null,null,"NOTAS",null,null,null,null,null,null,null,null,null,null,null,null,"Target","SEGURO",null,"EN REVISIÓN",null,"NO CUMPLE",null,"NO APLICA"]
[]
[null,null,null,"D.J","Fecha del archivo"]
[]
[null,null,null,"AE 02.1","No hay coste de iluminación para el municipio",null,null,null,null,null,null,null,null,null,null,null,null,null,null,null,null,null,null,null,0.2,{"$f":"+IF($H397=\"seguro\",$Y397,0)","v":0},null,{"$f":"+IF($H397=\"EN REVISIÓN\",$Y397,0)","v":0},null,{"$f":"+IF($H397=\"NO CUMPLE\",$Y397,0)","v":0},null,{"$f":"+IF($H397=\"no aplica\",2,0)","v":0}]
[]
[]
[null,null,null,"AE 02.2","No hay coste de depuración de aguas para el municipio",null,null,null,null,null,null,null,null,null,null,null,null,null,null,null,null,null,null,null,0.2,{"$f":"+IF($H400=\"seguro\",$Y400,0)","v":0},null,{"$f":"+IF($H400=\"EN REVISIÓN\",$Y400,0)","v":0},null,{"$f":"+IF($H400=\"NO CUMPLE\",$Y400,0)","v":0},null,{"$f":"+IF($H400=\"no aplica\",2,0)","v":0}]
[]
[]
[null,null,null,"AE 02.3","No hay coste de recogida de residuos para el municipio",null,null,null,null,null,null,null,null,null,null,null,null,null,null,null,null,null,null,null,0.2,{"$f":"+IF($H403=\"seguro\",$Y403,0)","v":0},null,{"$f":"+IF($H403=\"EN REVISIÓN\",$Y403,0)","v":0},null,{"$f":"+IF($H403=\"NO CUMPLE\",$Y403,0)","v":0},null,{"$f":"+IF($H403=\"no aplica\",2,0)","v":0}]
[]
[]
[null,null,null,"AE 02.4","No hay coste de limpieza del viario para el municipio",null,null,null,null,null,null,null,null,null,null,null,null,null,null,null,null,null,null,null,0.2,{"$f":"+IF($H406=\"seguro\",$Y406,0)","v":0},null,{"$f":"+IF($H406=\"EN REVISIÓN\",$Y406,0)","v":0},null,{"$f":"+IF($H406=\"NO CUMPLE\",$Y406,0)","v":0},null,{"$f":"+IF($H406=\"no aplica\",2,0)","v":0}]
[]
[]
[null,null,null,"AE 02.5","No hay coste de mantenimiento para el municipio",null,null,null,null,null,null,null,null,null,null,null,null,null,null,null,null,null,null,null,0.2,{"$f":"+IF($H409=\"seguro\",$Y409,0)","v":0},null,{"$f":"+IF($H409=\"EN REVISIÓN\",$Y409,0)","v":0},null,{"$f":"+IF($H409=\"NO CUMPLE\",$Y409,0)","v":0},null,{"$f":"+IF($H409=\"no aplica\",2,0)","v":0}]
[]
[null,null,null,null,null,null,null,null,null,null,null,null,null,null,null,null,null,null,null,null,null,null,null,null,{"$f":"SUM(Y397:Y409)","v":1},{"$f":"IF($F393=\"\",0,SUM(Z397:Z409)*$F393)","v":{"$error":"#REF!"}},null,{"$f":"IF($F393=\"\",0,SUM(AB397:AB409)*$F393)","v":{"$error":"#REF!"}},null,{"$f":"IF($F393=\"\",0,SUM(AD397:AD409)*$F393)","v":{"$error":"#REF!"}}]
[]
[]
[null,null,null,{"$f":"'Matriz VERDE-GBCe'!#REF!","v":{"$error":"#REF!"}},{"$f":"VLOOKUP($D414,'Matriz VERDE-GBCe'!$V$6:$Y$53,2,FALSE)","v":{"$error":"#REF!"}},{"$f":"VLOOKUP($D414,'Matriz VERDE-GBCe'!$V$6:$Y$53,6,FALSE)","v":{"$error":"#REF!"}},null,null,null,null,null,"NOTAS",null,null,null,null,null,null,null,null,null,null,null,null,"Target","SEGURO",null,"EN REVISIÓN",null,"NO CUMPLE",null,"NO APLICA"]
[]
[null,null,null,"D.J","Fecha del archivo"]
[]
[null,null,null,"AE 03.1","El 30% de las parcelas están reservadas ",null,null,null,null,null,null,null,null,null,null,null,null,null,null,null,null,null,null,null,0.5,{"$f":"+IF($H418=\"seguro\",$Y418,0)","v":0},null,{"$f":"+IF($H418=\"EN REVISIÓN\",$Y418,0)","v":0},null,{"$f":"+IF($H418=\"NO CUMPLE\",$Y418,0)","v":0},null,{"$f":"+IF($H418=\"no aplica\",2,0)","v":0}]
[]
[]
[null,null,null,"AE 03.2","El 70% de las parcelas están reservadas",null,null,null,null,null,null,null,null,null,null,null,null,null,null,null,null,null,null,null,0.5,{"$f":"+IF($H421=\"seguro\",$Y421,0)","v":0},null,{"$f":"+IF($H421=\"EN REVISIÓN\",$Y421,0)","v":0},null,{"$f":"+IF($H421=\"NO CUMPLE\",$Y421,0)","v":0},null,{"$f":"+IF($H421=\"no aplica\",2,0)","v":0}]
[]
[null,null,null,null,null,null,null,null,null,null,null,null,null,null,null,null,null,null,null,null,null,null,null,null,{"$f":"SUM(Y418:Y421)","v":1},{"$f":"IF($F414=\"\",0,SUM(Z418:Z421)*$F414/$Y423)","v":{"$error":"#REF!"}},null,{"$f":"IF($F414=\"\",0,SUM(AB418:AB421)*$F414/$Y423)","v":{"$error":"#REF!"}},null,{"$f":"IF($F414=\"\",0,SUM(AD418:AD421)*$F414/$Y423)","v":{"$error":"#REF!"}}]
[]
[]
[null,null,null,{"$f":"'Matriz VERDE-GBCe'!#REF!","v":{"$error":"#REF!"}},{"$f":"VLOOKUP($D426,'Matriz VERDE-GBCe'!$V$6:$Y$53,2,FALSE)","v":{"$error":"#REF!"}},{"$f":"VLOOKUP($D426,'Matriz VERDE-GBCe'!$V$6:$Y$53,6,FALSE)","v":{"$error":"#REF!"}},null,null,null,null,null,"NOTAS",null,null,null,null,null,null,null,null,null,null,null,null,"Target","SEGURO",null,"EN REVISIÓN",null,"NO CUMPLE",null,"NO APLICA"]
[]
[null,null,null,"D.J","Fecha del archivo"]
[]
[null,null,null,"AE 04.1","Incentivar las certificaciones sostenibles de los edificios",null,null,null,null,null,null,null,null,null,null,null,null,null,null,null,null,null,null,null,0.4,{"$f":"+IF($H430=\"seguro\",$Y430,0)","v":0},null,{"$f":"+IF($H430=\"EN REVISIÓN\",$Y430,0)","v":0},null,{"$f":"+IF($H430=\"NO CUMPLE\",$Y430,0)","v":0},null,{"$f":"+IF($H430=\"no aplica\",2,0)","v":0}]
[]
[]
[null,null,null,"AE 04.1","Existe infraestructura de uso comunitario",null,null,null,null,null,null,null,null,null,null,null,null,null,null,null,null,null,null,null,0.3,{"$f":"+IF($H433=\"seguro\",$Y433,0)","v":0},null,{"$f":"+IF($H433=\"EN REVISIÓN\",$Y433,0)","v":0},null,{"$f":"+IF($H433=\"NO CUMPLE\",$Y433,0)","v":0},null,{"$f":"+IF($H433=\"no aplica\",2,0)","v":0}]
[]
[]
[null,null,null,"AE 04.1","Fondo de formación y bolsa de trabajo para empleo local",null,null,null,null,null,null,null,null,null,null,null,null,null,null,null,null,null,null,null,0.3,{"$f":"+IF($H436=\"seguro\",$Y436,0)","v":0},null,{"$f":"+IF($H436=\"EN REVISIÓN\",$Y436,0)","v":0},null,{"$f":"+IF($H436=\"NO CUMPLE\",$Y436,0)","v":0},null,{"$f":"+IF($H436=\"no aplica\",2,0)","v":0}]
[]
[null,null,null,null,null,null,null,null,null,null,null,null,null,null,null,null,null,null,null,null,null,null,null,null,{"$f":"SUM(Y430:Y436)","v":1},{"$f":"IF($F426=\"\",0,Z430*$F426)","v":{"$error":"#REF!"}},null,{"$f":"IF($F426=\"\",0,AB430*$F426)","v":{"$error":"#REF!"}},null,{"$f":"IF($F426=\"\",0,AD430*$F426)","v":{"$error":"#REF!"}}]
[]
[]
[null,null,null,{"$f":"'Matriz VERDE-GBCe'!#REF!","v":{"$error":"#REF!"}},{"$f":"VLOOKUP($D441,'Matriz VERDE-GBCe'!$V$6:$Y$53,2,FALSE)","v":{"$error":"#REF!"}},{"$f":"VLOOKUP($D441,'Matriz VERDE-GBCe'!$V$6:$Y$53,6,FALSE)","v":{"$error":"#REF!"}},null,null,null,null,null,"NOTAS",null,null,null,null,null,null,null,null,null,null,null,null,"Target","SEGURO",null,"EN REVISIÓN",null,"NO CUMPLE",null,"NO APLICA"]
[]
[null,null,null,"D.J","Fecha del archivo"]
[]
[null,null,null,"AE 05.1","El acceso a una vía rápida rodada está a menos de 1.500 m",null,null,null,null,null,null,null,null,null,null,null,null,null,null,null,null,null,null,null,{"$f":"IF(AF445=0,0.7,0)","v":0.7},{"$f":"+IF($H445=\"seguro\",$Y445,0)","v":0},null,{"$f":"+IF($H445=\"EN REVISIÓN\",$Y445,0)","v":0},null,{"$f":"+IF($H445=\"NO CUMPLE\",$Y445,0)","v":0},null,{"$f":"+IF($H445=\"no aplica\",2,0)","v":0}]
[]
[]
[null,null,null,"AE 05.2","El acceso a otras infraestructuras de transporte a menos de 5.000 m",null,null,null,null,null,null,null,null,null,null,null,null,null,null,null,null,null,null,null,{"$f":"IF(AF448=0,0.3,0)","v":0.3},{"$f":"+IF($H448=\"seguro\",$Y448,0)","v":0},null,{"$f":"+IF($H448=\"EN REVISIÓN\",$Y448,0)","v":0},null,{"$f":"+IF($H448=\"NO CUMPLE\",$Y448,0)","v":0},null,{"$f":"+IF($H448=\"no aplica\",2,0)","v":0}]
[]
[null,null,null,null,null,null,null,null,null,null,null,null,null,null,null,null,null,null,null,null,null,null,null,null,{"$f":"SUM(Y445:Y448)","v":1},{"$f":"IF($F441=\"\",0,SUM(Z445:Z448)*$F441/$Y450)","v":{"$error":"#REF!"}},null,{"$f":"IF($F441=\"\",0,SUM(AB445:AB448)*$F441/$Y450)","v":{"$error":"#REF!"}},null,{"$f":"IF($F441=\"\",0,SUM(AD445:AD448)*$F441/$Y450)","v":{"$error":"#REF!"}}]
[]
[]
[null,null,null,{"$f":"'Matriz VERDE-GBCe'!#REF!","v":{"$error":"#REF!"}},{"$f":"VLOOKUP($D453,'Matriz VERDE-GBCe'!$V$6:$Y$53,2,FALSE)","v":{"$error":"#REF!"}},{"$f":"VLOOKUP($D453,'Matriz VERDE-GBCe'!$V$6:$Y$53,6,FALSE)","v":{"$error":"#REF!"}},null,null,null,null,null,"NOTAS",null,null,null,null,null,null,null,null,null,null,null,null,"Target","SEGURO",null,"EN REVISIÓN",null,"NO CUMPLE",null,"NO APLICA"]
[]
[null,null,null,"D.J","Fecha del archivo"]
[]
[null,null,null,"AE 06.1","Toma de medidas de consumo energético por usos",null,null,null,null,null,null,null,null,null,null,null,null,null,null,null,null,null,null,null,0.35,{"$f":"+IF($H457=\"seguro\",$Y457,0)","v":0},null,{"$f":"+IF($H457=\"EN REVISIÓN\",$Y457,0)","v":0},null,{"$f":"+IF($H457=\"NO CUMPLE\",$Y457,0)","v":0},null,{"$f":"+IF($H457=\"no aplica\",2,0)","v":0}]
[]
[]
[null,null,null,"AE 06.2","Toma de medidas de consumo de agua por usos",null,null,null,null,null,null,null,null,null,null,null,null,null,null,null,null,null,null,null,0.15,{"$f":"+IF($H460=\"seguro\",$Y460,0)","v":0},null,{"$f":"+IF($H460=\"EN REVISIÓN\",$Y460,0)","v":0},null,{"$f":"+IF($H460=\"NO CUMPLE\",$Y460,0)","v":0},null,{"$f":"+IF($H460=\"no aplica\",2,0)","v":0}]
[]
[]
[null,null,null,"AE 06.3","Sistemas de monitorización y telemedida por usos",null,null,null,null,null,null,null,null,null,null,null,null,null,null,null,null,null,null,null,0.2,{"$f":"+IF($H463=\"seguro\",$Y463,0)","v":0},null,{"$f":"+IF($H463=\"EN REVISIÓN\",$Y463,0)","v":0},null,{"$f":"+IF($H463=\"NO CUMPLE\",$Y463,0)","v":0},null,{"$f":"+IF($H463=\"no aplica\",2,0)","v":0}]
[]
[]
[null,null,null,"AE 06.4","Sistemas de monitorización y telemedida sectorizado",null,null,null,null,null,null,null,null,null,null,null,null,null,null,null,null,null,null,null,0.2,{"$f":"+IF($H466=\"seguro\",$Y466,0)","v":0},null,{"$f":"+IF($H466=\"EN REVISIÓN\",$Y466,0)","v":0},null,{"$f":"+IF($H466=\"NO CUMPLE\",$Y466,0)","v":0},null,{"$f":"+IF($H466=\"no aplica\",2,0)","v":0}]
[]
[]
[null,null,null,"AE 06.5","Archivo de registro de medidas",null,null,null,null,null,null,null,null,null,null,null,null,null,null,null,null,null,null,null,0.1,{"$f":"+IF($H469=\"seguro\",$Y469,0)","v":0},null,{"$f":"+IF($H469=\"EN REVISIÓN\",$Y469,0)","v":0},null,{"$f":"+IF($H469=\"NO CUMPLE\",$Y469,0)","v":0},null,{"$f":"+IF($H469=\"no aplica\",2,0)","v":0}]
[]
[null,null,null,null,null,null,null,null,null,null,null,null,null,null,null,null,null,null,null,null,null,null,null,null,{"$f":"SUM(Y457:Y469)","v":0.99999999999999989},{"$f":"IF($F453=\"\",0,SUM(Z456:Z469)*$F453/$Y471)","v":{"$error":"#REF!"}},null,{"$f":"IF($F453=\"\",0,SUM(AB456:AB469)*$F453/$Y471)","v":{"$error":"#REF!"}},null,{"$f":"IF($F453=\"\",0,SUM(AD457:AD469)*$F453/$Y471)","v":{"$error":"#REF!"}}]
[]
[null,{"$f":"'Matriz VERDE-GBCe'!#REF!","v":{"$error":"#REF!"}},null,{"$f":"'Matriz VERDE-GBCe'!#REF!","v":{"$error":"#REF!"}}]
[]
[]
[null,null,null,{"$f":"'Matriz VERDE-GBCe'!#REF!","v":{"$error":"#REF!"}},{"$f":"VLOOKUP($D476,'Matriz VERDE-GBCe'!$V$6:$Y$53,2,FALSE)","v":{"$error":"#REF!"}},{"$f":"VLOOKUP($D476,'Matriz VERDE-GBCe'!$V$6:$Y$53,6,FALSE)","v":{"$error":"#REF!"}},null,null,null,null,null,"NOTAS",null,null,null,null,null,null,null,null,null,null,null,null,"Target","SEGURO",null,"EN REVISIÓN",null,"NO CUMPLE",null,"NO APLICA"]
[]
[null,null,null,"D.J","Fecha del archivo"]
[]
[null,null,null,"CC 01.1","Documento de requisitos previo al proyecto",null,null,null,null,null,null,null,null,null,null,null,null,null,null,null,null,null,null,null,0.2,{"$f":"+IF($H480=\"seguro\",$Y480,0)","v":0},null,{"$f":"+IF($H480=\"EN REVISIÓN\",$Y480,0)","v":0},null,{"$f":"+IF($H480=\"NO CUMPLE\",$Y480,0)","v":0},null,{"$f":"+IF($H480=\"no aplica\",2,0)","v":0}]
[]
[]
[null,null,null,"CC 01.2","Análisis de alternativas constructivas y de diseño",null,null,null,null,null,null,null,null,null,null,null,null,null,null,null,null,null,null,null,0.2,{"$f":"+IF($H483=\"seguro\",$Y483,0)","v":0},null,{"$f":"+IF($H483=\"EN REVISIÓN\",$Y483,0)","v":0},null,{"$f":"+IF($H483=\"NO CUMPLE\",$Y483,0)","v":0},null,{"$f":"+IF($H483=\"no aplica\",2,0)","v":0}]
[]
[]
[null,null,null,"CC 01.3","Guías de diseño que se han tenido en cuenta",null,null,null,null,null,null,null,null,null,null,null,null,null,null,null,null,null,null,null,0.2,{"$f":"+IF($H486=\"seguro\",$Y486,0)","v":0},null,{"$f":"+IF($H486=\"EN REVISIÓN\",$Y486,0)","v":0},null,{"$f":"+IF($H486=\"NO CUMPLE\",$Y486,0)","v":0},null,{"$f":"+IF($H486=\"no aplica\",2,0)","v":0}]
[]
[]
[null,null,null,"CC 01.4","Equipo de diseño integrado",null,null,null,null,null,null,null,null,null,null,null,null,null,null,null,null,null,null,null,0.2,{"$f":"+IF($H489=\"seguro\",$Y489,0)","v":0},null,{"$f":"+IF($H489=\"EN REVISIÓN\",$Y489,0)","v":0},null,{"$f":"+IF($H489=\"NO CUMPLE\",$Y489,0)","v":0},null,{"$f":"+IF($H489=\"no aplica\",2,0)","v":0}]
[]
[]
[null,null,null,"CC 01.5","Participación del cliente en el proceso de diseño",null,null,null,null,null,null,null,null,null,null,null,null,null,null,null,null,null,null,null,0.2,{"$f":"+IF($H492=\"seguro\",$Y492,0)","v":0},null,{"$f":"+IF($H492=\"EN REVISIÓN\",$Y492,0)","v":0},null,{"$f":"+IF($H492=\"NO CUMPLE\",$Y492,0)","v":0},null,{"$f":"+IF($H492=\"no aplica\",2,0)","v":0}]
[]
[null,null,null,null,null,null,null,null,null,null,null,null,null,null,null,null,null,null,null,null,null,null,null,null,{"$f":"SUM(Y480:Y492)","v":1},{"$f":"IF($F476=\"\",0,SUM(Z480:Z492)*$F476/$Y494)","v":{"$error":"#REF!"}},null,{"$f":"IF($F476=\"\",0,SUM(AB480:AB492)*$F476/$Y494)","v":{"$error":"#REF!"}},null,{"$f":"IF($F476=\"\",0,SUM(AD480:AD483)*$F476/$Y494)","v":{"$error":"#REF!"}}]
[]
[]
[null,null,null,{"$f":"'Matriz VERDE-GBCe'!#REF!","v":{"$error":"#REF!"}},{"$f":"VLOOKUP($D497,'Matriz VERDE-GBCe'!$V$6:$Y$53,2,FALSE)","v":{"$error":"#REF!"}},{"$f":"VLOOKUP($D497,'Matriz VERDE-GBCe'!$V$6:$Y$53,6,FALSE)","v":{"$error":"#REF!"}},null,null,null,null,null,"NOTAS",null,null,null,null,null,null,null,null,null,null,null,null,"Target","SEGURO",null,"EN REVISIÓN",null,"NO CUMPLE",null,"NO APLICA"]
[]
[null,null,null,"D.J","Fecha del archivo"]
[]
[null,null,null,"CC 02.1","Se prevé la figura de gestor de mantenimiento",null,null,null,null,null,null,null,null,null,null,null,null,null,null,null,null,null,null,null,{"$f":"IF(AF501=0,0.1,0)","v":0.1},{"$f":"+IF($H501=\"seguro\",$Y501,0)","v":0},null,{"$f":"+IF($H501=\"EN REVISIÓN\",$Y501,0)","v":0},null,{"$f":"+IF($H501=\"NO CUMPLE\",$Y501,0)","v":0},null,{"$f":"+IF($H501=\"no aplica\",2,0)","v":0}]
[]
[]
[null,null,null,"CC 02.2","Existe un plan de gfestión y mantenimineto",null,null,null,null,null,null,null,null,null,null,null,null,null,null,null,null,null,null,null,{"$f":"IF(AF504=0,0.5,0)","v":0.5},{"$f":"+IF($H504=\"seguro\",$Y504,0)","v":0},null,{"$f":"+IF($H504=\"EN REVISIÓN\",$Y504,0)","v":0},null,{"$f":"+IF($H504=\"NO CUMPLE\",$Y504,0)","v":0},null,{"$f":"+IF($H504=\"no aplica\",2,0)","v":0}]
[]
[]
[null,null,null,"CC 02.3","Existe un compromiso de mejora en dos años",null,null,null,null,null,null,null,null,null,null,null,null,null,null,null,null,null,null,null,{"$f":"IF(AF507=0,0.4,0)","v":0.4},{"$f":"+IF($H507=\"seguro\",$Y507,0)","v":0},null,{"$f":"+IF($H507=\"EN REVISIÓN\",$Y507,0)","v":0},null,{"$f":"+IF($H507=\"NO CUMPLE\",$Y507,0)","v":0},null,{"$f":"+IF($H507=\"no aplica\",2,0)","v":0}]
[]
[null,null,null,null,null,null,null,null,null,null,null,null,null,null,null,null,null,null,null,null,null,null,null,null,{"$f":"SUM(Y501:Y507)","v":1},{"$f":"IF($F497=\"\",0,SUM(Z501:Z507)*$F497/$Y509)","v":{"$error":"#REF!"}},null,{"$f":"IF($F497=\"\",0,SUM(AB501:AB507)*$F497/$Y509)","v":{"$error":"#REF!"}},null,{"$f":"IF($F497=\"\",0,SUM(AD501:AD507)*$F497/$Y509)","v":{"$error":"#REF!"}}]
[]
[]
[null,null,null,{"$f":"'Matriz VERDE-GBCe'!#REF!","v":{"$error":"#REF!"}},{"$f":"VLOOKUP($D512,'Matriz VERDE-GBCe'!$V$6:$Y$53,2,FALSE)","v":{"$error":"#REF!"}},{"$f":"VLOOKUP($D512,'Matriz VERDE-GBCe'!$V$6:$Y$53,6,FALSE)","v":{"$error":"#REF!"}},null,null,null,null,null,"NOTAS",null,null,null,null,null,null,null,null,null,null,null,null,"Target","SEGURO",null,"EN REVISIÓN",null,"NO CUMPLE",null,"NO APLICA"]
[]
[null,null,null,"D.J","Fecha del archivo"]
[]
[null,null,null,"CC 04.1","Existe una preinstalación para redes de fibra óptica",null,null,null,null,null,null,null,null,null,null,null,null,null,null,null,null,null,null,null,0.3,{"$f":"+IF($H516=\"seguro\",$Y516,0)","v":0},null,{"$f":"+IF($H516=\"EN REVISIÓN\",$Y516,0)","v":0},null,{"$f":"+IF($H516=\"NO CUMPLE\",$Y516,0)","v":0},null,{"$f":"+IF($H516=\"no aplica\",2,0)","v":0}]
[]
[]
[null,null,null,"CC 04.2","Existe una red de fibra óptica",null,null,null,null,null,null,null,null,null,null,null,null,null,null,null,null,null,null,null,0.75,{"$f":"+IF($H519=\"seguro\",$Y519,0)","v":0},null,{"$f":"+IF($H519=\"EN REVISIÓN\",$Y519,0)","v":0},null,{"$f":"+IF($H519=\"NO CUMPLE\",$Y519,0)","v":0},null,{"$f":"+IF($H519=\"no aplica\",2,0)","v":0}]
[]
[]
[null,null,null,"CC 04.3","Hay cobertura wifi abierta en el polígono",null,null,null,null,null,null,null,null,null,null,null,null,null,null,null,null,null,null,null,0.25,{"$f":"+IF($H522=\"seguro\",$Y522,0)","v":0},null,{"$f":"+IF($H522=\"EN REVISIÓN\",$Y522,0)","v":0},null,{"$f":"+IF($H522=\"NO CUMPLE\",$Y522,0)","v":0},null,{"$f":"+IF($H522=\"no aplica\",2,0)","v":0}]
[]
[null,null,null,null,null,null,null,null,null,null,null,null,null,null,null,null,null,null,null,null,null,null,null,null,{"$f":"SUM(Y519:Y522)","v":1},{"$f":"IF($F512=\"\",0,SUM(Z516:Z522)*$F512/$Y524)","v":{"$error":"#REF!"}},null,{"$f":"IF($F512=\"\",0,AB516*$F512)","v":{"$error":"#REF!"}},null,{"$f":"IF($F512=\"\",0,AD516*$F512)","v":{"$error":"#REF!"}}]
[]
[]
[]
[null,null,null,null,null,null,null,null,null,"SEGUROS",null,null,null,"EN REVISIÓN",null,null,null,"NO CUMPLE",null,null,null,null,null,null,{"$f":"SUM(F7:G512)","v":{"$error":"#REF!"}}]
[]
[null,null,null,null,null,"SUBTOTAL",null,null,null,{"$f":"Z524++Z509+Z494+Z471+Z450+Z438+Z423+Z411+Z390+Z376+Z361+Z340+Z328+Z316+Z304+Z283+Z292+Z250+Z235+Z217+Z208+Z190+Z175+Z166+Z146+Z137+Z104+Z84+Z72+Z46+Z31+Z16+Z199","v":{"$error":"#REF!"}},null,null,null,{"$f":"AB524+AB509+AB494+AB471+AB450+AB438+AB423+AB411+AB390+AB376+AB361+AB340+AB328+AB316+AB304+AB283+AB292+AB250+AB235+AB217+AB208+AB190+AB199+AB175+AB166+AB146+AB137+AB104+AB84+AB72+AB46+AB31+AB16","v":{"$error":"#REF!"}},null,null,null,{"$f":"AD524+AD509+AD494+AD471+AD450+AD438+AD423+AD411+AD390+AD376+AD361+AD340+AD328+AD316+AD304+AD283+AD292+AD250+AD235+AD217+AD208+AD190+AD199+AD175+AD166+AD146+AD137+AD104+AD84+AD72+AD46+AD31+AD16","v":{"$error":"#REF!"}},null,null,null,null,"                                                                                                                                                                        "]
[]
[]
[null,"IN",null,"Innovación",null,{"$f":"SUM(F536:F560)","v":0.05}]
[]
[]
[null,null,null,"IN 01","Criterio 1",0.05,null,null,null,null,null,"NOTAS",null,null,null,null,null,null,null,null,null,null,null,null,"Target","SEGURO",null,"PROBABLE",null,"DUDOSO",null,"NO APLICA"]
[]
[null,null,null,"D.J","Fecha del archivo"]
[]
[null,null,null,"medida de innovación aprobada por GCBe",null,null,null,null,null,null,null,null,null,null,null,null,null,null,null,null,null,null,null,null,0.2,{"$f":"+IF($H540=\"seguro\",$Y540,0)","v":0},null,{"$f":"+IF($H540=\"EN REVISIÓN\",$Y540,0)","v":0},null,{"$f":"+IF($H540=\"NO CUMPLE\",$Y540,0)","v":0},null,{"$f":"+IF($H540=\"no aplica\",2,0)","v":0}]
[]
[]
[null,null,null,"D.J","Fecha del archivo"]
[]
[null,null,null,"medida de innovación aprobada por GCBe",null,null,null,null,null,null,null,null,null,null,null,null,null,null,null,null,null,null,null,null,0.2,{"$f":"+IF($H545=\"seguro\",$Y545,0)","v":0},null,{"$f":"+IF($H545=\"EN REVISIÓN\",$Y545,0)","v":0},null,{"$f":"+IF($H545=\"NO CUMPLE\",$Y545,0)","v":0},null,{"$f":"+IF($H545=\"no aplica\",2,0)","v":0}]
[]
[]
[null,null,null,"D.J","Fecha del archivo"]
[]
[null,null,null,"medida de innovación aprobada por GCBe",null,null,null,null,null,null,null,null,null,null,null,null,null,null,null,null,null,null,null,null,0.2,{"$f":"+IF($H550=\"seguro\",$Y550,0)","v":0},null,{"$f":"+IF($H550=\"EN REVISIÓN\",$Y550,0)","v":0},null,{"$f":"+IF($H550=\"NO CUMPLE\",$Y550,0)","v":0},null,{"$f":"+IF($H550=\"no aplica\",2,0)","v":0}]
[]
[]
[null,null,null,"D.J","Fecha del archivo"]
[]
[null,null,null,"medida de innovación aprobada por GCBe",null,null,null,null,null,null,null,null,null,null,null,null,null,null,null,null,null,null,null,null,0.2,{"$f":"+IF($H555=\"seguro\",$Y555,0)","v":0},null,{"$f":"+IF($H555=\"EN REVISIÓN\",$Y555,0)","v":0},null,{"$f":"+IF($H555=\"NO CUMPLE\",$Y555,0)","v":0},null,{"$f":"+IF($H555=\"no aplica\",2,0)","v":0}]
[]
[]
[null,null,null,"D.J","Fecha del archivo"]
[]
[null,null,null,"medida de innovación aprobada por GCBe",null,null,null,null,null,null,null,null,null,null,null,null,null,null,null,null,null,null,null,null,0.2,{"$f":"+IF($H560=\"seguro\",$Y560,0)","v":0},null,{"$f":"+IF($H560=\"EN REVISIÓN\",$Y560,0)","v":0},null,{"$f":"+IF($H560=\"NO CUMPLE\",$Y560,0)","v":0},null,{"$f":"+IF($H560=\"no aplica\",2,0)","v":0}]
[]
[null,null,null,null,null,null,null,null,null,null,null,null,null,null,null,null,null,null,null,null,null,null,null,null,{"$f":"SUM(Y540:Y560)","v":1},{"$f":"IF($F536=\"\",0,SUM(Z540:Z560)*$F536/$Y562)","v":0},null,{"$f":"IF($F536=\"\",0,SUM(AB540:AB560)*$F536/$Y562)","v":0},null,{"$f":"IF($F536=\"\",0,SUM(AD540:AD560)*$F536/$Y562)","v":0}]
[]
[]
[null,null,null,null,null,null,null,null,null,"SEGUROS",null,null,null,"EN REVISIÓN",null,null,null,"NO CUMPLE",null,null,null,null,null,null,"S","S+P","S+P+D"]
[]
[null,null,null,null,null,"SUBTOTAL",null,null,null,{"$f":"J530+Z562","v":{"$error":"#REF!"}},null,null,null,{"$f":"N530+AB562","v":{"$error":"#REF!"}},null,null,null,{"$f":"R530+AD562","v":{"$error":"#REF!"}},null,null,null,null,null,null,{"$f":"J567","v":{"$error":"#REF!"}},{"$f":"H567+J567","v":{"$error":"#REF!"}},{"$f":"H567+J567+L567","v":{"$error":"#REF!"}}," hoja"]
[]
[null,null,null,null,null,null,null,null,null,null,null,null,null,null,null,null,null,null,null,null,null,null,null,null,{"$f":"IF(AND(Y567<0.4,Y567>=0.2),1,IF(Y567>=0.9,5,IF(AND(Y567<0.6,Y567>=0.4),2,IF(AND(Y567<0.75,Y567>=0.6),3,IF(AND(Y567<0.9,Y567>=0.75),4,IF(Y567<=0.2,0))))))","v":{"$error":"#REF!"}},{"$f":"IF(AND(Z567<0.4,Z567>=0.3),1,IF(Z567>=0.8,5,IF(AND(Z567<0.5,Z567>=0.4),2,IF(AND(Z567<0.6,Z567>=0.5),3,IF(AND(Z567<0.8,Z567>=0.6),4,IF(Z567<=0.3,0))))))","v":{"$error":"#REF!"}},{"$f":"IF(AND(AA567<0.4,AA567>=0.3),1,IF(AA567>=0.8,5,IF(AND(AA567<0.5,AA567>=0.4),2,IF(AND(AA567<0.6,AA567>=0.5),3,IF(AND(AA567<0.8,AA567>=0.6),4,IF(AA567<=0.3,0))))))","v":{"$error":"#REF!"}}," hojas"]
[null,null,"  Los criterios seguros dan un resultado de ",null,null,null,{"$f":"CONCATENATE(Y569,Y570)","v":{"$error":"#REF!"}},null,null,null,null,null,null,null,null,null,null,null,null,null,null,null,null,null,{"$f":"IF(Y569=1,AB567,AB569)","v":{"$error":"#REF!"}},{"$f":"IF(Z569=1,AB567,AB569)","v":{"$error":"#REF!"}},{"$f":"IF(AA569=1,AB567,AB569)","v":{"$error":"#REF!"}}]
[]
[null,null,null,null,"Limpiar contenidos"]

{"sheet":"portada","index":4,"n_rows":9,"n_cols":5,"rows_kept":9,"cut":false,"hidden":false,"merged":[[5,4,5,8],[7,4,7,8],[8,4,8,7],[2,4,2,9],[3,4,3,8],[4,4,4,8]]}
[]
[]
[null,null,null,null,"VERDE Edificios 2020"]
[null,null,null,null,"Evaluación de la sostenibilidad en edificios"]
[null,null,null,null,"Usos distintos del Residencial privado"]
[null,null,null,null,"Nueva Edificación, ReHabilitación, Edificios Existentes y Mixtos"]
[]
[null,null,null,null,"VERDE Edificios 2020 "]
[null,null,null,null,"Revisión julio de 2022"]

{"sheet":"Instrucciones","index":5,"n_rows":35,"n_cols":4,"rows_kept":35,"cut":false,"hidden":false,"merged":[[1,1,1,5],[4,2,4,4],[8,2,8,4],[26,2,26,4],[32,2,32,4],[29,3,30,3],[5,3,6,3]]}
[]
[null,"VERDE Edificios 2020"]
[null,null,null,"Instrucciones de uso"]
[]
[null,null,"Celdas a rellenar"]
[null,null,null,"Solo se rellenan las celdas sombreadas."]
[]
[]
[null,null,"Pestañas"]
[]
[null,null,null,"Para navegar por la herramienta existen una serie de pestañas que se pueden ver en el margen inferior de la ventana, a continación se describen los contenidos de cada una de ellas:"]
[]
[null,null,null,"DG (datos generales): En ella se introducirán los datos del edificio, el proyecto y el EA VERDE que realiza la evaluación."]
[]
[null,null,null,"CA (criterios aplicables): En esta pestaña se pueden personalizar los criterios que serán de aplicación para una evaluación. De cara a una certificación, deberán estar todos los criterios activos a menos que se haya justificado la no aplicabilidad de alguno de ellos y se haya aprobado por GBCe."]
[]
[null,null,null,"PE (pre-evaluación): En esta pestaña se puede hacer una preevaluación del edificio. En el listado de criterios, se indicará qué criterios es seguro (s) que se van a cumplir, cuáles son probables (p), difícil (d) o cuáles no se van a cumplir (n). En función de los datos introducidos, la herramienta informará de las posibles valoraciones del edificio."]
[]
[null,null,null,"Pestañas de certificación: por cada una de las áreas de evaluación, tenemos una pestaña donde se introducirán los datos generales para la evaluación y los resultados criterio a criterio. Al final de la hoja, aparece la valoración que se ha obtenido en la misma."]
[]
[null,null,null,"Informe resultados: en esta hoja aparecen los resultados de la evaluación, con la calificación de la certificación y un resumen de los resultados por criterios"]
[]
[null,null,null,"Resultados por impactos: en esta hoja se ofrece la mejora alcanzada por el edificio en los distintos impactos evaluados sobre la referencia establecida."]
[]
[null,null,null,"Indicadores: en esta hoja se ofrecen los datos cuantitativos de los indicadores correspondientes a cada impacto de forma cualitativa y referido a la referencia establecida. Se indica a qué fase del ciclo de vida se hace referencia y cuál es el alcance del cálculo."]
[]
[null,null,"Celdas Documento Justificativos"]
[]
[null,null,null,"Estas celdas aparecen, tanto en la pestaña de datos generales, como en las pestañas de certificación, en cada uno de los criterios. En ellas habrá que indicar si se han incluido, no se han incluido o no son de aplicación, en los archivos de evaluación los Documentos Justificativos (D.J.) correspondientes."]
[null,null,null,"Los D.J. solicitados para justificar la evaluación de cara a una certificación con VERDE, se describen en la guía de la herramienta."]
[]
[]
[null,null,"¿Cómo hacer la evaluación de los criterios?"]
[]
[null,null,null,"El método de evaluación de cada uno de los criterios, aparece definido en la guía de evaluación de la herramienta que se puede descargar en la página web."]

{"sheet":"DG","index":6,"n_rows":414,"n_cols":19,"rows_kept":414,"cut":false,"hidden":false,"merged":[[1,2,1,7],[97,3,97,4],[111,3,111,4],[71,3,71,4],[85,3,85,4],[106,5,108,5],[39,3,39,4],[50,4,51,4],[59,4,60,4],[65,4,66,4],[62,4,63,4],[2,4,2,5],[4,3,4,4]]}
[]
[null,null,"VERDE Edificios 2020 Usos distintos del Residencial privado \nNueva Edificación, Rehabilitación, Edificio Existente y Mixtos"]
[null,null,null,null,"DATOS GENERALES",null,null,null,null,null,null,null,null,null,null,null,null,null,"Ejemplo 1"]
[]
[null,null,null,"Datos de edificio"]
[]
[]
[null,null,null,null,"Nombre del edificio",null,null,null,null,null,null,"Intensidad baja 8 h"]
[null,null,null,null,null,null,null,null,null,null,null,"Intensidad media 8 h"]
[null,null,null,null,"Localidad",null,null,null,null,null,null,"Intensidad alta 8 h",null,null,null,null,null,null,"Guadalajara"]
[null,null,null,null,null,null,null,null,null,null,null,"Intensidad baja 12 h"]
[null,null,null,null,"Comunidad/Ciudad Autónoma",null,null,null,null,null,null,"Intensidad media 12 h",null,null,null,null,null,null,"Guadalajara"]
[null,null,null,null,null,null,null,null,null,null,null,"Intensidad baja 12 h"]
[null,null,null,null,"Capital de Provincia",null,null,null,null,null,null,"Intensidad media 12 h",null,null,null,null,null,null,"Guadalajara"]
[null,null,null,null,null,null,null,null,null,null,null,"Intensidad alta 12 h"]
[null,null,null,null,"Altura sobre el nivel del mar",null,null,null,null,null,null,"Intensidad baja 16 h",null,null,null,null,null,null,708]
[null,null,null,null,null,null,null,null,null,null,null,"Intensidad media 16 h"]
[null,null,null,null,"Zona climática de la localidad",{"$f":"CONCATENATE('zona clima'!C10,'zona clima'!C11)","v":""},null,null,null,null,null,"Intensidad alta 16 h"]
[null,null,null,null,null,null,null,null,null,null,null,"Intensidad baja 24 h",null,null,null,null,null,null,950]
[null,null,null,null,"Superficie construida total (m2)",null,null,null,null,null,null,"Intensidad media 24 h",null,null,null,null,null,null,950]
[null,null,null,null,"*Descontando plantas bajo rasante y aparcamientos",null,null,null,null,null,null,"Intensidad alta 24 h"]
[null,null,null,null,null,null,null,null,null,null,null,"Otros"]
[null,null,null,null,"Superficie útil de los espacios habitables del edificio (m2)",null,null,null,null,null,null,null,null,null,null,null,null,null,700]
[]
[null,null,null,null,"Años de vida útil (por defecto 50)"]
[]
[null,null,null,null,"Perfil de uso en horas"]
[null,null,null,null,null,null,null,null,null,null,null,"Edificios administrativos"]
[null,null,null,null,"Perfil de uso",null,null,null,null,null,null,"Equipamiento público",null,null,null,null,null,null,"Multi-residencial"]
[null,null,null,null,null,null,null,null,null,null,null,"Edificios docentes"]
[null,null,null,null,"Tipo de actuación",null,null,null,null,null,null,"Edificios comerciales",null,null,null,null,null,null,"Nueva Edificación"]
[null,null,null,null,null,null,null,null,null,null,null,"Alojamiento y hospedaje"]
[null,null,null,null,"Superficie de ampliación (equiparable a nueva edificación):",45,null,null,null,null,null,"Servicios de restauración"]
[null,null,null,null,null,null,null,null,null,null,null,"Industria ligera o logística"]
[null,null,null,null,"Superficie rehabilitada",10,null,null,null,null,null,"Local o parte de un edificio"]
[null,null,null,null,null,null,null,null,null,null,null,"Edificios sanitarios"]
[null,null,null,null,"Superficie de edificio existente sobre el que no se interviene:",30,null,null,null,null,null,"Edificios deportivos"]
[null,null,null,null,null,null,null,null,null,null,null,"Mixtos"]
[null,null,null,null,null,null,null,null,null,null,null,"Nueva Edificación"]
[null,null,null,"Ajuste de la herramienta",null,null,null,null,null,null,null,"Rehabilitación"]
[null,null,null,null,null,null,null,null,null,null,null,"Edificio existente"]
[null,null,null,null,null,null,null,null,null,null,null,"Mixto"]
[null,null,null,null,"¿El edificio dispone de plazas de aparcamiento?"]
[]
[null,null,null,null,"Superficie libre de parcela"]
[]
[null,null,null,null,"Superficie ajardinada",null,null,null,null,null,null,"Sí"]
[null,null,null,null,null,null,null,null,null,null,null,"No"]
[null,null,null,null,"Número de ocupantes",null,null,null,null,null,null,null,null,null,null,null,null,null,45]
[null,null,null,null,null,null,null,null,null,null,null,"No"]
[null,null,null,null,"¿Existen en el edificio o parcela elementos singulares consumidores de agua como fuentes, piscinas, jakuzzis, etc.?",null,null,null,null,null,null,"No aplica"]
[]
[null,null,null,null,null,null,null,null,null,null,null,"No"]
[null,null,null,null,"¿Se emplean gases refrigerantes en la climatización?",null,null,null,null,null,null,"No aplica"]
[]
[null,null,null,null,"¿Existen elementos mecánicos de comunicación vertical u horizontal?"]
[]
[null,null,null,null,"¿Existen sistemas frigoríficos?",null,null,null,null,null,null,"Sí"]
[null,null,null,null,null,null,null,null,null,null,null,"No"]
[null,null,null,null,"¿Se realizan tareas de tipo administrativo, trabajo sedentario sobre mesa?",null,null,null,null,null,null,"No aplica"]
[]
[]
[null,null,null,null,"¿Existen espacios de alta densidad y de ocupación y uso variable? Para más información ver CAI 02 en la guía",null,null,null,null,null,null,"Sí"]
[]
[null,null,null,null,null,null,null,null,null,null,null,"No"]
[null,null,null,null,"¿Los espacios habitables, según la definición del CTE DB-HE superan los 50 m2?",null,null,null,null,null,null,"No aplica"]
[]
[]
[null,null,null,null,"¿El edificio se sitúa en una isla?"]
[]
[null,null,null,null,null,null,null,null,null,null,null,"Nueva Edificación"]
[null,null,null,"Datos del promotor y equipo de proyecto",null,null,null,null,null,null,null,"Rehabilitación"]
[null,null,null,null,null,null,null,null,null,null,null,"Edificio existente"]
[null,null,null,null,null,null,null,null,null,null,null,"Mixto"]
[null,null,null,null,"Promotor"]
[]
[null,null,null,null,"Contacto promotor"]
[]
[null,null,null,null,"Equipo redactor",null,null,null,null,null,null,"Sí"]
[null,null,null,null,null,null,null,null,null,null,null,"No"]
[null,null,null,null,"Fecha de proyecto",null,null,null,null,null,null,"No aplica"]
[null,null,null,null,null,null,null,null,null,null,null,"No"]
[null,null,null,null,"Fecha de construcción",null,null,null,null,null,null,"No aplica"]
[]
[]
[null,null,null,"Datos del  Evaluador Acreditado"]
[]
[]
[null,null,null,null,"Nombre"]
[]
[null,null,null,null,"Apellidos"]
[]
[null,null,null,null,"Email "]
[]
[null,null,null,null,"Teléfono de contacto"]
[]
[]
[null,null,null,"Datos de la certificación"]
[]
[]
[null,null,null,null,"Código de la certificación"]
[null,null,null,null,null,null,null,null,null,null,null,"Comercial"]
[null,null,null,null,"Fase de la certificación",null,null,null,null,null,null,null,"Proyecto de ejecución"]
[null,null,null,null,null,null,null,null,null,null,null,null,"Obra construida"]
[null,null,null,null,"Fecha de entrega de la evaluación"]
[]
[null,null,null,null,"Dirección postal de entrega de la certificación"]
[]
[]
[]
[]
[null,null,null,"Documentos Justificativos"]
[null,null,null,null,null,null,null,null,null,null,null,null,null,"r"]
[]
[null,null,null,null,"DG 01"]
[]
[null,null,null,null,"DG 02"]
[]
[null,null,null,null,"DG 03"]
[]
[null,null,null,null,"DG 04"]
[]
[null,null,null,null,"DG 05"]
[]
[null,null,null,null,"DG 06"]
[]
[null,null,null,null,"DG 07"]
[]
[null,null,null,null,"DG 08"]
[]
[]
[]
[]
[]
[]
[]
[]
[]
[]
[]
[]
[]
[]
[]
[]
[]
[]
[]
[]
[]
[]
[]
[]
[]
[]
[]
[]
[]
[]
[]
[]
[]
[]
[]
[]
[]
[]
[]
[]
[]
[]
[]
[]
[]
[]
[]
[]
[]
[]
[]
[]
[]
[]
[]
[]
[]
[]
[]
[]
[]
[]
[]
[]
[]
[]
[]
[]
[]
[]
[]
[]
[]
[]
[]
[]
[]
[]
[]
[]
[]
[]
[]
[]
[]
[]
[]
[]
[]
[]
[]
[]
[]
[]
[]
[]
[]
[]
[]
[]
[]
[]
[]
[]
[]
[]
[]
[]
[]
[]
[]
[]
[]
[]
[]
[]
[]
[]
[]
[]
[]
[]
[]
[]
[]
[]
[]
[]
[]
[]
[]
[]
[]
[]
[]
[]
[]
[]
[]
[]
[]
[]
[]
[]
[]
[]
[]
[]
[]
[]
[]
[]
[]
[]
[]
[]
[]
[]
[]
[]
[]
[]
[]
[]
[]
[]
[]
[]
[]
[]
[]
[]
[]
[]
[]
[]
[]
[]
[]
[]
[]
[]
[]
[]
[]
[]
[]
[]
[]
[]
[]
[]
[]
[]
[]
[]
[]
[]
[]
[]
[]
[]
[]
[]
[]
[]
[]
[]
[]
[]
[]
[]
[]
[]
[]
[]
[]
[]
[]
[]
[]
[]
[]
[]
[]
[]
[]
[]
[]
[]
[]
[]
[]
[]
[]
[]
[]
[]
[]
[]
[]
[]
[]
[]
[]
[]
[]
[]
[]
[]
[]
[]
[]
[]
[]
[]
[]
[]
[]
[]
[]
[]
[]
[]
[]
[]
[]
[]
[]
[]
[]
[]
[]
[]
[]
[]
[]
[]
[]
[]
[]
[]
[]
[]
[null,null,null,null,null,null,null,"a"]

{"sheet":"zona clima","index":7,"n_rows":60,"n_cols":77,"rows_kept":60,"cut":false,"hidden":true,"merged":[[57,58,57,59],[57,36,57,37],[57,38,57,39],[57,40,57,41],[57,42,57,43],[57,44,57,45],[57,46,57,47],[57,48,57,49],[57,50,57,51],[57,52,57,53],[57,54,57,55],[57,56,57,57],[57,24,57,25],[57,26,57,27],[57,28,57,29],[57,30,57,31],[57,32,57,33],[57,34,57,35],[3,56,3,57],[3,58,3,59],[57,8,57,9],[57,10,57,11],[57,12,57,13],[57,14,57,15],[57,16,57,17],[57,18,57,19],[57,20,57,21],[57,22,57,23],[3,44,3,45],[3,46,3,47],[3,48,3,49],[3,50,3,51],[3,52,3,53],[3,54,3,55],[3,32,3,33],[3,34,3,35],[3,36,3,37],[3,38,3,39],[3,40,3,41],[3,42,3,43],[3,30,3,31],[3,8,3,9],[3,10,3,11],[3,12,3,13],[3,14,3,15],[3,16,3,17],[3,18,3,19],[3,20,3,21],[3,22,3,23],[3,24,3,25],[3,26,3,27],[3,28,3,29]]}
[null,null,null,null,null,null,null,null,"A","B","C","D","E"]
[null,null,null,null,null,null,null,null,1,2,3,4]
[]
[null,null,null,null,"CAPITAL ","Z.C. INVIERNO","Z.C. VERANO ","ALTITUD","0-50",null,"50-100",null,"100-150",null,"150-200",null,"200-250",null,"250-300",null,"300-350",null,"350-400",null,"400-450",null,"450-500",null,"500-550",null,"550-600",null,"600-650",null,"650-700",null,"700-750",null,"750-800",null,"800-850",null,"850-900",null,"900-950",null,"950-1000",null,"1000-1050",null,"1100-1150",null,"1150-1200",null,"1200-1250",null,"1250-1300",null,">=1300",null,null,"A4","A3","A2","A1","B4","B3","B2","B1","C4","C3","C2","C1","D3","D2","D1","E1"]
[null,"capital de provincia",{"$f":"IF(DG!F14=0,\"\",DG!F14)","v":""},null,"Albacete",{"$f":"$L$1","v":"D"},{"$f":"$K$2","v":3},677,{"$f":"$K$1","v":"C"},{"$f":"$K$2","v":3},{"$f":"$K$1","v":"C"},{"$f":"$K$2","v":3},{"$f":"$K$1","v":"C"},{"$f":"$K$2","v":3},{"$f":"$K$1","v":"C"},{"$f":"$K$2","v":3},{"$f":"$K$1","v":"C"},{"$f":"$K$2","v":3},{"$f":"$K$1","v":"C"},{"$f":"$K$2","v":3},{"$f":"$K$1","v":"C"},{"$f":"$K$2","v":3},{"$f":"$K$1","v":"C"},{"$f":"$K$2","v":3},{"$f":"$K$1","v":"C"},{"$f":"$K$2","v":3},{"$f":"$L$1","v":"D"},{"$f":"$K$2","v":3},{"$f":"$L$1","v":"D"},{"$f":"$K$2","v":3},{"$f":"$L$1","v":"D"},{"$f":"$K$2","v":3},{"$f":"$L$1","v":"D"},{"$f":"$K$2","v":3},{"$f":"$L$1","v":"D"},{"$f":"$K$2","v":3},{"$f":"$L$1","v":"D"},{"$f":"$K$2","v":3},{"$f":"$L$1","v":"D"},{"$f":"$K$2","v":3},{"$f":"$L$1","v":"D"},{"$f":"$K$2","v":3},{"$f":"$L$1","v":"D"},{"$f":"$K$2","v":3},{"$f":"$L$1","v":"D"},{"$f":"$K$2","v":3},{"$f":"$M$1","v":"E"},{"$f":"$I$2","v":1},"E",1,"E",1,"E",1,"E",1,"E",1,"E",1,null,null,null,null,null,null,null,null,null,null,"<450",null,null,"<950",null,null,">=950"]
[null,"altura capital",{"$f":"IF(C5=\"\",\"\",VLOOKUP(C5,E5:BJ55,3,FALSE))","v":""},null,"Alicante",{"$f":"$J$1","v":"B"},{"$f":"$L$2","v":4},7,{"$f":"$J$1","v":"B"},{"$f":"$L$2","v":4},{"$f":"$J$1","v":"B"},{"$f":"$L$2","v":4},{"$f":"$J$1","v":"B"},{"$f":"$L$2","v":4},{"$f":"$J$1","v":"B"},{"$f":"$L$2","v":4},{"$f":"$J$1","v":"B"},{"$f":"$L$2","v":4},{"$f":"$K$1","v":"C"},{"$f":"$K$2","v":3},{"$f":"$K$1","v":"C"},{"$f":"$K$2","v":3},{"$f":"$K$1","v":"C"},{"$f":"$K$2","v":3},{"$f":"$K$1","v":"C"},{"$f":"$K$2","v":3},{"$f":"$K$1","v":"C"},{"$f":"$K$2","v":3},{"$f":"$K$1","v":"C"},{"$f":"$K$2","v":3},{"$f":"$K$1","v":"C"},{"$f":"$K$2","v":3},{"$f":"$K$1","v":"C"},{"$f":"$K$2","v":3},{"$f":"$K$1","v":"C"},{"$f":"$K$2","v":3},{"$f":"$L$1","v":"D"},{"$f":"$K$2","v":3},{"$f":"$L$1","v":"D"},{"$f":"$K$2","v":3},{"$f":"$L$1","v":"D"},{"$f":"$K$2","v":3},{"$f":"$L$1","v":"D"},{"$f":"$K$2","v":3},{"$f":"$L$1","v":"D"},{"$f":"$K$2","v":3},{"$f":"$L$1","v":"D"},{"$f":"$K$2","v":3},{"$f":"$L$1","v":"D"},{"$f":"$K$2","v":3},{"$f":"$L$1","v":"D"},{"$f":"$K$2","v":3},{"$f":"$L$1","v":"D"},{"$f":"$K$2","v":3},{"$f":"$L$1","v":"D"},{"$f":"$K$2","v":3},{"$f":"$L$1","v":"D"},{"$f":"$K$2","v":3},{"$f":"$L$1","v":"D"},{"$f":"$K$2","v":3},null,null,null,null,null,"<250",null,null,null,null,"<700",null,null,">=700"]
[null,"altura localidad",{"$f":"IF(DG!F16=\"\",\"\",DG!F16)","v":""},null,"Almería",{"$f":"$I$1","v":"A"},{"$f":"$L$2","v":4},0,"A",{"$f":"$L$2","v":4},"A",{"$f":"$L$2","v":4},{"$f":"$J$1","v":"B"},{"$f":"$L$2","v":4},{"$f":"$J$1","v":"B"},{"$f":"$L$2","v":4},{"$f":"$J$1","v":"B"},{"$f":"$L$2","v":4},{"$f":"$J$1","v":"B"},{"$f":"$K$2","v":3},{"$f":"$J$1","v":"B"},{"$f":"$K$2","v":3},{"$f":"$J$1","v":"B"},{"$f":"$K$2","v":3},{"$f":"$K$1","v":"C"},{"$f":"$K$2","v":3},{"$f":"$K$1","v":"C"},{"$f":"$K$2","v":3},{"$f":"$K$1","v":"C"},{"$f":"$K$2","v":3},{"$f":"$K$1","v":"C"},{"$f":"$K$2","v":3},{"$f":"$K$1","v":"C"},{"$f":"$K$2","v":3},{"$f":"$K$1","v":"C"},{"$f":"$K$2","v":3},{"$f":"$K$1","v":"C"},{"$f":"$K$2","v":3},{"$f":"$K$1","v":"C"},{"$f":"$K$2","v":3},{"$f":"$L$1","v":"D"},{"$f":"$K$2","v":3},{"$f":"$L$1","v":"D"},{"$f":"$K$2","v":3},{"$f":"$L$1","v":"D"},{"$f":"$K$2","v":3},{"$f":"$L$1","v":"D"},{"$f":"$K$2","v":3},{"$f":"$L$1","v":"D"},{"$f":"$K$2","v":3},{"$f":"$L$1","v":"D"},{"$f":"$K$2","v":3},{"$f":"$L$1","v":"D"},{"$f":"$K$2","v":3},{"$f":"$L$1","v":"D"},{"$f":"$K$2","v":3},{"$f":"$L$1","v":"D"},{"$f":"$K$2","v":3},{"$f":"$L$1","v":"D"},{"$f":"$K$2","v":3},null,"<100",null,null,null,"<250","<400",null,null,null,"<800",null,null,">=800"]
[null,"REDONDEO ALTITUD",{"$f":"IF(C7>=1300,1300,IF(AND(C7>=1250,C7<1300),1250,ROUND((C7+25)/50,0)*50))","v":1300},null,"Ávila",{"$f":"$M$1","v":"E"},{"$f":"$I$2","v":1},1054,{"$f":"$L$1","v":"D"},{"$f":"$J$2","v":2},{"$f":"$L$1","v":"D"},{"$f":"$J$2","v":2},{"$f":"$L$1","v":"D"},{"$f":"$J$2","v":2},{"$f":"$L$1","v":"D"},{"$f":"$J$2","v":2},{"$f":"$L$1","v":"D"},{"$f":"$J$2","v":2},{"$f":"$L$1","v":"D"},{"$f":"$J$2","v":2},{"$f":"$L$1","v":"D"},{"$f":"$J$2","v":2},{"$f":"$L$1","v":"D"},{"$f":"$J$2","v":2},{"$f":"$L$1","v":"D"},{"$f":"$J$2","v":2},{"$f":"$L$1","v":"D"},{"$f":"$J$2","v":2},{"$f":"$L$1","v":"D"},{"$f":"$J$2","v":2},{"$f":"$L$1","v":"D"},{"$f":"$I$2","v":1},{"$f":"$L$1","v":"D"},{"$f":"$I$2","v":1},{"$f":"$L$1","v":"D"},{"$f":"$I$2","v":1},{"$f":"$L$1","v":"D"},{"$f":"$I$2","v":1},{"$f":"$L$1","v":"D"},{"$f":"$I$2","v":1},{"$f":"$L$1","v":"D"},{"$f":"$I$2","v":1},{"$f":"$M$1","v":"E"},{"$f":"$I$2","v":1},{"$f":"$M$1","v":"E"},{"$f":"$I$2","v":1},{"$f":"$M$1","v":"E"},{"$f":"$I$2","v":1},{"$f":"$M$1","v":"E"},{"$f":"$I$2","v":1},{"$f":"$M$1","v":"E"},{"$f":"$I$2","v":1},{"$f":"$M$1","v":"E"},{"$f":"$I$2","v":1},{"$f":"$M$1","v":"E"},{"$f":"$I$2","v":1},{"$f":"$M$1","v":"E"},{"$f":"$I$2","v":1},{"$f":"$M$1","v":"E"},{"$f":"$I$2","v":1},null,null,null,null,null,null,null,null,null,null,null,null,"<50",null,null,"<550",">=550"]
[null,"Nº DE COLUMNA",{"$f":"(C8/50)*2","v":52},null,"Badajoz",{"$f":"$K$1","v":"C"},{"$f":"$L$2","v":4},168,{"$f":"$K$1","v":"C"},{"$f":"$L$2","v":4},{"$f":"$K$1","v":"C"},{"$f":"$L$2","v":4},{"$f":"$K$1","v":"C"},{"$f":"$L$2","v":4},{"$f":"$K$1","v":"C"},{"$f":"$L$2","v":4},{"$f":"$K$1","v":"C"},{"$f":"$L$2","v":4},{"$f":"$K$1","v":"C"},{"$f":"$L$2","v":4},{"$f":"$K$1","v":"C"},{"$f":"$L$2","v":4},{"$f":"$K$1","v":"C"},{"$f":"$L$2","v":4},{"$f":"$K$1","v":"C"},{"$f":"$K$2","v":3},{"$f":"$L$1","v":"D"},{"$f":"$K$2","v":3},{"$f":"$L$1","v":"D"},{"$f":"$K$2","v":3},{"$f":"$L$1","v":"D"},{"$f":"$K$2","v":3},{"$f":"$L$1","v":"D"},{"$f":"$K$2","v":3},{"$f":"$L$1","v":"D"},{"$f":"$K$2","v":3},{"$f":"$L$1","v":"D"},{"$f":"$K$2","v":3},{"$f":"$L$1","v":"D"},{"$f":"$K$2","v":3},{"$f":"$L$1","v":"D"},{"$f":"$K$2","v":3},{"$f":"$L$1","v":"D"},{"$f":"$K$2","v":3},{"$f":"$L$1","v":"D"},{"$f":"$K$2","v":3},{"$f":"$L$1","v":"D"},{"$f":"$K$2","v":3},{"$f":"$L$1","v":"D"},{"$f":"$K$2","v":3},{"$f":"$L$1","v":"D"},{"$f":"$K$2","v":3},{"$f":"$L$1","v":"D"},{"$f":"$K$2","v":3},{"$f":"$L$1","v":"D"},{"$f":"$K$2","v":3},{"$f":"$L$1","v":"D"},{"$f":"$K$2","v":3},{"$f":"$L$1","v":"D"},{"$f":"$K$2","v":3},null,null,null,null,null,null,null,null,null,null,null,null,null,null,"<550","<850",">=850"]
[null,"ZC Invierno localidad",{"$f":"IF(C5=\"\",\"\",VLOOKUP(C$5,$E:$BH,C$9+3,FALSE))","v":""},null,"Barcelona",{"$f":"$K$1","v":"C"},{"$f":"$J$2","v":2},1,{"$f":"$K$1","v":"C"},{"$f":"$J$2","v":2},{"$f":"$K$1","v":"C"},{"$f":"$J$2","v":2},{"$f":"$K$1","v":"C"},{"$f":"$J$2","v":2},{"$f":"$K$1","v":"C"},{"$f":"$J$2","v":2},{"$f":"$K$1","v":"C"},{"$f":"$J$2","v":2},{"$f":"$L$1","v":"D"},{"$f":"$J$2","v":2},{"$f":"$L$1","v":"D"},{"$f":"$J$2","v":2},{"$f":"$L$1","v":"D"},{"$f":"$J$2","v":2},{"$f":"$L$1","v":"D"},{"$f":"$J$2","v":2},{"$f":"$L$1","v":"D"},{"$f":"$I$2","v":1},{"$f":"$L$1","v":"D"},{"$f":"$I$2","v":1},{"$f":"$L$1","v":"D"},{"$f":"$I$2","v":1},{"$f":"$L$1","v":"D"},{"$f":"$I$2","v":1},{"$f":"$L$1","v":"D"},{"$f":"$I$2","v":1},{"$f":"$L$1","v":"D"},{"$f":"$I$2","v":1},{"$f":"$M$1","v":"E"},{"$f":"$I$2","v":1},{"$f":"$M$1","v":"E"},{"$f":"$I$2","v":1},{"$f":"$M$1","v":"E"},{"$f":"$I$2","v":1},{"$f":"$M$1","v":"E"},{"$f":"$I$2","v":1},{"$f":"$M$1","v":"E"},{"$f":"$I$2","v":1},{"$f":"$M$1","v":"E"},{"$f":"$I$2","v":1},{"$f":"$M$1","v":"E"},{"$f":"$I$2","v":1},{"$f":"$M$1","v":"E"},{"$f":"$I$2","v":1},{"$f":"$M$1","v":"E"},{"$f":"$I$2","v":1},{"$f":"$M$1","v":"E"},{"$f":"$I$2","v":1},{"$f":"$M$1","v":"E"},{"$f":"$I$2","v":1},null,null,null,null,null,null,null,null,null,"<400","<450",null,null,">=450"]
[null,"ZC Verano localidad",{"$f":"IF(C5=\"\",\"\",VLOOKUP(C$5,$E:$BH,C$9+4,FALSE))","v":""},null,"Bilbao",{"$f":"$K$1","v":"C"},{"$f":"$I$2","v":1},214,{"$f":"$K$1","v":"C"},{"$f":"$I$2","v":1},{"$f":"$K$1","v":"C"},{"$f":"$I$2","v":1},{"$f":"$K$1","v":"C"},{"$f":"$I$2","v":1},{"$f":"$K$1","v":"C"},{"$f":"$I$2","v":1},{"$f":"$K$1","v":"C"},{"$f":"$I$2","v":1},{"$f":"$L$1","v":"D"},{"$f":"$I$2","v":1},{"$f":"$L$1","v":"D"},{"$f":"$I$2","v":1},{"$f":"$L$1","v":"D"},{"$f":"$I$2","v":1},{"$f":"$L$1","v":"D"},{"$f":"$I$2","v":1},{"$f":"$L$1","v":"D"},{"$f":"$I$2","v":1},{"$f":"$L$1","v":"D"},{"$f":"$I$2","v":1},{"$f":"$L$1","v":"D"},{"$f":"$I$2","v":1},{"$f":"$L$1","v":"D"},{"$f":"$I$2","v":1},{"$f":"$L$1","v":"D"},{"$f":"$I$2","v":1},{"$f":"$L$1","v":"D"},{"$f":"$I$2","v":1},{"$f":"$L$1","v":"D"},{"$f":"$I$2","v":1},{"$f":"$L$1","v":"D"},{"$f":"$I$2","v":1},{"$f":"$L$1","v":"D"},{"$f":"$I$2","v":1},{"$f":"$L$1","v":"D"},{"$f":"$I$2","v":1},{"$f":"$L$1","v":"D"},{"$f":"$I$2","v":1},{"$f":"$L$1","v":"D"},{"$f":"$I$2","v":1},{"$f":"$L$1","v":"D"},{"$f":"$I$2","v":1},{"$f":"$L$1","v":"D"},{"$f":"$I$2","v":1},{"$f":"$L$1","v":"D"},{"$f":"$I$2","v":1},{"$f":"$L$1","v":"D"},{"$f":"$I$2","v":1},{"$f":"$L$1","v":"D"},{"$f":"$I$2","v":1},null,null,null,null,null,null,null,null,null,null,null,"<250",null,null,"<450","<750",">=750"]
[null,"ZONA CLIMATICA PROVINCIA",{"$f":"IF(C5=\"\",\"\",VLOOKUP(C$5,E$5:H$56,2,FALSE))","v":""},null,"Burgos","E",{"$f":"$I$2","v":1},861,{"$f":"$L$1","v":"D"},{"$f":"$I$2","v":1},"D",{"$f":"$I$2","v":1},"D",{"$f":"$I$2","v":1},"D",{"$f":"$I$2","v":1},"D",{"$f":"$I$2","v":1},"D",{"$f":"$I$2","v":1},"D",{"$f":"$I$2","v":1},"D",{"$f":"$I$2","v":1},"D",{"$f":"$I$2","v":1},{"$f":"$L$1","v":"D"},{"$f":"$I$2","v":1},{"$f":"$L$1","v":"D"},{"$f":"$I$2","v":1},{"$f":"$L$1","v":"D"},{"$f":"$I$2","v":1},{"$f":"$M$1","v":"E"},{"$f":"$I$2","v":1},{"$f":"$M$1","v":"E"},{"$f":"$I$2","v":1},{"$f":"$M$1","v":"E"},{"$f":"$I$2","v":1},{"$f":"$M$1","v":"E"},{"$f":"$I$2","v":1},{"$f":"$M$1","v":"E"},{"$f":"$I$2","v":1},{"$f":"$M$1","v":"E"},{"$f":"$I$2","v":1},{"$f":"$M$1","v":"E"},{"$f":"$I$2","v":1},{"$f":"$M$1","v":"E"},{"$f":"$I$2","v":1},{"$f":"$M$1","v":"E"},{"$f":"$I$2","v":1},{"$f":"$M$1","v":"E"},{"$f":"$I$2","v":1},{"$f":"$M$1","v":"E"},{"$f":"$I$2","v":1},{"$f":"$M$1","v":"E"},{"$f":"$I$2","v":1},{"$f":"$M$1","v":"E"},{"$f":"$I$2","v":1},{"$f":"$M$1","v":"E"},{"$f":"$I$2","v":1}]
[null,"ZONA CLIMATICA PROVINCIA",{"$f":"IF(C5=\"\",\"\",VLOOKUP(C$5,E$5:H$56,3,FALSE))","v":""},null,"Cáceres",{"$f":"$K$1","v":"C"},{"$f":"$L$2","v":4},385,{"$f":"$K$1","v":"C"},{"$f":"$L$2","v":4},{"$f":"$K$1","v":"C"},{"$f":"$L$2","v":4},{"$f":"$K$1","v":"C"},{"$f":"$L$2","v":4},{"$f":"$K$1","v":"C"},{"$f":"$L$2","v":4},{"$f":"$K$1","v":"C"},{"$f":"$L$2","v":4},{"$f":"$K$1","v":"C"},{"$f":"$L$2","v":4},{"$f":"$K$1","v":"C"},{"$f":"$L$2","v":4},{"$f":"$K$1","v":"C"},{"$f":"$L$2","v":4},{"$f":"$K$1","v":"C"},{"$f":"$L$2","v":4},{"$f":"$K$1","v":"C"},{"$f":"$L$2","v":4},{"$f":"$K$1","v":"C"},{"$f":"$L$2","v":4},{"$f":"$K$1","v":"C"},{"$f":"$L$2","v":4},{"$f":"$L$1","v":"D"},{"$f":"$K$2","v":3},{"$f":"$L$1","v":"D"},3,{"$f":"$L$1","v":"D"},3,{"$f":"$L$1","v":"D"},3,{"$f":"$L$1","v":"D"},3,{"$f":"$L$1","v":"D"},3,{"$f":"$L$1","v":"D"},3,{"$f":"$L$1","v":"D"},3,{"$f":"$L$1","v":"D"},3,{"$f":"$M$1","v":"E"},{"$f":"$I$2","v":1},{"$f":"$M$1","v":"E"},{"$f":"$I$2","v":1},{"$f":"$M$1","v":"E"},{"$f":"$I$2","v":1},{"$f":"$M$1","v":"E"},{"$f":"$I$2","v":1},{"$f":"$M$1","v":"E"},{"$f":"$I$2","v":1},null,null,null,null,null,null,null,null,null,null,null,null,null,null,null,"<600",">=600"]
[null,null,null,null,"Cádiz",{"$f":"$I$1","v":"A"},{"$f":"$K$2","v":3},0,{"$f":"$I$1","v":"A"},{"$f":"$K$2","v":3},{"$f":"$I$1","v":"A"},{"$f":"$K$2","v":3},{"$f":"$I$1","v":"A"},{"$f":"$K$2","v":3},{"$f":"$J$1","v":"B"},{"$f":"$K$2","v":3},"B",{"$f":"$K$2","v":3},"B",{"$f":"$K$2","v":3},"B",{"$f":"$K$2","v":3},"B",{"$f":"$K$2","v":3},"B",{"$f":"$K$2","v":3},{"$f":"$K$1","v":"C"},{"$f":"$K$2","v":3},{"$f":"$K$1","v":"C"},{"$f":"$K$2","v":3},{"$f":"$K$1","v":"C"},{"$f":"$K$2","v":3},{"$f":"$K$1","v":"C"},{"$f":"$J$2","v":2},"C",2,"C",2,"C",2,"C",2,{"$f":"$L$1","v":"D"},{"$f":"$J$2","v":2},{"$f":"$L$1","v":"D"},{"$f":"$J$2","v":2},{"$f":"$L$1","v":"D"},{"$f":"$J$2","v":2},{"$f":"$L$1","v":"D"},{"$f":"$J$2","v":2},{"$f":"$L$1","v":"D"},{"$f":"$J$2","v":2},{"$f":"$L$1","v":"D"},{"$f":"$J$2","v":2},{"$f":"$L$1","v":"D"},{"$f":"$J$2","v":2},{"$f":"$L$1","v":"D"},{"$f":"$J$2","v":2},{"$f":"$L$1","v":"D"},{"$f":"$J$2","v":2},null,null,null,null,null,null,null,null,null,"<600",null,null,null,"<1050",null,null,">=1050"]
[null,null,null,null,"Castellón",{"$f":"$J$1","v":"B"},{"$f":"$K$2","v":3},18,{"$f":"$J$1","v":"B"},{"$f":"$K$2","v":3},{"$f":"$K$1","v":"C"},{"$f":"$K$2","v":3},{"$f":"$K$1","v":"C"},{"$f":"$K$2","v":3},{"$f":"$K$1","v":"C"},{"$f":"$K$2","v":3},{"$f":"$K$1","v":"C"},{"$f":"$K$2","v":3},{"$f":"$K$1","v":"C"},{"$f":"$K$2","v":3},{"$f":"$K$1","v":"C"},{"$f":"$K$2","v":3},{"$f":"$K$1","v":"C"},{"$f":"$K$2","v":3},{"$f":"$K$1","v":"C"},{"$f":"$K$2","v":3},{"$f":"$K$1","v":"C"},{"$f":"$K$2","v":3},{"$f":"$L$1","v":"D"},{"$f":"$K$2","v":3},{"$f":"$L$1","v":"D"},{"$f":"$K$2","v":3},{"$f":"$L$1","v":"D"},2,{"$f":"$L$1","v":"D"},2,{"$f":"$L$1","v":"D"},2,{"$f":"$L$1","v":"D"},2,{"$f":"$L$1","v":"D"},2,{"$f":"$L$1","v":"D"},{"$f":"$J$2","v":2},{"$f":"$L$1","v":"D"},{"$f":"$J$2","v":2},{"$f":"$L$1","v":"D"},{"$f":"$J$2","v":2},{"$f":"$M$1","v":"E"},{"$f":"$I$2","v":1},{"$f":"$M$1","v":"E"},{"$f":"$I$2","v":1},{"$f":"$M$1","v":"E"},{"$f":"$I$2","v":1},{"$f":"$M$1","v":"E"},{"$f":"$I$2","v":1},{"$f":"$M$1","v":"E"},{"$f":"$I$2","v":1},{"$f":"$M$1","v":"E"},{"$f":"$I$2","v":1},null,null,null,null,null,null,null,null,null,null,null,null,"<150",null,null,"<650"]
[null,null,null,null,"Ceuta",{"$f":"$J$1","v":"B"},{"$f":"$K$2","v":3},0,{"$f":"$J$1","v":"B"},{"$f":"$K$2","v":3},{"$f":"$J$1","v":"B"},{"$f":"$K$2","v":3},{"$f":"$J$1","v":"B"},{"$f":"$K$2","v":3},{"$f":"$J$1","v":"B"},{"$f":"$K$2","v":3},{"$f":"$J$1","v":"B"},{"$f":"$K$2","v":3},{"$f":"$J$1","v":"B"},{"$f":"$K$2","v":3},{"$f":"$J$1","v":"B"},{"$f":"$K$2","v":3},{"$f":"$J$1","v":"B"},{"$f":"$K$2","v":3},{"$f":"$J$1","v":"B"},{"$f":"$K$2","v":3},"B",{"$f":"$K$2","v":3},"B",{"$f":"$K$2","v":3},"B",{"$f":"$K$2","v":3},"B",{"$f":"$K$2","v":3},"B",{"$f":"$K$2","v":3},"B",{"$f":"$K$2","v":3},"B",{"$f":"$K$2","v":3},"B",{"$f":"$K$2","v":3},"B",{"$f":"$K$2","v":3},"B",{"$f":"$K$2","v":3},"B",3,"B",3,"B",3,"B",3,"B",3,"B",3,"B",3,null,null,null,null,null,null,"<50",null,null,null,"<500",null,null,"<600","<1000",null,">=1000"]
[null,null,null,null,"Ciudad_Real",{"$f":"$L$1","v":"D"},{"$f":"$K$2","v":3},630,{"$f":"$K$1","v":"C"},{"$f":"$L$2","v":4},{"$f":"$K$1","v":"C"},{"$f":"$L$2","v":4},{"$f":"$K$1","v":"C"},{"$f":"$L$2","v":4},{"$f":"$K$1","v":"C"},{"$f":"$L$2","v":4},{"$f":"$K$1","v":"C"},{"$f":"$L$2","v":4},{"$f":"$K$1","v":"C"},{"$f":"$L$2","v":4},{"$f":"$K$1","v":"C"},{"$f":"$L$2","v":4},{"$f":"$K$1","v":"C"},{"$f":"$L$2","v":4},{"$f":"$K$1","v":"C"},{"$f":"$L$2","v":4},{"$f":"$K$1","v":"C"},{"$f":"$K$2","v":3},{"$f":"$L$1","v":"D"},{"$f":"$K$2","v":3},{"$f":"$L$1","v":"D"},{"$f":"$K$2","v":3},{"$f":"$L$1","v":"D"},{"$f":"$K$2","v":3},{"$f":"$L$1","v":"D"},{"$f":"$K$2","v":3},{"$f":"$L$1","v":"D"},{"$f":"$K$2","v":3},{"$f":"$L$1","v":"D"},{"$f":"$K$2","v":3},{"$f":"$L$1","v":"D"},{"$f":"$K$2","v":3},{"$f":"$L$1","v":"D"},{"$f":"$K$2","v":3},{"$f":"$L$1","v":"D"},3,{"$f":"$L$1","v":"D"},3,{"$f":"$L$1","v":"D"},3,{"$f":"$L$1","v":"D"},3,{"$f":"$L$1","v":"D"},3,{"$f":"$L$1","v":"D"},3,{"$f":"$L$1","v":"D"},3,{"$f":"$L$1","v":"D"},3]
[null,null,null,null,"Córdoba",{"$f":"$J$1","v":"B"},{"$f":"$L$2","v":4},113,{"$f":"$J$1","v":"B"},{"$f":"$L$2","v":4},{"$f":"$J$1","v":"B"},{"$f":"$L$2","v":4},{"$f":"$J$1","v":"B"},{"$f":"$L$2","v":4},{"$f":"$K$1","v":"C"},{"$f":"$L$2","v":4},{"$f":"$K$1","v":"C"},{"$f":"$L$2","v":4},{"$f":"$K$1","v":"C"},{"$f":"$L$2","v":4},{"$f":"$K$1","v":"C"},{"$f":"$L$2","v":4},{"$f":"$K$1","v":"C"},{"$f":"$L$2","v":4},{"$f":"$K$1","v":"C"},{"$f":"$L$2","v":4},{"$f":"$K$1","v":"C"},{"$f":"$L$2","v":4},{"$f":"$K$1","v":"C"},{"$f":"$L$2","v":4},{"$f":"$L$1","v":"D"},{"$f":"$K$2","v":3},{"$f":"$L$1","v":"D"},{"$f":"$K$2","v":3},{"$f":"$L$1","v":"D"},{"$f":"$K$2","v":3},{"$f":"$L$1","v":"D"},{"$f":"$K$2","v":3},{"$f":"$L$1","v":"D"},{"$f":"$K$2","v":3},{"$f":"$L$1","v":"D"},{"$f":"$K$2","v":3},{"$f":"$L$1","v":"D"},{"$f":"$K$2","v":3},{"$f":"$L$1","v":"D"},3,{"$f":"$L$1","v":"D"},3,{"$f":"$L$1","v":"D"},3,{"$f":"$L$1","v":"D"},3,{"$f":"$L$1","v":"D"},3,{"$f":"$L$1","v":"D"},3,{"$f":"$L$1","v":"D"},3,{"$f":"$L$1","v":"D"},3,null,null,null,null,null,null,null,null,null,"<450","<500",null,null,">=500"]
[null,"DESNIVEL",{"$f":"ROUNDUP((C7-C6)/100,0)","v":{"$error":"#VALUE!"}},null,"La_Coruña",{"$f":"$K$1","v":"C"},{"$f":"$I$2","v":1},0,{"$f":"$K$1","v":"C"},{"$f":"$I$2","v":1},{"$f":"$K$1","v":"C"},{"$f":"$I$2","v":1},{"$f":"$K$1","v":"C"},{"$f":"$I$2","v":1},{"$f":"$K$1","v":"C"},{"$f":"$I$2","v":1},{"$f":"$L$1","v":"D"},{"$f":"$I$2","v":1},{"$f":"$L$1","v":"D"},{"$f":"$I$2","v":1},{"$f":"$L$1","v":"D"},{"$f":"$I$2","v":1},{"$f":"$L$1","v":"D"},{"$f":"$I$2","v":1},{"$f":"$L$1","v":"D"},{"$f":"$I$2","v":1},{"$f":"$L$1","v":"D"},{"$f":"$I$2","v":1},{"$f":"$L$1","v":"D"},{"$f":"$I$2","v":1},{"$f":"$L$1","v":"D"},{"$f":"$I$2","v":1},{"$f":"$L$1","v":"D"},{"$f":"$I$2","v":1},{"$f":"$L$1","v":"D"},{"$f":"$I$2","v":1},{"$f":"$L$1","v":"D"},{"$f":"$I$2","v":1},{"$f":"$L$1","v":"D"},{"$f":"$I$2","v":1},{"$f":"$L$1","v":"D"},{"$f":"$I$2","v":1},{"$f":"$L$1","v":"D"},{"$f":"$I$2","v":1},{"$f":"$L$1","v":"D"},{"$f":"$I$2","v":1},{"$f":"$L$1","v":"D"},{"$f":"$I$2","v":1},{"$f":"$L$1","v":"D"},{"$f":"$I$2","v":1},{"$f":"$L$1","v":"D"},{"$f":"$I$2","v":1},{"$f":"$L$1","v":"D"},{"$f":"$I$2","v":1},{"$f":"$L$1","v":"D"},{"$f":"$I$2","v":1},{"$f":"$L$1","v":"D"},{"$f":"$I$2","v":1},{"$f":"$L$1","v":"D"},{"$f":"$I$2","v":1},null,null,null,null,null,"<150",null,null,null,"<550",null,null,null,">=550"]
[null,"CORRECCION ZONA CLIMATICA",{"$f":"3+IF(C19>10,5,IF(C19>8,4,IF(C19>6,3,IF(C19>4,2,IF(C19>2,1,IF(C19>0,0,0))))))","v":{"$error":"#VALUE!"}},null,"Cuenca",{"$f":"$L$1","v":"D"},{"$f":"$J$2","v":2},975,{"$f":"$L$1","v":"D"},{"$f":"$K$2","v":3},{"$f":"$L$1","v":"D"},3,{"$f":"$L$1","v":"D"},3,{"$f":"$L$1","v":"D"},3,{"$f":"$L$1","v":"D"},3,{"$f":"$L$1","v":"D"},3,{"$f":"$L$1","v":"D"},3,{"$f":"$L$1","v":"D"},3,{"$f":"$L$1","v":"D"},3,{"$f":"$L$1","v":"D"},3,{"$f":"$L$1","v":"D"},3,{"$f":"$L$1","v":"D"},3,{"$f":"$L$1","v":"D"},3,{"$f":"$L$1","v":"D"},3,{"$f":"$L$1","v":"D"},3,{"$f":"$L$1","v":"D"},3,{"$f":"$L$1","v":"D"},{"$f":"$J$2","v":2},{"$f":"$L$1","v":"D"},2,{"$f":"$L$1","v":"D"},2,{"$f":"$L$1","v":"D"},2,{"$f":"$L$1","v":"D"},2,{"$f":"$M$1","v":"E"},{"$f":"$I$2","v":1},"E",{"$f":"$I$2","v":1},"E",{"$f":"$I$2","v":1},"E",{"$f":"$I$2","v":1},"E",{"$f":"$I$2","v":1}]
[null,null,null,null,"Gerona",{"$f":"$L$1","v":"D"},{"$f":"$J$2","v":2},143,{"$f":"$K$1","v":"C"},{"$f":"$J$2","v":2},{"$f":"$K$1","v":"C"},{"$f":"$J$2","v":2},{"$f":"$L$1","v":"D"},{"$f":"$J$2","v":2},{"$f":"$L$1","v":"D"},{"$f":"$J$2","v":2},{"$f":"$L$1","v":"D"},{"$f":"$J$2","v":2},{"$f":"$L$1","v":"D"},{"$f":"$J$2","v":2},{"$f":"$L$1","v":"D"},{"$f":"$J$2","v":2},{"$f":"$L$1","v":"D"},{"$f":"$J$2","v":2},{"$f":"$L$1","v":"D"},{"$f":"$J$2","v":2},{"$f":"$L$1","v":"D"},{"$f":"$J$2","v":2},{"$f":"$L$1","v":"D"},{"$f":"$J$2","v":2},{"$f":"$L$1","v":"D"},{"$f":"$J$2","v":2},{"$f":"$M$1","v":"E"},{"$f":"$I$2","v":1},{"$f":"$M$1","v":"E"},{"$f":"$I$2","v":1},{"$f":"$M$1","v":"E"},{"$f":"$I$2","v":1},{"$f":"$M$1","v":"E"},{"$f":"$I$2","v":1},{"$f":"$M$1","v":"E"},{"$f":"$I$2","v":1},{"$f":"$M$1","v":"E"},{"$f":"$I$2","v":1},{"$f":"$M$1","v":"E"},{"$f":"$I$2","v":1},{"$f":"$M$1","v":"E"},{"$f":"$I$2","v":1},{"$f":"$M$1","v":"E"},{"$f":"$I$2","v":1},{"$f":"$M$1","v":"E"},{"$f":"$I$2","v":1},{"$f":"$M$1","v":"E"},{"$f":"$I$2","v":1},{"$f":"$M$1","v":"E"},{"$f":"$I$2","v":1},{"$f":"$M$1","v":"E"},{"$f":"$I$2","v":1},{"$f":"$M$1","v":"E"},{"$f":"$I$2","v":1},null,null,null,null,null,null,null,null,null,null,null,null,"<200",null,null,">=200"]
[null,null,null,null,"Granada",{"$f":"$K$1","v":"C"},{"$f":"$K$2","v":3},754,{"$f":"$I$1","v":"A"},{"$f":"$L$2","v":4},{"$f":"$J$1","v":"B"},{"$f":"$L$2","v":4},{"$f":"$J$1","v":"B"},{"$f":"$L$2","v":4},{"$f":"$J$1","v":"B"},{"$f":"$L$2","v":4},{"$f":"$J$1","v":"B"},{"$f":"$L$2","v":4},{"$f":"$J$1","v":"B"},{"$f":"$L$2","v":4},{"$f":"$J$1","v":"B"},{"$f":"$L$2","v":4},{"$f":"$K$1","v":"C"},{"$f":"$L$2","v":4},"C",4,"C",4,"C",4,"C",4,{"$f":"$K$1","v":"C"},{"$f":"$K$2","v":3},"C",3,"C",3,"C",3,{"$f":"$L$1","v":"D"},{"$f":"$K$2","v":3},{"$f":"$L$1","v":"D"},3,{"$f":"$L$1","v":"D"},3,{"$f":"$L$1","v":"D"},3,{"$f":"$L$1","v":"D"},3,{"$f":"$L$1","v":"D"},3,{"$f":"$L$1","v":"D"},3,{"$f":"$L$1","v":"D"},3,{"$f":"$L$1","v":"D"},3,{"$f":"$M$1","v":"E"},{"$f":"$I$2","v":1},null,null,null,null,null,null,null,null,null,null,null,null,null,"<800","<1050",null,">=1050"]
[null,null,null,null,"Guadalajara",{"$f":"$L$1","v":"D"},{"$f":"$K$2","v":3},708,{"$f":"$L$1","v":"D"},{"$f":"$K$2","v":3},{"$f":"$L$1","v":"D"},{"$f":"$K$2","v":3},{"$f":"$L$1","v":"D"},{"$f":"$K$2","v":3},{"$f":"$L$1","v":"D"},{"$f":"$K$2","v":3},{"$f":"$L$1","v":"D"},{"$f":"$K$2","v":3},{"$f":"$L$1","v":"D"},{"$f":"$K$2","v":3},{"$f":"$L$1","v":"D"},{"$f":"$K$2","v":3},{"$f":"$L$1","v":"D"},{"$f":"$K$2","v":3},{"$f":"$L$1","v":"D"},{"$f":"$K$2","v":3},{"$f":"$L$1","v":"D"},{"$f":"$K$2","v":3},{"$f":"$L$1","v":"D"},{"$f":"$K$2","v":3},{"$f":"$L$1","v":"D"},{"$f":"$K$2","v":3},{"$f":"$L$1","v":"D"},{"$f":"$K$2","v":3},{"$f":"$L$1","v":"D"},{"$f":"$K$2","v":3},{"$f":"$L$1","v":"D"},{"$f":"$K$2","v":3},{"$f":"$L$1","v":"D"},{"$f":"$K$2","v":3},{"$f":"$L$1","v":"D"},{"$f":"$K$2","v":3},{"$f":"$L$1","v":"D"},{"$f":"$K$2","v":3},{"$f":"$L$1","v":"D"},{"$f":"$K$2","v":3},{"$f":"$L$1","v":"D"},{"$f":"$J$2","v":2},{"$f":"$M$1","v":"E"},{"$f":"$I$2","v":1},{"$f":"$M$1","v":"E"},{"$f":"$I$2","v":1},{"$f":"$M$1","v":"E"},{"$f":"$I$2","v":1},{"$f":"$M$1","v":"E"},{"$f":"$I$2","v":1},{"$f":"$M$1","v":"E"},{"$f":"$I$2","v":1},{"$f":"$M$1","v":"E"},{"$f":"$I$2","v":1},null,null,null,null,null,null,null,null,null,null,null,"<100",null,null,"<600",null,">=600"]
[null,null,null,null,"Huelva",{"$f":"$I$1","v":"A"},{"$f":"$L$2","v":4},50,{"$f":"$I$1","v":"A"},{"$f":"$L$2","v":4},{"$f":"$J$1","v":"B"},{"$f":"$L$2","v":4},{"$f":"$J$1","v":"B"},{"$f":"$L$2","v":4},{"$f":"$J$1","v":"B"},{"$f":"$K$2","v":3},"B",{"$f":"$K$2","v":3},"B",{"$f":"$K$2","v":3},"B",{"$f":"$K$2","v":3},{"$f":"$K$1","v":"C"},{"$f":"$K$2","v":3},"C",{"$f":"$K$2","v":3},"C",{"$f":"$K$2","v":3},"C",{"$f":"$K$2","v":3},"C",{"$f":"$K$2","v":3},"C",{"$f":"$K$2","v":3},"C",{"$f":"$K$2","v":3},"C",{"$f":"$K$2","v":3},"C",{"$f":"$K$2","v":3},{"$f":"$L$1","v":"D"},{"$f":"$K$2","v":3},{"$f":"$L$1","v":"D"},{"$f":"$K$2","v":3},{"$f":"$L$1","v":"D"},{"$f":"$K$2","v":3},{"$f":"$L$1","v":"D"},{"$f":"$K$2","v":3},{"$f":"$L$1","v":"D"},3,{"$f":"$L$1","v":"D"},3,{"$f":"$L$1","v":"D"},3,{"$f":"$L$1","v":"D"},3,{"$f":"$L$1","v":"D"},3,{"$f":"$L$1","v":"D"},3,null,null,null,null,null,null,null,null,null,null,null,null,null,"<950","<1000",null,">=1000"]
[null,null,null,null,"Huesca",{"$f":"$L$1","v":"D"},{"$f":"$J$2","v":2},432,{"$f":"$K$1","v":"C"},{"$f":"$K$2","v":3},"C",3,"C",3,"C",3,{"$f":"$L$1","v":"D"},{"$f":"$K$2","v":3},{"$f":"$L$1","v":"D"},{"$f":"$K$2","v":3},{"$f":"$L$1","v":"D"},{"$f":"$K$2","v":3},{"$f":"$L$1","v":"D"},{"$f":"$K$2","v":3},{"$f":"$L$1","v":"D"},{"$f":"$J$2","v":2},"D",2,"D",2,"D",2,"D",2,"D",2,{"$f":"$M$1","v":"E"},{"$f":"$I$2","v":1},{"$f":"$M$1","v":"E"},{"$f":"$I$2","v":1},{"$f":"$M$1","v":"E"},{"$f":"$I$2","v":1},{"$f":"$M$1","v":"E"},{"$f":"$I$2","v":1},{"$f":"$M$1","v":"E"},{"$f":"$I$2","v":1},{"$f":"$M$1","v":"E"},{"$f":"$I$2","v":1},{"$f":"$M$1","v":"E"},{"$f":"$I$2","v":1},{"$f":"$M$1","v":"E"},{"$f":"$I$2","v":1},{"$f":"$M$1","v":"E"},{"$f":"$I$2","v":1},{"$f":"$M$1","v":"E"},{"$f":"$I$2","v":1},{"$f":"$M$1","v":"E"},{"$f":"$I$2","v":1},{"$f":"$M$1","v":"E"},{"$f":"$I$2","v":1},null,null,null,null,null,null,null,null,null,null,null,null,null,null,null,"<400",">=400"]
[null,null,null,null,"Jaén",{"$f":"$K$1","v":"C"},{"$f":"$L$2","v":4},436,{"$f":"$J$1","v":"B"},{"$f":"$L$2","v":4},{"$f":"$J$1","v":"B"},{"$f":"$L$2","v":4},{"$f":"$J$1","v":"B"},{"$f":"$L$2","v":4},{"$f":"$J$1","v":"B"},{"$f":"$L$2","v":4},{"$f":"$J$1","v":"B"},{"$f":"$L$2","v":4},{"$f":"$J$1","v":"B"},{"$f":"$L$2","v":4},{"$f":"$J$1","v":"B"},{"$f":"$L$2","v":4},{"$f":"$K$1","v":"C"},{"$f":"$L$2","v":4},"C",4,"C",4,"C",4,"C",4,"C",4,"C",4,"C",4,{"$f":"$L$1","v":"D"},{"$f":"$K$2","v":3},"D",3,"D",3,"D",3,"D",3,"D",3,"D",3,"D",3,"D",3,{"$f":"$M$1","v":"E"},{"$f":"$I$2","v":1},{"$f":"$M$1","v":"E"},{"$f":"$I$2","v":1},null,null,null,null,null,null,null,null,null,null,"<200",null,null,"<400","<700",null,">=700"]
[null,null,null,null,"León",{"$f":"$M$1","v":"E"},{"$f":"$I$2","v":1},346,{"$f":"$M$1","v":"E"},{"$f":"$I$2","v":1},{"$f":"$M$1","v":"E"},{"$f":"$I$2","v":1},{"$f":"$M$1","v":"E"},{"$f":"$I$2","v":1},{"$f":"$M$1","v":"E"},{"$f":"$I$2","v":1},{"$f":"$M$1","v":"E"},{"$f":"$I$2","v":1},{"$f":"$M$1","v":"E"},{"$f":"$I$2","v":1},{"$f":"$M$1","v":"E"},{"$f":"$I$2","v":1},{"$f":"$M$1","v":"E"},{"$f":"$I$2","v":1},{"$f":"$M$1","v":"E"},{"$f":"$I$2","v":1},{"$f":"$M$1","v":"E"},{"$f":"$I$2","v":1},{"$f":"$M$1","v":"E"},{"$f":"$I$2","v":1},{"$f":"$M$1","v":"E"},{"$f":"$I$2","v":1},{"$f":"$M$1","v":"E"},{"$f":"$I$2","v":1},{"$f":"$M$1","v":"E"},{"$f":"$I$2","v":1},{"$f":"$M$1","v":"E"},{"$f":"$I$2","v":1},{"$f":"$M$1","v":"E"},{"$f":"$I$2","v":1},{"$f":"$M$1","v":"E"},{"$f":"$I$2","v":1},{"$f":"$M$1","v":"E"},{"$f":"$I$2","v":1},{"$f":"$M$1","v":"E"},{"$f":"$I$2","v":1},{"$f":"$M$1","v":"E"},{"$f":"$I$2","v":1},{"$f":"$M$1","v":"E"},{"$f":"$I$2","v":1},{"$f":"$M$1","v":"E"},{"$f":"$I$2","v":1},{"$f":"$M$1","v":"E"},{"$f":"$I$2","v":1},{"$f":"$M$1","v":"E"},{"$f":"$I$2","v":1},{"$f":"$M$1","v":"E"},{"$f":"$I$2","v":1},{"$f":"$M$1","v":"E"},{"$f":"$I$2","v":1},null,null,"<350","<750",null,null,null,"<1000",null,null,null,">=1000"]
[null,null,null,null,"Lérida",{"$f":"$L$1","v":"D"},{"$f":"$K$2","v":3},131,{"$f":"$K$1","v":"C"},{"$f":"$K$2","v":3},{"$f":"$K$1","v":"C"},{"$f":"$K$2","v":3},{"$f":"$L$1","v":"D"},{"$f":"$K$2","v":3},{"$f":"$L$1","v":"D"},3,{"$f":"$L$1","v":"D"},3,{"$f":"$L$1","v":"D"},3,{"$f":"$L$1","v":"D"},3,{"$f":"$L$1","v":"D"},3,{"$f":"$L$1","v":"D"},3,{"$f":"$L$1","v":"D"},3,{"$f":"$L$1","v":"D"},3,{"$f":"$L$1","v":"D"},3,{"$f":"$M$1","v":"E"},{"$f":"$I$2","v":1},{"$f":"$M$1","v":"E"},{"$f":"$I$2","v":1},{"$f":"$M$1","v":"E"},{"$f":"$I$2","v":1},{"$f":"$M$1","v":"E"},{"$f":"$I$2","v":1},{"$f":"$M$1","v":"E"},{"$f":"$I$2","v":1},{"$f":"$M$1","v":"E"},{"$f":"$I$2","v":1},{"$f":"$M$1","v":"E"},{"$f":"$I$2","v":1},{"$f":"$M$1","v":"E"},{"$f":"$I$2","v":1},{"$f":"$M$1","v":"E"},{"$f":"$I$2","v":1},{"$f":"$M$1","v":"E"},{"$f":"$I$2","v":1},{"$f":"$M$1","v":"E"},{"$f":"$I$2","v":1},{"$f":"$M$1","v":"E"},{"$f":"$I$2","v":1},{"$f":"$M$1","v":"E"},{"$f":"$I$2","v":1},{"$f":"$M$1","v":"E"},{"$f":"$I$2","v":1},null,null,null,null,null,null,null,null,null,null,null,null,null,null,null,null,"<1250"]
[null,null,null,null,"Logroño",{"$f":"$L$1","v":"D"},{"$f":"$J$2","v":2},379,{"$f":"$K$1","v":"C"},{"$f":"$J$2","v":2},{"$f":"$K$1","v":"C"},2,{"$f":"$K$1","v":"C"},2,{"$f":"$K$1","v":"C"},2,{"$f":"$L$1","v":"D"},{"$f":"$J$2","v":2},{"$f":"$L$1","v":"D"},2,{"$f":"$L$1","v":"D"},2,{"$f":"$L$1","v":"D"},2,{"$f":"$L$1","v":"D"},2,{"$f":"$L$1","v":"D"},2,{"$f":"$L$1","v":"D"},2,{"$f":"$L$1","v":"D"},2,{"$f":"$L$1","v":"D"},2,{"$f":"$L$1","v":"D"},2,{"$f":"$M$1","v":"E"},{"$f":"$I$2","v":1},{"$f":"$M$1","v":"E"},{"$f":"$I$2","v":1},{"$f":"$M$1","v":"E"},{"$f":"$I$2","v":1},{"$f":"$M$1","v":"E"},{"$f":"$I$2","v":1},{"$f":"$M$1","v":"E"},{"$f":"$I$2","v":1},{"$f":"$M$1","v":"E"},{"$f":"$I$2","v":1},{"$f":"$M$1","v":"E"},{"$f":"$I$2","v":1},{"$f":"$M$1","v":"E"},{"$f":"$I$2","v":1},{"$f":"$M$1","v":"E"},{"$f":"$I$2","v":1},{"$f":"$M$1","v":"E"},{"$f":"$I$2","v":1},{"$f":"$M$1","v":"E"},{"$f":"$I$2","v":1},{"$f":"$M$1","v":"E"},{"$f":"$I$2","v":1},null,null,null,null,null,null,null,null,null,null,"<100",null,null,"<600",null,null,">=600"]
[null,null,null,null,"Lugo",{"$f":"$L$1","v":"D"},{"$f":"$I$2","v":1},412,{"$f":"$L$1","v":"D"},{"$f":"$I$2","v":1},"D",1,"D",1,"D",1,"D",1,"D",1,"D",1,"D",1,"D",1,"D",1,{"$f":"$M$1","v":"E"},{"$f":"$I$2","v":1},"E",1,"E",1,"E",1,"E",1,"E",1,"E",1,"E",1,"E",1,"E",1,"E",1,"E",1,"E",1,"E",1,"E",1,"E",1]
[null,null,null,null,"Madrid",{"$f":"$L$1","v":"D"},{"$f":"$K$2","v":3},589,{"$f":"$K$1","v":"C"},{"$f":"$K$2","v":3},{"$f":"$K$1","v":"C"},{"$f":"$K$2","v":3},{"$f":"$K$1","v":"C"},{"$f":"$K$2","v":3},{"$f":"$K$1","v":"C"},{"$f":"$K$2","v":3},{"$f":"$K$1","v":"C"},{"$f":"$K$2","v":3},{"$f":"$K$1","v":"C"},{"$f":"$K$2","v":3},{"$f":"$K$1","v":"C"},{"$f":"$K$2","v":3},{"$f":"$K$1","v":"C"},{"$f":"$K$2","v":3},{"$f":"$K$1","v":"C"},{"$f":"$K$2","v":3},{"$f":"$K$1","v":"C"},{"$f":"$K$2","v":3},{"$f":"$L$1","v":"D"},{"$f":"$K$2","v":3},{"$f":"$L$1","v":"D"},3,{"$f":"$L$1","v":"D"},3,{"$f":"$L$1","v":"D"},3,{"$f":"$L$1","v":"D"},3,{"$f":"$L$1","v":"D"},3,{"$f":"$L$1","v":"D"},3,{"$f":"$L$1","v":"D"},3,{"$f":"$L$1","v":"D"},3,{"$f":"$L$1","v":"D"},{"$f":"$J$2","v":2},{"$f":"$M$1","v":"E"},{"$f":"$I$2","v":1},{"$f":"$M$1","v":"E"},{"$f":"$I$2","v":1},{"$f":"$M$1","v":"E"},{"$f":"$I$2","v":1},{"$f":"$M$1","v":"E"},{"$f":"$I$2","v":1},{"$f":"$M$1","v":"E"},{"$f":"$I$2","v":1},{"$f":"$M$1","v":"E"},{"$f":"$I$2","v":1},null,null,null,null,null,null,null,null,null,null,null,null,null,null,null,"<500",">=500"]
[null,null,null,null,"Málaga",{"$f":"$I$1","v":"A"},{"$f":"$K$2","v":3},0,{"$f":"$J$1","v":"B"},{"$f":"$K$2","v":3},"B",{"$f":"$K$2","v":3},"B",{"$f":"$K$2","v":3},"B",{"$f":"$K$2","v":3},"B",{"$f":"$K$2","v":3},"B",{"$f":"$K$2","v":3},{"$f":"$K$1","v":"C"},{"$f":"$K$2","v":3},{"$f":"$K$1","v":"C"},{"$f":"$K$2","v":3},{"$f":"$K$1","v":"C"},{"$f":"$K$2","v":3},{"$f":"$K$1","v":"C"},{"$f":"$K$2","v":3},{"$f":"$K$1","v":"C"},3,"C",3,"C",3,"C",3,{"$f":"$L$1","v":"D"},3,{"$f":"$L$1","v":"D"},3,{"$f":"$L$1","v":"D"},3,{"$f":"$L$1","v":"D"},3,{"$f":"$L$1","v":"D"},3,{"$f":"$L$1","v":"D"},{"$f":"$K$2","v":3},{"$f":"$L$1","v":"D"},3,{"$f":"$L$1","v":"D"},3,{"$f":"$L$1","v":"D"},3,"D",3,"D",3,"D",3,null,null,null,null,null,null,null,null,null,null,"<500",null,null,"<950","<1000",null,">=1000"]
[null,null,null,null,"Melilla",{"$f":"$I$1","v":"A"},{"$f":"$K$2","v":3},130,{"$f":"$I$1","v":"A"},{"$f":"$K$2","v":3},"A",{"$f":"$K$2","v":3},"A",{"$f":"$K$2","v":3},"A",{"$f":"$K$2","v":3},"A",{"$f":"$K$2","v":3},"A",{"$f":"$K$2","v":3},"A",{"$f":"$K$2","v":3},"A",{"$f":"$K$2","v":3},"A",{"$f":"$K$2","v":3},"A",{"$f":"$K$2","v":3},"A",3,"A",3,"A",3,"A",3,"A",3,"A",3,"A",3,"A",3,"A",3,"A",3,"A",3,"A",3,"A",3,"A",3,"A",3,"A",3,null,null,null,null,null,null,"<300",null,null,null,"<700",null,null,">=700"]
[null,null,null,null,"Murcia",{"$f":"$J$1","v":"B"},{"$f":"$K$2","v":3},25,{"$f":"$J$1","v":"B"},{"$f":"$K$2","v":3},{"$f":"$J$1","v":"B"},{"$f":"$K$2","v":3},{"$f":"$K$1","v":"C"},{"$f":"$K$2","v":3},{"$f":"$K$1","v":"C"},{"$f":"$K$2","v":3},{"$f":"$K$1","v":"C"},{"$f":"$K$2","v":3},{"$f":"$K$1","v":"C"},{"$f":"$K$2","v":3},{"$f":"$K$1","v":"C"},{"$f":"$K$2","v":3},{"$f":"$K$1","v":"C"},{"$f":"$K$2","v":3},{"$f":"$K$1","v":"C"},{"$f":"$K$2","v":3},{"$f":"$K$1","v":"C"},{"$f":"$K$2","v":3},{"$f":"$K$1","v":"C"},3,{"$f":"$L$1","v":"D"},3,"D",3,"D",3,"D",3,"D",3,"D",3,"D",3,"D",3,"D",3,"D",3,"D",3,"D",3,"D",3,"D",3,"D",3]
[null,null,null,null,"Orense",{"$f":"$L$1","v":"D"},{"$f":"$J$2","v":2},327,{"$f":"$K$1","v":"C"},{"$f":"$K$2","v":3},{"$f":"$K$1","v":"C"},{"$f":"$K$2","v":3},{"$f":"$K$1","v":"C"},{"$f":"$K$2","v":3},{"$f":"$K$1","v":"C"},{"$f":"$J$2","v":2},{"$f":"$K$1","v":"C"},{"$f":"$J$2","v":2},{"$f":"$K$1","v":"C"},{"$f":"$J$2","v":2},{"$f":"$L$1","v":"D"},{"$f":"$J$2","v":2},"D",2,"D",2,"D",2,"D",2,"D",2,"D",2,"D",2,"D",2,"D",2,{"$f":"$M$1","v":"E"},{"$f":"$I$2","v":1},"E",1,"E",1,"E",1,"E",1,"E",1,"E",1,"E",1,"E",1,"E",1,null,null,null,null,null,null,null,null,null,null,null,"<100",null,null,"<300","<600",">=600"]
[null,null,null,null,"Oviedo",{"$f":"$L$1","v":"D"},{"$f":"$I$2","v":1},214,{"$f":"$K$1","v":"C"},{"$f":"$I$2","v":1},{"$f":"$L$1","v":"D"},{"$f":"$I$2","v":1},{"$f":"$L$1","v":"D"},{"$f":"$I$2","v":1},{"$f":"$L$1","v":"D"},{"$f":"$I$2","v":1},{"$f":"$L$1","v":"D"},{"$f":"$I$2","v":1},{"$f":"$L$1","v":"D"},{"$f":"$I$2","v":1},{"$f":"$L$1","v":"D"},{"$f":"$I$2","v":1},{"$f":"$L$1","v":"D"},{"$f":"$I$2","v":1},{"$f":"$L$1","v":"D"},{"$f":"$I$2","v":1},{"$f":"$L$1","v":"D"},{"$f":"$I$2","v":1},{"$f":"$L$1","v":"D"},{"$f":"$I$2","v":1},{"$f":"$M$1","v":"E"},{"$f":"$I$2","v":1},{"$f":"$M$1","v":"E"},{"$f":"$I$2","v":1},{"$f":"$M$1","v":"E"},{"$f":"$I$2","v":1},{"$f":"$M$1","v":"E"},{"$f":"$I$2","v":1},{"$f":"$M$1","v":"E"},{"$f":"$I$2","v":1},{"$f":"$M$1","v":"E"},{"$f":"$I$2","v":1},{"$f":"$M$1","v":"E"},{"$f":"$I$2","v":1},{"$f":"$M$1","v":"E"},{"$f":"$I$2","v":1},{"$f":"$M$1","v":"E"},{"$f":"$I$2","v":1},{"$f":"$M$1","v":"E"},{"$f":"$I$2","v":1},{"$f":"$M$1","v":"E"},{"$f":"$I$2","v":1},{"$f":"$M$1","v":"E"},{"$f":"$I$2","v":1},{"$f":"$M$1","v":"E"},{"$f":"$I$2","v":1},{"$f":"$M$1","v":"E"},{"$f":"$I$2","v":1},{"$f":"$M$1","v":"E"},{"$f":"$I$2","v":1},null,null,null,null,null,null,null,null,null,null,"<150","<300",null,null,"<800",null,">=800"]
[null,null,null,null,"Palencia",{"$f":"$L$1","v":"D"},{"$f":"$I$2","v":1},722,{"$f":"$L$1","v":"D"},{"$f":"$I$2","v":1},{"$f":"$L$1","v":"D"},{"$f":"$I$2","v":1},{"$f":"$L$1","v":"D"},{"$f":"$I$2","v":1},{"$f":"$L$1","v":"D"},{"$f":"$I$2","v":1},{"$f":"$L$1","v":"D"},{"$f":"$I$2","v":1},{"$f":"$L$1","v":"D"},{"$f":"$I$2","v":1},{"$f":"$L$1","v":"D"},{"$f":"$I$2","v":1},{"$f":"$L$1","v":"D"},{"$f":"$I$2","v":1},{"$f":"$L$1","v":"D"},{"$f":"$I$2","v":1},{"$f":"$L$1","v":"D"},{"$f":"$I$2","v":1},{"$f":"$L$1","v":"D"},{"$f":"$I$2","v":1},{"$f":"$L$1","v":"D"},{"$f":"$I$2","v":1},"D",{"$f":"$I$2","v":1},"D",{"$f":"$I$2","v":1},"D",{"$f":"$I$2","v":1},"D",{"$f":"$I$2","v":1},{"$f":"$M$1","v":"E"},{"$f":"$I$2","v":1},{"$f":"$M$1","v":"E"},{"$f":"$I$2","v":1},{"$f":"$M$1","v":"E"},{"$f":"$I$2","v":1},{"$f":"$M$1","v":"E"},{"$f":"$I$2","v":1},{"$f":"$M$1","v":"E"},{"$f":"$I$2","v":1},{"$f":"$M$1","v":"E"},{"$f":"$I$2","v":1},{"$f":"$M$1","v":"E"},{"$f":"$I$2","v":1},{"$f":"$M$1","v":"E"},{"$f":"$I$2","v":1},{"$f":"$M$1","v":"E"},{"$f":"$I$2","v":1},{"$f":"$M$1","v":"E"},{"$f":"$I$2","v":1}]
[null,null,null,null,"Las_Palmas_de_Gran_Canaria","Alfa",{"$f":"$K$2","v":3},114,{"$f":"$F$59","v":"Alfa"},{"$f":"$K$2","v":3},{"$f":"$F$59","v":"Alfa"},{"$f":"$K$2","v":3},{"$f":"$F$59","v":"Alfa"},{"$f":"$K$2","v":3},{"$f":"$F$59","v":"Alfa"},{"$f":"$K$2","v":3},{"$f":"$F$59","v":"Alfa"},{"$f":"$K$2","v":3},{"$f":"$F$59","v":"Alfa"},{"$f":"$K$2","v":3},{"$f":"$F$59","v":"Alfa"},{"$f":"$K$2","v":3},{"$f":"$I$1","v":"A"},{"$f":"$J$2","v":2},"A",2,"A",2,"A",2,"A",2,"A",2,"A",2,"A",2,{"$f":"$J$1","v":"B"},{"$f":"$J$2","v":2},{"$f":"$J$1","v":"B"},2,{"$f":"$J$1","v":"B"},2,{"$f":"$J$1","v":"B"},2,{"$f":"$J$1","v":"B"},2,{"$f":"$K$1","v":"C"},{"$f":"$J$2","v":2},"C",{"$f":"$J$2","v":2},"C",{"$f":"$J$2","v":2},"C",{"$f":"$J$2","v":2},"C",{"$f":"$J$2","v":2},"C",{"$f":"$J$2","v":2},null,null,null,null,null,null,null,null,null,null,null,null,null,null,null,"<800",">=800"]
[null,null,null,null,"Palma_de_Mallorca",{"$f":"$J$1","v":"B"},{"$f":"$K$2","v":3},1,{"$f":"$J$1","v":"B"},{"$f":"$K$2","v":3},"B",3,"B",3,"B",3,"B",3,{"$f":"$K$1","v":"C"},{"$f":"$K$2","v":3},{"$f":"$K$1","v":"C"},3,{"$f":"$K$1","v":"C"},3,{"$f":"$K$1","v":"C"},3,{"$f":"$K$1","v":"C"},3,{"$f":"$K$1","v":"C"},3,"C",3,"C",3,"C",3,"C",3,"C",3,"C",3,"C",3,"C",3,"C",3,"C",3,"C",3,"C",3,"C",3,"C",3,"C",3]
[null,null,null,null,"Pamplona",{"$f":"$L$1","v":"D"},{"$f":"$I$2","v":1},456,{"$f":"$K$1","v":"C"},{"$f":"$J$2","v":2},{"$f":"$K$1","v":"C"},{"$f":"$J$2","v":2},{"$f":"$L$1","v":"D"},{"$f":"$J$2","v":2},"D",2,"D",2,"D",2,{"$f":"$L$1","v":"D"},{"$f":"$I$2","v":1},{"$f":"$L$1","v":"D"},{"$f":"$I$2","v":1},{"$f":"$L$1","v":"D"},{"$f":"$I$2","v":1},{"$f":"$L$1","v":"D"},{"$f":"$I$2","v":1},{"$f":"$L$1","v":"D"},{"$f":"$I$2","v":1},{"$f":"$L$1","v":"D"},{"$f":"$I$2","v":1},{"$f":"$M$1","v":"E"},{"$f":"$I$2","v":1},{"$f":"$M$1","v":"E"},{"$f":"$I$2","v":1},{"$f":"$M$1","v":"E"},{"$f":"$I$2","v":1},{"$f":"$M$1","v":"E"},{"$f":"$I$2","v":1},{"$f":"$M$1","v":"E"},{"$f":"$I$2","v":1},{"$f":"$M$1","v":"E"},{"$f":"$I$2","v":1},{"$f":"$M$1","v":"E"},{"$f":"$I$2","v":1},{"$f":"$M$1","v":"E"},{"$f":"$I$2","v":1},{"$f":"$M$1","v":"E"},{"$f":"$I$2","v":1},{"$f":"$M$1","v":"E"},{"$f":"$I$2","v":1},{"$f":"$M$1","v":"E"},{"$f":"$I$2","v":1},{"$f":"$M$1","v":"E"},{"$f":"$I$2","v":1},{"$f":"$M$1","v":"E"},{"$f":"$I$2","v":1},{"$f":"$M$1","v":"E"},{"$f":"$I$2","v":1}]
[null,null,null,null,"Pontevedra",{"$f":"$K$1","v":"C"},{"$f":"$I$2","v":1},77,{"$f":"$K$1","v":"C"},{"$f":"$I$2","v":1},{"$f":"$K$1","v":"C"},1,{"$f":"$K$1","v":"C"},1,{"$f":"$K$1","v":"C"},1,{"$f":"$K$1","v":"C"},1,{"$f":"$K$1","v":"C"},1,{"$f":"$K$1","v":"C"},1,{"$f":"$L$1","v":"D"},{"$f":"$I$2","v":1},{"$f":"$L$1","v":"D"},{"$f":"$I$2","v":1},{"$f":"$L$1","v":"D"},{"$f":"$I$2","v":1},{"$f":"$L$1","v":"D"},{"$f":"$I$2","v":1},{"$f":"$L$1","v":"D"},{"$f":"$I$2","v":1},{"$f":"$L$1","v":"D"},{"$f":"$I$2","v":1},{"$f":"$L$1","v":"D"},{"$f":"$I$2","v":1},{"$f":"$L$1","v":"D"},{"$f":"$I$2","v":1},{"$f":"$L$1","v":"D"},{"$f":"$I$2","v":1},{"$f":"$L$1","v":"D"},{"$f":"$I$2","v":1},{"$f":"$L$1","v":"D"},{"$f":"$I$2","v":1},{"$f":"$L$1","v":"D"},{"$f":"$I$2","v":1},{"$f":"$L$1","v":"D"},{"$f":"$I$2","v":1},"D",{"$f":"$I$2","v":1},"D",{"$f":"$I$2","v":1},"D",{"$f":"$I$2","v":1},"D",{"$f":"$I$2","v":1},"D",{"$f":"$I$2","v":1},"D",{"$f":"$I$2","v":1},null,null,null,null,null,null,null,null,null,null,null,null,"<350",null,null,">=350"]
[null,null,null,null,"Salamanca",{"$f":"$L$1","v":"D"},{"$f":"$J$2","v":2},770,{"$f":"$L$1","v":"D"},{"$f":"$J$2","v":2},"D",2,"D",2,"D",2,"D",2,"D",2,"D",2,"D",2,"D",2,"D",2,"D",2,"D",2,"D",2,"D",2,"D",2,"D",2,{"$f":"$M$1","v":"E"},{"$f":"$I$2","v":1},{"$f":"$M$1","v":"E"},{"$f":"$I$2","v":1},{"$f":"$M$1","v":"E"},{"$f":"$I$2","v":1},{"$f":"$M$1","v":"E"},{"$f":"$I$2","v":1},{"$f":"$M$1","v":"E"},{"$f":"$I$2","v":1},{"$f":"$M$1","v":"E"},{"$f":"$I$2","v":1},{"$f":"$M$1","v":"E"},{"$f":"$I$2","v":1},{"$f":"$M$1","v":"E"},{"$f":"$I$2","v":1},{"$f":"$M$1","v":"E"},{"$f":"$I$2","v":1},{"$f":"$M$1","v":"E"},{"$f":"$I$2","v":1},null,null,null,null,null,null,null,null,null,null,null,null,null,null,"<800",null,">=800"]
[null,null,null,null,"San_Sebastián",{"$f":"$L$1","v":"D"},{"$f":"$I$2","v":1},5,{"$f":"$L$1","v":"D"},{"$f":"$I$2","v":1},{"$f":"$L$1","v":"D"},{"$f":"$I$2","v":1},{"$f":"$L$1","v":"D"},{"$f":"$I$2","v":1},{"$f":"$L$1","v":"D"},{"$f":"$I$2","v":1},{"$f":"$L$1","v":"D"},{"$f":"$I$2","v":1},{"$f":"$L$1","v":"D"},{"$f":"$I$2","v":1},{"$f":"$L$1","v":"D"},{"$f":"$I$2","v":1},{"$f":"$L$1","v":"D"},{"$f":"$I$2","v":1},{"$f":"$M$1","v":"E"},{"$f":"$I$2","v":1},{"$f":"$M$1","v":"E"},{"$f":"$I$2","v":1},{"$f":"$M$1","v":"E"},{"$f":"$I$2","v":1},{"$f":"$M$1","v":"E"},{"$f":"$I$2","v":1},{"$f":"$M$1","v":"E"},{"$f":"$I$2","v":1},{"$f":"$M$1","v":"E"},{"$f":"$I$2","v":1},{"$f":"$M$1","v":"E"},{"$f":"$I$2","v":1},{"$f":"$M$1","v":"E"},{"$f":"$I$2","v":1},{"$f":"$M$1","v":"E"},{"$f":"$I$2","v":1},{"$f":"$M$1","v":"E"},{"$f":"$I$2","v":1},{"$f":"$M$1","v":"E"},{"$f":"$I$2","v":1},{"$f":"$M$1","v":"E"},{"$f":"$I$2","v":1},{"$f":"$M$1","v":"E"},{"$f":"$I$2","v":1},{"$f":"$M$1","v":"E"},{"$f":"$I$2","v":1},{"$f":"$M$1","v":"E"},{"$f":"$I$2","v":1},{"$f":"$M$1","v":"E"},{"$f":"$I$2","v":1},{"$f":"$M$1","v":"E"},{"$f":"$I$2","v":1},{"$f":"$M$1","v":"E"},{"$f":"$I$2","v":1}]
[null,null,null,null,"Santa_Cruz_de_Tenerife","Alfa",{"$f":"$K$2","v":3},0,{"$f":"$F$59","v":"Alfa"},{"$f":"$K$2","v":3},{"$f":"$F$59","v":"Alfa"},{"$f":"$K$2","v":3},{"$f":"$F$59","v":"Alfa"},{"$f":"$K$2","v":3},{"$f":"$F$59","v":"Alfa"},{"$f":"$K$2","v":3},{"$f":"$F$59","v":"Alfa"},{"$f":"$K$2","v":3},{"$f":"$F$59","v":"Alfa"},{"$f":"$K$2","v":3},{"$f":"$F$59","v":"Alfa"},{"$f":"$K$2","v":3},{"$f":"$I$1","v":"A"},{"$f":"$J$2","v":2},"A",2,"A",2,"A",2,"A",2,"A",2,"A",2,"A",2,{"$f":"$J$1","v":"B"},{"$f":"$J$2","v":2},{"$f":"$J$1","v":"B"},2,{"$f":"$J$1","v":"B"},2,{"$f":"$J$1","v":"B"},2,{"$f":"$J$1","v":"B"},2,{"$f":"$K$1","v":"C"},{"$f":"$J$2","v":2},"C",{"$f":"$J$2","v":2},"C",{"$f":"$J$2","v":2},"C",{"$f":"$J$2","v":2},"C",{"$f":"$J$2","v":2},"C",{"$f":"$J$2","v":2}]
[null,null,null,null,"Santander",{"$f":"$K$1","v":"C"},{"$f":"$I$2","v":1},1,{"$f":"$K$1","v":"C"},{"$f":"$I$2","v":1},{"$f":"$K$1","v":"C"},{"$f":"$I$2","v":1},{"$f":"$K$1","v":"C"},{"$f":"$I$2","v":1},{"$f":"$L$1","v":"D"},{"$f":"$I$2","v":1},{"$f":"$L$1","v":"D"},{"$f":"$I$2","v":1},{"$f":"$L$1","v":"D"},{"$f":"$I$2","v":1},{"$f":"$L$1","v":"D"},{"$f":"$I$2","v":1},{"$f":"$L$1","v":"D"},{"$f":"$I$2","v":1},{"$f":"$L$1","v":"D"},{"$f":"$I$2","v":1},{"$f":"$L$1","v":"D"},{"$f":"$I$2","v":1},{"$f":"$L$1","v":"D"},{"$f":"$I$2","v":1},{"$f":"$L$1","v":"D"},{"$f":"$I$2","v":1},{"$f":"$L$1","v":"D"},{"$f":"$I$2","v":1},{"$f":"$M$1","v":"E"},{"$f":"$I$2","v":1},{"$f":"$M$1","v":"E"},{"$f":"$I$2","v":1},{"$f":"$M$1","v":"E"},{"$f":"$I$2","v":1},{"$f":"$M$1","v":"E"},{"$f":"$I$2","v":1},{"$f":"$M$1","v":"E"},{"$f":"$I$2","v":1},{"$f":"$M$1","v":"E"},{"$f":"$I$2","v":1},{"$f":"$M$1","v":"E"},{"$f":"$I$2","v":1},{"$f":"$M$1","v":"E"},{"$f":"$I$2","v":1},{"$f":"$M$1","v":"E"},{"$f":"$I$2","v":1},{"$f":"$M$1","v":"E"},{"$f":"$I$2","v":1},{"$f":"$M$1","v":"E"},{"$f":"$I$2","v":1},{"$f":"$M$1","v":"E"},{"$f":"$I$2","v":1},{"$f":"$M$1","v":"E"},{"$f":"$I$2","v":1},null,null,null,null,null,null,null,null,null,null,null,null,null,null,"<1000",null,">=1000"]
[null,null,null,null,"Segovia",{"$f":"$L$1","v":"D"},{"$f":"$J$2","v":2},1013,{"$f":"$L$1","v":"D"},{"$f":"$J$2","v":2},{"$f":"$L$1","v":"D"},{"$f":"$J$2","v":2},{"$f":"$L$1","v":"D"},{"$f":"$J$2","v":2},{"$f":"$L$1","v":"D"},{"$f":"$J$2","v":2},{"$f":"$L$1","v":"D"},{"$f":"$J$2","v":2},{"$f":"$L$1","v":"D"},{"$f":"$J$2","v":2},{"$f":"$L$1","v":"D"},{"$f":"$J$2","v":2},{"$f":"$L$1","v":"D"},{"$f":"$J$2","v":2},{"$f":"$L$1","v":"D"},{"$f":"$J$2","v":2},{"$f":"$L$1","v":"D"},{"$f":"$J$2","v":2},{"$f":"$L$1","v":"D"},{"$f":"$J$2","v":2},{"$f":"$L$1","v":"D"},{"$f":"$J$2","v":2},{"$f":"$L$1","v":"D"},{"$f":"$J$2","v":2},{"$f":"$L$1","v":"D"},{"$f":"$J$2","v":2},{"$f":"$L$1","v":"D"},{"$f":"$J$2","v":2},{"$f":"$L$1","v":"D"},{"$f":"$J$2","v":2},{"$f":"$L$1","v":"D"},{"$f":"$J$2","v":2},{"$f":"$L$1","v":"D"},{"$f":"$J$2","v":2},{"$f":"$L$1","v":"D"},{"$f":"$J$2","v":2},{"$f":"$L$1","v":"D"},{"$f":"$J$2","v":2},{"$f":"$M$1","v":"E"},{"$f":"$I$2","v":1},{"$f":"$M$1","v":"E"},{"$f":"$I$2","v":1},{"$f":"$M$1","v":"E"},{"$f":"$I$2","v":1},{"$f":"$M$1","v":"E"},{"$f":"$I$2","v":1},{"$f":"$M$1","v":"E"},{"$f":"$I$2","v":1},{"$f":"$M$1","v":"E"},{"$f":"$I$2","v":1},null,null,null,null,null,"<200",null,null,null,">=200"]
[null,null,null,null,"Sevilla",{"$f":"$J$1","v":"B"},{"$f":"$L$2","v":4},9,{"$f":"$J$1","v":"B"},{"$f":"$L$2","v":4},{"$f":"$J$1","v":"B"},{"$f":"$L$2","v":4},{"$f":"$J$1","v":"B"},{"$f":"$L$2","v":4},{"$f":"$J$1","v":"B"},{"$f":"$L$2","v":4},{"$f":"$K$1","v":"C"},{"$f":"$L$2","v":4},{"$f":"$K$1","v":"C"},{"$f":"$L$2","v":4},{"$f":"$K$1","v":"C"},{"$f":"$L$2","v":4},{"$f":"$K$1","v":"C"},{"$f":"$L$2","v":4},{"$f":"$K$1","v":"C"},{"$f":"$L$2","v":4},{"$f":"$K$1","v":"C"},{"$f":"$L$2","v":4},{"$f":"$K$1","v":"C"},{"$f":"$L$2","v":4},{"$f":"$K$1","v":"C"},{"$f":"$L$2","v":4},{"$f":"$K$1","v":"C"},{"$f":"$L$2","v":4},{"$f":"$K$1","v":"C"},{"$f":"$L$2","v":4},{"$f":"$K$1","v":"C"},{"$f":"$L$2","v":4},{"$f":"$K$1","v":"C"},{"$f":"$L$2","v":4},{"$f":"$K$1","v":"C"},{"$f":"$L$2","v":4},{"$f":"$K$1","v":"C"},{"$f":"$L$2","v":4},{"$f":"$K$1","v":"C"},{"$f":"$L$2","v":4},{"$f":"$K$1","v":"C"},{"$f":"$L$2","v":4},{"$f":"$K$1","v":"C"},{"$f":"$L$2","v":4},{"$f":"$K$1","v":"C"},{"$f":"$L$2","v":4},{"$f":"$K$1","v":"C"},{"$f":"$L$2","v":4},{"$f":"$K$1","v":"C"},{"$f":"$L$2","v":4},{"$f":"$K$1","v":"C"},{"$f":"$L$2","v":4},{"$f":"$K$1","v":"C"},{"$f":"$L$2","v":4},null,null,null,null,null,null,null,null,null,null,null,null,null,null,"<750","<800",">=800"]
[null,null,null,null,"Soria",{"$f":"$M$1","v":"E"},{"$f":"$I$2","v":1},984,{"$f":"$L$1","v":"D"},{"$f":"$J$2","v":2},{"$f":"$L$1","v":"D"},{"$f":"$J$2","v":2},{"$f":"$L$1","v":"D"},{"$f":"$J$2","v":2},{"$f":"$L$1","v":"D"},{"$f":"$J$2","v":2},{"$f":"$L$1","v":"D"},{"$f":"$J$2","v":2},{"$f":"$L$1","v":"D"},{"$f":"$J$2","v":2},{"$f":"$L$1","v":"D"},{"$f":"$J$2","v":2},{"$f":"$L$1","v":"D"},{"$f":"$J$2","v":2},{"$f":"$L$1","v":"D"},{"$f":"$J$2","v":2},{"$f":"$L$1","v":"D"},{"$f":"$J$2","v":2},{"$f":"$L$1","v":"D"},{"$f":"$J$2","v":2},{"$f":"$L$1","v":"D"},{"$f":"$J$2","v":2},{"$f":"$L$1","v":"D"},{"$f":"$J$2","v":2},{"$f":"$L$1","v":"D"},{"$f":"$J$2","v":2},{"$f":"$L$1","v":"D"},{"$f":"$J$2","v":2},{"$f":"$L$1","v":"D"},{"$f":"$I$2","v":1},{"$f":"$M$1","v":"E"},{"$f":"$I$2","v":1},{"$f":"$M$1","v":"E"},{"$f":"$I$2","v":1},{"$f":"$M$1","v":"E"},{"$f":"$I$2","v":1},{"$f":"$M$1","v":"E"},{"$f":"$I$2","v":1},{"$f":"$M$1","v":"E"},{"$f":"$I$2","v":1},{"$f":"$M$1","v":"E"},{"$f":"$I$2","v":1},{"$f":"$M$1","v":"E"},{"$f":"$I$2","v":1},{"$f":"$M$1","v":"E"},{"$f":"$I$2","v":1},{"$f":"$M$1","v":"E"},{"$f":"$I$2","v":1},{"$f":"$M$1","v":"E"},{"$f":"$I$2","v":1},null,null,null,null,null,null,"<50",null,null,null,"<500",null,null,">=500"]
[null,null,null,null,"Tarragona",{"$f":"$J$1","v":"B"},{"$f":"$K$2","v":3},1,{"$f":"$J$1","v":"B"},{"$f":"$K$2","v":3},{"$f":"$K$1","v":"C"},{"$f":"$K$2","v":3},"C",{"$f":"$K$2","v":3},"C",{"$f":"$K$2","v":3},"C",{"$f":"$K$2","v":3},"C",{"$f":"$K$2","v":3},"C",{"$f":"$K$2","v":3},"C",{"$f":"$K$2","v":3},"C",{"$f":"$K$2","v":3},"C",{"$f":"$K$2","v":3},"D",{"$f":"$K$2","v":3},"D",3,"D",3,"D",3,"D",3,"D",3,{"$f":"$L$1","v":"D"},3,{"$f":"$L$1","v":"D"},3,{"$f":"$L$1","v":"D"},3,{"$f":"$L$1","v":"D"},3,{"$f":"$L$1","v":"D"},3,"D",3,"D",3,"D",3,"D",3,"D",3,null,null,null,null,null,null,null,null,null,null,"<450","<500",null,null,"<1000",null,">=1000"]
[null,null,null,null,"Teruel",{"$f":"$L$1","v":"D"},{"$f":"$J$2","v":2},995,"C",{"$f":"$K$2","v":3},"C",{"$f":"$K$2","v":3},"C",{"$f":"$K$2","v":3},"C",{"$f":"$K$2","v":3},"C",{"$f":"$K$2","v":3},"C",{"$f":"$K$2","v":3},"C",{"$f":"$K$2","v":3},"C",{"$f":"$K$2","v":3},"C",{"$f":"$K$2","v":3},"C",{"$f":"$J$2","v":2},"D",{"$f":"$J$2","v":2},"D",{"$f":"$J$2","v":2},"D",{"$f":"$J$2","v":2},"D",{"$f":"$J$2","v":2},"D",{"$f":"$J$2","v":2},"D",{"$f":"$J$2","v":2},{"$f":"$L$1","v":"D"},{"$f":"$J$2","v":2},{"$f":"$L$1","v":"D"},{"$f":"$J$2","v":2},{"$f":"$L$1","v":"D"},{"$f":"$J$2","v":2},{"$f":"$L$1","v":"D"},{"$f":"$J$2","v":2},{"$f":"$M$1","v":"E"},{"$f":"$I$2","v":1},{"$f":"$M$1","v":"E"},{"$f":"$I$2","v":1},{"$f":"$M$1","v":"E"},{"$f":"$I$2","v":1},{"$f":"$M$1","v":"E"},{"$f":"$I$2","v":1},{"$f":"$M$1","v":"E"},{"$f":"$I$2","v":1},{"$f":"$M$1","v":"E"},{"$f":"$I$2","v":1},null,null,null,null,null,null,null,null,null,"<500",null,null,null,">=500"]
[null,null,null,null,"Toledo",{"$f":"$K$1","v":"C"},{"$f":"$L$2","v":4},445,"C",{"$f":"$L$2","v":4},"C",{"$f":"$L$2","v":4},"C",{"$f":"$L$2","v":4},"C",{"$f":"$L$2","v":4},"C",{"$f":"$L$2","v":4},"C",{"$f":"$L$2","v":4},"C",{"$f":"$L$2","v":4},"C",{"$f":"$L$2","v":4},"C",{"$f":"$L$2","v":4},"C",{"$f":"$L$2","v":4},"D",{"$f":"$K$2","v":3},"D",3,"D",3,"D",3,"D",3,"D",3,{"$f":"$L$1","v":"D"},3,{"$f":"$L$1","v":"D"},3,{"$f":"$L$1","v":"D"},3,{"$f":"$L$1","v":"D"},3,{"$f":"$L$1","v":"D"},3,"D",3,"D",3,"D",3,"D",3,"D",3,null,null,null,null,null,null,"<50",null,null,null,"<500",null,null,null,"<950",null,">=950"]
[null,null,null,null,"Valencia",{"$f":"$J$1","v":"B"},{"$f":"$K$2","v":3},8,{"$f":"$J$1","v":"B"},{"$f":"$K$2","v":3},"C",{"$f":"$K$2","v":3},"C",{"$f":"$K$2","v":3},"C",{"$f":"$K$2","v":3},"C",{"$f":"$K$2","v":3},"C",{"$f":"$K$2","v":3},"C",{"$f":"$K$2","v":3},"C",{"$f":"$K$2","v":3},"C",{"$f":"$K$2","v":3},"C",{"$f":"$K$2","v":3},"D",{"$f":"$J$2","v":2},"D",{"$f":"$J$2","v":2},"D",{"$f":"$J$2","v":2},"D",{"$f":"$J$2","v":2},"D",{"$f":"$J$2","v":2},"D",{"$f":"$J$2","v":2},{"$f":"$L$1","v":"D"},{"$f":"$J$2","v":2},{"$f":"$L$1","v":"D"},{"$f":"$J$2","v":2},{"$f":"$L$1","v":"D"},{"$f":"$J$2","v":2},{"$f":"$M$1","v":"E"},{"$f":"$I$2","v":1},{"$f":"$M$1","v":"E"},{"$f":"$I$2","v":1},{"$f":"$M$1","v":"E"},{"$f":"$I$2","v":1},{"$f":"$M$1","v":"E"},{"$f":"$I$2","v":1},{"$f":"$M$1","v":"E"},{"$f":"$I$2","v":1},{"$f":"$M$1","v":"E"},{"$f":"$I$2","v":1},{"$f":"$M$1","v":"E"},{"$f":"$I$2","v":1},null,null,null,null,null,null,null,null,null,null,null,null,null,null,"<800",null,">=800"]
[null,null,null,null,"Valladolid",{"$f":"$L$1","v":"D"},{"$f":"$J$2","v":2},704,{"$f":"$L$1","v":"D"},{"$f":"$J$2","v":2},{"$f":"$L$1","v":"D"},{"$f":"$J$2","v":2},{"$f":"$L$1","v":"D"},{"$f":"$J$2","v":2},{"$f":"$L$1","v":"D"},{"$f":"$J$2","v":2},{"$f":"$L$1","v":"D"},{"$f":"$J$2","v":2},{"$f":"$L$1","v":"D"},{"$f":"$J$2","v":2},{"$f":"$L$1","v":"D"},{"$f":"$J$2","v":2},{"$f":"$L$1","v":"D"},{"$f":"$J$2","v":2},{"$f":"$L$1","v":"D"},{"$f":"$J$2","v":2},{"$f":"$L$1","v":"D"},{"$f":"$J$2","v":2},"D",{"$f":"$J$2","v":2},"D",{"$f":"$J$2","v":2},"D",{"$f":"$J$2","v":2},"D",{"$f":"$J$2","v":2},"D",{"$f":"$J$2","v":2},"D",{"$f":"$J$2","v":2},{"$f":"$M$1","v":"E"},{"$f":"$I$2","v":1},{"$f":"$M$1","v":"E"},{"$f":"$I$2","v":1},{"$f":"$M$1","v":"E"},{"$f":"$I$2","v":1},{"$f":"$M$1","v":"E"},{"$f":"$I$2","v":1},{"$f":"$M$1","v":"E"},{"$f":"$I$2","v":1},{"$f":"$M$1","v":"E"},{"$f":"$I$2","v":1},{"$f":"$M$1","v":"E"},{"$f":"$I$2","v":1},{"$f":"$M$1","v":"E"},{"$f":"$I$2","v":1},{"$f":"$M$1","v":"E"},{"$f":"$I$2","v":1},{"$f":"$M$1","v":"E"},{"$f":"$I$2","v":1}]
[null,null,null,null,"Vitoria",{"$f":"$L$1","v":"D"},{"$f":"$I$2","v":1},512,{"$f":"$L$1","v":"D"},{"$f":"$I$2","v":1},{"$f":"$L$1","v":"D"},1,{"$f":"$L$1","v":"D"},1,{"$f":"$L$1","v":"D"},1,{"$f":"$L$1","v":"D"},1,{"$f":"$L$1","v":"D"},1,{"$f":"$L$1","v":"D"},1,{"$f":"$L$1","v":"D"},1,{"$f":"$L$1","v":"D"},1,{"$f":"$L$1","v":"D"},1,{"$f":"$M$1","v":"E"},{"$f":"$I$2","v":1},{"$f":"$M$1","v":"E"},{"$f":"$I$2","v":1},{"$f":"$M$1","v":"E"},{"$f":"$I$2","v":1},{"$f":"$M$1","v":"E"},{"$f":"$I$2","v":1},{"$f":"$M$1","v":"E"},{"$f":"$I$2","v":1},{"$f":"$M$1","v":"E"},{"$f":"$I$2","v":1},{"$f":"$M$1","v":"E"},{"$f":"$I$2","v":1},{"$f":"$M$1","v":"E"},{"$f":"$I$2","v":1},{"$f":"$M$1","v":"E"},{"$f":"$I$2","v":1},{"$f":"$M$1","v":"E"},{"$f":"$I$2","v":1},{"$f":"$M$1","v":"E"},{"$f":"$I$2","v":1},{"$f":"$M$1","v":"E"},{"$f":"$I$2","v":1},{"$f":"$M$1","v":"E"},{"$f":"$I$2","v":1},{"$f":"$M$1","v":"E"},{"$f":"$I$2","v":1},{"$f":"$M$1","v":"E"},{"$f":"$I$2","v":1},{"$f":"$M$1","v":"E"},{"$f":"$I$2","v":1},null,null,null,null,null,null,null,null,null,null,null,null,null,null,"<800",null,">=800"]
[null,null,null,null,"Zamora",{"$f":"$L$1","v":"D"},{"$f":"$J$2","v":2},617,{"$f":"$L$1","v":"D"},{"$f":"$J$2","v":2},{"$f":"$L$1","v":"D"},{"$f":"$J$2","v":2},{"$f":"$L$1","v":"D"},{"$f":"$J$2","v":2},{"$f":"$L$1","v":"D"},{"$f":"$J$2","v":2},{"$f":"$L$1","v":"D"},{"$f":"$J$2","v":2},{"$f":"$L$1","v":"D"},{"$f":"$J$2","v":2},{"$f":"$L$1","v":"D"},{"$f":"$J$2","v":2},{"$f":"$L$1","v":"D"},{"$f":"$J$2","v":2},{"$f":"$L$1","v":"D"},{"$f":"$J$2","v":2},{"$f":"$L$1","v":"D"},{"$f":"$J$2","v":2},{"$f":"$L$1","v":"D"},{"$f":"$J$2","v":2},{"$f":"$L$1","v":"D"},{"$f":"$J$2","v":2},{"$f":"$L$1","v":"D"},{"$f":"$J$2","v":2},{"$f":"$L$1","v":"D"},{"$f":"$J$2","v":2},{"$f":"$L$1","v":"D"},{"$f":"$J$2","v":2},{"$f":"$L$1","v":"D"},{"$f":"$J$2","v":2},{"$f":"$M$1","v":"E"},{"$f":"$I$2","v":1},{"$f":"$M$1","v":"E"},{"$f":"$I$2","v":1},{"$f":"$M$1","v":"E"},{"$f":"$I$2","v":1},{"$f":"$M$1","v":"E"},{"$f":"$I$2","v":1},{"$f":"$M$1","v":"E"},{"$f":"$I$2","v":1},{"$f":"$M$1","v":"E"},{"$f":"$I$2","v":1},{"$f":"$M$1","v":"E"},{"$f":"$I$2","v":1},{"$f":"$M$1","v":"E"},{"$f":"$I$2","v":1},{"$f":"$M$1","v":"E"},{"$f":"$I$2","v":1},{"$f":"$M$1","v":"E"},{"$f":"$I$2","v":1},null,null,null,null,null,null,null,null,null,null,"<200",null,null,"<650",null,null,">=650"]
[null,null,null,null,"Zaragoza",{"$f":"$L$1","v":"D"},{"$f":"$K$2","v":3},207,{"$f":"$K$1","v":"C"},{"$f":"$K$2","v":3},"C",3,"C",3,"C",3,{"$f":"$L$1","v":"D"},{"$f":"$K$2","v":3},{"$f":"$L$1","v":"D"},3,{"$f":"$L$1","v":"D"},3,{"$f":"$L$1","v":"D"},3,{"$f":"$L$1","v":"D"},3,{"$f":"$L$1","v":"D"},3,{"$f":"$L$1","v":"D"},3,{"$f":"$L$1","v":"D"},3,{"$f":"$L$1","v":"D"},3,{"$f":"$M$1","v":"E"},{"$f":"$I$2","v":1},{"$f":"$M$1","v":"E"},{"$f":"$I$2","v":1},{"$f":"$M$1","v":"E"},{"$f":"$I$2","v":1},{"$f":"$M$1","v":"E"},{"$f":"$I$2","v":1},{"$f":"$M$1","v":"E"},{"$f":"$I$2","v":1},{"$f":"$M$1","v":"E"},{"$f":"$I$2","v":1},{"$f":"$M$1","v":"E"},{"$f":"$I$2","v":1},{"$f":"$M$1","v":"E"},{"$f":"$I$2","v":1},{"$f":"$M$1","v":"E"},{"$f":"$I$2","v":1},{"$f":"$M$1","v":"E"},{"$f":"$I$2","v":1},{"$f":"$M$1","v":"E"},{"$f":"$I$2","v":1},{"$f":"$M$1","v":"E"},{"$f":"$I$2","v":1},{"$f":"$M$1","v":"E"},{"$f":"$I$2","v":1}]
[]
[null,null,null,null,"CAPITAL ","Z.C. INVIERNO","Z.C. VERANO ","ALTITUD","0-50",null,"50-100",null,"100-150",null,"150-200",null,"200-250",null,"250-300",null,"300-350",null,"350-400",null,"400-450",null,"450-500",null,"500-550",null,"550-600",null,"600-650",null,"650-700",null,"700-750",null,"750-800",null,"800-850",null,"850-900",null,"900-950",null,"950-1000",null,"1000-1050",null,"1100-1150",null,"1150-1200",null,"1200-1250",null,"1250-1300",null,">=1300"]
[null,null,null,null,"Palmas de Gran  Canaria, Las","Alfa",{"$f":"$K$2","v":3},114,{"$f":"$F$59","v":"Alfa"},{"$f":"$K$2","v":3},{"$f":"$F$59","v":"Alfa"},{"$f":"$K$2","v":3},{"$f":"$F$59","v":"Alfa"},{"$f":"$K$2","v":3},{"$f":"$F$59","v":"Alfa"},{"$f":"$K$2","v":3},{"$f":"$F$59","v":"Alfa"},{"$f":"$K$2","v":3},{"$f":"$F$59","v":"Alfa"},{"$f":"$K$2","v":3},{"$f":"$F$59","v":"Alfa"},{"$f":"$K$2","v":3},{"$f":"$I$1","v":"A"},{"$f":"$J$2","v":2},"A",2,"A",2,"A",2,"A",2,"A",2,"A",2,"A",2,{"$f":"$J$1","v":"B"},{"$f":"$J$2","v":2},{"$f":"$J$1","v":"B"},2,{"$f":"$J$1","v":"B"},2,{"$f":"$J$1","v":"B"},2,{"$f":"$J$1","v":"B"},2,{"$f":"$K$1","v":"C"},{"$f":"$J$2","v":2},"C",{"$f":"$J$2","v":2},"C",{"$f":"$J$2","v":2},"C",{"$f":"$J$2","v":2},"C",{"$f":"$J$2","v":2},"C",{"$f":"$J$2","v":2}]
[null,null,null,null,"Santa Cruz de Tenerife","Alfa",{"$f":"$K$2","v":3},0,{"$f":"$F$59","v":"Alfa"},{"$f":"$K$2","v":3},{"$f":"$F$59","v":"Alfa"},{"$f":"$K$2","v":3},{"$f":"$F$59","v":"Alfa"},{"$f":"$K$2","v":3},{"$f":"$F$59","v":"Alfa"},{"$f":"$K$2","v":3},{"$f":"$F$59","v":"Alfa"},{"$f":"$K$2","v":3},{"$f":"$F$59","v":"Alfa"},{"$f":"$K$2","v":3},{"$f":"$F$59","v":"Alfa"},{"$f":"$K$2","v":3},"A",2,"A",2,"A",2,"A",2,"A",2,"A",2,"A",2,"A",2,{"$f":"$J$1","v":"B"},2,{"$f":"$J$1","v":"B"},2,{"$f":"$J$1","v":"B"},2,{"$f":"$J$1","v":"B"},2,{"$f":"$J$1","v":"B"},2,"C",{"$f":"$J$2","v":2},"C",{"$f":"$J$2","v":2},"C",{"$f":"$J$2","v":2},"C",{"$f":"$J$2","v":2},"C",{"$f":"$J$2","v":2},"C",{"$f":"$J$2","v":2}]

{"sheet":"BD GRAL","index":8,"n_rows":73,"n_cols":53,"rows_kept":73,"cut":false,"hidden":true,"merged":[[54,0,63,0],[65,0,72,0]]}
["Comunidad autónoma","Comunidad autónoma","Provincia","Capital de provincia","Otras poblaciones"]
["Andalucía","Andalucía","Almería","Almería"]
["Aragón",null,"Cádiz","Cádiz","Cádiz/Tarifa","Jerez de la Frontera"]
["Asturias",null,"Córdoba","Córdoba"]
["Canarias",null,"Granada","Granada"]
["Cantabria",null,"Huelva","Huelva"]
["Castilla_y_León",null,"Jaén","Jaén"]
["Castilla_la_Mancha",null,"Málaga","Málaga"]
["Cataluña",null,"Sevilla","Sevilla","Sevilla Aeropuerto","Sevilla Morón de la Frontera","Sevilla/Tablada"]
["Ceuta","Aragón","Huesca","Huesca"]
["Extremadura",null,"Teruel","Teruel"]
["Galicia",null,"Zaragoza","Zaragoza"]
["Comunidad_de_Madrid","Asturias","Asturias","Oviedo","Asturias/Aeropuerto"]
["Comunidad_Valenciana","Canarias","LasPalmas","Las_Palmas_de_Gran_Canaria","Lanzarote","Fuerteventura"]
["Región_de_Murcia",null,"SantaCruzdeTenerife","Santa_Cruz_de_Tenerife","Aeropuerto Tenerife Sur","Tenerife/Izaña","Tenerife Norte","Hierro"]
["La_Rioja","Cantabria","Cantabria","Santander"]
["Islas_Baleares","Castilla_y_León","Ávila","Ávila"]
["Melilla",null,"Burgos","Burgos"]
["Navarra",null,"León","León","León/Virgen del Camino"]
["País_Vasco",null,"Palencia","Palencia"]
[null,null,"Salamanca","Salamanca"]
[null,null,"Segovia","Segovia"]
[null,null,"Soria","Soria"]
[null,null,"Valladolid","Valladolid","Valladolid/Aeropuerto"]
[null,null,"Zamora","Zamora"]
[null,"Castilla_la_Mancha","Albacete","Albacete"]
[null,null,"CiudadReal","Ciudad_Real"]
[null,null,"Cuenca","Cuenca"]
[null,null,"Guadalajara","Guadalajara"]
[null,null,"Toledo","Toledo"]
[null,"Cataluña","Barcelona","Barcelona","Barcelona/Fabra"]
[null,null,"Girona","Gerona"]
[null,null,"Lleida","Lérida"]
[null,null,"Tarragona","Tarragona","Tarragona/Reus"]
[null,"Ceuta","Ceuta","Ceuta"]
[null,"Extremadura","Cáceres","Cáceres"]
[null,null,"Badajoz","Badajoz"]
[null,"Galicia","ACoruña","La_Coruña","Santiago de Compostela"]
[null,null,"Lugo","Lugo"]
[null,null,"Ourense","Orense"]
[null,null,"Pontevedra","Pontevedra","Vigo"]
[null,"Comunidad_de_Madrid","Madrid","Madrid","Colmenar Viejo","Barajas","Cuatro Vientos","Getafe","Puerto de Navacerrada","Torrejón de Ardoz"]
[null,"Comunidad_Valenciana","Alicante","Alicante"]
[null,null,"Castellón","Castellón"]
[null,null,"Valencia","Valencia","Valencia/Manises"]
[null,"Región_de_Murcia","Murcia","Murcia","Alcantarilla","San Javier"]
[null,"La_Rioja","LaRioja","Logroño"]
[null,"Islas_Baleares","IllesBalears","Palma_de_Mallorca","Palma de Mallorca/Aeropuerto","Ibiza","Menorca"]
[null,"Melilla","Melilla","Melilla"]
[null,"Navarra","Navarra","Pamplona"]
[null,"País_Vasco","Araba-Álava","Vitoria"]
[null,null,"Gipuzkoa","San_Sebastián","San Sebastián/Aeropuerto","San Sebastián/Igueldo"]
[null,null,"Bizkaia","Bilbao"]
[]
["Capital provincia","Andalucía","Aragón","Asturias","Canarias","Cantabria","Castilla_y_León","Castilla_la_Mancha","Cataluña","Ceuta","Extremadura","Galicia","Comunidad_de_Madrid","Comunidad_Valenciana","Región_de_Murcia","La_Rioja","Islas_Baleares","Melilla","Navarra","País_Vasco"]
[null,"Almería","Huesca","Oviedo","Las_Palmas_de_Gran_Canaria","Santander","Ávila","Albacete","Barcelona","Ceuta","Cáceres","La_Coruña","Madrid","Alicante","Murcia","Logroño","Palma_de_Mallorca","Melilla","Pamplona","Vitoria"]
[null,"Cádiz","Teruel",null,"Santa_Cruz_de_Tenerife",null,"Burgos","Ciudad_Real","Gerona",null,"Badajoz","Lugo",null,"Castellón",null,null,null,null,null,"San_Sebastián"]
[null,"Córdoba","Zaragoza",null,null,null,"León","Cuenca","Lérida",null,null,"Orense",null,"Valencia",null,null,null,null,null,"Bilbao"]
[null,"Granada",null,null,null,null,"Palencia","Guadalajara","Tarragona",null,null,"Pontevedra"]
[null,"Huelva",null,null,null,null,"Salamanca","Toledo"]
[null,"Jaén",null,null,null,null,"Segovia"]
[null,"Málaga",null,null,null,null,"Soria"]
[null,"Sevilla",null,null,null,null,"Valladolid"]
[null,null,null,null,null,null,"Zamora"]
[]
["Estaciones meteorológicas","Albacete","Alicante","Almería","Ávila","Badajoz","Barcelona","Bilbao","Burgos","Cáceres","Cádiz","Castellón","Ceuta","Ciudad_Real","Córdoba","Cuenca","Gerona","Granada","Guadalajara","Huelva","Huesca","Jaén","La_Coruña","Las_Palmas_de_Gran_Canaria","León","Lérida","Logroño","Lugo","Madrid","Málaga","Melilla","Murcia","Orense","Oviedo","Palencia","Palma_de_Mallorca","Pamplona","Pontevedra","Salamanca","San_Sebastián","Santa_Cruz_de_Tenerife","Santander","Segovia","Sevilla","Soria","Tarragona","Teruel","Toledo","Valencia","Valladolid","Vitoria","Zamora","Zaragoza"]
[null,"Albacete","Alicante","Almería","Ávila","Badajoz","Barcelona","Bilbao","Burgos","Cáceres","Cádiz","Castellón","Ceuta","Ciudad_Real","Córdoba","Cuenca","Gerona","Granada","Guadalajara","Huelva","Huesca","Jaén","La_Coruña","Las_Palmas_de_Gran_Canaria","León","Lérida","Logroño","Lugo","Colmenar_Viejo","Málaga","Melilla","Alcantarilla","Orense","Asturias/Aeropuerto","Palencia","Ibiza","Pamplona","Pontevedra","Salamanca","San_Sebastián/Aeropuerto","Hierro","Santander","Segovia","Aeropuerto","Soria","Tarragona","Teruel","Toledo","Valencia","Valladolid","Vitoria","Zamora","Zaragoza"]
[null,null,null,null,null,null,"Barcelona/Fabra",null,null,null,"Cádiz/Tarifa",null,null,null,null,null,null,null,null,null,null,null,"Santiago_de_Compostela","Lanzarote","Virgen_del_Camino",null,null,null,"Madrid",null,null,"Murcia",null,null,null,"Menorca/Mahón",null,"Vigo",null,"San_Sebastián/Igueldo","Santa_Cruz_De_Tenerife",null,null,"Morón_de_la_Frontera",null,"Reus",null,null,"Manises","Aeropuerto"]
[null,null,null,null,null,null,null,null,null,null,"Jerez_de_la_Frontera",null,null,null,null,null,null,null,null,null,null,null,null,"Fuerteventura",null,null,null,null,"Barajas",null,null,"San_Javier",null,null,null,"Palma_de_Mallorca",null,null,null,null,"Aeropuerto_Tenerife_Sur",null,null,"Tablada"]
[null,null,null,null,null,null,null,null,null,null,null,null,null,null,null,null,null,null,null,null,null,null,null,null,null,null,null,null,"Cuatro_Vientos",null,null,null,null,null,null,"Palma_de_Mallorca/Aeropuerto",null,null,null,null,"Tenerife/Izaña"]
[null,null,null,null,null,null,null,null,null,null,null,null,null,null,null,null,null,null,null,null,null,null,null,null,null,null,null,null,"Getafe",null,null,null,null,null,null,null,null,null,null,null,"Tenerife/Norte"]
[null,null,null,null,null,null,null,null,null,null,null,null,null,null,null,null,null,null,null,null,null,null,null,null,null,null,null,null,"Puerto_Navacerrada"]
[null,null,null,null,null,null,null,null,null,null,null,null,null,null,null,null,null,null,null,null,null,null,null,null,null,null,null,null,"Torrejón_De_Ardoz"]

{"sheet":"CA","index":9,"n_rows":137,"n_cols":17,"rows_kept":137,"cut":false,"hidden":false,"merged":[[110,3,110,5],[1,2,1,10],[27,4,27,5],[27,6,27,7],[6,3,6,5],[86,3,86,5],[84,4,84,5],[84,6,84,7],[69,4,69,5],[69,6,69,7],[71,3,71,5],[4,4,4,5],[4,6,4,7],[42,3,42,5],[40,4,40,5],[40,6,40,7],[3,3,3,9],[29,3,29,5],[108,4,108,5],[108,6,108,7]]}
[]
[null,null,"VERDE Edificios 2020 Usos distintos del Residencial privado \nNueva Edificación, Rehabilitación, Edificio Existente y Mixto"]
[null,null,null,null,null,"CRITERIOS APLICABLES"]
[null,null,null,"NOTA: Cuando la celda de marcado aparece en blanco, el criterio no aplica por la tipología del edificio o el tipo de actuación indicados en la pestaña de Datos Generales."]
[null,null,{"$f":"'Matriz VERDE-GBCe'!U6","v":"PE"},null,{"$f":"'Matriz VERDE-GBCe'!V6","v":"Parcela y emplazamiento"},null,{"$f":"SUM(G9:G25)","v":0.15244622413881617}]
[]
[null,null,null,"Criterios"]
[]
[null,null,null,null,{"$f":"'Matriz VERDE-GBCe'!V7","v":"PE 01"},{"$f":"VLOOKUP(E9,'Matriz VERDE-GBCe'!$V$6:W$59,2,FALSE)","v":"Proximidad al transporte publico."},{"$f":"VLOOKUP(E9,'Matriz VERDE-GBCe'!$V$6:AL$59,3,FALSE)","v":1.4297448534319013E-2},null,1,null,null,null,null,1,null,{"$f":"VLOOKUP(E9,CA!$E$9:$L$132,5,FALSE)","v":1},-1]
[null,null,null,null,null,null,null,null,null,null,null,null,null,-1]
[null,null,null,null,{"$f":"'Matriz VERDE-GBCe'!V8","v":"PE 02"},{"$f":"VLOOKUP(E11,'Matriz VERDE-GBCe'!$V$6:W$59,2,FALSE)","v":"Proximidad a equipamiento y servicios."},{"$f":"VLOOKUP(E11,'Matriz VERDE-GBCe'!$V$6:AL$59,3,FALSE)","v":1.3476051131988296E-2},null,1,null,null,null,null,null,null,{"$f":"VLOOKUP(E11,CA!$E$9:$L$132,5,FALSE)","v":1}]
[]
[null,null,null,null,{"$f":"'Matriz VERDE-GBCe'!V9","v":"PE 03"},{"$f":"VLOOKUP(E13,'Matriz VERDE-GBCe'!$V$6:W$59,2,FALSE)","v":"Facilidades para la bicicleta."},{"$f":"VLOOKUP(E13,'Matriz VERDE-GBCe'!$V$6:AL$59,3,FALSE)","v":1.6299604702500133E-2},null,1]
[]
[null,null,null,null,{"$f":"'Matriz VERDE-GBCe'!V10","v":"PE 04"},{"$f":"VLOOKUP(E15,'Matriz VERDE-GBCe'!$V$6:W$59,2,FALSE)","v":"Capacidad de carga de vehículos eléctricos."},{"$f":"VLOOKUP(E15,'Matriz VERDE-GBCe'!$V$6:AL$59,3,FALSE)","v":1.6017249345448948E-2},null,1]
[]
[null,null,null,null,{"$f":"'Matriz VERDE-GBCe'!V11","v":"PE 05"},{"$f":"VLOOKUP(E17,'Matriz VERDE-GBCe'!$V$6:W$59,2,FALSE)","v":"Clasificación de RSU."},{"$f":"VLOOKUP(E17,'Matriz VERDE-GBCe'!$V$6:AL$59,3,FALSE)","v":1.1294214282047332E-2},null,1]
[]
[null,null,null,null,{"$f":"'Matriz VERDE-GBCe'!V12","v":"PE 06"},{"$f":"VLOOKUP(E19,'Matriz VERDE-GBCe'!$V$6:W$59,2,FALSE)","v":"Gestión y Restauración del hábitat."},{"$f":"VLOOKUP(E19,'Matriz VERDE-GBCe'!$V$6:AL$59,3,FALSE)","v":2.2819446583500182E-2},null,1]
[]
[null,null,null,null,{"$f":"'Matriz VERDE-GBCe'!V13","v":"PE 07"},{"$f":"VLOOKUP(E21,'Matriz VERDE-GBCe'!$V$6:W$59,2,FALSE)","v":"Uso de plantas para crear sombras."},{"$f":"VLOOKUP(E21,'Matriz VERDE-GBCe'!$V$6:AL$59,3,FALSE)","v":1.8122080188921405E-2},null,1]
[]
[null,null,null,null,{"$f":"'Matriz VERDE-GBCe'!V14","v":"PE 08"},{"$f":"VLOOKUP(E23,'Matriz VERDE-GBCe'!$V$6:W$59,2,FALSE)","v":"Efecto isla de calor."},{"$f":"VLOOKUP(E23,'Matriz VERDE-GBCe'!$V$6:AL$59,3,FALSE)","v":2.043226038297654E-2},null,1]
[null,null,null,null,null,null,"+"]
[null,null,null,null,{"$f":"'Matriz VERDE-GBCe'!V15","v":"PE 09"},{"$f":"VLOOKUP(E25,'Matriz VERDE-GBCe'!$V$6:W$59,2,FALSE)","v":"Contaminación lumínica."},{"$f":"VLOOKUP(E25,'Matriz VERDE-GBCe'!$V$6:AL$59,3,FALSE)","v":1.9687868987114329E-2},null,1]
[]
[]
[null,null,{"$f":"'Matriz VERDE-GBCe'!U16","v":"EA"},null,{"$f":"'Matriz VERDE-GBCe'!V16","v":"Energía y atmósfera"},null,{"$f":"SUM(G32:G38)","v":0.17601006211817857}]
[]
[null,null,null,"Criterios"]
[]
[null,null,null,null,{"$f":"'Matriz VERDE-GBCe'!V18","v":"EA 01"},{"$f":"VLOOKUP(E32,'Matriz VERDE-GBCe'!$V$6:W$59,2,FALSE)","v":"Consumo de energía primaria"},{"$f":"VLOOKUP(E32,'Matriz VERDE-GBCe'!$V$6:AL$59,3,FALSE)","v":7.5414549001488793E-2},null,1]
[]
[null,null,null,null,{"$f":"'Matriz VERDE-GBCe'!V19","v":"EA 02"},{"$f":"VLOOKUP(E34,'Matriz VERDE-GBCe'!$V$6:W$59,2,FALSE)","v":"Generación distribuida"},{"$f":"VLOOKUP(E34,'Matriz VERDE-GBCe'!$V$6:AL$59,3,FALSE)","v":4.8513784075157877E-2},null,1]
[]
[null,null,null,null,{"$f":"'Matriz VERDE-GBCe'!V20","v":"EA 03"},{"$f":"VLOOKUP(E36,'Matriz VERDE-GBCe'!$V$6:W$59,2,FALSE)","v":"Consumo en zonas comunes"},{"$f":"VLOOKUP(E36,'Matriz VERDE-GBCe'!$V$6:AL$59,3,FALSE)","v":2.5411982134606503E-2},null,1]
[]
[null,null,null,null,{"$f":"'Matriz VERDE-GBCe'!V22","v":"EA 04"},{"$f":"VLOOKUP(E38,'Matriz VERDE-GBCe'!$V$6:W$59,2,FALSE)","v":"Elección responsable de refrigerantes"},{"$f":"VLOOKUP(E38,'Matriz VERDE-GBCe'!$V$6:AL$59,3,FALSE)","v":2.6669746906925414E-2},null,1]
[]
[]
[null,null,{"$f":"'Matriz VERDE-GBCe'!U23","v":"RN"},null,{"$f":"'Matriz VERDE-GBCe'!V23","v":"Recursos naturales"},null,{"$f":"SUM(G45:G67)","v":0.22922121258791522}]
[]
[null,null,null,"Criterios"]
[]
[null,null,null,null,{"$f":"'Matriz VERDE-GBCe'!V24","v":"RN 01"},{"$f":"VLOOKUP(E45,'Matriz VERDE-GBCe'!$V$6:W$59,2,FALSE)","v":"Consumo de agua en aparatos sanitarios"},{"$f":"VLOOKUP(E45,'Matriz VERDE-GBCe'!$V$6:AL$59,3,FALSE)","v":2.1407669798244267E-2},null,1]
[]
[null,null,null,null,{"$f":"'Matriz VERDE-GBCe'!V25","v":"RN 02"},{"$f":"VLOOKUP(E47,'Matriz VERDE-GBCe'!$V$6:W$59,2,FALSE)","v":"Necesidades de riego en jardines."},{"$f":"VLOOKUP(E47,'Matriz VERDE-GBCe'!$V$6:AL$59,3,FALSE)","v":0},null,1]
[]
[null,null,null,null,{"$f":"'Matriz VERDE-GBCe'!V26","v":"RN 03"},{"$f":"VLOOKUP(E49,'Matriz VERDE-GBCe'!$V$6:W$59,2,FALSE)","v":"Consumos de agua singulares."},{"$f":"VLOOKUP(E49,'Matriz VERDE-GBCe'!$V$6:AL$59,3,FALSE)","v":1.8122080188921405E-2},null,1]
[]
[null,null,null,null,{"$f":"'Matriz VERDE-GBCe'!V27","v":"RN 04"},{"$f":"VLOOKUP(E51,'Matriz VERDE-GBCe'!$V$6:W$59,2,FALSE)","v":"Uso de agua no potable."},{"$f":"VLOOKUP(E51,'Matriz VERDE-GBCe'!$V$6:AL$59,3,FALSE)","v":2.0842959084141899E-2},null,1]
[]
[null,null,null,null,{"$f":"'Matriz VERDE-GBCe'!V28","v":"RN 05"},{"$f":"VLOOKUP(E53,'Matriz VERDE-GBCe'!$V$6:W$59,2,FALSE)","v":"Uso de materiales reciclados."},{"$f":"VLOOKUP(E53,'Matriz VERDE-GBCe'!$V$6:AL$59,3,FALSE)","v":1.8122080188921405E-2},null,1]
[]
[null,null,null,null,{"$f":"'Matriz VERDE-GBCe'!V29","v":"RN 06"},{"$f":"VLOOKUP(E55,'Matriz VERDE-GBCe'!$V$6:W$59,2,FALSE)","v":"Elección responsable de materiales"},{"$f":"VLOOKUP(E55,'Matriz VERDE-GBCe'!$V$6:AL$59,3,FALSE)","v":1.8789465578315109E-2},null,1]
[]
[null,null,null,null,{"$f":"'Matriz VERDE-GBCe'!V30","v":"RN 07"},{"$f":"VLOOKUP(E57,'Matriz VERDE-GBCe'!$V$6:W$59,2,FALSE)","v":"Uso de materiales de producción local."},{"$f":"VLOOKUP(E57,'Matriz VERDE-GBCe'!$V$6:AL$59,3,FALSE)","v":1.9739206324759999E-2},null,1]
[]
[null,null,null,null,{"$f":"'Matriz VERDE-GBCe'!V31","v":"RN 08"},{"$f":"VLOOKUP(E59,'Matriz VERDE-GBCe'!$V$6:W$59,2,FALSE)","v":"El edificio como banco de materiales"},{"$f":"VLOOKUP(E59,'Matriz VERDE-GBCe'!$V$6:AL$59,3,FALSE)","v":2.1638687817649778E-2},null,1]
[]
[null,null,null,null,{"$f":"'Matriz VERDE-GBCe'!V32","v":"RN 09"},{"$f":"VLOOKUP(E61,'Matriz VERDE-GBCe'!$V$6:W$59,2,FALSE)","v":"Gestión de los residuos de la construcción."},{"$f":"VLOOKUP(E61,'Matriz VERDE-GBCe'!$V$6:AL$59,3,FALSE)","v":1.5657887981929259E-2},null,1]
[]
[null,null,null,null,{"$f":"'Matriz VERDE-GBCe'!V33","v":"RN 10"},{"$f":"VLOOKUP(E63,'Matriz VERDE-GBCe'!$V$6:W$59,2,FALSE)","v":"Nivel de intervención en rehabilitaciones"},{"$f":"VLOOKUP(E63,'Matriz VERDE-GBCe'!$V$6:AL$59,3,FALSE)","v":0},null,1]
[]
[null,null,null,null,{"$f":"'Matriz VERDE-GBCe'!V34","v":"RN 11"},{"$f":"VLOOKUP(E65,'Matriz VERDE-GBCe'!$V$6:W$59,2,FALSE)","v":"Impacto de los materiales de la construcción."},{"$f":"VLOOKUP(E65,'Matriz VERDE-GBCe'!$V$6:AL$59,3,FALSE)","v":5.4853945274398075E-2},null,1]
[]
[null,null,null,null,{"$f":"'Matriz VERDE-GBCe'!V35","v":"RN 12"},{"$f":"VLOOKUP(E67,'Matriz VERDE-GBCe'!$V$6:W$59,2,FALSE)","v":"Ecoetiquetado de producto."},{"$f":"VLOOKUP(E67,'Matriz VERDE-GBCe'!$V$6:AL$59,3,FALSE)","v":2.0047230350634018E-2},null,1]
[]
[]
[null,null,{"$f":"'Matriz VERDE-GBCe'!U36","v":"AI"},null,{"$f":"'Matriz VERDE-GBCe'!V36","v":"Ambiente Interior."},null,{"$f":"SUM(G74:G82)","v":9.4871399969197606E-2}]
[]
[null,null,null,"Medidas"]
[]
[null,null,null,null,{"$f":"'Matriz VERDE-GBCe'!V37","v":"AI 01"},{"$f":"VLOOKUP(E74,'Matriz VERDE-GBCe'!$V$6:W$59,2,FALSE)","v":"Limitación de las emisiones de COVs"},{"$f":"VLOOKUP(E74,'Matriz VERDE-GBCe'!$V$6:AL$59,3,FALSE)","v":1.9020483597720624E-2},null,1]
[]
[null,null,null,null,{"$f":"'Matriz VERDE-GBCe'!V38","v":"AI 02"},{"$f":"VLOOKUP(E76,'Matriz VERDE-GBCe'!$V$6:W$59,2,FALSE)","v":"Control de la calidad del aire"},{"$f":"VLOOKUP(E76,'Matriz VERDE-GBCe'!$V$6:AL$59,3,FALSE)","v":1.8609784896555268E-2},null,1]
[]
[null,null,null,null,{"$f":"'Matriz VERDE-GBCe'!V39","v":"AI 03"},{"$f":"VLOOKUP(E78,'Matriz VERDE-GBCe'!$V$6:W$59,2,FALSE)","v":"Iluminación natural."},{"$f":"VLOOKUP(E78,'Matriz VERDE-GBCe'!$V$6:AL$59,3,FALSE)","v":1.8609784896555268E-2},null,1]
[]
[null,null,null,null,{"$f":"'Matriz VERDE-GBCe'!V40","v":"AI 04"},{"$f":"VLOOKUP(E80,'Matriz VERDE-GBCe'!$V$6:W$59,2,FALSE)","v":"Iluminación artificial"},{"$f":"VLOOKUP(E80,'Matriz VERDE-GBCe'!$V$6:AL$59,3,FALSE)","v":2.0021561681811184E-2},null,1]
[]
[null,null,null,null,{"$f":"'Matriz VERDE-GBCe'!V41","v":"AI 05"},{"$f":"VLOOKUP(E82,'Matriz VERDE-GBCe'!$V$6:W$59,2,FALSE)","v":"Protección frente al ruido."},{"$f":"VLOOKUP(E82,'Matriz VERDE-GBCe'!$V$6:AL$59,3,FALSE)","v":1.8609784896555268E-2},null,1]
[]
[]
[null,null,{"$f":"'Matriz VERDE-GBCe'!U42","v":"AS"},null,{"$f":"'Matriz VERDE-GBCe'!V42","v":"Aspectos sociales"},null,{"$f":"SUM(G90:G106)","v":0.16715437137430056}]
[]
[null,null,null,"Medidas"]
[]
[]
[null,null,null,null,{"$f":"'Matriz VERDE-GBCe'!V43","v":"AS 01"},{"$f":"VLOOKUP(E90,'Matriz VERDE-GBCe'!$V$6:W$59,2,FALSE)","v":"Espacios para todas las personas"},{"$f":"VLOOKUP(E90,'Matriz VERDE-GBCe'!$V$6:AL$59,3,FALSE)","v":1.8276092201858416E-2},null,1]
[]
[null,null,null,null,{"$f":"'Matriz VERDE-GBCe'!V44","v":"AS 02"},{"$f":"VLOOKUP(E92,'Matriz VERDE-GBCe'!$V$6:W$59,2,FALSE)","v":"Espacios para la comunicación"},{"$f":"VLOOKUP(E92,'Matriz VERDE-GBCe'!$V$6:AL$59,3,FALSE)","v":1.7608706812464708E-2},null,1]
[]
[null,null,null,null,{"$f":"'Matriz VERDE-GBCe'!V45","v":"AS 03"},{"$f":"VLOOKUP(E94,'Matriz VERDE-GBCe'!$V$6:W$59,2,FALSE)","v":"Derecho al sol"},{"$f":"VLOOKUP(E94,'Matriz VERDE-GBCe'!$V$6:AL$59,3,FALSE)","v":1.6607628728374148E-2},null,1]
[]
[null,null,null,null,{"$f":"'Matriz VERDE-GBCe'!V46","v":"AS 04"},{"$f":"VLOOKUP(E96,'Matriz VERDE-GBCe'!$V$6:W$59,2,FALSE)","v":"Derecho a la intimidad"},{"$f":"VLOOKUP(E96,'Matriz VERDE-GBCe'!$V$6:AL$59,3,FALSE)","v":1.6017249345448948E-2},null,1]
[]
[null,null,null,null,{"$f":"'Matriz VERDE-GBCe'!V47","v":"AS 05"},{"$f":"VLOOKUP(E98,'Matriz VERDE-GBCe'!$V$6:W$59,2,FALSE)","v":"Contacto visual con el exterior"},{"$f":"VLOOKUP(E98,'Matriz VERDE-GBCe'!$V$6:AL$59,3,FALSE)","v":1.7018327429539504E-2},null,1]
[]
[null,null,null,null,{"$f":"'Matriz VERDE-GBCe'!V48","v":"AS 06"},{"$f":"VLOOKUP(E100,'Matriz VERDE-GBCe'!$V$6:W$59,2,FALSE)","v":"Espacios abiertos privados"},{"$f":"VLOOKUP(E100,'Matriz VERDE-GBCe'!$V$6:AL$59,3,FALSE)","v":1.735202012423636E-2},null,1]
[]
[null,null,null,null,{"$f":"'Matriz VERDE-GBCe'!V49","v":"AS 07"},{"$f":"VLOOKUP(E102,'Matriz VERDE-GBCe'!$V$6:W$59,2,FALSE)","v":"Diseño inclusivo"},{"$f":"VLOOKUP(E102,'Matriz VERDE-GBCe'!$V$6:AL$59,3,FALSE)","v":1.9764874993582836E-2},null,1]
[]
[null,null,null,null,{"$f":"'Matriz VERDE-GBCe'!V50","v":"AS 08"},{"$f":"VLOOKUP(E104,'Matriz VERDE-GBCe'!$V$6:W$59,2,FALSE)","v":"Conexión con la naturaleza"},{"$f":"VLOOKUP(E104,'Matriz VERDE-GBCe'!$V$6:AL$59,3,FALSE)","v":2.6053698855177373E-2},null,1]
[]
[null,null,null,null,{"$f":"'Matriz VERDE-GBCe'!V51","v":"AS 09"},{"$f":"VLOOKUP(E106,'Matriz VERDE-GBCe'!$V$6:W$59,2,FALSE)","v":"El edificio como herramienta de comunicación"},{"$f":"VLOOKUP(E106,'Matriz VERDE-GBCe'!$V$6:AL$59,3,FALSE)","v":1.8455772883618257E-2},null,1]
[]
[]
[null,null,{"$f":"'Matriz VERDE-GBCe'!U52","v":"CE"},null,{"$f":"'Matriz VERDE-GBCe'!V52","v":"Calidad de la edificación"},null,{"$f":"SUM(G113:G125)","v":0.18029672981159198}]
[]
[null,null,null,"Medidas"]
[]
[null,null,null,null,{"$f":"'Matriz VERDE-GBCe'!V53","v":"CE 01"},{"$f":"VLOOKUP(E113,'Matriz VERDE-GBCe'!$V$6:W$59,2,FALSE)","v":"Diseño pasivo"},{"$f":"VLOOKUP(E113,'Matriz VERDE-GBCe'!$V$6:AL$59,3,FALSE)","v":2.8363879049232509E-2},null,1]
[]
[null,null,null,null,{"$f":"'Matriz VERDE-GBCe'!V54","v":"CE 02"},{"$f":"VLOOKUP(E115,'Matriz VERDE-GBCe'!$V$6:W$59,2,FALSE)","v":"Control parcial de los sistemas de clima (HVAC)"},{"$f":"VLOOKUP(E115,'Matriz VERDE-GBCe'!$V$6:AL$59,3,FALSE)","v":2.6695415575748244E-2},null,1]
[]
[null,null,null,null,{"$f":"'Matriz VERDE-GBCe'!V55","v":"CE 03"},{"$f":"VLOOKUP(E117,'Matriz VERDE-GBCe'!$V$6:W$59,2,FALSE)","v":"Control local de la iluminación"},{"$f":"VLOOKUP(E117,'Matriz VERDE-GBCe'!$V$6:AL$59,3,FALSE)","v":2.2229067200574978E-2},null,1]
[]
[null,null,null,null,{"$f":"'Matriz VERDE-GBCe'!V56","v":"CE 04"},{"$f":"VLOOKUP(E119,'Matriz VERDE-GBCe'!$V$6:W$59,2,FALSE)","v":"Calidad en la construcción"},{"$f":"VLOOKUP(E119,'Matriz VERDE-GBCe'!$V$6:AL$59,3,FALSE)","v":3.4781046254941224E-2},null,1]
[]
[null,null,null,null,{"$f":"'Matriz VERDE-GBCe'!V57","v":"CE 05"},{"$f":"VLOOKUP(E121,'Matriz VERDE-GBCe'!$V$6:W$59,2,FALSE)","v":"Puesta en marcha sistemática"},{"$f":"VLOOKUP(E121,'Matriz VERDE-GBCe'!$V$6:AL$59,3,FALSE)","v":3.6115817033728632E-2},null,1]
[]
[null,null,null,null,{"$f":"'Matriz VERDE-GBCe'!V58","v":"CE 06"},{"$f":"VLOOKUP(E123,'Matriz VERDE-GBCe'!$V$6:W$59,2,FALSE)","v":"Custodia de la documentación del proyecto"},{"$f":"VLOOKUP(E123,'Matriz VERDE-GBCe'!$V$6:AL$59,3,FALSE)","v":3.2111504697366393E-2},null,1]
[]
[null,null,null,null,{"$f":"'Matriz VERDE-GBCe'!V59","v":"CE 07"},{"$f":"VLOOKUP(E125,'Matriz VERDE-GBCe'!$V$6:W$59,2,FALSE)","v":"Certificaciones voluntarias de edificios"},{"$f":"VLOOKUP(E125,'Matriz VERDE-GBCe'!$V$6:AL$59,3,FALSE)","v":0}]
[]
[]
[]
[]
[]
[null,null,null,null,null,null,{"$f":"G5+G28+G41+G70+G85+G109","v":1.0000000000000002}]
[null,null,null,null,null,null,{"$f":"SUM(G5:G128)/2","v":0.99999999999999956}]
[null,null,null,null,null,null,1]
[]
[]
[]
[null,null,null,null,null,null,1]

{"sheet":"PRE","index":10,"n_rows":849,"n_cols":41,"rows_kept":849,"cut":false,"hidden":false,"merged":[[718,3,718,7],[610,18,611,18],[618,18,619,18],[621,18,622,18],[624,18,625,18],[627,18,628,18],[554,18,555,18],[557,18,558,18],[563,4,563,11],[574,4,574,11],[582,4,582,11],[596,4,596,11],[616,4,616,11],[565,18,566,18],[568,3,569,14],[568,18,569,18],[576,18,577,18],[587,3,588,14],[584,18,585,18],[587,18,588,18],[590,18,591,18],[601,3,602,14],[598,18,599,18],[601,18,602,18],[604,18,605,18],[607,18,608,18],[516,18,517,18],[522,4,522,11],[539,4,539,11],[552,4,552,11],[524,18,525,18],[527,18,528,18],[530,18,531,18],[533,18,534,18],[546,3,547,14],[543,18,544,18],[546,18,547,18],[518,3,518,5],[527,3,527,14],[529,3,529,14],[530,3,530,14],[533,3,533,14],[535,3,535,5],[524,3,524,14],[491,18,492,18],[494,18,495,18],[497,18,498,18],[491,3,492,14],[494,3,495,14],[488,3,489,14],[508,1,508,2],[511,4,511,11],[513,18,514,18],[499,3,499,5],[493,3,493,14],[508,14,508,15],[496,3,496,14],[445,18,446,18],[455,18,456,18],[458,18,459,18],[461,18,462,18],[469,18,470,18],[472,18,473,18],[475,18,476,18],[478,18,479,18],[488,18,489,18],[431,18,432,18],[434,18,435,18],[437,18,438,18],[118,18,119,18],[64,18,65,18],[67,18,68,18],[77,18,78,18],[80,18,81,18],[90,18,91,18],[93,18,94,18],[96,18,97,18],[106,18,107,18],[109,18,110,18],[207,18,208,18],[210,18,211,18],[213,18,214,18],[241,18,242,18],[244,18,245,18],[247,18,248,18],[255,18,256,18],[263,18,264,18],[266,18,267,18],[269,18,270,18],[277,18,278,18],[48,18,49,18],[58,18,59,18],[61,18,62,18],[82,3,82,5],[60,3,60,14],[61,3,61,14],[77,3,77,14],[79,3,79,14],[426,1,426,2],[92,3,92,14],[180,3,180,14],[154,3,154,14],[167,3,167,14],[168,3,168,14],[177,3,177,14],[294,3,294,14],[296,3,296,14],[187,3,187,14],[165,4,165,11],[185,4,185,11],[196,4,196,11],[325,3,325,14],[302,3,302,5],[249,3,249,5],[712,3,712,5],[409,3,409,14],[497,3,497,14],[486,3,486,14],[98,3,98,5],[112,3,112,5],[120,3,120,5],[380,3,380,5],[69,3,69,5],[90,3,90,14],[73,4,73,11],[86,5,86,12],[102,4,102,11],[116,4,116,11],[429,4,429,11],[437,3,438,14],[706,3,706,14],[693,12,693,14],[684,3,684,5],[697,3,697,14],[610,3,610,14],[627,3,627,14],[629,3,629,5],[638,3,638,11],[626,3,626,14],[1,1,1,18],[1,19,1,20],[2,19,2,20],[2,1,2,18],[4,1,4,2],[7,4,7,11],[604,3,604,14],[526,3,526,14],[9,18,10,18],[15,4,15,11],[23,4,23,11],[36,4,36,11],[54,4,54,11],[17,18,18,18],[27,3,28,14],[27,18,28,18],[30,18,31,18],[30,3,31,14],[42,18,43,18],[45,18,46,18],[516,3,516,14],[515,3,515,14],[607,3,607,14],[478,3,478,14],[439,3,439,5],[447,3,447,5],[463,3,463,5],[443,4,443,11],[451,4,451,11],[467,4,467,11],[751,3,751,5],[541,3,541,7],[541,9,541,11],[565,3,565,14],[508,3,508,11],[540,3,540,12],[545,3,545,14],[543,3,544,14],[548,3,548,5],[586,3,586,14],[643,3,643,11],[589,3,589,14],[590,3,590,14],[592,3,592,5],[598,3,598,14],[700,3,700,14],[692,3,692,14],[453,3,453,14],[431,3,431,14],[433,3,433,14],[452,3,452,14],[460,3,460,14],[384,4,384,11],[401,4,401,11],[395,3,395,14],[392,3,392,14],[457,3,457,14],[458,3,458,14],[403,3,403,14],[426,14,426,15],[454,3,454,14],[455,3,455,14],[386,3,386,14],[397,3,397,5],[445,3,445,14],[461,3,461,14],[468,3,468,14],[490,3,490,14],[762,3,762,5],[709,3,709,14],[689,3,689,14],[487,3,487,14],[532,3,532,14],[576,3,576,14],[578,3,578,5],[583,3,583,11],[668,3,669,14],[671,3,672,14],[679,3,680,14],[682,3,683,14],[690,3,691,14],[720,3,721,14],[723,3,724,14],[469,3,469,14],[471,3,471,14],[472,3,472,14],[474,3,474,14],[475,3,475,14],[477,3,477,14],[827,15,827,16],[825,15,825,16],[786,3,786,14],[780,3,780,14],[778,3,778,14],[789,3,789,14],[790,3,790,14],[781,3,781,14],[787,3,787,14],[783,3,783,14],[784,3,784,14],[823,2,823,11],[825,2,825,11],[827,2,827,11],[812,3,812,4],[814,3,814,4],[816,3,816,4],[818,3,818,4],[263,3,263,14],[314,3,314,14],[388,3,388,14],[300,3,300,14],[299,3,299,14],[372,3,372,14],[375,3,375,14],[378,3,378,14],[266,3,266,14],[268,3,268,14],[271,3,271,5],[288,3,288,5],[269,3,269,14],[351,3,351,14],[366,3,366,14],[275,4,275,11],[265,3,265,14],[277,3,277,14],[279,3,279,14],[364,3,364,5],[118,3,118,14],[106,3,106,14],[108,3,108,14],[109,3,109,14],[111,3,111,14],[137,3,137,14],[138,3,139,14],[140,3,140,14],[141,3,142,14],[257,3,257,5],[247,3,247,14],[235,3,235,5],[175,3,176,14],[254,3,254,14],[255,3,255,14],[241,3,241,14],[243,3,243,14],[225,3,225,11],[207,3,207,14],[210,3,210,14],[253,4,253,11],[225,14,225,15],[230,3,230,14],[232,3,232,14],[233,3,233,14],[244,3,244,14],[246,3,246,14],[261,4,261,11],[415,3,415,14],[417,3,417,5],[434,3,434,14],[436,3,436,14],[426,3,426,11],[4,3,4,13],[4,14,4,15],[9,3,9,14],[57,3,57,14],[58,3,58,14],[38,3,38,14],[41,3,41,14],[42,3,42,14],[56,3,56,14],[17,3,17,14],[25,3,25,14],[26,3,26,14],[11,3,11,5],[19,3,19,5],[32,3,32,5],[47,3,47,14],[285,3,285,14],[286,3,286,14],[703,3,703,14],[673,3,673,5],[654,3,654,11],[654,13,654,14],[657,3,657,11],[657,13,657,14],[693,3,693,11],[484,4,484,11],[584,3,584,14],[554,3,554,14],[556,3,556,14],[557,3,557,14],[559,3,559,5],[567,3,567,11],[570,3,570,5],[513,3,513,14],[638,14,638,15],[612,3,612,5],[618,3,618,14],[620,3,620,14],[621,3,621,14],[623,3,623,14],[659,3,659,5],[624,3,624,14],[93,3,93,14],[148,3,148,14],[151,3,151,14],[197,4,197,12],[44,3,44,14],[45,3,45,14],[96,3,96,14],[152,3,153,14],[155,3,156,14],[158,3,159,14],[161,3,161,5],[169,3,170,14],[172,3,173,14],[181,3,181,5],[192,3,192,5],[80,3,80,14],[63,3,63,14],[64,3,64,14],[66,3,66,14],[67,3,67,14],[189,3,189,14],[48,3,48,14],[50,3,50,5],[134,3,134,14],[129,1,129,2],[132,4,132,11],[138,18,139,18],[141,18,142,18],[144,18,145,18],[149,18,150,18],[152,18,153,18],[155,18,156,18],[158,18,159,18],[129,14,129,15],[143,3,143,14],[144,3,145,14],[149,3,150,14],[136,3,136,14],[147,3,147,14],[129,3,129,11],[225,1,225,2],[228,4,228,11],[230,18,231,18],[233,18,234,18],[239,4,239,11],[169,18,170,18],[172,18,173,18],[175,18,176,18],[178,18,179,18],[187,18,188,18],[190,18,191,18],[198,18,199,18],[201,18,202,18],[204,18,205,18],[213,3,213,14],[215,3,215,5],[204,3,204,14],[201,3,201,14],[198,3,198,14],[190,3,190,14],[186,3,186,14],[178,3,179,14],[280,18,281,18],[283,18,284,18],[286,18,287,18],[292,4,292,11],[306,4,306,11],[323,4,323,11],[294,18,295,18],[297,18,298,18],[300,18,301,18],[308,18,309,18],[311,18,312,18],[314,18,315,18],[317,18,318,18],[280,3,280,14],[283,3,283,14],[319,3,319,5],[308,3,308,14],[310,3,310,14],[297,3,297,14],[317,3,317,14],[311,3,311,14],[313,3,313,14],[325,18,326,18],[328,18,329,18],[331,18,332,18],[334,18,335,18],[337,18,338,18],[340,18,341,18],[343,18,344,18],[349,4,349,11],[363,4,363,11],[357,3,357,14],[358,3,358,14],[343,3,343,14],[345,3,345,5],[328,3,328,14],[331,3,331,14],[334,3,334,14],[359,3,359,5],[337,3,337,14],[340,3,340,14],[354,3,354,14],[351,18,352,18],[354,18,355,18],[357,18,358,18],[366,18,367,18],[369,18,370,18],[372,18,373,18],[375,18,376,18],[378,18,379,18],[386,18,387,18],[369,3,369,14],[391,3,391,14],[394,3,394,14],[638,1,638,2],[641,4,641,11],[650,5,650,13],[651,3,651,11],[651,13,651,14],[648,5,649,13],[645,5,646,13],[415,18,416,18],[389,3,390,14],[412,3,413,14],[389,18,390,18],[392,18,393,18],[395,18,396,18],[403,18,404,18],[406,18,407,18],[409,18,410,18],[412,18,413,18],[411,3,411,14],[406,3,406,14],[408,3,408,14],[414,3,414,14],[405,3,405,14],[480,3,480,5],[645,18,646,18],[648,18,649,18],[651,18,652,18],[654,18,655,18],[657,18,658,18],[663,4,663,11],[677,4,677,11],[688,4,688,11],[665,3,666,14],[665,18,666,18],[668,18,669,18],[671,18,672,18],[679,18,680,18],[682,18,683,18],[681,3,681,14],[690,18,691,18],[693,18,694,18],[698,18,699,18],[701,18,702,18],[704,18,705,18],[707,18,708,18],[710,18,711,18],[716,4,716,11],[744,4,744,11],[720,18,721,18],[723,18,724,18],[726,18,727,18],[729,18,730,18],[732,18,733,18],[735,18,736,18],[738,18,739,18],[696,3,696,11],[696,12,696,14],[698,5,698,13],[701,5,701,13],[704,5,704,13],[707,5,707,13],[710,3,710,11],[710,12,710,14],[726,3,727,14],[729,3,730,14],[738,3,739,14],[746,3,747,14],[749,3,750,14],[755,4,755,11],[732,3,732,11],[732,12,732,14],[735,3,735,11],[735,12,735,14],[740,3,740,5],[746,18,747,18],[749,18,750,18],[760,3,761,14],[757,18,758,18],[760,18,761,18],[773,1,773,2],[773,3,773,11],[773,12,773,13],[776,4,776,11],[757,3,757,11],[757,12,757,14],[778,18,779,18],[781,18,782,18],[784,18,785,18],[787,18,788,18],[790,18,791,18],[804,3,804,4],[806,3,806,4],[808,3,808,4],[810,3,810,4]]}
[]
[null,"VERDE Edificios 2020 Usos distintos del Residencial privado \nNueva Edificación, Rehabilitación, Edificio Existente y Parte en un edificio",null,null,null,null,null,null,null,null,null,null,null,null,null,null,null,null,null,null,null,null,null,null,"SEGURO","SÍ"]
[null,"PRE-EVALUACIÓN",null,null,null,null,null,null,null,null,null,null,null,null,null,null,null,null,null,null,null,null,null,null,"PROBABLE","NO"]
[null,null,null,null,null,null,null,null,null,null,null,null,null,null,null,null,null,null,null,null,null,null,null,null,"DUDOSO"]
[null,{"$f":"'Matriz VERDE-GBCe'!U6","v":"PE"},null,{"$f":"'Matriz VERDE-GBCe'!V6","v":"Parcela y emplazamiento"},null,null,null,null,null,null,null,null,null,null,"Valoración total",null,{"$f":"'Matriz VERDE-GBCe'!X6","v":0.15244622413881617},null,null,null,null,null,null,null,"NO CUMPLE"]
[null,null,null,null,null,null,null,null,null,null,null,null,null,null,null,null,null,null,null,null,null,null,null,null,"NO APLICA"]
[]
[null,null,null,{"$f":"'Matriz VERDE-GBCe'!V7","v":"PE 01"},{"$f":"VLOOKUP($D8,'Matriz VERDE-GBCe'!$V$6:$Y$59,2,FALSE)","v":"Proximidad al transporte publico."},null,null,null,null,null,null,null,null,null,{"$f":"VLOOKUP($D8,'Matriz VERDE-GBCe'!$V$6:$Y$59,3,FALSE)","v":1.4297448534319013E-2},null,null,null,null,null,null,null,null,null,"Target","SEGURO",null,"PROBABLE",null,"DUDOSO",null,"NO CUMPLE",null,"NO APLICA"]
[]
[null,null,null,"Se cumple con el número de líneas determinado en el radio correspondiente",null,null,null,null,null,null,null,null,null,null,null,null,null,null,null,null,null,null,null,null,1,{"$f":"+IF($Q10=\"seguro\",$Y10,0)","v":0},null,{"$f":"+IF($Q10=\"probable\",$Y10,0)","v":0},null,{"$f":"+IF($Q10=\"dudoso\",$Y10,0)","v":0},null,{"$f":"+IF($Q10=\"NO CUMPLE\",$Y10,0)","v":0},null,{"$f":"+IF($Q10=\"no aplica\",2,0)","v":0}]
[]
[null,null,null,"Valoración obtenida:",null,null,null,"SEGURO",null,"PROBABLE",null,"DUDOSO",null,null,null,null,null,null,null,null,null,null,null,null,{"$f":"SUM(Y9:Y10)","v":1},{"$f":"IF($O8=\"\",0,SUM(Z9:Z10)*$O8/$Y12)","v":0},null,{"$f":"IF($O8=\"\",0,SUM(AB9:AB10)*$O8/$Y12)","v":0},null,{"$f":"IF($O8=\"\",0,SUM(AD9:AD10)*$O8/$Y12)","v":0},null,{"$f":"IF($O8=\"\",0,SUM(AF9:AF10)*$O8/$Y12)","v":0}]
[null,null,null,null,null,null,null,{"$f":"Z12","v":0},null,{"$f":"AB12","v":0},null,{"$f":"AD12","v":0}]
[]
[]
[null,null,null,{"$f":"'Matriz VERDE-GBCe'!V8","v":"PE 02"},{"$f":"VLOOKUP($D16,'Matriz VERDE-GBCe'!$V$6:$Y$59,2,FALSE)","v":"Proximidad a equipamiento y servicios."},null,null,null,null,null,null,null,null,null,{"$f":"VLOOKUP($D16,'Matriz VERDE-GBCe'!$V$6:$Y$59,3,FALSE)","v":1.3476051131988296E-2},null,null,null,null,null,null,null,null,null,"Target","SEGURO",null,"PROBABLE",null,"DUDOSO",null,"NO CUMPLE",null,"NO APLICA"]
[]
[null,null,null,"Se cumple con el número de equipamientos determinados en el radio correspondiente",null,null,null,null,null,null,null,null,null,null,null,null,null,null,null,null,null,null,null,null,1,{"$f":"+IF($Q18=\"seguro\",$Y18,0)","v":0},null,{"$f":"+IF($Q18=\"probable\",$Y18,0)","v":0},null,{"$f":"+IF($Q18=\"dudoso\",$Y18,0)","v":0},null,{"$f":"+IF($Q18=\"NO CUMPLE\",$Y18,0)","v":0},null,{"$f":"+IF($Q18=\"no aplica\",2,0)","v":0}]
[]
[null,null,null,"Valoración obtenida:",null,null,null,"SEGURO",null,"PROBABLE",null,"DUDOSO",null,null,null,null,null,null,null,null,null,null,null,null,{"$f":"SUM(Y18:Y18)","v":1},{"$f":"IF($O16=\"\",0,SUM(Z17:Z18)*$O16/$Y20)","v":0},null,{"$f":"IF($O16=\"\",0,SUM(AB17:AB18)*$O16/$Y20)","v":0},null,{"$f":"IF($O16=\"\",0,SUM(AD17:AD18)*$O16/$Y20)","v":0},null,{"$f":"IF($O16=\"\",0,SUM(AF17:AF18)*$O16/$Y20)","v":0}]
[null,null,null,null,null,null,null,{"$f":"Z20","v":0},null,{"$f":"AB20","v":0},null,{"$f":"AD20","v":0}]
[]
[]
[null,null,null,{"$f":"'Matriz VERDE-GBCe'!V9","v":"PE 03"},{"$f":"VLOOKUP($D24,'Matriz VERDE-GBCe'!$V$6:$Y$59,2,FALSE)","v":"Facilidades para la bicicleta."},null,null,null,null,null,null,null,null,null,{"$f":"VLOOKUP($D24,'Matriz VERDE-GBCe'!$V$6:$Y$59,3,FALSE)","v":1.6299604702500133E-2}]
[]
[null,null,null,{"$f":"IF(DG!$F$31=\"\",\"\",DG!$F$31)","v":""},null,null,null,null,null,null,null,null,null,null,null,null,null,null,null,null,null,null,null,null,"Target","SEGURO",null,"PROBABLE",null,"DUDOSO",null,"NO CUMPLE",null,"NO APLICA"]
[]
[null,null,null,"Se cumple con el número de aparcabicis determinado y las medidas de seguridad para los elementos y el emplazamiento de los mismos",null,null,null,null,null,null,null,null,null,null,null,null,null,null,null,null,null,null,null,null,{"$f":"IF(N26=\"Unifamiliar\",0,1)","v":1},{"$f":"+IF($Q28=\"seguro\",$Y28,0)","v":0},null,{"$f":"+IF($Q28=\"probable\",$Y28,0)","v":0},null,{"$f":"+IF($Q28=\"dudoso\",$Y28,0)","v":0},null,{"$f":"+IF($Q28=\"NO CUMPLE\",$Y28,0)","v":0},null,{"$f":"+IF($Q28=\"no aplica\",2,0)","v":0}]
[]
[]
[null,null,null,"No se dispone espacio libre en la parcela o espacio de aparcamiento pero existe un aparcamiento para bicicletas en vía pública a menos de 300 m",null,null,null,null,null,null,null,null,null,null,null,null,null,null,null,null,null,null,null,null,{"$f":"IF(D26=\"Nueva Edificación\",0,0.5)","v":0.5},{"$f":"+IF($Q31=\"seguro\",$Y31,0)","v":0},null,{"$f":"+IF($Q31=\"probable\",$Y31,0)","v":0},null,{"$f":"+IF($Q31=\"dudoso\",$Y31,0)","v":0},null,{"$f":"+IF($Q31=\"NO CUMPLE\",$Y31,0)","v":0}]
[]
[null,null,null,"Valoración obtenida:",null,null,null,"SEGURO",null,"PROBABLE",null,"DUDOSO"]
[null,null,null,null,null,null,null,{"$f":"Z34","v":0},null,{"$f":"AB34","v":0},null,{"$f":"AD34","v":0},null,null,null,null,null,null,null,null,null,null,null,null,{"$f":"SUM(Y28:Y28)","v":1},{"$f":"IF($O24=\"\",0,MAX(Z27:Z33)*$O24)","v":0},null,{"$f":"IF($O24=\"\",0,MAX(AB27:AB33)*$O24)","v":0},null,{"$f":"IF($O24=\"\",0,MAX(AD27:AD33)*$O24)","v":0},null,{"$f":"IF($O24=\"\",0,MAX(AF27:AF33)*$O24)","v":0}]
[]
[]
[null,null,null,{"$f":"'Matriz VERDE-GBCe'!V10","v":"PE 04"},{"$f":"VLOOKUP($D37,'Matriz VERDE-GBCe'!$V$6:$Y$59,2,FALSE)","v":"Capacidad de carga de vehículos eléctricos."},null,null,null,null,null,null,null,null,null,{"$f":"VLOOKUP($D37,'Matriz VERDE-GBCe'!$V$6:$Y$59,3,FALSE)","v":1.6017249345448948E-2}]
[]
[null,null,null,{"$f":"IF(DG!$F$29=0,\"\",DG!$F$29)","v":""}]
[]
[null,null,null,"NOTA: Este criterio se evalúa por fórmulas lineales, la puntuación puede variar en la evaluación final. Ver la guía.",null,null,null,null,null,null,null,null,null,null,null,null,null,null,null,null,null,null,null,null,"Target","SEGURO",null,"PROBABLE",null,"DUDOSO",null,"NO CUMPLE",null,"NO APLICA"]
[]
[null,null,null,"¿Todas las plazas de aparcamiento sin carga cuentan con una preinstalación de carga para vehículos?",null,null,null,null,null,null,null,null,null,null,null,null,null,null,null,null,null,null,null,null,null,null,null,null,null,null,null,null,null,{"$f":"+IF($Q43=\"no aplica\",2,0)","v":0}]
[]
[]
[null,null,null,"El porcentaje de plazas con carga para vehículos eléctricos es superior al 35% con,al menos, 2 plazas.",null,null,null,null,null,null,null,null,null,null,null,null,null,null,null,null,null,null,null,null,0.5,{"$f":"+IF($Q46=\"seguro\",$Y46,0)","v":0},null,{"$f":"+IF($Q46=\"probable\",$Y46,0)","v":0},null,{"$f":"+IF($Q46=\"dudoso\",$Y46,0)","v":0},null,{"$f":"+IF($Q46=\"NO CUMPLE\",$Y46,0)","v":0}]
[]
[]
[null,null,null,"El porcentaje de plazas con carga para vehículos eléctricos es superior al 50% con,al menos, 2 plazas.",null,null,null,null,null,null,null,null,null,null,null,null,null,null,null,null,null,null,null,null,0.5,{"$f":"+IF($Q49=\"seguro\",$Y49,0)","v":0},null,{"$f":"+IF($Q49=\"probable\",$Y49,0)","v":0},null,{"$f":"+IF($Q49=\"dudoso\",$Y49,0)","v":0},null,{"$f":"+IF($Q49=\"NO CUMPLE\",$Y49,0)","v":0},null,{"$f":"+IF($Q49=\"no aplica\",2,0)","v":0}]
[]
[null,null,null,"Valoración obtenida:",null,null,null,"SEGURO",null,"PROBABLE",null,"DUDOSO",null,null,null,null,null,null,null,null,null,null,null,null,{"$f":"SUM(Y43:Y49)","v":1},{"$f":"IF($O37=\"\",0,SUM(Z45:Z49)*$O37/$Y51)","v":0},null,{"$f":"IF($O37=\"\",0,SUM(AB43:AB49)*$O37/$Y51)","v":0},null,{"$f":"IF($O37=\"\",0,SUM(AD43:AD49)*$O37/$Y51)","v":0},null,{"$f":"IF($O37=\"\",0,SUM(AF43:AF49)*$O37/$Y51)","v":0}]
[null,null,null,null,null,null,null,{"$f":"IF(Q43=\"Seguro\",Z51,0)","v":0},null,{"$f":"IF(Q43=\"Seguro\",AB51,0)","v":0},null,{"$f":"IF(Q43=\"Seguro\",AD51,0)","v":0}]
[]
[]
[null,null,null,{"$f":"'Matriz VERDE-GBCe'!V11","v":"PE 05"},{"$f":"VLOOKUP($D55,'Matriz VERDE-GBCe'!$V$6:$Y$59,2,FALSE)","v":"Clasificación de RSU."},null,null,null,null,null,null,null,null,null,{"$f":"VLOOKUP($D55,'Matriz VERDE-GBCe'!$V$6:$Y$59,3,FALSE)","v":1.1294214282047332E-2},null,null,null,null,null,null,null,{"$f":"IF(DG!F29=\"Unifamiliar\",\"Uni\",IF(DG!F29=\"Multi-residencial\",\"Res\",\"\"))","v":""},null,null,null,null,null,null,null,null,null,null,null,null,{"$f":"IF(DG!F31=\"\",\"\",IF(DG!F31=\"rehabilitación\",\"RH\",\"NE\"))","v":""},{"$f":"IF(DG!F29=\"unifamiliar\",\"Uni\", \"Res\")","v":"Res"}]
[]
[null,null,null,{"$f":"IF(DG!$F$29=0,\"\",DG!$F$29)","v":""},null,null,null,null,null,null,null,null,null,null,null,null,null,null,null,null,null,null,null,null,"Target","SEGURO",null,"PROBABLE",null,"DUDOSO",null,"NO CUMPLE",null,"NO APLICA"]
[]
[null,null,null,"Hay contenedores en cada planta para, al menos, papel y cartón, vidrio, envases y resto.",null,null,null,null,null,null,null,null,null,null,null,null,null,null,null,null,null,null,null,null,0.25,{"$f":"+IF($Q59=\"seguro\",$Y59,0)","v":0},null,{"$f":"+IF($Q59=\"probable\",$Y59,0)","v":0},null,{"$f":"+IF($Q59=\"dudoso\",$Y59,0)","v":0},null,{"$f":"+IF($Q59=\"NO CUMPLE\",$Y59,0)","v":0},null,{"$f":"+IF($Q59=\"no aplica\",2,0)","v":0},null,null,{"$f":"IF(AK55=\"uni\",0.35,IF(AJ55=\"ne\",0.3,IF(AJ55=\"rh\",0.4,0)))","v":0}]
[]
[null,null,null,null,null,null,null,null,null,null,null,null,null,null,null,null,null,null,null,null,null,null,null,null,null,null,null,null,null,null,null,null,null,null,null,null,{"$f":"IF(AK55=\"uni\",0.35,IF(AJ55=\"ne\",0.2,IF(AJ55=\"rh\",0.2,0)))","v":0}]
[null,null,null,"Existe un espacio en la planta baja para almaenar trastos.",null,null,null,null,null,null,null,null,null,null,null,null,null,null,null,null,null,null,null,null,0.25,{"$f":"+IF($Q62=\"seguro\",$Y62,0)","v":0},null,{"$f":"+IF($Q62=\"probable\",$Y62,0)","v":0},null,{"$f":"+IF($Q62=\"dudoso\",$Y62,0)","v":0},null,{"$f":"+IF($Q62=\"NO CUMPLE\",$Y62,0)","v":0},null,{"$f":"+IF($Q62=\"no aplica\",2,0)","v":0},null,null,{"$f":"IF(AK55=\"uni\",0,IF(AJ55=\"ne\",0.3,IF(AJ55=\"rh\",0.2,0)))","v":0}]
[]
[]
[null,null,null,"Existe un sistema de revalorización de residuos en la parcela.",null,null,null,null,null,null,null,null,null,null,null,null,null,null,null,null,null,null,null,null,0.25,{"$f":"+IF($Q65=\"seguro\",$Y65,0)","v":0},null,{"$f":"+IF($Q65=\"probable\",$Y65,0)","v":0},null,{"$f":"+IF($Q65=\"dudoso\",$Y65,0)","v":0},null,{"$f":"+IF($Q65=\"NO CUMPLE\",$Y65,0)","v":0},null,{"$f":"+IF($Q65=\"no aplica\",2,0)","v":0}]
[]
[]
[null,null,null,"Se cumplen otras medidas de reducción, clasificación o gestión de residuos",null,null,null,null,null,null,null,null,null,null,null,null,null,null,null,null,null,null,null,null,0.25,{"$f":"+IF($Q68=\"seguro\",$Y68,0)","v":0},null,{"$f":"+IF($Q68=\"probable\",$Y68,0)","v":0},null,{"$f":"+IF($Q68=\"dudoso\",$Y68,0)","v":0},null,{"$f":"+IF($Q68=\"NO CUMPLE\",$Y68,0)","v":0},null,{"$f":"+IF($Q68=\"no aplica\",2,0)","v":0}]
[]
[null,null,null,"Valoración obtenida:",null,null,null,"SEGURO",null,"PROBABLE",null,"DUDOSO",null,null,null,null,null,null,null,null,null,null,null,null,{"$f":"SUM(Y59:Y68)","v":1},{"$f":"IF($O55=\"\",0,SUM(Z59:Z68)*$O55/Y70)","v":0},null,{"$f":"IF($O55=\"\",0,SUM(AB59:AB68)*$O55/$Y70)","v":0},null,{"$f":"IF($O55=\"\",0,SUM(AD59:AD68)*$O55/$Y70)","v":0},null,{"$f":"IF($O55=\"\",0,SUM(AF59:AF68)*$O55/$Y70)","v":0}]
[null,null,null,null,null,null,null,{"$f":"Z70","v":0},null,{"$f":"AB70","v":0},null,{"$f":"AD70","v":0}]
[]
[]
[null,null,null,{"$f":"'Matriz VERDE-GBCe'!V12","v":"PE 06"},{"$f":"VLOOKUP($D74,'Matriz VERDE-GBCe'!$V$6:$Y$59,2,FALSE)","v":"Gestión y Restauración del hábitat."},null,null,null,null,null,null,null,null,null,{"$f":"VLOOKUP($D74,'Matriz VERDE-GBCe'!$V$6:$Y$59,3,FALSE)","v":2.2819446583500182E-2},null,null,null,null,null,null,null,null,null,"Target","SEGURO",null,"PROBABLE",null,"DUDOSO",null,"NO CUMPLE",null,"NO APLICA"]
[]
[null,null,null,"NOTA: Este criterio se evalúa por fórmulas lineales, la puntuación puede variar en la evaluación final. Ver la guía."]
[]
[null,null,null,"El porcentaje de superficie ajardinada ocupado por plantas autóctonas es superior al 50%",null,null,null,null,null,null,null,null,null,null,null,null,null,null,null,null,null,null,null,null,0.5,{"$f":"+IF($Q78=\"seguro\",$Y78,0)","v":0},null,{"$f":"+IF($Q78=\"probable\",$Y78,0)","v":0},null,{"$f":"+IF($Q78=\"dudoso\",$Y78,0)","v":0},null,{"$f":"+IF($Q78=\"NO CUMPLE\",$Y78,0)","v":0},null,{"$f":"+IF($Q78=\"no aplica\",2,0)","v":0}]
[]
[]
[null,null,null,"El porcentaje de superficie ajardinada ocupado por plantas autóctonas es superior al 75%",null,null,null,null,null,null,null,null,null,null,null,null,null,null,null,null,null,null,null,null,0.5,{"$f":"+IF($Q81=\"seguro\",$Y81,0)","v":0},null,{"$f":"+IF($Q81=\"probable\",$Y81,0)","v":0},null,{"$f":"+IF($Q81=\"dudoso\",$Y81,0)","v":0},null,{"$f":"+IF($Q81=\"NO CUMPLE\",$Y81,0)","v":0},null,{"$f":"+IF($Q81=\"no aplica\",2,0)","v":0}]
[]
[null,null,null,"Valoración obtenida:",null,null,null,"SEGURO",null,"PROBABLE",null,"DUDOSO",null,null,null,null,null,null,null,null,null,null,null,null,{"$f":"SUM(Y75:Y81)","v":1},{"$f":"IF($O74=\"\",0,SUM(Z78:Z81)*$O74/$Y83)","v":0},null,{"$f":"IF($O74=\"\",0,SUM(AB78:AB81)*$O74/$Y83)","v":0},null,{"$f":"IF($O74=\"\",0,SUM(AD78:AD81)*$O74/$Y83)","v":0},null,{"$f":"IF($O74=\"\",0,SUM(AF78:AF81)*$O74/$Y83)","v":0}]
[null,null,null,null,null,null,null,{"$f":"Z83","v":0},null,{"$f":"AB83","v":0},null,{"$f":"AD83","v":0}]
[]
[]
[null,null,null,{"$f":"'Matriz VERDE-GBCe'!V13","v":"PE 07"},null,{"$f":"VLOOKUP($D87,'Matriz VERDE-GBCe'!$V$6:$Y$59,2,FALSE)","v":"Uso de plantas para crear sombras."},null,null,null,null,null,null,null,null,{"$f":"VLOOKUP($D87,'Matriz VERDE-GBCe'!$V$6:$Y$59,3,FALSE)","v":1.8122080188921405E-2},{"$f":"VLOOKUP($D87,'Matriz VERDE-GBCe'!$V$6:$Y$59,3,FALSE)","v":1.8122080188921405E-2},null,null,null,null,null,null,null,null,"Target","SEGURO",null,"PROBABLE",null,"DUDOSO",null,"NO CUMPLE",null,"NO APLICA"]
[]
[null,null,null,"NOTA: Este criterio se evalúa por fórmulas lineales, la puntuación puede variar en la evaluación final. Ver la guía."]
[]
[null,null,null,"Se cumplen los requisitos de sombreamiento para la fachada oeste",null,null,null,null,null,null,null,null,null,null,null,null,null,null,null,null,null,null,null,null,0.4,{"$f":"+IF($Q91=\"seguro\",$Y91,0)","v":0},null,{"$f":"+IF($Q91=\"probable\",$Y91,0)","v":0},null,{"$f":"+IF($Q91=\"dudoso\",$Y91,0)","v":0},null,{"$f":"+IF($Q91=\"NO CUMPLE\",$Y91,0)","v":0},null,{"$f":"+IF($Q91=\"no aplica\",2,0)","v":0}]
[]
[]
[null,null,null,"Se cumplen los requisitos de sombreamiento de la fachada este",null,null,null,null,null,null,null,null,null,null,null,null,null,null,null,null,null,null,null,null,0.3,{"$f":"+IF($Q94=\"seguro\",$Y94,0)","v":0},null,{"$f":"+IF($Q94=\"probable\",$Y94,0)","v":0},null,{"$f":"+IF($Q94=\"dudoso\",$Y94,0)","v":0},null,{"$f":"+IF($Q94=\"NO CUMPLE\",$Y94,0)","v":0},null,{"$f":"+IF($Q94=\"no aplica\",2,0)","v":0}]
[]
[]
[null,null,null,"Se cumplen los requisitos de sombreamiento de la fachada sur",null,null,null,null,null,null,null,null,null,null,null,null,null,null,null,null,null,null,null,null,0.3,{"$f":"+IF($Q97=\"seguro\",$Y97,0)","v":0},null,{"$f":"+IF($Q97=\"probable\",$Y97,0)","v":0},null,{"$f":"+IF($Q97=\"dudoso\",$Y97,0)","v":0},null,{"$f":"+IF($Q97=\"NO CUMPLE\",$Y97,0)","v":0}]
[]
[null,null,null,"Valoración obtenida:",null,null,null,"SEGURO",null,"PROBABLE",null,"DUDOSO",null,null,null,null,null,null,null,null,null,null,null,null,{"$f":"SUM(Y91:Y97)","v":1},{"$f":"IF($O87=\"\",0,SUM(Z91:Z97)*$O87/$Y99)","v":0},null,{"$f":"IF($O87=\"\",0,SUM(AB91:AB97)*$O87/$Y99)","v":0},null,{"$f":"IF($O87=\"\",0,SUM(AD91:AD97)*$O87/$Y99)","v":0},null,{"$f":"IF($O87=\"\",0,SUM(AF91:AF97)*$O87/$Y99)","v":0}]
[null,null,null,null,null,null,null,{"$f":"Z99","v":0},null,{"$f":"AB99","v":0},null,{"$f":"AD99","v":0}]
[]
[]
[null,null,null,{"$f":"'Matriz VERDE-GBCe'!V14","v":"PE 08"},{"$f":"VLOOKUP($D103,'Matriz VERDE-GBCe'!$V$6:$Y$59,2,FALSE)","v":"Efecto isla de calor."},null,null,null,null,null,null,null,null,null,{"$f":"VLOOKUP($D103,'Matriz VERDE-GBCe'!$V$6:$Y$59,3,FALSE)","v":2.043226038297654E-2},null,null,null,null,null,null,null,null,null,"Target","SEGURO",null,"PROBABLE",null,"DUDOSO",null,"NO CUMPLE",null,"NO APLICA"]
[]
[null,null,null,"NOTA: Este criterio se evalúa por fórmulas lineales, la puntuación puede variar en la evaluación final. Ver la guía."]
[]
[null,null,null,"El porcentaje de superficie libre de parcela más cubierta, que evita la isla de calor es superior al 70%",null,null,null,null,null,null,null,null,null,null,null,null,null,null,null,null,null,null,null,null,0.7,{"$f":"+IF($Q107=\"seguro\",$Y107,0)","v":0},null,{"$f":"+IF($Q107=\"probable\",$Y107,0)","v":0},null,{"$f":"+IF($Q107=\"dudoso\",$Y107,0)","v":0},null,{"$f":"+IF($Q107=\"NO CUMPLE\",$Y107,0)","v":0},null,{"$f":"+IF($Q107=\"no aplica\",2,0)","v":0}]
[]
[]
[null,null,null,"El porcentaje de superficie de fachadas este, sur y oeste que evita la isla de calor es superior al 70%",null,null,null,null,null,null,null,null,null,null,null,null,null,null,null,null,null,null,null,null,0.3,{"$f":"+IF($Q110=\"seguro\",$Y110,0)","v":0},null,{"$f":"+IF($Q110=\"probable\",$Y110,0)","v":0},null,{"$f":"+IF($Q110=\"dudoso\",$Y110,0)","v":0},null,{"$f":"+IF($Q110=\"NO CUMPLE\",$Y110,0)","v":0},null,{"$f":"+IF($Q110=\"no aplica\",2,0)","v":0}]
[]
[]
[null,null,null,"Valoración obtenida:",null,null,null,"SEGURO",null,"PROBABLE",null,"DUDOSO",null,null,null,null,null,null,null,null,null,null,null,null,{"$f":"SUM(Y107:Y112)","v":1},{"$f":"IF($O103=\"\",0,SUM(Z107:Z112)*$O103/$Y113)","v":0},null,{"$f":"IF($O103=\"\",0,SUM(AB107:AB112)*$O103/$Y113)","v":0},null,{"$f":"IF($O103=\"\",0,SUM(AD107:AD112)*$O103/$Y113)","v":0},null,{"$f":"IF($O103=\"\",0,SUM(AF107:AF112)*$O103/$Y113)","v":0}]
[null,null,null,null,null,null,null,{"$f":"Z113","v":0},null,{"$f":"AB113","v":0},null,{"$f":"AD113","v":0}]
[]
[]
[null,null,null,{"$f":"'Matriz VERDE-GBCe'!V15","v":"PE 09"},{"$f":"VLOOKUP($D117,'Matriz VERDE-GBCe'!$V$6:$Y$59,2,FALSE)","v":"Contaminación lumínica."},null,null,null,null,null,null,null,null,null,{"$f":"VLOOKUP($D117,'Matriz VERDE-GBCe'!$V$6:$Y$59,3,FALSE)","v":1.9687868987114329E-2},null,null,null,null,null,null,null,null,null,"Target","SEGURO",null,"PROBABLE",null,"DUDOSO",null,"NO CUMPLE",null,"NO APLICA"]
[]
[null,null,null,"El FHS mayor de las luminarias instaladas reduce en más de un 55 % el de la zona de protección lumínica del proyecto",null,null,null,null,null,null,null,null,null,null,null,null,null,null,null,null,null,null,null,null,1,{"$f":"+IF($Q119=\"seguro\",$Y119,0)","v":0},null,{"$f":"+IF($Q119=\"probable\",$Y119,0)","v":0},null,{"$f":"+IF($Q119=\"dudoso\",$Y119,0)","v":0},null,{"$f":"+IF($Q119=\"NO CUMPLE\",$Y119,0)","v":0},null,{"$f":"+IF($Q119=\"no aplica\",2,0)","v":0}]
[]
[null,null,null,"Valoración obtenida:",null,null,null,"SEGURO",null,"PROBABLE",null,"DUDOSO",null,null,null,null,null,null,null,null,null,null,null,null,{"$f":"SUM(Y119:Y119)","v":1},{"$f":"IF($O117=\"\",0,SUM(Z119:Z119)*$O117/$Y121)","v":0},null,{"$f":"IF($O117=\"\",0,SUM(AB119:AB119)*$O117/$Y121)","v":0},null,{"$f":"IF($O117=\"\",0,SUM(AD119:AD119)*$O117/$Y121)","v":0},null,{"$f":"IF($O117=\"\",0,SUM(AF119:AF119)*$O117/$Y121)","v":0}]
[null,null,null,null,null,null,null,{"$f":"Z121","v":0},null,{"$f":"AB121","v":0},null,{"$f":"AD121","v":0}]
[]
[null,null,null,null,null,"SEGURO",null,"PROBABLE",null,"DUDOSO",null,"NO CUMPLE"]
[]
[null,null,null,"SUBTOTAL",null,{"$f":"H13+H21+H34+H52+H71+H84+H100+H114+H122","v":0},{"$f":"I13+I21+I34+I52+I71+I84+I100+I114+I122","v":0},{"$f":"J13+J21+J34+J52+J71+J84+J100+J114+J122","v":0},null,{"$f":"L13+L21+L34+L52+L71+L84+L100+L114+L122","v":0},null,{"$f":"AF12+AF20+AF34+AF51+AF70+AF83+AF99+AF113+AF121","v":0},null,null,null,null,null,null,null,null,null,null,null,{"$f":"F126+H126+J126+L126","v":0}]
[]
[]
[]
[null,{"$f":"'Matriz VERDE-GBCe'!U16","v":"EA"},null,{"$f":"'Matriz VERDE-GBCe'!V16","v":"Energía y atmósfera"},null,null,null,null,null,null,null,null,null,null,"Valoración total",null,{"$f":"'Matriz VERDE-GBCe'!X16","v":0.17601006211817857}]
[]
[]
[null,null,null,{"$f":"'Matriz VERDE-GBCe'!V18","v":"EA 01"},{"$f":"VLOOKUP($D133,'Matriz VERDE-GBCe'!$V$6:$Y$59,2,FALSE)","v":"Consumo de energía primaria"},null,null,null,null,null,null,null,null,null,{"$f":"VLOOKUP($D133,'Matriz VERDE-GBCe'!$V$6:$Y$59,3,FALSE)","v":7.5414549001488793E-2},null,null,null,null,null,null,null,{"$f":"IF(D135=\"Nueva Edificación\",\"NE\",\"RH\")","v":"RH"}]
[]
[null,null,null,{"$f":"IF(DG!$F$31=0,\"\",DG!$F$31)","v":""},null,null,null,null,null,null,null,null,null,null,null,null,null,null,null,null,null,null,null,null,"Target","SEGURO",null,"PROBABLE",null,"DUDOSO",null,"NO CUMPLE",null,"NO APLICA"]
[]
[null,null,null,"Consumo límite de enrgía primaria no renovable",null,null,null,null,null,null,null,null,null,null,null,null,null,null,null,null,null,null,null,null,0.1,{"$f":"+IF($Q139=\"seguro\",$Y137,0)","v":0},null,{"$f":"+IF($Q139=\"probable\",$Y137,0)","v":0},null,{"$f":"+IF($Q139=\"dudoso\",$Y137,0)","v":0},null,{"$f":"+IF($Q139=\"NO CUMPLE\",$Y137,0)","v":0},null,{"$f":"+IF($Q139=\"no aplica\",2,0)","v":0}]
[]
[null,null,null,{"$f":"IF($W133=\"NE\",\"El consumo de energía primaria no renovable previsto en el proyecto reduce en mas de un 30 % al consumo energía primaria no renovable límite fijado por el DB HE 0 para una carga interna de 9 W/m2\",\"El consumo de energía primaria no renovable previsto en el proyecto reduce en mas de un 15 % al consumo energía primaria no renovable del edificio de referencia\")","v":"El consumo de energía primaria no renovable previsto en el proyecto reduce en mas de un 15 % al consumo energía primaria no renovable del edificio de referencia"},null,null,null,null,null,null,null,null,null,null,null,null,null,null,null,null,null,null,null,null,0.3,{"$f":"+IF($Q142=\"seguro\",$Y139,0)","v":0},null,{"$f":"+IF($Q142=\"probable\",$Y139,0)","v":0},null,{"$f":"+IF($Q142=\"dudoso\",$Y139,0)","v":0},null,{"$f":"+IF($Q142=\"NO CUMPLE\",$Y139,0)","v":0},null,{"$f":"+IF($Q142=\"no aplica\",2,0)","v":0}]
[]
[]
[null,null,null,{"$f":"IF($W133=\"NE\",\"El consumo de energía primaria no renovable previsto en el proyecto reduce en mas de un 60 % al consumo energía primaria no renovable límite fijado por el DB HE 0 para una carga interna de 9 W/m2\",\"El consumo de energía primaria no renovable previsto en el proyecto reduce en mas de un 30 % al consumo energía primaria no renovable del edificio de referencia\")","v":"El consumo de energía primaria no renovable previsto en el proyecto reduce en mas de un 30 % al consumo energía primaria no renovable del edificio de referencia"},null,null,null,null,null,null,null,null,null,null,null,null,null,null,null,null,null,null,null,null,0.6,{"$f":"+IF($Q145=\"seguro\",$Y142,0)","v":0},null,{"$f":"+IF($Q145=\"probable\",$Y142,0)","v":0},null,{"$f":"+IF($Q145=\"dudoso\",$Y142,0)","v":0},null,{"$f":"+IF($Q145=\"NO CUMPLE\",$Y142,0)","v":0},null,{"$f":"+IF($Q145=\"no aplica\",2,0)","v":0}]
[]
[]
[null,null,null,{"$f":"IF($W133=\"NE\",\"El consumo de energía primaria no renovable previsto en el proyecto reduce en mas de un 90 % al consumo energía primaria no renovable límite fijado por el DB HE 0 para una carga interna de 9 W/m2\",\"El consumo de energía primaria no renovable previsto en el proyecto reduce en mas de un 45 % al consumo energía primaria no renovable del edificio de referencia\")","v":"El consumo de energía primaria no renovable previsto en el proyecto reduce en mas de un 45 % al consumo energía primaria no renovable del edificio de referencia"},null,null,null,null,null,null,null,null,null,null,null,null,null,null,null,null,null,null,null,null,{"$f":"SUM(Y136:Y144)","v":1},{"$f":"IF($O133=\"\",0,SUM(Z136:Z144)*$O133*0.5)","v":0},null,{"$f":"IF($O133=\"\",0,SUM(AB136:AB144)*$O133*0.5)","v":0},null,{"$f":"IF($O133=\"\",0,SUM(AD136:AD144)*$O133*0.5)","v":0},null,{"$f":"IF($O133=\"\",0,SUM(AF136:AF144)*$O133*0.5)","v":0}]
[]
[]
[null,null,null,"Consumo límite de enrgía primaria total",null,null,null,null,null,null,null,null,null,null,null,null,null,null,null,null,null,null,null,null,"Target","SEGURO",null,"PROBABLE",null,"DUDOSO",null,"NO CUMPLE",null,"NO APLICA"]
[]
[null,null,null,{"$f":"IF($W133=\"NE\",\"El consumo de energía primaria total previsto en el proyecto reduce en mas de un 15 % al consumo energía primaria total límite fijado por el DB HE 0 para una carga interna de 9 W/m2\",\"El consumo de energía primaria no renovable previsto en el proyecto reduce en mas de un 15 % al consumo energía primaria total del edificio de referencia\")","v":"El consumo de energía primaria no renovable previsto en el proyecto reduce en mas de un 15 % al consumo energía primaria total del edificio de referencia"},null,null,null,null,null,null,null,null,null,null,null,null,null,null,null,null,null,null,null,null,0.1,{"$f":"+IF($Q150=\"seguro\",$Y150,0)","v":0},null,{"$f":"+IF($Q150=\"probable\",$Y150,0)","v":0},null,{"$f":"+IF($Q150=\"dudoso\",$Y150,0)","v":0},null,{"$f":"+IF($Q150=\"NO CUMPLE\",$Y150,0)","v":0},null,{"$f":"+IF($Q150=\"no aplica\",2,0)","v":0}]
[]
[]
[null,null,null,{"$f":"IF($W133=\"NE\",\"El consumo de energía primaria total previsto en el proyecto reduce en mas de un 40 % al consumo energía primaria total límite fijado por el DB HE 0 para una carga interna de 9 W/m2\",\"El consumo de energía primaria no renovable previsto en el proyecto reduce en mas de un 30 % al consumo energía primaria total del edificio de referencia\")","v":"El consumo de energía primaria no renovable previsto en el proyecto reduce en mas de un 30 % al consumo energía primaria total del edificio de referencia"},null,null,null,null,null,null,null,null,null,null,null,null,null,null,null,null,null,null,null,null,0.3,{"$f":"+IF($Q153=\"seguro\",$Y153,0)","v":0},null,{"$f":"+IF($Q153=\"probable\",$Y153,0)","v":0},null,{"$f":"+IF($Q153=\"dudoso\",$Y153,0)","v":0},null,{"$f":"+IF($Q153=\"NO CUMPLE\",$Y153,0)","v":0},null,{"$f":"+IF($Q153=\"no aplica\",2,0)","v":0}]
[]
[]
[null,null,null,{"$f":"IF($W133=\"NE\",\"El consumo de energía primaria total previsto en el proyecto reduce en mas de un 65 % al consumo energía primaria total límite fijado por el DB HE 0 para una carga interna de 9 W/m2\",\"El consumo de energía primaria no renovable previsto en el proyecto reduce en mas de un 45 % al consumo energía primaria total del edificio de referencia\")","v":"El consumo de energía primaria no renovable previsto en el proyecto reduce en mas de un 45 % al consumo energía primaria total del edificio de referencia"},null,null,null,null,null,null,null,null,null,null,null,null,null,null,null,null,null,null,null,null,0.6,{"$f":"+IF($Q156=\"seguro\",$Y156,0)","v":0},null,{"$f":"+IF($Q156=\"probable\",$Y156,0)","v":0},null,{"$f":"+IF($Q156=\"dudoso\",$Y156,0)","v":0},null,{"$f":"+IF($Q156=\"NO CUMPLE\",$Y156,0)","v":0},null,{"$f":"+IF($Q156=\"no aplica\",2,0)","v":0}]
[]
[]
[null,null,null,"El consumo de energía primaria total de calefacción y/o refrigeración es inferior a 15kWh/m2, se aporta ensayo Blower door cumpliendo las especificaciones ddel criterio",null,null,null,null,null,null,null,null,null,null,null,null,null,null,null,null,null,null,null,null,{"$f":"SUM(Y150:Y157)","v":1},{"$f":"IF($O133=\"\",0,SUM(Z149:Z158)*$O133*0.5)","v":0},null,{"$f":"IF($O133=\"\",0,SUM(AB149:AB158)*$O133*0.5)","v":0},null,{"$f":"IF($O133=\"\",0,SUM(AD149:AD158)*$O133*0.5)","v":0},null,{"$f":"IF($O133=\"\",0,SUM(AF149:AF158)*$O133*0.5)","v":0}]
[]
[null,null,null,null,null,null,null,null,null,null,null,null,null,null,null,null,null,null,null,null,null,null,null,null,{"$f":"Z161+AB161+AD161+AF161","v":0},{"$f":"Z145+Z159","v":0},null,{"$f":"AB145+AB159","v":0},null,0,null,0]
[null,null,null,"Valoración obtenida:",null,null,null,"SEGURO",null,"PROBABLE",null,"DUDOSO",null,null,null,null,null,null,null,null,null,null,null,null,null,{"$f":"+IF($Q159=\"seguro\",$Z161,IF(Q159=\"\",(Z145+Z159)*0.9,Z161))","v":0},null,{"$f":"+IF($Q159=\"seguro\",$AB161,IF(Q159=\"\",(AB145+AB159)*0.9,AB161))","v":0},null,{"$f":"+IF($Q159=\"seguro\",$AD161,IF(Q159=\"\",(AD145+AD159)*0.9,AD161))","v":0},null,{"$f":"+IF($Q159=\"seguro\",$AF161,IF(Q159=\"\",(AF145+AF159)*0.9,AF161))","v":0}]
[null,null,null,null,null,null,null,{"$f":"Z161","v":0},null,{"$f":"AB161","v":0},null,{"$f":"AD161","v":0}]
[]
[]
[null,null,null,{"$f":"'Matriz VERDE-GBCe'!V19","v":"EA 02"},{"$f":"VLOOKUP($D166,'Matriz VERDE-GBCe'!$V$6:$Y$59,2,FALSE)","v":"Generación distribuida"},null,null,null,null,null,null,null,null,null,{"$f":"VLOOKUP($D166,'Matriz VERDE-GBCe'!$V$6:$Y$59,3,FALSE)","v":4.8513784075157877E-2},null,null,null,null,null,null,null,{"$f":"IF(OR(D168=\"Nueva Edificación\",D168=\"Rehabilitación\"),\"NE\",\"EE\")","v":"EE"}]
[]
[null,null,null,{"$f":"IF(DG!$F$31=0,\"\",DG!$F$31)","v":""},null,null,null,null,null,null,null,null,null,null,null,null,null,null,null,null,null,null,null,null,"Target","SEGURO",null,"PROBABLE",null,"DUDOSO",null,"NO CUMPLE",null,"NO APLICA"]
[]
[null,null,null,{"$f":"IF(W166=\"NE\",\"La producción de energía renovable en la parcela es mas de un 30 % respecto de los límites fijados en el criterio\", \"La producción de energía renovable en la parcela, es mas de un 70 % respecto del estudio de potencial de renovables del edificio\")","v":"La producción de energía renovable en la parcela, es mas de un 70 % respecto del estudio de potencial de renovables del edificio"},null,null,null,null,null,null,null,null,null,null,null,null,null,null,null,null,null,null,null,null,0.1,{"$f":"+IF($Q170=\"seguro\",$Y170,0)","v":0},null,{"$f":"+IF($Q170=\"probable\",$Y170,0)","v":0},null,{"$f":"+IF($Q170=\"dudoso\",$Y170,0)","v":0},null,{"$f":"+IF($Q170=\"NO CUMPLE\",$Y170,0)","v":0},null,{"$f":"+IF($Q170=\"no aplica\",2,0)","v":0}]
[]
[]
[null,null,null,{"$f":"IF(W166=\"NE\",\"La producción de energía renovable en la parcela es mas de un 60 % respecto de los límites fijados en el criterio\", \"La producción de energía renovable en la parcela, es mas de un 80 % respecto del estudio de potencial de renovables del edificio\")","v":"La producción de energía renovable en la parcela, es mas de un 80 % respecto del estudio de potencial de renovables del edificio"},null,null,null,null,null,null,null,null,null,null,null,null,null,null,null,null,null,null,null,null,0.3,{"$f":"+IF($Q173=\"seguro\",$Y173,0)","v":0},null,{"$f":"+IF($Q173=\"probable\",$Y173,0)","v":0},null,{"$f":"+IF($Q173=\"dudoso\",$Y173,0)","v":0},null,{"$f":"+IF($Q173=\"NO CUMPLE\",$Y173,0)","v":0},null,{"$f":"+IF($Q173=\"no aplica\",2,0)","v":0}]
[]
[]
[null,null,null,{"$f":"IF(W166=\"NE\",\"La producción de energía renovable en la parcela es mas de un 90 % respecto de los límites fijados en el criterio\", \"La producción de energía renovable en la parcela, es mas de un 90 % respecto del estudio de potencial de renovables del edificio\")","v":"La producción de energía renovable en la parcela, es mas de un 90 % respecto del estudio de potencial de renovables del edificio"},null,null,null,null,null,null,null,null,null,null,null,null,null,null,null,null,null,null,null,null,0.6,{"$f":"+IF($Q176=\"seguro\",$Y176,0)","v":0},null,{"$f":"+IF($Q176=\"probable\",$Y176,0)","v":0},null,{"$f":"+IF($Q176=\"dudoso\",$Y176,0)","v":0},null,{"$f":"+IF($Q176=\"NO CUMPLE\",$Y176,0)","v":0},null,{"$f":"+IF($Q176=\"no aplica\",2,0)","v":0}]
[]
[]
[null,null,null,"Se prevée que la generación de energía renovable en la parcela sea superior al consumo de energía primaria total del edificio",null,null,null,null,null,null,null,null,null,null,null,null,null,null,null,null,null,null,null,null,{"$f":"SUM(Y169:Y178)","v":1},{"$f":"IF($O166=\"\",0,IF(W166=\"NE\",(SUM(Z169:Z176)*$O166*0.8),(SUM(Z169:Z176)*$O166)))","v":0},null,{"$f":"IF($O166=\"\",0,SUM(AB169:AB176)*$O166*0.8)","v":0},null,{"$f":"IF($O166=\"\",0,SUM(AD169:AD176)*$O166*0.8)","v":0},null,{"$f":"IF($O166=\"\",0,SUM(AF169:AF176)*$O166*0.8)","v":0}]
[null,null,null,null,null,null,null,null,null,null,null,null,null,null,null,null,null,null,null,null,null,null,null,null,null,{"$f":"+IF(AND($Q179=\"seguro\",W166=\"NE\"),$O166*0.2,0)","v":0},null,{"$f":"+IF($Q179=\"probable\",$O166*0.2,0)","v":0},null,{"$f":"+IF($Q179=\"dudoso\",$O166*0.2,0)","v":0},null,{"$f":"+IF($Q179=\"no cumple\",$O166*0.2,0)","v":0}]
[null,null,null,null,null,null,null,null,null,null,null,null,null,null,null,null,null,null,null,null,null,null,null,null,null,{"$f":"IF((Z179+Z180)>O166,O166,(Z179+Z180))","v":0},null,{"$f":"IF((AB179+AB180)>O166,O166,(AB179+AB180))","v":0},null,{"$f":"IF((AD179+AD180)>O166,O166,(AD179+AD180))","v":0},null,{"$f":"IF((AF179+AF180)>O166,O166,(AF179+AF180))","v":0}]
[null,null,null,"Valoración obtenida:",null,null,null,"SEGURO",null,"PROBABLE",null,"DUDOSO"]
[null,null,null,null,null,null,null,{"$f":"Z181","v":0},null,{"$f":"AB181","v":0},null,{"$f":"AD181","v":0}]
[]
[]
[null,null,null,{"$f":"'Matriz VERDE-GBCe'!V20","v":"EA 03"},{"$f":"VLOOKUP($D186,'Matriz VERDE-GBCe'!$V$6:$Y$59,2,FALSE)","v":"Consumo en zonas comunes"},null,null,null,null,null,null,null,null,null,{"$f":"VLOOKUP($D186,'Matriz VERDE-GBCe'!$V$6:$Y$59,3,FALSE)","v":2.5411982134606503E-2},null,null,null,null,null,null,null,null,null,"Target","SEGURO",null,"PROBABLE",null,"DUDOSO",null,"NO CUMPLE",null,"NO APLICA"]
[]
[null,null,null,"Los elementos de comunicación mecánicos disponen de una clasificación energética B o superior según la UNE 25745-2",null,null,null,null,null,null,null,null,null,null,null,null,null,null,null,null,null,null,null,null,1,{"$f":"+IF($Q188=\"seguro\",$Y188,0)","v":0},null,{"$f":"+IF($Q188=\"probable\",$Y188,0)","v":0},null,{"$f":"+IF($Q188=\"dudoso\",$Y188,0)","v":0},null,{"$f":"+IF($Q188=\"NO CUMPLE\",$Y188,0)","v":0},null,{"$f":"+IF($Q188=\"no aplica\",2,0)","v":0}]
[]
[]
[null,null,null,"Los elementos de comunicación existentes tendrán implementadas, al menos 3 de las medidas descritas en el criterio.",null,null,null,null,null,null,null,null,null,null,null,null,null,null,null,null,null,null,null,null,{"$f":"IF(Q188=\"\",0.5,0)","v":0.5},{"$f":"+IF($Q191=\"seguro\",$Y191,0)","v":0},null,{"$f":"+IF($Q191=\"probable\",$Y191,0)","v":0},null,{"$f":"+IF($Q191=\"dudoso\",$Y191,0)","v":0},null,{"$f":"+IF($Q191=\"NO CUMPLE\",$Y191,0)","v":0},null,{"$f":"+IF($Q191=\"no aplica\",2,0)","v":0}]
[null,null,null,null,null,null,null,null,null,null,null,null,null,null,null,null,null,null,null,null,null,null,null,null,{"$f":"SUM(Y187:Y191)","v":1.5},{"$f":"IF($O186=\"\",0,MAX(Z187:Z191)*$O186)","v":0},null,{"$f":"IF($O186=\"\",0,MAX(AB187:AB191)*$O186)","v":0},null,{"$f":"IF($O186=\"\",0,MAX(AD187:AD191)*$O186)","v":0},null,{"$f":"IF($O186=\"\",0,MAX(AF187:AF191)*$O186)","v":0}]
[null,null,null,"Valoración obtenida:",null,null,null,"SEGURO",null,"PROBABLE",null,"DUDOSO"]
[null,null,null,null,null,null,null,{"$f":"Z192","v":0},null,{"$f":"AB192","v":0},null,{"$f":"AD192","v":0}]
[]
[]
[null,null,null,{"$f":"'Matriz VERDE-GBCe'!V22","v":"EA 04"},{"$f":"VLOOKUP($D197,'Matriz VERDE-GBCe'!$V$6:$Y$59,2,FALSE)","v":"Elección responsable de refrigerantes"},null,null,null,null,null,null,null,null,null,{"$f":"VLOOKUP($D197,'Matriz VERDE-GBCe'!$V$6:$Y$59,3,FALSE)","v":2.6669746906925414E-2},null,null,null,null,null,null,null,null,null,"Target","SEGURO",null,"PROBABLE",null,"DUDOSO",null,"NO CUMPLE",null,"NO APLICA"]
[]
[null,null,null,"Todos los refrigerantes empleados tienen un potencial de calentamiento entre 700 y 450",null,null,null,null,null,null,null,null,null,null,null,null,null,null,null,null,null,null,null,null,{"$f":"IF(OR(Q205=\"\",Q208=\"\",Q211=\"\",Q214=\"\"),0.4,0)","v":0.4},{"$f":"+IF($Q199=\"seguro\",$Y199,0)","v":0},null,{"$f":"+IF($Q199=\"probable\",$Y199,0)","v":0},null,{"$f":"+IF($Q199=\"dudoso\",$Y199,0)","v":0},null,{"$f":"+IF($Q199=\"NO CUMPLE\",$Y199,0)","v":0},null,{"$f":"+IF($Q199=\"no aplica\",2,0)","v":0}]
[]
[]
[null,null,null,"Todos los refrigerantes empleados tienen un potencial de calentamiento entre 450 y 150 o inferior",null,null,null,null,null,null,null,null,null,null,null,null,null,null,null,null,null,null,null,null,{"$f":"IF(OR(Q205=\"\",Q208=\"\",Q211=\"\",Q214=\"\"),0.4,0)","v":0.4},{"$f":"+IF($Q202=\"seguro\",$Y202,0)","v":0},null,{"$f":"+IF($Q202=\"probable\",$Y202,0)","v":0},null,{"$f":"+IF($Q202=\"dudoso\",$Y202,0)","v":0},null,{"$f":"+IF($Q202=\"NO CUMPLE\",$Y202,0)","v":0},null,{"$f":"+IF($Q202=\"no aplica\",2,0)","v":0}]
[]
[]
[null,null,null,"El TEWI de los equipos instalados es un 30% superior al TEWI de referencia",null,null,null,null,null,null,null,null,null,null,null,null,null,null,null,null,null,null,null,null,{"$f":"IF(OR(Q199=\"\",Q202=\"\"),0.2,0)","v":0.2},{"$f":"+IF(Z199=0,IF($Q205=\"seguro\",$Y205,0),0)","v":0},null,{"$f":"+IF($Q205=\"probable\",$Y205,0)","v":0},null,{"$f":"+IF($Q205=\"dudoso\",$Y205,0)","v":0},null,{"$f":"+IF($Q205=\"NO CUMPLE\",$Y205,0)","v":0},null,{"$f":"+IF($Q205=\"no aplica\",2,0)","v":0}]
[]
[]
[null,null,null,"El TEWI de los equipos instalados es un 20% superior al TEWI de referencia",null,null,null,null,null,null,null,null,null,null,null,null,null,null,null,null,null,null,null,null,{"$f":"IF(OR(Q199=\"\",Q202=\"\"),0.3,0)","v":0.3},{"$f":"+IF(Z199=0,IF($Q208=\"seguro\",$Y208,0),0)","v":0},null,{"$f":"+IF($Q208=\"probable\",$Y208,0)","v":0},null,{"$f":"+IF($Q208=\"dudoso\",$Y208,0)","v":0},null,{"$f":"+IF($Q208=\"NO CUMPLE\",$Y208,0)","v":0},null,{"$f":"+IF($Q208=\"no aplica\",2,0)","v":0}]
[]
[]
[null,null,null,"El TEWI de los equipos instalados es un 10% superior al TEWI de referencia",null,null,null,null,null,null,null,null,null,null,null,null,null,null,null,null,null,null,null,null,{"$f":"IF(OR(Q199=\"\",Q202=\"\"),0.3,0)","v":0.3},{"$f":"+IF(Z199=0,IF($Q211=\"seguro\",$Y211,0),0)","v":0},null,{"$f":"+IF($Q211=\"probable\",$Y211,0)","v":0},null,{"$f":"+IF($Q211=\"dudoso\",$Y211,0)","v":0},null,{"$f":"+IF($Q211=\"NO CUMPLE\",$Y211,0)","v":0},null,{"$f":"+IF($Q211=\"no aplica\",2,0)","v":0}]
[]
[]
[null,null,null,"Existe un protocolo de actuación en caso de fugas",null,null,null,null,null,null,null,null,null,null,null,null,null,null,null,null,null,null,null,null,0.2,{"$f":"+IF($Q214=\"seguro\",$Y214,0)","v":0},null,{"$f":"+IF($Q214=\"probable\",$Y214,0)","v":0},null,{"$f":"+IF($Q214=\"dudoso\",$Y214,0)","v":0},null,{"$f":"+IF($Q214=\"NO CUMPLE\",$Y214,0)","v":0},null,{"$f":"+IF($Q214=\"no aplica\",2,0)","v":0}]
[]
[null,null,null,"Valoración obtenida:",null,null,null,"SEGURO",null,"PROBABLE",null,"DUDOSO"]
[null,null,null,null,null,null,null,{"$f":"Z217","v":0},null,{"$f":"AB217","v":0},null,{"$f":"AD217","v":0},null,null,null,null,null,null,null,null,null,null,null,null,{"$f":"SUM(Y205:Y214)","v":1},{"$f":"IF($O197=\"\",0,(SUM(Z199:Z214)*$O197))","v":0},null,{"$f":"IF($O197=\"\",0,(SUM(AB199:AB214)*$O197))","v":0},null,{"$f":"IF($O197=\"\",0,(SUM(AD199:AD214)*$O197))","v":0},null,{"$f":"IF($O197=\"\",0,(SUM(AF199:AF214)*$O197))","v":0}]
[]
[]
[null,null,null,null,null,"SEGURO",null,"PROBABLE",null,"DUDOSO",null,"NO CUMPLE"]
[]
[null,null,null,"SUBTOTAL",null,{"$f":"H163+H183+H194+H217","v":0},null,{"$f":"J163+J183+J194+J217+J21","v":0},null,{"$f":"L163+L183+L194+L217+L21","v":0},null,{"$f":"AF161+AF181+AF192+AF217","v":0},null,null,null,null,null,null,null,null,null,null,null,{"$f":"F222+H222+J222+L222","v":0}]
[]
[]
[]
[null,{"$f":"'Matriz VERDE-GBCe'!U23","v":"RN"},null,{"$f":"'Matriz VERDE-GBCe'!V23","v":"Recursos naturales"},null,null,null,null,null,null,null,null,null,null,"Valoración total",null,{"$f":"'Matriz VERDE-GBCe'!X23","v":0.22922121258791522}]
[]
[]
[null,null,null,{"$f":"'Matriz VERDE-GBCe'!V24","v":"RN 01"},{"$f":"VLOOKUP($D229,'Matriz VERDE-GBCe'!$V$6:$Y$59,2,FALSE)","v":"Consumo de agua en aparatos sanitarios"},null,null,null,null,null,null,null,null,null,{"$f":"VLOOKUP($D229,'Matriz VERDE-GBCe'!$V$6:$Y$59,3,FALSE)","v":2.1407669798244267E-2},null,null,null,null,null,null,null,null,null,"Target","SEGURO",null,"PROBABLE",null,"DUDOSO",null,"NO CUMPLE",null,"NO APLICA"]
[]
[null,null,null,"El consumo de agua en sanitarios se reduce en un 20%",null,null,null,null,null,null,null,null,null,null,null,null,null,null,null,null,null,null,null,null,0.5,{"$f":"+IF($Q231=\"seguro\",$Y231,0)","v":0},null,{"$f":"+IF($Q231=\"probable\",$Y231,0)","v":0},null,{"$f":"+IF($Q231=\"dudoso\",$Y231,0)","v":0},null,{"$f":"+IF($Q231=\"NO CUMPLE\",$Y231,0)","v":0},null,{"$f":"+IF($Q231=\"no aplica\",2,0)","v":0}]
[]
[]
[null,null,null,"El consumo de agua en sanitarios se reduce en un 30%",null,null,null,null,null,null,null,null,null,null,null,null,null,null,null,null,null,null,null,null,0.5,{"$f":"+IF($Q234=\"seguro\",$Y234,0)","v":0},null,{"$f":"+IF($Q234=\"probable\",$Y234,0)","v":0},null,{"$f":"+IF($Q234=\"dudoso\",$Y234,0)","v":0},null,{"$f":"+IF($Q234=\"NO CUMPLE\",$Y234,0)","v":0},null,{"$f":"+IF($Q234=\"no aplica\",2,0)","v":0}]
[]
[null,null,null,"Valoración obtenida:",null,null,null,"SEGURO",null,"PROBABLE",null,"DUDOSO",null,null,null,null,null,null,null,null,null,null,null,null,{"$f":"SUM(Y231:Y234)","v":1},{"$f":"IF($O229=\"\",0,SUM(Z231:Z234)*$O229/$Y236)","v":0},null,{"$f":"IF($O229=\"\",0,SUM(AB231:AB234)*$O229/$Y236)","v":0},null,{"$f":"IF($O229=\"\",0,SUM(AD231:AD234)*$O229/$Y236)","v":0},null,{"$f":"IF($O229=\"\",0,SUM(AF231:AF234)*$O229/$Y236)","v":0}]
[null,null,null,null,null,null,null,{"$f":"Z236","v":0},null,{"$f":"AB236","v":0},null,{"$f":"AD236","v":0}]
[]
[]
[null,null,null,{"$f":"'Matriz VERDE-GBCe'!V25","v":"RN 02"},{"$f":"VLOOKUP($D240,'Matriz VERDE-GBCe'!$V$6:$Y$59,2,FALSE)","v":"Necesidades de riego en jardines."},null,null,null,null,null,null,null,null,null,{"$f":"VLOOKUP($D240,'Matriz VERDE-GBCe'!$V$6:$Y$59,3,FALSE)","v":0},null,null,null,null,null,null,null,null,null,"Target","SEGURO",null,"PROBABLE",null,"DUDOSO",null,"NO CUMPLE",null,"NO APLICA"]
[]
[null,null,null,"Las necesidades de riego en jardines se reducen en un 40 %",null,null,null,null,null,null,null,null,null,null,null,null,null,null,null,null,null,null,null,null,0.35,{"$f":"+IF($Q242=\"seguro\",$Y242,0)","v":0},null,{"$f":"+IF($Q242=\"probable\",$Y242,0)","v":0},null,{"$f":"+IF($Q242=\"dudoso\",$Y242,0)","v":0},null,{"$f":"+IF($Q242=\"NO CUMPLE\",$Y242,0)","v":0},null,{"$f":"+IF($Q242=\"no aplica\",2,0)","v":0}]
[]
[]
[null,null,null,"Las necesidades de riego en jardines se reducen en un 60 %",null,null,null,null,null,null,null,null,null,null,null,null,null,null,null,null,null,null,null,null,0.35,{"$f":"+IF($Q245=\"seguro\",$Y245,0)","v":0},null,{"$f":"+IF($Q245=\"probable\",$Y245,0)","v":0},null,{"$f":"+IF($Q245=\"dudoso\",$Y245,0)","v":0},null,{"$f":"+IF($Q245=\"NO CUMPLE\",$Y245,0)","v":0},null,{"$f":"+IF($Q245=\"no aplica\",2,0)","v":0}]
[]
[]
[null,null,null,"Las necesidades de riego en jardines se reducen en un  80 %",null,null,null,null,null,null,null,null,null,null,null,null,null,null,null,null,null,null,null,null,0.3,{"$f":"+IF($Q248=\"seguro\",$Y248,0)","v":0},null,{"$f":"+IF($Q248=\"probable\",$Y248,0)","v":0},null,{"$f":"+IF($Q248=\"dudoso\",$Y248,0)","v":0},null,{"$f":"+IF($Q248=\"NO CUMPLE\",$Y248,0)","v":0},null,{"$f":"+IF($Q248=\"no aplica\",2,0)","v":0}]
[]
[null,null,null,"Valoración obtenida:",null,null,null,"SEGURO",null,"PROBABLE",null,"DUDOSO",null,null,null,null,null,null,null,null,null,null,null,null,{"$f":"SUM(Y241:Y248)","v":1},{"$f":"IF($O240=\"\",0,SUM(Z241:Z248)*$O240/$Y250)","v":0},null,{"$f":"IF($O240=\"\",0,SUM(AB241:AB248)*$O240/$Y250)","v":0},null,{"$f":"IF($O240=\"\",0,SUM(AD241:AD248)*$O240/$Y250)","v":0},null,{"$f":"IF($O240=\"\",0,SUM(AF241:AF248)*$O240/$Y250)","v":0}]
[null,null,null,null,null,null,null,{"$f":"Z250","v":0},null,{"$f":"AB250","v":0},null,{"$f":"AD250","v":0}]
[]
[]
[null,null,null,{"$f":"'Matriz VERDE-GBCe'!V26","v":"RN 03"},{"$f":"VLOOKUP($D254,'Matriz VERDE-GBCe'!$V$6:$Y$59,2,FALSE)","v":"Consumos de agua singulares."},null,null,null,null,null,null,null,null,null,{"$f":"VLOOKUP($D254,'Matriz VERDE-GBCe'!$V$6:$Y$59,3,FALSE)","v":1.8122080188921405E-2},null,null,null,null,null,null,null,null,null,"Target","SEGURO",null,"PROBABLE",null,"DUDOSO",null,"NO CUMPLE",null,"NO APLICA"]
[]
[null,null,null,"Se reutiliza el 80 % de las aguas grises producidas",null,null,null,null,null,null,null,null,null,null,null,null,null,null,null,null,null,null,null,null,1,{"$f":"+IF($Q256=\"seguro\",$Y256,0)","v":0},null,{"$f":"+IF($Q256=\"probable\",$Y256,0)","v":0},null,{"$f":"+IF($Q256=\"dudoso\",$Y256,0)","v":0},null,{"$f":"+IF($Q256=\"NO CUMPLE\",$Y256,0)","v":0},null,{"$f":"+IF($Q256=\"no aplica\",2,0)","v":0}]
[]
[null,null,null,"Valoración obtenida:",null,null,null,"SEGURO",null,"PROBABLE",null,"DUDOSO",null,null,null,null,null,null,null,null,null,null,null,null,{"$f":"SUM(Y255:Y256)","v":1},{"$f":"IF($O254=\"\",0,SUM(Z255:Z256)*$O254/$Y258)","v":0},null,{"$f":"IF($O254=\"\",0,SUM(AB255:AB256)*$O254/$Y258)","v":0},null,{"$f":"IF($O254=\"\",0,SUM(AD255:AD256)*$O254/$Y258)","v":0},null,{"$f":"IF($O254=\"\",0,SUM(AF255:AF256)*$O254/$Y258)","v":0}]
[null,null,null,null,null,null,null,{"$f":"Z258","v":0},null,{"$f":"AB258","v":0},null,{"$f":"AD258","v":0}]
[]
[]
[null,null,null,{"$f":"'Matriz VERDE-GBCe'!V27","v":"RN 04"},{"$f":"VLOOKUP($D262,'Matriz VERDE-GBCe'!$V$6:$Y$59,2,FALSE)","v":"Uso de agua no potable."},null,null,null,null,null,null,null,null,null,{"$f":"VLOOKUP($D262,'Matriz VERDE-GBCe'!$V$6:$Y$59,3,FALSE)","v":2.0842959084141899E-2},null,null,null,null,null,null,null,null,null,"Target","SEGURO",null,"PROBABLE",null,"DUDOSO",null,"NO CUMPLE",null,"NO APLICA"]
[]
[null,null,null,"Las aguas recuperadas cubren el 30 % de las necesidades",null,null,null,null,null,null,null,null,null,null,null,null,null,null,null,null,null,null,null,null,0.35,{"$f":"+IF($Q264=\"seguro\",$Y264,0)","v":0},null,{"$f":"+IF($Q264=\"probable\",$Y264,0)","v":0},null,{"$f":"+IF($Q264=\"dudoso\",$Y264,0)","v":0},null,{"$f":"+IF($Q264=\"NO CUMPLE\",$Y264,0)","v":0},null,{"$f":"+IF($Q264=\"no aplica\",2,0)","v":0}]
[]
[]
[null,null,null,"Las aguas recuperadas cubren el 60 % de las necesidades",null,null,null,null,null,null,null,null,null,null,null,null,null,null,null,null,null,null,null,null,0.35,{"$f":"+IF($Q267=\"seguro\",$Y267,0)","v":0},null,{"$f":"+IF($Q267=\"probable\",$Y267,0)","v":0},null,{"$f":"+IF($Q267=\"dudoso\",$Y267,0)","v":0},null,{"$f":"+IF($Q267=\"NO CUMPLE\",$Y267,0)","v":0},null,{"$f":"+IF($Q267=\"no aplica\",2,0)","v":0}]
[]
[]
[null,null,null,"Las aguas recuperadas cubren el 90 % de las necesidades",null,null,null,null,null,null,null,null,null,null,null,null,null,null,null,null,null,null,null,null,0.3,{"$f":"+IF($Q270=\"seguro\",$Y270,0)","v":0},null,{"$f":"+IF($Q270=\"probable\",$Y270,0)","v":0},null,{"$f":"+IF($Q270=\"dudoso\",$Y270,0)","v":0},null,{"$f":"+IF($Q270=\"NO CUMPLE\",$Y270,0)","v":0},null,{"$f":"+IF($Q270=\"no aplica\",2,0)","v":0}]
[]
[null,null,null,"Valoración obtenida:",null,null,null,"SEGURO",null,"PROBABLE",null,"DUDOSO",null,null,null,null,null,null,null,null,null,null,null,null,{"$f":"SUM(Y263:Y270)","v":1},{"$f":"IF($O262=\"\",0,SUM(Z263:Z270)*$O262/$Y272)","v":0},null,{"$f":"IF($O262=\"\",0,SUM(AB263:AB270)*$O262/$Y272)","v":0},null,{"$f":"IF($O262=\"\",0,SUM(AD263:AD270)*$O262/$Y272)","v":0},null,{"$f":"IF($O262=\"\",0,SUM(AF263:AF270)*$O262/$Y272)","v":0}]
[null,null,null,null,null,null,null,{"$f":"Z272","v":0},null,{"$f":"AB272","v":0},null,{"$f":"AD272","v":0}]
[]
[]
[null,null,null,{"$f":"'Matriz VERDE-GBCe'!V28","v":"RN 05"},{"$f":"VLOOKUP($D276,'Matriz VERDE-GBCe'!$V$6:$Y$59,2,FALSE)","v":"Uso de materiales reciclados."},null,null,null,null,null,null,null,null,null,{"$f":"VLOOKUP($D276,'Matriz VERDE-GBCe'!$V$6:$Y$59,3,FALSE)","v":1.8122080188921405E-2},null,null,null,null,null,null,null,null,null,"Target","SEGURO",null,"PROBABLE",null,"DUDOSO",null,"NO CUMPLE",null,"NO APLICA"]
[]
[null,null,null,"Se ha instalado un 70 % de los elementos cerámicos, áridos, étreos y hormigones reciclados",null,null,null,null,null,null,null,null,null,null,null,null,null,null,null,null,null,null,null,null,0.25,{"$f":"+IF($Q278=\"seguro\",$Y278,0)","v":0},null,{"$f":"+IF($Q278=\"probable\",$Y278,0)","v":0},null,{"$f":"+IF($Q278=\"dudoso\",$Y278,0)","v":0},null,{"$f":"+IF($Q278=\"NO CUMPLE\",$Y278,0)","v":0},null,{"$f":"+IF($Q278=\"no aplica\",2,0)","v":0}]
[]
[]
[null,null,null,"Se ha instalado un 90 % de los elementos cerámicos, áridos, étreos y hormigones reciclados",null,null,null,null,null,null,null,null,null,null,null,null,null,null,null,null,null,null,null,null,0.5,{"$f":"+IF($Q281=\"seguro\",$Y281,0)","v":0},null,{"$f":"+IF(AND($Q281=\"probable\",AB278=0),$Y281/2,IF($Q281=\"probable\",Y281,0))","v":0},null,{"$f":"+IF(AND($Q281=\"dudoso\",AD278=0),$Y281/2,IF($Q281=\"dudoso\",Y281,0))","v":0},null,{"$f":"+IF(AND($Q281=\"No cumple\",AF278=0),$Y281/2,IF($Q281=\"No cumple\",Y281,0))","v":0},null,{"$f":"+IF($Q281=\"no aplica\",2,0)","v":0}]
[]
[]
[null,null,null,"Se ha instalado un 20 % de resto de materiales reciclados",null,null,null,null,null,null,null,null,null,null,null,null,null,null,null,null,null,null,null,null,0.25,{"$f":"+IF($Q284=\"seguro\",$Y284,0)","v":0},null,{"$f":"+IF($Q284=\"probable\",$Y284,0)","v":0},null,{"$f":"+IF($Q284=\"dudoso\",$Y284,0)","v":0},null,{"$f":"+IF($Q284=\"NO CUMPLE\",$Y284,0)","v":0},null,{"$f":"+IF($Q284=\"no aplica\",2,0)","v":0}]
[]
[]
[null,null,null,"Se ha instalado un 30 % de resto de materiales reciclados",null,null,null,null,null,null,null,null,null,null,null,null,null,null,null,null,null,null,null,null,0.5,{"$f":"+IF($Q287=\"seguro\",$Y287,0)","v":0},null,{"$f":"+IF(AND($Q287=\"probable\",AB284=0),$Y287/2,IF($Q287=\"probable\",Y287,0))","v":0},null,{"$f":"+IF(AND($Q287=\"dudoso\",AD284=0),$Y287/2,IF($Q287=\"dudoso\",Y287,0))","v":0},null,{"$f":"+IF(AND($Q287=\"No cumple\",AF284=0),$Y287/2,IF($Q287=\"No cumple\",Y287,0))","v":0},null,{"$f":"+IF($Q287=\"no aplica\",2,0)","v":0}]
[]
[null,null,null,"Valoración obtenida:",null,null,null,"SEGURO",null,"PROBABLE",null,"DUDOSO"]
[null,null,null,null,null,null,null,{"$f":"Z290","v":0},null,{"$f":"AB290","v":0},null,{"$f":"AD290","v":0},null,null,null,null,null,null,null,null,null,null,null,null,{"$f":"MAX(Y277:Y281)+MAX(Y283:Y287)","v":1},{"$f":"IF($O276=\"\",0,(MAX(Z278:Z283)+MAX(Z284:Z289))*$O276/$Y290)","v":0},null,{"$f":"IF($O276=\"\",0,(MAX(AB277:AB283)+MAX(AB284:AB289))*$O276/$Y290)","v":0},null,{"$f":"IF($O276=\"\",0,(MAX(AD277:AD283)+MAX(AD284:AD289))*$O276/$Y290)","v":0},null,{"$f":"IF($O276=\"\",0,(MAX(AF277:AF283)+MAX(AF284:AF289))*$O276/$Y290)","v":0}]
[]
[]
[null,null,null,{"$f":"'Matriz VERDE-GBCe'!V29","v":"RN 06"},{"$f":"VLOOKUP($D293,'Matriz VERDE-GBCe'!$V$6:$Y$59,2,FALSE)","v":"Elección responsable de materiales"},null,null,null,null,null,null,null,null,null,{"$f":"VLOOKUP($D293,'Matriz VERDE-GBCe'!$V$6:$Y$59,3,FALSE)","v":1.8789465578315109E-2},null,null,null,null,null,null,null,null,null,"Target","SEGURO",null,"PROBABLE",null,"DUDOSO",null,"NO CUMPLE",null,"NO APLICA"]
[]
[null,null,null,"Al menos el 30 % de la maderas tienen certificado de origen en cadena de custodia",null,null,null,null,null,null,null,null,null,null,null,null,null,null,null,null,null,null,null,null,0.3,{"$f":"+IF($Q295=\"seguro\",$Y295,0)","v":0},null,{"$f":"+IF($Q295=\"probable\",$Y295,0)","v":0},null,{"$f":"+IF($Q295=\"dudoso\",$Y295,0)","v":0},null,{"$f":"+IF($Q295=\"NO CUMPLE\",$Y295,0)","v":0},null,{"$f":"+IF($Q295=\"no aplica\",2,0)","v":0}]
[]
[]
[null,null,null,"Al menos el 50 % de la maderas tienen certificado de origen en cadena de custodia",null,null,null,null,null,null,null,null,null,null,null,null,null,null,null,null,null,null,null,null,0.4,{"$f":"+IF($Q298=\"seguro\",$Y298,0)","v":0},null,{"$f":"+IF($Q298=\"probable\",$Y298,0)","v":0},null,{"$f":"+IF($Q298=\"dudoso\",$Y298,0)","v":0},null,{"$f":"+IF($Q298=\"NO CUMPLE\",$Y298,0)","v":0},null,{"$f":"+IF($Q298=\"no aplica\",2,0)","v":0}]
[]
[]
[null,null,null,"Al menos el 10 % de los materiales disponen de un documento de procedencia de materias primas",null,null,null,null,null,null,null,null,null,null,null,null,null,null,null,null,null,null,null,null,0.3,{"$f":"+IF($Q301=\"seguro\",$Y301,0)","v":0},null,{"$f":"+IF($Q301=\"probable\",$Y301,0)","v":0},null,{"$f":"+IF($Q301=\"dudoso\",$Y301,0)","v":0},null,{"$f":"+IF($Q301=\"NO CUMPLE\",$Y301,0)","v":0},null,{"$f":"+IF($Q301=\"no aplica\",2,0)","v":0}]
[]
[null,null,null,"Valoración obtenida:",null,null,null,"SEGURO",null,"PROBABLE",null,"DUDOSO"]
[null,null,null,null,null,null,null,{"$f":"Z304","v":0},null,{"$f":"AB304","v":0},null,{"$f":"AD304","v":0},null,null,null,null,null,null,null,null,null,null,null,null,{"$f":"Y295+Y298+Y301","v":1},{"$f":"IF($O293=\"\",0,(Z295+Z298+Z301)*O293/$Y304)","v":0},null,{"$f":"IF($O293=\"\",0,(AB295+AB298+AB301)*O293/$Y304)","v":0},null,{"$f":"IF($O293=\"\",0,(AD295+AD298+AD301)*O293/$Y304)","v":0},null,{"$f":"IF($O293=\"\",0,(AF295+AF298+AF301)*O293/$Y304)","v":0}]
[]
[]
[null,null,null,{"$f":"'Matriz VERDE-GBCe'!V30","v":"RN 07"},{"$f":"VLOOKUP($D307,'Matriz VERDE-GBCe'!$V$6:$Y$59,2,FALSE)","v":"Uso de materiales de producción local."},null,null,null,null,null,null,null,null,null,{"$f":"VLOOKUP($D307,'Matriz VERDE-GBCe'!$V$6:$Y$59,3,FALSE)","v":1.9739206324759999E-2},null,null,null,null,null,null,null,null,null,"Target","SEGURO",null,"PROBABLE",null,"DUDOSO",null,"NO CUMPLE",null,"NO APLICA"]
[]
[null,null,null,"El 60% de los elementos cerámicos, áridos, étreos y hormigones reciclados son de origen local",null,null,null,null,null,null,null,null,null,null,null,null,null,null,null,null,null,null,null,null,0.2,{"$f":"+IF($Q309=\"seguro\",$Y309,0)","v":0},null,{"$f":"+IF($Q309=\"probable\",$Y309,0)","v":0},null,{"$f":"+IF($Q309=\"dudoso\",$Y309,0)","v":0},null,{"$f":"+IF($Q309=\"NO CUMPLE\",$Y309,0)","v":0},null,{"$f":"+IF($Q309=\"no aplica\",2,0)","v":0}]
[]
[]
[null,null,null,"El 80% de los elementos cerámicos, áridos, étreos y hormigones reciclados son de origen local",null,null,null,null,null,null,null,null,null,null,null,null,null,null,null,null,null,null,null,null,0.2,{"$f":"+IF($Q312=\"seguro\",$Y312,0)","v":0},null,{"$f":"+IF($Q312=\"probable\",$Y312,0)","v":0},null,{"$f":"+IF($Q312=\"dudoso\",$Y312,0)","v":0},null,{"$f":"+IF($Q312=\"NO CUMPLE\",$Y312,0)","v":0},null,{"$f":"+IF($Q312=\"no aplica\",2,0)","v":0}]
[]
[]
[null,null,null,"El  60% de resto de materiales son de origen local",null,null,null,null,null,null,null,null,null,null,null,null,null,null,null,null,null,null,null,null,0.3,{"$f":"+IF($Q315=\"seguro\",$Y315,0)","v":0},null,{"$f":"+IF($Q315=\"probable\",$Y315,0)","v":0},null,{"$f":"+IF($Q315=\"dudoso\",$Y315,0)","v":0},null,{"$f":"+IF($Q315=\"NO CUMPLE\",$Y315,0)","v":0},null,{"$f":"+IF($Q315=\"no aplica\",2,0)","v":0}]
[]
[]
[null,null,null,"El  80% de resto de materiales son de origen local",null,null,null,null,null,null,null,null,null,null,null,null,null,null,null,null,null,null,null,null,0.3,{"$f":"+IF($Q318=\"seguro\",$Y318,0)","v":0},null,{"$f":"+IF($Q318=\"probable\",$Y318,0)","v":0},null,{"$f":"+IF($Q318=\"dudoso\",$Y318,0)","v":0},null,{"$f":"+IF($Q318=\"NO CUMPLE\",$Y318,0)","v":0},null,{"$f":"+IF($Q318=\"no aplica\",2,0)","v":0}]
[]
[null,null,null,"Valoración obtenida:",null,null,null,"SEGURO",null,"PROBABLE",null,"DUDOSO"]
[null,null,null,null,null,null,null,{"$f":"Z321","v":0},null,{"$f":"AB321","v":0},null,{"$f":"AD321","v":0},null,null,null,null,null,null,null,null,null,null,null,null,{"$f":"Y309+Y312+Y315+Y318","v":1},{"$f":"IF($O307=\"\",0,(Z309+Z312+Z315+Z318))*$O307/$Y321","v":0},null,{"$f":"IF($O307=\"\",0,(AB309+AB312+AB315+AB318))*$O307/$Y321","v":0},null,0,null,0]
[]
[]
[null,null,null,{"$f":"'Matriz VERDE-GBCe'!V31","v":"RN 08"},{"$f":"VLOOKUP($D324,'Matriz VERDE-GBCe'!$V$6:$Y$59,2,FALSE)","v":"El edificio como banco de materiales"},null,null,null,null,null,null,null,null,null,{"$f":"VLOOKUP($D324,'Matriz VERDE-GBCe'!$V$6:$Y$59,3,FALSE)","v":2.1638687817649778E-2},null,null,null,null,null,null,null,null,null,"Target","SEGURO",null,"PROBABLE",null,"DUDOSO",null,"NO CUMPLE",null,"NO APLICA"]
[]
[null,null,null,"El 50% de los favorecen el reciclaje al final de su ciclo de vida del edificio",null,null,null,null,null,null,null,null,null,null,null,null,null,null,null,null,null,null,null,null,0.2,{"$f":"+IF($Q326=\"seguro\",$Y326,0)","v":0},null,{"$f":"+IF($Q326=\"probable\",$Y326,0)","v":0},null,{"$f":"+IF($Q326=\"dudoso\",$Y326,0)","v":0},null,{"$f":"+IF($Q326=\"NO CUMPLE\",$Y326,0)","v":0},null,{"$f":"+IF($Q326=\"no aplica\",2,0)","v":0}]
[]
[]
[null,null,null,"El 60% de los favorecen el reciclaje al final de su ciclo de vida del edificio",null,null,null,null,null,null,null,null,null,null,null,null,null,null,null,null,null,null,null,null,0.2,{"$f":"+IF($Q329=\"seguro\",$Y329,0)","v":0},null,{"$f":"+IF($Q329=\"probable\",$Y329,0)","v":0},null,{"$f":"+IF($Q329=\"dudoso\",$Y329,0)","v":0},null,{"$f":"+IF($Q329=\"NO CUMPLE\",$Y329,0)","v":0},null,{"$f":"+IF($Q329=\"no aplica\",2,0)","v":0}]
[]
[]
[null,null,null,"EL 60% de los elementos de los cerramientos exteriores garantizan su recuperación al fin de vida del edificio",null,null,null,null,null,null,null,null,null,null,null,null,null,null,null,null,null,null,null,null,0.1,0,null,0,null,{"$f":"+IF($Q332=\"dudoso\",$Y332,0)","v":0},null,0,null,0]
[]
[]
[null,null,null,"EL 60% de los elementos de la cubierta garantizan su recuperación al fin de vida del edificio",null,null,null,null,null,null,null,null,null,null,null,null,null,null,null,null,null,null,null,null,0.1,0,null,0,null,0,null,0,null,0]
[]
[]
[null,null,null,"EL 60% de los elementos de la extructura garantizan su recuperación al fin de vida del edificio",null,null,null,null,null,null,null,null,null,null,null,null,null,null,null,null,null,null,null,null,0.1,0,null,0,null,0,null,0,null,0]
[]
[]
[null,null,null,"EL 60% de los elementos de lal divisiones interiores garantizan su rrecuperación al fin de vida del edificio",null,null,null,null,null,null,null,null,null,null,null,null,null,null,null,null,null,null,null,null,0.1,0,null,0,null,0,null,0,null,0]
[]
[]
[null,null,null,"Existe un estudio del posible uso de los materiales después de su desmontaje al final de la vida del edificio",null,null,null,null,null,null,null,null,null,null,null,null,null,null,null,null,null,null,null,null,0.2,0,null,0,null,0,null,0,null,0]
[]
[null,null,null,"Valoración obtenida:",null,null,null,"SEGURO",null,"PROBABLE",null,"DUDOSO"]
[null,null,null,null,null,null,null,{"$f":"Z347","v":0},null,{"$f":"AB347","v":0},null,{"$f":"AD347","v":0},null,null,null,null,null,null,null,null,null,null,null,null,{"$f":"Y326+Y329+Y332+Y335+Y338+Y341+Y344","v":1},{"$f":"IF($O324=\"\",0,(Z326+Z329+Z332+Z335+Z338+Z341+Z344)*$O324/$Y347)","v":0},null,{"$f":"IF($O324=\"\",0,(AB326+AB329+AB332+AB335+AB338+AB341+AB344)*$O324/$Y347)","v":0},null,0,null,0]
[]
[]
[null,null,null,{"$f":"'Matriz VERDE-GBCe'!V32","v":"RN 09"},{"$f":"VLOOKUP($D350,'Matriz VERDE-GBCe'!$V$6:$Y$59,2,FALSE)","v":"Gestión de los residuos de la construcción."},null,null,null,null,null,null,null,null,null,{"$f":"VLOOKUP($D350,'Matriz VERDE-GBCe'!$V$6:$Y$59,3,FALSE)","v":1.5657887981929259E-2},null,null,null,null,null,null,null,null,null,"Target","SEGURO",null,"PROBABLE",null,"DUDOSO",null,"NO CUMPLE",null,"NO APLICA"]
[]
[null,null,null,"Se garantiza la revalorización del 65% de los residuos de la construcción",null,null,null,null,null,null,null,null,null,null,null,null,null,null,null,null,null,null,null,null,0.25,{"$f":"+IF($Q352=\"seguro\",$Y352,0)","v":0},null,{"$f":"+IF($Q352=\"probable\",$Y352,0)","v":0},null,{"$f":"+IF($Q352=\"dudoso\",$Y352,0)","v":0},null,{"$f":"+IF($Q352=\"NO CUMPLE\",$Y352,0)","v":0},null,{"$f":"+IF($Q352=\"no aplica\",2,0)","v":0}]
[]
[]
[null,null,null,"Se garantiza la revalorización del 75% de los residuos de la construcción",null,null,null,null,null,null,null,null,null,null,null,null,null,null,null,null,null,null,null,null,0.25,{"$f":"+IF($Q355=\"seguro\",$Y355,0)","v":0},null,{"$f":"+IF($Q355=\"probable\",$Y355,0)","v":0},null,{"$f":"+IF($Q355=\"dudoso\",$Y355,0)","v":0},null,{"$f":"+IF($Q355=\"NO CUMPLE\",$Y355,0)","v":0},null,{"$f":"+IF($Q355=\"no aplica\",2,0)","v":0}]
[]
[]
[null,null,null,"Se ha realizadoo unanálisis de posibles alternativas en la utilización de sistemas o materiales para minimizar los residuos de obra",null,null,null,null,null,null,null,null,null,null,null,null,null,null,null,null,null,null,null,null,0.5,{"$f":"+IF($Q358=\"seguro\",$Y358,0)","v":0},null,{"$f":"+IF($Q358=\"probable\",$Y358,0)","v":0},null,{"$f":"+IF($Q358=\"dudoso\",$Y358,0)","v":0},null,{"$f":"+IF($Q358=\"NO CUMPLE\",$Y358,0)","v":0},null,{"$f":"+IF($Q358=\"no aplica\",2,0)","v":0}]
[]
[null,null,null,"Valoración obtenida:",null,null,null,"SEGURO",null,"PROBABLE",null,"DUDOSO"]
[null,null,null,null,null,null,null,{"$f":"Z361","v":0},null,{"$f":"AB361","v":0},null,{"$f":"AD361","v":0},null,null,null,null,null,null,null,null,null,null,null,null,{"$f":"Y352+Y355+Y358","v":1},{"$f":"IF($O350=\"\",0,(Z352+Z355+Z358)*$O350/$Y361)","v":0},null,{"$f":"IF($O350=\"\",0,(AB352+AB355+AB358)*$O350/$Y361)","v":0},null,0,null,0]
[]
[]
[null,null,null,{"$f":"'Matriz VERDE-GBCe'!V33","v":"RN 10"},{"$f":"VLOOKUP($D364,'Matriz VERDE-GBCe'!$V$6:$Y$59,2,FALSE)","v":"Nivel de intervención en rehabilitaciones"},null,null,null,null,null,null,null,null,null,{"$f":"VLOOKUP($D364,'Matriz VERDE-GBCe'!$V$6:$Y$59,3,FALSE)","v":0}]
[null,null,null,{"$f":"IF(DG!$F$31=0,\"\",DG!$F$31)","v":""},null,null,null,null,null,null,null,null,null,null,null,null,null,null,null,null,null,null,null,null,"Target","SEGURO",null,"PROBABLE",null,"DUDOSO",null,"NO CUMPLE",null,"NO APLICA"]
[]
[null,null,null,"Se conservan mas del 80% de los elementos de los cerramientos exteriores verticales.",null,null,null,null,null,null,null,null,null,null,null,null,null,null,null,null,null,null,null,null,0.2,{"$f":"+IF($Q367=\"seguro\",$Y367,0)","v":0},null,{"$f":"+IF($Q367=\"probable\",$Y367,0)","v":0},null,{"$f":"+IF($Q367=\"dudoso\",$Y367,0)","v":0},null,{"$f":"+IF($Q367=\"NO CUMPLE\",$Y367,0)","v":0},null,{"$f":"+IF($Q367=\"no aplica\",2,0)","v":0}]
[]
[]
[null,null,null,"Se conservan mas del 80% de la cubierta.",null,null,null,null,null,null,null,null,null,null,null,null,null,null,null,null,null,null,null,null,0.2,0,null,0,null,0,null,0,null,0]
[]
[]
[null,null,null,"Se conservan mas del 80% de los elementos de la estructura.",null,null,null,null,null,null,null,null,null,null,null,null,null,null,null,null,null,null,null,null,0.2,0,null,0,null,0,null,0,null,0]
[]
[]
[null,null,null,"Se conservan mas del 80% de los elementos de las particiones interiores.",null,null,null,null,null,null,null,null,null,null,null,null,null,null,null,null,null,null,null,null,0.2,0,null,0,null,0,null,0,null,0]
[]
[]
[null,null,null,"Se conservan mas del 80% de los elementos de las cajas de escalera y huecos de ascensores.",null,null,null,null,null,null,null,null,null,null,null,null,null,null,null,null,null,null,null,null,0.2,0,null,0,null,0,null,0,null,0]
[]
[null,null,null,"Valoración obtenida:",null,null,null,"SEGURO",null,"PROBABLE",null,"DUDOSO"]
[null,null,null,null,null,null,null,{"$f":"IF(D365=\"Rehabilitación\",Z382,0)","v":0},null,{"$f":"IF(D365=\"Rehabilitación\",AB382,0)","v":0},null,{"$f":"IF(D365=\"Rehabilitación\",AD382,0)","v":0},null,null,null,null,null,null,null,null,null,null,null,null,{"$f":"SUM(Y367:Y379)","v":1},{"$f":"IF($O364=\"\",0,SUM(Z367:Z381)*$O364/$Y382)","v":0},null,{"$f":"IF($O364=\"\",0,SUM(AB367:AB381)*$O364/$Y382)","v":0},null,{"$f":"IF($O364=\"\",0,SUM(AD367:AD381)*$O364/$Y382)","v":0},null,{"$f":"IF($O364=\"\",0,SUM(AF367:AF381)*$O364/$Y382)","v":0}]
[]
[]
[null,null,null,{"$f":"'Matriz VERDE-GBCe'!V34","v":"RN 11"},{"$f":"VLOOKUP($D385,'Matriz VERDE-GBCe'!$V$6:$Y$59,2,FALSE)","v":"Impacto de los materiales de la construcción."},null,null,null,null,null,null,null,null,null,{"$f":"VLOOKUP($D385,'Matriz VERDE-GBCe'!$V$6:$Y$59,3,FALSE)","v":5.4853945274398075E-2},null,null,null,null,null,null,null,null,null,"Target","SEGURO",null,"PROBABLE",null,"DUDOSO",null,"NO CUMPLE",null,"NO APLICA"]
[]
[null,null,null,"Existe un ACV parcial en las etapas A1, A2, A3 según la EN 15978 que contempla los indicadores GWP (kg CO2 eq) y ADP (MJ).",null,null,null,null,null,null,null,null,null,null,null,null,null,null,null,null,null,null,null,null,0.5,{"$f":"+IF($Q387=\"seguro\",$Y387,0)","v":0},null,{"$f":"+IF($Q387=\"probable\",$Y387,0)","v":0},null,{"$f":"+IF($Q387=\"dudoso\",$Y387,0)","v":0},null,{"$f":"+IF($Q387=\"NO CUMPLE\",$Y387,0)","v":0},null,{"$f":"+IF($Q387=\"no aplica\",2,0)","v":0}]
[]
[]
[null,null,null,"Existe un ACV completo en las etapas A1, A2, A3, A4, A5, B4, C3 y C4 según la EN 15978 que contempla los indicadores GWP(kg CO2 eq) y ADP (MJ).",null,null,null,null,null,null,null,null,null,null,null,null,null,null,null,null,null,null,null,null,0.3,{"$f":"+IF($Q390=\"seguro\",$Y390,0)","v":0},null,{"$f":"+IF($Q390=\"probable\",$Y390,0)","v":0},null,{"$f":"+IF($Q390=\"dudoso\",$Y390,0)","v":0},null,{"$f":"+IF($Q390=\"NO CUMPLE\",$Y390,0)","v":0},null,{"$f":"+IF($Q390=\"no aplica\",2,0)","v":0}]
[]
[]
[null,null,null,"El ACV que demuestra una reducción del 15% en los indicadores GWP (kg CO2 eq) y/o ADP (MJ).",null,null,null,null,null,null,null,null,null,null,null,null,null,null,null,null,null,null,null,null,0.1,{"$f":"+IF($Q393=\"seguro\",$Y393,0)","v":0},null,{"$f":"+IF($Q393=\"probable\",$Y393,0)","v":0},null,{"$f":"+IF($Q393=\"dudoso\",$Y393,0)","v":0},null,{"$f":"+IF($Q393=\"NO CUMPLE\",$Y393,0)","v":0},null,{"$f":"+IF($Q393=\"no aplica\",2,0)","v":0}]
[]
[]
[null,null,null,"Existe un ACV parcial o completo que contempla todos los indicadores establecidos en la norma EN 15978 \n",null,null,null,null,null,null,null,null,null,null,null,null,null,null,null,null,null,null,null,null,0.1,{"$f":"+IF($Q396=\"seguro\",$Y396,0)","v":0},null,{"$f":"+IF($Q396=\"probable\",$Y396,0)","v":0},null,{"$f":"+IF($Q396=\"dudoso\",$Y396,0)","v":0},null,{"$f":"+IF($Q396=\"NO CUMPLE\",$Y396,0)","v":0},null,{"$f":"+IF($Q396=\"no aplica\",2,0)","v":0}]
[]
[null,null,null,"Valoración obtenida:",null,null,null,"SEGURO",null,"PROBABLE",null,"DUDOSO"]
[null,null,null,null,null,null,null,{"$f":"Z399","v":0},null,{"$f":"AB399","v":0},null,{"$f":"AD399","v":0},null,null,null,null,null,null,null,null,null,null,null,null,{"$f":"SUM(Y387:Y396)","v":1},{"$f":"IF($O385=\"\",0,SUM(Z387:Z396)*$O385/$Y399)","v":0},null,{"$f":"IF($O385=\"\",0,SUM(AB387:AB396)*$O385/$Y399)","v":0},null,{"$f":"IF($O385=\"\",0,SUM(AD387:AD396)*$O385/$Y399)","v":0},null,{"$f":"IF($O385=\"\",0,SUM(AF387:AF396)*$O385/$Y399)","v":0}]
[]
[]
[null,null,null,{"$f":"'Matriz VERDE-GBCe'!V35","v":"RN 12"},{"$f":"VLOOKUP($D402,'Matriz VERDE-GBCe'!$V$6:$Y$59,2,FALSE)","v":"Ecoetiquetado de producto."},null,null,null,null,null,null,null,null,null,{"$f":"VLOOKUP($D402,'Matriz VERDE-GBCe'!$V$6:$Y$59,3,FALSE)","v":2.0047230350634018E-2},null,null,null,null,null,null,null,null,null,"Target","SEGURO",null,"PROBABLE",null,"DUDOSO",null,"NO CUMPLE",null,"NO APLICA"]
[]
[null,null,null,"El porcentaje en masa de los materiales con ecoetiqueta tipo I está por encima del 15%",null,null,null,null,null,null,null,null,null,null,null,null,null,null,null,null,null,null,null,null,0.2,{"$f":"+IF($Q404=\"seguro\",$Y404,0)","v":0},null,{"$f":"+IF($Q404=\"probable\",$Y404,0)","v":0},null,{"$f":"+IF($Q404=\"dudoso\",$Y404,0)","v":0},null,{"$f":"+IF($Q404=\"NO CUMPLE\",$Y404,0)","v":0},null,{"$f":"+IF($Q404=\"no aplica\",2,0)","v":0}]
[]
[]
[null,null,null,"El porcentaje en masa de los elementos cerámicos, áridos, pétreos y hormigones con DAP está por encima del 90%",null,null,null,null,null,null,null,null,null,null,null,null,null,null,null,null,null,null,null,null,0.3,{"$f":"+IF($Q407=\"seguro\",$Y407,0)","v":0},null,{"$f":"+IF($Q407=\"probable\",$Y407,0)","v":0},null,{"$f":"+IF($Q407=\"dudoso\",$Y407,0)","v":0},null,{"$f":"+IF($Q407=\"NO CUMPLE\",$Y407,0)","v":0},null,{"$f":"+IF($Q407=\"no aplica\",2,0)","v":0}]
[]
[]
[null,null,null,"El porcentaje en masa del resto de materiales con DAP está por encima del 30%",null,null,null,null,null,null,null,null,null,null,null,null,null,null,null,null,null,null,null,null,0.5,{"$f":"+IF($Q410=\"seguro\",$Y410,0)","v":0},null,{"$f":"+IF($Q410=\"probable\",$Y410,0)","v":0},null,{"$f":"+IF($Q410=\"dudoso\",$Y410,0)","v":0},null,{"$f":"+IF($Q410=\"NO CUMPLE\",$Y410,0)","v":0},null,{"$f":"+IF($Q410=\"no aplica\",2,0)","v":0}]
[]
[]
[null,null,null,"Entre los materiales con DAPs se encuentran, al menos, las siguientes familias: elementos estructurales, aislamientos y revestimientos.",null,null,null,null,null,null,null,null,null,null,null,null,null,null,null,null,null,null,null,null,0.2,{"$f":"+IF($Q413=\"seguro\",$Y413,0)","v":0},null,{"$f":"+IF($Q413=\"probable\",$Y413,0)","v":0},null,{"$f":"+IF($Q413=\"dudoso\",$Y413,0)","v":0},null,{"$f":"+IF($Q413=\"NO CUMPLE\",$Y413,0)","v":0},null,{"$f":"+IF($Q413=\"no aplica\",2,0)","v":0}]
[]
[]
[null,null,null,"El 50% de las DAPs cuentan con un ACV en todas las fases del ciclo de vida",null,null,null,null,null,null,null,null,null,null,null,null,null,null,null,null,null,null,null,null,0.2,{"$f":"+IF($Q416=\"seguro\",$Y416,0)","v":0},null,{"$f":"+IF($Q416=\"probable\",$Y416,0)","v":0},null,{"$f":"+IF($Q416=\"dudoso\",$Y416,0)","v":0},null,{"$f":"+IF($Q416=\"NO CUMPLE\",$Y416,0)","v":0},null,{"$f":"+IF($Q416=\"no aplica\",2,0)","v":0}]
[]
[null,null,null,"Valoración obtenida:",null,null,null,"SEGURO",null,"PROBABLE",null,"DUDOSO"]
[null,null,null,null,null,null,null,{"$f":"Z419","v":0},null,{"$f":"AB419","v":0},null,{"$f":"AD419","v":0},null,null,null,null,null,null,null,null,null,null,null,null,{"$f":"IF((SUM(Y403:Y412))=1,1,SUM(Y404:Y416))","v":1},{"$f":"IF((SUM(Z404:Z417))>=1,O402,(SUM(Z404:Z417))*O402)","v":0},null,{"$f":"IF((Z419=O402),0,IF((SUM(AB403:AB417))>=1,(O402-Z419),IF(((SUM(AB403:AB417))*O402)+Z419>=O402,O402-Z419,(SUM(AB403:AB417))*O402)))","v":0},null,{"$f":"IF(((AB419+Z419)=O402),0,IF((SUM(AD403:AD417))>=1,(O402-AB419-Z419),IF(((SUM(AD403:AD417))*O402)+AB419+Z419>=O402,O402-AB419-Z419,(SUM(AD403:AD417))*O402)))","v":0},null,{"$f":"IF(OR(Z419=O402,AB419=O402,AD419=O402),0,IF((SUM(AF403:AF412))=1,O402,SUM(AF404:AF416)*O402))","v":0}]
[]
[null,null,null,null,null,"SEGURO",null,"PROBABLE",null,"DUDOSO",null,"NO CUMPLE"]
[]
[null,null,null,"SUBTOTAL",null,{"$f":"H237+H251+H259+H273+H290+H304+H321+H347+H361+H382+H399+H419","v":0},null,{"$f":"J237+J251+J259+J273+J290+J304+J321+J347+J361+J382+J399+J419","v":0},null,{"$f":"L237+L251+L259+L273+L290+L304+L321+L347+L361+L382+L399+L419","v":0},null,{"$f":"AF236+AF250+AF258+AF272+AF290+AF304+AF321+AF347+AF361+AF399+AF419+AF382","v":0},null,null,null,null,null,null,null,null,null,null,null,{"$f":"F423+H423+J423+L423","v":0}]
[]
[]
[]
[null,{"$f":"'Matriz VERDE-GBCe'!U36","v":"AI"},null,{"$f":"'Matriz VERDE-GBCe'!V36","v":"Ambiente Interior."},null,null,null,null,null,null,null,null,null,null,"Valoración total",null,{"$f":"'Matriz VERDE-GBCe'!X36","v":9.4871399969197606E-2}]
[]
[]
[null,null,null,{"$f":"'Matriz VERDE-GBCe'!V37","v":"AI 01"},{"$f":"VLOOKUP($D430,'Matriz VERDE-GBCe'!$V$6:$Y$59,2,FALSE)","v":"Limitación de las emisiones de COVs"},null,null,null,null,null,null,null,null,null,{"$f":"VLOOKUP($D430,'Matriz VERDE-GBCe'!$V$6:$Y$59,3,FALSE)","v":1.9020483597720624E-2},null,null,null,null,null,null,null,null,null,"Target","SEGURO",null,"PROBABLE",null,"DUDOSO",null,"NO CUMPLE",null,"NO APLICA"]
[]
[null,null,null,"Se ha realizado un ensayo tal y cómo se describe en la guía, también en cuanto a sus resultados",null,null,null,null,null,null,null,null,null,null,null,null,null,null,null,null,null,null,null,null,1,{"$f":"+IF($Q432=\"seguro\",$Y432,0)","v":0},null,{"$f":"+IF($Q432=\"probable\",$Y432,0)","v":0},null,{"$f":"+IF($Q432=\"dudoso\",$Y432,0)","v":0},null,{"$f":"+IF($Q432=\"NO CUMPLE\",$Y432,0)","v":0},null,{"$f":"+IF($Q432=\"no aplica\",2,0)","v":0}]
[]
[]
[null,null,null,"Las pinturas, barnices, adhesivos, sellantes y derivados de la madera, tienen emisiones de COVs nulas",null,null,null,null,null,null,null,null,null,null,null,null,null,null,null,null,null,null,null,null,0.6,{"$f":"+IF($Q435=\"seguro\",$Y435,0)","v":0},null,{"$f":"+IF($Q435=\"probable\",$Y435,0)","v":0},null,{"$f":"+IF($Q435=\"dudoso\",$Y435,0)","v":0},null,{"$f":"+IF($Q435=\"NO CUMPLE\",$Y435,0)","v":0},null,{"$f":"+IF($Q435=\"no aplica\",2,0)","v":0}]
[]
[]
[null,null,null,"Las pinturas, barnices, adhesivos, sellantes y derivados de la madera, tienen emisiones de COVs por debajo de las indicadas en la guía",null,null,null,null,null,null,null,null,null,null,null,null,null,null,null,null,null,null,null,null,0.4,{"$f":"+IF($Q438=\"seguro\",$Y438,0)","v":0},null,{"$f":"+IF($Q438=\"probable\",$Y438,0)","v":0},null,{"$f":"+IF($Q438=\"dudoso\",$Y438,0)","v":0},null,{"$f":"+IF($Q438=\"NO CUMPLE\",$Y438,0)","v":0},null,{"$f":"+IF($Q438=\"no aplica\",2,0)","v":0}]
[]
[null,null,null,"Valoración obtenida:",null,null,null,"SEGURO",null,"PROBABLE",null,"DUDOSO"]
[null,null,null,null,null,null,null,{"$f":"Z441","v":0},null,{"$f":"AB441","v":0},null,{"$f":"AD441","v":0},null,null,null,null,null,null,null,null,null,null,null,null,{"$f":"MAX(Y432:Y439)","v":1},{"$f":"IF(Z432=1,$O430,SUM(Z435:Z439)*$O430)","v":0},null,{"$f":"IF(AB432=1,($O430-Z441),SUM(AB435:AB439)*$O430)","v":0},null,{"$f":"IF(AD432=1,$O430-AB441-Z441,SUM(AD435:AD439)*$O430)","v":0},null,{"$f":"IF(AF432=1,$O430-AD441-AB441-Z441,SUM(AF435:AF439)*$O430)","v":0}]
[]
[]
[null,null,null,{"$f":"'Matriz VERDE-GBCe'!V38","v":"AI 02"},{"$f":"VLOOKUP($D444,'Matriz VERDE-GBCe'!$V$6:$Y$59,2,FALSE)","v":"Control de la calidad del aire"},null,null,null,null,null,null,null,null,null,{"$f":"VLOOKUP($D444,'Matriz VERDE-GBCe'!$V$6:$Y$59,3,FALSE)","v":1.8609784896555268E-2},null,null,null,null,null,null,null,null,null,"Target","SEGURO",null,"PROBABLE",null,"DUDOSO",null,"NO CUMPLE",null,"NO APLICA"]
[]
[null,null,null,"Se cuenta con detectores de CO2 en salas de alta ocupación y uso esporádico",null,null,null,null,null,null,null,null,null,null,null,null,null,null,null,null,null,null,null,null,1,{"$f":"+IF($Q446=\"seguro\",$Y446,0)","v":0},null,{"$f":"+IF($Q446=\"probable\",$Y446,0)","v":0},null,{"$f":"+IF($Q446=\"dudoso\",$Y446,0)","v":0},null,{"$f":"+IF($Q446=\"NO CUMPLE\",$Y446,0)","v":0},null,{"$f":"+IF($O446=\"no aplica\",2,0)","v":0}]
[]
[null,null,null,"Valoración obtenida:",null,null,null,"SEGURO",null,"PROBABLE",null,"DUDOSO"]
[null,null,null,null,null,null,null,{"$f":"Z449","v":0},null,{"$f":"AB449","v":0},null,{"$f":"AD449","v":0},null,null,null,null,null,null,null,null,null,null,null,null,{"$f":"SUM(Y446:Y446)","v":1},{"$f":"IF($O444=\"\",0,Z446*$O444/$Y449)","v":0},null,{"$f":"IF($O444=\"\",0,AB446*$O444/$Y449)","v":0},null,{"$f":"IF($O444=\"\",0,AD446*$O444/$Y449)","v":0},null,{"$f":"IF($O444=\"\",0,AF446*$O444/$Y449)","v":0}]
[]
[]
[null,null,null,{"$f":"'Matriz VERDE-GBCe'!V39","v":"AI 03"},{"$f":"VLOOKUP($D452,'Matriz VERDE-GBCe'!$V$6:$Y$59,2,FALSE)","v":"Iluminación natural."},null,null,null,null,null,null,null,null,null,{"$f":"VLOOKUP($D452,'Matriz VERDE-GBCe'!$V$6:$Y$59,3,FALSE)","v":1.8609784896555268E-2}]
[]
[null,null,null,{"$f":"IF(DG!$F$31=0,\"\",DG!$F$31)","v":""},null,null,null,null,null,null,null,null,null,null,null,null,null,null,null,null,null,null,null,null,"Target","SEGURO",null,"PROBABLE",null,"DUDOSO",null,"NO CUMPLE",null,"NO APLICA"]
[]
[null,null,null,{"$f":"IF(OR(D454=\"Rehabilitación\", D454=\"Edificio existente\"),\"El porcentaje de espacios de trabajo que alcanzan un DF adecuado oscila entre el 60 y el 70 %\",\"El porcentaje de espacios de trabajo que alcanzan un DF adecuado oscila entre el 70 y el 80 %\")","v":"El porcentaje de espacios de trabajo que alcanzan un DF adecuado oscila entre el 70 y el 80 %"},null,null,null,null,null,null,null,null,null,null,null,null,null,null,null,null,null,null,null,null,0.35,{"$f":"+IF($Q456=\"seguro\",$Y456,0)","v":0},null,{"$f":"+IF($Q456=\"probable\",$Y456,0)","v":0},null,{"$f":"+IF($Q456=\"dudoso\",$Y456,0)","v":0},null,{"$f":"+IF($Q456=\"NO CUMPLE\",$Y456,0)","v":0},null,{"$f":"+IF($Q456=\"no aplica\",2,0)","v":0}]
[]
[]
[null,null,null,{"$f":"IF(OR(D454=\"Rehabilitación\", D454=\"Edificio existente\"),\"El porcentaje de espacios de trabajo que alcanzan un DF adecuado oscila entre el 70 y el 80 %\",\"El porcentaje de espacios de trabajo que alcanzan un DF adecuado oscila entre el 80 y el 90 %\")","v":"El porcentaje de espacios de trabajo que alcanzan un DF adecuado oscila entre el 80 y el 90 %"},null,null,null,null,null,null,null,null,null,null,null,null,null,null,null,null,null,null,null,null,0.35,{"$f":"+IF($Q459=\"seguro\",$Y459,0)","v":0},null,{"$f":"+IF($Q459=\"probable\",$Y459,0)","v":0},null,{"$f":"+IF($Q459=\"dudoso\",$Y459,0)","v":0},null,{"$f":"+IF($Q459=\"NO CUMPLE\",$Y459,0)","v":0},null,{"$f":"+IF($Q459=\"no aplica\",2,0)","v":0}]
[]
[]
[null,null,null,{"$f":"IF(OR(D454=\"Rehabilitación\", D454=\"Edificio existente\"),\"El porcentaje de espacios de trabajo que alcanzan un DF adecuado oscila entre el 80 y el 90 %\",\"El porcentaje de espacios de trabajo que alcanzan un DF adecuado oscila entre el 90 y el 100 %\")","v":"El porcentaje de espacios de trabajo que alcanzan un DF adecuado oscila entre el 90 y el 100 %"},null,null,null,null,null,null,null,null,null,null,null,null,null,null,null,null,null,null,null,null,0.3,{"$f":"+IF($Q462=\"seguro\",$Y462,0)","v":0},null,{"$f":"+IF($Q462=\"probable\",$Y462,0)","v":0},null,{"$f":"+IF($Q462=\"dudoso\",$Y462,0)","v":0},null,{"$f":"+IF($Q462=\"NO CUMPLE\",$Y462,0)","v":0},null,{"$f":"+IF($Q462=\"no aplica\",2,0)","v":0}]
[]
[null,null,null,"Valoración obtenida:",null,null,null,"SEGURO",null,"PROBABLE",null,"DUDOSO"]
[null,null,null,null,null,null,null,{"$f":"Z465","v":0},null,{"$f":"AB465","v":0},null,{"$f":"AD465","v":0},null,null,null,null,null,null,null,null,null,null,null,null,{"$f":"SUM(Y455:Y462)","v":1},{"$f":"IF($O452=\"\",0,SUM(Z456:Z462)*$O452/$Y465)","v":0},null,{"$f":"IF($O452=\"\",0,SUM(AB456:AB462)*$O452/$Y465)","v":0},null,{"$f":"IF($O452=\"\",0,SUM(AD456:AD462)*$O452/$Y465)","v":0},null,{"$f":"IF($O452=\"\",0,SUM(AF456:AF462)*$O452/$Y465)","v":0}]
[]
[]
[null,null,null,{"$f":"'Matriz VERDE-GBCe'!V40","v":"AI 04"},{"$f":"VLOOKUP($D468,'Matriz VERDE-GBCe'!$V$6:$Y$59,2,FALSE)","v":"Iluminación artificial"},null,null,null,null,null,null,null,null,null,{"$f":"VLOOKUP($D468,'Matriz VERDE-GBCe'!$V$6:$Y$59,3,FALSE)","v":2.0021561681811184E-2},null,null,null,null,null,null,null,null,null,"Target","SEGURO",null,"PROBABLE",null,"DUDOSO",null,"NO CUMPLE",null,"NO APLICA"]
[null,null,null,null,null,null,null,null,null,null,null,null,null,null,null,null,null,null,null,null,null,null,null,null,null,"SEGURO",null,"PROBABLE",null,"DUDOSO",null,"NO CUMPLE",null,"NO APLICA"]
[null,null,null,"El porcentaje de espacios de trabajo que mejoran las recomendaciones en Em y Ra oscila entre el 70 y el 80 %",null,null,null,null,null,null,null,null,null,null,null,null,null,null,null,null,null,null,null,null,0.1,{"$f":"+IF($Q470=\"seguro\",$Y470,0)","v":0},null,{"$f":"+IF($Q470=\"probable\",$Y470,0)","v":0},null,{"$f":"+IF($Q470=\"dudoso\",$Y470,0)","v":0},null,{"$f":"+IF($Q470=\"NO CUMPLE\",$Y470,0)","v":0},null,{"$f":"+IF($Q470=\"no aplica\",2,0)","v":0}]
[]
[]
[null,null,null,"El porcentaje de espacios de trabajo que mejoran las recomendaciones en Em y Ra oscila entre el 80 y el 90 %",null,null,null,null,null,null,null,null,null,null,null,null,null,null,null,null,null,null,null,null,0.2,{"$f":"+IF($Q473=\"seguro\",$Y473,0)","v":0},null,{"$f":"+IF($Q473=\"probable\",$Y473,0)","v":0},null,{"$f":"+IF($Q473=\"dudoso\",$Y473,0)","v":0},null,{"$f":"+IF($Q473=\"NO CUMPLE\",$Y473,0)","v":0},null,{"$f":"+IF($Q473=\"no aplica\",2,0)","v":0}]
[]
[]
[null,null,null,"El porcentaje de espacios de trabajo que mejoran las recomendaciones en Em y Ra oscila entre el 90 y el 100 %",null,null,null,null,null,null,null,null,null,null,null,null,null,null,null,null,null,null,null,null,0.3,{"$f":"+IF($Q476=\"seguro\",$Y476,0)","v":0},null,{"$f":"+IF($Q476=\"probable\",$Y476,0)","v":0},null,{"$f":"+IF($Q476=\"dudoso\",$Y476,0)","v":0},null,{"$f":"+IF($Q476=\"NO CUMPLE\",$Y476,0)","v":0},null,{"$f":"+IF($Q476=\"no aplica\",2,0)","v":0}]
[]
[]
[null,null,null,"Se cuenta con un Manual de mantenimiento de las luminarias.",null,null,null,null,null,null,null,null,null,null,null,null,null,null,null,null,null,null,null,null,0.4,{"$f":"+IF($Q479=\"seguro\",$Y479,0)","v":0},null,{"$f":"+IF($Q479=\"probable\",$Y479,0)","v":0},null,{"$f":"+IF($Q479=\"dudoso\",$Y479,0)","v":0},null,{"$f":"+IF($Q479=\"NO CUMPLE\",$Y479,0)","v":0},null,{"$f":"+IF($Q479=\"no aplica\",2,0)","v":0}]
[]
[null,null,null,"Valoración obtenida:",null,null,null,"SEGURO",null,"PROBABLE",null,"DUDOSO"]
[null,null,null,null,null,null,null,{"$f":"Z482","v":0},null,{"$f":"AB482","v":0},null,{"$f":"AD482","v":0},null,null,null,null,null,null,null,null,null,null,null,null,{"$f":"SUM(Y470:Y479)","v":1},{"$f":"IF($O468=\"\",0,(SUM(Z470:Z479))*$O468/$Y482)","v":0},null,{"$f":"IF($O468=\"\",0,(SUM(AB470:AB479))*$O468/$Y482)","v":0},null,{"$f":"IF($O468=\"\",0,(SUM(AD470:AD479))*$O468/$Y482)","v":0},null,{"$f":"IF($O468=\"\",0,(SUM(AF470:AF479))*$O468/$Y482)","v":0}]
[]
[]
[null,null,null,{"$f":"'Matriz VERDE-GBCe'!V41","v":"AI 05"},{"$f":"VLOOKUP($D485,'Matriz VERDE-GBCe'!$V$6:$Y$59,2,FALSE)","v":"Protección frente al ruido."},null,null,null,null,null,null,null,null,null,{"$f":"VLOOKUP($D485,'Matriz VERDE-GBCe'!$V$6:$Y$59,3,FALSE)","v":1.8609784896555268E-2}]
[]
[null,null,null,"¿El edificio está exento de cumplir con el CTE HR?",null,null,null,null,null,null,null,null,null,null,null,null,null,null,null,null,null,null,null,null,"Target","SEGURO",null,"PROBABLE",null,"DUDOSO",null,"NO CUMPLE",null,"NO APLICA"]
[]
[null,null,null,{"$f":"IF(Q487=\"Sí\",\"La protección de los espacios de protegidos frente al ruido procedente del exterior cumple la exigencia normativa\",\"La protección de los espacios de protegidos frente al ruido procedente del exterior supera en 4 dB(A) la exigencia normativa\")","v":"La protección de los espacios de protegidos frente al ruido procedente del exterior supera en 4 dB(A) la exigencia normativa"},null,null,null,null,null,null,null,null,null,null,null,null,null,null,null,null,null,null,null,null,0.5,{"$f":"+IF($Q489=\"seguro\",$Y489,0)","v":0},null,{"$f":"+IF($Q489=\"probable\",$Y489,0)","v":0},null,{"$f":"+IF($Q489=\"dudoso\",$Y489,0)","v":0},null,{"$f":"+IF($Q489=\"NO CUMPLE\",$Y489,0)","v":0},null,{"$f":"+IF($Q489=\"no aplica\",2,0)","v":0}]
[]
[]
[null,null,null,{"$f":"IF(Q487=\"Sí\",\"La protección de los espacios protegidos frente al ruido generado en recintos de instalaciones cumple las exigencias normativas o bien no hay ningún espacio protegido contiguo a un cuarto de instalaciones en el que se genere ruido\",\"La protección de los espacios protegidos frente al ruido generado en recintos de instalaciones mejora las exigencias normativas en 4 dB o bien no hay ningún espacio protegido contiguo a un cuarto de instalaciones en el que se genere ruido\")","v":"La protección de los espacios protegidos frente al ruido generado en recintos de instalaciones mejora las exigencias normativas en 4 dB o bien no hay ningún espacio protegido contiguo a un cuarto de instalaciones en el que se genere ruido"},null,null,null,null,null,null,null,null,null,null,null,null,null,null,null,null,null,null,null,null,0.2,{"$f":"+IF($Q492=\"seguro\",$Y492,0)","v":0},null,{"$f":"+IF($Q492=\"probable\",$Y492,0)","v":0},null,{"$f":"+IF($Q492=\"dudoso\",$Y492,0)","v":0},null,{"$f":"+IF($Q492=\"NO CUMPLE\",$Y492,0)","v":0},null,{"$f":"+IF($Q492=\"no aplica\",2,0)","v":0}]
[]
[]
[null,null,null,{"$f":"IF(Q487=\"Sí\",\"La protección de los espacios protegidos frente al ruido generado en recintos no procedentes de la misma unidad funcional de uso cumple las exigencias normativas\",\"La protección de los espacios protegidos frente al ruido generado en recintos no procedentes de la misma unidad funcional de uso mejora las exigencias normativas en 4 dB\")","v":"La protección de los espacios protegidos frente al ruido generado en recintos no procedentes de la misma unidad funcional de uso mejora las exigencias normativas en 4 dB"},null,null,null,null,null,null,null,null,null,null,null,null,null,null,null,null,null,null,null,null,0.3,{"$f":"+IF($Q495=\"seguro\",$Y495,0)","v":0},null,{"$f":"+IF($Q495=\"probable\",$Y495,0)","v":0},null,{"$f":"+IF($Q495=\"dudoso\",$Y495,0)","v":0},null,{"$f":"+IF($Q495=\"NO CUMPLE\",$Y495,0)","v":0},null,{"$f":"+IF($Q495=\"no aplica\",2,0)","v":0}]
[]
[]
[null,null,null,"Se han comprobado las condiciones acústicas en la obra terminada",null,null,null,null,null,null,null,null,null,null,null,null,null,null,null,null,null,null,null,null,{"$f":"IF(Q498=\"Seguro\",1,0.9)","v":0.9},{"$f":"+IF(($Q498=\"seguro\"),$O485*0.1,0)","v":0},null,{"$f":"+IF(($Q498=\"probable\"),$O485*0.1,0)","v":0},null,{"$f":"+IF(($Q498=\"dudoso\"),$O485*0.1,0)","v":0},null,{"$f":"+IF(($Q498=\"No cumple\"),$O485*0.1,0)","v":0},null,{"$f":"+IF($Q498=\"no aplica\",2,0)","v":0}]
[]
[null,null,null,"Valoración obtenida:",null,null,null,"SEGURO",null,"PROBABLE",null,"DUDOSO"]
[null,null,null,null,null,null,null,{"$f":"Z501","v":0},null,{"$f":"AB501","v":0},null,{"$f":"AD501","v":0},null,null,null,null,null,null,null,null,null,null,null,{"$f":"Z501+AB501+AD501+AF501","v":0},{"$f":"SUM(Y489:Y495)*Y498","v":0.9},{"$f":"IF($O485=\"\",0,(SUM(Z489:Z496)*0.9)*$O485)+Z498","v":0},null,{"$f":"IF($O485=\"\",0,(SUM(AB489:AB496)*0.9)*$O485)+AB498","v":0},null,0,null,0]
[]
[null,null,null,null,null,"SEGURO",null,"PROBABLE",null,"DUDOSO",null,"NO CUMPLE"]
[]
[null,null,null,"SUBTOTAL ",null,{"$f":"H441+H449+H465+H482+H501","v":0},null,{"$f":"J441+J449+J465+J482+J501","v":0},null,{"$f":"L441+L449+L465+L482+L501","v":0},null,{"$f":"AF441+AF449+AF465+AF482+AF501","v":0},null,null,null,null,null,null,null,null,null,null,null,{"$f":"F505+H505+J505+L505","v":0}]
[]
[]
[]
[null,{"$f":"'Matriz VERDE-GBCe'!U42","v":"AS"},null,{"$f":"'Matriz VERDE-GBCe'!V42","v":"Aspectos sociales"},null,null,null,null,null,null,null,null,null,null,"Valoración total",null,{"$f":"'Matriz VERDE-GBCe'!X42","v":0.16715437137430056}]
[]
[]
[null,null,null,{"$f":"'Matriz VERDE-GBCe'!V43","v":"AS 01"},{"$f":"VLOOKUP($D512,'Matriz VERDE-GBCe'!$V$6:$Y$59,2,FALSE)","v":"Espacios para todas las personas"},null,null,null,null,null,null,null,null,null,{"$f":"VLOOKUP($D512,'Matriz VERDE-GBCe'!$V$6:$Y$59,3,FALSE)","v":1.8276092201858416E-2},null,null,null,null,null,null,null,null,null,"Target","SEGURO",null,"PROBABLE",null,"DUDOSO",null,"NO CUMPLE",null,"NO APLICA"]
[]
[null,null,null,"Las estancias de los edificios cumplen con los tamaños mínimos que exige el criterio",null,null,null,null,null,null,null,null,null,null,null,null,null,null,null,null,null,null,null,null,0.4,{"$f":"+IF($Q514=\"seguro\",$Y514,0)","v":0},null,{"$f":"+IF($Q514=\"probable\",$Y514,0)","v":0},null,{"$f":"+IF($Q514=\"dudoso\",$Y514,0)","v":0},null,{"$f":"+IF($Q514=\"NO CUMPLE\",$Y514,0)","v":0},null,{"$f":"+IF($Q514=\"no aplica\",2,0)","v":0}]
[]
[]
[null,null,null,"Se han implementado en el edificio cuatro o más medidas para favorecer la conviviencia",null,null,null,null,null,null,null,null,null,null,null,null,null,null,null,null,null,null,null,null,0.6,{"$f":"+IF($Q517=\"seguro\",$Y517,0)","v":0},null,{"$f":"+IF($Q517=\"probable\",$Y517,0)","v":0},null,{"$f":"+IF($Q517=\"dudoso\",$Y517,0)","v":0},null,{"$f":"+IF($Q517=\"NO CUMPLE\",$Y517,0)","v":0},null,{"$f":"+IF($Q517=\"no aplica\",2,0)","v":0}]
[]
[null,null,null,"Valoración obtenida:",null,null,null,"SEGURO",null,"PROBABLE",null,"DUDOSO",null,null,null,null,null,null,null,null,null,null,null,null,{"$f":"SUM(Y514:Y517)","v":1},{"$f":"IF($O512=\"\",0,SUM(Z514:Z517)*$O512)","v":0},null,{"$f":"IF($O512=\"\",0,SUM(AB514:AB517)*$O512)","v":0},null,{"$f":"IF($O512=\"\",0,SUM(AD514:AD517)*$O512)","v":0},null,{"$f":"IF($O512=\"\",0,SUM(AF514:AF517)*$O512)","v":0}]
[null,null,null,null,null,null,null,{"$f":"Z519","v":0},null,{"$f":"AB519","v":0},null,{"$f":"AD519","v":0}]
[]
[]
[null,null,null,{"$f":"'Matriz VERDE-GBCe'!V44","v":"AS 02"},{"$f":"VLOOKUP($D523,'Matriz VERDE-GBCe'!$V$6:$Y$59,2,FALSE)","v":"Espacios para la comunicación"},null,null,null,null,null,null,null,null,null,{"$f":"VLOOKUP($D523,'Matriz VERDE-GBCe'!$V$6:$Y$59,3,FALSE)","v":1.7608706812464708E-2},null,null,null,null,null,null,null,null,null,"Target","SEGURO",null,"PROBABLE",null,"DUDOSO",null,"NO CUMPLE",null,"NO APLICA"]
[]
[null,null,null,"Existen espacios de reunión capaces de albergar a un número suficiente de personas",null,null,null,null,null,null,null,null,null,null,null,null,null,null,null,null,null,null,null,null,0.25,{"$f":"+IF($Q525=\"seguro\",$Y525,0)","v":0},null,{"$f":"+IF($Q525=\"probable\",$Y525,0)","v":0},null,{"$f":"+IF($Q525=\"dudoso\",$Y525,0)","v":0},null,{"$f":"+IF($Q525=\"NO CUMPLE\",$Y525,0)","v":0},null,{"$f":"+IF($Q525=\"no aplica\",2,0)","v":0}]
[]
[]
[null,null,null,"Existen espacios espacios en los que se puede desarrollar actividades culturales, deportivas, de ocio o de otro tipo.",null,null,null,null,null,null,null,null,null,null,null,null,null,null,null,null,null,null,"",null,0.25,{"$f":"+IF($Q528=\"seguro\",$Y528,0)","v":0},null,{"$f":"+IF($Q528=\"probable\",$Y528,0)","v":0},null,{"$f":"+IF($Q528=\"dudoso\",$Y528,0)","v":0},null,{"$f":"+IF($Q528=\"NO CUMPLE\",$Y528,0)","v":0},null,{"$f":"+IF($Q528=\"no aplica\",2,0)","v":0}]
[]
[]
[null,null,null,"Existen espacios que inviten al esparcimiento, descanso y desconexion",null,null,null,null,null,null,null,null,null,null,null,null,null,null,null,null,null,null,null,null,0.25,0,null,{"$f":"+IF($Q531=\"probable\",$Y531,0)","v":0},null,{"$f":"+IF($Q531=\"dudoso\",$Y531,0)","v":0},null,{"$f":"+IF($Q531=\"NO CUMPLE\",$Y531,0)","v":0},null,{"$f":"+IF($Q531=\"no aplica\",2,0)","v":0}]
[]
[]
[null,null,null,"Se han diseñado otras medidas que favorecen la relación y comunicación entre los ocupantes del edificio",null,null,null,null,null,null,null,null,null,null,null,null,null,null,null,null,null,null,null,null,0.25,0,null,{"$f":"+IF($Q534=\"probable\",$Y534,0)","v":0},null,{"$f":"+IF($Q534=\"dudoso\",$Y534,0)","v":0},null,{"$f":"+IF($Q534=\"NO CUMPLE\",$Y534,0)","v":0},null,{"$f":"+IF($Q534=\"no aplica\",2,0)","v":0}]
[]
[null,null,null,"Valoración obtenida:",null,null,null,"SEGURO",null,"PROBABLE",null,"DUDOSO",null,null,null,null,null,null,null,null,null,null,null,null,{"$f":"SUM(Y525:Y534)","v":1},{"$f":"IF($O523=\"\",0,SUM(Z525:Z534)*$O523/$Y536)","v":0},null,{"$f":"IF($O523=\"\",0,SUM(AB525:AB534)*$O523/$Y536)","v":0},null,{"$f":"IF($O523=\"\",0,SUM(AD525:AD534)*$O523/$Y536)","v":0},null,{"$f":"IF($O523=\"\",0,SUM(AF525:AF534)*$O523/$Y536)","v":0}]
[null,null,null,null,null,null,null,{"$f":"Z536","v":0},null,{"$f":"AB536","v":0},null,{"$f":"AD536","v":0}]
[]
[]
[null,null,null,{"$f":"'Matriz VERDE-GBCe'!V45","v":"AS 03"},{"$f":"VLOOKUP($D540,'Matriz VERDE-GBCe'!$V$6:$Y$59,2,FALSE)","v":"Derecho al sol"},null,null,null,null,null,null,null,null,null,{"$f":"VLOOKUP($D540,'Matriz VERDE-GBCe'!$V$6:$Y$59,3,FALSE)","v":1.6607628728374148E-2},null,null,null,null,null,null,null,null,null,"Target","SEGURO",null,"PROBABLE",null,"DUDOSO",null,"NO CUMPLE",null,"NO APLICA"]
[]
[null,null,null,{"$f":"IF(DG!F29=\"\",\"\",DG!F29)","v":""},null,null,null,null,null,{"$f":"IF(DG!F31=\"\",\"\",DG!F31)","v":""}]
[]
[null,null,null,{"$f":"IF(D542=\"Edificios sanitarios\",\"Todas las camas para pacientes internos disfrutan, al menos, dos horas entre las 9:00 y las 15:00 horas solares del día 22 de diciembre\",IF(OR(J542=\"Rehabilitación\",J542=\"Edificio existente\"),\"El % de unidades residenciales que tienen su estancia princial soleada, al menos, dos horas entre las 9:00 y las 15:00 horas solares del día 22 de diciembre es mayor del 50%\",\"El % de unidades residenciales que tienen su estancia princial soleada, al menos, dos horas entre las 9:00 y las 15:00 horas solares del día 22 de diciembre es mayor del 75%\"))","v":"El % de unidades residenciales que tienen su estancia princial soleada, al menos, dos horas entre las 9:00 y las 15:00 horas solares del día 22 de diciembre es mayor del 75%"},null,null,null,null,null,null,null,null,null,null,null,null,null,null,null,null,null,null,null,null,{"$f":"IF(D542=\"Edificios sanitarios\",1,0.5)","v":0.5},{"$f":"+IF($Q544=\"seguro\",$Y544,0)","v":0},null,{"$f":"+IF($Q544=\"probable\",$Y544,0)","v":0},null,{"$f":"+IF($Q544=\"dudoso\",$Y544,0)","v":0},null,{"$f":"+IF($Q544=\"NO CUMPLE\",$Y544,0)","v":0},null,{"$f":"+IF($Q544=\"no aplica\",2,0)","v":0}]
[]
[]
[null,null,null,{"$f":"IF(OR(J542=\"Rehabilitación\",J542=\"Edificio existente\"),\"El % de unidades residenciales que tienen su estancia princial soleada, al menos, dos horas entre las 9:00 y las 15:00 horas solares del día 22 de diciembre está entre el 50% y el 75%\",\"El % de unidades residenciales que tienen su estancia princial soleada, al menos, dos horas entre las 9:00 y las 15:00 horas solares del día 22 de diciembre está entre el 75% y el 100%\")","v":"El % de unidades residenciales que tienen su estancia princial soleada, al menos, dos horas entre las 9:00 y las 15:00 horas solares del día 22 de diciembre está entre el 75% y el 100%"},null,null,null,null,null,null,null,null,null,null,null,null,null,null,null,null,null,null,null,null,{"$f":"IF(D542=\"Edificios sanitarios\",0,0.5)","v":0.5},{"$f":"+IF($Q547=\"seguro\",$Y547,0)","v":0},null,{"$f":"+IF($Q547=\"probable\",$Y547,0)","v":0},null,{"$f":"+IF($Q547=\"dudoso\",$Y547,0)","v":0},null,{"$f":"+IF($Q547=\"NO CUMPLE\",$Y547,0)","v":0},null,{"$f":"+IF($Q547=\"no aplica\",2,0)","v":0}]
[]
[null,null,null,"Valoración obtenida:",null,null,null,"SEGURO",null,"PROBABLE",null,"DUDOSO",null,null,null,null,null,null,null,null,null,null,null,null,{"$f":"SUM(Y541:Y548)","v":1},{"$f":"IF($O540=\"\",0,SUM(Z544:Z548)*$O540/$Y549)","v":0},null,{"$f":"IF($O540=\"\",0,SUM(AB544:AB548)*$O540/$Y549)","v":0},null,{"$f":"IF($O540=\"\",0,SUM(AD544:AD548)*$O540/$Y549)","v":0},null,{"$f":"IF($O540=\"\",0,SUM(AF544:AF548)*$O540/$Y549)","v":0}]
[null,null,null,null,null,null,null,{"$f":"Z549","v":0},null,{"$f":"AB549","v":0},null,{"$f":"AD549","v":0}]
[]
[]
[null,null,null,{"$f":"'Matriz VERDE-GBCe'!V46","v":"AS 04"},{"$f":"VLOOKUP($D553,'Matriz VERDE-GBCe'!$V$6:$Y$59,2,FALSE)","v":"Derecho a la intimidad"},null,null,null,null,null,null,null,null,null,{"$f":"VLOOKUP($D553,'Matriz VERDE-GBCe'!$V$6:$Y$59,3,FALSE)","v":1.6017249345448948E-2},null,null,null,null,null,null,null,null,null,"Target","SEGURO",null,"PROBABLE",null,"DUDOSO",null,"NO CUMPLE",null,"NO APLICA"]
[]
[null,null,null,"Más del 70% de los espacios evaluados disfrutan intimidad en sus espacios interiores",null,null,null,null,null,null,null,null,null,null,null,null,null,null,null,null,null,null,null,null,0.5,{"$f":"+IF($Q555=\"seguro\",$Y555,0)","v":0},null,{"$f":"+IF($Q555=\"probable\",$Y555,0)","v":0},null,{"$f":"+IF($Q555=\"dudoso\",$Y555,0)","v":0},null,{"$f":"+IF($Q555=\"NO CUMPLE\",$Y555,0)","v":0},null,{"$f":"+IF($Q555=\"no aplica\",2,0)","v":0}]
[]
[]
[null,null,null,"Todos de los espacios evaluados disfrutan intimidad en sus espacios interiores",null,null,null,null,null,null,null,null,null,null,null,null,null,null,null,null,null,null,null,null,0.5,{"$f":"+IF($Q558=\"seguro\",$Y558,0)","v":0},null,{"$f":"+IF($Q558=\"probable\",$Y558,0)","v":0},null,{"$f":"+IF($Q558=\"dudoso\",$Y558,0)","v":0},null,{"$f":"+IF($Q558=\"NO CUMPLE\",$Y558,0)","v":0},null,{"$f":"+IF($Q558=\"no aplica\",2,0)","v":0}]
[]
[null,null,null,"Valoración obtenida:",null,null,null,"SEGURO",null,"PROBABLE",null,"DUDOSO",null,null,null,null,null,null,null,null,null,null,null,null,{"$f":"SUM(Y554:Y558)","v":1},{"$f":"IF($O553=\"\",0,SUM(Z554:Z558)*$O553/Y560)","v":0},null,{"$f":"IF($O553=\"\",0,SUM(AB554:AB558)*$O553/Y560)","v":0},null,{"$f":"IF($O553=\"\",0,SUM(AD554:AD558)*$O553/Y560)","v":0},null,{"$f":"IF($O553=\"\",0,SUM(AF554:AF558)*$O553/Y560)","v":0}]
[null,null,null,null,null,null,null,{"$f":"Z560","v":0},null,{"$f":"AB560","v":0},null,{"$f":"AD560","v":0}]
[]
[]
[null,null,null,{"$f":"'Matriz VERDE-GBCe'!V47","v":"AS 05"},{"$f":"VLOOKUP($D564,'Matriz VERDE-GBCe'!$V$6:$Y$59,2,FALSE)","v":"Contacto visual con el exterior"},null,null,null,null,null,null,null,null,null,{"$f":"VLOOKUP($D564,'Matriz VERDE-GBCe'!$V$6:$Y$59,3,FALSE)","v":1.7018327429539504E-2},null,null,null,null,null,null,null,null,null,"Target","SEGURO",null,"PROBABLE",null,"DUDOSO",null,"NO CUMPLE",null,"NO APLICA"]
[]
[null,null,null,{"$f":"IF(D542=\"Alojamiento y hospedaje\",\"Todas las unidades disfrutan de contacto visula con el exterior\",IF(D542=\"Edificios sanitarios\",\"Todas las camas para pacientes internos disfrutan de contacto visual con el exterior\",\"\"))","v":""},null,null,null,null,null,null,null,null,null,null,null,null,null,null,null,null,null,null,null,null,1,{"$f":"+IF($Q566=\"seguro\",$Y566,0)","v":0},null,{"$f":"+IF($Q566=\"probable\",$Y566,0)","v":0},null,{"$f":"+IF($Q566=\"dudoso\",$Y566,0)","v":0},null,{"$f":"+IF($Q566=\"NO CUMPLE\",$Y566,0)","v":0},null,{"$f":"+IF($Q566=\"no aplica\",2,0)","v":0}]
[]
[]
[null,null,null,{"$f":"IF(OR(D542=\"Edificios administrativos\",D542=\"Edificios deportivos\"),\"EL % de superficies de trabajo o uso frecuente que disfrutan de contacto visual con el exterior es mayor de un 90%\",IF(D542=\"Edificios docentes\",\"El % de superficies de aulas y despachos que disfrutan de contacto visual con el exterior es mayor de un 90%\",\"\"))","v":""},null,null,null,null,null,null,null,null,null,null,null,null,null,null,null,null,null,null,null,null,1,{"$f":"+IF($Q569=\"seguro\",$Y569,0)","v":0},null,{"$f":"+IF($Q569=\"probable\",$Y569,0)","v":0},null,{"$f":"+IF($Q569=\"dudoso\",$Y569,0)","v":0},null,{"$f":"+IF($Q569=\"NO CUMPLE\",$Y569,0)","v":0},null,{"$f":"+IF($Q569=\"no aplica\",2,0)","v":0}]
[]
[null,null,null,"Valoración obtenida:",null,null,null,"SEGURO",null,"PROBABLE",null,"DUDOSO",null,null,null,null,null,null,null,null,null,null,null,null,{"$f":"MAX(Y565:Y569)","v":1},{"$f":"IF($O564=\"\",0,MAX(Z565:Z569)*$O564/Y571)","v":0},null,{"$f":"IF($O564=\"\",0,MAX(AB565:AB569)*$O564/Y571)","v":0},null,{"$f":"IF($O564=\"\",0,MAX(AD565:AD569)*$O564/Y571)","v":0},null,{"$f":"IF($O564=\"\",0,MAX(AF565:AF569)*$O564/Y571)","v":0}]
[null,null,null,null,null,null,null,{"$f":"Z571","v":0},null,{"$f":"AB571","v":0},null,{"$f":"AD571","v":0}]
[]
[]
[null,null,null,{"$f":"'Matriz VERDE-GBCe'!V48","v":"AS 06"},{"$f":"VLOOKUP($D575,'Matriz VERDE-GBCe'!$V$6:$Y$59,2,FALSE)","v":"Espacios abiertos privados"},null,null,null,null,null,null,null,null,null,{"$f":"VLOOKUP($D575,'Matriz VERDE-GBCe'!$V$6:$Y$59,3,FALSE)","v":1.735202012423636E-2},null,null,null,null,null,null,null,null,null,"Target","SEGURO",null,"PROBABLE",null,"DUDOSO",null,"NO CUMPLE",null,"NO APLICA"]
[]
[null,null,null,"En todas las plantas se disfruta de un espacio abierto privado cumpliendo con las características del criterio",null,null,null,null,null,null,null,null,null,null,null,null,null,null,null,null,null,null,null,null,1,{"$f":"+IF($Q577=\"seguro\",$Y577,0)","v":0},null,{"$f":"+IF($Q577=\"probable\",$Y577,0)","v":0},null,{"$f":"+IF($Q577=\"dudoso\",$Y577,0)","v":0},null,{"$f":"+IF($Q577=\"NO CUMPLE\",$Y577,0)","v":0},null,{"$f":"+IF($Q577=\"no aplica\",2,0)","v":0}]
[]
[null,null,null,"Valoración obtenida:",null,null,null,"SEGURO",null,"PROBABLE",null,"DUDOSO",null,null,null,null,null,null,null,null,null,null,null,null,{"$f":"MAX(Y576:Y577)","v":1},{"$f":"IF($O575=\"\",0,MAX(Z577:Z577)*$O575/Y579)","v":0},null,{"$f":"IF($O575=\"\",0,MAX(AB577:AB577)*$O575/Y579)","v":0},null,{"$f":"IF($O575=\"\",0,MAX(AD577:AD577)*$O575/Y579)","v":0},null,{"$f":"IF($O575=\"\",0,MAX(AF577:AF577)*$O575/Y579)","v":0}]
[null,null,null,null,null,null,null,{"$f":"Z579","v":0},null,{"$f":"AB579","v":0},null,{"$f":"AD579","v":0}]
[]
[]
[null,null,null,{"$f":"'Matriz VERDE-GBCe'!V49","v":"AS 07"},{"$f":"VLOOKUP($D583,'Matriz VERDE-GBCe'!$V$6:$Y$59,2,FALSE)","v":"Diseño inclusivo"},null,null,null,null,null,null,null,null,null,{"$f":"VLOOKUP($D583,'Matriz VERDE-GBCe'!$V$6:$Y$59,3,FALSE)","v":1.9764874993582836E-2},null,null,null,null,null,null,null,null,null,"Target","SEGURO",null,"PROBABLE",null,"DUDOSO",null,"NO CUMPLE",null,"NO APLICA"]
[]
[null,null,null,"El edificio cuenta con una señaletica específica para personas con discapacidad cognitiva",null,null,null,null,null,null,null,null,null,null,null,null,null,null,null,null,null,null,null,null,0.3,{"$f":"+IF($Q585=\"seguro\",$Y585,0)","v":0},null,{"$f":"+IF($Q585=\"probable\",$Y585,0)","v":0},null,{"$f":"+IF($Q585=\"dudoso\",$Y585,0)","v":0},null,{"$f":"+IF($Q585=\"NO CUMPLE\",$Y585,0)","v":0},null,{"$f":"+IF($Q585=\"no aplica\",2,0)","v":0}]
[]
[]
[null,null,null,"EL edifico prevé el libre acceso mediante itinerarios accesibles a personas con movilidad reducida a todos los espacios de uso habitual del edificio.",null,null,null,null,null,null,null,null,null,null,null,null,null,null,null,null,null,null,null,null,0.5,{"$f":"+IF($Q588=\"seguro\",$Y588,0)","v":0},null,{"$f":"+IF($Q588=\"probable\",$Y588,0)","v":0},null,{"$f":"+IF($Q588=\"dudoso\",$Y588,0)","v":0},null,{"$f":"+IF($Q588=\"NO CUMPLE\",$Y588,0)","v":0},null,{"$f":"+IF($Q588=\"no aplica\",2,0)","v":0}]
[]
[]
[null,null,null,"El edificio contempla alguna mejora sustancial en la accesibilidad",null,null,null,null,null,null,null,null,null,null,null,null,null,null,null,null,null,null,null,null,0.2,{"$f":"+IF($Q591=\"seguro\",$Y591,0)","v":0},null,{"$f":"+IF($Q591=\"probable\",$Y591,0)","v":0},null,{"$f":"+IF($Q591=\"dudoso\",$Y591,0)","v":0},null,{"$f":"+IF($Q591=\"NO CUMPLE\",$Y591,0)","v":0},null,{"$f":"+IF($Q591=\"no aplica\",2,0)","v":0}]
[]
[null,null,null,"Valoración obtenida:",null,null,null,"SEGURO",null,"PROBABLE",null,"DUDOSO",null,null,null,null,null,null,null,null,null,null,null,null,{"$f":"SUM(Y584:Y591)","v":1},{"$f":"IF($O583=\"\",0,SUM(Z584:Z591)*$O583/$Y593)","v":0},null,{"$f":"IF($O583=\"\",0,SUM(AB584:AB591)*$O583/$Y593)","v":0},null,{"$f":"IF($O583=\"\",0,SUM(AD584:AD591)*$O583/$Y593)","v":0},null,{"$f":"IF($O583=\"\",0,SUM(AF584:AF591)*$O583/$Y593)","v":0}]
[null,null,null,null,null,null,null,{"$f":"Z593","v":0},null,{"$f":"AB593","v":0},null,{"$f":"AD593","v":0}]
[]
[]
[null,null,null,{"$f":"'Matriz VERDE-GBCe'!V50","v":"AS 08"},{"$f":"VLOOKUP($D597,'Matriz VERDE-GBCe'!$V$6:$Y$59,2,FALSE)","v":"Conexión con la naturaleza"},null,null,null,null,null,null,null,null,null,{"$f":"VLOOKUP($D597,'Matriz VERDE-GBCe'!$V$6:$Y$59,3,FALSE)","v":2.6053698855177373E-2},null,null,null,null,null,null,null,null,null,"Target","SEGURO",null,"PROBABLE",null,"DUDOSO",null,"NO CUMPLE",null,"NO APLICA"]
[]
[null,null,null,"Existen espacios abiertos ajardinados que cumplen las especificaciones del criterio ",null,null,null,null,null,null,null,null,null,null,null,null,null,null,null,null,null,null,null,null,0.25,{"$f":"+IF($Q599=\"seguro\",$Y599,0)","v":0},null,{"$f":"+IF($Q599=\"probable\",$Y599,0)","v":0},null,{"$f":"+IF($Q599=\"dudoso\",$Y599,0)","v":0},null,{"$f":"+IF($Q599=\"NO CUMPLE\",$Y599,0)","v":0},null,{"$f":"+IF($Q599=\"no aplica\",2,0)","v":0}]
[]
[]
[null,null,null,"Todas las unidades residenciales o espacios evaluados  tienen contacto visual con espacios vegetados cumpliendo con las especificaciones del criterio ",null,null,null,null,null,null,null,null,null,null,null,null,null,null,null,null,null,null,"",null,0.25,{"$f":"+IF($Q602=\"seguro\",$Y602,0)","v":0},null,{"$f":"+IF($Q602=\"probable\",$Y602,0)","v":0},null,{"$f":"+IF($Q602=\"dudoso\",$Y602,0)","v":0},null,{"$f":"+IF($Q602=\"NO CUMPLE\",$Y602,0)","v":0},null,{"$f":"+IF($Q602=\"no aplica\",2,0)","v":0}]
[]
[]
[null,null,null,"El edificio cuenta con zonas pródigas en plantas en zonas comunes y espacios que puedan dar servicio a avifauna",null,null,null,null,null,null,null,null,null,null,null,null,null,null,null,null,null,null,null,null,0.7,{"$f":"+IF($Q605=\"seguro\",$Y605,0)","v":0},null,{"$f":"+IF($Q605=\"probable\",$Y605,0)","v":0},null,{"$f":"+IF($Q605=\"dudoso\",$Y605,0)","v":0},null,{"$f":"+IF($Q605=\"NO CUMPLE\",$Y605,0)","v":0},null,{"$f":"+IF($Q605=\"no aplica\",2,0)","v":0}]
[]
[]
[null,null,null,"El edificio cuenta con estructuras de plantas con flores que atraigan insectos polinizadores y que sirvan de soporte para estos.",null,null,null,null,null,null,null,null,null,null,null,null,null,null,null,null,null,null,null,null,0.3,{"$f":"+IF($Q608=\"seguro\",$Y608,0)","v":0},null,{"$f":"+IF($Q608=\"probable\",$Y608,0)","v":0},null,{"$f":"+IF($Q608=\"dudoso\",$Y608,0)","v":0},null,{"$f":"+IF($Q608=\"NO CUMPLE\",$Y608,0)","v":0},null,{"$f":"+IF($Q608=\"no aplica\",2,0)","v":0}]
[]
[]
[null,null,null,"El edificio cuenta con elementos que facilitan la conviviencia con perros",null,null,null,null,null,null,null,null,null,null,null,null,null,null,null,null,null,null,null,null,0.15,{"$f":"+IF($Q611=\"seguro\",$Y611,0)","v":0},null,{"$f":"+IF($Q611=\"probable\",$Y611,0)","v":0},null,{"$f":"+IF($Q611=\"dudoso\",$Y611,0)","v":0},null,{"$f":"+IF($Q611=\"NO CUMPLE\",$Y611,0)","v":0},null,{"$f":"+IF($Q611=\"no aplica\",2,0)","v":0}]
[]
[null,null,null,"Valoración obtenida:",null,null,null,"SEGURO",null,"PROBABLE",null,"DUDOSO",null,null,null,null,null,null,null,null,null,null,null,null,{"$f":"SUM(Y599:Y604)+((Y605+Y608)*0.35)+Y611","v":1},{"$f":"IF($O597=\"\",0,(SUM(Z599:Z602)+((Z605+Z608)*0.35)+Z611)*$O597/$Y613)","v":0},null,{"$f":"IF($O597=\"\",0,(SUM(AB599:AB602)+((AB605+AB608)*0.35)+AB611)*$O597/$Y613)","v":0},null,{"$f":"IF($O597=\"\",0,(SUM(AD599:AD602)+((AD605+AD608)*0.35)+AD611)*$O597/$Y613)","v":0},null,{"$f":"IF($O597=\"\",0,(SUM(AF599:AF602)+((AF605+AF608)*0.35)+AF611)*$O597/$Y613)","v":0}]
[null,null,null,null,null,null,null,{"$f":"Z613","v":0},null,{"$f":"AB613","v":0},null,{"$f":"AD613","v":0}]
[]
[]
[null,null,null,{"$f":"'Matriz VERDE-GBCe'!V51","v":"AS 09"},{"$f":"VLOOKUP($D617,'Matriz VERDE-GBCe'!$V$6:$Y$59,2,FALSE)","v":"El edificio como herramienta de comunicación"},null,null,null,null,null,null,null,null,null,{"$f":"VLOOKUP($D617,'Matriz VERDE-GBCe'!$V$6:$Y$59,3,FALSE)","v":1.8455772883618257E-2},null,null,null,null,null,null,null,null,null,"Target","SEGURO",null,"PROBABLE",null,"DUDOSO",null,"NO CUMPLE",null,"NO APLICA"]
[]
[null,null,null,"Se ha elaborado un plan de comunicación",null,null,null,null,null,null,null,null,null,null,null,null,null,null,null,null,null,null,null,null,0.25,{"$f":"+IF($Q619=\"seguro\",$Y619,0)","v":0},null,{"$f":"+IF($Q619=\"probable\",$Y619,0)","v":0},null,{"$f":"+IF($Q619=\"dudoso\",$Y619,0)","v":0},null,{"$f":"+IF($Q619=\"NO CUMPLE\",$Y619,0)","v":0},null,{"$f":"+IF($Q619=\"no aplica\",2,0)","v":0}]
[]
[]
[null,null,null,"Hay un compromiso de hacer los datos de consumo generales del edificio público",null,null,null,null,null,null,null,null,null,null,null,null,null,null,null,null,null,null,null,null,0.25,{"$f":"+IF($Q622=\"seguro\",$Y622,0)","v":0},null,{"$f":"+IF($Q622=\"probable\",$Y622,0)","v":0},null,{"$f":"+IF($Q622=\"dudoso\",$Y622,0)","v":0},null,{"$f":"+IF($Q622=\"NO CUMPLE\",$Y622,0)","v":0},null,{"$f":"+IF($Q622=\"no aplica\",2,0)","v":0}]
[]
[]
[null,null,null,"Hay un compromiso de facilitar información sobre el funcionamiento del edificio a entidades educacionales",null,null,null,null,null,null,null,null,null,null,null,null,null,null,null,null,null,null,null,null,0.25,0,null,{"$f":"+IF($Q625=\"probable\",$Y625,0)","v":0},null,{"$f":"+IF($Q625=\"dudoso\",$Y625,0)","v":0},null,{"$f":"+IF($Q625=\"NO CUMPLE\",$Y625,0)","v":0},null,{"$f":"+IF($Q625=\"no aplica\",2,0)","v":0}]
[]
[]
[null,null,null,"Hay un compromiso incentivar la comunicación del funcionamiento del edificio en foros representativos",null,null,null,null,null,null,null,null,null,null,null,null,null,null,null,null,null,null,null,null,0.25,0,null,{"$f":"+IF($Q628=\"probable\",$Y628,0)","v":0},null,{"$f":"+IF($Q628=\"dudoso\",$Y628,0)","v":0},null,{"$f":"+IF($Q628=\"NO CUMPLE\",$Y628,0)","v":0},null,{"$f":"+IF($Q628=\"no aplica\",2,0)","v":0}]
[]
[null,null,null,"Valoración obtenida:",null,null,null,"SEGURO",null,"PROBABLE",null,"DUDOSO",null,null,null,null,null,null,null,null,null,null,null,null,{"$f":"SUM(Y619:Y628)","v":1},{"$f":"IF($O617=\"\",0,SUM(Z619:Z628)*$O617/$Y630)","v":0},null,{"$f":"IF($O617=\"\",0,SUM(AB619:AB628)*$O617/$Y630)","v":0},null,{"$f":"IF($O617=\"\",0,SUM(AD619:AD628)*$O617/$Y630)","v":0},null,{"$f":"IF($O617=\"\",0,SUM(AF619:AF628)*$O617/$Y630)","v":0}]
[null,null,null,null,null,null,null,{"$f":"Z630","v":0},null,{"$f":"AB630","v":0},null,{"$f":"AD630","v":0}]
[]
[null,null,null,null,null,"SEGURO",null,"PROBABLE",null,"DUDOSO",null,"NO CUMPLE"]
[]
[null,null,null,"SUBTOTAL",null,{"$f":"H520+H537+H550+H561+H572+H580+H594+H614+H631","v":0},null,{"$f":"J520+J537+J550+J561+J572+J580+J594+J614+J631","v":0},null,{"$f":"L520+L537+L550+L561+L572+L580+L594+L614+L631","v":0},null,{"$f":"AF519+AF536+AF549+AF560+AF571+AF579+AF593+AF613+AF630","v":0},null,null,null,null,null,null,null,null,null,null,null,{"$f":"F635+H635+J635+L635","v":0}]
[]
[]
[]
[null,{"$f":"'Matriz VERDE-GBCe'!U52","v":"CE"},null,{"$f":"'Matriz VERDE-GBCe'!V52","v":"Calidad de la edificación"},null,null,null,null,null,null,null,null,null,null,"Valoración total",null,{"$f":"'Matriz VERDE-GBCe'!X52","v":0.18029672981159198}]
[]
[]
[null,null,null,{"$f":"'Matriz VERDE-GBCe'!V53","v":"CE 01"},{"$f":"VLOOKUP($D642,'Matriz VERDE-GBCe'!$V$6:$Y$59,2,FALSE)","v":"Diseño pasivo"},null,null,null,null,null,null,null,null,null,{"$f":"VLOOKUP($D642,'Matriz VERDE-GBCe'!$V$6:$Y$59,3,FALSE)","v":2.8363879049232509E-2}]
[]
[null,null,null,"Coeficiente global de transmisión a través de la envolvente",null,null,null,null,null,null,null,null,null,null,null,null,null,null,null,null,null,null,null,null,"Target","SEGURO",null,"PROBABLE",null,"DUDOSO",null,"NO CUMPLE",null,"NO APLICA"]
[]
[null,null,null,null,null,"El coeficiente global de transmisión de calor a través de la envolvente (K) del proyecto reduce en mas de un 15 % el valor limite fijado por el DB HE 1",null,null,null,null,null,null,null,null,null,null,null,null,null,null,null,null,null,null,0.125,{"$f":"+IF($Q646=\"seguro\",$Y646,0)","v":0},null,{"$f":"+IF($Q646=\"probable\",$Y646,0)","v":0},null,{"$f":"+IF($Q646=\"dudoso\",$Y646,0)","v":0},null,{"$f":"+IF($Q646=\"NO CUMPLE\",$Y646,0)","v":0},null,{"$f":"+IF($Q646=\"no aplica\",2,0)","v":0}]
[]
[]
[null,null,null,null,null,"El coeficiente global de transmisión de calor a través de la envolvente (K) del proyecto reduce en mas de un 30 % el valor limite fijado por el DB HE 1",null,null,null,null,null,null,null,null,null,null,null,null,null,null,null,null,null,null,0.125,{"$f":"+IF($Q649=\"seguro\",$Y649,0)","v":0},null,{"$f":"+IF($Q649=\"probable\",$Y649,0)","v":0},null,{"$f":"+IF($Q649=\"dudoso\",$Y649,0)","v":0},null,{"$f":"+IF($Q649=\"NO CUMPLE\",$Y649,0)","v":0},null,{"$f":"+IF($Q649=\"no aplica\",2,0)","v":0}]
[]
[]
[null,null,null,"EL parámetro de control solar de la envolvente mejora los límites fijados por el  DB HE 1",null,null,null,null,null,null,null,null,null,null,null,null,null,null,null,null,null,null,null,null,0.25,{"$f":"+IF($Q652=\"seguro\",$Y652,0)","v":0},null,{"$f":"+IF($Q652=\"probable\",$Y652,0)","v":0},null,{"$f":"+IF($Q652=\"dudoso\",$Y652,0)","v":0},null,{"$f":"+IF($Q652=\"NO CUMPLE\",$Y652,0)","v":0},null,{"$f":"+IF($Q652=\"no aplica\",2,0)","v":0}]
[]
[]
[null,null,null,"El número de renovaciones hora a una presión de 50 Pa, n50 [h-1] se reduce en un 50%",null,null,null,null,null,null,null,null,null,null,null,null,null,null,null,null,null,null,null,null,0.25,{"$f":"+IF($Q655=\"seguro\",$Y655,0)","v":0},null,{"$f":"+IF($Q655=\"probable\",$Y655,0)","v":0},null,{"$f":"+IF($Q655=\"dudoso\",$Y655,0)","v":0},null,{"$f":"+IF($Q655=\"NO CUMPLE\",$Y655,0)","v":0},null,{"$f":"+IF($Q655=\"no aplica\",2,0)","v":0}]
[]
[]
[null,null,null,"Se cumple con los valores límites del factor de temperatura interior FRsi",null,null,null,null,null,null,null,null,null,null,null,null,null,null,null,null,null,null,null,null,0.25,{"$f":"+IF($Q658=\"seguro\",$Y658,0)","v":0},null,{"$f":"+IF($Q658=\"probable\",$Y658,0)","v":0},null,{"$f":"+IF($Q658=\"dudoso\",$Y658,0)","v":0},null,{"$f":"+IF($Q658=\"NO CUMPLE\",$Y658,0)","v":0},null,{"$f":"+IF($Q658=\"no aplica\",2,0)","v":0}]
[]
[null,null,null,"Valoración obtenida:",null,null,null,"SEGURO",null,"PROBABLE",null,"DUDOSO",null,null,null,null,null,null,null,null,null,null,null,null,{"$f":"SUM(Y644:Y658)","v":1},{"$f":"IF(O642=\"\",0,SUM(Z645:Z658)*O642)","v":0},null,{"$f":"IF(O642=\"\",0,SUM(AB645:AB658)*O642)","v":0},null,{"$f":"IF(O642=\"\",0,SUM(AD645:AD658)*O642)","v":0},null,{"$f":"IF(O642=\"\",0,SUM(AF645:AF658)*O642)","v":0}]
[null,null,null,null,null,null,null,{"$f":"Z660","v":0},null,{"$f":"AB660","v":0},null,{"$f":"AD660","v":0}]
[]
[]
[null,null,null,{"$f":"'Matriz VERDE-GBCe'!V54","v":"CE 02"},{"$f":"VLOOKUP($D664,'Matriz VERDE-GBCe'!$V$6:$Y$59,2,FALSE)","v":"Control parcial de los sistemas de clima (HVAC)"},null,null,null,null,null,null,null,null,null,{"$f":"VLOOKUP($D664,'Matriz VERDE-GBCe'!$V$6:$Y$59,3,FALSE)","v":2.6695415575748244E-2},null,null,null,null,null,null,null,null,null,"Target","SEGURO",null,"PROBABLE",null,"DUDOSO",null,"NO CUMPLE",null,"NO APLICA"]
[]
[null,null,null,"El edificio permite el funcionamiento parcial de los sistemas de clima según la compartimentación por zonas.",null,null,null,null,null,null,null,null,null,null,null,null,null,null,null,null,null,null,null,null,0.6,{"$f":"+IF($Q666=\"seguro\",$Y666,0)","v":0},null,{"$f":"+IF($Q666=\"probable\",$Y666,0)","v":0},null,{"$f":"+IF($Q666=\"dudoso\",$Y666,0)","v":0},null,{"$f":"+IF($Q666=\"NO CUMPLE\",$Y666,0)","v":0},null,{"$f":"+IF($Q666=\"no aplica\",2,0)","v":0}]
[]
[]
[null,null,null,"El porcentaje de suerficies de áreas de trabajo que cuentan con control termóstático es mayor del 80%",null,null,null,null,null,null,null,null,null,null,null,null,null,null,null,null,null,null,null,null,0.2,{"$f":"+IF($Q669=\"seguro\",$Y669,0)","v":0},null,{"$f":"+IF($Q669=\"probable\",$Y669,0)","v":0},null,{"$f":"+IF($Q669=\"dudoso\",$Y669,0)","v":0},null,{"$f":"+IF($Q669=\"NO CUMPLE\",$Y669,0)","v":0},null,{"$f":"+IF($Q669=\"no aplica\",2,0)","v":0}]
[]
[]
[null,null,null,"El porcentaje de suerficies de áreas de trabajo que cuentan con control termóstático es mayor del 95%",null,null,null,null,null,null,null,null,null,null,null,null,null,null,null,null,null,null,null,null,0.2,{"$f":"+IF($Q672=\"seguro\",$Y672,0)","v":0},null,{"$f":"+IF($Q672=\"probable\",$Y672,0)","v":0},null,{"$f":"+IF($Q672=\"dudoso\",$Y672,0)","v":0},null,{"$f":"+IF($Q672=\"NO CUMPLE\",$Y672,0)","v":0},null,{"$f":"+IF($Q672=\"no aplica\",2,0)","v":0}]
[]
[null,null,null,"Valoración obtenida:",null,null,null,"SEGURO",null,"PROBABLE",null,"DUDOSO",null,null,null,null,null,null,null,null,null,null,null,null,{"$f":"SUM(Y666:Y672)","v":1},{"$f":"IFERROR(IF($O664=\"\",0,SUM(Z666:Z672)*$O664/$Y674),0)","v":0},null,{"$f":"IFERROR(IF($O664=\"\",0,SUM(AB666:AB672)*$O664/$Y674),0)","v":0},null,{"$f":"IFERROR(IF($O664=\"\",0,SUM(AD666:AD672)*$O664/$Y674),0)","v":0},null,{"$f":"IFERROR(IF($O664=\"\",0,SUM(AF666:AF672)*$O664/$Y674),0)","v":0}]
[null,null,null,null,null,null,null,{"$f":"Z674","v":0},null,{"$f":"AB674","v":0},null,{"$f":"AD674","v":0}]
[]
[]
[null,null,null,{"$f":"'Matriz VERDE-GBCe'!V55","v":"CE 03"},{"$f":"VLOOKUP($D678,'Matriz VERDE-GBCe'!$V$6:$Y$59,2,FALSE)","v":"Control local de la iluminación"},null,null,null,null,null,null,null,null,null,{"$f":"VLOOKUP($D678,'Matriz VERDE-GBCe'!$V$6:$Y$59,3,FALSE)","v":2.2229067200574978E-2},null,null,null,null,null,null,null,null,null,"Target","SEGURO",null,"PROBABLE",null,"DUDOSO",null,"NO CUMPLE",null,"NO APLICA"]
[]
[null,null,null,"El porcentaje de puestos de trabajo que cuentan con control local de la iluminación es mayor del 80%",null,null,null,null,null,null,null,null,null,null,null,null,null,null,null,null,null,null,null,null,0.5,{"$f":"+IF($Q680=\"seguro\",$Y680,0)","v":0},null,{"$f":"+IF($Q680=\"probable\",$Y680,0)","v":0},null,{"$f":"+IF($Q680=\"dudoso\",$Y680,0)","v":0},null,{"$f":"+IF($Q680=\"NO CUMPLE\",$Y680,0)","v":0},null,{"$f":"+IF($Q680=\"no aplica\",2,0)","v":0}]
[]
[]
[null,null,null,"El porcentaje de puestos de trabajo que cuentan con control local de la iluminación es mayor del 95%",null,null,null,null,null,null,null,null,null,null,null,null,null,null,null,null,null,null,null,null,0.5,{"$f":"+IF($Q683=\"seguro\",$Y683,0)","v":0},null,{"$f":"+IF($Q683=\"probable\",$Y683,0)","v":0},null,{"$f":"+IF($Q683=\"dudoso\",$Y683,0)","v":0},null,{"$f":"+IF($Q683=\"NO CUMPLE\",$Y683,0)","v":0},null,{"$f":"+IF($Q683=\"no aplica\",2,0)","v":0}]
[]
[null,null,null,"Valoración obtenida:",null,null,null,"SEGURO",null,"PROBABLE",null,"DUDOSO",null,null,null,null,null,null,null,null,null,null,null,null,{"$f":"SUM(Y679:Y683)","v":1},{"$f":"IF($O678=\"\",0,SUM(Z680:Z683)*$O678/Y685)","v":0},null,{"$f":"IF($O678=\"\",0,SUM(AB680:AB683)*$O678/Y685)","v":0},null,{"$f":"IF($O678=\"\",0,SUM(AD680:AD683)*$O678/Y685)","v":0},null,{"$f":"IF($O678=\"\",0,SUM(AF680:AF683)*$O678/Y685)","v":0}]
[null,null,null,null,null,null,null,{"$f":"Z685","v":0},null,{"$f":"AB685","v":0},null,{"$f":"AD685","v":0}]
[]
[]
[null,null,null,{"$f":"'Matriz VERDE-GBCe'!V56","v":"CE 04"},{"$f":"VLOOKUP($D689,'Matriz VERDE-GBCe'!$V$6:$Y$59,2,FALSE)","v":"Calidad en la construcción"},null,null,null,null,null,null,null,null,null,{"$f":"VLOOKUP($D689,'Matriz VERDE-GBCe'!$V$6:$Y$59,3,FALSE)","v":3.4781046254941224E-2},null,null,null,null,null,null,null,null,null,"Target","SEGURO",null,"PROBABLE",null,"DUDOSO",null,"NO CUMPLE",null,"NO APLICA"]
[]
[null,null,null,"Se ha realizado e implementado un Plan de Control de Calidad durante la obra del edificio",null,null,null,null,null,null,null,null,null,null,null,null,null,null,null,null,null,null,null,null,0.3,{"$f":"+IF($Q691=\"seguro\",$Y691,0)","v":0},null,{"$f":"+IF($Q691=\"probable\",$Y691,0)","v":0},null,{"$f":"+IF($Q691=\"dudoso\",$Y691,0)","v":0},null,{"$f":"+IF($Q691=\"NO CUMPLE\",$Y691,0)","v":0},null,{"$f":"+IF($Q691=\"no aplica\",2,0)","v":0}]
[]
[]
[null,null,null,"Se ha realizado e implementado un Plan de gestión ambiental durante la obra del edificio",null,null,null,null,null,null,null,null,null,null,null,null,null,null,null,null,null,null,null,null,0.2,{"$f":"+IF($Q694=\"seguro\",$Y694,0)","v":0},null,{"$f":"+IF($Q694=\"probable\",$Y694,0)","v":0},null,{"$f":"+IF($Q694=\"dudoso\",$Y694,0)","v":0},null,{"$f":"+IF($Q694=\"NO CUMPLE\",$Y694,0)","v":0}]
[]
[]
[null,null,null,"Se ha realizado alguna de las siguientes mediciones o pruebas de control de calidad"]
[]
[null,null,null,null,null,"Se ha realizado un Blower Door",null,null,null,null,null,null,null,null,null,null,null,null,null,null,null,null,null,null,0.2,{"$f":"+IF($Q699=\"seguro\",$Y699,0)","v":0},null,{"$f":"+IF($Q699=\"probable\",$Y699,0)","v":0},null,{"$f":"+IF($Q699=\"dudoso\",$Y699,0)","v":0},null,{"$f":"+IF($Q699=\"NO CUMPLE\",$Y699,0)","v":0},null,{"$f":"+IF($Q699=\"no aplica\",2,0)","v":0}]
[]
[]
[null,null,null,null,null,"Se ha medido el aislamiento acústico al finalizar la obra",null,null,null,null,null,null,null,null,null,null,null,null,null,null,null,null,null,null,0.1,{"$f":"+IF($Q702=\"seguro\",$Y702,0)","v":0},null,0,null,0,null,0,null,0]
[]
[]
[null,null,null,null,null,"Se han realizado pruebas de estanqueidad en cubiertas y carpinterías.",null,null,null,null,null,null,null,null,null,null,null,null,null,null,null,null,null,null,0.1,{"$f":"+IF($Q705=\"seguro\",$Y705,0)","v":0},null,0,null,0,null,0,null,0]
[]
[]
[null,null,null,null,null,"Se han tomado otras mediciones relevantes para el edificio",null,null,null,null,null,null,null,null,null,null,null,null,null,null,null,null,null,null,0.1,{"$f":"+IF($Q708=\"seguro\",$Y708,0)","v":0},null,0,null,0,null,0,null,0]
[]
[]
[null,null,null,"Se ha recopilado la documentación relativa a la Garantía calidad productos",null,null,null,null,null,null,null,null,null,null,null,null,null,null,null,null,null,null,null,null,0.1,{"$f":"+IF($Q711=\"seguro\",$Y711,0)","v":0},null,0,null,0,null,0,null,0]
[]
[null,null,null,"Valoración obtenida:",null,null,null,"SEGURO",null,"PROBABLE",null,"DUDOSO",null,null,null,null,null,null,null,null,null,null,null,{"$f":"Z713+AB713+AD713+AF713","v":0},{"$f":"IF(SUM(Y698:Y708)>0.4,0.4+Y691+Y694+Y711,(SUM(Y691:Y711)))","v":0.99999999999999989},{"$f":"IF(O689=\"\",0,IF(SUM(Z691:Z712)>=1,O689,(SUM(Z691:Z712))*O689))","v":0},null,{"$f":"IF(OR(O689=\"\",Z713>=O689),0,IF((SUM(AB690:AB712))>=1,O689-Z713,IF(((SUM(AB691:AB712))+Z713)>=O689,(O689-Z713),(SUM(AB691:AB712)*O689))))","v":0},null,{"$f":"IF(OR(O689=\"\",(Z713+AB713)>=O689),0,IF((SUM(AD691:AD712))>=1,O689-Z713-AB713,IF(((SUM(AD691:AD712))*O689)+AB713+Z713>=O689,(O689-Z713-AB713),SUM(AD691:AD712)*O689)))","v":0},null,{"$f":"IF($O689=\"\",0,IF(SUM(AF697:AF708)>0.4,(0.4+AF691+AF694+AF711)*$O689,SUM(AF691:AF711)*O689))","v":0}]
[null,null,null,null,null,null,null,{"$f":"Z713","v":0},null,{"$f":"AB713","v":0},null,{"$f":"AD713","v":0}]
[]
[]
[null,null,null,{"$f":"'Matriz VERDE-GBCe'!V57","v":"CE 05"},{"$f":"VLOOKUP($D717,'Matriz VERDE-GBCe'!$V$6:$Y$59,2,FALSE)","v":"Puesta en marcha sistemática"},null,null,null,null,null,null,null,null,null,{"$f":"VLOOKUP($D717,'Matriz VERDE-GBCe'!$V$6:$Y$59,3,FALSE)","v":3.6115817033728632E-2},null,null,null,null,null,null,null,null,null,"Target","SEGURO",null,"PROBABLE",null,"DUDOSO",null,"NO CUMPLE",null,"NO APLICA"]
[]
[null,null,null,{"$f":"IF(DG!F31=\"\",\"\",DG!F31)","v":""}]
[]
[null,null,null,"Se ha implementado un plan de monitorización de los consumos adecuado para el edificio",null,null,null,null,null,null,null,null,null,null,null,null,null,null,null,null,null,null,null,"c",{"$f":"IF(D719=\"Edificio existente\",0.33,0.15)","v":0.15},{"$f":"+IF($Q721=\"seguro\",$Y721,0)","v":0},null,{"$f":"+IF($Q721=\"probable\",$Y721,0)","v":0},null,{"$f":"+IF($Q721=\"dudoso\",$Y721,0)","v":0},null,{"$f":"+IF($Q721=\"NO CUMPLE\",$Y721,0)","v":0},null,{"$f":"+IF($Q721=\"no aplica\",2,0)","v":0}]
[]
[]
[null,null,null,"Se ha elaborado un plan de puesta en marcha adecuado para el edificio.",null,null,null,null,null,null,null,null,null,null,null,null,null,null,null,null,null,null,null,null,{"$f":"IF(D719=\"Edificio existente\",0,0.1)","v":0.1},{"$f":"+IF($Q724=\"seguro\",$Y724,0)","v":0},null,{"$f":"+IF($Q724=\"probable\",$Y724,0)","v":0},null,{"$f":"+IF($Q724=\"dudoso\",$Y724,0)","v":0},null,{"$f":"+IF($Q724=\"NO CUMPLE\",$Y724,0)","v":0},null,{"$f":"+IF($Q724=\"no aplica\",2,0)","v":0}]
[]
[]
[null,null,null,"Todos los componentes técnicos esenciales han sido sometidos a una prueba de funcionamiento preliminar",null,null,null,null,null,null,null,null,null,null,null,null,null,null,null,null,null,null,null,null,{"$f":"IF(D719=\"Edificio existente\",0,0.1)","v":0.1},{"$f":"+IF($Q727=\"seguro\",$Y727,0)","v":0},null,{"$f":"+IF($Q727=\"probable\",$Y727,0)","v":0},null,{"$f":"+IF($Q727=\"dudoso\",$Y727,0)","v":0},null,{"$f":"+IF($Q727=\"NO CUMPLE\",$Y727,0)","v":0},null,{"$f":"+IF($Q727=\"no aplica\",2,0)","v":0}]
[]
[]
[null,null,null,"Todos los sistemas técnicos esenciales han sido sometidos a su puesta en marcha y el operador ha recibido formación necesaria",null,null,null,null,null,null,null,null,null,null,null,null,null,null,null,null,null,null,null,"c",{"$f":"IF(D719=\"Edificio existente\",0.33,0.15)","v":0.15},0,null,{"$f":"+IF($Q730=\"probable\",$Y730,0)","v":0},null,0,null,0,null,0]
[]
[]
[null,null,null,"Se documenta todo el proceso de puesta en marcha en un informe.",null,null,null,null,null,null,null,null,null,null,null,null,null,null,null,null,null,null,null,null,{"$f":"IF(D719=\"Edificio existente\",0,0.2)","v":0.2},0,null,{"$f":"+IF($Q733=\"probable\",$Y733,0)","v":0},null,0,null,0,null,0]
[]
[]
[null,null,null,"Se ha elaborado un manual de funcionamiento integral de las instalaciones del edificio",null,null,null,null,null,null,null,null,null,null,null,null,null,null,null,null,null,null,null,"c",{"$f":"IF(D719=\"Edificio existente\",0.34,0.2)","v":0.2},0,null,{"$f":"+IF($Q736=\"probable\",$Y736,0)","v":0},null,0,null,0,null,0]
[]
[]
[null,null,null,"Se ha realizado una Gestión de la puesta en marcha conforme a las especificaciones del criterio",null,null,null,null,null,null,null,null,null,null,null,null,null,null,null,null,null,null,null,null,{"$f":"IF(D719=\"Edificio existente\",0,0.1)","v":0.1},{"$f":"+IF($Q739=\"seguro\",$Y739,0)","v":0},null,{"$f":"+IF($Q739=\"probable\",$Y739,0)","v":0},null,{"$f":"+IF($Q739=\"dudoso\",$Y739,0)","v":0},null,{"$f":"+IF($Q739=\"NO CUMPLE\",$Y739,0)","v":0},null,{"$f":"+IF($Q739=\"no aplica\",2,0)","v":0}]
[]
[null,null,null,"Valoración obtenida:",null,null,null,"SEGURO",null,"PROBABLE",null,"DUDOSO"]
[null,null,null,null,null,null,null,{"$f":"Z742","v":0},null,{"$f":"AB742","v":0},null,{"$f":"AD742","v":0},null,null,null,null,null,null,null,null,null,null,null,null,{"$f":"SUM(Y721:Y739)","v":0.99999999999999989},{"$f":"IF($O717=\"\",0,SUM(Z721:Z739)*$O717)","v":0},null,{"$f":"IF($O717=\"\",0,SUM(AB721:AB739)*$O717)","v":0},null,{"$f":"IF($O717=\"\",0,SUM(AD721:AD739)*$O717)","v":0},null,{"$f":"IF($O717=\"\",0,SUM(AF721:AF739)*$O717)","v":0}]
[]
[]
[null,null,null,{"$f":"'Matriz VERDE-GBCe'!V58","v":"CE 06"},{"$f":"VLOOKUP($D745,'Matriz VERDE-GBCe'!$V$6:$Y$59,2,FALSE)","v":"Custodia de la documentación del proyecto"},null,null,null,null,null,null,null,null,null,{"$f":"VLOOKUP($D745,'Matriz VERDE-GBCe'!$V$6:$Y$59,3,FALSE)","v":3.2111504697366393E-2},null,null,null,null,null,null,null,null,null,"Target","SEGURO",null,"PROBABLE",null,"DUDOSO",null,"NO CUMPLE",null,"NO APLICA"]
[]
[null,null,null,"El protocolo de custodia de la documentación del proyecto incluye a propietarios, equipo de proyecto y promotores.",null,null,null,null,null,null,null,null,null,null,null,null,null,null,null,null,null,null,null,null,0.4,{"$f":"+IF($Q747=\"seguro\",$Y747,0)","v":0},null,{"$f":"+IF($Q747=\"probable\",$Y747,0)","v":0},null,{"$f":"+IF($Q747=\"dudoso\",$Y747,0)","v":0},null,{"$f":"+IF($Q747=\"NO CUMPLE\",$Y747,0)","v":0},null,{"$f":"+IF($Q747=\"no aplica\",2,0)","v":0}]
[]
[]
[null,null,null,"Se aportan los pliegos de licitación o contrato que defina todos los requisitos establecidos en el criterio para diseño del proyecto BIM",null,null,null,null,null,null,null,null,null,null,null,null,null,null,null,null,null,null,null,null,0.6,{"$f":"+IF($Q750=\"seguro\",$Y750,0)","v":0},null,{"$f":"+IF($Q750=\"probable\",$Y750,0)","v":0},null,{"$f":"+IF($Q750=\"dudoso\",$Y750,0)","v":0},null,{"$f":"+IF($Q750=\"NO CUMPLE\",$Y750,0)","v":0},null,{"$f":"+IF($Q750=\"no aplica\",2,0)","v":0}]
[]
[null,null,null,"Valoración obtenida:",null,null,null,"SEGURO",null,"PROBABLE",null,"DUDOSO"]
[null,null,null,null,null,null,null,{"$f":"Z753","v":0},null,{"$f":"AB753","v":0},null,{"$f":"AD753","v":0},null,null,null,null,null,null,null,null,null,null,null,null,{"$f":"SUM(Y747:Y750)","v":1},{"$f":"IF($O745=\"\",0,SUM(Z747:Z750)*$O745)","v":0},null,{"$f":"IF($O745=\"\",0,SUM(AB747:AB750)*$O745)","v":0},null,{"$f":"IF($O745=\"\",0,SUM(AD747:AD750)*$O745)","v":0},null,{"$f":"IF($O745=\"\",0,SUM(AF747:AF750)*$O745)","v":0}]
[]
[]
[null,null,null,{"$f":"'Matriz VERDE-GBCe'!V59","v":"CE 07"},{"$f":"VLOOKUP($D756,'Matriz VERDE-GBCe'!$V$6:$Y$59,2,FALSE)","v":"Certificaciones voluntarias de edificios"},null,null,null,null,null,null,null,null,null,{"$f":"VLOOKUP($D756,'Matriz VERDE-GBCe'!$V$6:$Y$59,3,FALSE)","v":0},null,null,null,null,null,null,null,null,null,"Target","SEGURO",null,"PROBABLE",null,"DUDOSO",null,"NO CUMPLE",null,"NO APLICA"]
[]
[null,null,null,"El edificio cuenta con una certificación VERDE",null,null,null,null,null,null,null,null,null,null,null,null,null,null,null,null,null,null,null,null,1,{"$f":"+IF($Q758=\"seguro\",$Y758,0)","v":0},null,{"$f":"+IF($Q758=\"probable\",$Y758,0)","v":0},null,{"$f":"+IF($Q758=\"dudoso\",$Y758,0)","v":0},null,{"$f":"+IF($Q758=\"NO CUMPLE\",$Y758,0)","v":0},null,{"$f":"+IF($Q758=\"no aplica\",2,0)","v":0}]
[]
[]
[null,null,null,"El edificio cuenta con otra certificación voluntaria que valora la sostenibilidad en la edificación.",null,null,null,null,null,null,null,null,null,null,null,null,null,null,null,null,null,null,null,null,0.5,{"$f":"+IF($Q761=\"seguro\",$Y761,0)","v":0},null,{"$f":"+IF($Q761=\"probable\",$Y761,0)","v":0},null,{"$f":"+IF($Q761=\"dudoso\",$Y761,0)","v":0},null,{"$f":"+IF($Q761=\"NO CUMPLE\",$Y761,0)","v":0},null,{"$f":"+IF($Q761=\"no aplica\",2,0)","v":0}]
[]
[null,null,null,"Valoración obtenida:",null,null,null,"SEGURO",null,"PROBABLE",null,"DUDOSO"]
[null,null,null,null,null,null,null,{"$f":"Z764","v":0},null,{"$f":"AB764","v":0},null,{"$f":"AD764","v":0},null,null,null,null,null,null,null,null,null,null,null,null,{"$f":"MAX(Y758:Y761)","v":1},{"$f":"IF($O756=\"\",0,MAX(Z758:Z761)*$O756)","v":0},null,{"$f":"IF($O756=\"\",0,MAX(AB758:AB761)*$O756)","v":0},null,{"$f":"IF($O756=\"\",0,MAX(AD758:AD761)*$O756)","v":0},null,{"$f":"IF($O756=\"\",0,MAX(AF758:AF761)*$O756)","v":0}]
[]
[]
[null,null,null,null,null,"SEGURO",null,"PROBABLE",null,"DUDOSO",null,"NO CUMPLE"]
[]
[null,null,null,"SUBTOTAL",null,{"$f":"H661+H675+H686+H714+H742+H753+H764","v":0},null,{"$f":"J661+J675+J686+J714+J742+J753+J764","v":0},null,{"$f":"L661+L675+L686+L714+L742+L753+L764","v":0},null,{"$f":"AF660+AF674+AF685+AF713+AF742+AF753+AF764","v":0},null,null,null,null,null,null,null,null,null,null,null,{"$f":"F769+H769+J769+L769","v":0}]
[]
[]
[]
[]
[null,"IN",null,"Innovación"]
[]
[]
[null,null,null,"IN 01","Criterio 1",null,null,null,null,null,null,null,null,null,0.05,null,null,null,null,null,null,null,null,null,"Target","SEGURO",null,"PROBABLE",null,"DUDOSO",null,"COMPLICADO",null,"NO APLICA"]
[]
[null,null,null,"medida de innovación aprobada por GCBe",null,null,null,null,null,null,null,null,null,null,null,null,null,null,null,null,null,null,null,null,1,{"$f":"+IF($Q779=\"seguro\",$Y779,0)","v":0},null,{"$f":"+IF($Q779=\"probable\",$Y779,0)","v":0},null,{"$f":"+IF($Q779=\"dudoso\",$Y779,0)","v":0},null,{"$f":"+IF($Q779=\"NO CUMPLE\",$Y779,0)","v":0},null,{"$f":"+IF($Q779=\"no aplica\",2,0)","v":0}]
[]
[]
[null,null,null,"medida de innovación aprobada por GCBe",null,null,null,null,null,null,null,null,null,null,null,null,null,null,null,null,null,null,null,null,1,{"$f":"+IF($Q782=\"seguro\",$Y782,0)","v":0},null,{"$f":"+IF($Q782=\"probable\",$Y782,0)","v":0},null,{"$f":"+IF($Q782=\"dudoso\",$Y782,0)","v":0},null,{"$f":"+IF($Q782=\"NO CUMPLE\",$Y782,0)","v":0},null,{"$f":"+IF($Q782=\"no aplica\",2,0)","v":0}]
[]
[]
[null,null,null,"medida de innovación aprobada por GCBe",null,null,null,null,null,null,null,null,null,null,null,null,null,null,null,null,null,null,null,null,1,{"$f":"+IF($Q785=\"seguro\",$Y785,0)","v":0},null,{"$f":"+IF($Q785=\"probable\",$Y785,0)","v":0},null,{"$f":"+IF($Q785=\"dudoso\",$Y785,0)","v":0},null,{"$f":"+IF($Q785=\"NO CUMPLE\",$Y785,0)","v":0},null,{"$f":"+IF($Q785=\"no aplica\",2,0)","v":0}]
[]
[]
[null,null,null,"medida de innovación aprobada por GCBe",null,null,null,null,null,null,null,null,null,null,null,null,null,null,null,null,null,null,null,null,1,{"$f":"+IF($Q788=\"seguro\",$Y788,0)","v":0},null,{"$f":"+IF($Q788=\"probable\",$Y788,0)","v":0},null,{"$f":"+IF($Q788=\"dudoso\",$Y788,0)","v":0},null,{"$f":"+IF($Q788=\"NO CUMPLE\",$Y788,0)","v":0},null,{"$f":"+IF($Q788=\"no aplica\",2,0)","v":0}]
[]
[]
[null,null,null,"medida de innovación aprobada por GCBe",null,null,null,null,null,null,null,null,null,null,null,null,null,null,null,null,null,null,null,null,1,{"$f":"+IF($Q791=\"seguro\",$Y791,0)","v":0},null,{"$f":"+IF($Q791=\"probable\",$Y791,0)","v":0},null,{"$f":"+IF($Q791=\"dudoso\",$Y791,0)","v":0},null,{"$f":"+IF($Q791=\"NO CUMPLE\",$Y791,0)","v":0},null,{"$f":"+IF($Q791=\"no aplica\",2,0)","v":0}]
[null,null,null,null,null,null,null,null,null,null,null,null,null,null,null,null,null,null,null,null,null,null,{"$f":"SUM(Z792:AF792)","v":0},null,{"$f":"SUM(Y779:Y791)","v":5},{"$f":"IF($O777=\"\",0,SUM(Z779:Z791)*$O777/$Y792)","v":0},null,{"$f":"IF($O777=\"\",0,SUM(AB779:AB791)*$O777/$Y792)","v":0},null,{"$f":"IF($O777=\"\",0,SUM(AD779:AD791)*$O777/$Y792)","v":0},null,{"$f":"IF($O777=\"\",0,SUM(AF779:AF791)*$O777/$Y792)","v":0}]
[]
[null,null,null,null,null,"SEGURO",null,"PROBABLE",null,"DUDOSO",null,"NO CUMPLE"]
[]
[null,null,null,"SUBTOTAL",null,{"$f":"$Z792","v":0},null,{"$f":"$AB792","v":0},null,{"$f":"$AD792","v":0},null,{"$f":"$AF792","v":0}]
[]
[]
[]
[]
[]
[]
[null,null,null,null,null,"SEGURO",null,"PROBABLE",null,"DUDOSO",null,"NO CUMPLE"]
[]
[null,null,null,"PE",null,{"$f":"F126","v":0},null,{"$f":"H126","v":0},null,{"$f":"J126","v":0},null,{"$f":"L126","v":0},null,null,null,null,null,null,null,null,null,null,null,{"$f":"Q5","v":0.15244622413881617}]
[]
[null,null,null,"EA",null,{"$f":"F222","v":0},null,{"$f":"H222","v":0},null,{"$f":"J222","v":0},null,{"$f":"L222","v":0},null,null,null,null,null,null,null,null,null,null,null,{"$f":"Q130","v":0.17601006211817857}]
[]
[null,null,null,"RN",null,{"$f":"F423","v":0},null,{"$f":"H423","v":0},null,{"$f":"J423","v":0},null,{"$f":"L423","v":0},null,null,null,null,null,null,null,null,null,null,null,{"$f":"Q226","v":0.22922121258791522}]
[]
[null,null,null,"AI",null,{"$f":"F505","v":0},null,{"$f":"H505","v":0},null,{"$f":"J505","v":0},null,{"$f":"L505","v":0},null,null,null,null,null,null,null,null,null,null,null,{"$f":"Q427","v":9.4871399969197606E-2}]
[]
[null,null,null,"AS",null,{"$f":"F635","v":0},null,{"$f":"H635","v":0},null,{"$f":"J635","v":0},null,{"$f":"L635","v":0},null,null,null,null,null,null,null,null,null,null,null,{"$f":"Q509","v":0.16715437137430056}]
[]
[null,null,null,"CE",null,{"$f":"F769","v":0},null,{"$f":"H769","v":0},null,{"$f":"J769","v":0},null,{"$f":"L769","v":0},null,null,null,null,null,null,null,null,null,null,null,{"$f":"Q639","v":0.18029672981159198}]
[]
[null,null,null,"IN",null,{"$f":"F796","v":0},null,{"$f":"H796","v":0},null,{"$f":"J796","v":0},null,{"$f":"L796","v":0},null,null,null,null,null,null,null,null,null,null,null,{"$f":"F817+H817+J817+L817","v":0}]
[]
[null,null,null,"TOTAL",null,{"$f":"SUM(F805:F818)","v":0},null,{"$f":"SUM(H805:H818)","v":0},null,0,null,0,null,null,null,null,null,null,null,null,null,null,null,{"$f":"SUM(X805:X815)","v":1.0000000000000002},"S","S+P","S+P+D"]
[]
[null,null,null,null,null,null,null,null,null,null,null,null,null,null,null,null,null,null,null,null,null,null,null,null,{"$f":"F819","v":0},{"$f":"F819+H819","v":0},{"$f":"F819+H819+J819","v":0}," hoja"]
[]
[]
[null,null,"  Los criterios seguros darían un resultado de ",null,null,null,null,null,null,null,null,null,{"$f":"F819","v":0},null,{"$f":"IFERROR(CONCATENATE(Y825,Y826),\"\")","v":"0 hojas"}]
[null,null,null,null,null,null,null,null,null,null,null,null,null,null,null,null,null,null,null,null,null,null,null,null,{"$f":"IF(Y821>80%,5,IF(Y821>60%,4,IF(Y821>50%,3,IF(Y821>40%,2,IF(Y821>30%,1,0)))))","v":0},{"$f":"IF(Z821>80%,5,IF(Z821>60%,4,IF(Z821>50%,3,IF(Z821>40%,2,IF(Z821>30%,1,0)))))","v":0},{"$f":"IF(AA821>80%,5,IF(AA821>60%,4,IF(AA821>50%,3,IF(AA821>40%,2,IF(AA821>30%,1,0)))))","v":0}," hojas"]
[null,null,"  Los criterios seguros más los probables darían un resultado de ",null,null,null,null,null,null,null,null,null,{"$f":"F819+H819","v":0},null,{"$f":"IFERROR(CONCATENATE(Z825,Z826),\"\")","v":"0 hojas"},null,null,null,null,null,null,null,null,null,{"$f":"IF(Y825=1,AB821,AB825)","v":" hojas"},{"$f":"IF(Z825=1,AB821,AB825)","v":" hojas"},{"$f":"IF(AA825=1,AB821,AB825)","v":" hojas"}]
[]
[null,null,"  Los criterios seguros más los probables más los dudosos darían un resultado de ",null,null,null,null,null,null,null,null,null,{"$f":"F819+H819+J819","v":0},null,{"$f":"IFERROR(CONCATENATE(AA825,AA826),\"\")","v":"0 hojas"}]
[]
[]
[]
[]
[]
[]
[]
[null,null,null,null,null,null,null,null,null,null,null,null,null,null,null,null,null,null,null,null,null,null,null,null,null,null,null,null,null,null,null,null,null,"Columna1","Seguro","Seguro+P","S+P+D","2hojas","3 hojas","4 hojas","5 hojas"]
[null,null,null,null,null,null,null,null,null,null,null,null,null,null,null,null,null,null,null,null,null,null,null,"Seguros","Seguros +probables","S+P+D",null,null,null,null,null,null,null,"PE",{"$f":"F805/X805","v":0},{"$f":"H805/X805","v":0},{"$f":"J805/X805","v":0},0.3,0.35,0.45,0.6]
[null,null,null,null,null,null,null,null,null,null,null,null,null,null,null,null,null,null,null,null,null,null,null,{"$f":"F819","v":0},{"$f":"H819","v":0},{"$f":"J819","v":0},null,null,null,null,null,null,null,"EA",{"$f":"F807/X807","v":0},{"$f":"H807/X807","v":0},{"$f":"J807/X807","v":0},0.3,0.35,0.45,0.6]
[null,null,null,null,null,null,null,null,null,null,null,null,null,null,null,null,null,null,null,null,null,null,null,{"$f":"F819","v":0},{"$f":"H819","v":0},null,null,null,null,null,null,null,null,"RN",{"$f":"F809/X809","v":0},{"$f":"H809/X809","v":0},{"$f":"J809/X809","v":0},0.3,0.35,0.45,0.6]
[null,null,null,null,null,null,null,null,null,null,null,null,null,null,null,null,null,null,null,null,null,null,null,{"$f":"F819","v":0},null,null,null,null,null,null,null,null,null,"AI",{"$f":"F811/X811","v":0},{"$f":"H811/X811","v":0},{"$f":"J811/X811","v":0},0.3,0.35,0.45,0.6]
[null,null,null,null,null,null,null,null,null,null,null,null,null,null,null,null,null,null,null,null,null,null,null,null,null,null,null,null,null,null,null,null,null,"AS",{"$f":"F813/X813","v":0},{"$f":"H813/X813","v":0},{"$f":"J813/X813","v":0},0.3,0.35,0.45,0.6]
[null,null,null,null,null,null,null,null,null,null,null,null,null,null,null,null,null,null,null,null,null,null,null,null,null,null,null,null,null,null,null,null,null,"CE",{"$f":"F815/X815","v":0},{"$f":"H815/X815","v":0},{"$f":"J815/X815","v":0},0.3,0.35,0.45,0.6]
[null,null,null,null,null,null,null,null,null,null,null,null,null,null,null,null,null,null,null,null,null,null,null,null,null,null,null,null,null,null,null,null,null,"IN",{"$f":"F817","v":0},{"$f":"F817+H817","v":0},{"$f":"F817+H817+J817","v":0},0.3,0.35,0.45,0.6]
[]
[null,null,null,null,null,null,null,null,null,null,null,null,null,null,null,null,null,null,null,null,null,null,null,null,null,null,null,null,null,null,null,null,null,null,null,"5 hojas","4 hojas","3 hojas%","2 hojas","1 hojas"]
[null,null,null,null,null,null,null,null,null,null,null,null,null,null,null,null,null,null,null,null,null,null,null,null,null,null,null,null,null,null,null,null,null,null,"5 hojas",0.6,0.6,0.6,0.6,0.6]
[null,null,null,null,null,null,null,null,null,null,null,null,null,null,null,null,null,null,null,null,null,null,null,null,null,null,null,null,null,null,null,null,null,null,"4 hojas",0.45,0.45,0.45,0.45,0.45]
[null,null,null,null,null,null,null,null,null,null,null,null,null,null,null,null,null,null,null,null,null,null,null,null,null,null,null,null,null,null,null,null,null,null,"3 hojas",0.35,0.35,0.35,0.35,0.35]
[null,null,null,null,null,null,null,null,null,null,null,null,null,null,null,null,null,null,null,null,null,null,null,null,null,null,null,null,null,null,null,null,null,null,"2 hojas",0.3,0.3,0.3,0.3,0.3]

{"sheet":"PE","index":11,"n_rows":320,"n_cols":25,"rows_kept":320,"cut":false,"hidden":false,"merged":[[69,5,70,5],[72,5,73,5],[75,5,76,5],[78,5,79,5],[83,5,84,5],[124,5,124,6],[122,5,122,6],[126,5,126,6],[178,5,179,5],[96,5,96,6],[120,4,120,5],[134,4,134,5],[158,4,158,5],[158,6,158,7],[108,5,108,6],[120,6,120,7],[151,4,151,5],[147,4,147,5],[168,5,168,6],[170,5,170,6],[197,5,197,6],[267,5,267,6],[269,5,269,6],[215,4,215,5],[215,6,215,7],[217,5,217,6],[219,5,219,6],[221,5,221,6],[263,4,263,5],[265,5,265,6],[225,5,225,6],[223,5,223,6],[1,2,1,3],[46,4,46,5],[46,6,46,7],[48,5,48,6],[20,4,20,5],[20,6,20,7],[1,4,1,5],[1,6,1,7],[22,5,22,6],[24,5,24,6],[16,5,16,6],[8,6,8,8],[308,6,308,9],[191,5,191,6],[193,5,193,6],[195,5,195,6],[263,6,263,7],[233,4,233,5],[251,4,251,5],[271,5,271,6],[295,4,295,5],[295,6,295,7],[301,5,301,6],[297,5,297,6],[299,5,299,6],[273,5,273,6],[275,5,275,6],[277,5,277,6],[189,4,189,5],[189,6,189,7],[153,5,154,5],[66,5,67,5],[98,5,98,6],[164,5,164,6],[162,5,162,6],[166,5,166,6],[160,5,160,6],[92,5,92,6],[88,4,88,5],[88,6,88,7],[94,5,94,6],[140,4,140,5],[142,5,143,5],[90,5,90,6]]}
[]
[null,null,{"$f":"'Matriz VERDE-GBCe'!U6","v":"PE"},null,{"$f":"'Matriz VERDE-GBCe'!V6","v":"Parcela y emplazamiento"},null,null,null,null,null,null,null,null,null,null,null,null,null,null,null,null,null,null,null,"EJEMPLO 1"]
[]
[]
[null,null,null,null,{"$f":"'Matriz VERDE-GBCe'!V7","v":"PE 01"},{"$f":"VLOOKUP($E5,'Matriz VERDE-GBCe'!$V$7:$Y$51,2,FALSE)","v":"Proximidad al transporte publico."},{"$f":"VLOOKUP($E5,'Matriz VERDE-GBCe'!$V$7:$Y$51,3,FALSE)","v":1.4297448534319013E-2},null,null,null,null,null,null,null,"Área urbana"]
[null,null,null,null,null,null,null,null,null,null,null,null,null,null,"Polígono no residencial"]
[null,null,null,null,null,{"$f":"IF(DG!$F$29=DG!$L$29,\"Comprueba las particularidades de este criterio para Naves industriales o logísticas en GEA.\",\"\")","v":""},null,null,null,null,null,null,null,null,null,null,null,null,null,"SE ADJUNTA",null,"SÍ","NO"]
[null,null,null,null,null,null,null,null,null,null,null,null,null,null,null,null,null,null,null,"NO SE ADJUNTA",null,"NO"]
[null,null,null,null,null,"¿Dónde se encuentra el edificio?","Área urbana",null,null,null,null,null,null,null,null,null,null,null,null,"NO APLICA"]
[]
[null,null,null,null,null,{"$f":"IF(G9=\"Polígono no residencial\",\"Número de ocupantes\",\"Número de habitantes del municipio\")","v":"Número de habitantes del municipio"},null,null,null,null,null,null,null,null,null,null,null,null,null,null,null,null,null,null,10000]
[]
[null,null,null,null,null,{"$f":"IF(G9=\"Polígono no residencial\",\"\",\"Densidad del entorno de la parcela en viv./ha\")","v":"Densidad del entorno de la parcela en viv./ha"},null,null,null,null,null,null,null,null,null,null,null,null,null,null,null,null,null,null,150]
[]
[null,null,null,null,null,"Dispone de un servicio propio de desplazamiento de trabajadores"]
[]
[null,null,null,null,null,{"$f":"IF(I15=\"Sí\",\"\",IF(DG!$F$29=DG!$L$29,CONCATENATE(N19,O19,P19,Q19,R19),CONCATENATE(N17,O17,P17,Q17,R17)))","v":"Se cumple con el requisito de 2 líneas de transporte público en las paradas situadas en un radio de 1000 m"},null,null,null,null,null,null,"Sí","Se cumple con el requisito de ",{"$f":"IF(G9=\"Polígono no residencial\",IF($I$11>=50,6,IF($I$11<50,4,0)),IF(AND($I$13>100,$I$11>100000),6,IF(OR(AND($I$13>100,AND($I$11<100000,$I$11>20000)),AND($I$13<100,$I$11>20000)),4,2))\n)","v":2}," líneas de transporte público en las paradas situadas en un radio de ",{"$f":"IF(G9=\"Polígono no residencial\",IF($I$11>=50,300,IF($I$11<50,600,0)),IF(AND($I$13>100,$I$11>100000),300,IF(OR(AND($I$13>100,AND($I$11<100000,$I$11>20000)),AND($I$13<100,$I$11>20000)),600,1000)))","v":1000}," m",null,null,null,null,null,null,"SÍ"]
[]
[null,null,null,null,"NOTAS",null,null,null,null,null,null,null,null,"Se cumple con el requisito de ",{"$f":"IF(G11=\"Polígono no residencial\",IF($I$11>=50,3,IF($I$11<50,2,0)),IF(AND($I$13>100,$I$11>100000),3,IF(OR(AND($I$13>100,AND($I$11<100000,$I$11>20000)),AND($I$13<100,$I$11>20000)),2,1))\n)","v":1}," líneas de transporte público en las paradas situadas en un radio de ",{"$f":"IF(G11=\"Polígono no residencial\",IF($I$11>=50,300,IF($I$11<50,600,0)),IF(AND($I$13>100,$I$11>100000),300,IF(OR(AND($I$13>100,AND($I$11<100000,$I$11>20000)),AND($I$13<100,$I$11>20000)),600,1000)))","v":1000}," m"]
[]
[null,null,null,null,"DOCUMENTOS JUSTIFICATIVOS"]
[]
[null,null,null,null,"PE 01.01","Plano de situación del edificio en formato que permita la comprobación de las medidas con herramientas de libre acceso, indicando el círculo del diámetro adecuado para el caso de estudio, la entrada principal y la situación de las paradas de transporte público."]
[]
[null,null,null,null,"PE 01.02",{"$f":"IF(DG!F103=DG!M83,CONCATENATE(PE!N25,PE!O25,PE!P25),CONCATENATE(PE!N25,PE!O25,PE!Q25))","v":"Información de los tipos de transporte público y líneas de cada uno de ellos con los horarios de servicio en las paradas incluidas en el diámetro aplicable al caso de estudio vigentes a fecha de visado del proyecto."},null,null,null,null,null,null,null,"Información de los tipos de transporte público y líneas de cada uno de ellos con los horarios de servicio en las paradas incluidas en el diámetro aplicable al caso de estudio ","vigentes a fecha de"," visado del proyecto.","puesta en servicio del edificio."]
[]
[null,null,null,null,null,"VALORACIÓN DEL CRITERIO",{"$f":"IF(OR($I17=\"SÍ\",I15=\"SÍ\"),$G5,0)","v":0}]
[]
[]
[]
[null,null,null,null,{"$f":"'Matriz VERDE-GBCe'!V8","v":"PE 02"},{"$f":"VLOOKUP($E31,'Matriz VERDE-GBCe'!$V$7:$Y$51,2,FALSE)","v":"Proximidad a equipamiento y servicios."},{"$f":"VLOOKUP($E31,'Matriz VERDE-GBCe'!$V$7:$Y$51,3,FALSE)","v":1.3476051131988296E-2}]
[]
[null,null,null,null,null,{"$f":"IF(DG!$F$29=DG!$L$30,\"Comprueba las particularidades de este criterio para urbanizaciones en GEA.\",IF(DG!$F$29=DG!L29,\"Comprueba las particularidades de este criterio para unifamiliares en GEA.\",\"\"))","v":""}]
[]
[null,null,null,null,null,"Número de habitantes del municipio",{"$f":"I11","v":0},null,null,null,null,null,null,{"$f":"IF(AND($G$37>100,$G$35>100000),\"A\",IF(OR(AND($G$37>100,AND($G$35<100000,$G$35>20000)),AND($G$37<100,$G$35>20000)),\"B\",\"C\"))","v":"C"},"A","B","C"]
[]
[null,null,null,null,null,"Densidad del entorno de la parcela en viv./ha",{"$f":"I13","v":0},null,null,null,null,null,null,null,{"$f":"IF(OR($I$39<3,$I$41<3,$I$43<2),0,$G$31)","v":0},{"$f":"IF(OR($I$39<3,$I$41<2,$I$43<1),0,$G$31)","v":0},{"$f":"IF(OR($I$39<2,$I$41<1),0,$G$31)","v":0}]
[]
[null,null,null,null,null,"Número de equipamientos de PRIORIDAD 1",null,null,null,null,null,null,null,null,null,null,null,null,null,null,null,null,null,null,5]
[]
[null,null,null,null,null,"Número de equipamientos de PRIORIDAD 2",null,null,null,null,null,null,null,null,null,null,null,null,null,null,null,null,null,null,3]
[]
[null,null,null,null,null,"Número de equipamientos de PRIORIDAD 3"]
[]
[null,null,null,null,"NOTAS"]
[]
[null,null,null,null,"DOCUMENTOS JUSTIFICATIVOS"]
[]
[null,null,null,null,"PE 02.01",{"$f":"CONCATENATE(N49,O49,P49)","v":"Plano de situación del edificio en formato que permita la comprobación de las medidas con herramientas de libre acceso, indicando el círculo de diámetro 800 y la situación de Los equipamientos indicando su prioridad y su función."},null,null,null,null,null,null,null,"Plano de situación del edificio en formato que permita la comprobación de las medidas con herramientas de libre acceso, indicando el círculo de diámetro ",{"$f":"IF(DG!F29=\"unifamiliar\",1000,800)","v":800}," y la situación de Los equipamientos indicando su prioridad y su función."]
[]
[null,null,null,null,null,"VALORACIÓN DEL CRITERIO",{"$f":"IF($N35=\"A\",$O37,IF($N35=\"B\",$P37,IF($N35=\"C\",$Q37,0)))","v":0}]
[]
[]
[]
[null,null,null,null,{"$f":"'Matriz VERDE-GBCe'!V9","v":"PE 03"},{"$f":"VLOOKUP($E55,'Matriz VERDE-GBCe'!$V$7:$Y$51,2,FALSE)","v":"Facilidades para la bicicleta."},{"$f":"VLOOKUP($E55,'Matriz VERDE-GBCe'!$V$7:$Y$51,3,FALSE)","v":1.6299604702500133E-2}]
[]
[null,null,null,null,null,{"$f":"IF(DG!F31=DG!L72,\"Comprueba las particularidades de este criterio para rehabilitaciones en GEA.\",IF(DG!F31=DG!L73,\"Comprueba las particularidades de este criterio para edificios existentes en GEA.\",\"\"))","v":""}]
[]
[null,null,null,null,null,{"$f":"DG!$F$29","v":0}]
[]
[null,null,null,null,null,"¿Se dispone de superficie libre de parcela o espacio de aparcamiento?"]
[]
[null,null,null,null,null,"Número de aparcabicis requerido"]
[]
[null,null,null,null,null,"Número de aparcabicis del proyecto",null,null,null,null,null,null,null,null,null,null,null,null,null,null,null,null,null,null,75]
[]
[null,null,null,null,null,{"$f":"IF(I61=\"no\",\"¿Existe un aparcamiento de bicicletas en vía pública a menos de 300 m de la entrada principal que cumple con las especificaciones del criterio?\",\"\")","v":""},null,null,null,null,null,null,null,null,"Oficinas o administratico"]
[]
[null,null,null,null,null,null,null,null,null,null,null,null,null,null,"Naves industriales o logísticas"]
[null,null,null,null,null,"Se reserva una franja de 0,5 m de ancho entre el espacio ocupados por las bicis y los viales de circulación tanto peatonal, cómo de vehículos",null,null,null,null,null,null,null,null,"Edificios comerciales",null,null,null,null,null,null,null,null,null,"SÍ"]
[null,null,null,null,null,null,null,null,null,null,null,null,null,null,"Edificios educacionales"]
[null,null,null,null,null,null,null,null,null,null,null,null,null,null,"Edificios de equipamiento público"]
[null,null,null,null,null,"Se ofrece un entorno cómodo para los ciclistas con espacio suficiente para realizar las maniobras necesarias",null,null,null,null,null,null,null,null,"Hotelero",null,null,null,null,null,null,null,null,null,"SÍ"]
[null,null,null,null,null,null,null,null,null,null,null,null,null,null,"Servicios de restauración"]
[null,null,null,null,null,null,null,null,null,null,null,null,null,null,"Mixtos"]
[null,null,null,null,null,"La instalación cumple con las normativas de accesibilidad de peatones y personas con movilidad reducida.",null,null,null,null,null,null,null,null,null,null,null,null,null,null,null,null,null,null,"SÍ"]
[]
[]
[null,null,null,null,null,"Los paracabaicis están anclados a una estructura permanente y permiten el anclaje de la bicicleta en dos puntos, al menos una rueda y un bastidor.",null,null,null,null,null,null,null,null,null,null,null,null,null,null,null,null,null,null,"SÍ"]
[]
[]
[null,null,null,null,null,"El espacio de aparcamiento está debidamente iluminado y ofrece sensación de seguridad.",null,null,null,null,null,null,null,null,null,null,null,null,null,null,null,null,null,null,"SÍ"]
[]
[null,null,null,null,null,"El aparcabicis previene robos o actos de vandalismo, en caso de desanclar el elemento de aparcamiento del suelo, las bicicletas no podrán ser separadas de él sin romper el candado.",null,null,null,null,null,null,null,null,null,null,null,null,null,null,null,null,null,null,"SÍ"]
[]
[]
[null,null,null,null,"NOTAS"]
[]
[null,null,null,null,"DOCUMENTOS JUSTIFICATIVOS"]
[]
[null,null,null,null,"PE 03.01","Plano con la situación de los aparcabicis y la justificación de que se cumplen las distancias de seguridad"]
[]
[null,null,null,null,"PE 03.02","Detalle o ficha técnica de los aparcabicis seleccionados"]
[]
[null,null,null,null,"PE 03.03","Copia de las facturas de los aparcabicis (pudiendo ocultar el precio)"]
[]
[null,null,null,null,"PE 03.04","Fotografías de obra construida de los aparcabicis y su relación con el entorno"]
[]
[null,null,null,null,"PE 03.05","Memoria de cálculos justificativos del número de aparcamientos en función de los ocupantes del edificio"]
[]
[null,null,null,null,null,"VALORACIÓN DEL CRITERIO",{"$f":"IF(AND(I61=\"No\",I67=\"Sí\"),G55*0.5,IF(AND(I65>=I63,I70=\"Sí\",I73=\"Sí\",I76=\"Sí\",I79=\"Sí\",I82=\"Sí\",I84=\"Sí\"),G55,0))","v":0}]
[]
[]
[]
[null,null,null,null,{"$f":"'Matriz VERDE-GBCe'!V10","v":"PE 04"},{"$f":"VLOOKUP($E105,'Matriz VERDE-GBCe'!$V$7:$Y$51,2,FALSE)","v":"Capacidad de carga de vehículos eléctricos."},{"$f":"VLOOKUP($E105,'Matriz VERDE-GBCe'!$V$7:$Y$51,3,FALSE)","v":1.6017249345448948E-2},null,null,null,null,null,{"$f":"IF(OR(I107=\"No\",I107=\"\",I111=\"\",I113=\"\"),0,I113/I111)","v":0},{"$f":"IF(DG!F31=DG!L41,1,0)","v":0},"Edificio existente"]
[]
[null,null,null,null,null,"¿El edificio cuenta con aparcamiento privado?"]
[]
[null,null,null,null,null,"¿Todas las plazas de aparcamiento sin carga cuentan con una preinstalación de carga para vehículos?"]
[]
[null,null,null,null,null,"Número de plazas de aparcamiento"]
[]
[null,null,null,null,null,"Número de plazas con carga para vehículos eléctricos"]
[]
[]
[null,null,null,null,null,"Porcentaje de plazas con carga para vehículos eléctricos",{"$f":"IF(N105=0,M116,M105)","v":0},null,null,null,null,null,{"$f":"IF(OR(I107=\"No\",I109=\"No\",I107=\"\",I109=\"\",I111=\"\",I113=\"\"),0,(I113/I111))","v":0},{"$f":"IFERROR(IF(G116<0.2,0,IF(G116>=0.5,G$105,(G116-0.2)/0.3*G$105)),0)","v":0}]
[]
[]
[null,null,null,null,"NOTAS"]
[]
[null,null,null,null,"DOCUMENTOS JUSTIFICATIVOS"]
[]
[null,null,null,null,"PE 04.01","Extracto de la memoria del proyecto donde se indique el número de plazas de aparcamiento y cuántas de ellas tienen carga para vehículos eléctricos o preinstalación."]
[]
[null,null,null,null,"PE 04.02","Extracto de la memoria de instalaciones y planos de instalación eléctrica del proyecto, en los que se justifique que la instalación cuenta con la preinstalación de carga y la de carga se adapta a las exigencias de la ITC BT 52 del REBT"]
[]
[null,null,null,null,"PE 04.03","Justificación de que el edificio dispone de los requisitos de potencia necesarios para cubrir el consumo de los puntos de carga de vehículos."]
[]
[null,null,null,null,null,"VALORACIÓN DEL CRITERIO",{"$f":"IF((I107=\"No\"),0,N116)","v":0}]
[]
[]
[]
[null,null,null,null,{"$f":"'Matriz VERDE-GBCe'!V11","v":"PE 05"},{"$f":"VLOOKUP($E133,'Matriz VERDE-GBCe'!$V$7:$Y$51,2,FALSE)","v":"Clasificación de RSU."},{"$f":"VLOOKUP($E133,'Matriz VERDE-GBCe'!$V$7:$Y$51,3,FALSE)","v":1.1294214282047332E-2}]
[]
[null,null,null,null,"Espacio en planta baja para almacen de trastos:"]
[]
[null,null,null,null,null,"Superficie mínima del almacen de trastos",null,null,null,null,null,null,23,{"$f":"IF(DG!F31=\"rehabilitación\",\"RH\",IF(DG!F31=\"NUEVA EDIFICACIÓN\",\"NE\",\"\"))","v":""},{"$f":"IF(DG!F29=\"unifamiliar\",\"Uni\", \"Res\")","v":"Res"},null,null,null,null,null,null,null,null,null,23]
[]
[null,null,null,null,null,"Diámetro del mayor círculo que se puede inscribir en el almacén",null,null,null,null,null,null,null,{"$f":"IF(AND($I137>=7,$I139>=1.5),1,0)","v":0},{"$f":"IF(N139=0,0,G133*0.25)","v":0},null,null,null,null,null,null,null,null,null,30]
[]
[null,null,null,null,"Espacio en cada planta para conenedores de residuos:"]
[]
[null,null,null,null,null,"Existe en cada planta un espacio reservado para contenedores de aquellas fracciones de residuos generados habitualmente en el edificio",null,null,null,null,null,null,null,null,{"$f":"IF(OR(I$143=\"\",I$146=\"\",I$143=\"No\",I$146=\"No\"),0,(G133*0.25))","v":0}]
[]
[]
[null,null,null,null,null,"Estos contenedores disponen de la señalética adecuada"]
[]
[null,null,null,null,"Sistema de revalorización de residuos en la parcela:"]
[]
[null,null,null,null,null,"Existe un sistema de revalorización de los residuos generados en el edificio",null,null,null,null,null,null,null,{"$f":"IF(I150=\"sí\",1,0)","v":0},{"$f":"IF(N$150=0,0,G133*0.25)","v":0},null,null,null,null,null,null,null,null,null,"NO"]
[]
[null,null,null,null,"Otras medidas de mejora"]
[]
[null,null,null,null,null,"Se han diseñado medidas de mejora en el edificio que favorezcan la reducción, clasificación o recogida de resíduos.",null,null,null,null,null,null,null,{"$f":"IF(I154=\"sí\",1,0)","v":0},{"$f":"IF(N$154=0,0,G133*0.25)","v":0},null,null,null,null,null,null,null,null,null,"NO"]
[]
[]
[null,null,null,null,"NOTAS"]
[]
[null,null,null,null,"DOCUMENTOS JUSTIFICATIVOS"]
[]
[null,null,null,null,"PE 05.01","Plano en formato que permita la comprobación de las medidas con herramientas de libre acceso, en el que se sitúe cada una de las medidas cumplidas"]
[]
[null,null,null,null,"PE 05.02","Descripción y fichas técnicas del sistema de revalorización de residuos"]
[]
[null,null,null,null,"PE 05.03","Memoria justificativa de la medida adoptada para incentivar la reducción, separación o reciclado de RSU"]
[]
[null,null,null,null,"PE 05.04","Copia de las facturas de los sistemas implantados (pudiendo ocultar el precio)"]
[]
[null,null,null,null,"PE 05.05","Fotografías de obra construida que justifiquen el cumplimiento de las medidas. Deberán aparecer los espacios para contenedores o almacenaje con sus correspondientes carteles y, si hubiera, los sistemas de revalorización instalados, así como la señalética adecuada como espacio para contenedores de residuos"]
[]
[null,null,null,null,"PE 05.06","Plano en el que se sitúe el local destinado al almacenamiento de muebles y enseres hasta su traslado. (Solo para usos distintos del residencial privado)"]
[]
[null,null,null,null,null,"VALORACIÓN DEL CRITERIO",{"$f":"SUM($O139+O143+$O150+$O154)","v":0}]
[]
[]
[]
[null,null,null,null,{"$f":"'Matriz VERDE-GBCe'!V12","v":"PE 06"},{"$f":"VLOOKUP($E177,'Matriz VERDE-GBCe'!$V$7:$Y$51,2,FALSE)","v":"Gestión y Restauración del hábitat."},{"$f":"VLOOKUP($E177,'Matriz VERDE-GBCe'!$V$7:$Y$51,3,FALSE)","v":2.2819446583500182E-2}]
[]
[null,null,null,null,null,"¿Alguna de las especies vegetales plantadas en la parcela o el edificio está recogida en el catálogo de especies invasoras del Ministerio de Medio Ambiente?",null,null,null,null,null,null,null,null,null,null,null,null,null,null,null,null,null,null,1000]
[]
[]
[null,null,null,null,null,"Superficie ajardinada de la parcela y el edificio",{"$f":"DG!$F47","v":0},null,null,null,null,null,null,null,null,null,null,null,null,null,null,null,null,null,1000]
[]
[null,null,null,null,null,"Superficie cubierta por plantas autóctonas",null,null,null,null,null,null,null,null,null,null,null,null,null,null,null,null,null,null,800]
[]
[null,null,null,null,null,"Porcentaje de la superficie ajardinada ocupada por plantas autóctonas",{"$f":"IF(OR(G182=0,G182=\"\",I184>G182),0,I184/G182)","v":0}]
[]
[null,null,null,null,"NOTAS"]
[]
[null,null,null,null,"DOCUMENTOS JUSTIFICATIVOS"]
[]
[null,null,null,null,"PE 06.01","Plano de jardinería en el que se incluya el cuadro de cálculo indicando las especies utilizadas, la superficie ocupada por las mismas y si son autóctonas o adaptadas o no."]
[]
[null,null,null,null,"PE 06.02","Copia de las facturas (pudiendo ocultar el precio) donde se indique la o las especies plantadas y la superficie ocupadas por las mismas o las unidades entregadas"]
[]
[null,null,null,null,"PE 06.03","Fotografías de la superficie ajardinada donde se puedan apreciar las especies plantadas y la superficie ocupada por las mismas, serán necesarias fotografías generales y de detalle"]
[]
[null,null,null,null,"PE 06.04","Informe de Evaluador en el que se garantice que ninguna especie de las plantadas está recogida en el listado de especies invasoras del Ministerio de Medio Ambiente."]
[]
[null,null,null,null,null,"VALORACIÓN DEL CRITERIO",{"$f":"IF(OR(I179=\"Sí\",G186=\"\"),0,IF(G186<0.3,0,IF(G186>=0.8,G177,G177*((G186-0.3)*100/50))))","v":0}]
[]
[]
[]
[null,null,null,null,{"$f":"'Matriz VERDE-GBCe'!V13","v":"PE 07"},{"$f":"VLOOKUP($E204,'Matriz VERDE-GBCe'!$V$7:$Y$51,2,FALSE)","v":"Uso de plantas para crear sombras."},{"$f":"VLOOKUP($E204,'Matriz VERDE-GBCe'!$V$7:$Y$51,3,FALSE)","v":1.8122080188921405E-2}]
[]
[null,null,null,null,null,"¿Existen elementos vegetales que sombreen las fachadas este y/u oeste?"]
[]
[null,null,null,null,null,"Porcentaje de fachada OESTE sombreada por elementos vegetales.",null,null,null,null,null,null,null,{"$f":"IF(OR(I206=\"\",I206=\"no\"),0,IF(I208<0.2,0,IF(I208>0.6,0.4*G204,G204*0.4*((I208-0.2)*100/40))))","v":0}]
[]
[null,null,null,null,null,"Porcentaje de fachada ESTE sombreada por elementos vegetales.",null,null,null,null,null,null,null,{"$f":"IF(OR(I206=\"\",I206=\"no\"),0,IF(I210<0.2,0,IF(I210>0.6,0.3*G204,G204*0.3*((I210-0.2)*100/40))))","v":0}]
[]
[null,null,null,null,null,"Porcentaje de fachada SUR sombreada por elementos vegetales.",null,null,null,null,null,null,null,{"$f":"IF(OR(I206=\"\",I206=\"no\"),0,IF(I212<0.2,0,IF(I212>0.6,0.3*G204,G204*0.3*((I212-0.2)*100/40))))","v":0}]
[]
[null,null,null,null,"NOTAS"]
[]
[null,null,null,null,"DOCUMENTOS JUSTIFICATIVOS"]
[]
[null,null,null,null,"PE 07.01","Plano de planta de la parcela donde se sitúen las plantas con potencial de sombreamiento para las fachadas este y oeste indicando las especies de que se trata."]
[]
[null,null,null,null,"PE 07.02","Plano de fachada este, sur y oeste en el que se indique la superficie sombreada por plantas."]
[]
[null,null,null,null,"PE 07.03","Memoria de sombreamiento donde se justifique el cumplimiento de los criterios establecidos.."]
[]
[null,null,null,null,"PE 07.04","Copia de las facturas (pudiendo ocultar el precio) donde se indique la o las especies plantadas y la superficie ocupadas por las mismas o las unidades entregadas."]
[]
[null,null,null,null,"PE 07.05","Fotografías de la superficie ajardinada donde se puedan apreciar las especies plantadas y la superficie ocupada por las mismas, serán necesarias fotografías generales y de detalle."]
[]
[null,null,null,null,null,"VALORACIÓN DEL CRITERIO",{"$f":"N210+N208+N212","v":0}]
[]
[]
[]
[null,null,null,null,{"$f":"'Matriz VERDE-GBCe'!V14","v":"PE 08"},{"$f":"VLOOKUP($E232,'Matriz VERDE-GBCe'!$V$7:$Y$51,2,FALSE)","v":"Efecto isla de calor."},{"$f":"VLOOKUP($E232,'Matriz VERDE-GBCe'!$V$7:$Y$51,3,FALSE)","v":2.043226038297654E-2}]
[]
[null,null,null,null,"Porcentaje de superficie libre de parcela y cubierta que evita la isla de calor"]
[]
[null,null,null,null,null,"Superficie libre de parcela",{"$f":"DG!$F45","v":0}]
[]
[null,null,null,null,null,"Superficie de cubierta"]
[]
[null,null,null,null,null,"Superficie ajardinada con un espesor de tierra vegetal con al menos 5 cm de espesor"]
[]
[null,null,null,null,null,"Superficie con pavimento permeable"]
[]
[null,null,null,null,null,"Superficies sombreadas que evitan la isla de calor"]
[]
[null,null,null,null,null,"Superficies con acabado de color claro"]
[]
[null,null,null,null,null,"¿Se aportan documentos que justifiquen el ISR?"]
[]
[null,null,null,null,null,"Porcentaje de superficie libre de parcela más cubierta que evitan la isla de calor",{"$f":"IF(G236+I238=0,0,(I240+I242+I244+I246)/(G236+I238))","v":0},null,null,null,null,null,null,{"$f":"IF(G250=\"\",\"\",IF(G250<0.4,0,IF(G250>0.7,0.7*G232,G232*0.7*((G250-0.4)*100/30))))","v":0},{"$f":"IF(OR(I248=\"No\",I248=\"\"),0.8*N250,N250)","v":0}]
[]
[null,null,null,null,"Porcentaje de superficie de fachadas este, sur y oeste que evita la isla de calor"]
[]
[null,null,null,null,null,"Superficies de fachada E-S-O"]
[]
[null,null,null,null,null,"Superficies de fachada E-S-O de colores claros, sombreadas o cubiertas por vegetación"]
[]
[null,null,null,null,null,"¿Se aportan documentos que justifiquen el IRS?"]
[]
[null,null,null,null,null,"Porcentaje de superficie de fachadas E-S-O que evitan la isla de calor",{"$f":"IF(OR(I254=0,I254=\"\"),0,I256/I254)","v":0},null,null,null,null,null,null,{"$f":"IF(G260=\"\",0,IF(G260<0.4,0,IF(G260>0.7,0.3*G232,G232*0.3*((G260-0.4)*100/30))))","v":0},{"$f":"IF(OR(I258=\"No\",I258=\"\"),0.8*N260,N260)","v":0}]
[]
[null,null,null,null,"NOTAS"]
[]
[null,null,null,null,"DOCUMENTOS JUSTIFICATIVOS"]
[]
[null,null,null,null,"PE 08.01","Plano en formato que permita la comprobación de las medidas con herramientas de libre acceso , indicando el límite de las siguientes superficies en parcela y cubierta: la zona libre; la zona ajardinada; y la zona sombreada o con un acabado de color claro."]
[]
[null,null,null,null,"PE 08.02","Memoria del cálculo del porcentaje de la superficie que evita la isla de calor en zona libre de parcela y cubierta."]
[]
[null,null,null,null,"PE 08.03","Detalle constructivo de las zonas ajardinadas donde se detalle el espesor de tierra previsto."]
[]
[null,null,null,null,"PE 08.04","Detalle constructivo de las zonas con pavimento permeable donde se detalle el espesor y composición de la base del pavimento."]
[]
[null,null,null,null,"PE 08.05","Memoria del cálculo del porcentaje de la superficie de fachadas este, sur y oeste que evita la isla de calor."]
[]
[null,null,null,null,"PE 08.06","Estudio de soleamiento tanto de la superficie libre de parcela y cubiertas, como de las fachadas este, sur y oeste."]
[]
[null,null,null,null,"PE 08.07","Justificación del IRS de los materiales de acabado"]
[]
[null,null,null,null,null,"VALORACIÓN DEL CRITERIO",{"$f":"IFERROR($O250+$O260,0)","v":0}]
[]
[]
[null,null,null,"<"]
[null,null,null,null,{"$f":"'Matriz VERDE-GBCe'!V15","v":"PE 09"},{"$f":"VLOOKUP($E284,'Matriz VERDE-GBCe'!$V$7:$Y$51,2,FALSE)","v":"Contaminación lumínica."},{"$f":"VLOOKUP($E284,'Matriz VERDE-GBCe'!$V$7:$Y$51,3,FALSE)","v":1.9687868987114329E-2},null,null,null,null,null,null,"E1","≤ 1%",0.01,0.01]
[null,null,null,null,null,null,null,null,null,null,null,null,null,"E2","≤ 5%",0.02,0.05]
[null,null,null,null,null,"Zona de protección lumínica de la parcela",null,null,null,null,null,null,null,"E3","≤ 15%",0.03,0.15]
[null,null,null,null,null,null,null,null,null,null,null,null,null,"E4","≤ 25%",0.05,0.25]
[null,null,null,null,null,"FHS límite para el área de protección lumínica",{"$f":"IF(I286=\"\",\"\",VLOOKUP(I286,N284:O287,2,FALSE))","v":""}]
[]
[null,null,null,null,null,"FHS más alto de las luminarias instaladas en la parcela",null,null,null,null,null,null,null,null,null,null,{"$f":"IFERROR(VLOOKUP(I286,N284:Q287,4,FALSE),0)","v":0}]
[null,null,null,null,null,null,null,null,null,null,null,null,null,null,null,0.05]
[null,null,null,null,null,"Porcentaje de mejora respecto a la exigencia normativa",{"$f":"IF(OR(I290=\"\",I290>Q290),0,1-(I290/Q290))","v":0}]
[]
[null,null,null,null,"NOTAS"]
[]
[null,null,null,null,"DOCUMENTOS JUSTIFICATIVOS"]
[]
[null,null,null,null,"PE 09.01","Plano de parcela con localización de la luminarias exteriores e indicación del tipo de luminaria."]
[]
[null,null,null,null,"PE 09.02","Curvas fotométricas de las luminarias empleadas o documento técnico donde aparezca el FHS."]
[]
[null,null,null,null,"PE 09.03","Identificación y justificación de la zona de protección lumínica."]
[]
[null,null,null,null,null,"VALORACIÓN DEL CRITERIO",{"$f":"IF(G288=\"\",0,IF(G292<0.2,0,IF(G292>0.6,G284,G284*((G292-0.2)*100/40))))","v":0}]
[]
[]
[]
[]
[null,null,null,null,null,null,"VALORACIÓN ÁREA"]
[]
[null,null,null,null,null,null,"SUBTOTAL",null,{"$f":"IFERROR(G27+G51+G101+G129+G173+G200+G228+G280+G304,\"\")","v":0}]
[]
[null,null,null,null,null,null,"SOBRE",null,{"$f":"VLOOKUP(C$2,'Matriz VERDE-GBCe'!$U$4:$Y$51,4,FALSE)","v":0.15244622413881617}]
[]
[]
[]
[]
[]
[null,null,null,null,null,null,"SÍ",null,"x"]
[null,null,null,null,null,null,"NO"]

{"sheet":"EA","index":12,"n_rows":170,"n_cols":24,"rows_kept":170,"cut":false,"hidden":false,"merged":[[11,14,12,14],[1,16,1,19],[1,2,1,3],[12,5,12,6],[130,2,130,4],[130,5,130,6],[130,7,130,8],[66,2,66,4],[66,5,66,6],[66,7,66,8],[108,2,108,4],[112,5,112,6],[118,7,118,8],[120,5,120,6],[120,7,120,8],[88,16,88,17],[158,7,158,9],[156,2,156,4],[156,5,156,6],[156,7,156,8],[146,5,146,6],[146,7,146,8],[144,7,144,8],[145,7,145,8],[108,5,108,6],[108,7,108,8],[96,5,96,6],[96,7,96,8],[100,6,100,7],[102,6,102,7],[104,6,104,7],[116,6,116,7],[142,6,142,7],[72,14,74,14],[76,14,78,14],[86,5,86,6],[50,5,50,6],[50,7,50,8],[54,6,54,7],[56,6,56,7],[58,6,58,7],[60,6,60,7],[72,5,72,6],[1,5,1,6],[1,7,1,8],[48,7,48,8],[8,6,8,7],[20,5,20,6],[30,6,30,7],[31,5,31,6],[22,6,23,6],[33,6,34,6],[44,5,44,7],[10,6,10,7]]}
[]
[null,null,{"$f":"'Matriz VERDE-GBCe'!U16","v":"EA"},null,null,{"$f":"'Matriz VERDE-GBCe'!V16","v":"Energía y atmósfera"}]
[]
[]
[null,null,null,null,null,{"$f":"'Matriz VERDE-GBCe'!V18","v":"EA 01"},{"$f":"VLOOKUP($F5,'Matriz VERDE-GBCe'!$V$7:$Y$51,2,FALSE)","v":"Consumo de energía primaria"},{"$f":"VLOOKUP($F5,'Matriz VERDE-GBCe'!$V$7:$Y$51,3,FALSE)","v":7.5414549001488793E-2},null,null,null,null,null,null,{"$f":"IF(DG!$F$31=\"\",\"\",IF(OR(DG!$F$31=\"rehabilitación\",DG!$F$31=\"Edificio existente\"),\"RH\",\"NE\"))","v":""},null,null,"Sí",null,null,"SE ADJUNTA",null,"SÍ","NO"]
[null,null,null,null,null,null,null,null,null,null,null,null,null,null,null,null,null,"No",null,null,"NO SE ADJUNTA"]
[null,null,null,null,null,null,{"$f":"IF(DG!F$31=DG!L$42,\"Ponte en contacto con GBCe para fijar los datos a introducir.\",\"\")","v":""},null,null,null,null,null,null,"Opción para mixtos en H107",null,null,null,null,null,null,"NO APLICA"]
[]
[null,null,null,null,null,null,"¿Se ha utilizado un método simplificado para la calificación energética del edificio?"]
[]
[null,null,null,null,null,null,"¿La demanda de calefacción y refrigeración cumple con los límites que fijaba el DB He 2017?"]
[]
[null,null,null,null,null,{"$f":"IF(DG!F31=\"\",\"Completa la pestaña DG\",DG!F31)","v":"Completa la pestaña DG"}]
[]
[null,null,null,null,null,null,"Demanda conjunta de calefacción y refrigeración del edificio en kWh/m2"]
[]
[null,null,null,null,null,null,"Emisiones de CO2 del edificio de referencia en kgCO2 eq./m2."]
[]
[null,null,null,null,null,null,"Emisiones de CO2 del proyecto en kgCO2 eq./m2.",null,null,null,null,null,null,null,null,{"$f":"'zona clima'!C10","v":""},null,"Consumo energía primaria no renovable"]
[]
[null,null,null,null,null,"Consumo de energía primaria no renovable",null,null,null,null,null,null,null,null,null,"Alfa","A","B","C","D","E"]
[]
[null,null,null,null,null,null,{"$f":"IF(F13=\"Nueva Edificación\",\"Consumo límite de energía primaría no renovable para una intensidad de carga interna de 9 W/m2 en la zona climática del edificio\",\"Consumo de energía primaria no renovable del edificio de referencia en kWh/m2\")","v":"Consumo de energía primaria no renovable del edificio de referencia en kWh/m2"},null,null,null,null,null,null,{"$f":"IF(OR(J26=\"\",J26>J23),0,IF(J26=0,1,1-(J26/J23)))","v":0},"RH",{"$f":"70+8*9","v":142},{"$f":"55+8*9","v":127},{"$f":"50+8*9","v":122},{"$f":"35+8*9","v":107},{"$f":"20+8*9","v":92},{"$f":"10+8*9","v":82}]
[null,null,null,null,null,null,null,{"$f":"Q26","v":""},null,null,null,null,null,{"$f":"IF(OR(J26=\"\",J26>H24),0,IF(J26=0,1,1-(J26/H24)))","v":0},"NE"]
[]
[null,null,null,null,null,null,"Consumo de energía primaría no renovable para el edificio en kWh/m2",null,null,null,null,null,null,null,null,null,{"$f":"IF(DG!F25=\"\",\"\",IF(P19=\"\",\"\",(HLOOKUP(P19,P21:U23,3))))","v":""},null,{"$f":"IF(N24=\"\",\"\",N24*0.5*H5)","v":0},"NE",{"$f":"IF(N23=\"\",\"\",IF(N23>=0.5,0.5*H5,(N23/0.5)*0.5*H5))","v":0},"Rehabilita y edificio existente"]
[]
[null,null,null,null,null,null,"Porcentaje de reducción del consumo de enería primaria no renovable del proyecto",{"$f":"IF(O5=\"NE\",N24,N23)","v":0}]
[]
[null,null,null,null,null,null,"Valoración del indicador",{"$f":"IF(O5=\"NE\",S26,U26)","v":0},null,null,null,null,null,null,null,null,null,"Consumo energía primaria total"]
[]
[null,null,null,null,null,"Consumo de energía primaria total",null,null,null,null,null,null,null,null,null,"Alfa","A","B","C","D","E"]
[]
[null,null,null,null,null,null,{"$f":"IF(F13=\"Nueva Edificación\",\"Consumo límite de energía primaría total para una intensidad de carga interna de 9 W/m2 en la zona climática del edificio\",\"Consumo de energía primaria total del edificio de referencia en kWh/m2\")","v":"Consumo de energía primaria total del edificio de referencia en kWh/m2"},null,null,null,null,null,null,{"$f":"IF(OR(J37=\"\",J37>J34),0,IF(J37=0,1,1-(J37/J34)))","v":0},"RH",{"$f":"165+9*9","v":246},{"$f":"155+9*9","v":236},{"$f":"150+9*9","v":231},{"$f":"140+9*9","v":221},{"$f":"130+9*9","v":211},{"$f":"120+9*9","v":201}]
[null,null,null,null,null,null,null,{"$f":"Q37","v":""},null,null,null,null,null,{"$f":"IF(OR(J37=\"\",J37>H35),0,IF(J37=0,1,1-(J37/H35)))","v":0},"NE"]
[]
[null,null,null,null,null,null,"Consumo de energía primaría total para el edificio en kWh/m2",null,null,null,null,null,null,null,null,null,{"$f":"IF(DG!F25=\"\",\"\",IF(P19=\"\",\"\",(HLOOKUP(P19,P32:U34,3))))","v":""},null,{"$f":"IFERROR(IF(N35=0,0,IF(N35>=0.7,0.5*H5,(N35/0.7*0.5*H5))),0)","v":0},"NE",{"$f":"IF(N34=\"\",\"\",IF(N34>=0.5,0.5*H5,(N34/0.5)*0.5*H5))","v":0},"RH y EE"]
[]
[null,null,null,null,null,null,"Porcentaje de reducción del consumo de enería primaria total del proyecto",{"$f":"IF(O5=\"NE\",N35,N34)","v":0}]
[]
[null,null,null,null,null,null,"Valoración del indicador",{"$f":"IF(O5=\"NE\",S37,U37)","v":0}]
[]
[]
[]
[null,null,null,null,null,"Consumo de energía primaria total es igual o inferior 15 kWh/m2"]
[]
[null,null,null,null,null,null,"¿Se ha realizado el ensayo blower door y cumple con las especificaciones del criterio?",null,null,null,null,null,null,null,null,null,{"$f":"IF(J47=\"\",1,IF(AND(J37<=30,J47=\"No\"),0.9,1))","v":1}]
[]
[null,null,null,null,null,"NOTAS"]
[]
[null,null,null,null,null,"DOCUMENTOS JUSTIFICATIVOS"]
[]
[null,null,null,null,null,"EA 01.01","Documento justificativo con los parámetros empleados en la simulación energética. "]
[]
[null,null,null,null,null,"EA 01.02","Certificado de eficiencia energética junto con el justificante de registro en la comunidad autónoma correspondiente a la localidad en la que se encuentra el edificio"]
[]
[null,null,null,null,null,"EA 01.03","Informe de verificación de requisitos de CTE DB HE0 generado por la herramienta de calificación energética empleada o resultado de una simulación horaria realizada con un programa alternativo."]
[]
[null,null,null,null,null,"EA 01.03 SOLO RH-NO RESIDENCIALES","Archivos completos del programa de simulación empleado para el edificio de referencia según el documento Condiciones técnicas de los procedimientos para la evaluación de la eficiencia energética de los edificios de abril 2019"]
[]
[null,null,null,null,null,"EA 01.04","Esquemas de principio de las instalaciones del edificio con mención expresa de todos y cada uno de los equipos, anexando las correspondientes fichas técnicas de los fabricantes."]
[]
[null,null,null,null,null,"EA 01.05","Ensayo blower door conforme a la norma UNE EN ISO 9972:2015 2019 del edificio en fase de uso que justifique que las renovaciones por hora no son superiores a 5 %."]
[]
[null,null,null,null,null,null,"VALORACIÓN DEL CRITERIO",{"$f":"IF(OR(J19=\"\",J11=\"No\",J11=\"\"),0,IF(OR(J9=\"No\",J9=\"\"),(H30+H41)*Q47,(H30+H41)*Q47*0.8))","v":0},null,null,null,null,null,"Con Mixtos revisar fórmula de valoración"]
[]
[]
[]
[null,null,null,null,null,{"$f":"'Matriz VERDE-GBCe'!V19","v":"EA 02"},{"$f":"VLOOKUP($F69,'Matriz VERDE-GBCe'!$V$7:$Y$51,2,FALSE)","v":"Generación distribuida"},{"$f":"VLOOKUP($F69,'Matriz VERDE-GBCe'!$V$7:$Y$51,3,FALSE)","v":4.8513784075157877E-2},null,null,null,null,null,{"$f":"DG!F31","v":0}]
[]
[null,null,null,null,null,null,{"$f":"IF(DG!F$31=DG!L$42,\"Ponte en contacto con GBCe para fijar los datos a introducir.\",\"\")","v":""},null,null,null,null,null,null,"Mixtos texto en H107"]
[null,null,null,null,null,null,null,null,null,null,null,null,null,null,null,null,null,null,null,null,null,null,"NO"]
[null,null,null,null,null,"NUEVA EDIFICACIÓN Y REHABILITACIÓN",null,null,null,null,null,null,null,null,null,null,null,"SÍ"]
[]
[null,null,null,null,null,null,"Consumo d e Energía primaria total del edificio kWh/m2",null,null,null,null,null,null,null,null,{"$f":"IF(H83=0,0,IF(H85=R73,H69,IF(H83>=0.8,0.8*H69,(H83/0.8)*0.8*H69)))","v":0},null,"NO"]
[]
[null,null,null,null,null,null,"Energía renovable mínima fijado por el DB HE 04 y DB HE 05 en kWh/m2 para el proyecto",null,null,null,null,null,null,null,null,"Nueva edificación y rehabilitación"]
[]
[null,null,null,null,null,null,"Energía primaria renovable generada en la parcela en kWh/m2"]
[]
[null,null,null,null,null,null,"Energía primaria renovable generada en la parcela en kWh/m2 a considerar",{"$f":"IF(J77>J79,0,J79-J77)","v":0}]
[]
[null,null,null,null,null,null,"Porcentaje de energía renovable producida en la parcela",{"$f":"IF(OR(J75=\"\",J77>J79),0,IF(J79>J75,1,(H81/J75)))","v":0}]
[]
[null,null,null,null,null,null,"¿es un edificio que genera más energía renovable que su consumo de energía primaría total?",{"$f":"IF(OR(H81<J75,J75=0,J75=\"\"),R75,R73)","v":"NO"}]
[]
[null,null,null,null,null,"EDIFICIOS EXISTENTES"]
[]
[null,null,null,null,null,null,"Potencial de renovables en el edificio o parcela en kWh/m2 ",null,null,null,null,null,null,null,null,{"$f":"IF(OR(H93=\"\",H93<=0.6),0,((H93-0.6)/0.4)*H69)","v":0},"Edificio existente"]
[]
[null,null,null,null,null,null,"Energía primaria renovable generada en la parcela en kWh/m2"]
[]
[null,null,null,null,null,null,"Porcentaje de energía renovable producida en la parcela",{"$f":"IFERROR((J91/J89),\"\")","v":""}]
[]
[null,null,null,null,null,"NOTAS"]
[]
[null,null,null,null,null,"DOCUMENTOS JUSTIFICATIVOS"]
[]
[null,null,null,null,null,"EA 02.01","Archivos completos del programa de simulación empleado para realizar la justificación del criterio."]
[]
[null,null,null,null,null,"EA 02.02","Proyecto de las instalaciones de generación de energía renovable del edificio con mención expresa de todos y cada uno de los equipos, anexando las correspondientes fichas técnicas de los fabricantes, junto con los cálculos de la estimación de la generación de energías renovables."]
[]
[null,null,null,null,null,"EA 02.03","Justificación del cumplimiento del DB HE 0, DB HE 1, DB HE 4 y DB HE 5"]
[]
[null,null,null,null,null,"EA 02.04","Justificación del uso de la energía renovable, en caso de ser edificio positivo en energía."]
[]
[null,null,null,null,null,null,"VALORACIÓN DEL CRITERIO",{"$f":"IFERROR(IF(OR(DG!$F$31=DG!$L$39,DG!$F$31=DG!$L$40),$P75,IF((DG!$F$31=DG!$L$41),$P89,IF(DG!$F$31=DG!$L$42,((P75*DG!F33)+(P89*(DG!F35+DG!F37)))/(DG!F33+DG!F35+DG!F37),0))),0)","v":0},null,null,null,null,null,"Con Mixtos revisar fórmula de valoración"]
[]
[]
[]
[null,null,null,null,null,{"$f":"'Matriz VERDE-GBCe'!V20","v":"EA 03"},{"$f":"VLOOKUP($F111,'Matriz VERDE-GBCe'!$V$7:$Y$51,2,FALSE)","v":"Consumo en zonas comunes"},{"$f":"VLOOKUP($F111,'Matriz VERDE-GBCe'!$V$7:$Y$51,3,FALSE)","v":2.5411982134606503E-2}]
[]
[null,null,null,null,null,"Ascensores y montacargas:"]
[]
[null,null,null,null,null,null,"El ascensor cuenta con una clasificación, al menos B, según la norma UNE 25745-2"]
[]
[null,null,null,null,null,null,"Se cuenta con un paquete de eficiencia energética para los sistemas de comunicación mecánicos."]
[]
[null,null,null,null,null,"NOTAS"]
[]
[null,null,null,null,null,"DOCUMENTOS JUSTIFICATIVOS"]
[]
[null,null,null,null,null,"EA 03.01","Clasificación del ascensor según la norma UNE 25745-2"]
[]
[null,null,null,null,null,"EA 03.02","Justificación de la existencia de un paquete ahorro conforme el método de cálculo "]
[]
[null,null,null,null,null,"EA 03.05","Copia de las facturas (pudiendo ocultar el precio) donde se indique el ascensor o elemento de elevación y transporte instalado"]
[]
[null,null,null,null,null,null,"VALORACIÓN DEL CRITERIO",{"$f":"IF($J115=\"sí\",$H111,IF(J117=\"Sí\",H111*0.5,0))","v":0}]
[]
[]
[]
[null,null,null,null,null,{"$f":"'Matriz VERDE-GBCe'!V22","v":"EA 04"},{"$f":"VLOOKUP($F133,'Matriz VERDE-GBCe'!$V$7:$Y$51,2,FALSE)","v":"Elección responsable de refrigerantes"},{"$f":"VLOOKUP($F133,'Matriz VERDE-GBCe'!$V$7:$Y$51,3,FALSE)","v":2.6669746906925414E-2}]
[]
[null,null,null,null,null,null,"Potencial de calentamiento global superior de los refrigerantes empleados",null,null,null,null,null,null,{"$f":"IF(OR($J135=\"\",J135>=700),0,IF($J135<150,H133*0.8,((700-J135)/550)*H133*0.8))","v":0}]
[]
[null,null,null,null,null,null,"Valor TEWI de la instalación de referencia."]
[]
[null,null,null,null,null,null,"Valor TEWI de la instalación proyectada."]
[]
[null,null,null,null,null,null,"Porcentaje en que el TEWI proyectado supera al de referencia",{"$f":"IF(OR($J137=\"\",$J139=\"\"),0,(($J139/$J137)-1))","v":0},{"$f":"IF(OR($J137=\"\",$J139=\"\"),0,(($J139/$J137)-1))","v":0},null,null,null,null,{"$f":"IF(OR(J137=\"\",J139=\"\"),0,IF(H141>=0.4,0,IF(H141<=0.1,1,(1-(H141/0.4)))))","v":0}]
[]
[null,null,null,null,null,null,"Existe un protocolo de actuación en caso de fugas acorde a las especificaciones del criterio."]
[]
[null,null,null,null,null,"NOTAS"]
[]
[null,null,null,null,null,"DOCUMENTOS JUSTIFICATIVOS"]
[]
[null,null,null,null,null,"EA 04.01","Documentación técnica del refrigerante empleado que justifique su potencial de calentamiento global (GWP)"]
[]
[null,null,null,null,null,"EA 04.02","Cálculo del TEWI (Total Equivalent Warming Impact)"]
[]
[null,null,null,null,null,"EA 04.03","Protocolo de actuación en caso de fugas"]
[]
[null,null,null,null,null,null,"VALORACIÓN DEL CRITERIO",{"$f":"IF(AND(J137=\"\",J143=\"\",J135=\"\"),0,(IF(N135=0,(N141*H133*0.8),N135)+IF(J143=\"sí\",H133*0.2,0)))","v":0}]
[]
[]
[]
[null,null,null,null,null,null,null,"VALORACIÓN ÁREA"]
[]
[null,null,null,null,null,null,null,"SUBTOTAL",null,{"$f":"H65+H107+H129+H155","v":0}]
[]
[null,null,null,null,null,null,null,"SOBRE",null,{"$f":"VLOOKUP(C$2,'Matriz VERDE-GBCe'!$U$7:$Y$51,4,FALSE)","v":0.17601006211817857}]
[]
[]
[]
[]
[]
[null,null,null,null,null,null,null,"SÍ",null,"x"]
[null,null,null,null,null,null,null,"NO"]

{"sheet":"RN ","index":13,"n_rows":427,"n_cols":22,"rows_kept":427,"cut":false,"hidden":false,"merged":[[25,2,25,3],[25,4,25,5],[25,6,25,7],[156,5,157,5],[159,5,160,5],[190,4,190,5],[204,5,205,5],[207,5,208,5],[210,4,210,6],[142,5,142,6],[109,5,109,6],[111,5,111,6],[113,5,114,6],[120,5,120,6],[52,2,52,3],[52,4,52,5],[52,6,52,7],[67,2,67,3],[134,6,134,7],[136,4,136,5],[136,6,136,7],[122,5,122,6],[124,5,124,6],[91,5,91,6],[297,5,297,6],[398,5,398,6],[400,5,401,5],[386,4,386,5],[356,4,356,5],[1,2,1,3],[102,2,102,3],[102,4,102,5],[102,6,102,7],[277,4,277,5],[355,4,355,5],[178,2,178,3],[178,4,178,5],[178,6,178,7],[200,2,200,3],[200,4,200,5],[200,6,200,7],[116,2,116,3],[116,4,116,5],[116,6,116,7],[146,2,146,3],[146,4,146,5],[138,5,138,6],[140,5,140,6],[415,6,415,8],[301,2,301,3],[301,4,301,5],[301,6,301,7],[388,2,388,3],[388,4,388,5],[388,6,388,7],[242,2,242,3],[242,4,242,5],[242,6,242,7],[273,2,273,3],[273,4,273,5],[273,6,273,7],[411,4,411,5],[405,4,405,5],[405,6,405,7],[323,4,323,5],[394,5,394,6],[343,4,343,5],[349,4,349,5],[358,4,358,5],[376,4,376,5],[376,6,376,7],[319,5,319,6],[93,5,93,6],[95,5,95,6],[97,5,97,6],[99,4,99,5],[107,5,108,6],[61,4,61,5],[61,6,61,7],[63,5,63,6],[65,4,65,5],[87,6,87,7],[89,4,89,5],[89,6,89,7],[67,4,67,5],[67,6,67,7],[321,4,321,5],[299,4,299,5],[307,5,308,6],[310,5,311,6],[313,5,314,5],[316,5,317,5],[329,4,329,5],[335,4,335,5],[337,4,337,5],[279,5,279,6],[285,5,285,6],[287,5,287,6],[291,4,291,5],[293,5,293,6],[295,5,295,6],[263,5,263,6],[265,5,265,6],[267,5,267,6],[269,5,269,6],[271,4,271,5],[249,5,250,5],[254,5,255,5],[257,6,257,7],[259,4,259,5],[259,6,259,7],[261,5,261,6],[232,5,232,6],[234,5,234,6],[236,5,236,6],[238,5,238,6],[240,4,240,5],[246,5,247,5],[198,4,198,5],[221,5,222,6],[226,4,226,5],[228,5,228,6],[230,5,230,6],[144,4,144,5],[150,5,151,5],[153,5,154,5],[162,6,162,7],[164,4,164,5],[164,6,164,7],[196,5,196,6],[166,5,166,6],[168,5,168,6],[170,5,170,6],[172,5,172,6],[174,5,174,6],[176,4,176,5],[146,6,146,7],[188,6,188,7],[192,5,192,6],[194,5,194,6],[50,4,50,5],[56,5,57,5],[59,6,59,7],[20,5,20,6],[22,5,22,6],[24,4,24,5],[40,6,40,7],[42,4,42,5],[42,6,42,7],[1,4,1,5],[1,6,1,7],[6,4,6,5],[16,6,16,7],[18,4,18,5],[18,6,18,7],[44,5,44,6],[46,5,46,6],[48,5,48,6]]}
[]
[null,null,{"$f":"'Matriz VERDE-GBCe'!U23","v":"RN"},null,{"$f":"'Matriz VERDE-GBCe'!V23","v":"Recursos naturales"}]
[null,null,null,null,null,null,null,null,null,null,null,null,null,"Coste"]
[]
[null,null,null,null,{"$f":"'Matriz VERDE-GBCe'!V24","v":"RN 01"},{"$f":"VLOOKUP($E5,'Matriz VERDE-GBCe'!$V$7:$Y$51,2,FALSE)","v":"Consumo de agua en aparatos sanitarios"},{"$f":"VLOOKUP($E5,'Matriz VERDE-GBCe'!$V$7:$Y$51,3,FALSE)","v":2.1407669798244267E-2},null,null,null,null,null,null,null,null,null,null,null,null,"SE ADJUNTA",null,"SÍ"]
[null,null,null,null,null,null,null,null,null,null,null,null,null,null,null,null,null,null,null,"NO SE ADJUNTA",null,"NO"]
[null,null,null,null,null,null,null,null,null,null,null,null,null,null,null,null,null,null,null,"NO APLICA"]
[null,null,null,null,null,null,null,null,null,null,null,null,null,null,null,null,null,null,null,null,null,"NO"]
[null,null,null,null,null,"Ir a la hoja de cálculo del criterio"]
[null,null,null,null,null,null,null,null,null,null,null,null,null,null,null,null,null,null,null,null,null,"NO"]
[null,null,null,null,null,"Consumo de agua en sanitarios de referencia (l/m2 año)",{"$f":"'RN 01'!T43","v":0}]
[null,null,null,null,null,null,null,null,null,null,null,null,null,null,null,null,null,null,null,null,null,"NO"]
[null,null,null,null,null,"Consumo de agua en sanitarios del proyecto (l/m2 año)",{"$f":"'RN 01'!T26","v":0}]
[null,null,null,null,null,null,null,null,null,null,null,null,null,null,null,null,null,null,null,null,null,"NO"]
[null,null,null,null,null,"Porentaje de reducción del consumo de agua en aparatos sanitarios",{"$f":"'RN 01'!J46","v":0}]
[]
[null,null,null,null,"NOTAS"]
[]
[null,null,null,null,"DOCUMENTOS JUSTIFICATIVOS"]
[]
[null,null,null,null,"RN 01.01","Fichas técnicas con los caudales de los aparatos sanitarios aportados por el fabricante."]
[]
[null,null,null,null,"RN 01.02","Pestaña de ayuda RN 01"]
[]
[null,null,null,null,"VALORACIÓN DEL CRITERIO",null,{"$f":"IF($G15=\"\",0,IF($G15<0.1,0,IF($G15>0.3,$G5,(((($G15*100)-10)/20)*$G5))))","v":0}]
[]
[]
[]
[null,null,null,null,{"$f":"'Matriz VERDE-GBCe'!V25","v":"RN 02"},{"$f":"VLOOKUP($E29,'Matriz VERDE-GBCe'!$V$7:$Y$51,2,FALSE)","v":"Necesidades de riego en jardines."},{"$f":"VLOOKUP($E29,'Matriz VERDE-GBCe'!$V$7:$Y$51,3,FALSE)","v":0}]
[]
[null,null,null,null,null,"Ir a la hoja de cálculo del criterio"]
[]
[null,null,null,null,null,"¿Existen zonas ajardinadas con una superficie mayor a 20 m2?"]
[]
[null,null,null,null,null,"Necesidades de agua para riego de referencia (l/m2 año)",{"$f":"'RN 02'!R29","v":0}]
[]
[null,null,null,null,null,"Necesidades de agua para riego del proyecto (l/m2 año)",{"$f":"'RN 02'!F29","v":0}]
[]
[null,null,null,null,null,"Porcentaje de reducción de las necesidades de riego",{"$f":"'RN 02'!Z29","v":0}]
[]
[null,null,null,null,"NOTAS"]
[]
[null,null,null,null,"DOCUMENTOS JUSTIFICATIVOS"]
[]
[null,null,null,null,"RN 02.01","Plano de jardinería con indicación clara de las especies vegetales a plantar y su superficie de ocupación y sistema de riego empleado en cada zona. El plano deberá presentarse en formato que permita la comprobación de las medidas con herramientas de libre acceso."]
[]
[null,null,null,null,"RN 02.02","Pestaña de ayuda RN 02"]
[]
[null,null,null,null,"RN 02.03","Memoria de la instalación de riego."]
[]
[null,null,null,null,"VALORACIÓN DEL CRITERIO",null,{"$f":"IF(OR($G39=\"\",I33=\"No\",I33=\"\"),0,IF($G39<0.2,0,IF($G39>0.8,$G29,(((($G39*100)-20)/60)*$G29))))","v":0}]
[]
[]
[]
[null,null,null,null,{"$f":"'Matriz VERDE-GBCe'!V26","v":"RN 03"},{"$f":"VLOOKUP($E55,'Matriz VERDE-GBCe'!$V$7:$Y$51,2,FALSE)","v":"Consumos de agua singulares."},{"$f":"VLOOKUP($E55,'Matriz VERDE-GBCe'!$V$7:$Y$51,3,FALSE)","v":1.8122080188921405E-2}]
[]
[null,null,null,null,null,"¿Existe un sistema de recogida y reutilización de aguas grises que cubra el 80% de las aguas grises producidas?"]
[]
[]
[null,null,null,null,"NOTAS"]
[]
[null,null,null,null,"DOCUMENTOS JUSTIFICATIVOS"]
[]
[null,null,null,null,"RN 03.02","Memoria de proyecto del sistema de reciclado y reutilización de las aguas grises generadas por elementos singulares como piscinas, jacuzzis, etc."]
[]
[null,null,null,null,"VALORACIÓN DEL CRITERIO",null,{"$f":"IF($I57=\"sí\",$G55,0)","v":0}]
[]
[]
[]
[null,null,null,null,{"$f":"'Matriz VERDE-GBCe'!V27","v":"RN 04"},{"$f":"VLOOKUP($E70,'Matriz VERDE-GBCe'!$V$7:$Y$51,2,FALSE)","v":"Uso de agua no potable."},{"$f":"VLOOKUP($E70,'Matriz VERDE-GBCe'!$V$7:$Y$51,3,FALSE)","v":2.0842959084141899E-2}]
[]
[null,null,null,null,null,"Recuperación mensual de aguas grises del sistema (l)"]
[]
[null,null,null,null,null,"Volumen de acumulación de aguas grises (l)"]
[]
[null,null,null,null,null,"Volumen de agua no potable utilizada para baldeo u otros usos (l)"]
[]
[null,null,null,null,null,"Superficie de captación de aguas pluviales en m2"]
[]
[null,null,null,null,null,"Coeficiente de rendimiento de la superficie de captación (e)"]
[]
[null,null,null,null,null,"Rendimiento hidráulico del filtro (h)"]
[]
[null,null,null,null,null,"Volumen del aljibe de aguas pluviales (l)"]
[]
[null,null,null,null,null,"Porcentaje de necesidades de agua cubiertas con agua no potable",{"$f":"IFERROR('RN 04'!L33,0)","v":0}]
[]
[null,null,null,null,"NOTAS"]
[]
[null,null,null,null,"DOCUMENTOS JUSTIFICATIVOS"]
[]
[null,null,null,null,"RN 04.01","Proyecto del sistema de recogida, almacenamiento y distribución del aguas pluviales."]
[]
[null,null,null,null,"RN 04.02","Proyecto del sistema de recogida, almacenamiento y distribución de aguas grises"]
[]
[null,null,null,null,"RN 04.03","Memoria del cálculo realizado para obtención de los datos necesarios para evaluar el criterio siguiendo el método de evaluación descrito en la guía."]
[]
[null,null,null,null,"RN 04.04","Informe de puesta en marcha de las instalaciones de recogida, almacenamiento y distribución de aguas grises y/o pluviales."]
[]
[null,null,null,null,"VALORACIÓN DEL CRITERIO",null,{"$f":"IF($G86=0,0,IF(G86<0.2,0,IF(G86>0.9,$G70,((((G86*100)-20)/70)*$G70))))","v":0}]
[]
[]
[]
[null,null,null,null,null,"Materiales"]
[]
[null,null,null,null,null,"Vida útil de referencia en años",{"$f":"DG!F25","v":0}]
[]
[null,null,null,null,null,"Unidad Funcional Equivalente (UFE)",null,null,"masa",null,null,null,null,"masa",{"$f":"IF(I108=\"masa\",1,0.8)","v":1}]
[null,null,null,null,null,null,null,null,null,null,null,null,null,"coste"]
[null,null,null,null,null,{"$f":"IF(I108=\"coste\", \"Coste en € total de los materiales de la obra.\",\"Kilogramos totales de los materiales de la obra.\")","v":"Kilogramos totales de los materiales de la obra."}]
[null,null,null,null,null,null,null,null,null,null,null,null,null,"coste"]
[null,null,null,null,null,{"$f":"IF(I108=\"coste\", \"Coste en € total de los elementos cerámicos, áridos, pétreos y hormigones.\",\"Kilogramos totales de los elementos cerámicos, áridos, pétreos y hormigones.\")","v":"Kilogramos totales de los elementos cerámicos, áridos, pétreos y hormigones."}]
[]
[null,null,null,null,null,{"$f":"IF(I108=\"coste\", \"Coste en €  total de madera o derivados de madera materiales empleados en la obra como encofrados de hormigón o palets.\",\"Kilogramos totales de madera o derivados de madera materiales empleados en la obra como encofrados de hormigón o palets.\")","v":"Kilogramos totales de madera o derivados de madera materiales empleados en la obra como encofrados de hormigón o palets."}]
[]
[null,null,null,null,null,null,null,null,null,null,null,null,null,"coste"]
[]
[]
[null,null,null,null,{"$f":"'Matriz VERDE-GBCe'!V28","v":"RN 05"},{"$f":"VLOOKUP($E119,'Matriz VERDE-GBCe'!$V$7:$Y$51,2,FALSE)","v":"Uso de materiales reciclados."},{"$f":"VLOOKUP($E119,'Matriz VERDE-GBCe'!$V$7:$Y$51,3,FALSE)","v":1.8122080188921405E-2}]
[]
[null,null,null,null,null,{"$f":"IF(I108=\"coste\", \"Coste en € total de los elementos cerámicos, áridos, pétreos y hormigones, sin incluir hormigón estructural.\",\"Kilogramos totales de los elementos cerámicos, áridos, pétreos y hormigones, sin incluir hormigón estructural.\")","v":"Kilogramos totales de los elementos cerámicos, áridos, pétreos y hormigones, sin incluir hormigón estructural."}]
[]
[null,null,null,null,null,{"$f":"IF(I108=\"coste\", \"Contenido en € de reciclados PRE-CONSUMO entre los elementos cerámicos, áridos, pétreos y hormigones.\", \"Contenido en kg de reciclados PRE-CONSUMO entre los elementos cerámicos, áridos, pétreos y hormigones.\")","v":"Contenido en kg de reciclados PRE-CONSUMO entre los elementos cerámicos, áridos, pétreos y hormigones."}]
[]
[null,null,null,null,null,{"$f":"IF(I108=\"coste\", \"Contenido en € de reciclados POST-CONSUMO entre los elementos cerámicos, áridos, pétreos y hormigones.\", \"Contenido en kg de reciclados POST-CONSUMO entre los elementos cerámicos, áridos, pétreos y hormigones.\")","v":"Contenido en kg de reciclados POST-CONSUMO entre los elementos cerámicos, áridos, pétreos y hormigones."}]
[]
[null,null,null,null,null,{"$f":"CONCATENATE(\"Porcentaje en \",I108,\" de elementos cerámicos, áridos, pétreos y hormigones reciclados\")","v":"Porcentaje en masa de elementos cerámicos, áridos, pétreos y hormigones reciclados"},{"$f":"IF(OR(I121=0,I121=\"\"),\"\",((0.5*I123+I125)/I121))","v":""},null,null,null,null,null,null,{"$f":"IF(OR(G127=\"\",G127<0.4),0,((G127-0.4)/0.6)*G$119*0.5)","v":0}]
[]
[null,null,null,null,null,{"$f":"IF(I108=\"coste\", \"Contenido en € de reciclados PRE-CONSUMO entre el resto de materiales.\", \"Contenido en kg de reciclados PRE-CONSUMO entre el resto de materiales.\")","v":"Contenido en kg de reciclados PRE-CONSUMO entre el resto de materiales."}]
[]
[null,null,null,null,null,{"$f":"IF(I108=\"coste\", \"Contenido en € de reciclados POST-CONSUMO entre el resto de materiales.\", \"Contenido en kg de reciclados POST-CONSUMO entre el resto de materiales.\")","v":"Contenido en kg de reciclados POST-CONSUMO entre el resto de materiales."}]
[]
[null,null,null,null,null,{"$f":"CONCATENATE(\"Porcentaje en \",I108,\" de materiales reciclados\")","v":"Porcentaje en masa de materiales reciclados"},{"$f":"IF(OR((I110-I112)=0),\"\",((0.5*I129+I131)/(I110-I112)))","v":""},null,null,null,null,null,null,{"$f":"IF(OR(G133=\"\",G133<0.1),0,IF(G133>=0.3,G119*0.5,((G133-0.1)/0.2)*G$119*0.5))","v":0}]
[]
[null,null,null,null,"NOTAS"]
[]
[null,null,null,null,"DOCUMENTOS JUSTIFICATIVOS"]
[]
[null,null,null,null,"RN 05.01","Documentos de presupuesto de contrata desglosado en materiales (descontando la mano de obra) donde se detallen los materiales reciclados postconsumo y preconsumo."]
[]
[null,null,null,null,"RN 05.02",{"$f":"CONCATENATE(N141,O141,P141)","v":"Memoria justificativa de la evaluación del criterio en la que se detallen los materiales reciclados, justificación del porcentaje de reciclado incorporado y su masa sobre el total."},null,null,null,null,null,null,null,"Memoria justificativa de la evaluación del criterio en la que se detallen los materiales reciclados, justificación del porcentaje de reciclado incorporado y su ",{"$f":"IF(I108=\"\",\"masa\",I108)","v":"masa"}," sobre el total."]
[]
[null,null,null,null,"RN 05.03","Certificado del porcentaje del contenido de material reciclado distinguiendo entre preconsumo y postconsumo.. Estos certificados pueden otorgarse por el productor o por entidades externas como el Distintiu de la Generalitat u otros similares."]
[]
[null,null,null,null,"VALORACIÓN DEL CRITERIO",null,{"$f":"(N127+N133)*O108","v":0}]
[]
[]
[]
[null,null,null,null,{"$f":"'Matriz VERDE-GBCe'!V29","v":"RN 06"},{"$f":"VLOOKUP($E149,'Matriz VERDE-GBCe'!$V$7:$Y$51,2,FALSE)","v":"Elección responsable de materiales"},{"$f":"VLOOKUP($E149,'Matriz VERDE-GBCe'!$V$7:$Y$51,3,FALSE)","v":1.8789465578315109E-2}]
[]
[null,null,null,null,null,{"$f":"CONCATENATE(\"Cantidad en \",O141,\" de maderas o productos derivados de la madera con certificado de origen en cadena de custodia.\")","v":"Cantidad en masa de maderas o productos derivados de la madera con certificado de origen en cadena de custodia."},null,null,null,null,null,null,{"$f":"IF(G154=\"\",0,IF(G154<0.2,0,IF(G154>0.5,G149*0.7,((((G154*100)-20)/30))*G149*0.7)))","v":0}]
[]
[]
[null,null,null,null,null,{"$f":"CONCATENATE(\"Porcentaje en \",O141,\" de maderas o productos derivados de la madera con certificado de origen en cadena de custodia.\")","v":"Porcentaje en masa de maderas o productos derivados de la madera con certificado de origen en cadena de custodia."},{"$f":"IF(OR(I114=0,I114=\"\"),\"\",(I151/I114))","v":""}]
[]
[]
[null,null,null,null,null,{"$f":"CONCATENATE(\"Contenido en \",O141,\" de materiales con documento reconocido de procedencia de materias primas.\")","v":"Contenido en masa de materiales con documento reconocido de procedencia de materias primas."},null,null,null,null,null,null,{"$f":"IF(G160=\"\",0,IF(G160<=0.05,0,IF(G160>=0.15,G149*0.3,((((G160*100)-5)/10))*G149*0.3)))","v":0}]
[]
[]
[null,null,null,null,null,{"$f":"CONCATENATE(\"Porcentaje en \",O141,\" de materiales con documento reconocido de procedencia de materias primas.\")","v":"Porcentaje en masa de materiales con documento reconocido de procedencia de materias primas."},{"$f":"IF(OR(I110=0,I110=\"\"),\"\",(I$157/I110))","v":""}]
[]
[]
[null,null,null,null,"NOTAS"]
[]
[null,null,null,null,"DOCUMENTOS JUSTIFICATIVOS"]
[]
[null,null,null,null,"RN 06.01","Pliego de condiciones dónde se especifique la necesidad de comprar maderas o productos derivados de la madera con CoC."]
[]
[null,null,null,null,"RN 06.02","Documentos (habitualmente, facturas o albaranes) que recojan la declaración formal de cadena de custodia para cada producto de madera o derivado de madera certificadol así como los propios certificados CoC."]
[]
[null,null,null,null,"RN 06.03","Pliego de condiciones donde se especifique la necesidad de comprar productos con documentación que avale la procedencia de las materias primas tal y cómo se especifica en el criterio."]
[]
[null,null,null,null,"RN 06.04","Documento acreditativo de la procedencia de las materias primas empleadas según las indicaciones del criterio."]
[]
[null,null,null,null,"RN 06.05",{"$f":"CONCATENATE(N175,O175,P175)","v":"Memoria justificativa de la evaluación del criterio en la que se detallen los materiales procedentes de recursos sostenibles, justificación de su procedencia y su masa sobre el total."},null,null,null,null,null,null,null,"Memoria justificativa de la evaluación del criterio en la que se detallen los materiales procedentes de recursos sostenibles, justificación de su procedencia y su ",{"$f":"O141","v":"masa"}," sobre el total."]
[]
[null,null,null,null,"VALORACIÓN DEL CRITERIO",null,{"$f":"(M151+M157)*O108","v":0}]
[]
[]
[]
[null,null,null,null,{"$f":"'Matriz VERDE-GBCe'!V30","v":"RN 07"},{"$f":"VLOOKUP($E181,'Matriz VERDE-GBCe'!$V$7:$Y$51,2,FALSE)","v":"Uso de materiales de producción local."},{"$f":"VLOOKUP($E181,'Matriz VERDE-GBCe'!$V$7:$Y$51,3,FALSE)","v":1.9739206324759999E-2},null,null,null,null,null,{"$f":"DG!F69","v":0}]
[]
[null,null,null,null,null,"Ir a la hoja de cálculo del criterio"]
[]
[null,null,null,null,null,"Porcentaje de elementos cerámicos, áridos, pétreos y hormigones locales",{"$f":"'RN 07'!J14","v":0},null,null,null,null,null,{"$f":"IF($G185<0.4,0,IF($G185>=0.8,$G181*0.4,(((($G185*100)-40)/40))*$G181*0.4))","v":0}]
[]
[null,null,null,null,null,"Porcentaje de materiales locales, distintos de cerámicos, áridos, pétreos y hormigones.",{"$f":"'RN 07'!J19","v":0},null,null,null,null,null,{"$f":"IF($G187<0.4,0,IF($G187>=0.8,$G181*0.6,(((($G187*100)-40)/40))*$G181*0.6))","v":0}]
[]
[null,null,null,null,"NOTAS",null,null,null,null,null,null,null,{"$f":"IF($G187<0.2,0,IF($G187>=0.6,$G181*0.6,(((($G187*100)-20)/40))*$G181*0.6))","v":0},"Insular"]
[]
[null,null,null,null,"DOCUMENTOS JUSTIFICATIVOS"]
[]
[null,null,null,null,"RN 07.01","Pliego de condiciones donde se detallen las condiciones de aceptación y procedencia de los materiales de obra."]
[]
[null,null,null,null,"RN 07.02","Extracto del presupuesto de contrata material desglosado en materiales (descontando la mano de obra) donde se detalle la procedencia de los materiales a emplear."]
[]
[null,null,null,null,"RN 07.03","Factura o certificado de la procedencia de los materiales con la dirección de la planta de producción."]
[]
[null,null,null,null,"VALORACIÓN DEL CRITERIO",null,{"$f":"IF(M181=\"NO\",(M185+M187)*O108,(M185+M189)*O108)","v":0}]
[]
[]
[]
[null,null,null,null,{"$f":"'Matriz VERDE-GBCe'!V31","v":"RN 08"},{"$f":"VLOOKUP($E203,'Matriz VERDE-GBCe'!$V$7:$Y$51,2,FALSE)","v":"El edificio como banco de materiales"},{"$f":"VLOOKUP($E203,'Matriz VERDE-GBCe'!$V$7:$Y$51,3,FALSE)","v":2.1638687817649778E-2},null,null,null,null,null,null,null,"Sí"]
[null,null,null,null,null,null,null,null,null,null,null,null,null,null,"No"]
[null,null,null,null,null,{"$f":"IF(I108=\"coste\", \"Contenido en € de elementos que favorecen el reciclaje al final de su ciclo de vida del edificio.\", \"Contenido en kg de elementos que favorecen el reciclaje al final de su ciclo de vida del edificio.\")","v":"Contenido en kg de elementos que favorecen el reciclaje al final de su ciclo de vida del edificio."}]
[]
[]
[null,null,null,null,null,{"$f":"CONCATENATE(\"Porcentaje en \",I$108,\" de elementos que favorecen el reciclaje al final de su ciclo de vida del edificio\")","v":"Porcentaje en masa de elementos que favorecen el reciclaje al final de su ciclo de vida del edificio"},{"$f":"IF(OR(I110=0,I110=\"\"),\"\",(I$205/I110))","v":""},null,null,null,null,null,{"$f":"IF(OR(G208=\"\",$G208<0.4),0,IF($G208>=0.6,$G203*0.4,(((($G208*100)-40)/20))*$G203*0.4))","v":0}]
[]
[]
[null,null,null,null,"Sistemas constructivos del edificio que favorecen la recuperación de sus elementos al final de su ciclo de vida"]
[]
[null,null,null,null,null,"Porcentaje de elementos de los cerramientos exteriores que garantizan su recuperación",null,null,null,null,null,null,{"$f":"IF(OR(I213=\"\",I213<0.6),0,G203*0.1)","v":0}]
[]
[null,null,null,null,null,"Porcentaje de elementos de las cubiertas que garantizan su recuperación",null,null,null,null,null,null,{"$f":"IF(OR(I215=\"\",I215<0.6),0,G203*0.1)","v":0}]
[]
[null,null,null,null,null,"Porcentaje de elementos de la estructura que garantizan su recuperación",null,null,null,null,null,null,{"$f":"IF(OR(I217=\"\",I217<0.6),0,G203*0.1)","v":0}]
[]
[null,null,null,null,null,"Porcentaje de elementos de las divisiones interiores que garantizan su recuperación",null,null,null,null,null,null,{"$f":"IF(OR(I219=\"\",I219<0.6),0,G203*0.1)","v":0}]
[]
[]
[null,null,null,null,null,"¿Se ha realizado un estudio del posible uso de los materiales después de su desmontaje al final de la vida del edificio y cumple con las especificaciones del criterio?",null,null,null,null,null,null,{"$f":"IF(OR(I222=\"\",I222=\"NO\"),0,G203*0.2)","v":0}]
[]
[]
[null,null,null,null,"NOTAS"]
[]
[null,null,null,null,"DOCUMENTOS JUSTIFICATIVOS"]
[]
[null,null,null,null,"RN 08.01","Documentos de presupuesto de contrata desglosado en materiales (descontando la mano de obra), donde se detallen los materiales que favorecen su reciclado al final de vida del edificio."]
[]
[null,null,null,null,"RN 08.02","Declaraciones del fabricante o de una empresa de eliminación, o declaración del evaluador, en la que se especifique una fuente externa fiable, que indique que la recuperación de los materiales es  posible y se puede llevar a cabo con la tecnología disponible actualmente"]
[]
[null,null,null,null,"RN 08.03","Informe sobre la recuperación de los sistemas constructivos analizados en el criterio."]
[]
[null,null,null,null,"RN 08.04","Libro del edificio o anexo a este en el que aparezca descrito el procedimiento de recuperación de los elementos analizados al final del ciclo de vida del edificio."]
[]
[null,null,null,null,"RN 08.05","Estudio del posible uso de los materiales o elementos después de su desmontaje, con los certificados de los fabricantes."]
[]
[null,null,null,null,"RN 08.06","Memoria justificativa de la evaluación del criterio en la que se detallen los materiales que favorecen su reciclado y los sistemas constructivos que favorecen su recuperación al final de vida del edificio."]
[]
[null,null,null,null,"VALORACIÓN DEL CRITERIO",null,{"$f":"(M208+M213+M215+M217+M219+M222)*O108","v":0}]
[]
[]
[]
[null,null,null,null,{"$f":"'Matriz VERDE-GBCe'!V32","v":"RN 09"},{"$f":"VLOOKUP($E245,'Matriz VERDE-GBCe'!$V$7:$Y$51,2,FALSE)","v":"Gestión de los residuos de la construcción."},{"$f":"VLOOKUP($E245,'Matriz VERDE-GBCe'!$V$7:$Y$51,3,FALSE)","v":1.5657887981929259E-2}]
[]
[null,null,null,null,null,"Existe un Estudio de los Residuos de Construcción o Demolición que cumple con los requisitos del criterio",null,null,null,null,null,null,null,"Sí"]
[null,null,null,null,null,null,null,null,null,null,null,null,null,"No"]
[]
[null,null,null,null,null,"Existe un Plan de Gestión de los Residuos de Construcción o Demolición que cumple con los requisitos del criterio"]
[]
[]
[null,null,null,null,null,"Porcentaje de residuos de la construcción a los que se garantiza su revalorización.",null,null,null,null,null,null,{"$f":"IF($I253=\"\",0,IF(OR(I247=\"NO\",I250=\"NO\"),0,IF($I253<0.5,0,IF($I253>0.75,$G245*0.5,(((($I253*100)-50)/25))*$G245*0.5))))","v":0}]
[]
[null,null,null,null,null,"Existe un análisis de las posibles alternativas en la utilización de los sistemas o materiales de construcción utilizados para minimizar la producción de residuos.",null,null,null,null,null,null,{"$f":"IF(OR(I255=\"NO\",I255=\"\"),0,G245*0.5)","v":0}]
[]
[]
[null,null,null,null,"NOTAS"]
[]
[null,null,null,null,"DOCUMENTOS JUSTIFICATIVOS"]
[]
[null,null,null,null,"RN 09.01","Estudio de Gestión de Residuos de la Construcción."]
[]
[null,null,null,null,"RN 09.02","Resumen del estudio que demuestre el cumplimiento de las condiciones exigidas por el criterio."]
[]
[null,null,null,null,"RN 09.03","Plan de Gestión de Residuos de la Construcción."]
[]
[null,null,null,null,"RN 09.04","Resumen del Plan que demuestre el cumplimiento de las condiciones exigidas por el criterio."]
[]
[null,null,null,null,"RN 09.05","Informe final de obra incluyendo los certificados otorgados por el gestor autorizado de residuos que demuestre que se han revalorizado los materiales en las cantidades indicadas en el Plan de Gestión de Residuos."]
[]
[null,null,null,null,"VALORACIÓN DEL CRITERIO",null,{"$f":"(M253+M255)*O108","v":0}]
[]
[]
[]
[null,null,null,null,{"$f":"'Matriz VERDE-GBCe'!V33","v":"RN 10"},{"$f":"VLOOKUP($E276,'Matriz VERDE-GBCe'!$V$7:$Y$51,2,FALSE)","v":"Nivel de intervención en rehabilitaciones"},{"$f":"VLOOKUP($E276,'Matriz VERDE-GBCe'!$V$7:$Y$51,3,FALSE)","v":0}]
[]
[null,null,null,null,"Sistemas principales que se conservan en la rehabilitación"]
[]
[null,null,null,null,null,"Porcentaje de elementos de los cerramientos exteriores verticales que se conservan en la rehabilitación",null,null,null,null,null,null,null,{"$f":"IF(OR(I280=\"\",I280<0.6),0,G276*0.2)","v":0}]
[]
[null,null,null,null,null,"Porcentaje de elementos de las cubiertas que se conservan en la rehabilitación",null,null,null,null,null,null,null,{"$f":"IF(OR(I282=\"\",I282<0.6),0,G276*0.2)","v":0}]
[]
[null,null,null,null,null,"Porcentaje de elementos de la estructura que se conservan en la rehabilitación",null,null,null,null,null,null,null,{"$f":"IF(OR(I284=\"\",I284<0.6),0,G276*0.2)","v":0}]
[]
[null,null,null,null,null,"Porcentaje de elementos de las divisiones interiores verticales que se conservan en la rehabilitación",null,null,null,null,null,null,null,{"$f":"IF(OR(I286=\"\",I286<0.6),0,G276*0.2)","v":0}]
[]
[null,null,null,null,null,"Porcentaje de elementos de cajas de escaleras y huecos de ascensor que se conservan en la rehabilitación",null,null,null,null,null,null,null,{"$f":"IF(OR(I288=\"\",I288<0.6),0,G276*0.2)","v":0}]
[]
[null,null,null,null,"NOTAS"]
[]
[null,null,null,null,"DOCUMENTOS JUSTIFICATIVOS"]
[]
[null,null,null,null,"RN 10.01","Plano de cada uno de los elementos evaluados indicando claramente la superficie en la que se interviene e indicando su superficie, la superficie total del elemento y el porcentaje de intervención."]
[]
[null,null,null,null,"RN 10.02","Tabla en la que se refleje claramente las superficies parciales y totales de los elementos, así como las de las zonas intervenidas. En caso de elementos lineales, como pilares y vigas, el porcentaje será lineal. También se indicará con claridad dónde se sitúan las intervenciones a realizar."]
[]
[null,null,null,null,"RN 10.03","Justificación de aquellas intervenciones que queden excluidas del cómputo de este criterio tal y cómo se refleja en el apartado «Descripción de los indicadores»."]
[]
[null,null,null,null,"VALORACIÓN DEL CRITERIO",null,{"$f":"N280+N282+N284+N286+N288","v":0}]
[]
[]
[]
[null,null,null,null,{"$f":"'Matriz VERDE-GBCe'!V34","v":"RN 11"},{"$f":"VLOOKUP($E304,'Matriz VERDE-GBCe'!$V$7:$Y$51,2,FALSE)","v":"Impacto de los materiales de la construcción."},{"$f":"VLOOKUP($E304,'Matriz VERDE-GBCe'!$V$7:$Y$51,3,FALSE)","v":5.4853945274398075E-2}]
[]
[null,null,null,null,null,"Ir a la hoja de cálculo del criterio"]
[]
[null,null,null,null,null,"Existe un ACV parcial en las etapas A1, A2, A3 según la UNE-EN 15978:2012 que contempla los indicadores GWP (kg CO2 eq) y ADP (MJ).",null,null,null,null,null,null,null,{"$f":"IF(OR(I308=\"\",I308=\"NO\"),0,G304*0.5)","v":0}]
[]
[]
[null,null,null,null,null,"Existe un ACV completo en las etapas A1, A2, A3, A4, A5, B4, C3 y C4 según la UNE-EN 15978:2012 que contempla los indicadores GWP(kg CO2 eq) y ADP (MJ).",null,null,null,null,null,null,null,{"$f":"IF(OR(I311=\"\",I311=\"NO\"),0,G304*0.3)","v":0}]
[]
[]
[null,null,null,null,null,"Porcentaje de reducción del GWP (kg CO2 eq) en ACV parcial, fase de producto, respecto del edificio de referencia.",{"$f":"IF(OR(I326=0,I332=\"\"),\"\",1-(I332/I326))","v":""},null,null,null,null,null,{"$f":"IF(G314=\"\",0,IF(G314<0.05,0,IF(G314>0.15,G304*0.1,((((G314*100)-5)/10))*G304*0.1)))","v":0},{"$f":"IF((M314+M317)>=G304*0.1,G304*0.1,(M314+M317))","v":0}]
[]
[]
[null,null,null,null,null,"Porcentaje de reducción del ADP (MJ) en ACV parcial, fase de producto, respecto del edificio de referencia.",{"$f":"IF(OR(I328=0,I334=\"\"),\"\",1-(I334/I328))","v":""},null,null,null,null,null,{"$f":"IF(G317=\"\",0,IF(G317<0.05,0,IF(G317>0.15,G304*0.1,(((G317*100)-5)/10))*G304*0.1))","v":0}]
[]
[]
[null,null,null,null,null,"Existe un ACV parcial o completo que contempla todos los indicadores establecidos en la norma UNE-EN 15978:2012 ",null,null,null,null,null,null,null,{"$f":"IF(OR(I320=\"\",I320=\"NO\"),0,G304*0.1)","v":0}]
[]
[null,null,null,null,"Resumen de resultados del ACV parcial. Etapas A1, A2, A3:"]
[]
[null,null,null,null,"Edificio de referencia"]
[]
[null,null,null,null,null,"Potencial de calentamiento global GWP  (kg CO2 eq.)"]
[]
[null,null,null,null,null,"Agotamiento de recursos abióticos- APD combustibles fósiles (MJ)"]
[]
[null,null,null,null,"Edificio objeto"]
[]
[null,null,null,null,null,"Potencial de calentamiento globalGWP  (kg CO2 eq.)"]
[]
[null,null,null,null,null,"Agotamiento de recursos abióticos- APD combustibles fósiles (MJ))"]
[]
[null,null,null,null,"Resultados del ACV completo desglosado en las Etapas A1, A2, A3, A4, A5, B4, C3 y C4 :"]
[]
[null,null,null,null,"Etapa construcción A4 y A5"]
[]
[null,null,null,null,null,"Global Warming Potencial GWP  (kg CO2 eq.)"]
[]
[null,null,null,null,null,"Agotamiento de recursos abióticos- APD combustibles fósiles (MJ))"]
[]
[null,null,null,null,"Etapa uso B4"]
[]
[null,null,null,null,null,"Global Warming Potencial GWP  (kg CO2 eq.)"]
[]
[null,null,null,null,null,"Agotamiento de recursos abióticos- APD combustibles fósiles (MJ))"]
[]
[null,null,null,null,"Etapa fin de vida, C3 y C4"]
[]
[null,null,null,null,null,"Global Warming Potencial GWP  (kg CO2 eq.)"]
[]
[null,null,null,null,null,"Agotamiento de recursos abióticos- APD combustibles fósiles (MJ))"]
[]
[null,null,null,null,"Resultados del ACV parcial(A1, A2, A3)o completo (A1, A2, A3, A4, A5, B4, C3 y C4) contemplando todos los indicadores:"]
[]
[]
[null,null,null,null,"Edificio objeto"]
[]
[null,null,null,null,null,"Potencial de calentamiento globalGWP  (kg CO2 eq.)"]
[]
[null,null,null,null,null,"Agotamiento de recursos abióticos- APD combustibles fósiles (MJ)"]
[]
[null,null,null,null,null,"Agotamiento de recursos abióticos- APD elementos (kg Sb eq)"]
[]
[null,null,null,null,null,"Acidificación del suelo y el agua  AP (kg SO2 eq)"]
[]
[null,null,null,null,null,"Agotamiento de la capa de ozono ODP (kg CFC-11 eq)"]
[]
[null,null,null,null,null,"Eutrofización EP (kg (PO4)3- eq"]
[]
[null,null,null,null,null,"Formación de ozono fotoquímico POCP (kg etileno eq)"]
[]
[null,null,null,null,"NOTAS"]
[]
[null,null,null,null,"DOCUMENTOS JUSTIFICATIVOS"]
[]
[null,null,null,null,"RN 11.01","Descripción de los sistemas constructivos"]
[]
[null,null,null,null,"RN 11.02","Descripción del método de ACV empleado"]
[]
[null,null,null,null,"RN 11.03","Resultados del edificio objeto con descripción de las hipótesis y aproximaciones realizadas."]
[]
[null,null,null,null,"RN 11.04","Resultados del edificio de referencia con descripción de las hipótesis y aproximaciones realizadas."]
[]
[null,null,null,null,"VALORACIÓN DEL CRITERIO",null,{"$f":"N308+N311+N314+N320","v":0}]
[]
[]
[]
[null,null,null,null,{"$f":"'Matriz VERDE-GBCe'!V35","v":"RN 12"},{"$f":"VLOOKUP($E391,'Matriz VERDE-GBCe'!$V$7:$Y$51,2,FALSE)","v":"Ecoetiquetado de producto."},{"$f":"VLOOKUP($E391,'Matriz VERDE-GBCe'!$V$7:$Y$51,3,FALSE)","v":2.0047230350634018E-2}]
[]
[null,null,null,null,null,{"$f":"IF(I108=\"Coste\",\"Porcentaje en coste de materiales con ecoetiqueta tipo I\",\"Porcentaje en masa de materiales con ecoetiqueta tipo I\")","v":"Porcentaje en masa de materiales con ecoetiqueta tipo I"},null,null,null,null,null,null,{"$f":"IF(I393=\"\",0,IF(I393<0.1,0,IF(I393>0.2,G$391*0.2,((((I393*100)-10)/10))*G$391*0.2)))","v":0}]
[]
[null,null,null,null,null,{"$f":"IF(I108=\"Coste\",\"Porcentaje en coste de elementos cerámicos, áridos, pétreos y hormigones con ecoetiqueta tipo III, DAP\",\"Porcentaje en masa de elementos cerámicos, áridos, pétreos y hormigones con ecoetiqueta tipo III, DAP\")","v":"Porcentaje en masa de elementos cerámicos, áridos, pétreos y hormigones con ecoetiqueta tipo III, DAP"},null,null,null,null,null,null,{"$f":"IF(I395=\"\",0,IF(I395<=0.7,0,((((I395)-0.7)/0.3))*G$391*0.3))","v":0}]
[]
[null,null,null,null,null,{"$f":"IF(I108=\"Coste\",\"Porcentaje en coste de resto de materiales con ecoetiqueta tipo III, DAP\",\"Porcentaje en masa de  resto de materiales con ecoetiqueta tipo III, DAP\")","v":"Porcentaje en masa de  resto de materiales con ecoetiqueta tipo III, DAP"},null,null,null,null,null,null,{"$f":"IF(I397=\"\",0,IF(I397<0.2,0,IF(I397>=0.4,G391*0.5,((((I397)-0.2)/0.4)*G$391*0.5))))","v":0}]
[]
[null,null,null,null,null,"Entre los materiales con DAPs se encuentran elementos estructurales, aislamientos y revestimientos.",null,null,null,null,null,null,{"$f":"IF(I399=\"SÍ\",G$391*0.2,0)","v":0}]
[]
[null,null,null,null,null,"Entre las DAP aportadas al menos 50% cuantan con un ACV en todas las fases del ciclo de vida o tienen en cuenta todos los indicadores de la norma UNE-EN 15804:2012",null,null,null,null,null,null,{"$f":"IF(I401=\"SÍ\",G$391*0.2,0)","v":0}]
[]
[]
[null,null,null,null,"NOTAS"]
[]
[null,null,null,null,"DOCUMENTOS JUSTIFICATIVOS"]
[]
[null,null,null,null,"RN 12.01","Eco etiquetas ya sean tipo I o tipo III de los materiales definidos en obra."]
[]
[null,null,null,null,"RN 12.02","Justificación del porcentaje en masa de los productos con ecoetiqueta Tipo I y Tipo III (DAP), distinguiendo entre los elementos cerámicos, áridos, petreos y hormigones y el resto."]
[]
[null,null,null,null,"VALORACIÓN DEL CRITERIO",null,{"$f":"IF(AND(M393=0,M395=0,M397=0,M399=0,M401=0),0,IF((M393+M395+M397)>=G391,G391*O108,IF((M393+M395+M397+M399)>=G391,G391*O108,IF((M393+M395+M397+M399+M401)>=G391,G391*O108,(M393+M395+M397+M399+M401)*O108))))","v":0}]
[]
[]
[]
[null,null,null,null,null,null,"VALORACIÓN ÁREA"]
[]
[null,null,null,null,null,null,"SUBTOTAL",null,{"$f":"G25+G51+G66+G100+G145+G177+G199+G241+G272+G300+G387+G412","v":0}]
[]
[null,null,null,null,null,null,"SOBRE",null,{"$f":"VLOOKUP(C$2,'Matriz VERDE-GBCe'!$U$4:$Y$51,4,FALSE)","v":0.22922121258791522}]
[]
[]
[]
[]
[]
[null,null,null,null,null,null,"SÍ",null,"x"]
[null,null,null,null,null,null,"NO"]

{"sheet":"RN 01","index":14,"n_rows":46,"n_cols":30,"rows_kept":46,"cut":false,"hidden":false,"merged":[[1,18,1,19],[2,18,2,19],[45,3,45,7],[38,3,38,5],[42,13,43,17],[42,3,43,7],[1,3,1,17],[2,3,2,17],[4,7,4,10],[36,13,36,15],[36,3,36,5],[17,3,17,5],[17,13,17,15],[19,13,19,15],[25,3,26,7],[19,3,19,5],[34,3,34,5],[34,13,34,15],[25,13,26,17],[21,3,21,5]]}
[]
[null,null,null,"Consumo de agua en aparatos sanitarios",null,null,null,null,null,null,null,null,null,null,null,null,null,null,null,null,null,null,null,null,null,null,null,"SÍ"]
[null,null,null,"VERDE Edificios 2020 Usos distintos del Residencial Privado",null,null,null,null,null,null,null,null,null,null,null,null,null,null,null,null,null,null,null,null,null,null,null,"NO"]
[]
[null,null,null,"Tipo de actuación",null,null,null,{"$f":"DG!F31","v":0}]
[]
[]
[null,null,null,"Número de ocupantes"]
[]
[null,null,null,"Nº de ocupantes del edificio",null,null,null,null,{"$f":"SUM($J9:$J9)+SUM($T9:$T9)","v":0}]
[]
[null,null,null,"¿Hay duchas en el edificio?",null,null,null,"SÍ",{"$f":"SUM($J11:$J11)+SUM($T11:$T11)","v":0},null,null,null,null,"¿Hay urinarios en el edificio?",null,null,null,"SÍ"]
[]
[]
[null,null,null,"Consumo del edificio objeto"]
[null,null,null,null,null,null,null,"Caudal",null,"Consumo (l/pers. Día) Ocupantes",null,null,null,null,null,null,null,"Caudal",null,"Consumo (l/pers. Día) Ocupantes",null,null,null,null,null,null,null,null,"consumo/uso","uso/persona"]
[]
[null,null,null,"Grifería lavabo",null,null,null,null,null,{"$f":"AD18","v":13.5},null,null,null,"Grifería ducha",null,null,null,null,null,{"$f":"AD20","v":2.4000000000000004},null,null,null,null,null,null,null,"Lavabo",{"$f":"IF(OR(H18=\"\",H18=0),H35*0.5,H18*0.5)","v":2.25},{"$f":"AC18*6","v":13.5}]
[]
[null,null,null,"Inodoros descarga larga",null,null,null,null,null,{"$f":"AD22","v":6},null,null,null,"Inodoros descarga corta",null,null,null,null,null,{"$f":"AD24","v":3},null,null,null,null,null,null,null,"ducha",{"$f":"IF(OR(R18=\"\",R18=0),R35*3,R18*3)","v":24},{"$f":"IF(H12=\"sí\",AC20*0.1,\"\")","v":2.4000000000000004}]
[]
[null,null,null,"Urinarios",null,null,null,null,null,{"$f":"AD26","v":4},null,null,null,null,null,null,null,null,null,null,null,null,null,null,null,null,null,"descarga larga",{"$f":"IF(OR(H20=\"\",H20=0),H37,H20)","v":6},{"$f":"AC22*1","v":6}]
[]
[null,null,null,null,null,null,null,null,null,null,null,null,null,null,null,null,null,null,null,null,null,null,null,null,null,null,null,"descarga corta",{"$f":"IF(OR(R20=\"\",R20=0),R37,R20)","v":3},{"$f":"IF(R12=\"sí\",AC24*1,AC24*2)","v":3}]
[]
[null,null,null,"CONSUMO TOTAL POR PERSONA Y DÍA (l/p día) OCUPANTES",null,null,null,null,null,{"$f":"AD27","v":28.9},null,null,null,"CONSUMO TOTAL EN EL EDIFICIO OBJETO (l/m2 año)",null,null,null,null,null,{"$f":"IFERROR(J26*H10*365/DG!F20,0)","v":0},null,null,null,null,null,null,null,"urinario",{"$f":"IF(OR(H22=\"\",H22=0),H39,H22)","v":4},{"$f":"IF(R12=\"sí\",AC26*1,\"\")","v":4}]
[null,null,null,null,null,null,null,null,null,null,null,null,null,null,null,null,null,null,null,null,null,null,null,null,null,null,null,null,{"$f":"SUM(AC18:AC26)","v":39.25},{"$f":"SUM(AD18:AD26)","v":28.9}]
[]
[]
[]
[null,null,null,"Consumo del edificio de referencia"]
[]
[null,null,null,null,null,null,null,"Caudal",null,"Consumo (l/pers. Día) Ocupantes",null,null,null,null,null,null,null,"Caudal",null,"Consumo (l/pers. Día) Ocupantes",null,null,null,null,null,null,null,null,"consumo/uso","uso/persona"]
[]
[null,null,null,"Grifería lavabo",null,null,null,4.5,null,{"$f":"AD35","v":13.5},null,null,null,"Grifería ducha",null,null,null,8,null,{"$f":"AD37","v":2.4000000000000004},null,null,null,null,null,null,null,"Lavavo",{"$f":"H35*0.5","v":2.25},{"$f":"AC35*6","v":13.5}]
[]
[null,null,null,"Inodoros descarga larga",null,null,null,6,null,{"$f":"AD39","v":6},null,null,null,"Inodoros descarga corta",null,null,null,3,null,{"$f":"AD41","v":3},null,null,null,null,null,null,null,"ducha",{"$f":"R35*3","v":24},{"$f":"IF(H12=\"sí\",AC37*0.1,\"\")","v":2.4000000000000004}]
[]
[null,null,null,"Urinarios",null,null,null,4,null,{"$f":"AD43","v":4},null,null,null,null,null,null,null,null,null,null,null,null,null,null,null,null,null,"descarga larga",{"$f":"H37","v":6},{"$f":"AC39*1","v":6}]
[]
[null,null,null,null,null,null,null,null,null,null,null,null,null,null,null,null,null,null,null,null,null,null,null,null,null,null,null,"descarga corta",{"$f":"R37","v":3},{"$f":"IF(R12=\"sí\",AC41*1,AC41*2)","v":3}]
[]
[null,null,null,"CONSUMO TOTAL POR PERSONA Y DÍA (l/p día) OCUPANTES",null,null,null,null,null,{"$f":"AD44","v":28.9},null,null,null,"CONSUMO TOTAL EN EL EDIFICIO REFERENCIA (l/m2 año)",null,null,null,null,null,{"$f":"IFERROR(J43*H10*365/DG!F20,0)","v":0},null,null,null,null,null,null,null,"urinario",{"$f":"H39","v":4},{"$f":"IF(R12=\"sí\",AC43*1,\"\")","v":4}]
[null,null,null,null,null,null,null,null,null,null,null,null,null,null,null,null,null,null,null,null,null,null,null,null,null,null,null,null,{"$f":"SUM(AC35:AC43)","v":39.25},{"$f":"SUM(AD35:AD43)","v":28.9}]
[]
[null,null,null,"Porcentaje de ahorro",null,null,null,null,null,{"$f":"IFERROR(IF(J26=0,\"\",IF(1-(T26/T43)<0,0,1-(T26/T43))),0)","v":0}]

{"sheet":"BD RIEGO","index":15,"n_rows":52,"n_cols":7,"rows_kept":52,"cut":false,"hidden":true,"merged":[]}
["Provincia","estación meteorológica"]
["Albacete","Albacete - Los Llanos / B. Aérea",null,null,null,"Tipo de riego","EA"]
["Alicante","Alicante",null,null,null,"Riego localizado subterráneo",0.95]
["Almería","Almería / Aeropuerto",null,null,null,"Riego localizado en superficie",0.9]
["Ávila","Ávila",null,null,null,"Difusores y microaspersores",0.8]
["Badajoz","Badajoz - Talavera la Real / B. Aérea",null,null,null,"Aspersores","0,7-0,8"]
["Barcelona","Barcelona / Aeropuerto","Barcelona / Montseny -Turo De L'Home",null,null,"Superficie","0,5-0,65"]
["Bilbao","Bilbao / Aeropuerto"]
["Burgos","Burgos / B. Aérea"]
["Cáceres","Cáceres"]
["Cádiz","Cádiz - Jerez de la Frontera / Aeropuerto","Cádiz - Tarifa"]
["Castellón","Castellón"]
["Ciudad Real","Ciudad Real"]
["Córdoba","Córdoba / Aeropuerto"]
["Cuenca","Cuenca"]
["Gerona","Girona / Aeropuerto"]
["Granada","Granada / Aeropuerto","Granada / B. Aérea"]
["Guadalajara","Guadalajara - Molina De Aragón"]
["Huelva","Huelva"]
["Huesca","Huesca - Monflorite / Aeropuerto"]
["Ibiza","Ibiza / Aeropuerto"]
["Jaén"]
["La Coruña","A Coruña","A Coruña - Santiago Compostela / Aeropuerto"]
["Las Palmas","La Palma / Aeropuerto"]
["León","León - Ponferrada","León - Virgen del Camino / B. Aérea"]
["Lérida","Lleida / Estación 2"]
["Logroño ","Logroño - Agoncillo / Aeropuerto"]
["Lugo","Lugo - Rozas / Aeródromo"]
["Madrid","Madrid","Madrid - Barajas / Aeropuerto"]
["Málaga","Málaga / Aeropuerto"]
["Murcia","Murcia - Alcantarilla / Aeropuerto","Murcia - San Javier / Aeropuerto"]
["Orense","Ourense"]
["Oviedo","Oviedo / Aeropuerto","Oviedo"]
["Palencia"]
["Palma de Mallorca","Palma de Mallorca","Palma de Mallorca / Aeropuerto"]
["Pamplona","Pamplona / Aeropuerto"]
["Pontevedra","Pontevedra - Mourente","Pontevedra - Vigo / Aeropuerto"]
["Salamanca","Salamanca - Matacán / B. Aérea"]
["San Sebastián","San Sebastián / Aeropuerto","San Sebastián / Igueldo"]
["Sta. Cruz de Tenerife","Santa Cruz De Tenerife","Tenerife / Aeropuerto Tenerife Sur"]
["Santander","Santander / Aeropuerto"]
["Segovia","Segovia"]
["Sevilla","Sevilla / Aeropuerto","Sevilla / Morón de la Frontera / B. Aérea","Sevilla - Tablada"]
["Soria","Soria"]
["Tarragona","Tarragona / Tortosa","Tarragona - Reus / Aeropuerto"]
["Teruel","Teruel"]
["Toledo","Toledo"]
["Valencia","Valencia","Valencia - Manises"]
["Valladolid","Valladolid","Valladolid / Aeropuerto"]
["Vitoria","Vitoria / Aeropuerto"]
["Zamora","Zamora"]
["Zaragoza","Zaragoza / Aeropuerto"]

{"sheet":"P","index":16,"n_rows":103,"n_cols":15,"rows_kept":103,"cut":false,"hidden":true,"merged":[[0,2,0,14]]}
[null,null,"Precipitación (mm)"]
[null,null,"Localidad","Ene","Feb","Mar","Abr","May","Jun","Jul","Ago","Sep","Oct","Nov","Dic"]
[null,null,"ANDALUCIA"]
["Albacete",null,"Almería",24,25,16,17,12,5,1,1,14,27,28,30]
["Alicante",null,"Cádiz",69,58,35,45,27,7,0,2,24,67,98,92]
["Almería",null," Jerez_de_ la_Frontera",78,56,37,49,30,9,1,2,27,72,96,109]
["Ávila",null,"Cádiz/Tarifa",83,73,60,61,31,9,2,4,14,67,77,118]
["Badajoz",null,"Jaén",55,50,44,54,43,18,2,9,26,55,62,75]
["Barcelona",null,"Córdoba",66,55,49,55,40,13,2,5,35,86,80,111]
["Bilbao",null,"Granada",42,38,32,36,28,11,2,4,19,40,54,56]
["Burgos",null,"Huelva",71,50,38,48,29,8,3,4,26,68,79,99]
["Cáceres",null,"Málaga",69,60,52,44,20,6,0,6,20,57,100,100]
["Cádiz",null,"Sevilla/Aeropuerto",66,50,36,54,30,10,2,5,27,68,91,99]
["Castellón",null,"Sevilla/Morón_de_la_Frontera/B.Aérea",68,53,42,60,39,9,2,4,27,67,86,94]
["Ceuta",null,"Sevilla/Tablada",78,52,40,58,36,13,2,5,20,66,81,103]
["Ciudad_Real",null,"ARAGON"]
["Córdoba",null,"Huesca",31,28,30,53,52,33,22,29,48,60,47,44]
["La_Coruña",null,"Teruel",19,15,21,39,57,46,26,34,36,47,22,19]
["Cuenca",null,"Zaragoza",21,22,19,39,44,26,17,17,30,36,30,21]
["Gerona",null,"ASTURIAS"]
["Granada",null,"Asturias/Aeropuerto",103,88,82,99,79,61,47,60,73,116,134,117]
["Guadalajara",null,"Oviedo",84,81,78,100,82,57,45,56,66,98,115,98]
["Huelva",null,"BALEARES"]
["Huesca",null,"Ibiza",37,36,27,31,27,11,5,18,57,58,53,52]
["Jaén",null,"Menorca/Mahón",52,54,38,45,37,14,3,20,61,78,88,61]
["León",null,"Palma_de_Mallorca",42,37,28,39,36,11,6,22,52,69,59,48]
["Lérida",null,"Palma_de_Mallorca/Aeropuerto",37,32,26,34,32,12,5,17,50,62,55,48]
["Logroño",null,"CANARIAS"]
["Lugo",null,"Fuerteventura",14,16,12,5,1,0,0,0,2,8,13,26]
["Madrid",null,"Hierro",28,38,25,13,2,1,0,1,3,14,37,44]
["Málaga",null,"Lanzarote",16,18,12,5,2,0,0,0,2,10,15,29]
["Melilla",null,"Las_Palmas_de_Gran_Canaria",25,24,12,6,1,0,0,0,9,16,22,31]
["Murcia",null,"Santa_Cruz_De_Tenerife",32,35,38,12,4,1,0,2,7,19,34,43]
["Orense",null,"Tenerife/Norte",80,70,61,39,19,11,6,5,16,47,81,82]
["Oviedo",null,"Tenerife/Aeropuerto_Tenerife_Sur",17,20,15,7,1,0,0,1,4,12,26,30]
["Palencia",null,"Tenerife/Izaña",47,67,58,18,7,0,0,5,13,37,54,60]
["Las_Palmas_de_Gran_Canaria",null,"CANTABRIA"]
["Palma_de_Mallorca",null,"Santander",106,92,88,102,78,58,52,73,83,120,157,118]
["Pamplona",null,"CASTILLA LA MANCHA"]
["Pontevedra",null,"Albacete",21,25,27,40,43,35,9,11,34,42,34,31]
["Salamanca",null,"Ciudad_Real",35,30,28,48,41,25,6,5,26,53,45,59]
["San_Sebastián",null,"Cuenca",40,38,35,58,52,41,10,20,42,60,48,58]
["Santa_Cruz_de_Tenerife",null,"Guadalajara",35,32,25,50,53,25,12,5,28,68,42,46]
["Santander",null,"Toledo",26,25,23,39,44,24,7,9,18,48,39,41]
["Segovia",null,"CASTILLA LEON"]
["Sevilla",null,"Ávila",34,24,23,40,55,33,12,19,30,53,48,42]
["Soria",null,"Burgos",44,35,34,61,63,41,23,23,38,60,60,63]
["Tarragona",null,"Palencia",67,54,46,50,54,32,23,25,49,81,82,89]
["Teruel",null,"León",50,34,32,45,56,31,19,23,39,61,59,66]
["Toledo",null,"León/Virgen del Camino",58,46,29,50,58,39,28,24,39,56,58,70]
["Valencia",null,"Salamanca",30,25,21,38,47,29,11,12,32,46,40,42]
["Valladolid",null,"Segovia",38,31,30,44,66,43,17,20,28,59,52,46]
["Vitoria",null,"Soria",37,36,30,55,67,40,30,30,33,55,50,50]
["Zamora",null,"Valladolid",40,27,22,46,49,29,13,16,31,55,52,53]
["Zaragoza",null,"Valladolid/Aeropuerto",36,26,23,43,53,30,15,21,32,52,51,53]
[null,null,"Zamora",32,25,22,39,43,23,12,13,28,50,45,46]
[null,null,"CATALUÑA"]
[null,null,"Barcelona",37,35,36,40,47,30,21,62,81,91,59,40]
[null,null,"Barcelona/Fabra",50,43,44,53,58,30,24,41,75,91,66,46]
[null,null,"Girona",62,51,50,67,71,60,32,46,70,88,70,56]
[null,null,"Lleida",26,15,21,39,42,27,12,18,41,43,30,24]
[null,null,"Tarragona",33,28,30,48,58,25,15,33,59,78,60,41]
[null,null,"Tarragona/Reus",29,28,28,37,54,25,15,42,77,75,53,36]
[null,null,"CEUTA"]
[null,null,"Ceuta",122,145,90,57,21,3,1,3,37,82,127,161]
[null,null,"COMUNIDAD DE MADRID"]
[null,null,"Colmenar_Viejo",52,41,36,52,57,28,14,16,36,76,78,68]
[null,null,"Madrid",33,34,25,45,50,21,12,10,22,60,58,51]
[null,null,"Barajas",29,32,22,38,44,22,9,10,24,51,49,42]
[null,null,"Cuatro_Vientos",34,35,25,43,50,24,12,11,24,60,57,53]
[null,null,"Getafe",30,32,24,38,39,19,9,9,22,50,48,45]
[null,null,"Puerto_Navacerrada",124,96,84,127,124,64,23,26,60,156,176,163]
[null,null,"Torrejón_De_Ardoz",29,31,23,40,48,19,13,9,25,50,49,42]
[null,null,"COMUNIDAD VALENCIANA"]
[null,null,"Alicante",23,22,23,29,28,12,4,7,56,47,36,25]
[null,null,"Castellón",36,31,31,42,44,19,9,24,71,70,49,42]
[null,null,"Valencia",37,36,33,38,39,22,8,20,70,77,47,48]
[null,null,"Valencia-Manises",37,34,30,40,38,18,12,16,63,72,51,48]
[null,null,"EXTREMADURA"]
[null,null,"Badajoz",50,42,30,49,36,14,4,5,24,61,65,69]
[null,null,"Cáceres",54,48,36,52,50,20,6,7,30,77,89,77]
[null,null,"GALICIA"]
[null,null,"La_Coruña",112,88,75,88,74,44,34,35,64,130,138,131]
[null,null,"Lugo",114,87,80,102,81,52,34,36,68,137,144,134]
[null,null,"Ourense",89,66,59,72,64,36,20,22,57,112,103,112]
[null,null,"Pontevedra",178,133,120,143,118,64,44,56,95,224,222,216]
[null,null,"Santiago_de_Compostela",210,167,146,146,135,72,43,57,107,226,217,261]
[null,null,"Vigo",208,162,141,157,127,62,44,45,102,231,246,262]
[null,null,"LA RIOJA"]
[null,null,"Logroño",28,23,26,46,47,44,30,21,26,37,40,38]
[null,null,"MELILLA"]
[null,null,"Melilla",58,57,44,36,20,7,1,4,16,40,57,50]
[null,null,"MURCIA"]
[null,null,"Murcia",27,27,30,25,28,18,3,8,32,36,32,29]
[null,null,"Alcantarilla",26,28,31,25,28,18,2,10,29,34,33,25]
[null,null,"San_Javier",42,27,24,23,25,7,2,7,39,39,47,30]
[null,null,"NAVARRA"]
[null,null,"Pamplona",57,50,54,74,60,46,33,38,44,68,75,72]
[null,null,"PAÍS VASCO"]
[null,null,"Bilbao",120,86,90,107,78,60,50,76,73,111,147,122]
[null,null,"San_Sebastián/Aeropuerto",168,150,144,168,138,96,98,112,138,174,186,167]
[null,null,"San_Sebastián/Igueldo",141,110,113,138,120,90,86,117,111,159,169,151]
[null,null,"Vitoria",75,63,63,73,70,43,38,39,41,71,91,82]

{"sheet":"ETo","index":17,"n_rows":77,"n_cols":15,"rows_kept":77,"cut":false,"hidden":true,"merged":[]}
[null,null,"Evapotranspiración Potencial","Ene","Feb","Mar","Abr","May","Jun","Jul","Ago","Sep","Oct","Nov","Dic"]
["Albacete","Albacete - Los Llanos ","Albacete",15.1,29.2,60.4,95.7,122.5,157.1,179.7,156,87.3,51.4,19.899999999999999,16.8]
["Alicante","Alicante","Alicante",16.399999999999999,37.4,68.900000000000006,91.9,130.1,149.4,169.8,154.19999999999999,95.5,62.2,30.1,22.9]
["Almería","Almería ","Almería",27.9,37.200000000000003,72.599999999999994,98.5,140.9,132.5,177.9,182.5,100.5,65.8,31.1,31.2]
["Ávila","Ávila","Ávila",11.2,21.5,52.5,78.3,116.2,143.9,161.5,142.9,77.099999999999994,42.7,15,9.6]
["Badajoz","Badajoz","Badajoz",13.8,24.1,57,82.7,116.9,141,182.1,146,81.099999999999994,49,21.3,11.6]
["Barcelona","Barcelona / Aeropuerto","Barcelona",18.600000000000001,27.7,53.2,76,107,135.9,155.19999999999999,130.1,75.400000000000006,47.4,22,16.600000000000001]
["Bilbao","Barcelona / Montseny -Turo De L'Home","Bilbao",13.9,21.8,49.2,62.4,92.9,98,96.9,96.9,57.2,35.299999999999997,17.5,14.6]
["Burgos","Bilbao","Burgos",9.9,24.9,45.5,67.5,104.3,119.5,146.4,124.5,68,36,12.5,8.1999999999999993]
["Cáceres","Burgos","Cáceres",13.8,24.1,57,82.7,116.9,141,182.1,146,81.099999999999994,49,21.3,11.6]
["Cádiz","Cáceres","Cádiz",25.7,34.6,84.3,102.1,156.69999999999999,182.4,196.3,185.5,115.4,74.900000000000006,34.6,22.4]
["Castellón","Cádiz - Jerez de la Frontera / Aeropuerto","Castellón",15.4,26.6,54.1,75.7,115.1,133.30000000000001,148.5,129.4,75.8,45.8,19.8,12.1]
["Ceuta","Cádiz - Tarifa","Ceuta",16.5,28.5,59.1,84.4,128.30000000000001,153.80000000000001,169.9,154.19999999999999,83.5,50.7,22,13.4]
["Ciudad_Real","Castellón de la Plana","Ciudad_Real",12.9,25.2,51.2,77.099999999999994,120.3,155.69999999999999,172.1,149.80000000000001,82,43.3,17.899999999999999,12.3]
["Córdoba","Ceuta","Córdoba",17.3,28.5,56.3,82.3,128.1,157.69999999999999,182.7,162.6,94.5,55,21.7,14.3]
["La_Coruña","Ciudad Real","Cuenca",10.6,19,43.8,66.2,106.2,129.6,149.9,144.30000000000001,71.099999999999994,39.299999999999997,14.5,8.5]
["Cuenca","Córdoba","Gerona",11.2,22,45.5,72,110.6,123.6,144,122.9,71.2,39.799999999999997,14.7,8.5]
["Gerona","Cuenca","Granada",16,26.5,54.7,74.400000000000006,111.2,140.9,168.1,148.5,85.9,48.3,20.2,12.7]
["Granada","Gerona","Guadalajara",16.100000000000001,23.5,53.9,74.7,109.2,139.19999999999999,164.9,143.4,80.8,43.6,18.5,11]
["Guadalajara","Granada","Huelva",19.2,28.2,53.6,80.7,125.4,145.30000000000001,161.69999999999999,146.5,89.5,53.4,24.1,14.8]
["Huelva","Guadalajara","Huesca",15.2,26.5,60.1,83.2,118.5,139.9,162,137.30000000000001,77,48.4,20.100000000000001,13.9]
["Huesca","Huelva","Ibiza",19,30.5,61.3,82.6,130,146.69999999999999,169.9,152,89.5,56.1,26,19.3]
["Jaén","Huesca","Jaén",15.6,25.5,54.5,76.400000000000006,111.3,145,154,151,87,49.5,20.100000000000001,12.9]
["León","Ibiza","La_Coruña",23.1,30.7,55.9,76.599999999999994,701,110.7,125.7,109,57.2,42.7,23.6,23.7]
["Lérida","Jaén","Las_Palmas_de_Gran_Canaria",45.4,51.7,91.5,104.4,130.69999999999999,133.5,131.4,132.1,103.8,82.4,50.9,42.2]
["Logroño","La Coruña","León",8.1999999999999993,19.5,50.8,75.8,110.5,129,157.69999999999999,129.5,72.7,37.799999999999997,13.3,7.3]
["Lugo","Las Palmas de Gran Canaria","Lérida",16.100000000000001,29,65.2,91.8,127.1,158.19999999999999,182.4,153.9,89.2,52.5,22.3,13.9]
["Madrid","León - Ponferrada","Logroño",14.8,22.9,54.4,71.900000000000006,109.6,122.4,149.1,128.9,70.900000000000006,37.299999999999997,15.7,12.4]
["Málaga","León - Virgen del Camino / B. Aérea","Lugo",10.3,18.3,41.1,63.6,87.6,98.7,105.3,92.1,56.7,34.9,11.9,8.4]
["Melilla","Lérida","Madrid",13.3,24.5,55.7,83,120.6,149.1,171.4,153.19999999999999,85.2,45.7,16.7,10.5]
["Murcia","Logroño","Málaga",27.1,36,66.099999999999994,84.3,135.4,155.9,169.1,153.5,90.5,59.6,29.3,23.3]
["Orense","Lugo","Melilla",16.5,28.5,59.1,84.4,128.30000000000001,153.80000000000001,169.9,154.19999999999999,83.5,50.7,22,13.4]
["Oviedo","Madrid","Murcia",16.5,28.5,59.1,84.4,128.30000000000001,153.80000000000001,169.9,154.19999999999999,83.5,50.7,22,13.4]
["Palencia"," Barajas","Orense",10.1,17.600000000000001,39.700000000000003,58.4,94.2,112.2,123.5,108.1,63.2,29.6,11.4,9.3000000000000007]
["Las_Palmas_de_Gran_Canaria"," Cuatro Vientos","Oviedo",9.9,18.2,38.799999999999997,56.8,82.6,86.2,87.3,82,52.1,33.700000000000003,11.5,8.1999999999999993]
["Palma_de_Mallorca"," Getafe","Palencia",9.4,20.8,48,75.7,114,134.9,160.1,134.9,71.7,37.1,14.2,8.6999999999999993]
["Pamplona","Puerto Navacerrada","Palma_de_Mallorca",18.399999999999999,30.3,59.7,82.4,128.5,145.6,169.1,150.6,88.2,55.4,25.2,18.7]
["Pontevedra"," Torrejón De Ardoz","Pamplona",11.2,18.3,44.5,61.7,94.8,110.8,130,112.3,63.7,33.799999999999997,13.1,9.6999999999999993]
["Salamanca","Málaga","Pontevedra",19,28.5,57,77.900000000000006,105.3,129,146.9,111.7,87.4,45.1,15,14.9]
["San_Sebastián","Melilla","Salamanca",11,18.8,47.2,72.400000000000006,91.3,133.30000000000001,157.69999999999999,115.7,78.8,39.4,19,9.4]
["Santa_Cruz_de_Tenerife","Murcia - Alcantarilla","San_Sebastián",25.7,28.5,64.5,75.7,98.2,105.2,110.2,100,63.4,46,26.5,19.5]
["Santander","Murcia - San Javier","Santa_Cruz_de_Tenerife",53.5,62.2,101.5,99.4,164.3,174.5,188.8,178.1,120.3,93.8,55.4,46.6]
["Segovia","Pamplona","Santander",17.5,23.1,48.1,61.1,86.4,94,101.9,93.6,48.3,38.299999999999997,18.5,16.600000000000001]
["Sevilla","Orense","Segovia",21.1,25.3,53.8,71.900000000000006,105.6,117.9,142.5,132.4,76.400000000000006,43.5,21.9,16.600000000000001]
["Soria","Oviedo","Sevilla",18.399999999999999,30.5,59,83.3,126.7,154.6,166.9,148.6,87,53.4,22.1,12.2]
["Tarragona","Gijón","Soria",14.4,22.2,48.5,71.5,106.1,131.1,149.1,131.6,69.900000000000006,39.299999999999997,15.9,7.8]
["Teruel","Asturias / Aeropuerto","Tarragona",18.2,30.6,57.5,76.8,112,135.19999999999999,149.9,127,77,49.4,24.2,15.7]
["Toledo","Palencia","Teruel",9.6,17.100000000000001,41.1,61.8,100.4,117.7,141.6,125.4,63,33.4,12,73]
["Valencia","Palma de Mallorca","Toledo",14.8,28.3,63.5,91.2,136.9,176.5,193.4,167.4,92.3,51.8,19.600000000000001,9.5]
["Valladolid","Palma de Mallorca / Aeropuerto","Valencia",23.8,32.200000000000003,63.8,82.6,111.9,149.1,155.80000000000001,138.9,83.9,52.6,27,21.9]
["Vitoria","Pontevedra - Mourente","Valladolid",11.2,21.5,52.5,78.3,116.2,143.9,161.5,142.9,77.099999999999994,42.7,15,9.6]
["Zamora","Pontevedra - Vigo","Vitoria",7.8,13.4,38.1,51.1,77.900000000000006,90.4,104.4,87.5,49.7,28.6,9.1999999999999993,7.8]
["Zaragoza","Santiago Compostela ","Zamora",16.3,26.7,60.5,80.900000000000006,122,142.30000000000001,173.6,138.1,94.2,43.3,16,12]
[null,"Salamanca","Zaragoza",20.399999999999999,32.6,71.400000000000006,97.4,143.4,170.4,194.5,164.7,94.9,54.2,22.4,15]
[null,"Santa Cruz De Tenerife"]
[null,"Tenerife / Telde"]
[null,"Tenerife / Aeropuerto Tenerife Sur"]
[null,"Tenerife - Izaña"]
[null,"Santander"]
[null,"Segovia"]
[null,"Sevilla / Aeropuerto"]
[null,"Sevilla / Morón de la Frontera / B. Aérea"]
[null,"Sevilla - Tablada"]
[null,"Soria"]
[null,"Tarragona / Tortosa"]
[null,"Tarragona - Reus / Aeropuerto"]
[null,"Teruel"]
[null,"Toledo"]
[null,"Valencia"]
[null,"Valencia - Manises"]
[null,"Valladolid"]
[null,"Valladolid / Aeropuerto"]
[null,"Vitoria"]
[null,"San Sebastián / Aeropuerto"]
[null,"San Sebastián / Igueldo"]
[null,"Zamora"]
[null,"Zaragoza"]

{"sheet":"JR","index":18,"n_rows":62,"n_cols":17,"rows_kept":62,"cut":false,"hidden":true,"merged":[[49,2,60,2],[49,8,60,8],[49,9,60,9],[9,2,9,4],[11,8,15,8],[18,8,18,9],[19,2,30,2],[19,8,30,8],[19,9,30,9],[33,8,33,9],[34,2,45,2],[34,8,45,8],[34,9,45,9],[48,8,48,9]]}
[]
[null,"NECESIDADES DE RIEGO JARDÍN DE REFERENCIA"]
[null,{"$f":"IF(C13+D13+E13=0,\"\",(L32*C13+L47*D13+L62*E13))","v":""}]
[]
[]
[]
[]
[]
[]
[null,null,"Tipos de vegetación"]
[null,"CAPITAL DE PROVINCIA",{"$f":"'RN 02'!D5","v":0},"ESTACIÓN METEOROLÓGICA",{"$f":"'RN 02'!R5","v":"Teruel"},null,null,null,"NECESIDADES DE RIEGO JARDÍN DE REFERENCIA"]
[null,"NOMBRE ESPECIE","pradera","tapizante","arbolado",null,null,null,{"$f":"(L32+L47+L62)/365","v":{"$error":"#VALUE!"}}]
[null,"Area (m2)",{"$f":"IF($C17=\"\",0,IF($C17=1,'RN 02'!$D$27*0.5,IF($C17=2,'RN 02'!$D$27*0.4,IF($C17=3,'RN 02'!$D$27*0.3,'RN 02'!$D$27*0.1))))","v":0},{"$f":"IF($C17=\"\",0,IF($C17=1,'RN 02'!$D$27*0.2,IF($C17=2,'RN 02'!$D$27*0.3,IF($C17=3,'RN 02'!$D$27*0.3,'RN 02'!$D$27*0.5))))","v":0},{"$f":"IF($C17=\"\",0,IF($C17=1,'RN 02'!$D$27*0.3,IF($C17=2,'RN 02'!$D$27*0.3,IF($C17=3,'RN 02'!$D$27*0.4,'RN 02'!$D$27*0.4))))","v":0}]
[null,"Ks",0.7,0.5,0.5]
[null,"Km",{"$f":"'RN 02'!D17","v":""},1,1]
[null,"Kj",{"$f":"C14*C15","v":{"$error":"#VALUE!"}},{"$f":"D14*D15","v":0.5},{"$f":"E14*E15","v":0.5}]
[null,"Zona de verano",{"$f":"'zona clima'!C11","v":""}]
[]
[null,null,"Kj","Eto (mm)","Etj (mm)","P (mm)","Pe (mm)","N (mm)","EA",null,"Nf (mm)","Nf (l/m2)"]
[null,"ENE",{"$f":"C16","v":{"$error":"#VALUE!"}},{"$f":"SUMIFS(ETo!C$2:C$54,ETo!$C$2:$C$54,'RN 02'!$D$5)","v":0},{"$f":"D20*C20","v":{"$error":"#VALUE!"}},{"$f":"SUMIFS(P!D$4:D$103,P!$C$4:$C$103,'RN 02'!$R$5)","v":19},{"$f":"IF(F20<75,(0.6*F20-10),(0.8*F20-25))","v":1.4000000000000004},{"$f":"IF((E20-G20)<0,0,E20-G20)","v":{"$error":"#VALUE!"}},"Aspersores",0.75,{"$f":"$H20/$J$20","v":{"$error":"#VALUE!"}},{"$f":"K20","v":{"$error":"#VALUE!"}}]
[null,"FEB",null,{"$f":"SUMIFS(ETo!D$2:D$54,ETo!$C$2:$C$54,'RN 02'!$D$5)","v":0},{"$f":"D21*C20","v":{"$error":"#VALUE!"}},{"$f":"SUMIFS(P!E$4:E$103,P!$C$4:$C$103,'RN 02'!$R$5)","v":15},{"$f":"IF(F21<75,0.6*F21-10,0.8*F21-25)","v":-1},{"$f":"IF((E21-G21)<0,0,E21-G21)","v":{"$error":"#VALUE!"}},null,null,{"$f":"$H21/$J$20","v":{"$error":"#VALUE!"}},{"$f":"K21","v":{"$error":"#VALUE!"}},null,null,null,"Riego localizado subterráneo",0.95]
[null,"MAR",null,{"$f":"SUMIFS(ETo!E$2:E$54,ETo!$C$2:$C$54,'RN 02'!$D$5)","v":0},{"$f":"D22*C20","v":{"$error":"#VALUE!"}},{"$f":"SUMIFS(P!F$4:F$103,P!$C$4:$C$103,'RN 02'!$R$5)","v":21},2.5999999999999996,{"$error":"#VALUE!"},null,null,{"$error":"#VALUE!"},{"$error":"#VALUE!"},null,null,null,"Riego localizado en superficie",0.9]
[null,"ABR",null,{"$f":"SUMIFS(ETo!F$2:F$54,ETo!$C$2:$C$54,'RN 02'!$D$5)","v":0},{"$f":"D23*C20","v":{"$error":"#VALUE!"}},{"$f":"SUMIFS(P!G$4:G$103,P!$C$4:$C$103,'RN 02'!$R$5)","v":39},13.399999999999999,{"$error":"#VALUE!"},null,null,{"$error":"#VALUE!"},{"$error":"#VALUE!"},null,null,null,"Difusores y microaspersores",0.8]
[null,"MAY",null,{"$f":"SUMIFS(ETo!G$2:G$54,ETo!$C$2:$C$54,'RN 02'!$D$5)","v":0},{"$f":"D24*C20","v":{"$error":"#VALUE!"}},{"$f":"SUMIFS(P!H$4:H$103,P!$C$4:$C$103,'RN 02'!$R$5)","v":57},24.199999999999996,{"$error":"#VALUE!"},null,null,{"$error":"#VALUE!"},{"$error":"#VALUE!"},null,null,null,"Aspersores",0.75]
[null,"JUN",null,{"$f":"SUMIFS(ETo!H$2:H$54,ETo!$C$2:$C$54,'RN 02'!$D$5)","v":0},{"$f":"D25*C20","v":{"$error":"#VALUE!"}},{"$f":"SUMIFS(P!I$4:I$103,P!$C$4:$C$103,'RN 02'!$R$5)","v":46},17.599999999999998,{"$error":"#VALUE!"},null,null,{"$error":"#VALUE!"},{"$error":"#VALUE!"}]
[null,"JUL",null,{"$f":"SUMIFS(ETo!I$2:I$54,ETo!$C$2:$C$54,'RN 02'!$D$5)","v":0},{"$f":"D26*C20","v":{"$error":"#VALUE!"}},{"$f":"SUMIFS(P!J$4:J$103,P!$C$4:$C$103,'RN 02'!$R$5)","v":26},5.6,{"$error":"#VALUE!"},null,null,{"$error":"#VALUE!"},{"$error":"#VALUE!"}]
[null,"AGO",null,{"$f":"SUMIFS(ETo!J$2:J$54,ETo!$C$2:$C$54,'RN 02'!$D$5)","v":0},{"$f":"D27*C20","v":{"$error":"#VALUE!"}},{"$f":"SUMIFS(P!K$4:K$103,P!$C$4:$C$103,'RN 02'!$R$5)","v":34},10.399999999999999,{"$error":"#VALUE!"},null,null,{"$error":"#VALUE!"},{"$error":"#VALUE!"}]
[null,"SEP",null,{"$f":"SUMIFS(ETo!K$2:K$54,ETo!$C$2:$C$54,'RN 02'!$D$5)","v":0},{"$f":"D28*C20","v":{"$error":"#VALUE!"}},{"$f":"SUMIFS(P!L$4:L$103,P!$C$4:$C$103,'RN 02'!$R$5)","v":36},11.599999999999998,{"$error":"#VALUE!"},null,null,{"$error":"#VALUE!"},{"$error":"#VALUE!"}]
[null,"OCT",null,{"$f":"SUMIFS(ETo!L$2:L$54,ETo!$C$2:$C$54,'RN 02'!$D$5)","v":0},{"$f":"D29*C20","v":{"$error":"#VALUE!"}},{"$f":"SUMIFS(P!M$4:M$103,P!$C$4:$C$103,'RN 02'!$R$5)","v":47},18.2,{"$error":"#VALUE!"},null,null,{"$error":"#VALUE!"},{"$error":"#VALUE!"}]
[null,"NOV",null,{"$f":"SUMIFS(ETo!M$2:M$54,ETo!$C$2:$C$54,'RN 02'!$D$5)","v":0},{"$f":"D30*C20","v":{"$error":"#VALUE!"}},{"$f":"SUMIFS(P!N$4:N$103,P!$C$4:$C$103,'RN 02'!$R$5)","v":22},3.1999999999999993,{"$error":"#VALUE!"},null,null,{"$error":"#VALUE!"},{"$error":"#VALUE!"}]
[null,"DIC",null,{"$f":"SUMIFS(ETo!N$2:N$54,ETo!$C$2:$C$54,'RN 02'!$D$5)","v":0},{"$f":"D31*C20","v":{"$error":"#VALUE!"}},{"$f":"SUMIFS(P!O$4:O$103,P!$C$4:$C$103,'RN 02'!$R$5)","v":19},1.4000000000000004,{"$error":"#VALUE!"},null,null,{"$error":"#VALUE!"},{"$error":"#VALUE!"}]
[null,null,null,null,null,null,null,null,null,null,{"$f":"SUM(K20:K31)","v":{"$error":"#VALUE!"}},{"$f":"SUM(L20:L31)","v":{"$error":"#VALUE!"}}]
[]
[null,null,"Kj","Eto (mm)","Etj (mm)","P (mm)","Pe (mm)","N (mm)","EA",null,"Nf (mm)","Nf (l/m2)"]
[null,"ENE",{"$f":"D16","v":0.5},{"$f":"SUMIFS(ETo!C$2:C$54,ETo!$C$2:$C$54,'RN 02'!$D$5)","v":0},{"$f":"D35*C35","v":0},{"$f":"SUMIFS(P!D$4:D$103,P!$C$4:$C$103,'RN 02'!$R$5)","v":19},{"$f":"IF(F35<75,(0.6*F35-10),(0.8*F35-25))","v":1.4000000000000004},{"$f":"IF((E35-G35)<0,0,E35-G35)","v":0},"Riego localizado en superficie",0.9,{"$f":"$H35/$J$35","v":0},{"$f":"K35","v":0}]
[null,"FEB",null,{"$f":"SUMIFS(ETo!D$2:D$54,ETo!$C$2:$C$54,'RN 02'!$D$5)","v":0},{"$f":"D36*C35","v":0},{"$f":"SUMIFS(P!E$4:E$103,P!$C$4:$C$103,'RN 02'!$R$5)","v":15},{"$f":"IF(F36<75,0.6*F36-10,0.8*F36-25)","v":-1},{"$f":"IF((E36-G36)<0,0,E36-G36)","v":1},null,null,{"$f":"$H36/$J$20","v":1.3333333333333333},{"$f":"K36","v":1.3333333333333333}]
[null,"MAR",null,{"$f":"SUMIFS(ETo!E$2:E$54,ETo!$C$2:$C$54,'RN 02'!$D$5)","v":0},{"$f":"D37*C35","v":0},{"$f":"SUMIFS(P!F$4:F$103,P!$C$4:$C$103,'RN 02'!$R$5)","v":21},2.5999999999999996,0,null,null,0,0]
[null,"ABR",null,{"$f":"SUMIFS(ETo!F$2:F$54,ETo!$C$2:$C$54,'RN 02'!$D$5)","v":0},{"$f":"D38*C35","v":0},{"$f":"SUMIFS(P!G$4:G$103,P!$C$4:$C$103,'RN 02'!$R$5)","v":39},13.399999999999999,0,null,null,0,0]
[null,"MAY",null,{"$f":"SUMIFS(ETo!G$2:G$54,ETo!$C$2:$C$54,'RN 02'!$D$5)","v":0},{"$f":"D39*C35","v":0},{"$f":"SUMIFS(P!H$4:H$103,P!$C$4:$C$103,'RN 02'!$R$5)","v":57},24.199999999999996,0,null,null,0,0]
[null,"JUN",null,{"$f":"SUMIFS(ETo!H$2:H$54,ETo!$C$2:$C$54,'RN 02'!$D$5)","v":0},{"$f":"D40*C35","v":0},{"$f":"SUMIFS(P!I$4:I$103,P!$C$4:$C$103,'RN 02'!$R$5)","v":46},17.599999999999998,0,null,null,0,0]
[null,"JUL",null,{"$f":"SUMIFS(ETo!I$2:I$54,ETo!$C$2:$C$54,'RN 02'!$D$5)","v":0},{"$f":"D41*C35","v":0},{"$f":"SUMIFS(P!J$4:J$103,P!$C$4:$C$103,'RN 02'!$R$5)","v":26},5.6,0,null,null,0,0]
[null,"AGO",null,{"$f":"SUMIFS(ETo!J$2:J$54,ETo!$C$2:$C$54,'RN 02'!$D$5)","v":0},{"$f":"D42*C35","v":0},{"$f":"SUMIFS(P!K$4:K$103,P!$C$4:$C$103,'RN 02'!$R$5)","v":34},10.399999999999999,0,null,null,0,0]
[null,"SEP",null,{"$f":"SUMIFS(ETo!K$2:K$54,ETo!$C$2:$C$54,'RN 02'!$D$5)","v":0},{"$f":"D43*C35","v":0},{"$f":"SUMIFS(P!L$4:L$103,P!$C$4:$C$103,'RN 02'!$R$5)","v":36},11.599999999999998,0,null,null,0,0]
[null,"OCT",null,{"$f":"SUMIFS(ETo!L$2:L$54,ETo!$C$2:$C$54,'RN 02'!$D$5)","v":0},{"$f":"D44*C35","v":0},{"$f":"SUMIFS(P!M$4:M$103,P!$C$4:$C$103,'RN 02'!$R$5)","v":47},18.2,0,null,null,0,0]
[null,"NOV",null,{"$f":"SUMIFS(ETo!M$2:M$54,ETo!$C$2:$C$54,'RN 02'!$D$5)","v":0},{"$f":"D45*C35","v":0},{"$f":"SUMIFS(P!N$4:N$103,P!$C$4:$C$103,'RN 02'!$R$5)","v":22},3.1999999999999993,0,null,null,0,0]
[null,"DIC",null,{"$f":"SUMIFS(ETo!N$2:N$54,ETo!$C$2:$C$54,'RN 02'!$D$5)","v":0},{"$f":"D46*C35","v":0},{"$f":"SUMIFS(P!O$4:O$103,P!$C$4:$C$103,'RN 02'!$R$5)","v":19},1.4000000000000004,0,null,null,0,0]
[null,null,null,null,null,null,null,null,null,null,{"$f":"SUM(K35:K46)","v":1.3333333333333333},{"$f":"SUM(L35:L46)","v":1.3333333333333333}]
[]
[null,null,"Kj","Eto (mm)","Etj (mm)","P (mm)","Pe (mm)","N (mm)","EA",null,"Nf (mm)","Nf (l/m2)"]
[null,"ENE",{"$f":"E16","v":0.5},{"$f":"SUMIFS(ETo!C$2:C$54,ETo!$C$2:$C$54,'RN 02'!$D$5)","v":0},{"$f":"D50*C50","v":0},{"$f":"SUMIFS(P!D$4:D$103,P!$C$4:$C$103,'RN 02'!$R$5)","v":19},{"$f":"IF(F50<75,(0.6*F50-10),(0.8*F50-25))","v":1.4000000000000004},{"$f":"IF((E50-G50)<0,0,E50-G50)","v":0},"Riego localizado subterráneo",0.95,{"$f":"$H50/$J$50","v":0},{"$f":"K50","v":0}]
[null,"FEB",null,{"$f":"SUMIFS(ETo!D$2:D$54,ETo!$C$2:$C$54,'RN 02'!$D$5)","v":0},{"$f":"D51*C50","v":0},{"$f":"SUMIFS(P!E$4:E$103,P!$C$4:$C$103,'RN 02'!$R$5)","v":15},{"$f":"IF(F51<75,0.6*F51-10,0.8*F51-25)","v":-1},{"$f":"IF((E51-G51)<0,0,E51-G51)","v":1},null,null,{"$f":"$H51/$J$20","v":1.3333333333333333},{"$f":"K51","v":1.3333333333333333}]
[null,"MAR",null,{"$f":"SUMIFS(ETo!E$2:E$54,ETo!$C$2:$C$54,'RN 02'!$D$5)","v":0},{"$f":"D52*C50","v":0},{"$f":"SUMIFS(P!F$4:F$103,P!$C$4:$C$103,'RN 02'!$R$5)","v":21},2.5999999999999996,0,null,null,0,0]
[null,"ABR",null,{"$f":"SUMIFS(ETo!F$2:F$54,ETo!$C$2:$C$54,'RN 02'!$D$5)","v":0},{"$f":"D53*C50","v":0},{"$f":"SUMIFS(P!G$4:G$103,P!$C$4:$C$103,'RN 02'!$R$5)","v":39},13.399999999999999,0,null,null,0,0]
[null,"MAY",null,{"$f":"SUMIFS(ETo!G$2:G$54,ETo!$C$2:$C$54,'RN 02'!$D$5)","v":0},{"$f":"D54*C50","v":0},{"$f":"SUMIFS(P!H$4:H$103,P!$C$4:$C$103,'RN 02'!$R$5)","v":57},24.199999999999996,0,null,null,0,0]
[null,"JUN",null,{"$f":"SUMIFS(ETo!H$2:H$54,ETo!$C$2:$C$54,'RN 02'!$D$5)","v":0},{"$f":"D55*C50","v":0},{"$f":"SUMIFS(P!I$4:I$103,P!$C$4:$C$103,'RN 02'!$R$5)","v":46},17.599999999999998,0,null,null,0,0]
[null,"JUL",null,{"$f":"SUMIFS(ETo!I$2:I$54,ETo!$C$2:$C$54,'RN 02'!$D$5)","v":0},{"$f":"D56*C50","v":0},{"$f":"SUMIFS(P!J$4:J$103,P!$C$4:$C$103,'RN 02'!$R$5)","v":26},5.6,0,null,null,0,0]
[null,"AGO",null,{"$f":"SUMIFS(ETo!J$2:J$54,ETo!$C$2:$C$54,'RN 02'!$D$5)","v":0},{"$f":"D57*C50","v":0},{"$f":"SUMIFS(P!K$4:K$103,P!$C$4:$C$103,'RN 02'!$R$5)","v":34},10.399999999999999,0,null,null,0,0]
[null,"SEP",null,{"$f":"SUMIFS(ETo!K$2:K$54,ETo!$C$2:$C$54,'RN 02'!$D$5)","v":0},{"$f":"D58*C50","v":0},{"$f":"SUMIFS(P!L$4:L$103,P!$C$4:$C$103,'RN 02'!$R$5)","v":36},11.599999999999998,0,null,null,0,0]
[null,"OCT",null,{"$f":"SUMIFS(ETo!L$2:L$54,ETo!$C$2:$C$54,'RN 02'!$D$5)","v":0},{"$f":"D59*C50","v":0},{"$f":"SUMIFS(P!M$4:M$103,P!$C$4:$C$103,'RN 02'!$R$5)","v":47},18.2,0,null,null,0,0]
[null,"NOV",null,{"$f":"SUMIFS(ETo!M$2:M$54,ETo!$C$2:$C$54,'RN 02'!$D$5)","v":0},{"$f":"D60*C50","v":0},{"$f":"SUMIFS(P!N$4:N$103,P!$C$4:$C$103,'RN 02'!$R$5)","v":22},3.1999999999999993,0,null,null,0,0]
[null,"DIC",null,{"$f":"SUMIFS(ETo!N$2:N$54,ETo!$C$2:$C$54,'RN 02'!$D$5)","v":0},{"$f":"D61*C50","v":0},{"$f":"SUMIFS(P!O$4:O$103,P!$C$4:$C$103,'RN 02'!$R$5)","v":19},1.4000000000000004,0,null,null,0,0]
[null,null,null,null,null,null,null,null,null,null,{"$f":"SUM(K50:K61)","v":1.3333333333333333},{"$f":"SUM(L50:L61)","v":1.3333333333333333}]

{"sheet":"Nf","index":19,"n_rows":339,"n_cols":35,"rows_kept":339,"cut":false,"hidden":true,"merged":[[32,4,32,18],[1,2,1,19],[2,2,2,19],[4,4,4,18],[6,4,28,4],[6,16,28,16],[144,4,144,18],[34,4,56,4],[34,16,56,16],[60,4,60,18],[62,4,84,4],[62,16,84,16],[88,4,88,18],[90,4,112,4],[90,16,112,16],[116,4,116,18],[118,4,140,4],[118,16,140,16],[256,4,256,18],[146,4,168,4],[146,16,168,16],[172,4,172,18],[174,4,196,4],[174,16,196,16],[200,4,200,18],[202,4,224,4],[202,16,224,16],[228,4,228,18],[230,4,252,4],[230,16,252,16],[314,4,336,4],[314,16,336,16],[258,4,280,4],[258,16,280,16],[284,4,284,18],[286,4,308,4],[286,16,308,16],[312,4,312,18]]}
[]
[null,null,"VERDE HACES Consumo de riego"]
[null,null,"VERDE Residencial v 1.W"]
[null,null,null,null,null,null,null,null,null,null,null,null,null,null,null,null,null,null,null,null,null,null,null,null,null,null,null,"Albacete",null,"ANDALUCIA"]
[null,null,null,null,{"$f":"IF('RN 02'!D7>0,'RN 02'!D7,\"\")","v":""}]
[null,null,null,null,"Kj",null,"Eto (mm)",null,"Etj (mm)",null,"P (mm)",null,"Pe (mm)",null,"N (mm)",null,null,null,"Nf (l/m2)",null,null,null,"RN 04"]
[null,null,null,"ENE",{"$f":"'RN 02'!D19","v":""},null,{"$f":"SUMIFS(ETo!D$2:D$54,ETo!$C$2:$C$54,'RN 02'!$D$5)","v":0},null,{"$f":"IF(E$7=\"\",\"\",G7*E$7)","v":""},null,{"$f":"SUMIFS(P!D$4:D$103,P!$C$4:$C$103,'RN 02'!$R$5)","v":19},null,{"$f":"IF(K7<75,(0.6*K7-10),(0.8*K7-25))","v":1.4000000000000004},null,{"$f":"IF(I7=\"\",\"\",IF((I7-M7)<0,0,I7-M7))","v":""},null,{"$f":"VLOOKUP('RN 02'!D$21,$Z$11:$AA$19,2,FALSE)","v":{"$error":"#N/A"}},null,{"$f":"IF(O7=\"\",0,O7/$Q$7)","v":0},null,{"$f":"IF(S7=0,0,S7)","v":0},"ENE",{"$f":"S7+S35+S63+S91+S119+S147+S175+S203+S231+S259+S287+S315","v":0},{"$f":"SUMIFS(P!D$4:D$103,P!$C$4:$C$103,'RN 02'!$R$5)","v":19},{"$f":"SUMIFS(P!E$4:E$103,P!$C$4:$C$103,'RN 02'!$R$5)","v":15},{"$f":"SUMIFS(P!F$4:F$103,P!$C$4:$C$103,'RN 02'!$R$5)","v":21},{"$f":"SUMIFS(P!G$4:G$103,P!$C$4:$C$103,'RN 02'!$R$5)","v":39},{"$f":"SUMIFS(P!H$4:H$103,P!$C$4:$C$103,'RN 02'!$R$5)","v":57},{"$f":"SUMIFS(P!I$4:I$103,P!$C$4:$C$103,'RN 02'!$R$5)","v":46},{"$f":"SUMIFS(P!J$4:J$103,P!$C$4:$C$103,'RN 02'!$R$5)","v":26},{"$f":"SUMIFS(P!K$4:K$103,P!$C$4:$C$103,'RN 02'!$R$5)","v":34},{"$f":"SUMIFS(P!L$4:L$103,P!$C$4:$C$103,'RN 02'!$R$5)","v":36},{"$f":"SUMIFS(P!M$4:M$103,P!$C$4:$C$103,'RN 02'!$R$5)","v":47},{"$f":"SUMIFS(P!N$4:N$103,P!$C$4:$C$103,'RN 02'!$R$5)","v":22},{"$f":"SUMIFS(P!O$4:O$103,P!$C$4:$C$103,'RN 02'!$R$5)","v":19}]
[]
[null,null,null,"FEB",null,null,{"$f":"SUMIFS(ETo!E$2:E$54,ETo!$C$2:$C$54,'RN 02'!$D$5)","v":0},null,{"$f":"IF(E$7=\"\",\"\",G9*E$7)","v":""},null,{"$f":"SUMIFS(P!E$4:E$103,P!$C$4:$C$103,'RN 02'!$R$5)","v":15},null,{"$f":"IF(K9<75,(0.6*K9-10),(0.8*K9-25))","v":-1},null,{"$f":"IF(I9=\"\",\"\",IF((I9-M9)<0,0,I9-M9))","v":""},null,null,null,{"$f":"IF(O9=\"\",0,O9/$Q$7)","v":0},null,{"$f":"IF(S9=0,0,S9)","v":0},"FEB",{"$f":"S9+S37+S65+S93+S121+S149+S177+S205+S233+S261+S289+S317","v":0}]
[]
[null,null,null,"MAR",null,null,{"$f":"SUMIFS(ETo!F$2:F$54,ETo!$C$2:$C$54,'RN 02'!$D$5)","v":0},null,{"$f":"IF(E$7=\"\",\"\",G11*E$7)","v":""},null,{"$f":"SUMIFS(P!F$4:F$103,P!$C$4:$C$103,'RN 02'!$R$5)","v":21},null,2.5999999999999996,null,{"$f":"IF(I11=\"\",\"\",IF((I11-M11)<0,0,I11-M11))","v":""},null,null,null,{"$f":"IF(O11=\"\",0,O11/$Q$7)","v":0},null,{"$f":"IF(S11=0,0,S11)","v":0},"MAR",0,null,null,"Riego localizado subterráneo",0.95]
[]
[null,null,null,"ABR",null,null,{"$f":"SUMIFS(ETo!G$2:G$54,ETo!$C$2:$C$54,'RN 02'!$D$5)","v":0},null,{"$f":"IF(E$7=\"\",\"\",G13*E$7)","v":""},null,{"$f":"SUMIFS(P!G$4:G$103,P!$C$4:$C$103,'RN 02'!$R$5)","v":39},null,13.399999999999999,null,{"$f":"IF(I13=\"\",\"\",IF((I13-M13)<0,0,I13-M13))","v":""},null,null,null,{"$f":"IF(O13=\"\",0,O13/$Q$7)","v":0},null,{"$f":"IF(S13=0,0,S13)","v":0},"ABR",0,null,null,"Riego localizado en superficie",0.9]
[]
[null,null,null,"MAY",null,null,{"$f":"SUMIFS(ETo!H$2:H$54,ETo!$C$2:$C$54,'RN 02'!$D$5)","v":0},null,{"$f":"IF(E$7=\"\",\"\",G15*E$7)","v":""},null,{"$f":"SUMIFS(P!H$4:H$103,P!$C$4:$C$103,'RN 02'!$R$5)","v":57},null,24.199999999999996,null,{"$f":"IF(I15=\"\",\"\",IF((I15-M15)<0,0,I15-M15))","v":""},null,null,null,{"$f":"IF(O15=\"\",0,O15/$Q$7)","v":0},null,{"$f":"IF(S15=0,0,S15)","v":0},"MAY",0,null,null,"Difusores y microaspersores",0.8]
[]
[null,null,null,"JUN",null,null,{"$f":"SUMIFS(ETo!I$2:I$54,ETo!$C$2:$C$54,'RN 02'!$D$5)","v":0},null,{"$f":"IF(E$7=\"\",\"\",G17*E$7)","v":""},null,{"$f":"SUMIFS(P!I$4:I$103,P!$C$4:$C$103,'RN 02'!$R$5)","v":46},null,17.599999999999998,null,{"$f":"IF(I17=\"\",\"\",IF((I17-M17)<0,0,I17-M17))","v":""},null,null,null,{"$f":"IF(O17=\"\",0,O17/$Q$7)","v":0},null,{"$f":"IF(S17=0,0,S17)","v":0},"JUN",0,null,null,"Aspersores",0.75]
[]
[null,null,null,"JUL",null,null,{"$f":"SUMIFS(ETo!J$2:J$54,ETo!$C$2:$C$54,'RN 02'!$D$5)","v":0},null,{"$f":"IF(E$7=\"\",\"\",G19*E$7)","v":""},null,{"$f":"SUMIFS(P!J$4:J$103,P!$C$4:$C$103,'RN 02'!$R$5)","v":26},null,5.6,null,{"$f":"IF(I19=\"\",\"\",IF((I19-M19)<0,0,I19-M19))","v":""},null,null,null,{"$f":"IF(O19=\"\",0,O19/$Q$7)","v":0},null,{"$f":"IF(S19=0,0,S19)","v":0},"JUL",0,null,null,"Superficie",0.55000000000000004]
[]
[null,null,null,"AGO",null,null,{"$f":"SUMIFS(ETo!K$2:K$54,ETo!$C$2:$C$54,'RN 02'!$D$5)","v":0},null,{"$f":"IF(E$7=\"\",\"\",G21*E$7)","v":""},null,{"$f":"SUMIFS(P!K$4:K$103,P!$C$4:$C$103,'RN 02'!$R$5)","v":34},null,10.399999999999999,null,{"$f":"IF(I21=\"\",\"\",IF((I21-M21)<0,0,I21-M21))","v":""},null,null,null,{"$f":"IF(O21=\"\",0,O21/$Q$7)","v":0},null,{"$f":"IF(S21=0,0,S21)","v":0},"AGO",0]
[]
[null,null,null,"SEP",null,null,{"$f":"SUMIFS(ETo!L$2:L$54,ETo!$C$2:$C$54,'RN 02'!$D$5)","v":0},null,{"$f":"IF(E$7=\"\",\"\",G23*E$7)","v":""},null,{"$f":"SUMIFS(P!L$4:L$103,P!$C$4:$C$103,'RN 02'!$R$5)","v":36},null,11.599999999999998,null,{"$f":"IF(I23=\"\",\"\",IF((I23-M23)<0,0,I23-M23))","v":""},null,null,null,{"$f":"IF(O23=\"\",0,O23/$Q$7)","v":0},null,{"$f":"IF(S23=0,0,S23)","v":0},"SEP",0]
[]
[null,null,null,"OCT",null,null,{"$f":"SUMIFS(ETo!M$2:M$54,ETo!$C$2:$C$54,'RN 02'!$D$5)","v":0},null,{"$f":"IF(E$7=\"\",\"\",G25*E$7)","v":""},null,{"$f":"SUMIFS(P!M$4:M$103,P!$C$4:$C$103,'RN 02'!$R$5)","v":47},null,18.2,null,{"$f":"IF(I25=\"\",\"\",IF((I25-M25)<0,0,I25-M25))","v":""},null,null,null,{"$f":"IF(O25=\"\",0,O25/$Q$7)","v":0},null,{"$f":"IF(S25=0,0,S25)","v":0},"OCT",0]
[]
[null,null,null,"NOV",null,null,{"$f":"SUMIFS(ETo!N$2:N$54,ETo!$C$2:$C$54,'RN 02'!$D$5)","v":0},null,{"$f":"IF(E$7=\"\",\"\",G27*E$7)","v":""},null,{"$f":"SUMIFS(P!N$4:N$103,P!$C$4:$C$103,'RN 02'!$R$5)","v":22},null,3.1999999999999993,null,{"$f":"IF(I27=\"\",\"\",IF((I27-M27)<0,0,I27-M27))","v":""},null,null,null,{"$f":"IF(O27=\"\",0,O27/$Q$7)","v":0},null,{"$f":"IF(S27=0,0,S27)","v":0},"NOV",0]
[]
[null,null,null,"DIC",null,null,{"$f":"SUMIFS(ETo!O$2:O$54,ETo!$C$2:$C$54,'RN 02'!$D$5)","v":0},null,{"$f":"IF(E$7=\"\",\"\",G29*E$7)","v":""},null,{"$f":"SUMIFS(P!O$4:O$103,P!$C$4:$C$103,'RN 02'!$R$5)","v":19},null,1.4000000000000004,null,{"$f":"IF(I29=\"\",\"\",IF((I29-M29)<0,0,I29-M29))","v":""},null,null,null,{"$f":"IF(O29=\"\",0,O29/$Q$7)","v":0},null,{"$f":"IF(S29=0,0,S29)","v":0},"DIC",0]
[]
[null,null,null,null,null,null,null,null,null,null,null,null,null,null,null,null,null,null,{"$f":"SUM(S7:S29)","v":0},null,{"$f":"IF(S31=0,0,S31)","v":0}]
[]
[null,null,null,null,{"$f":"IF('RN 02'!F7>0,'RN 02'!F7,\"\")","v":""}]
[null,null,null,null,"Kj",null,"Eto (mm)",null,"Etj (mm)",null,"P (mm)",null,"Pe (mm)",null,"N (mm)",null,null,null,"Nf (mm)"]
[null,null,null,"ENE",{"$f":"'RN 02'!F19","v":""},null,{"$f":"SUMIFS(ETo!D$2:D$54,ETo!$C$2:$C$54,'RN 02'!$D$5)","v":0},null,{"$f":"IF(E$35=\"\",\"\",G35*E$35)","v":""},null,{"$f":"SUMIFS(P!D$4:D$103,P!$C$4:$C$103,'RN 02'!$R$5)","v":19},null,{"$f":"IF(K35<75,(0.6*K35-10),(0.8*K35-25))","v":1.4000000000000004},null,{"$f":"IF(I35=\"\",\"\",IF((I35-M35)<0,0,I35-M35))","v":""},null,{"$f":"VLOOKUP('RN 02'!F$21,$Z$11:$AA$19,2,FALSE)","v":{"$error":"#N/A"}},null,{"$f":"IF(O35=\"\",0,O35/$Q$35)","v":0},null,{"$f":"IF(S35=0,0,S35)","v":0}]
[]
[null,null,null,"FEB",null,null,{"$f":"SUMIFS(ETo!E$2:E$54,ETo!$C$2:$C$54,'RN 02'!$D$5)","v":0},null,{"$f":"IF(E$35=\"\",\"\",G37*E$35)","v":""},null,{"$f":"SUMIFS(P!E$4:E$103,P!$C$4:$C$103,'RN 02'!$R$5)","v":15},null,{"$f":"IF(K37<75,0.6*K37-10,0.8*K37-25)","v":-1},null,{"$f":"IF(I37=\"\",\"\",IF((I37-M37)<0,0,I37-M37))","v":""},null,null,null,{"$f":"IF(O37=\"\",0,O37/$Q$35)","v":0},null,{"$f":"IF(S37=0,0,S37)","v":0}]
[]
[null,null,null,"MAR",null,null,{"$f":"SUMIFS(ETo!F$2:F$54,ETo!$C$2:$C$54,'RN 02'!$D$5)","v":0},null,{"$f":"IF(E$35=\"\",\"\",G39*E$35)","v":""},null,{"$f":"SUMIFS(P!F$4:F$103,P!$C$4:$C$103,'RN 02'!$R$5)","v":21},null,2.5999999999999996,null,{"$f":"IF(I39=\"\",\"\",IF((I39-M39)<0,0,I39-M39))","v":""},null,null,null,{"$f":"IF(O39=\"\",0,O39/$Q$35)","v":0},null,{"$f":"IF(S39=0,0,S39)","v":0},null,null,null,null,"Riego localizado subterráneo",0.95]
[]
[null,null,null,"ABR",null,null,{"$f":"SUMIFS(ETo!G$2:G$54,ETo!$C$2:$C$54,'RN 02'!$D$5)","v":0},null,{"$f":"IF(E$35=\"\",\"\",G41*E$35)","v":""},null,{"$f":"SUMIFS(P!G$4:G$103,P!$C$4:$C$103,'RN 02'!$R$5)","v":39},null,13.399999999999999,null,{"$f":"IF(I41=\"\",\"\",IF((I41-M41)<0,0,I41-M41))","v":""},null,null,null,0,null,{"$f":"IF(S41=0,0,S41)","v":0},null,null,null,null,"Riego localizado en superficie",0.9]
[]
[null,null,null,"MAY",null,null,{"$f":"SUMIFS(ETo!H$2:H$54,ETo!$C$2:$C$54,'RN 02'!$D$5)","v":0},null,{"$f":"IF(E$35=\"\",\"\",G43*E$35)","v":""},null,{"$f":"SUMIFS(P!H$4:H$103,P!$C$4:$C$103,'RN 02'!$R$5)","v":57},null,24.199999999999996,null,{"$f":"IF(I43=\"\",\"\",IF((I43-M43)<0,0,I43-M43))","v":""},null,null,null,0,null,{"$f":"IF(S43=0,0,S43)","v":0},null,null,null,null,"Difusores y microaspersores",0.8]
[]
[null,null,null,"JUN",null,null,{"$f":"SUMIFS(ETo!I$2:I$54,ETo!$C$2:$C$54,'RN 02'!$D$5)","v":0},null,{"$f":"IF(E$35=\"\",\"\",G45*E$35)","v":""},null,{"$f":"SUMIFS(P!I$4:I$103,P!$C$4:$C$103,'RN 02'!$R$5)","v":46},null,17.599999999999998,null,{"$f":"IF(I45=\"\",\"\",IF((I45-M45)<0,0,I45-M45))","v":""},null,null,null,0,null,{"$f":"IF(S45=0,0,S45)","v":0},null,null,null,null,"Aspersores",0.75]
[]
[null,null,null,"JUL",null,null,{"$f":"SUMIFS(ETo!J$2:J$54,ETo!$C$2:$C$54,'RN 02'!$D$5)","v":0},null,{"$f":"IF(E$35=\"\",\"\",G47*E$35)","v":""},null,{"$f":"SUMIFS(P!J$4:J$103,P!$C$4:$C$103,'RN 02'!$R$5)","v":26},null,5.6,null,{"$f":"IF(I47=\"\",\"\",IF((I47-M47)<0,0,I47-M47))","v":""},null,null,null,0,null,{"$f":"IF(S47=0,0,S47)","v":0},null,null,null,null,"Superficie",0.55000000000000004]
[]
[null,null,null,"AGO",null,null,{"$f":"SUMIFS(ETo!K$2:K$54,ETo!$C$2:$C$54,'RN 02'!$D$5)","v":0},null,{"$f":"IF(E$35=\"\",\"\",G49*E$35)","v":""},null,{"$f":"SUMIFS(P!K$4:K$103,P!$C$4:$C$103,'RN 02'!$R$5)","v":34},null,10.399999999999999,null,{"$f":"IF(I49=\"\",\"\",IF((I49-M49)<0,0,I49-M49))","v":""},null,null,null,0,null,{"$f":"IF(S49=0,0,S49)","v":0}]
[]
[null,null,null,"SEP",null,null,{"$f":"SUMIFS(ETo!L$2:L$54,ETo!$C$2:$C$54,'RN 02'!$D$5)","v":0},null,{"$f":"IF(E$35=\"\",\"\",G51*E$35)","v":""},null,{"$f":"SUMIFS(P!L$4:L$103,P!$C$4:$C$103,'RN 02'!$R$5)","v":36},null,11.599999999999998,null,{"$f":"IF(I51=\"\",\"\",IF((I51-M51)<0,0,I51-M51))","v":""},null,null,null,0,null,{"$f":"IF(S51=0,0,S51)","v":0}]
[]
[null,null,null,"OCT",null,null,{"$f":"SUMIFS(ETo!M$2:M$54,ETo!$C$2:$C$54,'RN 02'!$D$5)","v":0},null,{"$f":"IF(E$35=\"\",\"\",G53*E$35)","v":""},null,{"$f":"SUMIFS(P!M$4:M$103,P!$C$4:$C$103,'RN 02'!$R$5)","v":47},null,18.2,null,{"$f":"IF(I53=\"\",\"\",IF((I53-M53)<0,0,I53-M53))","v":""},null,null,null,0,null,{"$f":"IF(S53=0,0,S53)","v":0}]
[]
[null,null,null,"NOV",null,null,{"$f":"SUMIFS(ETo!N$2:N$54,ETo!$C$2:$C$54,'RN 02'!$D$5)","v":0},null,{"$f":"IF(E$35=\"\",\"\",G55*E$35)","v":""},null,{"$f":"SUMIFS(P!N$4:N$103,P!$C$4:$C$103,'RN 02'!$R$5)","v":22},null,3.1999999999999993,null,{"$f":"IF(I55=\"\",\"\",IF((I55-M55)<0,0,I55-M55))","v":""},null,null,null,0,null,{"$f":"IF(S55=0,0,S55)","v":0}]
[]
[null,null,null,"DIC",null,null,{"$f":"SUMIFS(ETo!O$2:O$54,ETo!$C$2:$C$54,'RN 02'!$D$5)","v":0},null,{"$f":"IF(E$35=\"\",\"\",G57*E$35)","v":""},null,{"$f":"SUMIFS(P!O$4:O$103,P!$C$4:$C$103,'RN 02'!$R$5)","v":19},null,1.4000000000000004,null,{"$f":"IF(I57=\"\",\"\",IF((I57-M57)<0,0,I57-M57))","v":""},null,null,null,0,null,{"$f":"IF(S57=0,0,S57)","v":0}]
[]
[null,null,null,null,null,null,null,null,null,null,null,null,null,null,null,null,null,null,{"$f":"SUM(S35:S57)","v":0},null,{"$f":"IF(S59=0,0,S59)","v":0}]
[]
[null,null,null,null,{"$f":"IF('RN 02'!H7>0,'RN 02'!H7,\"\")","v":""}]
[null,null,null,null,"Kj",null,"Eto (mm)",null,"Etj (mm)",null,"P (mm)",null,"Pe (mm)",null,"N (mm)",null,null,null,"Nf (mm)"]
[null,null,null,"ENE",{"$f":"'RN 02'!H19","v":""},null,{"$f":"SUMIFS(ETo!D$2:D$54,ETo!$C$2:$C$54,'RN 02'!$D$5)","v":0},null,{"$f":"IF(E$63=\"\",\"\",G63*E$63)","v":""},null,{"$f":"SUMIFS(P!D$4:D$103,P!$C$4:$C$103,'RN 02'!$R$5)","v":19},null,{"$f":"IF(K63<75,(0.6*K63-10),(0.8*K63-25))","v":1.4000000000000004},null,{"$f":"IF(I63=\"\",\"\",IF((I63-M63)<0,0,I63-M63))","v":""},null,{"$f":"VLOOKUP('RN 02'!H$21,$Z$11:$AA$19,2,FALSE)","v":{"$error":"#N/A"}},null,{"$f":"IF(O63=\"\",0,O63/$Q$63)","v":0},null,{"$f":"IF(S63=0,0,S63)","v":0}]
[]
[null,null,null,"FEB",null,null,{"$f":"SUMIFS(ETo!E$2:E$54,ETo!$C$2:$C$54,'RN 02'!$D$5)","v":0},null,{"$f":"IF(E$63=\"\",\"\",G65*E$63)","v":""},null,{"$f":"SUMIFS(P!E$4:E$103,P!$C$4:$C$103,'RN 02'!$R$5)","v":15},null,{"$f":"IF(K65<75,0.6*K65-10,0.8*K65-25)","v":-1},null,{"$f":"IF(I65=\"\",\"\",IF((I65-M65)<0,0,I65-M65))","v":""},null,null,null,{"$f":"IF(O65=\"\",0,O65/$Q$63)","v":0},null,{"$f":"IF(S65=0,0,S65)","v":0}]
[]
[null,null,null,"MAR",null,null,{"$f":"SUMIFS(ETo!F$2:F$54,ETo!$C$2:$C$54,'RN 02'!$D$5)","v":0},null,{"$f":"IF(E$63=\"\",\"\",G67*E$63)","v":""},null,{"$f":"SUMIFS(P!F$4:F$103,P!$C$4:$C$103,'RN 02'!$R$5)","v":21},null,2.5999999999999996,null,{"$f":"IF(I67=\"\",\"\",IF((I67-M67)<0,0,I67-M67))","v":""},null,null,null,0,null,{"$f":"IF(S67=0,0,S67)","v":0},null,null,null,null,"Riego localizado subterráneo",0.95]
[]
[null,null,null,"ABR",null,null,{"$f":"SUMIFS(ETo!G$2:G$54,ETo!$C$2:$C$54,'RN 02'!$D$5)","v":0},null,{"$f":"IF(E$63=\"\",\"\",G69*E$63)","v":""},null,{"$f":"SUMIFS(P!G$4:G$103,P!$C$4:$C$103,'RN 02'!$R$5)","v":39},null,13.399999999999999,null,{"$f":"IF(I69=\"\",\"\",IF((I69-M69)<0,0,I69-M69))","v":""},null,null,null,0,null,{"$f":"IF(S69=0,0,S69)","v":0},null,null,null,null,"Riego localizado en superficie",0.9]
[]
[null,null,null,"MAY",null,null,{"$f":"SUMIFS(ETo!H$2:H$54,ETo!$C$2:$C$54,'RN 02'!$D$5)","v":0},null,{"$f":"IF(E$63=\"\",\"\",G71*E$63)","v":""},null,{"$f":"SUMIFS(P!H$4:H$103,P!$C$4:$C$103,'RN 02'!$R$5)","v":57},null,24.199999999999996,null,{"$f":"IF(I71=\"\",\"\",IF((I71-M71)<0,0,I71-M71))","v":""},null,null,null,0,null,{"$f":"IF(S71=0,0,S71)","v":0},null,null,null,null,"Difusores y microaspersores",0.8]
[]
[null,null,null,"JUN",null,null,{"$f":"SUMIFS(ETo!I$2:I$54,ETo!$C$2:$C$54,'RN 02'!$D$5)","v":0},null,{"$f":"IF(E$63=\"\",\"\",G73*E$63)","v":""},null,{"$f":"SUMIFS(P!I$4:I$103,P!$C$4:$C$103,'RN 02'!$R$5)","v":46},null,17.599999999999998,null,{"$f":"IF(I73=\"\",\"\",IF((I73-M73)<0,0,I73-M73))","v":""},null,null,null,0,null,{"$f":"IF(S73=0,0,S73)","v":0},null,null,null,null,"Aspersores",0.75]
[]
[null,null,null,"JUL",null,null,{"$f":"SUMIFS(ETo!J$2:J$54,ETo!$C$2:$C$54,'RN 02'!$D$5)","v":0},null,{"$f":"IF(E$63=\"\",\"\",G75*E$63)","v":""},null,{"$f":"SUMIFS(P!J$4:J$103,P!$C$4:$C$103,'RN 02'!$R$5)","v":26},null,5.6,null,{"$f":"IF(I75=\"\",\"\",IF((I75-M75)<0,0,I75-M75))","v":""},null,null,null,0,null,{"$f":"IF(S75=0,0,S75)","v":0},null,null,null,null,"Superficie",0.55000000000000004]
[]
[null,null,null,"AGO",null,null,{"$f":"SUMIFS(ETo!K$2:K$54,ETo!$C$2:$C$54,'RN 02'!$D$5)","v":0},null,{"$f":"IF(E$63=\"\",\"\",G77*E$63)","v":""},null,{"$f":"SUMIFS(P!K$4:K$103,P!$C$4:$C$103,'RN 02'!$R$5)","v":34},null,10.399999999999999,null,{"$f":"IF(I77=\"\",\"\",IF((I77-M77)<0,0,I77-M77))","v":""},null,null,null,0,null,{"$f":"IF(S77=0,0,S77)","v":0}]
[]
[null,null,null,"SEP",null,null,{"$f":"SUMIFS(ETo!L$2:L$54,ETo!$C$2:$C$54,'RN 02'!$D$5)","v":0},null,{"$f":"IF(E$63=\"\",\"\",G79*E$63)","v":""},null,{"$f":"SUMIFS(P!L$4:L$103,P!$C$4:$C$103,'RN 02'!$R$5)","v":36},null,11.599999999999998,null,{"$f":"IF(I79=\"\",\"\",IF((I79-M79)<0,0,I79-M79))","v":""},null,null,null,0,null,{"$f":"IF(S79=0,0,S79)","v":0}]
[]
[null,null,null,"OCT",null,null,{"$f":"SUMIFS(ETo!M$2:M$54,ETo!$C$2:$C$54,'RN 02'!$D$5)","v":0},null,{"$f":"IF(E$63=\"\",\"\",G81*E$63)","v":""},null,{"$f":"SUMIFS(P!M$4:M$103,P!$C$4:$C$103,'RN 02'!$R$5)","v":47},null,18.2,null,{"$f":"IF(I81=\"\",\"\",IF((I81-M81)<0,0,I81-M81))","v":""},null,null,null,0,null,{"$f":"IF(S81=0,0,S81)","v":0}]
[]
[null,null,null,"NOV",null,null,{"$f":"SUMIFS(ETo!N$2:N$54,ETo!$C$2:$C$54,'RN 02'!$D$5)","v":0},null,{"$f":"IF(E$63=\"\",\"\",G83*E$63)","v":""},null,{"$f":"SUMIFS(P!N$4:N$103,P!$C$4:$C$103,'RN 02'!$R$5)","v":22},null,3.1999999999999993,null,{"$f":"IF(I83=\"\",\"\",IF((I83-M83)<0,0,I83-M83))","v":""},null,null,null,0,null,{"$f":"IF(S83=0,0,S83)","v":0}]
[]
[null,null,null,"DIC",null,null,{"$f":"SUMIFS(ETo!O$2:O$54,ETo!$C$2:$C$54,'RN 02'!$D$5)","v":0},null,{"$f":"IF(E$63=\"\",\"\",G85*E$63)","v":""},null,{"$f":"SUMIFS(P!O$4:O$103,P!$C$4:$C$103,'RN 02'!$R$5)","v":19},null,1.4000000000000004,null,{"$f":"IF(I85=\"\",\"\",IF((I85-M85)<0,0,I85-M85))","v":""},null,null,null,0,null,{"$f":"IF(S85=0,0,S85)","v":0}]
[]
[null,null,null,null,null,null,null,null,null,null,null,null,null,null,null,null,null,null,{"$f":"SUM(S63:S85)","v":0},null,{"$f":"IF(S87=0,0,S87)","v":0}]
[]
[null,null,null,null,{"$f":"IF('RN 02'!J7>0,'RN 02'!J7,\"\")","v":""}]
[null,null,null,null,"Kj",null,"Eto (mm)",null,"Etj (mm)",null,"P (mm)",null,"Pe (mm)",null,"N (mm)",null,null,null,"Nf (mm)"]
[null,null,null,"ENE",{"$f":"'RN 02'!J19","v":""},null,{"$f":"SUMIFS(ETo!D$2:D$54,ETo!$C$2:$C$54,'RN 02'!$D$5)","v":0},null,{"$f":"IF(E$91=\"\",\"\",G91*E$91)","v":""},null,{"$f":"SUMIFS(P!D$4:D$103,P!$C$4:$C$103,'RN 02'!$R$5)","v":19},null,{"$f":"IF(K91<75,(0.6*K91-10),(0.8*K91-25))","v":1.4000000000000004},null,{"$f":"IF(I91=\"\",\"\",IF((I91-M91)<0,0,I91-M91))","v":""},null,{"$f":"VLOOKUP('RN 02'!J$21,$Z$11:$AA$19,2,FALSE)","v":{"$error":"#N/A"}},null,{"$f":"IF(O91=\"\",0,O91/$Q$91)","v":0},null,{"$f":"IF(S91=0,0,S91)","v":0}]
[]
[null,null,null,"FEB",null,null,{"$f":"SUMIFS(ETo!E$2:E$54,ETo!$C$2:$C$54,'RN 02'!$D$5)","v":0},null,{"$f":"IF(E$91=\"\",\"\",G93*E$91)","v":""},null,{"$f":"SUMIFS(P!E$4:E$103,P!$C$4:$C$103,'RN 02'!$R$5)","v":15},null,{"$f":"IF(K93<75,0.6*K93-10,0.8*K93-25)","v":-1},null,{"$f":"IF(I93=\"\",\"\",IF((I93-M93)<0,0,I93-M93))","v":""},null,null,null,{"$f":"IF(O93=\"\",0,O93/$Q$91)","v":0},null,{"$f":"IF(S93=0,0,S93)","v":0}]
[]
[null,null,null,"MAR",null,null,{"$f":"SUMIFS(ETo!F$2:F$54,ETo!$C$2:$C$54,'RN 02'!$D$5)","v":0},null,{"$f":"IF(E$91=\"\",\"\",G95*E$91)","v":""},null,{"$f":"SUMIFS(P!F$4:F$103,P!$C$4:$C$103,'RN 02'!$R$5)","v":21},null,2.5999999999999996,null,{"$f":"IF(I95=\"\",\"\",IF((I95-M95)<0,0,I95-M95))","v":""},null,null,null,0,null,{"$f":"IF(S95=0,0,S95)","v":0},null,null,null,null,"Riego localizado subterráneo",0.95]
[]
[null,null,null,"ABR",null,null,{"$f":"SUMIFS(ETo!G$2:G$54,ETo!$C$2:$C$54,'RN 02'!$D$5)","v":0},null,{"$f":"IF(E$91=\"\",\"\",G97*E$91)","v":""},null,{"$f":"SUMIFS(P!G$4:G$103,P!$C$4:$C$103,'RN 02'!$R$5)","v":39},null,13.399999999999999,null,{"$f":"IF(I97=\"\",\"\",IF((I97-M97)<0,0,I97-M97))","v":""},null,null,null,0,null,{"$f":"IF(S97=0,0,S97)","v":0},null,null,null,null,"Riego localizado en superficie",0.9]
[]
[null,null,null,"MAY",null,null,{"$f":"SUMIFS(ETo!H$2:H$54,ETo!$C$2:$C$54,'RN 02'!$D$5)","v":0},null,{"$f":"IF(E$91=\"\",\"\",G99*E$91)","v":""},null,{"$f":"SUMIFS(P!H$4:H$103,P!$C$4:$C$103,'RN 02'!$R$5)","v":57},null,24.199999999999996,null,{"$f":"IF(I99=\"\",\"\",IF((I99-M99)<0,0,I99-M99))","v":""},null,null,null,0,null,{"$f":"IF(S99=0,0,S99)","v":0},null,null,null,null,"Difusores y microaspersores",0.8]
[]
[null,null,null,"JUN",null,null,{"$f":"SUMIFS(ETo!I$2:I$54,ETo!$C$2:$C$54,'RN 02'!$D$5)","v":0},null,{"$f":"IF(E$91=\"\",\"\",G101*E$91)","v":""},null,{"$f":"SUMIFS(P!I$4:I$103,P!$C$4:$C$103,'RN 02'!$R$5)","v":46},null,17.599999999999998,null,{"$f":"IF(I101=\"\",\"\",IF((I101-M101)<0,0,I101-M101))","v":""},null,null,null,0,null,{"$f":"IF(S101=0,0,S101)","v":0},null,null,null,null,"Aspersores",0.75]
[]
[null,null,null,"JUL",null,null,{"$f":"SUMIFS(ETo!J$2:J$54,ETo!$C$2:$C$54,'RN 02'!$D$5)","v":0},null,{"$f":"IF(E$91=\"\",\"\",G103*E$91)","v":""},null,{"$f":"SUMIFS(P!J$4:J$103,P!$C$4:$C$103,'RN 02'!$R$5)","v":26},null,5.6,null,{"$f":"IF(I103=\"\",\"\",IF((I103-M103)<0,0,I103-M103))","v":""},null,null,null,0,null,{"$f":"IF(S103=0,0,S103)","v":0},null,null,null,null,"Superficie",0.55000000000000004]
[]
[null,null,null,"AGO",null,null,{"$f":"SUMIFS(ETo!K$2:K$54,ETo!$C$2:$C$54,'RN 02'!$D$5)","v":0},null,{"$f":"IF(E$91=\"\",\"\",G105*E$91)","v":""},null,{"$f":"SUMIFS(P!K$4:K$103,P!$C$4:$C$103,'RN 02'!$R$5)","v":34},null,10.399999999999999,null,{"$f":"IF(I105=\"\",\"\",IF((I105-M105)<0,0,I105-M105))","v":""},null,null,null,0,null,{"$f":"IF(S105=0,0,S105)","v":0}]
[]
[null,null,null,"SEP",null,null,{"$f":"SUMIFS(ETo!L$2:L$54,ETo!$C$2:$C$54,'RN 02'!$D$5)","v":0},null,{"$f":"IF(E$91=\"\",\"\",G107*E$91)","v":""},null,{"$f":"SUMIFS(P!L$4:L$103,P!$C$4:$C$103,'RN 02'!$R$5)","v":36},null,11.599999999999998,null,{"$f":"IF(I107=\"\",\"\",IF((I107-M107)<0,0,I107-M107))","v":""},null,null,null,0,null,{"$f":"IF(S107=0,0,S107)","v":0}]
[]
[null,null,null,"OCT",null,null,{"$f":"SUMIFS(ETo!M$2:M$54,ETo!$C$2:$C$54,'RN 02'!$D$5)","v":0},null,{"$f":"IF(E$91=\"\",\"\",G109*E$91)","v":""},null,{"$f":"SUMIFS(P!M$4:M$103,P!$C$4:$C$103,'RN 02'!$R$5)","v":47},null,18.2,null,{"$f":"IF(I109=\"\",\"\",IF((I109-M109)<0,0,I109-M109))","v":""},null,null,null,0,null,{"$f":"IF(S109=0,0,S109)","v":0}]
[]
[null,null,null,"NOV",null,null,{"$f":"SUMIFS(ETo!N$2:N$54,ETo!$C$2:$C$54,'RN 02'!$D$5)","v":0},null,{"$f":"IF(E$91=\"\",\"\",G111*E$91)","v":""},null,{"$f":"SUMIFS(P!N$4:N$103,P!$C$4:$C$103,'RN 02'!$R$5)","v":22},null,3.1999999999999993,null,{"$f":"IF(I111=\"\",\"\",IF((I111-M111)<0,0,I111-M111))","v":""},null,null,null,0,null,{"$f":"IF(S111=0,0,S111)","v":0}]
[]
[null,null,null,"DIC",null,null,{"$f":"SUMIFS(ETo!O$2:O$54,ETo!$C$2:$C$54,'RN 02'!$D$5)","v":0},null,{"$f":"IF(E$91=\"\",\"\",G113*E$91)","v":""},null,{"$f":"SUMIFS(P!O$4:O$103,P!$C$4:$C$103,'RN 02'!$R$5)","v":19},null,1.4000000000000004,null,{"$f":"IF(I113=\"\",\"\",IF((I113-M113)<0,0,I113-M113))","v":""},null,null,null,0,null,{"$f":"IF(S113=0,0,S113)","v":0}]
[]
[null,null,null,null,null,null,null,null,null,null,null,null,null,null,null,null,null,null,{"$f":"SUM(S91:S113)","v":0},null,{"$f":"IF(S115=0,0,S115)","v":0}]
[]
[null,null,null,null,{"$f":"IF('RN 02'!L7>0,'RN 02'!L7,\"\")","v":""}]
[null,null,null,null,"Kj",null,"Eto (mm)",null,"Etj (mm)",null,"P (mm)",null,"Pe (mm)",null,"N (mm)",null,null,null,"Nf (mm)"]
[null,null,null,"ENE",{"$f":"'RN 02'!L19","v":""},null,{"$f":"SUMIFS(ETo!D$2:D$54,ETo!$C$2:$C$54,'RN 02'!$D$5)","v":0},null,{"$f":"IF(E$119=\"\",\"\",G119*E$119)","v":""},null,{"$f":"SUMIFS(P!D$4:D$103,P!$C$4:$C$103,'RN 02'!$R$5)","v":19},null,{"$f":"IF(K119<75,0.6*K119-10,0.8*K119-25)","v":1.4000000000000004},null,{"$f":"IF(I119=\"\",\"\",IF((I119-M119)<0,0,I119-M119))","v":""},null,{"$f":"VLOOKUP('RN 02'!L$21,$Z$11:$AA$19,2,FALSE)","v":{"$error":"#N/A"}},null,{"$f":"IF(O119=\"\",0,O119/$Q$119)","v":0},null,{"$f":"IF(S119=0,0,S119)","v":0}]
[]
[null,null,null,"FEB",null,null,{"$f":"SUMIFS(ETo!E$2:E$54,ETo!$C$2:$C$54,'RN 02'!$D$5)","v":0},null,{"$f":"IF(E$119=\"\",\"\",G121*E$119)","v":""},null,{"$f":"SUMIFS(P!E$4:E$103,P!$C$4:$C$103,'RN 02'!$R$5)","v":15},null,-1,null,{"$f":"IF(I121=\"\",\"\",IF((I121-M121)<0,0,I121-M121))","v":""},null,null,null,{"$f":"IF(O121=\"\",0,O121/$Q$119)","v":0},null,{"$f":"IF(S121=0,0,S121)","v":0}]
[]
[null,null,null,"MAR",null,null,{"$f":"SUMIFS(ETo!F$2:F$54,ETo!$C$2:$C$54,'RN 02'!$D$5)","v":0},null,{"$f":"IF(E$119=\"\",\"\",G123*E$119)","v":""},null,{"$f":"SUMIFS(P!F$4:F$103,P!$C$4:$C$103,'RN 02'!$R$5)","v":21},null,2.5999999999999996,null,{"$f":"IF(I123=\"\",\"\",IF((I123-M123)<0,0,I123-M123))","v":""},null,null,null,0,null,{"$f":"IF(S123=0,0,S123)","v":0},null,null,null,null,"Riego localizado subterráneo",0.95]
[]
[null,null,null,"ABR",null,null,{"$f":"SUMIFS(ETo!G$2:G$54,ETo!$C$2:$C$54,'RN 02'!$D$5)","v":0},null,{"$f":"IF(E$119=\"\",\"\",G125*E$119)","v":""},null,{"$f":"SUMIFS(P!G$4:G$103,P!$C$4:$C$103,'RN 02'!$R$5)","v":39},null,13.399999999999999,null,{"$f":"IF(I125=\"\",\"\",IF((I125-M125)<0,0,I125-M125))","v":""},null,null,null,0,null,{"$f":"IF(S125=0,0,S125)","v":0},null,null,null,null,"Riego localizado en superficie",0.9]
[]
[null,null,null,"MAY",null,null,{"$f":"SUMIFS(ETo!H$2:H$54,ETo!$C$2:$C$54,'RN 02'!$D$5)","v":0},null,{"$f":"IF(E$119=\"\",\"\",G127*E$119)","v":""},null,{"$f":"SUMIFS(P!H$4:H$103,P!$C$4:$C$103,'RN 02'!$R$5)","v":57},null,24.199999999999996,null,{"$f":"IF(I127=\"\",\"\",IF((I127-M127)<0,0,I127-M127))","v":""},null,null,null,0,null,{"$f":"IF(S127=0,0,S127)","v":0},null,null,null,null,"Difusores y microaspersores",0.8]
[]
[null,null,null,"JUN",null,null,{"$f":"SUMIFS(ETo!I$2:I$54,ETo!$C$2:$C$54,'RN 02'!$D$5)","v":0},null,{"$f":"IF(E$119=\"\",\"\",G129*E$119)","v":""},null,{"$f":"SUMIFS(P!I$4:I$103,P!$C$4:$C$103,'RN 02'!$R$5)","v":46},null,17.599999999999998,null,{"$f":"IF(I129=\"\",\"\",IF((I129-M129)<0,0,I129-M129))","v":""},null,null,null,0,null,{"$f":"IF(S129=0,0,S129)","v":0},null,null,null,null,"Aspersores",0.75]
[]
[null,null,null,"JUL",null,null,{"$f":"SUMIFS(ETo!J$2:J$54,ETo!$C$2:$C$54,'RN 02'!$D$5)","v":0},null,{"$f":"IF(E$119=\"\",\"\",G131*E$119)","v":""},null,{"$f":"SUMIFS(P!J$4:J$103,P!$C$4:$C$103,'RN 02'!$R$5)","v":26},null,5.6,null,{"$f":"IF(I131=\"\",\"\",IF((I131-M131)<0,0,I131-M131))","v":""},null,null,null,0,null,{"$f":"IF(S131=0,0,S131)","v":0},null,null,null,null,"Superficie",0.55000000000000004]
[]
[null,null,null,"AGO",null,null,{"$f":"SUMIFS(ETo!K$2:K$54,ETo!$C$2:$C$54,'RN 02'!$D$5)","v":0},null,{"$f":"IF(E$119=\"\",\"\",G133*E$119)","v":""},null,{"$f":"SUMIFS(P!K$4:K$103,P!$C$4:$C$103,'RN 02'!$R$5)","v":34},null,10.399999999999999,null,{"$f":"IF(I133=\"\",\"\",IF((I133-M133)<0,0,I133-M133))","v":""},null,null,null,0,null,{"$f":"IF(S133=0,0,S133)","v":0}]
[]
[null,null,null,"SEP",null,null,{"$f":"SUMIFS(ETo!L$2:L$54,ETo!$C$2:$C$54,'RN 02'!$D$5)","v":0},null,{"$f":"IF(E$119=\"\",\"\",G135*E$119)","v":""},null,{"$f":"SUMIFS(P!L$4:L$103,P!$C$4:$C$103,'RN 02'!$R$5)","v":36},null,11.599999999999998,null,{"$f":"IF(I135=\"\",\"\",IF((I135-M135)<0,0,I135-M135))","v":""},null,null,null,0,null,{"$f":"IF(S135=0,0,S135)","v":0}]
[]
[null,null,null,"OCT",null,null,{"$f":"SUMIFS(ETo!M$2:M$54,ETo!$C$2:$C$54,'RN 02'!$D$5)","v":0},null,{"$f":"IF(E$119=\"\",\"\",G137*E$119)","v":""},null,{"$f":"SUMIFS(P!M$4:M$103,P!$C$4:$C$103,'RN 02'!$R$5)","v":47},null,18.2,null,{"$f":"IF(I137=\"\",\"\",IF((I137-M137)<0,0,I137-M137))","v":""},null,null,null,0,null,{"$f":"IF(S137=0,0,S137)","v":0}]
[]
[null,null,null,"NOV",null,null,{"$f":"SUMIFS(ETo!N$2:N$54,ETo!$C$2:$C$54,'RN 02'!$D$5)","v":0},null,{"$f":"IF(E$119=\"\",\"\",G139*E$119)","v":""},null,{"$f":"SUMIFS(P!N$4:N$103,P!$C$4:$C$103,'RN 02'!$R$5)","v":22},null,3.1999999999999993,null,{"$f":"IF(I139=\"\",\"\",IF((I139-M139)<0,0,I139-M139))","v":""},null,null,null,0,null,{"$f":"IF(S139=0,0,S139)","v":0}]
[]
[null,null,null,"DIC",null,null,{"$f":"SUMIFS(ETo!O$2:O$54,ETo!$C$2:$C$54,'RN 02'!$D$5)","v":0},null,{"$f":"IF(E$119=\"\",\"\",G141*E$119)","v":""},null,{"$f":"SUMIFS(P!O$4:O$103,P!$C$4:$C$103,'RN 02'!$R$5)","v":19},null,{"$f":"IF(K141<75,0.6*K141-10,0.8*K141-25)","v":1.4000000000000004},null,{"$f":"IF(I141=\"\",\"\",IF((I141-M141)<0,0,I141-M141))","v":""},null,null,null,0,null,{"$f":"IF(S141=0,0,S141)","v":0}]
[]
[null,null,null,null,null,null,null,null,null,null,null,null,null,null,null,null,null,null,{"$f":"SUM(S119:S141)","v":0},null,{"$f":"IF(S143=0,0,S143)","v":0}]
[]
[null,null,null,null,{"$f":"IF('RN 02'!N7>0,'RN 02'!N7,\"\")","v":""}]
[null,null,null,null,"Kj",null,"Eto (mm)",null,"Etj (mm)",null,"P (mm)",null,"Pe (mm)",null,"N (mm)",null,null,null,"Nf (mm)"]
[null,null,null,"ENE",{"$f":"'RN 02'!N19","v":""},null,{"$f":"SUMIFS(ETo!D$2:D$54,ETo!$C$2:$C$54,'RN 02'!$D$5)","v":0},null,{"$f":"IF(E$147=\"\",\"\",G147*E$147)","v":""},null,{"$f":"SUMIFS(P!D$4:D$103,P!$C$4:$C$103,'RN 02'!$R$5)","v":19},null,{"$f":"IF(K147<75,(0.6*K147-10),(0.8*K147-25))","v":1.4000000000000004},null,{"$f":"IF(I147=\"\",\"\",IF((I147-M147)<0,0,I147-M147))","v":""},null,{"$f":"VLOOKUP('RN 02'!N$21,$Z$11:$AA$19,2,FALSE)","v":{"$error":"#N/A"}},null,{"$f":"IF(O147=\"\",0,O147/$Q$147)","v":0},null,{"$f":"IF(S147=0,0,S147)","v":0}]
[]
[null,null,null,"FEB",null,null,{"$f":"SUMIFS(ETo!E$2:E$54,ETo!$C$2:$C$54,'RN 02'!$D$5)","v":0},null,{"$f":"IF(E$147=\"\",\"\",G149*E$147)","v":""},null,{"$f":"SUMIFS(P!E$4:E$103,P!$C$4:$C$103,'RN 02'!$R$5)","v":15},null,{"$f":"IF(K149<75,0.6*K149-10,0.8*K149-25)","v":-1},null,{"$f":"IF(I149=\"\",\"\",IF((I149-M149)<0,0,I149-M149))","v":""},null,null,null,{"$f":"IF(O149=\"\",0,O149/$Q$147)","v":0},null,{"$f":"IF(S149=0,0,S149)","v":0}]
[]
[null,null,null,"MAR",null,null,{"$f":"SUMIFS(ETo!F$2:F$54,ETo!$C$2:$C$54,'RN 02'!$D$5)","v":0},null,{"$f":"IF(E$147=\"\",\"\",G151*E$147)","v":""},null,{"$f":"SUMIFS(P!F$4:F$103,P!$C$4:$C$103,'RN 02'!$R$5)","v":21},null,2.5999999999999996,null,{"$f":"IF(I151=\"\",\"\",IF((I151-M151)<0,0,I151-M151))","v":""},null,null,null,0,null,{"$f":"IF(S151=0,0,S151)","v":0},null,null,null,null,"Riego localizado subterráneo",0.95]
[]
[null,null,null,"ABR",null,null,{"$f":"SUMIFS(ETo!G$2:G$54,ETo!$C$2:$C$54,'RN 02'!$D$5)","v":0},null,{"$f":"IF(E$147=\"\",\"\",G153*E$147)","v":""},null,{"$f":"SUMIFS(P!G$4:G$103,P!$C$4:$C$103,'RN 02'!$R$5)","v":39},null,13.399999999999999,null,{"$f":"IF(I153=\"\",\"\",IF((I153-M153)<0,0,I153-M153))","v":""},null,null,null,0,null,{"$f":"IF(S153=0,0,S153)","v":0},null,null,null,null,"Riego localizado en superficie",0.9]
[]
[null,null,null,"MAY",null,null,{"$f":"SUMIFS(ETo!H$2:H$54,ETo!$C$2:$C$54,'RN 02'!$D$5)","v":0},null,{"$f":"IF(E$147=\"\",\"\",G155*E$147)","v":""},null,{"$f":"SUMIFS(P!H$4:H$103,P!$C$4:$C$103,'RN 02'!$R$5)","v":57},null,24.199999999999996,null,{"$f":"IF(I155=\"\",\"\",IF((I155-M155)<0,0,I155-M155))","v":""},null,null,null,0,null,{"$f":"IF(S155=0,0,S155)","v":0},null,null,null,null,"Difusores y microaspersores",0.8]
[]
[null,null,null,"JUN",null,null,{"$f":"SUMIFS(ETo!I$2:I$54,ETo!$C$2:$C$54,'RN 02'!$D$5)","v":0},null,{"$f":"IF(E$147=\"\",\"\",G157*E$147)","v":""},null,{"$f":"SUMIFS(P!I$4:I$103,P!$C$4:$C$103,'RN 02'!$R$5)","v":46},null,17.599999999999998,null,{"$f":"IF(I157=\"\",\"\",IF((I157-M157)<0,0,I157-M157))","v":""},null,null,null,0,null,{"$f":"IF(S157=0,0,S157)","v":0},null,null,null,null,"Aspersores",0.75]
[]
[null,null,null,"JUL",null,null,{"$f":"SUMIFS(ETo!J$2:J$54,ETo!$C$2:$C$54,'RN 02'!$D$5)","v":0},null,{"$f":"IF(E$147=\"\",\"\",G159*E$147)","v":""},null,{"$f":"SUMIFS(P!J$4:J$103,P!$C$4:$C$103,'RN 02'!$R$5)","v":26},null,5.6,null,{"$f":"IF(I159=\"\",\"\",IF((I159-M159)<0,0,I159-M159))","v":""},null,null,null,0,null,{"$f":"IF(S159=0,0,S159)","v":0},null,null,null,null,"Superficie",0.55000000000000004]
[]
[null,null,null,"AGO",null,null,{"$f":"SUMIFS(ETo!K$2:K$54,ETo!$C$2:$C$54,'RN 02'!$D$5)","v":0},null,{"$f":"IF(E$147=\"\",\"\",G161*E$147)","v":""},null,{"$f":"SUMIFS(P!K$4:K$103,P!$C$4:$C$103,'RN 02'!$R$5)","v":34},null,10.399999999999999,null,{"$f":"IF(I161=\"\",\"\",IF((I161-M161)<0,0,I161-M161))","v":""},null,null,null,0,null,{"$f":"IF(S161=0,0,S161)","v":0}]
[]
[null,null,null,"SEP",null,null,{"$f":"SUMIFS(ETo!L$2:L$54,ETo!$C$2:$C$54,'RN 02'!$D$5)","v":0},null,{"$f":"IF(E$147=\"\",\"\",G163*E$147)","v":""},null,{"$f":"SUMIFS(P!L$4:L$103,P!$C$4:$C$103,'RN 02'!$R$5)","v":36},null,11.599999999999998,null,{"$f":"IF(I163=\"\",\"\",IF((I163-M163)<0,0,I163-M163))","v":""},null,null,null,0,null,{"$f":"IF(S163=0,0,S163)","v":0}]
[]
[null,null,null,"OCT",null,null,{"$f":"SUMIFS(ETo!M$2:M$54,ETo!$C$2:$C$54,'RN 02'!$D$5)","v":0},null,{"$f":"IF(E$147=\"\",\"\",G165*E$147)","v":""},null,{"$f":"SUMIFS(P!M$4:M$103,P!$C$4:$C$103,'RN 02'!$R$5)","v":47},null,18.2,null,{"$f":"IF(I165=\"\",\"\",IF((I165-M165)<0,0,I165-M165))","v":""},null,null,null,0,null,{"$f":"IF(S165=0,0,S165)","v":0}]
[]
[null,null,null,"NOV",null,null,{"$f":"SUMIFS(ETo!N$2:N$54,ETo!$C$2:$C$54,'RN 02'!$D$5)","v":0},null,{"$f":"IF(E$147=\"\",\"\",G167*E$147)","v":""},null,{"$f":"SUMIFS(P!N$4:N$103,P!$C$4:$C$103,'RN 02'!$R$5)","v":22},null,3.1999999999999993,null,{"$f":"IF(I167=\"\",\"\",IF((I167-M167)<0,0,I167-M167))","v":""},null,null,null,0,null,{"$f":"IF(S167=0,0,S167)","v":0}]
[]
[null,null,null,"DIC",null,null,{"$f":"SUMIFS(ETo!O$2:O$54,ETo!$C$2:$C$54,'RN 02'!$D$5)","v":0},null,{"$f":"IF(E$147=\"\",\"\",G169*E$147)","v":""},null,{"$f":"SUMIFS(P!O$4:O$103,P!$C$4:$C$103,'RN 02'!$R$5)","v":19},null,1.4000000000000004,null,{"$f":"IF(I169=\"\",\"\",IF((I169-M169)<0,0,I169-M169))","v":""},null,null,null,0,null,{"$f":"IF(S169=0,0,S169)","v":0}]
[]
[null,null,null,null,null,null,null,null,null,null,null,null,null,null,null,null,null,null,{"$f":"SUM(S147:S169)","v":0},null,{"$f":"IF(S171=0,0,S171)","v":0}]
[]
[null,null,null,null,{"$f":"IF('RN 02'!P7>0,'RN 02'!P7,\"\")","v":""}]
[null,null,null,null,"Kj",null,"Eto (mm)",null,"Etj (mm)",null,"P (mm)",null,"Pe (mm)",null,"N (mm)",null,null,null,"Nf (mm)"]
[null,null,null,"ENE",{"$f":"'RN 02'!P19","v":""},null,{"$f":"SUMIFS(ETo!D$2:D$54,ETo!$C$2:$C$54,'RN 02'!$D$5)","v":0},null,{"$f":"IF(E$175=\"\",\"\",G175*E$175)","v":""},null,{"$f":"SUMIFS(P!D$4:D$103,P!$C$4:$C$103,'RN 02'!$R$5)","v":19},null,{"$f":"IF(K175<75,(0.6*K175-10),(0.8*K175-25))","v":1.4000000000000004},null,{"$f":"IF(I175=\"\",\"\",IF((I175-M175)<0,0,I175-M175))","v":""},null,{"$f":"VLOOKUP('RN 02'!P$21,$Z$11:$AA$19,2,FALSE)","v":{"$error":"#N/A"}},null,{"$f":"IF(O175=\"\",0,O175/$Q$175)","v":0},null,{"$f":"IF(S175=0,0,S175)","v":0}]
[]
[null,null,null,"FEB",null,null,{"$f":"SUMIFS(ETo!E$2:E$54,ETo!$C$2:$C$54,'RN 02'!$D$5)","v":0},null,{"$f":"IF(E$175=\"\",\"\",G177*E$175)","v":""},null,{"$f":"SUMIFS(P!E$4:E$103,P!$C$4:$C$103,'RN 02'!$R$5)","v":15},null,{"$f":"IF(K177<75,0.6*K177-10,0.8*K177-25)","v":-1},null,{"$f":"IF(I177=\"\",\"\",IF((I177-M177)<0,0,I177-M177))","v":""},null,null,null,{"$f":"IF(O177=\"\",0,O177/$Q$175)","v":0},null,{"$f":"IF(S177=0,0,S177)","v":0}]
[]
[null,null,null,"MAR",null,null,{"$f":"SUMIFS(ETo!F$2:F$54,ETo!$C$2:$C$54,'RN 02'!$D$5)","v":0},null,{"$f":"IF(E$175=\"\",\"\",G179*E$175)","v":""},null,{"$f":"SUMIFS(P!F$4:F$103,P!$C$4:$C$103,'RN 02'!$R$5)","v":21},null,2.5999999999999996,null,{"$f":"IF(I179=\"\",\"\",IF((I179-M179)<0,0,I179-M179))","v":""},null,null,null,0,null,{"$f":"IF(S179=0,0,S179)","v":0},null,null,null,null,"Riego localizado subterráneo",0.95]
[]
[null,null,null,"ABR",null,null,{"$f":"SUMIFS(ETo!G$2:G$54,ETo!$C$2:$C$54,'RN 02'!$D$5)","v":0},null,{"$f":"IF(E$175=\"\",\"\",G181*E$175)","v":""},null,{"$f":"SUMIFS(P!G$4:G$103,P!$C$4:$C$103,'RN 02'!$R$5)","v":39},null,13.399999999999999,null,{"$f":"IF(I181=\"\",\"\",IF((I181-M181)<0,0,I181-M181))","v":""},null,null,null,0,null,{"$f":"IF(S181=0,0,S181)","v":0},null,null,null,null,"Riego localizado en superficie",0.9]
[]
[null,null,null,"MAY",null,null,{"$f":"SUMIFS(ETo!H$2:H$54,ETo!$C$2:$C$54,'RN 02'!$D$5)","v":0},null,{"$f":"IF(E$175=\"\",\"\",G183*E$175)","v":""},null,{"$f":"SUMIFS(P!H$4:H$103,P!$C$4:$C$103,'RN 02'!$R$5)","v":57},null,24.199999999999996,null,{"$f":"IF(I183=\"\",\"\",IF((I183-M183)<0,0,I183-M183))","v":""},null,null,null,0,null,{"$f":"IF(S183=0,0,S183)","v":0},null,null,null,null,"Difusores y microaspersores",0.8]
[]
[null,null,null,"JUN",null,null,{"$f":"SUMIFS(ETo!I$2:I$54,ETo!$C$2:$C$54,'RN 02'!$D$5)","v":0},null,{"$f":"IF(E$175=\"\",\"\",G185*E$175)","v":""},null,{"$f":"SUMIFS(P!I$4:I$103,P!$C$4:$C$103,'RN 02'!$R$5)","v":46},null,17.599999999999998,null,{"$f":"IF(I185=\"\",\"\",IF((I185-M185)<0,0,I185-M185))","v":""},null,null,null,0,null,{"$f":"IF(S185=0,0,S185)","v":0},null,null,null,null,"Aspersores",0.75]
[]
[null,null,null,"JUL",null,null,{"$f":"SUMIFS(ETo!J$2:J$54,ETo!$C$2:$C$54,'RN 02'!$D$5)","v":0},null,{"$f":"IF(E$175=\"\",\"\",G187*E$175)","v":""},null,{"$f":"SUMIFS(P!J$4:J$103,P!$C$4:$C$103,'RN 02'!$R$5)","v":26},null,5.6,null,{"$f":"IF(I187=\"\",\"\",IF((I187-M187)<0,0,I187-M187))","v":""},null,null,null,0,null,{"$f":"IF(S187=0,0,S187)","v":0},null,null,null,null,"Superficie",0.55000000000000004]
[]
[null,null,null,"AGO",null,null,{"$f":"SUMIFS(ETo!K$2:K$54,ETo!$C$2:$C$54,'RN 02'!$D$5)","v":0},null,{"$f":"IF(E$175=\"\",\"\",G189*E$175)","v":""},null,{"$f":"SUMIFS(P!K$4:K$103,P!$C$4:$C$103,'RN 02'!$R$5)","v":34},null,10.399999999999999,null,{"$f":"IF(I189=\"\",\"\",IF((I189-M189)<0,0,I189-M189))","v":""},null,null,null,0,null,{"$f":"IF(S189=0,0,S189)","v":0}]
[]
[null,null,null,"SEP",null,null,{"$f":"SUMIFS(ETo!L$2:L$54,ETo!$C$2:$C$54,'RN 02'!$D$5)","v":0},null,{"$f":"IF(E$175=\"\",\"\",G191*E$175)","v":""},null,{"$f":"SUMIFS(P!L$4:L$103,P!$C$4:$C$103,'RN 02'!$R$5)","v":36},null,11.599999999999998,null,{"$f":"IF(I191=\"\",\"\",IF((I191-M191)<0,0,I191-M191))","v":""},null,null,null,0,null,{"$f":"IF(S191=0,0,S191)","v":0}]
[]
[null,null,null,"OCT",null,null,{"$f":"SUMIFS(ETo!M$2:M$54,ETo!$C$2:$C$54,'RN 02'!$D$5)","v":0},null,{"$f":"IF(E$175=\"\",\"\",G193*E$175)","v":""},null,{"$f":"SUMIFS(P!M$4:M$103,P!$C$4:$C$103,'RN 02'!$R$5)","v":47},null,18.2,null,{"$f":"IF(I193=\"\",\"\",IF((I193-M193)<0,0,I193-M193))","v":""},null,null,null,0,null,{"$f":"IF(S193=0,0,S193)","v":0}]
[]
[null,null,null,"NOV",null,null,{"$f":"SUMIFS(ETo!N$2:N$54,ETo!$C$2:$C$54,'RN 02'!$D$5)","v":0},null,{"$f":"IF(E$175=\"\",\"\",G195*E$175)","v":""},null,{"$f":"SUMIFS(P!N$4:N$103,P!$C$4:$C$103,'RN 02'!$R$5)","v":22},null,3.1999999999999993,null,{"$f":"IF(I195=\"\",\"\",IF((I195-M195)<0,0,I195-M195))","v":""},null,null,null,0,null,{"$f":"IF(S195=0,0,S195)","v":0}]
[]
[null,null,null,"DIC",null,null,{"$f":"SUMIFS(ETo!O$2:O$54,ETo!$C$2:$C$54,'RN 02'!$D$5)","v":0},null,{"$f":"IF(E$175=\"\",\"\",G197*E$175)","v":""},null,{"$f":"SUMIFS(P!O$4:O$103,P!$C$4:$C$103,'RN 02'!$R$5)","v":19},null,1.4000000000000004,null,{"$f":"IF(I197=\"\",\"\",IF((I197-M197)<0,0,I197-M197))","v":""},null,null,null,0,null,{"$f":"IF(S197=0,0,S197)","v":0}]
[]
[null,null,null,null,null,null,null,null,null,null,null,null,null,null,null,null,null,null,{"$f":"SUM(S175:S197)","v":0},null,{"$f":"IF(S199=0,0,S199)","v":0}]
[]
[null,null,null,null,{"$f":"IF('RN 02'!R7>0,'RN 02'!R7,\"\")","v":""}]
[null,null,null,null,"Kj",null,"Eto (mm)",null,"Etj (mm)",null,"P (mm)",null,"Pe (mm)",null,"N (mm)",null,null,null,"Nf (mm)"]
[null,null,null,"ENE",{"$f":"'RN 02'!R19","v":""},null,{"$f":"SUMIFS(ETo!D$2:D$54,ETo!$C$2:$C$54,'RN 02'!$D$5)","v":0},null,{"$f":"IF(E$203=\"\",\"\",G203*E$203)","v":""},null,{"$f":"SUMIFS(P!D$4:D$103,P!$C$4:$C$103,'RN 02'!$R$5)","v":19},null,{"$f":"IF(K203<75,(0.6*K203-10),(0.8*K203-25))","v":1.4000000000000004},null,{"$f":"IF(I203=\"\",\"\",IF((I203-M203)<0,0,I203-M203))","v":""},null,{"$f":"VLOOKUP('RN 02'!R$21,$Z$11:$AA$19,2,FALSE)","v":{"$error":"#N/A"}},null,{"$f":"IF(O203=\"\",0,O203/$Q$203)","v":0},null,{"$f":"IF(S203=0,0,S203)","v":0}]
[]
[null,null,null,"FEB",null,null,{"$f":"SUMIFS(ETo!E$2:E$54,ETo!$C$2:$C$54,'RN 02'!$D$5)","v":0},null,{"$f":"IF(E$203=\"\",\"\",G205*E$203)","v":""},null,{"$f":"SUMIFS(P!E$4:E$103,P!$C$4:$C$103,'RN 02'!$R$5)","v":15},null,{"$f":"IF(K205<75,0.6*K205-10,0.8*K205-25)","v":-1},null,{"$f":"IF(I205=\"\",\"\",IF((I205-M205)<0,0,I205-M205))","v":""},null,null,null,{"$f":"IF(O205=\"\",0,O205/$Q$203)","v":0},null,{"$f":"IF(S205=0,0,S205)","v":0}]
[]
[null,null,null,"MAR",null,null,{"$f":"SUMIFS(ETo!F$2:F$54,ETo!$C$2:$C$54,'RN 02'!$D$5)","v":0},null,{"$f":"IF(E$203=\"\",\"\",G207*E$203)","v":""},null,{"$f":"SUMIFS(P!F$4:F$103,P!$C$4:$C$103,'RN 02'!$R$5)","v":21},null,2.5999999999999996,null,{"$f":"IF(I207=\"\",\"\",IF((I207-M207)<0,0,I207-M207))","v":""},null,null,null,0,null,{"$f":"IF(S207=0,0,S207)","v":0},null,null,null,null,"Riego localizado subterráneo",0.95]
[]
[null,null,null,"ABR",null,null,{"$f":"SUMIFS(ETo!G$2:G$54,ETo!$C$2:$C$54,'RN 02'!$D$5)","v":0},null,{"$f":"IF(E$203=\"\",\"\",G209*E$203)","v":""},null,{"$f":"SUMIFS(P!G$4:G$103,P!$C$4:$C$103,'RN 02'!$R$5)","v":39},null,13.399999999999999,null,{"$f":"IF(I209=\"\",\"\",IF((I209-M209)<0,0,I209-M209))","v":""},null,null,null,0,null,{"$f":"IF(S209=0,0,S209)","v":0},null,null,null,null,"Riego localizado en superficie",0.9]
[]
[null,null,null,"MAY",null,null,{"$f":"SUMIFS(ETo!H$2:H$54,ETo!$C$2:$C$54,'RN 02'!$D$5)","v":0},null,{"$f":"IF(E$203=\"\",\"\",G211*E$203)","v":""},null,{"$f":"SUMIFS(P!H$4:H$103,P!$C$4:$C$103,'RN 02'!$R$5)","v":57},null,24.199999999999996,null,{"$f":"IF(I211=\"\",\"\",IF((I211-M211)<0,0,I211-M211))","v":""},null,null,null,0,null,{"$f":"IF(S211=0,0,S211)","v":0},null,null,null,null,"Difusores y microaspersores",0.8]
[]
[null,null,null,"JUN",null,null,{"$f":"SUMIFS(ETo!I$2:I$54,ETo!$C$2:$C$54,'RN 02'!$D$5)","v":0},null,{"$f":"IF(E$203=\"\",\"\",G213*E$203)","v":""},null,{"$f":"SUMIFS(P!I$4:I$103,P!$C$4:$C$103,'RN 02'!$R$5)","v":46},null,17.599999999999998,null,{"$f":"IF(I213=\"\",\"\",IF((I213-M213)<0,0,I213-M213))","v":""},null,null,null,0,null,{"$f":"IF(S213=0,0,S213)","v":0},null,null,null,null,"Aspersores",0.75]
[]
[null,null,null,"JUL",null,null,{"$f":"SUMIFS(ETo!J$2:J$54,ETo!$C$2:$C$54,'RN 02'!$D$5)","v":0},null,{"$f":"IF(E$203=\"\",\"\",G215*E$203)","v":""},null,{"$f":"SUMIFS(P!J$4:J$103,P!$C$4:$C$103,'RN 02'!$R$5)","v":26},null,5.6,null,{"$f":"IF(I215=\"\",\"\",IF((I215-M215)<0,0,I215-M215))","v":""},null,null,null,0,null,{"$f":"IF(S215=0,0,S215)","v":0},null,null,null,null,"Superficie",0.55000000000000004]
[]
[null,null,null,"AGO",null,null,{"$f":"SUMIFS(ETo!K$2:K$54,ETo!$C$2:$C$54,'RN 02'!$D$5)","v":0},null,{"$f":"IF(E$203=\"\",\"\",G217*E$203)","v":""},null,{"$f":"SUMIFS(P!K$4:K$103,P!$C$4:$C$103,'RN 02'!$R$5)","v":34},null,10.399999999999999,null,{"$f":"IF(I217=\"\",\"\",IF((I217-M217)<0,0,I217-M217))","v":""},null,null,null,0,null,{"$f":"IF(S217=0,0,S217)","v":0}]
[]
[null,null,null,"SEP",null,null,{"$f":"SUMIFS(ETo!L$2:L$54,ETo!$C$2:$C$54,'RN 02'!$D$5)","v":0},null,{"$f":"IF(E$203=\"\",\"\",G219*E$203)","v":""},null,{"$f":"SUMIFS(P!L$4:L$103,P!$C$4:$C$103,'RN 02'!$R$5)","v":36},null,11.599999999999998,null,{"$f":"IF(I219=\"\",\"\",IF((I219-M219)<0,0,I219-M219))","v":""},null,null,null,0,null,{"$f":"IF(S219=0,0,S219)","v":0}]
[]
[null,null,null,"OCT",null,null,{"$f":"SUMIFS(ETo!M$2:M$54,ETo!$C$2:$C$54,'RN 02'!$D$5)","v":0},null,{"$f":"IF(E$203=\"\",\"\",G221*E$203)","v":""},null,{"$f":"SUMIFS(P!M$4:M$103,P!$C$4:$C$103,'RN 02'!$R$5)","v":47},null,18.2,null,{"$f":"IF(I221=\"\",\"\",IF((I221-M221)<0,0,I221-M221))","v":""},null,null,null,0,null,{"$f":"IF(S221=0,0,S221)","v":0}]
[]
[null,null,null,"NOV",null,null,{"$f":"SUMIFS(ETo!N$2:N$54,ETo!$C$2:$C$54,'RN 02'!$D$5)","v":0},null,{"$f":"IF(E$203=\"\",\"\",G223*E$203)","v":""},null,{"$f":"SUMIFS(P!N$4:N$103,P!$C$4:$C$103,'RN 02'!$R$5)","v":22},null,3.1999999999999993,null,{"$f":"IF(I223=\"\",\"\",IF((I223-M223)<0,0,I223-M223))","v":""},null,null,null,0,null,{"$f":"IF(S223=0,0,S223)","v":0}]
[]
[null,null,null,"DIC",null,null,{"$f":"SUMIFS(ETo!O$2:O$54,ETo!$C$2:$C$54,'RN 02'!$D$5)","v":0},null,{"$f":"IF(E$203=\"\",\"\",G225*E$203)","v":""},null,{"$f":"SUMIFS(P!O$4:O$103,P!$C$4:$C$103,'RN 02'!$R$5)","v":19},null,1.4000000000000004,null,{"$f":"IF(I225=\"\",\"\",IF((I225-M225)<0,0,I225-M225))","v":""},null,null,null,0,null,{"$f":"IF(S225=0,0,S225)","v":0}]
[]
[null,null,null,null,null,null,null,null,null,null,null,null,null,null,null,null,null,null,{"$f":"SUM(S203:S225)","v":0},null,{"$f":"IF(S227=0,0,S227)","v":0}]
[]
[null,null,null,null,{"$f":"IF('RN 02'!T7>0,'RN 02'!T7,\"\")","v":""}]
[null,null,null,null,"Kj",null,"Eto (mm)",null,"Etj (mm)",null,"P (mm)",null,"Pe (mm)",null,"N (mm)",null,null,null,"Nf (mm)"]
[null,null,null,"ENE",{"$f":"'RN 02'!T19","v":""},null,{"$f":"SUMIFS(ETo!D$2:D$54,ETo!$C$2:$C$54,'RN 02'!$D$5)","v":0},null,{"$f":"IF(E$231=\"\",\"\",G231*E$231)","v":""},null,{"$f":"SUMIFS(P!D$4:D$103,P!$C$4:$C$103,'RN 02'!$R$5)","v":19},null,{"$f":"IF(K231<75,(0.6*K231-10),(0.8*K231-25))","v":1.4000000000000004},null,{"$f":"IF(I231=\"\",\"\",IF((I231-M231)<0,0,I231-M231))","v":""},null,{"$f":"VLOOKUP('RN 02'!T$21,$Z$11:$AA$19,2,FALSE)","v":{"$error":"#N/A"}},null,{"$f":"IF(O231=\"\",0,O231/$Q$231)","v":0},null,{"$f":"IF(S231=0,0,S231)","v":0}]
[]
[null,null,null,"FEB",null,null,{"$f":"SUMIFS(ETo!E$2:E$54,ETo!$C$2:$C$54,'RN 02'!$D$5)","v":0},null,{"$f":"IF(E$231=\"\",\"\",G233*E$231)","v":""},null,{"$f":"SUMIFS(P!E$4:E$103,P!$C$4:$C$103,'RN 02'!$R$5)","v":15},null,{"$f":"IF(K233<75,0.6*K233-10,0.8*K233-25)","v":-1},null,{"$f":"IF(I233=\"\",\"\",IF((I233-M233)<0,0,I233-M233))","v":""},null,null,null,{"$f":"IF(O233=\"\",0,O233/$Q$231)","v":0},null,{"$f":"IF(S233=0,0,S233)","v":0}]
[]
[null,null,null,"MAR",null,null,{"$f":"SUMIFS(ETo!F$2:F$54,ETo!$C$2:$C$54,'RN 02'!$D$5)","v":0},null,{"$f":"IF(E$231=\"\",\"\",G235*E$231)","v":""},null,{"$f":"SUMIFS(P!F$4:F$103,P!$C$4:$C$103,'RN 02'!$R$5)","v":21},null,2.5999999999999996,null,{"$f":"IF(I235=\"\",\"\",IF((I235-M235)<0,0,I235-M235))","v":""},null,null,null,0,null,{"$f":"IF(S235=0,0,S235)","v":0},null,null,null,null,"Riego localizado subterráneo",0.95]
[]
[null,null,null,"ABR",null,null,{"$f":"SUMIFS(ETo!G$2:G$54,ETo!$C$2:$C$54,'RN 02'!$D$5)","v":0},null,{"$f":"IF(E$231=\"\",\"\",G237*E$231)","v":""},null,{"$f":"SUMIFS(P!G$4:G$103,P!$C$4:$C$103,'RN 02'!$R$5)","v":39},null,13.399999999999999,null,{"$f":"IF(I237=\"\",\"\",IF((I237-M237)<0,0,I237-M237))","v":""},null,null,null,0,null,{"$f":"IF(S237=0,0,S237)","v":0},null,null,null,null,"Riego localizado en superficie",0.9]
[]
[null,null,null,"MAY",null,null,{"$f":"SUMIFS(ETo!H$2:H$54,ETo!$C$2:$C$54,'RN 02'!$D$5)","v":0},null,{"$f":"IF(E$231=\"\",\"\",G239*E$231)","v":""},null,{"$f":"SUMIFS(P!H$4:H$103,P!$C$4:$C$103,'RN 02'!$R$5)","v":57},null,24.199999999999996,null,{"$f":"IF(I239=\"\",\"\",IF((I239-M239)<0,0,I239-M239))","v":""},null,null,null,0,null,{"$f":"IF(S239=0,0,S239)","v":0},null,null,null,null,"Difusores y microaspersores",0.8]
[]
[null,null,null,"JUN",null,null,{"$f":"SUMIFS(ETo!I$2:I$54,ETo!$C$2:$C$54,'RN 02'!$D$5)","v":0},null,{"$f":"IF(E$231=\"\",\"\",G241*E$231)","v":""},null,{"$f":"SUMIFS(P!I$4:I$103,P!$C$4:$C$103,'RN 02'!$R$5)","v":46},null,17.599999999999998,null,{"$f":"IF(I241=\"\",\"\",IF((I241-M241)<0,0,I241-M241))","v":""},null,null,null,0,null,{"$f":"IF(S241=0,0,S241)","v":0},null,null,null,null,"Aspersores",0.75]
[]
[null,null,null,"JUL",null,null,{"$f":"SUMIFS(ETo!J$2:J$54,ETo!$C$2:$C$54,'RN 02'!$D$5)","v":0},null,{"$f":"IF(E$231=\"\",\"\",G243*E$231)","v":""},null,{"$f":"SUMIFS(P!J$4:J$103,P!$C$4:$C$103,'RN 02'!$R$5)","v":26},null,5.6,null,{"$f":"IF(I243=\"\",\"\",IF((I243-M243)<0,0,I243-M243))","v":""},null,null,null,0,null,{"$f":"IF(S243=0,0,S243)","v":0},null,null,null,null,"Superficie",0.55000000000000004]
[]
[null,null,null,"AGO",null,null,{"$f":"SUMIFS(ETo!K$2:K$54,ETo!$C$2:$C$54,'RN 02'!$D$5)","v":0},null,{"$f":"IF(E$231=\"\",\"\",G245*E$231)","v":""},null,{"$f":"SUMIFS(P!K$4:K$103,P!$C$4:$C$103,'RN 02'!$R$5)","v":34},null,10.399999999999999,null,{"$f":"IF(I245=\"\",\"\",IF((I245-M245)<0,0,I245-M245))","v":""},null,null,null,0,null,{"$f":"IF(S245=0,0,S245)","v":0}]
[]
[null,null,null,"SEP",null,null,{"$f":"SUMIFS(ETo!L$2:L$54,ETo!$C$2:$C$54,'RN 02'!$D$5)","v":0},null,{"$f":"IF(E$231=\"\",\"\",G247*E$231)","v":""},null,{"$f":"SUMIFS(P!L$4:L$103,P!$C$4:$C$103,'RN 02'!$R$5)","v":36},null,11.599999999999998,null,{"$f":"IF(I247=\"\",\"\",IF((I247-M247)<0,0,I247-M247))","v":""},null,null,null,0,null,{"$f":"IF(S247=0,0,S247)","v":0}]
[]
[null,null,null,"OCT",null,null,{"$f":"SUMIFS(ETo!M$2:M$54,ETo!$C$2:$C$54,'RN 02'!$D$5)","v":0},null,{"$f":"IF(E$231=\"\",\"\",G249*E$231)","v":""},null,{"$f":"SUMIFS(P!M$4:M$103,P!$C$4:$C$103,'RN 02'!$R$5)","v":47},null,18.2,null,{"$f":"IF(I249=\"\",\"\",IF((I249-M249)<0,0,I249-M249))","v":""},null,null,null,0,null,{"$f":"IF(S249=0,0,S249)","v":0}]
[]
[null,null,null,"NOV",null,null,{"$f":"SUMIFS(ETo!N$2:N$54,ETo!$C$2:$C$54,'RN 02'!$D$5)","v":0},null,{"$f":"IF(E$231=\"\",\"\",G251*E$231)","v":""},null,{"$f":"SUMIFS(P!N$4:N$103,P!$C$4:$C$103,'RN 02'!$R$5)","v":22},null,3.1999999999999993,null,{"$f":"IF(I251=\"\",\"\",IF((I251-M251)<0,0,I251-M251))","v":""},null,null,null,0,null,{"$f":"IF(S251=0,0,S251)","v":0}]
[]
[null,null,null,"DIC",null,null,{"$f":"SUMIFS(ETo!O$2:O$54,ETo!$C$2:$C$54,'RN 02'!$D$5)","v":0},null,{"$f":"IF(E$231=\"\",\"\",G253*E$231)","v":""},null,{"$f":"SUMIFS(P!O$4:O$103,P!$C$4:$C$103,'RN 02'!$R$5)","v":19},null,1.4000000000000004,null,{"$f":"IF(I253=\"\",\"\",IF((I253-M253)<0,0,I253-M253))","v":""},null,null,null,0,null,{"$f":"IF(S253=0,0,S253)","v":0}]
[]
[null,null,null,null,null,null,null,null,null,null,null,null,null,null,null,null,null,null,{"$f":"SUM(S231:S253)","v":0},null,{"$f":"IF(S255=0,0,S255)","v":0}]
[]
[null,null,null,null,{"$f":"IF('RN 02'!V7>0,'RN 02'!V7,\"\")","v":""}]
[null,null,null,null,"Kj",null,"Eto (mm)",null,"Etj (mm)",null,"P (mm)",null,"Pe (mm)",null,"N (mm)",null,null,null,"Nf (mm)"]
[null,null,null,"ENE",{"$f":"'RN 02'!V19","v":""},null,{"$f":"SUMIFS(ETo!D$2:D$54,ETo!$C$2:$C$54,'RN 02'!$D$5)","v":0},null,{"$f":"IF(E$259=\"\",\"\",G259*E$259)","v":""},null,{"$f":"SUMIFS(P!D$4:D$103,P!$C$4:$C$103,'RN 02'!$R$5)","v":19},null,{"$f":"IF(K259<75,(0.6*K259-10),(0.8*K259-25))","v":1.4000000000000004},null,{"$f":"IF(I259=\"\",\"\",IF((I259-M259)<0,0,I259-M259))","v":""},null,{"$f":"VLOOKUP('RN 02'!V$21,$Z$11:$AA$19,2,FALSE)","v":{"$error":"#N/A"}},null,{"$f":"IF(O259=\"\",0,O259/$Q$259)","v":0},null,{"$f":"IF(S259=0,0,S259)","v":0}]
[]
[null,null,null,"FEB",null,null,{"$f":"SUMIFS(ETo!E$2:E$54,ETo!$C$2:$C$54,'RN 02'!$D$5)","v":0},null,{"$f":"IF(E$259=\"\",\"\",G261*E$259)","v":""},null,{"$f":"SUMIFS(P!E$4:E$103,P!$C$4:$C$103,'RN 02'!$R$5)","v":15},null,{"$f":"IF(K261<75,0.6*K261-10,0.8*K261-25)","v":-1},null,{"$f":"IF(I261=\"\",\"\",IF((I261-M261)<0,0,I261-M261))","v":""},null,null,null,{"$f":"IF(O261=\"\",0,O261/$Q$259)","v":0},null,{"$f":"IF(S261=0,0,S261)","v":0}]
[]
[null,null,null,"MAR",null,null,{"$f":"SUMIFS(ETo!F$2:F$54,ETo!$C$2:$C$54,'RN 02'!$D$5)","v":0},null,{"$f":"IF(E$259=\"\",\"\",G263*E$259)","v":""},null,{"$f":"SUMIFS(P!F$4:F$103,P!$C$4:$C$103,'RN 02'!$R$5)","v":21},null,2.5999999999999996,null,{"$f":"IF(I263=\"\",\"\",IF((I263-M263)<0,0,I263-M263))","v":""},null,null,null,0,null,{"$f":"IF(S263=0,0,S263)","v":0},null,null,null,null,"Riego localizado subterráneo",0.95]
[]
[null,null,null,"ABR",null,null,{"$f":"SUMIFS(ETo!G$2:G$54,ETo!$C$2:$C$54,'RN 02'!$D$5)","v":0},null,{"$f":"IF(E$259=\"\",\"\",G265*E$259)","v":""},null,{"$f":"SUMIFS(P!G$4:G$103,P!$C$4:$C$103,'RN 02'!$R$5)","v":39},null,13.399999999999999,null,{"$f":"IF(I265=\"\",\"\",IF((I265-M265)<0,0,I265-M265))","v":""},null,null,null,0,null,{"$f":"IF(S265=0,0,S265)","v":0},null,null,null,null,"Riego localizado en superficie",0.9]
[]
[null,null,null,"MAY",null,null,{"$f":"SUMIFS(ETo!H$2:H$54,ETo!$C$2:$C$54,'RN 02'!$D$5)","v":0},null,{"$f":"IF(E$259=\"\",\"\",G267*E$259)","v":""},null,{"$f":"SUMIFS(P!H$4:H$103,P!$C$4:$C$103,'RN 02'!$R$5)","v":57},null,24.199999999999996,null,{"$f":"IF(I267=\"\",\"\",IF((I267-M267)<0,0,I267-M267))","v":""},null,null,null,0,null,{"$f":"IF(S267=0,0,S267)","v":0},null,null,null,null,"Difusores y microaspersores",0.8]
[]
[null,null,null,"JUN",null,null,{"$f":"SUMIFS(ETo!I$2:I$54,ETo!$C$2:$C$54,'RN 02'!$D$5)","v":0},null,{"$f":"IF(E$259=\"\",\"\",G269*E$259)","v":""},null,{"$f":"SUMIFS(P!I$4:I$103,P!$C$4:$C$103,'RN 02'!$R$5)","v":46},null,17.599999999999998,null,{"$f":"IF(I269=\"\",\"\",IF((I269-M269)<0,0,I269-M269))","v":""},null,null,null,0,null,{"$f":"IF(S269=0,0,S269)","v":0},null,null,null,null,"Aspersores",0.75]
[]
[null,null,null,"JUL",null,null,{"$f":"SUMIFS(ETo!J$2:J$54,ETo!$C$2:$C$54,'RN 02'!$D$5)","v":0},null,{"$f":"IF(E$259=\"\",\"\",G271*E$259)","v":""},null,{"$f":"SUMIFS(P!J$4:J$103,P!$C$4:$C$103,'RN 02'!$R$5)","v":26},null,5.6,null,{"$f":"IF(I271=\"\",\"\",IF((I271-M271)<0,0,I271-M271))","v":""},null,null,null,0,null,{"$f":"IF(S271=0,0,S271)","v":0},null,null,null,null,"Superficie",0.55000000000000004]
[]
[null,null,null,"AGO",null,null,{"$f":"SUMIFS(ETo!K$2:K$54,ETo!$C$2:$C$54,'RN 02'!$D$5)","v":0},null,{"$f":"IF(E$259=\"\",\"\",G273*E$259)","v":""},null,{"$f":"SUMIFS(P!K$4:K$103,P!$C$4:$C$103,'RN 02'!$R$5)","v":34},null,10.399999999999999,null,{"$f":"IF(I273=\"\",\"\",IF((I273-M273)<0,0,I273-M273))","v":""},null,null,null,0,null,{"$f":"IF(S273=0,0,S273)","v":0}]
[]
[null,null,null,"SEP",null,null,{"$f":"SUMIFS(ETo!L$2:L$54,ETo!$C$2:$C$54,'RN 02'!$D$5)","v":0},null,{"$f":"IF(E$259=\"\",\"\",G275*E$259)","v":""},null,{"$f":"SUMIFS(P!L$4:L$103,P!$C$4:$C$103,'RN 02'!$R$5)","v":36},null,11.599999999999998,null,{"$f":"IF(I275=\"\",\"\",IF((I275-M275)<0,0,I275-M275))","v":""},null,null,null,0,null,{"$f":"IF(S275=0,0,S275)","v":0}]
[]
[null,null,null,"OCT",null,null,{"$f":"SUMIFS(ETo!M$2:M$54,ETo!$C$2:$C$54,'RN 02'!$D$5)","v":0},null,{"$f":"IF(E$259=\"\",\"\",G277*E$259)","v":""},null,{"$f":"SUMIFS(P!M$4:M$103,P!$C$4:$C$103,'RN 02'!$R$5)","v":47},null,18.2,null,{"$f":"IF(I277=\"\",\"\",IF((I277-M277)<0,0,I277-M277))","v":""},null,null,null,0,null,{"$f":"IF(S277=0,0,S277)","v":0}]
[]
[null,null,null,"NOV",null,null,{"$f":"SUMIFS(ETo!N$2:N$54,ETo!$C$2:$C$54,'RN 02'!$D$5)","v":0},null,{"$f":"IF(E$259=\"\",\"\",G279*E$259)","v":""},null,{"$f":"SUMIFS(P!N$4:N$103,P!$C$4:$C$103,'RN 02'!$R$5)","v":22},null,3.1999999999999993,null,{"$f":"IF(I279=\"\",\"\",IF((I279-M279)<0,0,I279-M279))","v":""},null,null,null,0,null,{"$f":"IF(S279=0,0,S279)","v":0}]
[]
[null,null,null,"DIC",null,null,{"$f":"SUMIFS(ETo!O$2:O$54,ETo!$C$2:$C$54,'RN 02'!$D$5)","v":0},null,{"$f":"IF(E$259=\"\",\"\",G281*E$259)","v":""},null,{"$f":"SUMIFS(P!O$4:O$103,P!$C$4:$C$103,'RN 02'!$R$5)","v":19},null,1.4000000000000004,null,{"$f":"IF(I281=\"\",\"\",IF((I281-M281)<0,0,I281-M281))","v":""},null,null,null,0,null,{"$f":"IF(S281=0,0,S281)","v":0}]
[]
[null,null,null,null,null,null,null,null,null,null,null,null,null,null,null,null,null,null,{"$f":"SUM(S259:S281)","v":0},null,{"$f":"IF(S283=0,0,S283)","v":0}]
[]
[null,null,null,null,{"$f":"IF('RN 02'!X7>0,'RN 02'!X7,\"\")","v":""}]
[null,null,null,null,"Kj",null,"Eto (mm)",null,"Etj (mm)",null,"P (mm)",null,"Pe (mm)",null,"N (mm)",null,null,null,"Nf (mm)"]
[null,null,null,"ENE",{"$f":"'RN 02'!X19","v":""},null,{"$f":"SUMIFS(ETo!D$2:D$54,ETo!$C$2:$C$54,'RN 02'!$D$5)","v":0},null,{"$f":"IF(E$287=\"\",\"\",G287*E$287)","v":""},null,{"$f":"SUMIFS(P!D$4:D$103,P!$C$4:$C$103,'RN 02'!$R$5)","v":19},null,{"$f":"IF(K287<75,(0.6*K287-10),(0.8*K287-25))","v":1.4000000000000004},null,{"$f":"IF(I287=\"\",\"\",IF((I287-M287)<0,0,I287-M287))","v":""},null,{"$f":"VLOOKUP('RN 02'!X$21,$Z$11:$AA$19,2,FALSE)","v":{"$error":"#N/A"}},null,{"$f":"IF(O287=\"\",0,O287/$Q$287)","v":0},null,{"$f":"IF(S287=0,0,S287)","v":0}]
[]
[null,null,null,"FEB",null,null,{"$f":"SUMIFS(ETo!E$2:E$54,ETo!$C$2:$C$54,'RN 02'!$D$5)","v":0},null,{"$f":"IF(E$287=\"\",\"\",G289*E$287)","v":""},null,{"$f":"SUMIFS(P!E$4:E$103,P!$C$4:$C$103,'RN 02'!$R$5)","v":15},null,{"$f":"IF(K289<75,0.6*K289-10,0.8*K289-25)","v":-1},null,{"$f":"IF(I289=\"\",\"\",IF((I289-M289)<0,0,I289-M289))","v":""},null,null,null,{"$f":"IF(O289=\"\",0,O289/$Q$287)","v":0},null,{"$f":"IF(S289=0,0,S289)","v":0}]
[]
[null,null,null,"MAR",null,null,{"$f":"SUMIFS(ETo!F$2:F$54,ETo!$C$2:$C$54,'RN 02'!$D$5)","v":0},null,{"$f":"IF(E$287=\"\",\"\",G291*E$287)","v":""},null,{"$f":"SUMIFS(P!F$4:F$103,P!$C$4:$C$103,'RN 02'!$R$5)","v":21},null,2.5999999999999996,null,{"$f":"IF(I291=\"\",\"\",IF((I291-M291)<0,0,I291-M291))","v":""},null,null,null,0,null,{"$f":"IF(S291=0,0,S291)","v":0},null,null,null,null,"Riego localizado subterráneo",0.95]
[]
[null,null,null,"ABR",null,null,{"$f":"SUMIFS(ETo!G$2:G$54,ETo!$C$2:$C$54,'RN 02'!$D$5)","v":0},null,{"$f":"IF(E$287=\"\",\"\",G293*E$287)","v":""},null,{"$f":"SUMIFS(P!G$4:G$103,P!$C$4:$C$103,'RN 02'!$R$5)","v":39},null,13.399999999999999,null,{"$f":"IF(I293=\"\",\"\",IF((I293-M293)<0,0,I293-M293))","v":""},null,null,null,0,null,{"$f":"IF(S293=0,0,S293)","v":0},null,null,null,null,"Riego localizado en superficie",0.9]
[]
[null,null,null,"MAY",null,null,{"$f":"SUMIFS(ETo!H$2:H$54,ETo!$C$2:$C$54,'RN 02'!$D$5)","v":0},null,{"$f":"IF(E$287=\"\",\"\",G295*E$287)","v":""},null,{"$f":"SUMIFS(P!H$4:H$103,P!$C$4:$C$103,'RN 02'!$R$5)","v":57},null,24.199999999999996,null,{"$f":"IF(I295=\"\",\"\",IF((I295-M295)<0,0,I295-M295))","v":""},null,null,null,0,null,{"$f":"IF(S295=0,0,S295)","v":0},null,null,null,null,"Difusores y microaspersores",0.8]
[]
[null,null,null,"JUN",null,null,{"$f":"SUMIFS(ETo!I$2:I$54,ETo!$C$2:$C$54,'RN 02'!$D$5)","v":0},null,{"$f":"IF(E$287=\"\",\"\",G297*E$287)","v":""},null,{"$f":"SUMIFS(P!I$4:I$103,P!$C$4:$C$103,'RN 02'!$R$5)","v":46},null,17.599999999999998,null,{"$f":"IF(I297=\"\",\"\",IF((I297-M297)<0,0,I297-M297))","v":""},null,null,null,0,null,{"$f":"IF(S297=0,0,S297)","v":0},null,null,null,null,"Aspersores",0.75]
[]
[null,null,null,"JUL",null,null,{"$f":"SUMIFS(ETo!J$2:J$54,ETo!$C$2:$C$54,'RN 02'!$D$5)","v":0},null,{"$f":"IF(E$287=\"\",\"\",G299*E$287)","v":""},null,{"$f":"SUMIFS(P!J$4:J$103,P!$C$4:$C$103,'RN 02'!$R$5)","v":26},null,5.6,null,{"$f":"IF(I299=\"\",\"\",IF((I299-M299)<0,0,I299-M299))","v":""},null,null,null,0,null,{"$f":"IF(S299=0,0,S299)","v":0},null,null,null,null,"Superficie",0.55000000000000004]
[]
[null,null,null,"AGO",null,null,{"$f":"SUMIFS(ETo!K$2:K$54,ETo!$C$2:$C$54,'RN 02'!$D$5)","v":0},null,{"$f":"IF(E$287=\"\",\"\",G301*E$287)","v":""},null,{"$f":"SUMIFS(P!K$4:K$103,P!$C$4:$C$103,'RN 02'!$R$5)","v":34},null,10.399999999999999,null,{"$f":"IF(I301=\"\",\"\",IF((I301-M301)<0,0,I301-M301))","v":""},null,null,null,0,null,{"$f":"IF(S301=0,0,S301)","v":0}]
[]
[null,null,null,"SEP",null,null,{"$f":"SUMIFS(ETo!L$2:L$54,ETo!$C$2:$C$54,'RN 02'!$D$5)","v":0},null,{"$f":"IF(E$287=\"\",\"\",G303*E$287)","v":""},null,{"$f":"SUMIFS(P!L$4:L$103,P!$C$4:$C$103,'RN 02'!$R$5)","v":36},null,11.599999999999998,null,{"$f":"IF(I303=\"\",\"\",IF((I303-M303)<0,0,I303-M303))","v":""},null,null,null,0,null,{"$f":"IF(S303=0,0,S303)","v":0}]
[]
[null,null,null,"OCT",null,null,{"$f":"SUMIFS(ETo!M$2:M$54,ETo!$C$2:$C$54,'RN 02'!$D$5)","v":0},null,{"$f":"IF(E$287=\"\",\"\",G305*E$287)","v":""},null,{"$f":"SUMIFS(P!M$4:M$103,P!$C$4:$C$103,'RN 02'!$R$5)","v":47},null,18.2,null,{"$f":"IF(I305=\"\",\"\",IF((I305-M305)<0,0,I305-M305))","v":""},null,null,null,0,null,{"$f":"IF(S305=0,0,S305)","v":0}]
[]
[null,null,null,"NOV",null,null,{"$f":"SUMIFS(ETo!N$2:N$54,ETo!$C$2:$C$54,'RN 02'!$D$5)","v":0},null,{"$f":"IF(E$287=\"\",\"\",G307*E$287)","v":""},null,{"$f":"SUMIFS(P!N$4:N$103,P!$C$4:$C$103,'RN 02'!$R$5)","v":22},null,3.1999999999999993,null,{"$f":"IF(I307=\"\",\"\",IF((I307-M307)<0,0,I307-M307))","v":""},null,null,null,0,null,{"$f":"IF(S307=0,0,S307)","v":0}]
[]
[null,null,null,"DIC",null,null,{"$f":"SUMIFS(ETo!O$2:O$54,ETo!$C$2:$C$54,'RN 02'!$D$5)","v":0},null,{"$f":"IF(E$287=\"\",\"\",G309*E$287)","v":""},null,{"$f":"SUMIFS(P!O$4:O$103,P!$C$4:$C$103,'RN 02'!$R$5)","v":19},null,1.4000000000000004,null,{"$f":"IF(I309=\"\",\"\",IF((I309-M309)<0,0,I309-M309))","v":""},null,null,null,0,null,{"$f":"IF(S309=0,0,S309)","v":0}]
[]
[null,null,null,null,null,null,null,null,null,null,null,null,null,null,null,null,null,null,{"$f":"SUM(S287:S309)","v":0},null,{"$f":"IF(S311=0,0,S311)","v":0}]
[]
[null,null,null,null,{"$f":"IF('RN 02'!Z7>0,'RN 02'!Z7,\"\")","v":""}]
[null,null,null,null,"Kj",null,"Eto (mm)",null,"Etj (mm)",null,"P (mm)",null,"Pe (mm)",null,"N (mm)",null,null,null,"Nf (mm)"]
[null,null,null,"ENE",{"$f":"'RN 02'!Z19","v":""},null,{"$f":"SUMIFS(ETo!D$2:D$54,ETo!$C$2:$C$54,'RN 02'!$D$5)","v":0},null,{"$f":"IF(E$315=\"\",\"\",G315*E$315)","v":""},null,{"$f":"SUMIFS(P!D$4:D$103,P!$C$4:$C$103,'RN 02'!$R$5)","v":19},null,{"$f":"IF(K315<75,(0.6*K315-10),(0.8*K315-25))","v":1.4000000000000004},null,{"$f":"IF(I315=\"\",\"\",IF((I315-M315)<0,0,I315-M315))","v":""},null,{"$f":"VLOOKUP('RN 02'!Z$21,$Z$11:$AA$19,2,FALSE)","v":{"$error":"#N/A"}},null,{"$f":"IF(O315=\"\",0,O315/$Q$315)","v":0},null,{"$f":"IF(S315=0,0,S315)","v":0}]
[]
[null,null,null,"FEB",null,null,{"$f":"SUMIFS(ETo!E$2:E$54,ETo!$C$2:$C$54,'RN 02'!$D$5)","v":0},null,{"$f":"IF(E$315=\"\",\"\",G317*E$315)","v":""},null,{"$f":"SUMIFS(P!E$4:E$103,P!$C$4:$C$103,'RN 02'!$R$5)","v":15},null,{"$f":"IF(K317<75,0.6*K317-10,0.8*K317-25)","v":-1},null,{"$f":"IF(I317=\"\",\"\",IF((I317-M317)<0,0,I317-M317))","v":""},null,null,null,{"$f":"IF(O317=\"\",0,O317/$Q$315)","v":0},null,{"$f":"IF(S317=0,0,S317)","v":0}]
[]
[null,null,null,"MAR",null,null,{"$f":"SUMIFS(ETo!F$2:F$54,ETo!$C$2:$C$54,'RN 02'!$D$5)","v":0},null,{"$f":"IF(E$315=\"\",\"\",G319*E$315)","v":""},null,{"$f":"SUMIFS(P!F$4:F$103,P!$C$4:$C$103,'RN 02'!$R$5)","v":21},null,2.5999999999999996,null,{"$f":"IF(I319=\"\",\"\",IF((I319-M319)<0,0,I319-M319))","v":""},null,null,null,0,null,{"$f":"IF(S319=0,0,S319)","v":0},null,null,null,null,"Riego localizado subterráneo",0.95]
[]
[null,null,null,"ABR",null,null,{"$f":"SUMIFS(ETo!G$2:G$54,ETo!$C$2:$C$54,'RN 02'!$D$5)","v":0},null,{"$f":"IF(E$315=\"\",\"\",G321*E$315)","v":""},null,{"$f":"SUMIFS(P!G$4:G$103,P!$C$4:$C$103,'RN 02'!$R$5)","v":39},null,13.399999999999999,null,{"$f":"IF(I321=\"\",\"\",IF((I321-M321)<0,0,I321-M321))","v":""},null,null,null,0,null,{"$f":"IF(S321=0,0,S321)","v":0},null,null,null,null,"Riego localizado en superficie",0.9]
[]
[null,null,null,"MAY",null,null,{"$f":"SUMIFS(ETo!H$2:H$54,ETo!$C$2:$C$54,'RN 02'!$D$5)","v":0},null,{"$f":"IF(E$315=\"\",\"\",G323*E$315)","v":""},null,{"$f":"SUMIFS(P!H$4:H$103,P!$C$4:$C$103,'RN 02'!$R$5)","v":57},null,24.199999999999996,null,{"$f":"IF(I323=\"\",\"\",IF((I323-M323)<0,0,I323-M323))","v":""},null,null,null,0,null,{"$f":"IF(S323=0,0,S323)","v":0},null,null,null,null,"Difusores y microaspersores",0.8]
[]
[null,null,null,"JUN",null,null,{"$f":"SUMIFS(ETo!I$2:I$54,ETo!$C$2:$C$54,'RN 02'!$D$5)","v":0},null,{"$f":"IF(E$315=\"\",\"\",G325*E$315)","v":""},null,{"$f":"SUMIFS(P!I$4:I$103,P!$C$4:$C$103,'RN 02'!$R$5)","v":46},null,17.599999999999998,null,{"$f":"IF(I325=\"\",\"\",IF((I325-M325)<0,0,I325-M325))","v":""},null,null,null,0,null,{"$f":"IF(S325=0,0,S325)","v":0},null,null,null,null,"Aspersores",0.75]
[]
[null,null,null,"JUL",null,null,{"$f":"SUMIFS(ETo!J$2:J$54,ETo!$C$2:$C$54,'RN 02'!$D$5)","v":0},null,{"$f":"IF(E$315=\"\",\"\",G327*E$315)","v":""},null,{"$f":"SUMIFS(P!J$4:J$103,P!$C$4:$C$103,'RN 02'!$R$5)","v":26},null,5.6,null,{"$f":"IF(I327=\"\",\"\",IF((I327-M327)<0,0,I327-M327))","v":""},null,null,null,0,null,{"$f":"IF(S327=0,0,S327)","v":0},null,null,null,null,"Superficie",0.55000000000000004]
[]
[null,null,null,"AGO",null,null,{"$f":"SUMIFS(ETo!K$2:K$54,ETo!$C$2:$C$54,'RN 02'!$D$5)","v":0},null,{"$f":"IF(E$315=\"\",\"\",G329*E$315)","v":""},null,{"$f":"SUMIFS(P!K$4:K$103,P!$C$4:$C$103,'RN 02'!$R$5)","v":34},null,10.399999999999999,null,{"$f":"IF(I329=\"\",\"\",IF((I329-M329)<0,0,I329-M329))","v":""},null,null,null,0,null,{"$f":"IF(S329=0,0,S329)","v":0}]
[]
[null,null,null,"SEP",null,null,{"$f":"SUMIFS(ETo!L$2:L$54,ETo!$C$2:$C$54,'RN 02'!$D$5)","v":0},null,{"$f":"IF(E$315=\"\",\"\",G331*E$315)","v":""},null,{"$f":"SUMIFS(P!L$4:L$103,P!$C$4:$C$103,'RN 02'!$R$5)","v":36},null,11.599999999999998,null,{"$f":"IF(I331=\"\",\"\",IF((I331-M331)<0,0,I331-M331))","v":""},null,null,null,0,null,0]
[]
[null,null,null,"OCT",null,null,{"$f":"SUMIFS(ETo!M$2:M$54,ETo!$C$2:$C$54,'RN 02'!$D$5)","v":0},null,{"$f":"IF(E$315=\"\",\"\",G333*E$315)","v":""},null,{"$f":"SUMIFS(P!M$4:M$103,P!$C$4:$C$103,'RN 02'!$R$5)","v":47},null,18.2,null,{"$f":"IF(I333=\"\",\"\",IF((I333-M333)<0,0,I333-M333))","v":""},null,null,null,0,null,0]
[]
[null,null,null,"NOV",null,null,{"$f":"SUMIFS(ETo!N$2:N$54,ETo!$C$2:$C$54,'RN 02'!$D$5)","v":0},null,{"$f":"IF(E$315=\"\",\"\",G335*E$315)","v":""},null,{"$f":"SUMIFS(P!N$4:N$103,P!$C$4:$C$103,'RN 02'!$R$5)","v":22},null,3.1999999999999993,null,{"$f":"IF(I335=\"\",\"\",IF((I335-M335)<0,0,I335-M335))","v":""},null,null,null,0,null,0]
[]
[null,null,null,"DIC",null,null,{"$f":"SUMIFS(ETo!O$2:O$54,ETo!$C$2:$C$54,'RN 02'!$D$5)","v":0},null,{"$f":"IF(E$315=\"\",\"\",G337*E$315)","v":""},null,{"$f":"SUMIFS(P!O$4:O$103,P!$C$4:$C$103,'RN 02'!$R$5)","v":19},null,1.4000000000000004,null,{"$f":"IF(I337=\"\",\"\",IF((I337-M337)<0,0,I337-M337))","v":""},null,null,null,0,null,0]
[]
[null,null,null,null,null,null,null,null,null,null,null,null,null,null,null,null,null,null,{"$f":"SUM(S315:S337)","v":0},null,0]

{"sheet":"RN 02","index":20,"n_rows":45,"n_cols":38,"rows_kept":45,"cut":false,"hidden":false,"merged":[[14,3,14,25],[1,2,1,26],[2,2,2,26],[4,3,4,11],[4,17,4,25],[3,13,4,15]]}
[]
[null,null,"Necesidades de riego en jardines"]
[null,null,"VERDE Edificios 2020 Usos distintos del Residencial Privado"]
[null,null,"Tipos de vegetación",null,null,null,null,null,null,null,null,null,null,"ESTACIÓN METEOROLÓGICA"]
[null,null,"CAPITAL DE PROVINCIA",{"$f":"DG!F14","v":0},null,null,null,null,null,null,null,null,null,null,null,null,null,"Teruel"]
[]
[null,null,"NOMBRE ESPECIE"]
[]
[null,null,"Tipo de vegetación"]
[]
[null,null,"Area (m2)"]
[]
[null,null,"Ks"]
[]
[null,null,"Entorno"]
[]
[null,null,"Km",{"$f":"IF(D9=\"\",\"\",VLOOKUP(D9,$AF37:$AI42,MATCH($D15,$AG37:$AI37,0)+1,0))","v":""},null,{"$f":"IF(F9=\"\",\"\",VLOOKUP(F9,$AF37:$AI42,MATCH($D15,$AG37:$AI37,0)+1,0))","v":""},null,{"$f":"IF(H9=\"\",\"\",VLOOKUP(H9,$AF37:$AI42,MATCH($D15,$AG37:$AI37,0)+1,0))","v":""},null,{"$f":"IF(J9=\"\",\"\",VLOOKUP(J9,$AF37:$AI42,MATCH($D15,$AG37:$AI37,0)+1,0))","v":""},null,{"$f":"IF(L9=\"\",\"\",VLOOKUP(L9,$AF37:$AI42,MATCH($D15,$AG37:$AI37,0)+1,0))","v":""},null,{"$f":"IF(N9=\"\",\"\",VLOOKUP(N9,$AF37:$AI42,MATCH($D15,$AG37:$AI37,0)+1,0))","v":""},null,{"$f":"IF(P9=\"\",\"\",VLOOKUP(P9,$AF37:$AI42,MATCH($D15,$AG37:$AI37,0)+1,0))","v":""},null,{"$f":"IF(R9=\"\",\"\",VLOOKUP(R9,$AF37:$AI42,MATCH($D15,$AG37:$AI37,0)+1,0))","v":""},null,{"$f":"IF(T9=\"\",\"\",VLOOKUP(T9,$AF37:$AI42,MATCH($D15,$AG37:$AI37,0)+1,0))","v":""},null,{"$f":"IF(V9=\"\",\"\",VLOOKUP(V9,$AF37:$AI42,MATCH($D15,$AG37:$AI37,0)+1,0))","v":""},null,{"$f":"IF(X9=\"\",\"\",VLOOKUP(X9,$AF37:$AI42,MATCH($D15,$AG37:$AI37,0)+1,0))","v":""},null,{"$f":"IF(Z9=\"\",\"\",VLOOKUP(Z9,$AF37:$AI42,MATCH($D15,$AG37:$AI37,0)+1,0))","v":""}]
[]
[null,null,"Kj",{"$f":"IF(D17=\"\",\"\",D13*D17)","v":""},null,{"$f":"IF(F17=\"\",\"\",F13*F17)","v":""},null,{"$f":"IF(H17=\"\",\"\",H13*H17)","v":""},null,{"$f":"IF(J17=\"\",\"\",J13*J17)","v":""},null,{"$f":"IF(L17=\"\",\"\",L13*L17)","v":""},null,{"$f":"IF(N17=\"\",\"\",N13*N17)","v":""},null,{"$f":"IF(P17=\"\",\"\",P13*P17)","v":""},null,{"$f":"IF(R17=\"\",\"\",R13*R17)","v":""},null,{"$f":"IF(T17=\"\",\"\",T13*T17)","v":""},null,{"$f":"IF(V17=\"\",\"\",V13*V17)","v":""},null,{"$f":"IF(X17=\"\",\"\",X13*X17)","v":""},null,{"$f":"IF(Z17=\"\",\"\",Z13*Z17)","v":""}]
[]
[null,null,"Tipo de riego"]
[]
[null,null,"Nf (l/m2 año)",{"$f":"IF(Nf!S31>0,Nf!$S$31,0)","v":0},null,{"$f":"IF(Nf!$S$59>0,Nf!$S$59,0)","v":0},null,{"$f":"IF(Nf!$S$87>0,Nf!$S$87,0)","v":0},null,{"$f":"IF(Nf!$S$115>0,Nf!$S$115,0)","v":0},null,{"$f":"IF(Nf!$S$143>0,Nf!$S$143,0)","v":0},null,{"$f":"IF(Nf!$S$171>0,Nf!$S$171,0)","v":0},null,{"$f":"IF(Nf!$S$199>0,Nf!$S$199,0)","v":0},null,{"$f":"IF(Nf!$S$227>0,Nf!$S$227,0)","v":0},null,{"$f":"IF(Nf!$S$255>0,Nf!$S$255,0)","v":0},null,{"$f":"IF(Nf!$S$283>0,Nf!$S$283,0)","v":0},null,{"$f":"IF(Nf!$S$311>0,Nf!$S$311,0)","v":0},null,{"$f":"IF(Nf!AO31>0,Nf!$S$31,0)","v":0}]
[]
[null,null,"Totales (l/año)",{"$f":"IF(D23>0,IF(D23>0,D11*D23,\"\"),\"\")","v":""},null,{"$f":"IF(F23>0,IF(F23>0,F11*F23,\"\"),\"\")","v":""},null,{"$f":"IF(H23>0,IF(H23>0,H11*H23,\"\"),\"\")","v":""},null,{"$f":"IF(J23>0,IF(J23>0,J11*J23,\"\"),\"\")","v":""},null,{"$f":"IF(L23>0,IF(L23>0,L11*L23,\"\"),\"\")","v":""},null,{"$f":"IF(N23>0,IF(N23>0,N11*N23,\"\"),\"\")","v":""},null,{"$f":"IF(P23>0,IF(P23>0,P11*P23,\"\"),\"\")","v":""},null,{"$f":"IF(R23>0,IF(R23>0,R11*R23,\"\"),\"\")","v":""},null,{"$f":"IF(T23>0,IF(T23>0,T11*T23,\"\"),\"\")","v":""},null,{"$f":"IF(V23>0,IF(V23>0,V11*V23,\"\"),\"\")","v":""},null,{"$f":"IF(X23>0,IF(X23>0,X11*X23,\"\"),\"\")","v":""},null,{"$f":"IF(Z23>0,IF(Z23>0,Z11*Z23,\"\"),\"\")","v":""}]
[]
[null,null,"Superficie de jardín (m2)",{"$f":"SUM(D11:Z11)","v":0}]
[]
[null,null,"Necesidades de riego anuales (l/m2 año)",null,null,{"$f":"IFERROR(SUM(D25:Z25)/D27,0)","v":0},null,null,null,null,null,null,null,null,null,"Necesidades de riego anuales REFERENCIA (l/m2 año)",null,{"$f":"IFERROR(JR!$B$3/D27,0)","v":0},null,null,null,null,null,"Porcentaje de ahorro",null,{"$f":"IFERROR(IF(R29=\"\",\"\",1-(F29/R29)),0)","v":0}]
[]
[null,null,null,null,null,null,null,null,null,null,null,null,null,null,null,null,null,null,null,null,null,null,null,null,null,null,null,null,null,null,null,"Zona urbana compacta"]
[null,null,null,null,null,null,null,null,null,null,null,null,null,null,null,null,null,null,null,null,null,null,null,null,null,null,null,null,null,null,null,"Zona urbana de baja densidad"]
[null,null,null,null,null,null,null,null,null,null,null,null,null,null,null,null,null,null,null,null,null,null,null,null,null,null,null,null,null,null,null,"Zona rural, campo abierto"]
[]
[]
[]
[null,null,null,null,null,null,null,null,null,null,null,null,null,null,null,null,null,null,null,null,null,null,null,null,null,null,null,null,null,null,null,"Columna1","Zona urbana compacta","Zona urbana de baja densidad","Zona rural, campo abierto"]
[null,null,null,null,null,null,null,null,null,null,null,null,null,null,null,null,null,null,null,null,null,null,null,null,null,null,null,null,null,null,null,"Arboles",1.4,1,0.5]
[null,null,null,null,null,null,null,null,null,null,null,null,null,null,null,null,null,null,null,null,null,null,null,null,null,null,null,null,null,null,null,"Arbustos",1.3,1,0.5]
[null,null,null,null,null,null,null,null,null,null,null,null,null,null,null,null,null,null,null,null,null,null,null,null,null,null,null,null,null,null,null,"Tapizantes",1.2,1,0.5]
[null,null,null,null,null,null,null,null,null,null,null,null,null,null,null,null,null,null,null,null,null,null,null,null,null,null,null,null,null,null,null,"Plantación mixta",1.4,1,0.5,null,"tipo de riego","Ea"]
[null,null,null,null,null,null,null,null,null,null,null,null,null,null,null,null,null,null,null,null,null,null,null,null,null,null,null,null,null,null,null,"Césped",1.2,1,0.8,null,"Riego localizado subterráneo",0.95]
[null,null,null,null,null,null,null,null,null,null,null,null,null,null,null,null,null,null,null,null,null,null,null,null,null,null,null,null,null,null,null,null,null,null,null,null,"Riego localizado en superficie",0.9]
[null,null,null,null,null,null,null,null,null,null,null,null,null,null,null,null,null,null,null,null,null,null,null,null,null,null,null,null,null,null,null,null,null,null,null,null,"Difusores y microaspersores",0.8]
[null,null,null,null,null,null,null,null,null,null,null,null,null,null,null,null,null,null,null,null,null,null,null,null,null,null,null,null,null,null,null,null,null,null,null,null,"Aspersores",0.75]

{"sheet":"RN 04","index":21,"n_rows":33,"n_cols":16,"rows_kept":33,"cut":false,"hidden":true,"merged":[[1,2,1,14],[3,3,3,13],[6,18,28,18]]}
[]
[null,null,"Utilización de aguas no potables"]
[null,null,"VERDE Edificios 2020 Usos distintos del Residencial Privado"]
[]
[null,null,null,"Demanda mensual de agua no potable (l)",null,"Captación de aguas grises \n(l)",null,"Precipitación (litro/m2)",null,"Captación de aguas pluviales (l)",null,"Agua no potable aprovechada \n(l)",null,"Demanda sin cubrir \n(l)",null,"Potencial de captación de aguas pluviales (l)"]
[]
[null,null,"ENERO",{"$f":"(('RN 01'!$J$20+'RN 01'!$T$20)*31*'RN 01'!$H$10)+(Nf!S7+Nf!S35+Nf!S63+Nf!S91+Nf!S119+Nf!S147+Nf!S175+Nf!S203+Nf!S231+Nf!S259+Nf!S287+Nf!S315)","v":0},null,{"$f":"'RN '!I74","v":0},null,{"$f":"SUMIFS(P!D$4:D$103,P!$C$4:$C$103,'RN 02'!$R$5)","v":19},null,{"$f":"IF(P7>'RN '!I84,'RN '!I84,P7)","v":0},null,{"$f":"IF((F7+J7)>D7,D7,F7+J7)","v":0},null,{"$f":"IF(D7-L7<0,0,D7-L7)","v":0},null,{"$f":"'RN '!$I$78*'RN '!$I$80*$H7*'RN '!$I$82","v":0}]
[]
[null,null,"FEBRERO",{"$f":"(('RN 01'!$J$20+'RN 01'!$T$20)*31*'RN 01'!$H$10)+(Nf!S9+Nf!S37+Nf!S65+Nf!S93+Nf!S121+Nf!S149+Nf!S177+Nf!S205+Nf!S233+Nf!S261+Nf!S289+Nf!S317)","v":0},null,{"$f":"'RN '!I74","v":0},null,{"$f":"SUMIFS(P!E$4:E$103,P!$C$4:$C$103,'RN 02'!$R$5)","v":15},null,{"$f":"IF((J7+F7)>D7,IF(P9+J7-D7-F7>'RN '!$I$84,'RN '!$I$84,P9+J7-D7-F7),IF(P9>'RN '!$I$84,'RN '!$I$84,P9))","v":0},null,{"$f":"IF((F9+J9)>D9,D9,F9+J9)","v":0},null,{"$f":"IF(D9-L9<0,0,D9-L9)","v":0},null,{"$f":"'RN '!$I$78*'RN '!$I$80*$H9*'RN '!$I$82","v":0}]
[]
[null,null,"MARZO",{"$f":"(('RN 01'!$J$20+'RN 01'!$T$20)*31*'RN 01'!$H$10)+(Nf!S11+Nf!S39+Nf!S67+Nf!S95+Nf!S123+Nf!S151+Nf!S179+Nf!S207+Nf!S235+Nf!S263+Nf!S291+Nf!S319)","v":0},null,{"$f":"'RN '!I74","v":0},null,{"$f":"SUMIFS(P!F$4:F$103,P!$C$4:$C$103,'RN 02'!$R$5)","v":21},null,{"$f":"IF((J9+F9)>D9,IF(P11+J9-D9-F9>'RN '!$I$84,'RN '!$I$84,P11+J9-D9-F9),IF(P11>'RN '!$I$84,'RN '!$I$84,P11))","v":0},null,{"$f":"IF((F11+J11)>D11,D11,F11+J11)","v":0},null,{"$f":"IF(D11-L11<0,0,D11-L11)","v":0},null,{"$f":"'RN '!$I$78*'RN '!$I$80*$H11*'RN '!$I$82","v":0}]
[]
[null,null,"ABRIL",{"$f":"(('RN 01'!$J$20+'RN 01'!$T$20)*31*'RN 01'!$H$10)+(Nf!S13+Nf!S41+Nf!S69+Nf!S97+Nf!S125+Nf!S153+Nf!S181+Nf!S209+Nf!S237+Nf!S265+Nf!S293+Nf!S321)","v":0},null,{"$f":"'RN '!I74","v":0},null,{"$f":"SUMIFS(P!G$4:G$103,P!$C$4:$C$103,'RN 02'!$R$5)","v":39},null,{"$f":"IF((J11+F11)>D11,IF(P13+J11-D11-F11>'RN '!$I$84,'RN '!$I$84,P13+J11-D11-F11),IF(P13>'RN '!$I$84,'RN '!$I$84,P13))","v":0},null,{"$f":"IF((F13+J13)>D13,D13,F13+J13)","v":0},null,{"$f":"IF(D13-L13<0,0,D13-L13)","v":0},null,{"$f":"'RN '!$I$78*'RN '!$I$80*$H13*'RN '!$I$82","v":0}]
[]
[null,null,"MAYO",{"$f":"(('RN 01'!$J$20+'RN 01'!$T$20)*31*'RN 01'!$H$10)+(Nf!S15+Nf!S43+Nf!S71+Nf!S99+Nf!S127+Nf!S155+Nf!S183+Nf!S211+Nf!S239+Nf!S267+Nf!S295+Nf!S323)","v":0},null,{"$f":"'RN '!I74","v":0},null,{"$f":"SUMIFS(P!H$4:H$103,P!$C$4:$C$103,'RN 02'!$R$5)","v":57},null,{"$f":"IF((J13+F13)>D13,IF(P15+J13-D13-F13>'RN '!$I$84,'RN '!$I$84,P15+J13-D13-F13),IF(P15>'RN '!$I$84,'RN '!$I$84,P15))","v":0},null,{"$f":"IF((F15+J15)>D15,D15,F15+J15)","v":0},null,{"$f":"IF(D15-L15<0,0,D15-L15)","v":0},null,{"$f":"'RN '!$I$78*'RN '!$I$80*$H15*'RN '!$I$82","v":0}]
[]
[null,null,"JUNIO",{"$f":"(('RN 01'!$J$20+'RN 01'!$T$20)*31*'RN 01'!$H$10)+(Nf!S17+Nf!S45+Nf!S73+Nf!S101+Nf!S129+Nf!S157+Nf!S185+Nf!S213+Nf!S241+Nf!S269+Nf!S297+Nf!S325)","v":0},null,{"$f":"'RN '!I74","v":0},null,{"$f":"SUMIFS(P!I$4:I$103,P!$C$4:$C$103,'RN 02'!$R$5)","v":46},null,{"$f":"IF((J15+F15)>D15,IF(P17+J15-D15-F15>'RN '!$I$84,'RN '!$I$84,P17+J15-D15-F15),IF(P17>'RN '!$I$84,'RN '!$I$84,P17))","v":0},null,{"$f":"IF((F17+J17)>D17,D17,F17+J17)","v":0},null,{"$f":"IF(D17-L17<0,0,D17-L17)","v":0},null,{"$f":"'RN '!$I$78*'RN '!$I$80*$H17*'RN '!$I$82","v":0}]
[]
[null,null,"JULIO",{"$f":"(('RN 01'!$J$20+'RN 01'!$T$20)*31*'RN 01'!$H$10)+(Nf!S19+Nf!S47+Nf!S75+Nf!S103+Nf!S131+Nf!S159+Nf!S187+Nf!S215+Nf!S243+Nf!S271+Nf!S299+Nf!S327)","v":0},null,{"$f":"'RN '!I74","v":0},null,{"$f":"SUMIFS(P!J$4:J$103,P!$C$4:$C$103,'RN 02'!$R$5)","v":26},null,{"$f":"IF((J17+F17)>D17,IF(P19+J17-D17-F17>'RN '!$I$84,'RN '!$I$84,P19+J17-D17-F17),IF(P19>'RN '!$I$84,'RN '!$I$84,P19))","v":0},null,{"$f":"IF((F19+J19)>D19,D19,F19+J19)","v":0},null,{"$f":"IF(D19-L19<0,0,D19-L19)","v":0},null,{"$f":"'RN '!$I$78*'RN '!$I$80*$H19*'RN '!$I$82","v":0}]
[]
[null,null,"AGOSTO",{"$f":"(('RN 01'!$J$20+'RN 01'!$T$20)*31*'RN 01'!$H$10)+(Nf!S21+Nf!S49+Nf!S77+Nf!S105+Nf!S133+Nf!S161+Nf!S189+Nf!S217+Nf!S245+Nf!S273+Nf!S301+Nf!S329)","v":0},null,{"$f":"'RN '!I74","v":0},null,{"$f":"SUMIFS(P!K$4:K$103,P!$C$4:$C$103,'RN 02'!$R$5)","v":34},null,{"$f":"IF((J19+F19)>D19,IF(P21+J19-D19-F19>'RN '!$I$84,'RN '!$I$84,P21+J19-D19-F19),IF(P21>'RN '!$I$84,'RN '!$I$84,P21))","v":0},null,{"$f":"IF((F21+J21)>D21,D21,F21+J21)","v":0},null,{"$f":"IF(D21-L21<0,0,D21-L21)","v":0},null,{"$f":"'RN '!$I$78*'RN '!$I$80*$H21*'RN '!$I$82","v":0}]
[]
[null,null,"SEPTIEMBRE",{"$f":"(('RN 01'!$J$20+'RN 01'!$T$20)*31*'RN 01'!$H$10)+(Nf!S23+Nf!S51+Nf!S79+Nf!S107+Nf!S135+Nf!S163+Nf!S191+Nf!S219+Nf!S247+Nf!S275+Nf!S303+Nf!S331)","v":0},null,{"$f":"'RN '!I74","v":0},null,{"$f":"SUMIFS(P!L$4:L$103,P!$C$4:$C$103,'RN 02'!$R$5)","v":36},null,{"$f":"IF((J21+F21)>D21,IF(P23+J21-D21-F21>'RN '!$I$84,'RN '!$I$84,P23+J21-D21-F21),IF(P23>'RN '!$I$84,'RN '!$I$84,P23))","v":0},null,{"$f":"IF((F23+J23)>D23,D23,F23+J23)","v":0},null,{"$f":"IF(D23-L23<0,0,D23-L23)","v":0},null,{"$f":"'RN '!$I$78*'RN '!$I$80*$H23*'RN '!$I$82","v":0}]
[]
[null,null,"OCTUBRE",{"$f":"(('RN 01'!$J$20+'RN 01'!$T$20)*31*'RN 01'!$H$10)+(Nf!S25+Nf!S53+Nf!S81+Nf!S109+Nf!S137+Nf!S165+Nf!S193+Nf!S221+Nf!S249+Nf!S277+Nf!S305+Nf!S333)","v":0},null,{"$f":"'RN '!I74","v":0},null,{"$f":"SUMIFS(P!M$4:M$103,P!$C$4:$C$103,'RN 02'!$R$5)","v":47},null,{"$f":"IF((J23+F23)>D23,IF(P25+J23-D23-F23>'RN '!$I$84,'RN '!$I$84,P25+J23-D23-F23),IF(P25>'RN '!$I$84,'RN '!$I$84,P25))","v":0},null,{"$f":"IF((F25+J25)>D25,D25,F25+J25)","v":0},null,{"$f":"IF(D25-L25<0,0,D25-L25)","v":0},null,{"$f":"'RN '!$I$78*'RN '!$I$80*$H25*'RN '!$I$82","v":0}]
[]
[null,null,"NOVIEMBRE",{"$f":"(('RN 01'!$J$20+'RN 01'!$T$20)*31*'RN 01'!$H$10)+(Nf!S27+Nf!S55+Nf!S83+Nf!S111+Nf!S139+Nf!S167+Nf!S195+Nf!S223+Nf!S251+Nf!S279+Nf!S307+Nf!S335)","v":0},null,{"$f":"'RN '!I74","v":0},null,{"$f":"SUMIFS(P!N$4:N$103,P!$C$4:$C$103,'RN 02'!$R$5)","v":22},null,{"$f":"IF((J25+F25)>D25,IF(P27+J25-D25-F25>'RN '!$I$84,'RN '!$I$84,P27+J25-D25-F25),IF(P27>'RN '!$I$84,'RN '!$I$84,P27))","v":0},null,{"$f":"IF((F27+J27)>D27,D27,F27+J27)","v":0},null,{"$f":"IF(D27-L27<0,0,D27-L27)","v":0},null,{"$f":"'RN '!$I$78*'RN '!$I$80*$H27*'RN '!$I$82","v":0}]
[]
[null,null,"DICIEMBRE",{"$f":"(('RN 01'!$J$20+'RN 01'!$T$20)*31*'RN 01'!$H$10)+(Nf!S29+Nf!S57+Nf!S85+Nf!S113+Nf!S141+Nf!S169+Nf!S197+Nf!S225+Nf!S253+Nf!S281+Nf!S309+Nf!S337)","v":0},null,{"$f":"'RN '!I74","v":0},null,{"$f":"SUMIFS(P!O$4:O$103,P!$C$4:$C$103,'RN 02'!$R$5)","v":19},null,{"$f":"IF((J27+F27)>D27,IF(P29+J27-D27-F27>'RN '!$I$84,'RN '!$I$84,P29+J27-D27-F27),IF(P29>'RN '!$I$84,'RN '!$I$84,P29))","v":0},null,{"$f":"IF((F29+J29)>D29,D29,F29+J29)","v":0},null,{"$f":"IF(D29-L29<0,0,D29-L29)","v":0},null,{"$f":"'RN '!$I$78*'RN '!$I$80*$H29*'RN '!$I$82","v":0}]
[]
[null,null,"Totales",{"$f":"SUM(D7:D29)","v":0},null,{"$f":"SUM(F7:F29)","v":0},null,null,null,{"$f":"SUM(J7:J29)","v":0},null,{"$f":"SUM(L7:L29)+'RN '!I76","v":0},null,{"$f":"SUM(N7:N29)+'RN '!I76","v":0}]
[]
[null,null,"Porcentaje de necesidades de agua cubiertas con agua no potable",null,null,null,null,null,null,null,null,{"$f":"L31/D31","v":{"$error":"#DIV/0!"}}]

{"sheet":"RN 07","index":22,"n_rows":240,"n_cols":23,"rows_kept":240,"cut":false,"hidden":false,"merged":[[1,3,1,15],[2,3,2,15],[4,3,4,5],[15,3,16,7],[13,3,13,7],[13,11,13,15],[18,3,19,7],[11,3,11,7],[7,3,7,7],[7,8,7,12],[9,3,9,12],[18,11,18,15]]}
[]
[null,null,null,"Uso de materiales locales"]
[null,null,null,"VERDE Edificios 2020 Usos distintos del Residencial Privado"]
[]
[null,null,null,"Unidad Funcional Equivalente",null,null,null,null,null,{"$f":"IF('RN '!I108=\"\",\"masa\",'RN '!I108)","v":"masa"}]
[]
[]
[null,null,null,{"$f":"CONCATENATE(U8,V8,W8)","v":"Total en kg de elementos cerámicos, áridos, pétreos y hormigones."},null,null,null,null,null,null,null,null,null,null,null,{"$f":"'RN '!I112","v":0},null,null,null,null,"Total ",{"$f":"IF(J5=\"masa\", \"en kg\", \"en €\")","v":"en kg"}," de elementos cerámicos, áridos, pétreos y hormigones."]
[]
[null,null,null,{"$f":"CONCATENATE(U10,V10,W10)","v":"Total en kg de materiales, distintos de elementos cerámicos, áridos, pétreos y hormigones."},null,null,null,null,null,null,null,null,null,null,null,{"$f":"'RN '!I110-'RN '!I112","v":0},null,null,null,null,"Total ",{"$f":"IF(J5=\"masa\", \"en kg\", \"en €\")","v":"en kg"}," de materiales, distintos de elementos cerámicos, áridos, pétreos y hormigones."]
[]
[null,null,null,"Total de elementos cerámicos, áridos, pétreos y hormigones de origen local",null,null,null,null,null,{"$f":"SUM(U24:U240)","v":0}]
[]
[null,null,null,"Porcentajede elementos cerámicos, áridos, pétreos y hormigones de origen local",null,null,null,null,null,{"$f":"IFERROR(J12/P8,0)","v":0},null,{"$f":"IF(P8=0,\"No olvides rellenar las celdas de RN sobre materiales\",\"\")","v":"No olvides rellenar las celdas de RN sobre materiales"}]
[]
[null,null,null,"Total de materiales distintos de los elementos cerámicos, áridos, pétreos y hormigones, de origen local",null,null,null,null,null,{"$f":"SUM(V24:V240)","v":0}]
[]
[]
[null,null,null,"Porcentaje de materiales de origen local, distintos de elementos cerámicos, áridos, pétreos y hormigones.",null,null,null,null,null,{"$f":"IFERROR(J16/P10,0)","v":0},null,{"$f":"IF(P10=0,\"No olvides rellenar las celdas de RN sobre materiales\",\"\")","v":"No olvides rellenar las celdas de RN sobre materiales"},null,null,null,null,null,null,null,null,null,null,"Elementos cerámicos, áridos, pétreos y hormigones"]
[null,null,null,null,null,null,null,null,null,null,null,null,null,null,null,null,null,null,null,null,null,null,"Resto de materiales"]
[]
[null,null,null,"Código del material en las mediciones",null,"Descripción del material",null,"Familia de material",null,{"$f":"J5","v":"masa"},null,"Localización de la planta de producción.",null,"Distancia en Km a la obra",null,"Cantidad de material a considerar",null,null,"Cerámicos, áridos, pétreos y hormigonas","Resto"," local elementos cerámicos, áridos, pétreos y hormigones.","local resto"]
[]
[null,null,1,null,null,null,null,null,null,null,null,null,null,null,null,{"$f":"U24+V24","v":0},null,null,{"$f":"IFERROR(IF($H24=$W$19,$J24,0),0)","v":0},{"$f":"IFERROR(IF($H24=$W$20,$J24,0),0)","v":0},{"$f":"IF(N24<200,S24,IF(N24>400,0,S24*(1-(N24-200)/200)))","v":0},{"$f":"IF(N24<200,T24,IF(N24>400,0,T24*(1-(N24-200)/200)))","v":0}]
[]
[null,null,2,null,null,null,null,null,null,null,null,null,null,null,null,{"$f":"U26+V26","v":0},null,null,{"$f":"IFERROR(IF($H26=$W$19,$J26,0),0)","v":0},{"$f":"IFERROR(IF($H26=$W$20,$J26,0),0)","v":0},{"$f":"IF(N26<200,S26,IF(N26>400,0,S26*(1-(N26-200)/200)))","v":0},{"$f":"IF(N26<200,T26,IF(N26>400,0,T26*(1-(N26-200)/200)))","v":0}]
[]
[null,null,3,null,null,null,null,null,null,null,null,null,null,null,null,{"$f":"U28+V28","v":0},null,null,{"$f":"IFERROR(IF($H28=$W$19,$J28,0),0)","v":0},{"$f":"IFERROR(IF($H28=$W$20,$J28,0),0)","v":0},{"$f":"IF(N28<200,S28,IF(N28>400,0,S28*(1-(N28-200)/200)))","v":0},{"$f":"IF(N28<200,T28,IF(N28>400,0,T28*(1-(N28-200)/200)))","v":0}]
[]
[null,null,4,null,null,null,null,null,null,null,null,null,null,null,null,{"$f":"U30+V30","v":0},null,null,{"$f":"IFERROR(IF($H30=$W$19,$J30,0),0)","v":0},{"$f":"IFERROR(IF($H30=$W$20,$J30,0),0)","v":0},{"$f":"IF(N30<200,S30,IF(N30>400,0,S30*(1-(N30-200)/200)))","v":0},{"$f":"IF(N30<200,T30,IF(N30>400,0,T30*(1-(N30-200)/200)))","v":0}]
[]
[null,null,5,null,null,null,null,null,null,null,null,null,null,null,null,{"$f":"U32+V32","v":0},null,null,{"$f":"IFERROR(IF($H32=$W$19,$J32,0),0)","v":0},{"$f":"IFERROR(IF($H32=$W$20,$J32,0),0)","v":0},{"$f":"IF(N32<200,S32,IF(N32>400,0,S32*(1-(N32-200)/200)))","v":0},{"$f":"IF(N32<200,T32,IF(N32>400,0,T32*(1-(N32-200)/200)))","v":0}]
[]
[null,null,6,null,null,null,null,null,null,null,null,null,null,null,null,{"$f":"U34+V34","v":0},null,null,{"$f":"IFERROR(IF($H34=$W$19,$J34,0),0)","v":0},{"$f":"IFERROR(IF($H34=$W$20,$J34,0),0)","v":0},{"$f":"IF(N34<200,S34,IF(N34>400,0,S34*(1-(N34-200)/200)))","v":0},{"$f":"IF(N34<200,T34,IF(N34>400,0,T34*(1-(N34-200)/200)))","v":0}]
[]
[null,null,7,null,null,null,null,null,null,null,null,null,null,null,null,{"$f":"U36+V36","v":0},null,null,{"$f":"IFERROR(IF($H36=$W$19,$J36,0),0)","v":0},{"$f":"IFERROR(IF($H36=$W$20,$J36,0),0)","v":0},{"$f":"IF(N36<200,S36,IF(N36>400,0,S36*(1-(N36-200)/200)))","v":0},{"$f":"IF(N36<200,T36,IF(N36>400,0,T36*(1-(N36-200)/200)))","v":0}]
[]
[null,null,8,null,null,null,null,null,null,null,null,null,null,null,null,{"$f":"U38+V38","v":0},null,null,{"$f":"IFERROR(IF($H38=$W$19,$J38,0),0)","v":0},{"$f":"IFERROR(IF($H38=$W$20,$J38,0),0)","v":0},{"$f":"IF(N38<200,S38,IF(N38>400,0,S38*(1-(N38-200)/200)))","v":0},{"$f":"IF(N38<200,T38,IF(N38>400,0,T38*(1-(N38-200)/200)))","v":0}]
[]
[null,null,9,null,null,null,null,null,null,null,null,null,null,null,null,{"$f":"U40+V40","v":0},null,null,{"$f":"IFERROR(IF($H40=$W$19,$J40,0),0)","v":0},{"$f":"IFERROR(IF($H40=$W$20,$J40,0),0)","v":0},{"$f":"IF(N40<200,S40,IF(N40>400,0,S40*(1-(N40-200)/200)))","v":0},{"$f":"IF(N40<200,T40,IF(N40>400,0,T40*(1-(N40-200)/200)))","v":0}]
[]
[null,null,10,null,null,null,null,null,null,null,null,null,null,null,null,{"$f":"U42+V42","v":0},null,null,{"$f":"IFERROR(IF($H42=$W$19,$J42,0),0)","v":0},{"$f":"IFERROR(IF($H42=$W$20,$J42,0),0)","v":0},{"$f":"IF(N42<200,S42,IF(N42>400,0,S42*(1-(N42-200)/200)))","v":0},{"$f":"IF(N42<200,T42,IF(N42>400,0,T42*(1-(N42-200)/200)))","v":0}]
[]
[null,null,11,null,null,null,null,null,null,null,null,null,null,null,null,{"$f":"U44+V44","v":0},null,null,{"$f":"IFERROR(IF($H44=$W$19,$J44,0),0)","v":0},{"$f":"IFERROR(IF($H44=$W$20,$J44,0),0)","v":0},{"$f":"IF(N44<200,S44,IF(N44>400,0,S44*(1-(N44-200)/200)))","v":0},{"$f":"IF(N44<200,T44,IF(N44>400,0,T44*(1-(N44-200)/200)))","v":0}]
[]
[null,null,12,null,null,null,null,null,null,null,null,null,null,null,null,{"$f":"U46+V46","v":0},null,null,{"$f":"IFERROR(IF($H46=$W$19,$J46,0),0)","v":0},{"$f":"IFERROR(IF($H46=$W$20,$J46,0),0)","v":0},{"$f":"IF(N46<200,S46,IF(N46>400,0,S46*(1-(N46-200)/200)))","v":0},{"$f":"IF(N46<200,T46,IF(N46>400,0,T46*(1-(N46-200)/200)))","v":0}]
[]
[null,null,13,null,null,null,null,null,null,null,null,null,null,null,null,{"$f":"U48+V48","v":0},null,null,{"$f":"IFERROR(IF($H48=$W$19,$J48,0),0)","v":0},{"$f":"IFERROR(IF($H48=$W$20,$J48,0),0)","v":0},{"$f":"IF(N48<200,S48,IF(N48>400,0,S48*(1-(N48-200)/200)))","v":0},{"$f":"IF(N48<200,T48,IF(N48>400,0,T48*(1-(N48-200)/200)))","v":0}]
[]
[null,null,14,null,null,null,null,null,null,null,null,null,null,null,null,{"$f":"U50+V50","v":0},null,null,{"$f":"IFERROR(IF($H50=$W$19,$J50,0),0)","v":0},{"$f":"IFERROR(IF($H50=$W$20,$J50,0),0)","v":0},{"$f":"IF(N50<200,S50,IF(N50>400,0,S50*(1-(N50-200)/200)))","v":0},{"$f":"IF(N50<200,T50,IF(N50>400,0,T50*(1-(N50-200)/200)))","v":0}]
[]
[null,null,15,null,null,null,null,null,null,null,null,null,null,null,null,{"$f":"U52+V52","v":0},null,null,{"$f":"IFERROR(IF($H52=$W$19,$J52,0),0)","v":0},{"$f":"IFERROR(IF($H52=$W$20,$J52,0),0)","v":0},{"$f":"IF(N52<200,S52,IF(N52>400,0,S52*(1-(N52-200)/200)))","v":0},{"$f":"IF(N52<200,T52,IF(N52>400,0,T52*(1-(N52-200)/200)))","v":0}]
[]
[null,null,16,null,null,null,null,null,null,null,null,null,null,null,null,{"$f":"U54+V54","v":0},null,null,{"$f":"IFERROR(IF($H54=$W$19,$J54,0),0)","v":0},{"$f":"IFERROR(IF($H54=$W$20,$J54,0),0)","v":0},{"$f":"IF(N54<200,S54,IF(N54>400,0,S54*(1-(N54-200)/200)))","v":0},{"$f":"IF(N54<200,T54,IF(N54>400,0,T54*(1-(N54-200)/200)))","v":0}]
[]
[null,null,17,null,null,null,null,null,null,null,null,null,null,null,null,{"$f":"U56+V56","v":0},null,null,{"$f":"IFERROR(IF($H56=$W$19,$J56,0),0)","v":0},{"$f":"IFERROR(IF($H56=$W$20,$J56,0),0)","v":0},{"$f":"IF(N56<200,S56,IF(N56>400,0,S56*(1-(N56-200)/200)))","v":0},{"$f":"IF(N56<200,T56,IF(N56>400,0,T56*(1-(N56-200)/200)))","v":0}]
[]
[null,null,18,null,null,null,null,null,null,null,null,null,null,null,null,{"$f":"U58+V58","v":0},null,null,{"$f":"IFERROR(IF($H58=$W$19,$J58,0),0)","v":0},{"$f":"IFERROR(IF($H58=$W$20,$J58,0),0)","v":0},{"$f":"IF(N58<200,S58,IF(N58>400,0,S58*(1-(N58-200)/200)))","v":0},{"$f":"IF(N58<200,T58,IF(N58>400,0,T58*(1-(N58-200)/200)))","v":0}]
[]
[null,null,19,null,null,null,null,null,null,null,null,null,null,null,null,{"$f":"U60+V60","v":0},null,null,{"$f":"IFERROR(IF($H60=$W$19,$J60,0),0)","v":0},{"$f":"IFERROR(IF($H60=$W$20,$J60,0),0)","v":0},{"$f":"IF(N60<200,S60,IF(N60>400,0,S60*(1-(N60-200)/200)))","v":0},{"$f":"IF(N60<200,T60,IF(N60>400,0,T60*(1-(N60-200)/200)))","v":0}]
[]
[null,null,20,null,null,null,null,null,null,null,null,null,null,null,null,{"$f":"U62+V62","v":0},null,null,{"$f":"IFERROR(IF($H62=$W$19,$J62,0),0)","v":0},{"$f":"IFERROR(IF($H62=$W$20,$J62,0),0)","v":0},{"$f":"IF(N62<200,S62,IF(N62>400,0,S62*(1-(N62-200)/200)))","v":0},{"$f":"IF(N62<200,T62,IF(N62>400,0,T62*(1-(N62-200)/200)))","v":0}]
[]
[null,null,21,null,null,null,null,null,null,null,null,null,null,null,null,{"$f":"U64+V64","v":0},null,null,{"$f":"IFERROR(IF($H64=$W$19,$J64,0),0)","v":0},{"$f":"IFERROR(IF($H64=$W$20,$J64,0),0)","v":0},{"$f":"IF(N64<200,S64,IF(N64>400,0,S64*(1-(N64-200)/200)))","v":0},{"$f":"IF(N64<200,T64,IF(N64>400,0,T64*(1-(N64-200)/200)))","v":0}]
[]
[null,null,22,null,null,null,null,null,null,null,null,null,null,null,null,{"$f":"U66+V66","v":0},null,null,{"$f":"IFERROR(IF($H66=$W$19,$J66,0),0)","v":0},{"$f":"IFERROR(IF($H66=$W$20,$J66,0),0)","v":0},{"$f":"IF(N66<200,S66,IF(N66>400,0,S66*(1-(N66-200)/200)))","v":0},{"$f":"IF(N66<200,T66,IF(N66>400,0,T66*(1-(N66-200)/200)))","v":0}]
[]
[null,null,23,null,null,null,null,null,null,null,null,null,null,null,null,{"$f":"U68+V68","v":0},null,null,{"$f":"IFERROR(IF($H68=$W$19,$J68,0),0)","v":0},{"$f":"IFERROR(IF($H68=$W$20,$J68,0),0)","v":0},{"$f":"IF(N68<200,S68,IF(N68>400,0,S68*(1-(N68-200)/200)))","v":0},{"$f":"IF(N68<200,T68,IF(N68>400,0,T68*(1-(N68-200)/200)))","v":0}]
[]
[null,null,24,null,null,null,null,null,null,null,null,null,null,null,null,{"$f":"U70+V70","v":0},null,null,{"$f":"IFERROR(IF($H70=$W$19,$J70,0),0)","v":0},{"$f":"IFERROR(IF($H70=$W$20,$J70,0),0)","v":0},{"$f":"IF(N70<200,S70,IF(N70>400,0,S70*(1-(N70-200)/200)))","v":0},{"$f":"IF(N70<200,T70,IF(N70>400,0,T70*(1-(N70-200)/200)))","v":0}]
[]
[null,null,25,null,null,null,null,null,null,null,null,null,null,null,null,{"$f":"U72+V72","v":0},null,null,{"$f":"IFERROR(IF($H72=$W$19,$J72,0),0)","v":0},{"$f":"IFERROR(IF($H72=$W$20,$J72,0),0)","v":0},{"$f":"IF(N72<200,S72,IF(N72>400,0,S72*(1-(N72-200)/200)))","v":0},{"$f":"IF(N72<200,T72,IF(N72>400,0,T72*(1-(N72-200)/200)))","v":0}]
[]
[null,null,26,null,null,null,null,null,null,null,null,null,null,null,null,{"$f":"U74+V74","v":0},null,null,{"$f":"IFERROR(IF($H74=$W$19,$J74,0),0)","v":0},{"$f":"IFERROR(IF($H74=$W$20,$J74,0),0)","v":0},{"$f":"IF(N74<200,S74,IF(N74>400,0,S74*(1-(N74-200)/200)))","v":0},{"$f":"IF(N74<200,T74,IF(N74>400,0,T74*(1-(N74-200)/200)))","v":0}]
[]
[null,null,27,null,null,null,null,null,null,null,null,null,null,null,null,{"$f":"U76+V76","v":0},null,null,{"$f":"IFERROR(IF($H76=$W$19,$J76,0),0)","v":0},{"$f":"IFERROR(IF($H76=$W$20,$J76,0),0)","v":0},{"$f":"IF(N76<200,S76,IF(N76>400,0,S76*(1-(N76-200)/200)))","v":0},{"$f":"IF(N76<200,T76,IF(N76>400,0,T76*(1-(N76-200)/200)))","v":0}]
[]
[null,null,28,null,null,null,null,null,null,null,null,null,null,null,null,{"$f":"U78+V78","v":0},null,null,{"$f":"IFERROR(IF($H78=$W$19,$J78,0),0)","v":0},{"$f":"IFERROR(IF($H78=$W$20,$J78,0),0)","v":0},{"$f":"IF(N78<200,S78,IF(N78>400,0,S78*(1-(N78-200)/200)))","v":0},{"$f":"IF(N78<200,T78,IF(N78>400,0,T78*(1-(N78-200)/200)))","v":0}]
[]
[null,null,29,null,null,null,null,null,null,null,null,null,null,null,null,{"$f":"U80+V80","v":0},null,null,{"$f":"IFERROR(IF($H80=$W$19,$J80,0),0)","v":0},{"$f":"IFERROR(IF($H80=$W$20,$J80,0),0)","v":0},{"$f":"IF(N80<200,S80,IF(N80>400,0,S80*(1-(N80-200)/200)))","v":0},{"$f":"IF(N80<200,T80,IF(N80>400,0,T80*(1-(N80-200)/200)))","v":0}]
[]
[null,null,30,null,null,null,null,null,null,null,null,null,null,null,null,{"$f":"U82+V82","v":0},null,null,{"$f":"IFERROR(IF($H82=$W$19,$J82,0),0)","v":0},{"$f":"IFERROR(IF($H82=$W$20,$J82,0),0)","v":0},{"$f":"IF(N82<200,S82,IF(N82>400,0,S82*(1-(N82-200)/200)))","v":0},{"$f":"IF(N82<200,T82,IF(N82>400,0,T82*(1-(N82-200)/200)))","v":0}]
[]
[null,null,31,null,null,null,null,null,null,null,null,null,null,null,null,{"$f":"U84+V84","v":0},null,null,{"$f":"IFERROR(IF($H84=$W$19,$J84,0),0)","v":0},{"$f":"IFERROR(IF($H84=$W$20,$J84,0),0)","v":0},{"$f":"IF(N84<200,S84,IF(N84>400,0,S84*(1-(N84-200)/200)))","v":0},{"$f":"IF(N84<200,T84,IF(N84>400,0,T84*(1-(N84-200)/200)))","v":0}]
[]
[null,null,32,null,null,null,null,null,null,null,null,null,null,null,null,{"$f":"U86+V86","v":0},null,null,{"$f":"IFERROR(IF($H86=$W$19,$J86,0),0)","v":0},{"$f":"IFERROR(IF($H86=$W$20,$J86,0),0)","v":0},{"$f":"IF(N86<200,S86,IF(N86>400,0,S86*(1-(N86-200)/200)))","v":0},{"$f":"IF(N86<200,T86,IF(N86>400,0,T86*(1-(N86-200)/200)))","v":0}]
[]
[null,null,33,null,null,null,null,null,null,null,null,null,null,null,null,{"$f":"U88+V88","v":0},null,null,{"$f":"IFERROR(IF($H88=$W$19,$J88,0),0)","v":0},{"$f":"IFERROR(IF($H88=$W$20,$J88,0),0)","v":0},{"$f":"IF(N88<200,S88,IF(N88>400,0,S88*(1-(N88-200)/200)))","v":0},{"$f":"IF(N88<200,T88,IF(N88>400,0,T88*(1-(N88-200)/200)))","v":0}]
[]
[null,null,34,null,null,null,null,null,null,null,null,null,null,null,null,{"$f":"U90+V90","v":0},null,null,{"$f":"IFERROR(IF($H90=$W$19,$J90,0),0)","v":0},{"$f":"IFERROR(IF($H90=$W$20,$J90,0),0)","v":0},{"$f":"IF(N90<200,S90,IF(N90>400,0,S90*(1-(N90-200)/200)))","v":0},{"$f":"IF(N90<200,T90,IF(N90>400,0,T90*(1-(N90-200)/200)))","v":0}]
[]
[null,null,35,null,null,null,null,null,null,null,null,null,null,null,null,{"$f":"U92+V92","v":0},null,null,{"$f":"IFERROR(IF($H92=$W$19,$J92,0),0)","v":0},{"$f":"IFERROR(IF($H92=$W$20,$J92,0),0)","v":0},{"$f":"IF(N92<200,S92,IF(N92>400,0,S92*(1-(N92-200)/200)))","v":0},{"$f":"IF(N92<200,T92,IF(N92>400,0,T92*(1-(N92-200)/200)))","v":0}]
[]
[null,null,36,null,null,null,null,null,null,null,null,null,null,null,null,{"$f":"U94+V94","v":0},null,null,{"$f":"IFERROR(IF($H94=$W$19,$J94,0),0)","v":0},{"$f":"IFERROR(IF($H94=$W$20,$J94,0),0)","v":0},{"$f":"IF(N94<200,S94,IF(N94>400,0,S94*(1-(N94-200)/200)))","v":0},{"$f":"IF(N94<200,T94,IF(N94>400,0,T94*(1-(N94-200)/200)))","v":0}]
[]
[null,null,37,null,null,null,null,null,null,null,null,null,null,null,null,{"$f":"U96+V96","v":0},null,null,{"$f":"IFERROR(IF($H96=$W$19,$J96,0),0)","v":0},{"$f":"IFERROR(IF($H96=$W$20,$J96,0),0)","v":0},{"$f":"IF(N96<200,S96,IF(N96>400,0,S96*(1-(N96-200)/200)))","v":0},{"$f":"IF(N96<200,T96,IF(N96>400,0,T96*(1-(N96-200)/200)))","v":0}]
[]
[null,null,38,null,null,null,null,null,null,null,null,null,null,null,null,{"$f":"U98+V98","v":0},null,null,{"$f":"IFERROR(IF($H98=$W$19,$J98,0),0)","v":0},{"$f":"IFERROR(IF($H98=$W$20,$J98,0),0)","v":0},{"$f":"IF(N98<200,S98,IF(N98>400,0,S98*(1-(N98-200)/200)))","v":0},{"$f":"IF(N98<200,T98,IF(N98>400,0,T98*(1-(N98-200)/200)))","v":0}]
[]
[null,null,39,null,null,null,null,null,null,null,null,null,null,null,null,{"$f":"U100+V100","v":0},null,null,{"$f":"IFERROR(IF($H100=$W$19,$J100,0),0)","v":0},{"$f":"IFERROR(IF($H100=$W$20,$J100,0),0)","v":0},{"$f":"IF(N100<200,S100,IF(N100>400,0,S100*(1-(N100-200)/200)))","v":0},{"$f":"IF(N100<200,T100,IF(N100>400,0,T100*(1-(N100-200)/200)))","v":0}]
[]
[null,null,40,null,null,null,null,null,null,null,null,null,null,null,null,{"$f":"U102+V102","v":0},null,null,{"$f":"IFERROR(IF($H102=$W$19,$J102,0),0)","v":0},{"$f":"IFERROR(IF($H102=$W$20,$J102,0),0)","v":0},{"$f":"IF(N102<200,S102,IF(N102>400,0,S102*(1-(N102-200)/200)))","v":0},{"$f":"IF(N102<200,T102,IF(N102>400,0,T102*(1-(N102-200)/200)))","v":0}]
[]
[null,null,41,null,null,null,null,null,null,null,null,null,null,null,null,{"$f":"U104+V104","v":0},null,null,{"$f":"IFERROR(IF($H104=$W$19,$J104,0),0)","v":0},{"$f":"IFERROR(IF($H104=$W$20,$J104,0),0)","v":0},{"$f":"IF(N104<200,S104,IF(N104>400,0,S104*(1-(N104-200)/200)))","v":0},{"$f":"IF(N104<200,T104,IF(N104>400,0,T104*(1-(N104-200)/200)))","v":0}]
[]
[null,null,42,null,null,null,null,null,null,null,null,null,null,null,null,{"$f":"U106+V106","v":0},null,null,{"$f":"IFERROR(IF($H106=$W$19,$J106,0),0)","v":0},{"$f":"IFERROR(IF($H106=$W$20,$J106,0),0)","v":0},{"$f":"IF(N106<200,S106,IF(N106>400,0,S106*(1-(N106-200)/200)))","v":0},{"$f":"IF(N106<200,T106,IF(N106>400,0,T106*(1-(N106-200)/200)))","v":0}]
[]
[null,null,43,null,null,null,null,null,null,null,null,null,null,null,null,{"$f":"U108+V108","v":0},null,null,{"$f":"IFERROR(IF($H108=$W$19,$J108,0),0)","v":0},{"$f":"IFERROR(IF($H108=$W$20,$J108,0),0)","v":0},{"$f":"IF(N108<200,S108,IF(N108>400,0,S108*(1-(N108-200)/200)))","v":0},{"$f":"IF(N108<200,T108,IF(N108>400,0,T108*(1-(N108-200)/200)))","v":0}]
[]
[null,null,44,null,null,null,null,null,null,null,null,null,null,null,null,{"$f":"U110+V110","v":0},null,null,{"$f":"IFERROR(IF($H110=$W$19,$J110,0),0)","v":0},{"$f":"IFERROR(IF($H110=$W$20,$J110,0),0)","v":0},{"$f":"IF(N110<200,S110,IF(N110>400,0,S110*(1-(N110-200)/200)))","v":0},{"$f":"IF(N110<200,T110,IF(N110>400,0,T110*(1-(N110-200)/200)))","v":0}]
[]
[null,null,45,null,null,null,null,null,null,null,null,null,null,null,null,{"$f":"U112+V112","v":0},null,null,{"$f":"IFERROR(IF($H112=$W$19,$J112,0),0)","v":0},{"$f":"IFERROR(IF($H112=$W$20,$J112,0),0)","v":0},{"$f":"IF(N112<200,S112,IF(N112>400,0,S112*(1-(N112-200)/200)))","v":0},{"$f":"IF(N112<200,T112,IF(N112>400,0,T112*(1-(N112-200)/200)))","v":0}]
[]
[null,null,46,null,null,null,null,null,null,null,null,null,null,null,null,{"$f":"U114+V114","v":0},null,null,{"$f":"IFERROR(IF($H114=$W$19,$J114,0),0)","v":0},{"$f":"IFERROR(IF($H114=$W$20,$J114,0),0)","v":0},{"$f":"IF(N114<200,S114,IF(N114>400,0,S114*(1-(N114-200)/200)))","v":0},{"$f":"IF(N114<200,T114,IF(N114>400,0,T114*(1-(N114-200)/200)))","v":0}]
[]
[null,null,47,null,null,null,null,null,null,null,null,null,null,null,null,{"$f":"U116+V116","v":0},null,null,{"$f":"IFERROR(IF($H116=$W$19,$J116,0),0)","v":0},{"$f":"IFERROR(IF($H116=$W$20,$J116,0),0)","v":0},{"$f":"IF(N116<200,S116,IF(N116>400,0,S116*(1-(N116-200)/200)))","v":0},{"$f":"IF(N116<200,T116,IF(N116>400,0,T116*(1-(N116-200)/200)))","v":0}]
[]
[null,null,48,null,null,null,null,null,null,null,null,null,null,null,null,{"$f":"U118+V118","v":0},null,null,{"$f":"IFERROR(IF($H118=$W$19,$J118,0),0)","v":0},{"$f":"IFERROR(IF($H118=$W$20,$J118,0),0)","v":0},{"$f":"IF(N118<200,S118,IF(N118>400,0,S118*(1-(N118-200)/200)))","v":0},{"$f":"IF(N118<200,T118,IF(N118>400,0,T118*(1-(N118-200)/200)))","v":0}]
[]
[null,null,49,null,null,null,null,null,null,null,null,null,null,null,null,{"$f":"U120+V120","v":0},null,null,{"$f":"IFERROR(IF($H120=$W$19,$J120,0),0)","v":0},{"$f":"IFERROR(IF($H120=$W$20,$J120,0),0)","v":0},{"$f":"IF(N120<200,S120,IF(N120>400,0,S120*(1-(N120-200)/200)))","v":0},{"$f":"IF(N120<200,T120,IF(N120>400,0,T120*(1-(N120-200)/200)))","v":0}]
[]
[null,null,50,null,null,null,null,null,null,null,null,null,null,null,null,{"$f":"U122+V122","v":0},null,null,{"$f":"IFERROR(IF($H122=$W$19,$J122,0),0)","v":0},{"$f":"IFERROR(IF($H122=$W$20,$J122,0),0)","v":0},{"$f":"IF(N122<200,S122,IF(N122>400,0,S122*(1-(N122-200)/200)))","v":0},{"$f":"IF(N122<200,T122,IF(N122>400,0,T122*(1-(N122-200)/200)))","v":0}]
[]
[null,null,51,null,null,null,null,null,null,null,null,null,null,null,null,{"$f":"U124+V124","v":0},null,null,{"$f":"IFERROR(IF($H124=$W$19,$J124,0),0)","v":0},{"$f":"IFERROR(IF($H124=$W$20,$J124,0),0)","v":0},{"$f":"IF(N124<200,S124,IF(N124>400,0,S124*(1-(N124-200)/200)))","v":0},{"$f":"IF(N124<200,T124,IF(N124>400,0,T124*(1-(N124-200)/200)))","v":0}]
[]
[null,null,52,null,null,null,null,null,null,null,null,null,null,null,null,{"$f":"U126+V126","v":0},null,null,{"$f":"IFERROR(IF($H126=$W$19,$J126,0),0)","v":0},{"$f":"IFERROR(IF($H126=$W$20,$J126,0),0)","v":0},{"$f":"IF(N126<200,S126,IF(N126>400,0,S126*(1-(N126-200)/200)))","v":0},{"$f":"IF(N126<200,T126,IF(N126>400,0,T126*(1-(N126-200)/200)))","v":0}]
[]
[null,null,53,null,null,null,null,null,null,null,null,null,null,null,null,{"$f":"U128+V128","v":0},null,null,{"$f":"IFERROR(IF($H128=$W$19,$J128,0),0)","v":0},{"$f":"IFERROR(IF($H128=$W$20,$J128,0),0)","v":0},{"$f":"IF(N128<200,S128,IF(N128>400,0,S128*(1-(N128-200)/200)))","v":0},{"$f":"IF(N128<200,T128,IF(N128>400,0,T128*(1-(N128-200)/200)))","v":0}]
[]
[null,null,54,null,null,null,null,null,null,null,null,null,null,null,null,{"$f":"U130+V130","v":0},null,null,{"$f":"IFERROR(IF($H130=$W$19,$J130,0),0)","v":0},{"$f":"IFERROR(IF($H130=$W$20,$J130,0),0)","v":0},{"$f":"IF(N130<200,S130,IF(N130>400,0,S130*(1-(N130-200)/200)))","v":0},{"$f":"IF(N130<200,T130,IF(N130>400,0,T130*(1-(N130-200)/200)))","v":0}]
[]
[null,null,55,null,null,null,null,null,null,null,null,null,null,null,null,{"$f":"U132+V132","v":0},null,null,{"$f":"IFERROR(IF($H132=$W$19,$J132,0),0)","v":0},{"$f":"IFERROR(IF($H132=$W$20,$J132,0),0)","v":0},{"$f":"IF(N132<200,S132,IF(N132>400,0,S132*(1-(N132-200)/200)))","v":0},{"$f":"IF(N132<200,T132,IF(N132>400,0,T132*(1-(N132-200)/200)))","v":0}]
[]
[null,null,56,null,null,null,null,null,null,null,null,null,null,null,null,{"$f":"U134+V134","v":0},null,null,{"$f":"IFERROR(IF($H134=$W$19,$J134,0),0)","v":0},{"$f":"IFERROR(IF($H134=$W$20,$J134,0),0)","v":0},{"$f":"IF(N134<200,S134,IF(N134>400,0,S134*(1-(N134-200)/200)))","v":0},{"$f":"IF(N134<200,T134,IF(N134>400,0,T134*(1-(N134-200)/200)))","v":0}]
[]
[null,null,57,null,null,null,null,null,null,null,null,null,null,null,null,{"$f":"U136+V136","v":0},null,null,{"$f":"IFERROR(IF($H136=$W$19,$J136,0),0)","v":0},{"$f":"IFERROR(IF($H136=$W$20,$J136,0),0)","v":0},{"$f":"IF(N136<200,S136,IF(N136>400,0,S136*(1-(N136-200)/200)))","v":0},{"$f":"IF(N136<200,T136,IF(N136>400,0,T136*(1-(N136-200)/200)))","v":0}]
[]
[null,null,58,null,null,null,null,null,null,null,null,null,null,null,null,{"$f":"U138+V138","v":0},null,null,{"$f":"IFERROR(IF($H138=$W$19,$J138,0),0)","v":0},{"$f":"IFERROR(IF($H138=$W$20,$J138,0),0)","v":0},{"$f":"IF(N138<200,S138,IF(N138>400,0,S138*(1-(N138-200)/200)))","v":0},{"$f":"IF(N138<200,T138,IF(N138>400,0,T138*(1-(N138-200)/200)))","v":0}]
[]
[null,null,59,null,null,null,null,null,null,null,null,null,null,null,null,{"$f":"U140+V140","v":0},null,null,{"$f":"IFERROR(IF($H140=$W$19,$J140,0),0)","v":0},{"$f":"IFERROR(IF($H140=$W$20,$J140,0),0)","v":0},{"$f":"IF(N140<200,S140,IF(N140>400,0,S140*(1-(N140-200)/200)))","v":0},{"$f":"IF(N140<200,T140,IF(N140>400,0,T140*(1-(N140-200)/200)))","v":0}]
[]
[null,null,60,null,null,null,null,null,null,null,null,null,null,null,null,{"$f":"U142+V142","v":0},null,null,{"$f":"IFERROR(IF($H142=$W$19,$J142,0),0)","v":0},{"$f":"IFERROR(IF($H142=$W$20,$J142,0),0)","v":0},{"$f":"IF(N142<200,S142,IF(N142>400,0,S142*(1-(N142-200)/200)))","v":0},{"$f":"IF(N142<200,T142,IF(N142>400,0,T142*(1-(N142-200)/200)))","v":0}]
[]
[null,null,61,null,null,null,null,null,null,null,null,null,null,null,null,{"$f":"U144+V144","v":0},null,null,{"$f":"IFERROR(IF($H144=$W$19,$J144,0),0)","v":0},{"$f":"IFERROR(IF($H144=$W$20,$J144,0),0)","v":0},{"$f":"IF(N144<200,S144,IF(N144>400,0,S144*(1-(N144-200)/200)))","v":0},{"$f":"IF(N144<200,T144,IF(N144>400,0,T144*(1-(N144-200)/200)))","v":0}]
[]
[null,null,62,null,null,null,null,null,null,null,null,null,null,null,null,{"$f":"U146+V146","v":0},null,null,{"$f":"IFERROR(IF($H146=$W$19,$J146,0),0)","v":0},{"$f":"IFERROR(IF($H146=$W$20,$J146,0),0)","v":0},{"$f":"IF(N146<200,S146,IF(N146>400,0,S146*(1-(N146-200)/200)))","v":0},{"$f":"IF(N146<200,T146,IF(N146>400,0,T146*(1-(N146-200)/200)))","v":0}]
[]
[null,null,63,null,null,null,null,null,null,null,null,null,null,null,null,{"$f":"U148+V148","v":0},null,null,{"$f":"IFERROR(IF($H148=$W$19,$J148,0),0)","v":0},{"$f":"IFERROR(IF($H148=$W$20,$J148,0),0)","v":0},{"$f":"IF(N148<200,S148,IF(N148>400,0,S148*(1-(N148-200)/200)))","v":0},{"$f":"IF(N148<200,T148,IF(N148>400,0,T148*(1-(N148-200)/200)))","v":0}]
[]
[null,null,64,null,null,null,null,null,null,null,null,null,null,null,null,{"$f":"U150+V150","v":0},null,null,{"$f":"IFERROR(IF($H150=$W$19,$J150,0),0)","v":0},{"$f":"IFERROR(IF($H150=$W$20,$J150,0),0)","v":0},{"$f":"IF(N150<200,S150,IF(N150>400,0,S150*(1-(N150-200)/200)))","v":0},{"$f":"IF(N150<200,T150,IF(N150>400,0,T150*(1-(N150-200)/200)))","v":0}]
[]
[null,null,65,null,null,null,null,null,null,null,null,null,null,null,null,{"$f":"U152+V152","v":0},null,null,{"$f":"IFERROR(IF($H152=$W$19,$J152,0),0)","v":0},{"$f":"IFERROR(IF($H152=$W$20,$J152,0),0)","v":0},{"$f":"IF(N152<200,S152,IF(N152>400,0,S152*(1-(N152-200)/200)))","v":0},{"$f":"IF(N152<200,T152,IF(N152>400,0,T152*(1-(N152-200)/200)))","v":0}]
[]
[null,null,66,null,null,null,null,null,null,null,null,null,null,null,null,{"$f":"U154+V154","v":0},null,null,{"$f":"IFERROR(IF($H154=$W$19,$J154,0),0)","v":0},{"$f":"IFERROR(IF($H154=$W$20,$J154,0),0)","v":0},{"$f":"IF(N154<200,S154,IF(N154>400,0,S154*(1-(N154-200)/200)))","v":0},{"$f":"IF(N154<200,T154,IF(N154>400,0,T154*(1-(N154-200)/200)))","v":0}]
[]
[null,null,67,null,null,null,null,null,null,null,null,null,null,null,null,{"$f":"U156+V156","v":0},null,null,{"$f":"IFERROR(IF($H156=$W$19,$J156,0),0)","v":0},{"$f":"IFERROR(IF($H156=$W$20,$J156,0),0)","v":0},{"$f":"IF(N156<200,S156,IF(N156>400,0,S156*(1-(N156-200)/200)))","v":0},{"$f":"IF(N156<200,T156,IF(N156>400,0,T156*(1-(N156-200)/200)))","v":0}]
[]
[null,null,68,null,null,null,null,null,null,null,null,null,null,null,null,{"$f":"U158+V158","v":0},null,null,{"$f":"IFERROR(IF($H158=$W$19,$J158,0),0)","v":0},{"$f":"IFERROR(IF($H158=$W$20,$J158,0),0)","v":0},{"$f":"IF(N158<200,S158,IF(N158>400,0,S158*(1-(N158-200)/200)))","v":0},{"$f":"IF(N158<200,T158,IF(N158>400,0,T158*(1-(N158-200)/200)))","v":0}]
[]
[null,null,69,null,null,null,null,null,null,null,null,null,null,null,null,{"$f":"U160+V160","v":0},null,null,{"$f":"IFERROR(IF($H160=$W$19,$J160,0),0)","v":0},{"$f":"IFERROR(IF($H160=$W$20,$J160,0),0)","v":0},{"$f":"IF(N160<200,S160,IF(N160>400,0,S160*(1-(N160-200)/200)))","v":0},{"$f":"IF(N160<200,T160,IF(N160>400,0,T160*(1-(N160-200)/200)))","v":0}]
[]
[null,null,70,null,null,null,null,null,null,null,null,null,null,null,null,{"$f":"U162+V162","v":0},null,null,{"$f":"IFERROR(IF($H162=$W$19,$J162,0),0)","v":0},{"$f":"IFERROR(IF($H162=$W$20,$J162,0),0)","v":0},{"$f":"IF(N162<200,S162,IF(N162>400,0,S162*(1-(N162-200)/200)))","v":0},{"$f":"IF(N162<200,T162,IF(N162>400,0,T162*(1-(N162-200)/200)))","v":0}]
[]
[null,null,71,null,null,null,null,null,null,null,null,null,null,null,null,{"$f":"U164+V164","v":0},null,null,{"$f":"IFERROR(IF($H164=$W$19,$J164,0),0)","v":0},{"$f":"IFERROR(IF($H164=$W$20,$J164,0),0)","v":0},{"$f":"IF(N164<200,S164,IF(N164>400,0,S164*(1-(N164-200)/200)))","v":0},{"$f":"IF(N164<200,T164,IF(N164>400,0,T164*(1-(N164-200)/200)))","v":0}]
[]
[null,null,72,null,null,null,null,null,null,null,null,null,null,null,null,{"$f":"U166+V166","v":0},null,null,{"$f":"IFERROR(IF($H166=$W$19,$J166,0),0)","v":0},{"$f":"IFERROR(IF($H166=$W$20,$J166,0),0)","v":0},{"$f":"IF(N166<200,S166,IF(N166>400,0,S166*(1-(N166-200)/200)))","v":0},{"$f":"IF(N166<200,T166,IF(N166>400,0,T166*(1-(N166-200)/200)))","v":0}]
[]
[null,null,73,null,null,null,null,null,null,null,null,null,null,null,null,{"$f":"U168+V168","v":0},null,null,{"$f":"IFERROR(IF($H168=$W$19,$J168,0),0)","v":0},{"$f":"IFERROR(IF($H168=$W$20,$J168,0),0)","v":0},{"$f":"IF(N168<200,S168,IF(N168>400,0,S168*(1-(N168-200)/200)))","v":0},{"$f":"IF(N168<200,T168,IF(N168>400,0,T168*(1-(N168-200)/200)))","v":0}]
[]
[null,null,74,null,null,null,null,null,null,null,null,null,null,null,null,{"$f":"U170+V170","v":0},null,null,{"$f":"IFERROR(IF($H170=$W$19,$J170,0),0)","v":0},{"$f":"IFERROR(IF($H170=$W$20,$J170,0),0)","v":0},{"$f":"IF(N170<200,S170,IF(N170>400,0,S170*(1-(N170-200)/200)))","v":0},{"$f":"IF(N170<200,T170,IF(N170>400,0,T170*(1-(N170-200)/200)))","v":0}]
[]
[null,null,75,null,null,null,null,null,null,null,null,null,null,null,null,{"$f":"U172+V172","v":0},null,null,{"$f":"IFERROR(IF($H172=$W$19,$J172,0),0)","v":0},{"$f":"IFERROR(IF($H172=$W$20,$J172,0),0)","v":0},{"$f":"IF(N172<200,S172,IF(N172>400,0,S172*(1-(N172-200)/200)))","v":0},{"$f":"IF(N172<200,T172,IF(N172>400,0,T172*(1-(N172-200)/200)))","v":0}]
[]
[null,null,76,null,null,null,null,null,null,null,null,null,null,null,null,{"$f":"U174+V174","v":0},null,null,{"$f":"IFERROR(IF($H174=$W$19,$J174,0),0)","v":0},{"$f":"IFERROR(IF($H174=$W$20,$J174,0),0)","v":0},{"$f":"IF(N174<200,S174,IF(N174>400,0,S174*(1-(N174-200)/200)))","v":0},{"$f":"IF(N174<200,T174,IF(N174>400,0,T174*(1-(N174-200)/200)))","v":0}]
[]
[null,null,77,null,null,null,null,null,null,null,null,null,null,null,null,{"$f":"U176+V176","v":0},null,null,{"$f":"IFERROR(IF($H176=$W$19,$J176,0),0)","v":0},{"$f":"IFERROR(IF($H176=$W$20,$J176,0),0)","v":0},{"$f":"IF(N176<200,S176,IF(N176>400,0,S176*(1-(N176-200)/200)))","v":0},{"$f":"IF(N176<200,T176,IF(N176>400,0,T176*(1-(N176-200)/200)))","v":0}]
[]
[null,null,78,null,null,null,null,null,null,null,null,null,null,null,null,{"$f":"U178+V178","v":0},null,null,{"$f":"IFERROR(IF($H178=$W$19,$J178,0),0)","v":0},{"$f":"IFERROR(IF($H178=$W$20,$J178,0),0)","v":0},{"$f":"IF(N178<200,S178,IF(N178>400,0,S178*(1-(N178-200)/200)))","v":0},{"$f":"IF(N178<200,T178,IF(N178>400,0,T178*(1-(N178-200)/200)))","v":0}]
[]
[null,null,79,null,null,null,null,null,null,null,null,null,null,null,null,{"$f":"U180+V180","v":0},null,null,{"$f":"IFERROR(IF($H180=$W$19,$J180,0),0)","v":0},{"$f":"IFERROR(IF($H180=$W$20,$J180,0),0)","v":0},{"$f":"IF(N180<200,S180,IF(N180>400,0,S180*(1-(N180-200)/200)))","v":0},{"$f":"IF(N180<200,T180,IF(N180>400,0,T180*(1-(N180-200)/200)))","v":0}]
[]
[null,null,80,null,null,null,null,null,null,null,null,null,null,null,null,{"$f":"U182+V182","v":0},null,null,{"$f":"IFERROR(IF($H182=$W$19,$J182,0),0)","v":0},{"$f":"IFERROR(IF($H182=$W$20,$J182,0),0)","v":0},{"$f":"IF(N182<200,S182,IF(N182>400,0,S182*(1-(N182-200)/200)))","v":0},{"$f":"IF(N182<200,T182,IF(N182>400,0,T182*(1-(N182-200)/200)))","v":0}]
[]
[null,null,81,null,null,null,null,null,null,null,null,null,null,null,null,{"$f":"U184+V184","v":0},null,null,{"$f":"IFERROR(IF($H184=$W$19,$J184,0),0)","v":0},{"$f":"IFERROR(IF($H184=$W$20,$J184,0),0)","v":0},{"$f":"IF(N184<200,S184,IF(N184>400,0,S184*(1-(N184-200)/200)))","v":0},{"$f":"IF(N184<200,T184,IF(N184>400,0,T184*(1-(N184-200)/200)))","v":0}]
[]
[null,null,82,null,null,null,null,null,null,null,null,null,null,null,null,{"$f":"U186+V186","v":0},null,null,{"$f":"IFERROR(IF($H186=$W$19,$J186,0),0)","v":0},{"$f":"IFERROR(IF($H186=$W$20,$J186,0),0)","v":0},{"$f":"IF(N186<200,S186,IF(N186>400,0,S186*(1-(N186-200)/200)))","v":0},{"$f":"IF(N186<200,T186,IF(N186>400,0,T186*(1-(N186-200)/200)))","v":0}]
[]
[null,null,83,null,null,null,null,null,null,null,null,null,null,null,null,{"$f":"U188+V188","v":0},null,null,{"$f":"IFERROR(IF($H188=$W$19,$J188,0),0)","v":0},{"$f":"IFERROR(IF($H188=$W$20,$J188,0),0)","v":0},{"$f":"IF(N188<200,S188,IF(N188>400,0,S188*(1-(N188-200)/200)))","v":0},{"$f":"IF(N188<200,T188,IF(N188>400,0,T188*(1-(N188-200)/200)))","v":0}]
[]
[null,null,84,null,null,null,null,null,null,null,null,null,null,null,null,{"$f":"U190+V190","v":0},null,null,{"$f":"IFERROR(IF($H190=$W$19,$J190,0),0)","v":0},{"$f":"IFERROR(IF($H190=$W$20,$J190,0),0)","v":0},{"$f":"IF(N190<200,S190,IF(N190>400,0,S190*(1-(N190-200)/200)))","v":0},{"$f":"IF(N190<200,T190,IF(N190>400,0,T190*(1-(N190-200)/200)))","v":0}]
[]
[null,null,85,null,null,null,null,null,null,null,null,null,null,null,null,{"$f":"U192+V192","v":0},null,null,{"$f":"IFERROR(IF($H192=$W$19,$J192,0),0)","v":0},{"$f":"IFERROR(IF($H192=$W$20,$J192,0),0)","v":0},{"$f":"IF(N192<200,S192,IF(N192>400,0,S192*(1-(N192-200)/200)))","v":0},{"$f":"IF(N192<200,T192,IF(N192>400,0,T192*(1-(N192-200)/200)))","v":0}]
[]
[null,null,86,null,null,null,null,null,null,null,null,null,null,null,null,{"$f":"U194+V194","v":0},null,null,{"$f":"IFERROR(IF($H194=$W$19,$J194,0),0)","v":0},{"$f":"IFERROR(IF($H194=$W$20,$J194,0),0)","v":0},{"$f":"IF(N194<200,S194,IF(N194>400,0,S194*(1-(N194-200)/200)))","v":0},{"$f":"IF(N194<200,T194,IF(N194>400,0,T194*(1-(N194-200)/200)))","v":0}]
[]
[null,null,87,null,null,null,null,null,null,null,null,null,null,null,null,{"$f":"U196+V196","v":0},null,null,{"$f":"IFERROR(IF($H196=$W$19,$J196,0),0)","v":0},{"$f":"IFERROR(IF($H196=$W$20,$J196,0),0)","v":0},{"$f":"IF(N196<200,S196,IF(N196>400,0,S196*(1-(N196-200)/200)))","v":0},{"$f":"IF(N196<200,T196,IF(N196>400,0,T196*(1-(N196-200)/200)))","v":0}]
[]
[null,null,88,null,null,null,null,null,null,null,null,null,null,null,null,{"$f":"U198+V198","v":0},null,null,{"$f":"IFERROR(IF($H198=$W$19,$J198,0),0)","v":0},{"$f":"IFERROR(IF($H198=$W$20,$J198,0),0)","v":0},{"$f":"IF(N198<200,S198,IF(N198>400,0,S198*(1-(N198-200)/200)))","v":0},{"$f":"IF(N198<200,T198,IF(N198>400,0,T198*(1-(N198-200)/200)))","v":0}]
[]
[null,null,89,null,null,null,null,null,null,null,null,null,null,null,null,{"$f":"U200+V200","v":0},null,null,{"$f":"IFERROR(IF($H200=$W$19,$J200,0),0)","v":0},{"$f":"IFERROR(IF($H200=$W$20,$J200,0),0)","v":0},{"$f":"IF(N200<200,S200,IF(N200>400,0,S200*(1-(N200-200)/200)))","v":0},{"$f":"IF(N200<200,T200,IF(N200>400,0,T200*(1-(N200-200)/200)))","v":0}]
[]
[null,null,90,null,null,null,null,null,null,null,null,null,null,null,null,{"$f":"U202+V202","v":0},null,null,{"$f":"IFERROR(IF($H202=$W$19,$J202,0),0)","v":0},{"$f":"IFERROR(IF($H202=$W$20,$J202,0),0)","v":0},{"$f":"IF(N202<200,S202,IF(N202>400,0,S202*(1-(N202-200)/200)))","v":0},{"$f":"IF(N202<200,T202,IF(N202>400,0,T202*(1-(N202-200)/200)))","v":0}]
[]
[null,null,91,null,null,null,null,null,null,null,null,null,null,null,null,{"$f":"U204+V204","v":0},null,null,{"$f":"IFERROR(IF($H204=$W$19,$J204,0),0)","v":0},{"$f":"IFERROR(IF($H204=$W$20,$J204,0),0)","v":0},{"$f":"IF(N204<200,S204,IF(N204>400,0,S204*(1-(N204-200)/200)))","v":0},{"$f":"IF(N204<200,T204,IF(N204>400,0,T204*(1-(N204-200)/200)))","v":0}]
[]
[null,null,92,null,null,null,null,null,null,null,null,null,null,null,null,{"$f":"U206+V206","v":0},null,null,{"$f":"IFERROR(IF($H206=$W$19,$J206,0),0)","v":0},{"$f":"IFERROR(IF($H206=$W$20,$J206,0),0)","v":0},{"$f":"IF(N206<200,S206,IF(N206>400,0,S206*(1-(N206-200)/200)))","v":0},{"$f":"IF(N206<200,T206,IF(N206>400,0,T206*(1-(N206-200)/200)))","v":0}]
[]
[null,null,93,null,null,null,null,null,null,null,null,null,null,null,null,{"$f":"U208+V208","v":0},null,null,{"$f":"IFERROR(IF($H208=$W$19,$J208,0),0)","v":0},{"$f":"IFERROR(IF($H208=$W$20,$J208,0),0)","v":0},{"$f":"IF(N208<200,S208,IF(N208>400,0,S208*(1-(N208-200)/200)))","v":0},{"$f":"IF(N208<200,T208,IF(N208>400,0,T208*(1-(N208-200)/200)))","v":0}]
[]
[null,null,94,null,null,null,null,null,null,null,null,null,null,null,null,{"$f":"U210+V210","v":0},null,null,{"$f":"IFERROR(IF($H210=$W$19,$J210,0),0)","v":0},{"$f":"IFERROR(IF($H210=$W$20,$J210,0),0)","v":0},{"$f":"IF(N210<200,S210,IF(N210>400,0,S210*(1-(N210-200)/200)))","v":0},{"$f":"IF(N210<200,T210,IF(N210>400,0,T210*(1-(N210-200)/200)))","v":0}]
[]
[null,null,95,null,null,null,null,null,null,null,null,null,null,null,null,{"$f":"U212+V212","v":0},null,null,{"$f":"IFERROR(IF($H212=$W$19,$J212,0),0)","v":0},{"$f":"IFERROR(IF($H212=$W$20,$J212,0),0)","v":0},{"$f":"IF(N212<200,S212,IF(N212>400,0,S212*(1-(N212-200)/200)))","v":0},{"$f":"IF(N212<200,T212,IF(N212>400,0,T212*(1-(N212-200)/200)))","v":0}]
[]
[null,null,96,null,null,null,null,null,null,null,null,null,null,null,null,{"$f":"U214+V214","v":0},null,null,{"$f":"IFERROR(IF($H214=$W$19,$J214,0),0)","v":0},{"$f":"IFERROR(IF($H214=$W$20,$J214,0),0)","v":0},{"$f":"IF(N214<200,S214,IF(N214>400,0,S214*(1-(N214-200)/200)))","v":0},{"$f":"IF(N214<200,T214,IF(N214>400,0,T214*(1-(N214-200)/200)))","v":0}]
[]
[null,null,97,null,null,null,null,null,null,null,null,null,null,null,null,{"$f":"U216+V216","v":0},null,null,{"$f":"IFERROR(IF($H216=$W$19,$J216,0),0)","v":0},{"$f":"IFERROR(IF($H216=$W$20,$J216,0),0)","v":0},{"$f":"IF(N216<200,S216,IF(N216>400,0,S216*(1-(N216-200)/200)))","v":0},{"$f":"IF(N216<200,T216,IF(N216>400,0,T216*(1-(N216-200)/200)))","v":0}]
[]
[null,null,98,null,null,null,null,null,null,null,null,null,null,null,null,{"$f":"U218+V218","v":0},null,null,{"$f":"IFERROR(IF($H218=$W$19,$J218,0),0)","v":0},{"$f":"IFERROR(IF($H218=$W$20,$J218,0),0)","v":0},{"$f":"IF(N218<200,S218,IF(N218>400,0,S218*(1-(N218-200)/200)))","v":0},{"$f":"IF(N218<200,T218,IF(N218>400,0,T218*(1-(N218-200)/200)))","v":0}]
[]
[null,null,99,null,null,null,null,null,null,null,null,null,null,null,null,{"$f":"U220+V220","v":0},null,null,{"$f":"IFERROR(IF($H220=$W$19,$J220,0),0)","v":0},{"$f":"IFERROR(IF($H220=$W$20,$J220,0),0)","v":0},{"$f":"IF(N220<200,S220,IF(N220>400,0,S220*(1-(N220-200)/200)))","v":0},{"$f":"IF(N220<200,T220,IF(N220>400,0,T220*(1-(N220-200)/200)))","v":0}]
[]
[null,null,100,null,null,null,null,null,null,null,null,null,null,null,null,{"$f":"U222+V222","v":0},null,null,{"$f":"IFERROR(IF($H222=$W$19,$J222,0),0)","v":0},{"$f":"IFERROR(IF($H222=$W$20,$J222,0),0)","v":0},{"$f":"IF(N222<200,S222,IF(N222>400,0,S222*(1-(N222-200)/200)))","v":0},{"$f":"IF(N222<200,T222,IF(N222>400,0,T222*(1-(N222-200)/200)))","v":0}]
[]
[null,null,101,null,null,null,null,null,null,null,null,null,null,null,null,{"$f":"U224+V224","v":0},null,null,{"$f":"IFERROR(IF($H224=$W$19,$J224,0),0)","v":0},{"$f":"IFERROR(IF($H224=$W$20,$J224,0),0)","v":0},{"$f":"IF(N224<200,S224,IF(N224>400,0,S224*(1-(N224-200)/200)))","v":0},{"$f":"IF(N224<200,T224,IF(N224>400,0,T224*(1-(N224-200)/200)))","v":0}]
[]
[null,null,102,null,null,null,null,null,null,null,null,null,null,null,null,{"$f":"U226+V226","v":0},null,null,{"$f":"IFERROR(IF($H226=$W$19,$J226,0),0)","v":0},{"$f":"IFERROR(IF($H226=$W$20,$J226,0),0)","v":0},{"$f":"IF(N226<200,S226,IF(N226>400,0,S226*(1-(N226-200)/200)))","v":0},{"$f":"IF(N226<200,T226,IF(N226>400,0,T226*(1-(N226-200)/200)))","v":0}]
[]
[null,null,103,null,null,null,null,null,null,null,null,null,null,null,null,{"$f":"U228+V228","v":0},null,null,{"$f":"IFERROR(IF($H228=$W$19,$J228,0),0)","v":0},{"$f":"IFERROR(IF($H228=$W$20,$J228,0),0)","v":0},{"$f":"IF(N228<200,S228,IF(N228>400,0,S228*(1-(N228-200)/200)))","v":0},{"$f":"IF(N228<200,T228,IF(N228>400,0,T228*(1-(N228-200)/200)))","v":0}]
[]
[null,null,104,null,null,null,null,null,null,null,null,null,null,null,null,{"$f":"U230+V230","v":0},null,null,{"$f":"IFERROR(IF($H230=$W$19,$J230,0),0)","v":0},{"$f":"IFERROR(IF($H230=$W$20,$J230,0),0)","v":0},{"$f":"IF(N230<200,S230,IF(N230>400,0,S230*(1-(N230-200)/200)))","v":0},{"$f":"IF(N230<200,T230,IF(N230>400,0,T230*(1-(N230-200)/200)))","v":0}]
[]
[null,null,105,null,null,null,null,null,null,null,null,null,null,null,null,{"$f":"U232+V232","v":0},null,null,{"$f":"IFERROR(IF($H232=$W$19,$J232,0),0)","v":0},{"$f":"IFERROR(IF($H232=$W$20,$J232,0),0)","v":0},{"$f":"IF(N232<200,S232,IF(N232>400,0,S232*(1-(N232-200)/200)))","v":0},{"$f":"IF(N232<200,T232,IF(N232>400,0,T232*(1-(N232-200)/200)))","v":0}]
[]
[null,null,106,null,null,null,null,null,null,null,null,null,null,null,null,{"$f":"U234+V234","v":0},null,null,{"$f":"IFERROR(IF($H234=$W$19,$J234,0),0)","v":0},{"$f":"IFERROR(IF($H234=$W$20,$J234,0),0)","v":0},{"$f":"IF(N234<200,S234,IF(N234>400,0,S234*(1-(N234-200)/200)))","v":0},{"$f":"IF(N234<200,T234,IF(N234>400,0,T234*(1-(N234-200)/200)))","v":0}]
[]
[null,null,107,null,null,null,null,null,null,null,null,null,null,null,null,{"$f":"U236+V236","v":0},null,null,{"$f":"IFERROR(IF($H236=$W$19,$J236,0),0)","v":0},{"$f":"IFERROR(IF($H236=$W$20,$J236,0),0)","v":0},{"$f":"IF(N236<200,S236,IF(N236>400,0,S236*(1-(N236-200)/200)))","v":0},{"$f":"IF(N236<200,T236,IF(N236>400,0,T236*(1-(N236-200)/200)))","v":0}]
[]
[null,null,108,null,null,null,null,null,null,null,null,null,null,null,null,{"$f":"U238+V238","v":0},null,null,{"$f":"IFERROR(IF($H238=$W$19,$J238,0),0)","v":0},{"$f":"IFERROR(IF($H238=$W$20,$J238,0),0)","v":0},{"$f":"IF(N238<200,S238,IF(N238>400,0,S238*(1-(N238-200)/200)))","v":0},{"$f":"IF(N238<200,T238,IF(N238>400,0,T238*(1-(N238-200)/200)))","v":0}]
[]
[null,null,109,null,null,null,null,null,null,null,null,null,null,null,null,{"$f":"U240+V240","v":0},null,null,{"$f":"IFERROR(IF($H240=$W$19,$J240,0),0)","v":0},{"$f":"IFERROR(IF($H240=$W$20,$J240,0),0)","v":0},{"$f":"IF(N240<200,S240,IF(N240>400,0,S240*(1-(N240-200)/200)))","v":0},{"$f":"IF(N240<200,T240,IF(N240>400,0,T240*(1-(N240-200)/200)))","v":0}]

{"sheet":"RN 11","index":23,"n_rows":95,"n_cols":26,"rows_kept":95,"cut":false,"hidden":false,"merged":[[78,23,79,23],[78,24,79,24],[78,25,79,25],[73,16,74,16],[57,16,58,16],[50,16,51,16],[47,16,48,16],[32,16,33,16],[35,16,36,16],[78,21,79,21],[78,22,79,22],[65,17,65,19],[66,17,66,19],[67,17,67,19],[68,17,68,19],[56,17,56,19],[57,17,57,19],[58,17,58,19],[59,17,59,19],[60,17,60,19],[61,17,61,19],[49,17,49,19],[50,17,50,19],[51,17,51,19],[0,2,0,12],[1,2,1,12],[22,2,24,2],[27,2,27,12],[28,2,28,11],[0,16,0,26],[1,16,1,26],[22,16,24,16],[28,16,28,25],[96,17,96,19],[78,17,79,18],[77,16,78,16],[83,16,84,16],[93,17,93,19],[94,17,94,19],[46,3,46,5],[46,17,46,19],[55,3,55,5],[55,17,55,19],[63,3,63,5],[63,17,63,19],[60,16,61,16],[88,17,88,19],[81,17,81,19],[74,17,74,19],[75,17,75,19],[76,17,76,19],[72,17,72,19],[69,17,69,19],[71,17,71,19],[70,17,70,19],[62,17,62,19],[64,17,64,19],[52,17,52,19],[53,17,53,19],[42,17,42,19],[43,17,43,19],[44,17,44,19],[45,17,45,19],[47,17,47,19],[48,17,48,19],[36,17,36,19],[37,17,37,19],[38,17,38,19],[39,17,39,19],[40,17,40,19],[41,17,41,19],[29,24,29,25],[32,17,32,19],[33,17,33,19],[34,17,34,19],[35,17,35,19],[89,3,89,5],[90,3,90,5],[2,16,2,26],[7,17,7,21],[8,24,8,25],[22,17,22,19],[23,17,23,19],[24,17,24,19],[29,16,29,18],[82,3,82,5],[83,3,83,5],[84,3,84,5],[86,3,86,5],[87,3,87,5],[88,3,88,5],[85,3,85,5],[75,3,75,5],[77,3,77,5],[78,3,78,5],[79,3,79,5],[80,3,80,5],[81,3,81,5],[76,3,76,5],[72,7,73,7],[72,8,73,8],[72,9,73,9],[72,10,73,10],[72,11,73,11],[74,3,74,5],[67,3,67,5],[68,3,68,5],[69,3,69,5],[71,3,71,5],[72,3,73,5],[72,6,73,6],[70,3,70,5],[60,3,60,5],[61,3,61,5],[62,3,62,5],[64,3,64,5],[65,3,65,5],[66,3,66,5],[53,3,53,5],[54,3,54,5],[56,3,56,5],[57,3,57,5],[58,3,58,5],[59,3,59,5],[47,3,47,5],[48,3,48,5],[49,3,49,5],[50,3,50,5],[51,3,51,5],[52,3,52,5],[40,3,40,5],[41,3,41,5],[42,3,42,5],[43,3,43,5],[44,3,44,5],[37,3,37,5],[38,3,38,5],[39,3,39,5],[29,2,29,4],[34,3,34,5],[35,3,35,5],[36,3,36,5],[29,10,29,11],[32,3,32,5],[33,3,33,5],[2,2,2,12],[7,3,7,7],[8,10,8,11],[22,3,22,5],[23,3,23,5],[24,3,24,5]]}
[]
[]
[null,null,"DATOS DE LOS IMPACTOS PARA EL EDIFICIO DE REFERENCIA PARA LAS FASES  A1, A2, A3",null,null,null,null,null,null,null,null,null,null,null,null,null,"DATOS DE LOS IMPACTOS PARA EL EDIFICIO DE REFERENCIA - INDUSTRIA LIGERA Y NAVE LOGÍSTICAS PARA LAS FASES  A1, A2, A3"]
[]
[]
[null,null,null,null,"Zona climática",{"$f":"'zona clima'!C10","v":""},null,null,null,null,null,null,null,null,null,null,null,null,"Zona climática",{"$f":"'zona clima'!O10","v":"C"}]
[]
[null,null,null,"Introduce las superficies de cada uno de las partes de la envolvente",null,null,null,null,null,null,null,null,null,null,null,null,null,"Introduce las superficies de cada uno de las partes de la envolvente"]
[null,null,null,null,null,null,null,"Materiales","ADP","GWP","Residuos",null,null,null,null,null,null,null,null,null,null,"Materiales","ADP","GWP","Residuos"]
[null,null,null,"Elementos","Unidad","Superficies",null,"kg/ud","MJ/ud","kg CO2/ud"," kg","m3",null,null,null,null,null,"Elementos","Unidad","Superficies",null,"kg/ud","MJ/ud","kg CO2/ud"," kg","m3"]
[]
[null,null,null,"Cubierta","m2",null,null,{"$f":"H46*$F$12","v":0},{"$f":"I46*$F$12","v":0},{"$f":"J46*$F$12","v":0},{"$f":"K46*$F$12","v":0},{"$f":"L46*$F$12","v":0},null,null,null,null,null,"Cubierta habitable","m2",null,null,{"$f":"$T$12*V46","v":0},{"$f":"$T$12*W46","v":0},{"$f":"$T$12*X46","v":0},{"$f":"$T$12*Y46","v":0},{"$f":"$T$12*Z46","v":0}]
[null,null,null,"Cerramientas exteriores","m2",null,null,{"$f":"H55*$F$13","v":0},{"$f":"I55*$F$13","v":0},{"$f":"J55*$F$13","v":0},{"$f":"K55*$F$13","v":0},{"$f":"L55*$F$13","v":0},null,null,null,null,null,"Cubierta zona no habitable","m2",null,null,{"$f":"$T$13*V49","v":0},{"$f":"$T$13*W49","v":0},{"$f":"$T$13*X49","v":0},{"$f":"$T$13*Y49","v":0},{"$f":"$T$13*Z49","v":0}]
[null,null,null,"Forjados interiores","m2",null,null,{"$f":"H63*$F$14","v":0},{"$f":"I63*$F$14","v":0},{"$f":"J63*$F$14","v":0},{"$f":"K63*$F$14","v":0},{"$f":"L63*$F$14","v":0},null,null,null,null,null,"Fachada zona habitable","m2",null,null,{"$f":"$T$14*V56","v":0},{"$f":"$T$14*W56","v":0},{"$f":"$T$14*X56","v":0},{"$f":"$T$14*Y56","v":0},{"$f":"$T$14*Z56","v":0}]
[null,null,null,"Suelos","m2",null,null,{"$f":"H70*$F$15","v":0},{"$f":"I70*$F$15","v":0},{"$f":"J70*$F$15","v":0},{"$f":"K70*$F$15","v":0},{"$f":"L70*$F$15","v":0},null,null,null,null,null,"Fachada zona no habitable","m2",null,null,{"$f":"$T$15*V59","v":0},{"$f":"$T$15*W59","v":0},{"$f":"$T$15*X59","v":0},{"$f":"$T$15*Y59","v":0},{"$f":"$T$15*Z59","v":0}]
[null,null,null,"Particiones interiores","m2",null,null,{"$f":"H76*$F$16","v":0},{"$f":"I76*$F$16","v":0},{"$f":"J76*$F$16","v":0},{"$f":"K76*$F$16","v":0},{"$f":"L76*$F$16","v":0},null,null,null,null,null,"Forjados zona habitable","m2",null,null,{"$f":"$T$16*V67","v":0},{"$f":"$T$16*W67","v":0},{"$f":"$T$16*X67","v":0},{"$f":"$T$16*Y67","v":0},{"$f":"$T$16*Z67","v":0}]
[null,null,null,"Medianería","m2",null,null,{"$f":"H85*$F$17","v":0},{"$f":"I85*$F$17","v":0},{"$f":"J85*$F$17","v":0},{"$f":"K85*$F$17","v":0},{"$f":"L85*$F$17","v":0},null,null,null,null,null,"Suelos zona habitable","m2",null,null,{"$f":"$T$17*V72","v":0},{"$f":"$T$17*W72","v":0},{"$f":"$T$17*X72","v":0},{"$f":"$T$17*Y72","v":0},{"$f":"$T$17*Z72","v":0}]
[null,null,null,"Huecos","m2",null,null,{"$f":"H91*$F$18","v":0},{"$f":"I91*$F$18","v":0},{"$f":"J91*$F$18","v":0},{"$f":"K91*$F$18","v":0},{"$f":"L91*$F$18","v":0},null,null,null,null,null,"Suelos zona no habitable","m2",null,null,{"$f":"$T$18*V76","v":0},{"$f":"$T$18*W76","v":0},{"$f":"$T$18*X76","v":0},{"$f":"$T$18*Y76","v":0},{"$f":"$T$18*Z76","v":0}]
[null,null,null,null,null,null,null,null,null,null,null,null,null,null,null,null,null,"Particiones  zona habitable","m2",null,null,{"$f":"$T$19*V82","v":0},{"$f":"$T$19*W82","v":0},{"$f":"$T$19*X82","v":0},{"$f":"$T$19*Y82","v":0},{"$f":"$T$19*Z82","v":0}]
[null,null,null,null,null,null,null,null,null,null,null,null,null,null,null,null,null,"Particiones  con zona no habitable","m2",null,null,{"$f":"$T$20*V89","v":0},{"$f":"$T$20*W89","v":0},{"$f":"$T$20*X89","v":0},{"$f":"$T$20*Y89","v":0},{"$f":"$T$20*Z89","v":0}]
[null,null,null,null,null,null,null,null,null,null,null,null,null,null,null,null,null,"Huecos","m2",null,null,{"$f":"$T$21*V95","v":0},{"$f":"$T$21*W95","v":0},{"$f":"$T$21*X95","v":0},{"$f":"$T$21*Y95","v":0},{"$f":"$T$21*Z95","v":0}]
[]
[null,null,"Datos a introducir en RN11","Valores del edificio de referencia Totales",null,null,null,{"$f":"SUM(H10:H18)","v":0},{"$f":"SUM(I10:I18)","v":0},{"$f":"SUM(J10:J18)","v":0},{"$f":"SUM(K10:K18)","v":0},{"$f":"SUM(L10:L18)","v":0},null,null,null,null,"Datos a introducir en RN11","Valores del edificio de referencia Totales",null,null,null,{"$f":"SUM(V12:V21)","v":0},{"$f":"SUM(W12:W21)","v":0},{"$f":"SUM(X12:X21)","v":0},{"$f":"SUM(Y12:Y21)","v":0},{"$f":"SUM(Z12:Z21)","v":0}]
[]
[null,null,null,"Valores del edificio de referencia por m2",null,null,null,{"$f":"IF(OR(DG!$F20=\"\",DG!$F20=0),0,H23/DG!$F20)","v":0},{"$f":"IF(OR(DG!$F20=\"\",DG!$F20=0),0,I23/DG!$F20)","v":0},{"$f":"IF(OR(DG!$F20=\"\",DG!$F20=0),0,J23/DG!$F20)","v":0},{"$f":"IF(OR(DG!$F20=\"\",DG!$F20=0),0,K23/DG!$F20)","v":0},{"$f":"IF(OR(DG!$F20=\"\",DG!$F20=0),0,L23/DG!$F20)","v":0},null,null,null,null,null,"Valores del edificio de referencia por m2",null,null,null,{"$f":"IF(OR(DG!$F20=\"\",DG!$F20=0),0,V23/DG!$F20)","v":0},{"$f":"IF(OR(DG!$F20=\"\",DG!$F20=0),0,W23/DG!$F20)","v":0},{"$f":"IF(OR(DG!$F20=\"\",DG!$F20=0),0,X23/DG!$F20)","v":0},{"$f":"IF(OR(DG!$F20=\"\",DG!$F20=0),0,Y23/DG!$F20)","v":0},{"$f":"IF(OR(DG!$F20=\"\",DG!$F20=0),0,Z23/DG!$F20)","v":0}]
[]
[]
[]
[null,null,"DATOS DE LOS IMPACTOS DE LOS MATERIALES",null,null,null,null,null,null,null,null,null,null,null,null,null,"DATOS DE LOS IMPACTOS DE LOS MATERIALES"]
[null,null,"Introduce los datos de cada uno de los materiales, la definición de cada uno de ellos se encuentra en el criterio RN 11",null,null,null,null,"Materias primas","ADP","GWP","Residuos",null,null,null,null,null,"Introduce los datos de cada uno de los materiales, la definición de cada uno de ellos se encuentra en el criterio RN 11",null,null,null,null,"Materias primas","ADP","GWP","Residuos"]
[null,null,"ELEMENTO","MATERIAL",null,null,"Ud.","kg/Ud","MJ/Ud","kgCO2/Ud","kg/Ud","m3",null,null,null,null,"ELEMENTO","MATERIAL",null,null,"Ud.","kg/Ud","MJ/Ud","kgCO2/Ud","kg/Ud","m3"]
[]
[null,null,"CUBIERTA","Solado baldosa cerámica",null,null,"m2",null,null,null,null,null,null,null,null,null,"CUBIERTA HABITABLE","Solado baldosa cerámica",null,null,"m2"]
[null,null,null,"Capa niveladora",null,null,"m2",null,null,null,null,null,null,null,null,null,null,"Capa niveladora",null,null,"m2"]
[null,null,null,"Capa separadora",null,null,"m2",null,null,null,null,null,null,null,null,null,null,"Capa separadora",null,null,"m2"]
[null,null,null,"Impermeabilizante",null,null,"m2",null,null,null,null,null,null,null,null,null,null,"Impermeabilizante",null,null,"m2"]
[null,null,null,"Capa separadora",null,null,"m2",null,null,null,null,null,null,null,null,null,null,"Capa separadora",null,null,"m2"]
[null,null,null,"Impermeabilizante",null,null,"m2",null,null,null,null,null,null,null,null,null,null,"Impermeabilizante",null,null,"m2"]
[null,null,null,"Capa separadora",null,null,"m2",null,null,null,null,null,null,null,null,null,null,"Capa separadora",null,null,"m2"]
[null,null,null,"Aislamiento (mismo espesor que edificio objeto)",null,null,"m2",null,null,null,null,null,null,null,null,null,null,"Aislamiento (mismo espesor que edificio objeto)",null,null,"m2"]
[null,null,null,"Capa separadora",null,null,"m2",null,null,null,null,null,null,null,null,null,null,"Capa separadora",null,null,"m2"]
[null,null,null,"Formación de pendientes",null,null,"m2",null,null,null,null,null,null,null,null,null,null,"Formación de pendientes",null,null,"m2"]
[null,null,null,"Forjado",null,null,"m2",null,null,null,null,null,null,null,null,null,null,"Forjado",null,null,"m2"]
[null,null,null,"Falso techo",null,null,"m2",null,null,null,null,null,null,null,null,null,null,"Falso techo",null,null,"m2"]
[null,null,null,"Pintura",null,null,"m2",null,null,null,null,null,null,null,null,null,null,"Pintura",null,null,"m2"]
[null,null,null,null,null,"TOTAL",null,{"$f":"SUM(H33:H45)","v":0},{"$f":"SUM(I33:I45)","v":0},{"$f":"SUM(J33:J45)","v":0},{"$f":"SUM(K33:K45)","v":0},{"$f":"SUM(L33:L45)","v":0},null,null,null,null,null,"TOTAL",null,null,null,{"$f":"SUM(V33:V45)","v":0},{"$f":"SUM(W33:W45)","v":0},{"$f":"SUM(X33:X45)","v":0},{"$f":"SUM(Y33:Y45)","v":0},{"$f":"SUM(Z33:Z45)","v":0}]
[]
[null,null,"CERRAMIENTOS EXTERIORES","Mortero monocapa",null,null,"m2",null,null,null,null,null,null,null,null,null,"CUBIERTA NO HABITABLE","Cubierta Deck",null,null,"m2"]
[null,null,null,"Ladrillo cerámico perforado",null,null,"m2",null,null,null,null,null,null,null,null,null,null,"TOTAL",null,null,null,{"$f":"SUM(V48)","v":0},{"$f":"SUM(W48)","v":0},0,0,0]
[null,null,null,"Mortero de cemento",null,null,"m2"]
[null,null,null,"Aislamiento (mismo espesor que edificio objeto)",null,null,"m2",null,null,null,null,null,null,null,null,null,"FACHADA ZONA HABITABLE","Panel prefabricado hormigón 16 cm",null,null,"m2"]
[null,null,null,"Ladrillo hueco",null,null,"m2",null,null,null,null,null,null,null,null,null,null,"Ladrillo hueco",null,null,"m2"]
[null,null,null,"Placa de cartón yeso",null,null,"m2",null,null,null,null,null,null,null,null,null,null,"Aislamiento (mismo espesor que edificio objeto)",null,null,"m2"]
[null,null,null,"Pintura",null,null,"m2",null,null,null,null,null,null,null,null,null,null,"Placa de cartón yeso",null,null,"m2"]
[null,null,null,"TOTAL",null,null,null,{"$f":"SUM(H48:H54)","v":0},{"$f":"SUM(I48:I54)","v":0},{"$f":"SUM(J48:J54)","v":0},{"$f":"SUM(K48:K54)","v":0},{"$f":"SUM(L48:L54)","v":0},null,null,null,null,null,"Pintura",null,null,"m2"]
[null,null,null,null,null,null,null,null,null,null,null,null,null,null,null,null,null,"TOTAL",null,null,null,{"$f":"SUM(V51:V55)","v":0},{"$f":"SUM(W51:W55)","v":0},0,0,0]
[null,null,"FORJADOS INTERIORES","Baldosa cerámica",null,null,"m2"]
[null,null,null,"Recrecido de mortero ",null,null,"m2",null,null,null,null,null,null,null,null,null,"FACHADA ZONA NO HABITABLE","Panel prefabricado hormigón 16 cm",null,null,"m2"]
[null,null,null,"Lámina anti-impacto",null,null,"m2",null,null,null,null,null,null,null,null,null,null,"TOTAL",null,null,null,{"$f":"SUM(V58)","v":0},{"$f":"SUM(W58)","v":0},0,0,0]
[null,null,null,"Forjado",null,null,"m2"]
[null,null,null,"Falso techo",null,null,"m2",null,null,null,null,null,null,null,null,null,"FORJADOS INTERIORES ZONA HABITABLE","Baldosa cerámica",null,null,"m2"]
[null,null,null,"Pintura",null,null,"m2",null,null,null,null,null,null,null,null,null,null,"Recrecido de mortero ",null,null,"m2"]
[null,null,null,"TOTAL",null,null,null,{"$f":"SUM(H57:H62)","v":0},{"$f":"SUM(I57:I62)","v":0},{"$f":"SUM(J57:J62)","v":0},{"$f":"SUM(K57:K62)","v":0},{"$f":"SUM(L57:L62)","v":0},null,null,null,null,null,"Lámina anti-impacto",null,null,"m2"]
[null,null,null,null,null,null,null,null,null,null,null,null,null,null,null,null,null,"Forjado",null,null,"m2"]
[null,null,"SUELOS","Baldosa cerámica",null,null,"m2",null,null,null,null,null,null,null,null,null,null,"Falso techo",null,null,"m2"]
[null,null,null,"Recrecido de mortero ",null,null,"m2",null,null,null,null,null,null,null,null,null,null,"Pintura",null,null,"m2"]
[null,null,null,"Lámina anti-impacto",null,null,"m2",null,null,null,null,null,null,null,null,null,null,"TOTAL",null,null,null,{"$f":"SUM(V61:V66)","v":0},{"$f":"SUM(W61:W66)","v":0},{"$f":"SUM(X61:X66)","v":0},{"$f":"SUM(Y61:Y66)","v":0},{"$f":"SUM(Z61:Z66)","v":0}]
[null,null,null,"Aislamiento (mismo espesor que edificio objeto)",null,null,"m2"]
[null,null,null,"Forjado",null,null,"m2",null,null,null,null,null,null,null,null,null,"SUELO ZONA HABITABLE","Baldosa cerámica",null,null,"m2"]
[null,null,null,"TOTAL",null,null,null,{"$f":"SUM(H65:H69)","v":0},{"$f":"SUM(I65:I69)","v":0},{"$f":"SUM(J65:J69)","v":0},{"$f":"SUM(K65:K69)","v":0},{"$f":"SUM(L65:L69)","v":0},null,null,null,null,null,"Recrecido de mortero ",null,null,"m2"]
[null,null,null,null,null,null,null,null,null,null,null,null,null,null,null,null,null,"Solera de hormigón armado",null,null,"m2"]
[null,null,"PARTICIONES INTERIORES","Pintura",null,null,"m2",null,null,null,null,null,null,null,null,null,null,"TOTAL",null,null,null,{"$f":"SUM(V69:V71)","v":0},{"$f":"SUM(W69:W71)","v":0},0,0,0]
[null,null,null,"Tabique de placas de yso laminado con aislante acústico",null,null,"m2"]
[null,null,null,null,null,null,null,null,null,null,null,null,null,null,null,null,"SUELO ZONA NO HABITABLE","Base de hormigón ligero",null,null,"m2"]
[null,null,null,"Pintura",null,null,"m2",null,null,null,null,null,null,null,null,null,null,"Solera de hormigón armado",null,null,"m2"]
[null,null,null,"TOTAL",null,null,null,{"$f":"SUM(H72:H75)","v":0},{"$f":"SUM(I72:I75)","v":0},{"$f":"SUM(J72:J75)","v":0},{"$f":"SUM(K72:K75)","v":0},{"$f":"SUM(L72:L75)","v":0},null,null,null,null,null,"TOTAL",null,null,null,{"$f":"SUM(V74:V75)","v":0},{"$f":"SUM(W74:W75)","v":0},0,0,0]
[]
[null,null,"MEDIANERÍA","Pintura",null,null,"m2",null,null,null,null,null,null,null,null,null,"PARTICIONES INTERIORES ZONA HABITABLE","Pintura",null,null,"m2"]
[null,null,null,"Placas de yeso laminado",null,null,"m2",null,null,null,null,null,null,null,null,null,null,"Tabique de placas de yso laminado con aislante acústico",null,null,"m2"]
[null,null,null,"Ladrillo perforado",null,null,"m2"]
[null,null,null,"Aislamiento (mismo espesor que edificio objeto)",null,null,"m2",null,null,null,null,null,null,null,null,null,null,"Pintura",null,null,"m2"]
[null,null,null,"Ladrillo perforado",null,null,"m2",null,null,null,null,null,null,null,null,null,null,"TOTAL",null,null,null,{"$f":"SUM(V78:V81)","v":0},{"$f":"SUM(W78:W81)","v":0},0,0,0]
[null,null,null,"Placa de cartón yeso",null,null,"m2"]
[null,null,null,"Pintura",null,null,"m2",null,null,null,null,null,null,null,null,null,"PARTICIONES INTERIORES CON ZONA NO HABITABLE","Mortero de cemento",null,null,"m2"]
[null,null,null,"TOTAL",null,null,null,{"$f":"SUM(H78:H84)","v":0},{"$f":"SUM(I78:I84)","v":0},{"$f":"SUM(J78:J84)","v":0},{"$f":"SUM(K78:K84)","v":0},{"$f":"SUM(L78:L84)","v":0},null,null,null,null,null,"Ladrillo perforado",null,null,"m2"]
[null,null,null,null,null,null,null,null,null,null,null,null,null,null,null,null,null,"Aislamiento (mismo espesor que edificio objeto)",null,null,"m2"]
[null,null,"HUECOS","Zona alfa y A",null,null,"m2",null,null,null,null,null,null,null,null,null,null,"Placa de cartón yeso",null,null,"m2"]
[null,null,null,"Zona B  y C",null,null,"m2",null,null,null,null,null,null,null,null,null,null,"Pintura",null,null,"m2"]
[null,null,null,"Zona D",null,null,"m2",null,null,null,null,null,null,null,null,null,null,"TOTAL",null,null,null,{"$f":"SUM(V84:V88)","v":0},{"$f":"SUM(W84:W88)","v":0},0,0,0]
[null,null,null,"Zona E",null,null,"m2"]
[null,null,null,"TOTAL",null,null,null,{"$f":"SUM(H87:H90)","v":0},{"$f":"SUM(I87:I90)","v":0},{"$f":"SUM(J87:J90)","v":0},{"$f":"SUM(K87:K90)","v":0},{"$f":"SUM(L87:L90)","v":0},null,null,null,null,"HUECOS","Zona alfa y A",null,null,"m2"]
[null,null,null,null,null,null,null,null,null,null,null,null,null,null,null,null,null,"Zona B  y C",null,null,"m2"]
[null,null,null,null,null,null,null,null,null,null,null,null,null,null,null,null,null,"Zona D",null,null,"m2"]
[null,null,null,null,null,null,null,null,null,null,null,null,null,null,null,null,null,"Zona E",null,null,"m2"]
[null,null,null,null,null,null,null,null,null,null,null,null,null,null,null,null,null,"TOTAL",null,null,null,{"$f":"SUM(V91:V94)","v":0},{"$f":"SUM(W91:W94)","v":0},{"$f":"SUM(X91:X94)","v":0},{"$f":"SUM(Y91:Y94)","v":0},{"$f":"SUM(Z91:Z94)","v":0}]

{"sheet":"DATOSMat","index":24,"n_rows":30,"n_cols":11,"rows_kept":30,"cut":false,"hidden":true,"merged":[[1,9,1,10]]}
[]
[null,null,null,null,null,null,"Materias primas","Energía","Emisiones","Rsiduos"]
[null,"ELEMENTO","MATERIAL",null,"ESPESOR AISLAMIENTO","Ud.","kg/Ud","MJ/Ud","kgCO2/Ud","kg/Ud","m3"]
[]
[null,"CUBIERTA","TOTAL","A",0.04,"m2",897.67599999999993,1469.4690000000001,168.62540999999999,7.44,2.7E-2]
[null,null,null,"B",0.05,null,897.78599999999994,1481.759,170.44540999999998,7.44,2.7E-2]
[null,null,null,"C",0.06,null,897.88599999999997,1494.039,172.25540999999998,7.44,2.7E-2]
[null,null,null,"D",7.0000000000000007E-2,null,897.99599999999998,1506.329,174.06540999999999,7.44,2.7E-2]
[null,null,null,"E",0.08,null,898.096,1518.6089999999999,175.88540999999998,7.44,2.7E-2]
[]
[null,"FORJADOS INTERIORES","TOTAL",null,0,"m2",440.71000000000004,1055.72,103.99000000000001,8.76,1.6300000000000002E-2]
[]
[null,"MEDIANERA","TOTAL",null,0.02,"m2",167.46599999999998,634.68999999999994,45.93,6.01,1.6E-2]
[]
[null,"MURO EXTERIOR","TOTAL","A",0.02,"m2",372.38000000000005,586.16,58.87,16.88,1.9899999999999998E-2]
[null,null,null,"B",0.03,null,372.44000000000005,592.30999999999995,59.78,16.88,2.01E-2]
[null,null,null,"C",0.04,null,372.49,598.44999999999993,60.684999999999995,16.884999999999998,2.0399999999999998E-2]
[null,null,null,"D",0.04,null,372.96000000000004,596.32999999999993,55.57,16.899999999999999,2.1099999999999997E-2]
[null,null,null,"E",0.06,null,372.54,604.58999999999992,61.589999999999996,16.889999999999997,2.0699999999999996E-2]
[]
[null,"PARTICIÓN INTERIOR","TOTAL",null,0,"m2",62.52,250.43,17.97,2.13,4.8999999999999998E-3]
[]
[null,"SUELO","TOTAL","A",0.04,null,598.33500000000004,400.36500000000001,69.330000000000013,4.3,4.3E-3]
[null,null,null,"B",4.4999999999999998E-2,null,598.39,406.51,70.240000000000009,4.3,4.3E-3]
[null,null,null,"C",4.4999999999999998E-2,null,598.49,418.78999999999996,72.050000000000011,4.3,4.3E-3]
[null,null,null,"D",0.05,null,598.6,431.08000000000004,73.86,4.3,4.3E-3]
[null,null,null,"E",0.08,null,598.69999999999993,443.36,75.680000000000007,4.3,4.3E-3]
[]
[null,"HUECOS","TIPO I",null,null,"m2",48.040000000000006,3911,529.88,9.6900000000000003E-4,1.578E-3]
[null,null,"TIPO II",null,null,"m2",66.540000000000006,1221.3600000000001,74.42,8.8800000000000001E-4,1.2639999999999999E-3]

{"sheet":"Mat Ref","index":25,"n_rows":73,"n_cols":22,"rows_kept":73,"cut":false,"hidden":true,"merged":[[40,12,40,22],[41,20,41,21],[2,1,2,8],[35,2,35,4],[36,2,36,4],[37,2,37,4],[41,9,41,10],[40,1,40,11]]}
[]
[]
[null,"Datos de materiales para el Edificio de Referencia "]
[]
[]
[null,null,null,"Zona climática",{"$f":"'zona clima'!C10","v":""}]
[]
[null,null,"Porcentaje de huecos en las diferentes fachadas"]
[]
[null,null,null,"N",{"$f":"#REF!","v":{"$error":"#REF!"}},null,{"$f":"IF(AND(E6=\"A\",E10=\"0-10%\"),\"TIPO I\",IF(AND(E6=\"A\",E10=\"11-20%\"),\"TIPO I\",IF(AND(E6=\"B\",E10=\"0-10%\"),\"TIPO I\",\"TIPO II\")))","v":{"$error":"#REF!"}}]
[]
[null,null,null,"E/O",{"$f":"#REF!","v":{"$error":"#REF!"}},null,{"$f":"IF(AND(E6=\"A\",E12=\"0-10%\"),\"TIPO I\",IF(AND(E6=\"A\",E12=\"11-20%\"),\"TIPO I\",IF(AND(E6=\"A\",E12=\"21-30%\"),\"TIPO I\",IF(AND(E6=\"A\",E12=\"31-40%\"),\"TIPO I\",IF(AND(E6=\"A\",E12=\"41-50%\"),\"TIPO I\",IF(AND(E6=\"B\",E12=\"0-10%\"),\"TIPO I\",IF(AND(E6=\"B\",E12=\"11-20%\"),\"TIPO I\",\"TIPO II\")))))))","v":{"$error":"#REF!"}},null,null,null,null,"                                              "]
[]
[null,null,null,"S",{"$f":"#REF!","v":{"$error":"#REF!"}},null,{"$f":"IF(E6=\"A\",\"TIPO I\",IF(E6=\"B\",\"TIPO I\",\"TIPO II\"))","v":"TIPO II"}]
[]
[null,null,null,"SE/SO",{"$f":"#REF!","v":{"$error":"#REF!"}},null,{"$f":"IF(D9=\"A\",\"TIPO I\",IF(D9=\"B\",\"TIPO I\",\"TIPO II\"))","v":"TIPO II"}]
[]
[]
[null,null,"Elementos","Unidad",null,null,"kg materiales","MJ","kg CO2","Residuos kg","Residuos m3"]
[]
[null,null,"Cubierta","m2",{"$f":"#REF!","v":{"$error":"#REF!"}},null,{"$f":"IF(#REF!=\"Base del banco de precios BEDEC\",IF(E6=\"A\",E21*R46,IF(E6=\"B\",E21*R47,IF(E6=\"C\",E21*R48,IF(E6=\"D\",E21*R49,E21*R50)))),IF(E6=\"A\",E21*G46,IF(E6=\"B\",E21*G47,IF(E6=\"C\",E21*G48,IF(E6=\"D\",E21*G49,E21*G50)))))","v":{"$error":"#REF!"}},{"$f":"IF(#REF!=\"Base del banco de precios BEDEC\",IF(E6=\"A\",E21*S46,IF(E6=\"B\",E21*S47,IF(E6=\"C\",E21*S48,IF(E6=\"D\",E21*S49,E21*S50)))),IF(E6=\"A\",E21*H46,IF(E6=\"B\",E21*H47,IF(E6=\"C\",E21*H48,IF(E6=\"D\",E21*H49,E21*H50)))))","v":{"$error":"#REF!"}},{"$f":"IF(#REF!=\"Base del banco de precios BEDEC\",IF($E$6=\"A\",$E21*T46,IF($E$6=\"B\",$E21*T47,IF($E$6=\"C\",$E21*T48,IF($E$6=\"D\",$E21*T49,E21*T50)))),IF($E$6=\"A\",$E21*I46,IF($E$6=\"B\",$E21*I47,IF($E$6=\"C\",$E21*I48,IF($E$6=\"D\",$E21*I49,E21*I50)))))","v":{"$error":"#REF!"}},{"$f":"IF(#REF!=\"Base del banco de precios BEDEC\",IF($E$6=\"A\",$E21*U46,IF($E$6=\"B\",$E21*U47,IF($E$6=\"C\",$E21*U48,IF($E$6=\"D\",$E21*U49,E21*U50)))),IF($E$6=\"A\",$E21*J46,IF($E$6=\"B\",$E21*J47,IF($E$6=\"C\",$E21*J48,IF($E$6=\"D\",$E21*J49,E21*J50)))))","v":{"$error":"#REF!"}},{"$f":"IF(#REF!=\"Base del banco de precios BEDEC\",IF($E$6=\"A\",$E21*V46,IF($E$6=\"B\",$E21*V47,IF($E$6=\"C\",$E21*V48,IF($E$6=\"D\",$E21*V49,E21*V50)))),IF($E$6=\"A\",$E21*K46,IF($E$6=\"B\",$E21*K47,IF($E$6=\"C\",$E21*K48,IF($E$6=\"D\",$E21*K49,E21*K50)))))","v":{"$error":"#REF!"}}]
[null,null,"Forjados interiores","m2",{"$f":"#REF!","v":{"$error":"#REF!"}},null,{"$f":"IF(#REF!=\"Base del banco de precios BEDEC\",(R52*E22),(G52*E22))","v":{"$error":"#REF!"}},{"$f":"IF(#REF!=\"Base del banco de precios BEDEC\",(S52*E22),(H52*E22))","v":{"$error":"#REF!"}},{"$f":"IF(#REF!=\"Base del banco de precios BEDEC\",(T52*E22),(I52*E22))","v":{"$error":"#REF!"}},{"$f":"IF(#REF!=\"Base del banco de precios BEDEC\",(U52*E22),(J52*E22))","v":{"$error":"#REF!"}},{"$f":"IF(#REF!=\"Base del banco de precios BEDEC\",(V52*E22),(K52*E22))","v":{"$error":"#REF!"}}]
[null,null,"Medianera","m2",{"$f":"#REF!","v":{"$error":"#REF!"}},null,{"$f":"IF(#REF!=\"Base del banco de precios BEDEC\",(R54*E23),(G54*E23))","v":{"$error":"#REF!"}},{"$f":"IF(#REF!=\"Base del banco de precios BEDEC\",(S54*E23),(H54*E23))","v":{"$error":"#REF!"}},{"$f":"IF(#REF!=\"Base del banco de precios BEDEC\",(T54*E23),(I54*E23))","v":{"$error":"#REF!"}},{"$f":"IF(#REF!=\"Base del banco de precios BEDEC\",(U54*E23),(J54*E23))","v":{"$error":"#REF!"}},{"$f":"IF(#REF!=\"Base del banco de precios BEDEC\",(V54*E23),(K54*E23))","v":{"$error":"#REF!"}}]
[null,null,"Muro exterior","m2",{"$f":"#REF!","v":{"$error":"#REF!"}},null,{"$f":"IF(#REF!=\"Base del banco de precios BEDEC\",IF(E6=\"A\",E24*R57,IF(E6=\"B\",E24*R58,IF(E6=\"C\",E24*R59,IF(E6=\"D\",E24*R60,E24*R61)))),IF(E6=\"A\",E24*G57,IF(E6=\"B\",E24*G58,IF(E6=\"C\",E24*G59,IF(E6=\"D\",E24*G60,E24*G61)))))","v":{"$error":"#REF!"}},{"$f":"IF(#REF!=\"Base del banco de precios BEDEC\",IF(E6=\"A\",E24*S57,IF(E6=\"B\",E24*S58,IF(E6=\"C\",E24*S59,IF(E6=\"D\",E24*S60,E24*S61)))),IF(E6=\"A\",E24*H57,IF(E6=\"B\",E24*H58,IF(E6=\"C\",E24*H59,IF(E6=\"D\",E24*H60,E24*H61)))))","v":{"$error":"#REF!"}},{"$f":"IF(#REF!=\"Base del banco de precios BEDEC\",IF(E6=\"A\",E24*T57,IF(E6=\"B\",E24*T58,IF(E6=\"C\",E24*T59,IF(E6=\"D\",E24*T60,E24*T61)))),IF(E6=\"A\",E24*I57,IF(E6=\"B\",E24*I58,IF(E6=\"C\",E24*I59,IF(E6=\"D\",E24*I60,E24*I61)))))","v":{"$error":"#REF!"}},{"$f":"IF(#REF!=\"Base del banco de precios BEDEC\",IF(E6=\"A\",E24*U57,IF(E6=\"B\",E24*U58,IF(E6=\"C\",E24*U59,IF(E6=\"D\",E24*U60,E24*U61)))),IF(E6=\"A\",E24*J57,IF(E6=\"B\",E24*J58,IF(E6=\"C\",E24*J59,IF(E6=\"D\",E24*J60,E24*J61)))))","v":{"$error":"#REF!"}},{"$f":"IF(#REF!=\"Base del banco de precios BEDEC\",IF(E6=\"A\",E24*V57,IF(E6=\"B\",E24*V58,IF(E6=\"C\",E24*V59,IF(E6=\"D\",E24*V60,E24*V61)))),IF(E6=\"A\",E24*K57,IF(E6=\"B\",E24*K58,IF(E6=\"C\",E24*K59,IF(E6=\"D\",E24*K60,E24*K61)))))","v":{"$error":"#REF!"}}]
[null,null,"Partición interior","m2",{"$f":"#REF!","v":{"$error":"#REF!"}},null,{"$f":"IF(#REF!=\"Base del banco de precios BEDEC\",(R63*E25),(G63*E25))","v":{"$error":"#REF!"}},{"$f":"IF(#REF!=\"Base del banco de precios BEDEC\",(S63*E25),(H63*E25))","v":{"$error":"#REF!"}},{"$f":"IF(#REF!=\"Base del banco de precios BEDEC\",(T63*E25),(I63*E25))","v":{"$error":"#REF!"}},{"$f":"IF(#REF!=\"Base del banco de precios BEDEC\",(U63*E25),(J63*E25))","v":{"$error":"#REF!"}},{"$f":"IF(#REF!=\"Base del banco de precios BEDEC\",(V63*E25),(K63*E25))","v":{"$error":"#REF!"}}]
[null,null,"Suelo","m2",{"$f":"#REF!","v":{"$error":"#REF!"}},null,{"$f":"IF(#REF!=\"Base del banco de precios BEDEC\",IF(E6=\"A\",E26*R66,IF(E6=\"B\",E26*R67,IF(E6=\"C\",E26*R68,IF(E6=\"D\",E26*R69,E26*R70)))),IF(E6=\"A\",E26*G66,IF(E6=\"B\",E26*G67,IF(E6=\"C\",E26*G68,IF(E6=\"D\",E26*G69,E26*G70)))))","v":{"$error":"#REF!"}},{"$f":"IF(#REF!=\"Base del banco de precios BEDEC\",IF(E6=\"A\",E26*S66,IF(E6=\"B\",E26*S67,IF(E6=\"C\",E26*S68,IF(E6=\"D\",E26*S69,E26*S70)))),IF(E6=\"A\",E26*H66,IF(E6=\"B\",E26*H67,IF(E6=\"C\",E26*H68,IF(E6=\"D\",E26*H69,E26*H70)))))","v":{"$error":"#REF!"}},{"$f":"IF(#REF!=\"Base del banco de precios BEDEC\",IF(E6=\"A\",E26*T66,IF(E6=\"B\",E26*T67,IF(E6=\"C\",E26*T68,IF(E6=\"D\",E26*T69,E26*T70)))),IF(E6=\"A\",E26*I66,IF(E6=\"B\",E26*I67,IF(E6=\"C\",E26*I68,IF(E6=\"D\",E26*I69,E26*I70)))))","v":{"$error":"#REF!"}},{"$f":"IF(#REF!=\"Base del banco de precios BEDEC\",IF(E6=\"A\",E26*U66,IF(E6=\"B\",E26*U67,IF(E6=\"C\",E26*U68,IF(E6=\"D\",E26*U69,E26*U70)))),IF(E6=\"A\",E26*J66,IF(E6=\"B\",E26*J67,IF(E6=\"C\",E26*J68,IF(E6=\"D\",E26*J69,E26*J70)))))","v":{"$error":"#REF!"}},{"$f":"IF(#REF!=\"Base del banco de precios BEDEC\",IF(E6=\"A\",E26*V66,IF(E6=\"B\",E26*V67,IF(E6=\"C\",E26*V68,IF(E6=\"D\",E26*V69,E26*V70)))),IF(E6=\"A\",E26*K66,IF(E6=\"B\",E26*K67,IF(E6=\"C\",E26*K68,IF(E6=\"D\",E26*K69,E26*K70)))))","v":{"$error":"#REF!"}}]
[null,null,"Huecos"]
[null,null,"N","m2",{"$f":"#REF!","v":{"$error":"#REF!"}},null,{"$f":"IF(#REF!=\"Base del banco de precios BEDEC\",IF(G10=\"TIPO I\",$E28*$R$72,IF(G10=\"TIPO II\",$E28*$R$73)),IF(G10=\"TIPO I\",$E28*$G$72,IF(G10=\"TIPO II\",$E28*$G$73)))","v":{"$error":"#REF!"}},{"$f":"IF(#REF!=\"Base del banco de precios BEDEC\",IF(G10=\"TIPO I\",E28*$S$72,IF(G10=\"TIPO II\",E28*$S$73)),IF(G10=\"TIPO I\",E28*$H$72,IF(G10=\"TIPO II\",E28*$H$73)))","v":{"$error":"#REF!"}},{"$f":"IF(#REF!=\"Base del banco de precios BEDEC\",IF(G10=\"TIPO I\",E28*$T$72,IF(G10=\"TIPO II\",E28*$T$73)),IF(G10=\"TIPO I\",E28*$I$72,IF(G10=\"TIPO II\",E28*$I$73)))","v":{"$error":"#REF!"}},{"$f":"IF(#REF!=\"Base del banco de precios BEDEC\",IF(G10=\"TIPO I\",E28*$U$72,IF(G10=\"TIPO II\",E28*$U$73)),IF(G10=\"TIPO I\",E28*$J$72,IF(G10=\"TIPO II\",E28*$J$73)))","v":{"$error":"#REF!"}},{"$f":"IF(#REF!=\"Base del banco de precios BEDEC\",IF(G10=\"TIPO I\",$E28*$V$72,IF(G10=\"TIPO II\",$E28*$V$73)),IF(G10=\"TIPO I\",$E28*$K$72,IF(G10=\"TIPO II\",$E28*$K$73)))","v":{"$error":"#REF!"}}]
[null,null,"E/O","m2",{"$f":"#REF!","v":{"$error":"#REF!"}},null,{"$f":"IF(#REF!=\"Base del banco de precios BEDEC\",IF(G12=\"TIPO I\",$E29*$R$72,IF(G12=\"TIPO II\",$E29*$R$73)),IF(G12=\"TIPO I\",$E29*$G$72,IF(G12=\"TIPO II\",$E29*$G$73)))","v":{"$error":"#REF!"}},{"$f":"IF(#REF!=\"Base del banco de precios BEDEC\",IF(G12=\"TIPO I\",E29*$S$72,IF(G12=\"TIPO II\",E29*$S$73)),IF(G12=\"TIPO I\",E29*$H$72,IF(G12=\"TIPO II\",E29*$H$73)))","v":{"$error":"#REF!"}},{"$f":"IF(#REF!=\"Base del banco de precios BEDEC\",IF(G12=\"TIPO I\",E29*$T$72,IF(G12=\"TIPO II\",E29*$T$73)),IF(G12=\"TIPO I\",E29*$I$72,IF(G12=\"TIPO II\",E29*$I$73)))","v":{"$error":"#REF!"}},{"$f":"IF(#REF!=\"Base del banco de precios BEDEC\",IF(G12=\"TIPO I\",E29*$U$72,IF(G12=\"TIPO II\",E29*$U$73)),IF(G12=\"TIPO I\",E29*$J$72,IF(G12=\"TIPO II\",E29*$J$73)))","v":{"$error":"#REF!"}},{"$f":"IF(#REF!=\"Base del banco de precios BEDEC\",IF(G12=\"TIPO I\",$E29*$V$72,IF(G12=\"TIPO II\",$E29*$V$73)),IF(G12=\"TIPO I\",$E29*$K$72,IF(G12=\"TIPO II\",$E29*$K$73)))","v":{"$error":"#REF!"}}]
[null,null,"S","m2",{"$f":"#REF!","v":{"$error":"#REF!"}},null,{"$f":"IF(#REF!=\"Base del banco de precios BEDEC\",IF(G14=\"TIPO I\",$E30*$R$72,IF(G14=\"TIPO II\",$E30*$R$73)),IF(G14=\"TIPO I\",$E30*$G$72,IF(G14=\"TIPO II\",$E30*$G$73)))","v":{"$error":"#REF!"}},{"$f":"IF(#REF!=\"Base del banco de precios BEDEC\",IF(G14=\"TIPO I\",E30*$S$72,IF(G14=\"TIPO II\",E30*$S$73)),IF(G14=\"TIPO I\",E30*$H$72,IF(G14=\"TIPO II\",E30*$H$73)))","v":{"$error":"#REF!"}},{"$f":"IF(#REF!=\"Base del banco de precios BEDEC\",IF(G14=\"TIPO I\",E30*$T$72,IF(G14=\"TIPO II\",E30*$T$73)),IF(G14=\"TIPO I\",E30*$I$72,IF(G14=\"TIPO II\",E30*$I$73)))","v":{"$error":"#REF!"}},{"$f":"IF(#REF!=\"Base del banco de precios BEDEC\",IF(G14=\"TIPO I\",E30*$U$72,IF(G14=\"TIPO II\",E30*$U$73)),IF(G14=\"TIPO I\",E30*$J$72,IF(G14=\"TIPO II\",E30*$J$73)))","v":{"$error":"#REF!"}},{"$f":"IF(#REF!=\"Base del banco de precios BEDEC\",IF(G14=\"TIPO I\",$E30*$V$72,IF(G14=\"TIPO II\",$E30*$V$73)),IF(G14=\"TIPO I\",$E30*$K$72,IF(G14=\"TIPO II\",$E30*$K$73)))","v":{"$error":"#REF!"}}]
[null,null,"SE/SO","m2",{"$f":"#REF!","v":{"$error":"#REF!"}},null,{"$f":"IF(#REF!=\"Base del banco de precios BEDEC\",IF(G16=\"TIPO I\",$E31*$R$72,IF(G16=\"TIPO II\",$E31*$R$73)),IF(G16=\"TIPO I\",$E31*$G$72,IF(G16=\"TIPO II\",$E31*$G$73)))","v":{"$error":"#REF!"}},{"$f":"IF(#REF!=\"Base del banco de precios BEDEC\",IF(G16=\"TIPO I\",E31*$S$72,IF(G16=\"TIPO II\",E31*$S$73)),IF(G16=\"TIPO I\",E31*$H$72,IF(G16=\"TIPO II\",E31*$H$73)))","v":{"$error":"#REF!"}},{"$f":"IF(#REF!=\"Base del banco de precios BEDEC\",IF(G16=\"TIPO I\",E31*$T$72,IF(G16=\"TIPO II\",E31*$T$73)),IF(G16=\"TIPO I\",E31*$I$72,IF(G16=\"TIPO II\",E31*$I$73)))","v":{"$error":"#REF!"}},{"$f":"IF(#REF!=\"Base del banco de precios BEDEC\",IF(G16=\"TIPO I\",E31*$U$72,IF(G16=\"TIPO II\",E31*$U$73)),IF(G16=\"TIPO I\",E31*$J$72,IF(G16=\"TIPO II\",E31*$J$73)))","v":{"$error":"#REF!"}},{"$f":"IF(#REF!=\"Base del banco de precios BEDEC\",IF(G16=\"TIPO I\",$E31*$V$72,IF(G16=\"TIPO II\",$E31*$V$73)),IF(G16=\"TIPO I\",$E31*$K$72,IF(G16=\"TIPO II\",$E31*$K$73)))","v":{"$error":"#REF!"}}]
[null,null,"Cimetación"]
[null,null,"muro de contención","m2",{"$f":"#REF!","v":{"$error":"#REF!"}},null,{"$f":"E33*DATOSMat!G74","v":{"$error":"#REF!"}},{"$f":"E33*DATOSMat!H74","v":{"$error":"#REF!"}},{"$f":"E33*DATOSMat!I74","v":{"$error":"#REF!"}},{"$f":"F33*DATOSMat!J74","v":0},{"$f":"G33*DATOSMat!K74","v":{"$error":"#REF!"}}]
[]
[]
[null,null,"Valores del edificio de referencia Totales",null,null,null,{"$f":"SUM(G20:G33)","v":{"$error":"#REF!"}},{"$f":"SUM(H20:H33)","v":{"$error":"#REF!"}},{"$f":"SUM(I20:I33)","v":{"$error":"#REF!"}},{"$f":"SUM(J20:J33)","v":{"$error":"#REF!"}},{"$f":"SUM(K20:K33)","v":{"$error":"#REF!"}}]
[]
[null,null,"Valores del edificio de referencia al m2",null,null,null,{"$f":"G36/DG!$F20","v":{"$error":"#REF!"}},{"$f":"H36/DG!$F20","v":{"$error":"#REF!"}},{"$f":"I36/DG!$F20","v":{"$error":"#REF!"}},{"$f":"J36/DG!$F20","v":{"$error":"#REF!"}},{"$f":"K36/DG!$F20","v":{"$error":"#REF!"}}]
[]
[]
[null,"CYPE",null,null,null,null,null,null,null,null,null,null,"BEDEC"]
[null,null,null,null,null,null,"Materias primas","Energía","Emisiones","Rsiduos",null,null,null,null,null,null,null,"Materias primas","Energía","Emisiones","Rsiduos"]
[null,"ELEMENTO","MATERIAL",null,"ESPESOR AISLAMIENTO","Ud.","kg/Ud","MJ/Ud","kgCO2/Ud","kg/Ud","m3",null,"ELEMENTO","MATERIAL",null,"ESPESOR AISLAMIENTO","Ud.","kg/Ud","MJ/Ud","kgCO2/Ud","kg/Ud","m3"]
[]
[null,"CUBIERTA","TOTAL","A",0.04,"m2",459.11699999999996,1088.162,88.481999999999999,8.3049999999999997,6.731E-3,null,"CUBIERTA","TOTAL","A",0.04,"m2",897.67599999999993,1362.96,145.58000000000001,5.6269999999999998,2.7E-2]
[null,null,null,"A",0.04,"m2",459.11699999999996,1088.162,88.481999999999999,8.3049999999999997,6.731E-3,null,null,null,"A",0.04,"m2",897.67599999999993,1313.82,138.33000000000001,5.617,2.7E-2]
[null,null,null,"B",0.05,null,459.642,1096.002,89.037000000000006,8.3209999999999997,6.7580000000000001E-3,null,null,null,"B",0.05,null,897.78599999999994,1461.24,160.15,5.7270000000000003,2.7E-2]
[null,null,null,"C",0.06,null,460.16700000000003,1104.8220000000001,89.593000000000004,8.3719999999999999,6.842E-3,null,null,null,"C",0.06,null,897.88599999999997,1420.75,154.12,5.7670000000000003,2.7E-2]
[null,null,null,"D",7.0000000000000007E-2,null,460.69200000000001,1114.6220000000001,90.149000000000001,8.3879999999999999,6.8690000000000001E-3,null,null,null,"D",7.0000000000000007E-2,null,897.99599999999998,1420.75,154.12,5.7670000000000003,2.7E-2]
[null,null,null,"E",0.08,null,461.21699999999998,1124.422,90.704999999999998,8.4039999999999999,6.8959999999999994E-3,null,null,null,"E",0.08,null,898.096,1691.01,194.14,5.9470000000000001,2.7E-2]
[]
[null,"FORJADOS INTERIORES","TOTAL",null,0,"m2",369.803,950.33,74.833999999999989,4.8289999999999997,3.7890000000000003E-3,null,"FORJADOS INTERIORES","TOTAL",null,0,"m2",440.71000000000004,863.12,86.11,3.8690000000000002,1.6300000000000002E-2]
[]
[null,"MEDIANERA","TOTAL",null,0.02,"m2",295.79399999999998,674.39800000000002,51.424999999999997,7.9009999999999998,3.3300000000000001E-3,null,"MEDIANERA","TOTAL",null,0.02,"m2",167.46599999999998,634.68999999999994,45.93,6.01,1.6E-2]
[]
[null,"MURO EXTERIOR","TOTAL","A",0.02,"m2",189.31399999999996,831.45100000000002,60.470999999999997,15.406000000000001,1.0588E-2,null,"MURO EXTERIOR","TOTAL","A",0.02,"m2",372.38000000000005,833.21,76.08,16.268000000000001,1.9899999999999998E-2]
[null,null,null,"A",0.02,"m2",189.31399999999996,831.45100000000002,60.470999999999997,15.406000000000001,1.0588E-2,null,null,null,"A",0.02,"m2",372.38000000000005,870.07,81.52,16.3,1.9899999999999998E-2]
[null,null,null,"B",0.03,null,189.62899999999996,860.24200000000008,61.738,15.422000000000001,1.0614E-2,null,null,null,"B",0.03,null,372.44000000000005,894.64,85.15,16.329999999999998,2.01E-2]
[null,null,null,"C",0.04,null,189.94399999999996,889.03300000000002,63.004999999999995,15.436999999999999,1.0639000000000001E-2,null,null,null,"C",0.04,null,372.49,985.55,98.57,16.54,2.0399999999999998E-2]
[null,null,null,"D",0.04,null,190.25899999999999,917.82400000000007,64.271999999999991,15.452,1.0664E-2,null,null,null,"D",0.04,null,372.96000000000004,1078.9100000000001,112.35,16.510000000000002,2.1099999999999997E-2]
[null,null,null,"E",0.06,null,190.57399999999998,946.61500000000001,65.537999999999997,15.467000000000001,1.0689000000000001E-2,null,null,null,"E",0.06,null,372.54,1103.48,115.97,16.59,2.0699999999999996E-2]
[]
[null,"PARTICIÓN INTERIOR","TOTAL",null,0,"m2",197.398,232.98599999999999,18.257000000000001,1.7230000000000001,1.897E-3,null,"PARTICIÓN INTERIOR","TOTAL",null,0,"m2",62.52,544.65,40.020000000000003,1.59,4.8999999999999998E-3]
[]
[null,"SUELO","TOTAL","A",0.04,null,384.78,723.50099999999998,60.605999999999995,4.0720000000000001,1.1214E-2,null,"SUELO","TOTAL","A",0.04,null,598.33500000000004,252.84,60.62,1.2250000000000001,4.3E-3]
[null,null,null,"A",0.04,null,384.78,723.50099999999998,60.605999999999995,4.0720000000000001,1.1214E-2,null,null,null,"A",0.04,null,598.33500000000004,252.84,60.62,1.2250000000000001,4.3E-3]
[null,null,null,"B",4.4999999999999998E-2,null,385.30499999999995,731.34100000000001,61.160999999999994,4.0880000000000001,1.1240999999999999E-2,null,null,null,"B",4.4999999999999998E-2,null,598.39,265.12,62.44,1.2350000000000001,4.3E-3]
[null,null,null,"C",4.4999999999999998E-2,null,385.82999999999993,740.16099999999994,61.716999999999999,4.1390000000000002,1.1325E-2,null,null,null,"C",4.4999999999999998E-2,null,598.49,387.97,80.569999999999993,1.3149999999999999,4.3E-3]
[null,null,null,"D",0.05,null,386.35499999999996,749.96100000000001,62.272999999999996,4.1550000000000002,1.1351999999999999E-2,null,null,null,"D",0.05,null,598.6,338.83,73.31,1.345,4.3E-3]
[null,null,null,"E",0.08,null,386.87999999999994,759.76099999999997,62.828999999999994,4.1710000000000003,1.1379E-2,null,null,null,"E",0.08,null,598.69999999999993,368.32,77.67,1.4650000000000001,4.3E-3]
[]
[null,"HUECOS","TIPO I",null,null,"m2",31.268000000000001,2106.2399999999998,276.08199999999999,0.42499999999999999,4.7099999999999996E-4,null,"HUECOS","TIPO I",null,null,"m2",48.040000000000006,3463.77,481.24,9.7300000000000002E-4,1.578E-3]
[null,null,"TIPO II",null,null,"m2",30.654,2044.8400000000001,266.995,0.439,5.31E-4,null,null,"TIPO II",null,null,"m2",66.540000000000006,3501.46,488.85,9.7300000000000002E-4,1.2639999999999999E-3]

{"sheet":"AI","index":26,"n_rows":168,"n_cols":23,"rows_kept":168,"cut":false,"hidden":false,"merged":[[2,2,2,3],[31,4,31,5],[2,4,2,5],[2,6,2,7],[15,5,16,5],[18,5,19,5],[21,6,21,7],[23,4,23,5],[23,6,23,7],[25,5,25,6],[27,5,27,6],[29,5,29,6],[53,14,53,19],[61,5,62,5],[64,6,64,7],[66,4,66,5],[66,6,66,7],[92,5,92,6],[94,5,94,6],[68,5,68,6],[70,4,70,5],[76,5,77,5],[79,5,80,5],[82,5,82,6],[84,6,84,7],[72,4,72,5],[72,6,72,7],[100,13,100,22],[104,4,104,5],[112,4,112,5],[116,5,117,5],[119,5,120,5],[72,2,72,3],[140,5,141,5],[143,6,143,7],[145,4,145,5],[145,6,145,7],[122,5,123,5],[125,4,125,5],[129,5,130,5],[132,5,133,5],[135,5,136,5],[138,4,138,5],[96,4,96,5],[86,4,86,5],[86,6,86,7],[88,5,88,6],[90,5,90,6],[33,2,33,3],[33,4,33,5],[33,6,33,7],[51,2,51,3],[51,4,51,5],[51,6,51,7],[49,4,49,5],[37,5,38,5],[41,6,41,7],[43,4,43,5],[43,6,43,7],[45,5,45,6],[47,5,47,6],[98,2,98,3],[98,4,98,5],[98,6,98,7],[157,6,157,8],[151,5,151,6],[153,4,153,5],[147,5,147,6],[149,5,149,6]]}
[]
[]
[null,null,{"$f":"'Matriz VERDE-GBCe'!U36","v":"AI"},null,{"$f":"'Matriz VERDE-GBCe'!V36","v":"Ambiente Interior."}]
[]
[]
[null,null,null,null,{"$f":"'Matriz VERDE-GBCe'!V37","v":"AI 01"},{"$f":"VLOOKUP($E6,'Matriz VERDE-GBCe'!$V$7:$Y$51,2,FALSE)","v":"Limitación de las emisiones de COVs"},{"$f":"VLOOKUP($E6,'Matriz VERDE-GBCe'!$V$7:$Y$51,3,FALSE)","v":1.9020483597720624E-2},null,null,null,null,null,null,null,null,null,null,null,null,"SE ADJUNTA",null,"SÍ","NO"]
[null,null,null,null,null,null,null,null,null,null,null,null,null,null,null,null,null,null,null,"NO SE ADJUNTA",null,"NO"]
[null,null,null,null,null,"¿Se ha realizado un test de concentración de TCOVs?",null,null,null,null,null,null,null,null,null,null,null,null,null,"NO APLICA"]
[null,null,null,null,null,null,null,null,null,null,null,null,null,null,null,null,null,null,null,"NO SE ADJUNTA",null,"NO"]
[null,null,null,null,null,"Concentración resultante del test en TCOVs:",null,null,null,null,null,null,{"$f":"IF(I10=\"\",0,IF(I10>3000,0,IF(I10=0,1,(100-(I10/30))/100)))","v":0},null,null,null,null,null,null,"NO APLICA"]
[null,null,null,null,null,null,null,null,null,null,null,null,null,null,null,null,null,null,null,"NO SE ADJUNTA",null,"NO"]
[null,null,null,null,null,"Concentración resultante del test en formaldehidos:",null,null,null,null,null,null,{"$f":"IF(I12=\"\",0,IF(I12>120,0,IF(I12=0,1,(100-(I12/1.2))/100)))","v":0},null,null,null,null,null,null,"NO APLICA"]
[null,null,null,null,null,null,null,null,null,null,null,null,null,null,null,null,null,null,null,"NO SE ADJUNTA",null,"NO"]
[null,null,null,null,null,"¿Se cumple con las condiciones mínimas requeridas?",{"$f":"IF(OR(I10=\"\",I12=\"\",I10>3000,I12>120),\"No\",\"Sí\")","v":"No"},null,null,null,null,null,{"$f":"IF(G14=\"no\",0,((M10+M12)/2)*G6)","v":0},null,null,null,null,null,null,"NO APLICA"]
[null,null,null,null,null,null,null,null,null,null,null,null,null,null,null,null,null,null,null,"NO SE ADJUNTA",null,"NO"]
[null,null,null,null,null,"Todos los productos pertenecientes a las familias de pinturas y barnices, adhesivos y sellantes y derivados de la madera tienen emisiones nulas.",null,null,null,null,null,null,{"$f":"IF(I16=\"Sí\",0.6*G$6,0)","v":0},null,null,null,null,null,null,"NO APLICA"]
[]
[null,null,null,null,null,null,null,null,null,null,null,null,null,null,null,null,null,null,null,"NO SE ADJUNTA",null,"NO"]
[null,null,null,null,null,"Todos los productos pertenecientes a las familias de pinturas y barnices, adhesivos y sellantes y derivados de la madera tienen emisiones dentro de los rango indicados en el criterio.",null,null,null,null,null,null,{"$f":"IF(I19=\"Sí\",0.4*G$6,0)","v":0},null,null,null,null,null,null,"NO APLICA"]
[]
[]
[null,null,null,null,"NOTAS"]
[]
[null,null,null,null,"DOCUMENTOS JUSTIFICATIVOS"]
[]
[null,null,null,null,"AI 01.01","Resultados y condiciones de las pruebas de nivel de COV en el edificio"]
[]
[null,null,null,null,"AI 01.02","Documentación técnica de las emisiones de COV de las pinturas, barnices, colas, etc.; los certificados de conformidad de los productos de derivados de madera de clase E1 utilizados en el edificio, y certificados de conformidad o documentación técnica de adhesivos y sellantes con clasificación EMICODE EC1PLUS y EC1 y GREENGUARD  Gold y Emissions dans l'air interieur A+"]
[]
[null,null,null,null,"AI 01.03","Mediciones del proyecto marcando todos los materiales de acabado interior susceptibles de emitir COV"]
[]
[null,null,null,null,"VALORACIÓN DEL CRITERIO",null,{"$f":"MAX($M14,$M16+$M19)","v":0}]
[]
[]
[]
[null,null,null,null,{"$f":"'Matriz VERDE-GBCe'!V38","v":"AI 02"},{"$f":"VLOOKUP($E36,'Matriz VERDE-GBCe'!$V$7:$Y$51,2,FALSE)","v":"Control de la calidad del aire"},{"$f":"VLOOKUP($E36,'Matriz VERDE-GBCe'!$V$7:$Y$51,3,FALSE)","v":1.8609784896555268E-2}]
[]
[null,null,null,null,null,"Al menos los espacios de alta densidad de ocupación y uso variable cuentan con un sistema de detección de CO2 conectado al sistema de control de ventilación."]
[]
[]
[]
[null,null,null,null,"NOTAS"]
[]
[null,null,null,null,"DOCUMENTOS JUSTIFICATIVOS"]
[]
[null,null,null,null,"AI 02.03","Plano identificativo de los espacios de alta ocupación."]
[]
[null,null,null,null,"AI 02.04","Proyecto de instalaciones, planos y memoria donde se detalle el tipo de sistema de medición de CO2 instalado, los requisitos de montaje e instalación con la definición de los valores de consigna."]
[]
[null,null,null,null,"VALORACIÓN DEL CRITERIO",null,{"$f":"IF(I38=\"sí\",G36,0)","v":0}]
[]
[]
[]
[null,null,null,null,{"$f":"'Matriz VERDE-GBCe'!V39","v":"AI 03"},{"$f":"VLOOKUP($E54,'Matriz VERDE-GBCe'!$V$7:$Y$51,2,FALSE)","v":"Iluminación natural."},{"$f":"VLOOKUP($E54,'Matriz VERDE-GBCe'!$V$7:$Y$51,3,FALSE)","v":1.8609784896555268E-2},null,null,null,null,null,{"$f":"DG!F31","v":0}]
[]
[null,null,null,null,null,"Ir a la hoja de cálculo del criterio"]
[]
[null,null,null,null,null,"¿Se ha empleado un sistema de cálculo alternativo al propuesto en GEA?",null,null,null,null,null,null,null,"RH"]
[]
[null,null,null,null,null,"Porcentaje de espacios de trabajo que alcanzan el DF requerido",{"$f":"'AI 03'!S1283","v":""},null,null,null,null,null,{"$f":"IF(OR(G60=\"\",$G60<0.7),0,(($G60-0.7)/0.3)*$G54)","v":0},{"$f":"IF(OR(G60=\"\",$G60<0.7),0,IF($G60>0.9,$G54,(($G60-0.6)/0.3)*$G54))","v":0}]
[]
[null,null,null,null,null,"En caso de sistema de cálculo alternativo, porcentaje de espacios de trabajo que alcanzan el DF requerido",null,null,null,null,null,null,{"$f":"IF(OR(I62=\"\",$I62<0.7),0,(($I62-0.7)/0.3)*$G54)","v":0},{"$f":"IF($I62<0.6,0,IF($I62>0.9,$G54,(($I62-0.6)/0.3)*$G54))","v":0}]
[]
[]
[null,null,null,null,"NOTAS"]
[]
[null,null,null,null,"DOCUMENTOS JUSTIFICATIVOS"]
[]
[null,null,null,null,"AI 03.01","Memoria de cálculo para obtener el factor de luz diurna (DF)."]
[]
[null,null,null,null,"VALORACIÓN DEL CRITERIO",null,{"$f":"IF(OR(M54=\"Rehabilitación\",M54=\"Edificio existente\"),IF(I58=\"Sí\",N62,N60),IF(I58=\"Sí\",M62,M60))","v":0}]
[]
[]
[]
[null,null,null,null,{"$f":"'Matriz VERDE-GBCe'!V40","v":"AI 04"},{"$f":"VLOOKUP($E75,'Matriz VERDE-GBCe'!$V$7:$Y$51,2,FALSE)","v":"Iluminación artificial"},{"$f":"VLOOKUP($E75,'Matriz VERDE-GBCe'!$V$7:$Y$51,3,FALSE)","v":2.0021561681811184E-2}]
[]
[null,null,null,null,null,"Porcentaje de superficie de  espacios de trabajo que mejoran la norma en iluminancia mantenida",null,null,null,null,null,null,{"$f":"IF($I77<0.7,0,IF($I77=1,$G$75*0.3,(($I77-0.7)/0.3)*($G$75*0.3)))","v":0}]
[]
[]
[null,null,null,null,null,"Porcentaje de superficie de  espacios de trabajo que mejoran la norma en índice de reproducción cromática",null,null,null,null,null,null,{"$f":"IF($I80<0.7,0,IF($I80=1,$G$75*0.3,(($I80-0.7)/0.3)*($G$75*0.3)))","v":0}]
[]
[]
[null,null,null,null,null,"¿Se cuenta con un manual de mantenimiento de luminarias?",null,null,null,null,null,null,{"$f":"IF(I83=\"sí\",G75*0.4,0)","v":0}]
[]
[null,null,null,null,"NOTAS"]
[]
[null,null,null,null,"DOCUMENTOS JUSTIFICATIVOS"]
[]
[null,null,null,null,"AI 04.01","Pliego de condiciones donde se incluyan las características técnicas de las lámparas y su índice de reproducción cromática (Ra)."]
[]
[null,null,null,null,"AI 04.02","Justificación del cálculo de la iluminancia mantenida media (Em) de las estancias de uso habitual. Si para la justificación del HE3 se ha utilizado el programa Dialux, se podrán tomar los resultados de cálculo de Em de cada estancia de uso habitual"]
[]
[null,null,null,null,"AI 04.03","Cuadro justificativo con identificación de todas las zonas de trabajo, actividad desarrollada en la misma, superficie útil, Em y Ra definido en proyecto y Em Ra recomendado por norma para cada una de las zonas de trabajo."]
[]
[null,null,null,null,"AI 04.04","Plantas del proyecto en el que se identifiquen claramente los espacios de trabajo considerados y el nombre asociado empleado en el cuadro justificativo."]
[]
[null,null,null,null,"VALORACIÓN DEL CRITERIO",null,{"$f":"$M77+$M80+$M83","v":0}]
[]
[]
[]
[null,null,null,null,{"$f":"'Matriz VERDE-GBCe'!V41","v":"AI 05"},{"$f":"VLOOKUP($E101,'Matriz VERDE-GBCe'!$V$7:$Y$51,2,FALSE)","v":"Protección frente al ruido."},{"$f":"VLOOKUP($E101,'Matriz VERDE-GBCe'!$V$7:$Y$51,3,FALSE)","v":1.8609784896555268E-2}]
[]
[null,null,null,null,null," ¿Se exige el cumplimiento del CTE DB HR?",null,null,null,null,null,null,null,"Con CTE","Sin CTE"]
[]
[null,null,null,null,"Protección al ruido procedentre del extrerior"]
[]
[null,null,null,null,null,"Ruido exterior o índice de ruido día (Ld) en dB"]
[]
[null,null,null,null,null,"Aislamiento acústico exigido por normativa (dB)"]
[]
[null,null,null,null,null,"Aislamiento acústico definido en proyecto",null,null,null,null,null,null,null,{"$f":"IF(I109=\"\",0,IF(I111>=(I109+4),1,0))","v":0},{"$f":"IF(I109=\"\",0,IF(I111>=I109,1,0))","v":0}]
[]
[null,null,null,null,"Protección al ruido generado en recintos de instalaciones"]
[]
[null,null,null,null,null,"¿Hay espacios de uso habitual colindantes a recintos de instalaciones?",null,null,null,null,null,null,null,{"$f":"IF(I115=\"No\",1,IF((N117+N120+N123=3),1,0))","v":0},{"$f":"IF(I115=\"No\",1,IF(O117+O120+O123=3,1,0))","v":0}]
[]
[null,null,null,null,null,"Aislamiento acústico al ruido aéreo definido en proyecto en separaciones verticales entre recintos de instalaciones y espacios de uso habitual  (DnT,A)",null,null,null,null,null,null,55,{"$f":"IF(I118>=59,1,0)","v":0},{"$f":"IF(I118>=55,1,0)","v":0}]
[]
[]
[null,null,null,null,null,"Aislamiento acústico al ruido aéreo definido en proyecto en separaciones horizontales entre recintos de instalaciones y espacios de uso habitual (DnT,A)",null,null,null,null,null,null,55,{"$f":"IF(I120>=59,1,0)","v":0},{"$f":"IF(I120>=55,1,0)","v":0}]
[]
[]
[null,null,null,null,null,"Aislamiento acústico al ruido de impacto definido en proyecto en separaciones horizontales entre recintos de instalaciones y espacios de uso habitual (LnT,W)",null,null,null,null,null,null,60,{"$f":"IF(I123=\"\",0,IF(I123<=56,1,0))","v":0},{"$f":"IF(I123=\"\",0,IF(I123<=60,1,0))","v":0}]
[]
[]
[null,null,null,null,"Protección al ruido generado en recintos de distinta unidad funcional de uso",null,null,null,null,null,null,null,null,{"$f":"IF(I128=\"Sí\",0,IF(N130+N133+N136=3,1,0))","v":0},{"$f":"IF(I128=\"Sí\",0,IF(O130+O133+O136=3,1,0))","v":0}]
[]
[null,null,null,null,null,"¿El edificio conforma una única unidad funcional de uso?"]
[]
[null,null,null,null,null,"Aislamiento acústico al ruido aéreo definido en proyecto en separaciones verticales entre zonas recintos de distinta unidad funcional de uso y espacios de uso habitual (DnT,A)",null,null,null,null,null,null,50,{"$f":"IF(I130>=54,1,0)","v":0},{"$f":"IF(I130>=50,1,0)","v":0}]
[]
[]
[null,null,null,null,null,"Aislamiento acústico al ruido aéreo definido en proyecto en separaciones horizontales entre zonas recintos de distinta unidad funcional de us y espacios de uso habitual (DnT,A)",null,null,null,null,null,null,50,{"$f":"IF(I133>=54,1,0)","v":0},{"$f":"IF(I133>=50,1,0)","v":0}]
[]
[]
[null,null,null,null,null,"Aislamiento acústico al ruido de impacto definido en proyecto en separaciones horizontales entre zonas recintos de distinta unidad funcional de us y espacios de uso habitual (LnT,W)",null,null,null,null,null,null,65,{"$f":"IF(I136=\"\",0,IF(I136<=61,1,0))","v":0},{"$f":"IF(I136=\"\",0,IF(I136<=65,1,0))","v":0}]
[]
[]
[null,null,null,null,"Comprobación del cumplimiento en obra construida"]
[]
[null,null,null,null,null,"Se ha realizado una comprobación del cumplimineto del criterio en obra construida con las especificaciones indicadas en la guía.",null,null,null,null,null,null,null,{"$f":"IF($I141=\"sí\",1,0.9)","v":0.9},{"$f":"IF($I141=\"sí\",1,0.9)","v":0.9}]
[]
[]
[null,null,null,null,"NOTAS"]
[]
[null,null,null,null,"DOCUMENTOS JUSTIFICATIVOS"]
[]
[null,null,null,null,"AI 05.01","Documento incluido en el proyecto de cumplimiento de las exigencia del CTE DB-HR, en el que aparezcan las caracteristicas acústicas de los elementos constructivos así como los valores estimados del D2m,nT,Atr para los diferentes grupos acústicamente equivalentes de recintos protegidos."]
[]
[null,null,null,null,"AI 05.02","Memoria justificativa del cumplimiento de los valores establecidos por el criterio."]
[]
[null,null,null,null,"AI 05.03","Comprobación in situ de las condiciones acústicas con la obra terminada.",null,null,null,null,null,null,null,{"$f":"IF(DG!E31=DG!K41,IF(I128=\"Sí\",(0.65*N$111*G$101+0.35*N$115*G$101),(0.5*N$111*G$101+0.2*N$115*G$101+0.3*N$126*G$101)),IF(I128=\"Sí\",((0.65*N$111*G$101+0.35*N$115*G$101)*N141),((0.5*N$111*G$101+0.2*N$115*G$101+0.3*N$126*G$101)*N$141)))","v":0},{"$f":"IF(DG!F31=DG!L41,IF(I128=\"Sí\",(0.65*O$111*G$101+0.35*O$115*G$101),(0.5*O$111*G$101+0.2*O$115*G$101+0.3*O$126*G$101)),IF(I128=\"Sí\",((0.65*O$111*G$101+0.35*O$115*G$101)*O141),((0.5*O$111*G$101+0.2*O$115*G$101+0.3*O$126*G$101)*O$141)))","v":0}]
[]
[null,null,null,null,"VALORACIÓN DEL CRITERIO",null,{"$f":"IF(OR($I103=\"no\",DG!F31=DG!L41),$O152,$N152)","v":0}]
[]
[]
[]
[null,null,null,null,null,null,"VALORACIÓN ÁREA"]
[]
[null,null,null,null,null,null,"SUBTOTAL",null,{"$f":"G32+G50+G71+G97+G154","v":0}]
[]
[null,null,null,null,null,null,"SOBRE",null,{"$f":"VLOOKUP(C$3,'Matriz VERDE-GBCe'!$U$4:$Y$51,4,FALSE)","v":9.4871399969197606E-2}]
[]
[]
[]
[]
[]
[null,null,null,null,null,null,"SÍ",null,"x"]

{"sheet":"AI 03","index":27,"n_rows":1283,"n_cols":46,"rows_kept":1283,"cut":false,"hidden":false,"merged":[[10,4,10,19],[3,4,3,19],[13,12,15,16],[1,2,1,19],[2,2,2,19],[6,12,6,18],[205,4,205,8],[236,4,236,6],[13,26,15,26],[81,4,81,6],[78,4,78,8],[18,24,18,25],[234,12,234,14],[171,12,171,14],[10,26,12,26],[16,26,17,26],[44,12,44,14],[46,4,46,6],[26,6,26,8],[6,4,6,10],[9,12,9,19],[36,4,36,6],[4,4,4,19],[8,4,8,19],[12,4,12,19],[299,4,299,6],[173,4,173,6],[183,4,183,6],[551,4,551,6],[268,4,268,8],[331,4,331,8],[488,4,488,6],[457,4,457,8],[56,4,56,6],[74,4,74,6],[435,4,435,6],[453,4,453,6],[541,4,541,6],[289,4,289,6],[397,4,397,6],[352,4,352,6],[390,4,390,6],[309,4,309,6],[327,4,327,6],[271,4,271,6],[153,6,153,8],[201,4,201,6],[90,6,90,8],[138,4,138,6],[360,12,360,14],[423,12,423,14],[372,4,372,6],[901,4,901,6],[1286,4,1286,6],[919,4,919,6],[1181,4,1181,6],[1191,4,1191,6],[1065,4,1065,6],[1153,4,1153,6],[1118,4,1118,6],[1090,4,1090,6],[1108,4,1108,6],[1055,4,1055,6],[1128,4,1128,6],[1254,4,1254,6],[1272,4,1272,6],[1279,4,1279,6],[1244,4,1244,6],[1216,4,1216,6],[1234,4,1234,6],[1209,4,1209,6],[1224,6,1224,8],[1242,12,1242,14],[649,4,649,6],[1045,4,1045,6],[110,4,110,6],[939,4,939,6],[394,4,394,8],[362,4,362,6],[982,4,982,6],[523,4,523,6],[478,4,478,6],[120,4,120,6],[1002,4,1002,6],[803,4,803,6],[738,12,738,14],[740,4,740,6],[425,4,425,6],[460,4,460,6],[334,4,334,6],[1179,12,1179,14],[1098,6,1098,8],[1116,12,1116,14],[793,4,793,6],[838,4,838,6],[624,4,624,6],[100,4,100,6],[108,12,108,14],[415,4,415,6],[730,4,730,6],[909,6,909,8],[846,6,846,8],[864,12,864,14],[866,4,866,6],[876,4,876,6],[894,4,894,6],[783,6,783,8],[801,12,801,14],[831,4,831,6],[720,6,720,8],[586,4,586,6],[486,12,486,14],[549,12,549,14],[498,4,498,6],[516,4,516,6],[687,4,687,6],[775,4,775,6],[297,12,297,14],[750,4,750,6],[768,4,768,6],[964,4,964,6],[929,4,929,6],[856,4,856,6],[813,4,813,6],[612,12,612,14],[642,4,642,6],[972,6,972,8],[1146,4,1146,6],[1035,6,1035,8],[1053,12,1053,14],[1083,4,1083,6],[927,12,927,14],[957,4,957,6],[990,12,990,14],[1020,4,1020,6],[1027,4,1027,6],[712,4,712,6],[675,12,675,14],[677,4,677,6],[614,4,614,6],[561,4,561,6],[579,4,579,6],[604,4,604,6],[667,4,667,6],[705,4,705,6],[1282,4,1282,16],[992,4,992,6],[142,4,142,8],[145,4,145,6],[246,4,246,6],[264,4,264,6],[163,4,163,6],[226,4,226,6],[657,6,657,8],[594,6,594,8],[531,6,531,8],[468,6,468,8],[405,6,405,8],[342,6,342,8],[279,6,279,8],[216,6,216,8],[208,4,208,6],[1171,4,1171,6],[1161,6,1161,8]]}
[]
[null,null,"Iluminación natural"]
[null,null,"VERDE Edificios 2020 Usos distintos del Residencial Privado",null,null,null,null,null,null,null,null,null,null,null,null,null,null,null,null,null,null,null,null,null,null,null,"Vidrio simple",0.87]
[null,null,null,null,"Identificación del punto de referencia:",null,null,null,null,null,null,null,null,null,null,null,null,null,null,null,null,null,null,null,null,null,"Vidrio doble climalit",0.8,null,null,"hw/D1"]
[null,null,null,null,null,null,null,null,null,null,null,null,null,null,null,null,null,null,null,null,null,null,null,null,null,null,"Vidrio doble bajo emisivo",0.72,null,null,null,0.1,0.2,0.3,0.4,0.5,0.6,0.8,1,1.2,1.4,1.6,2,3,4,5]
[null,null,null,null,null,null,null,null,null,null,null,null,null,null,null,null,null,null,null,null,null,null,null,null,null,null,"Vidrio control solar claro",0.28000000000000003,null,null,5,1.6,3.1,4.5999999999999996,6.1,7.4,8.6,10.5,12,13.4,14.5,15.4,16.3,17.8,18.3,18.8]
[null,null,null,null,"Ubicación del punto de refrencia en sección.",null,null,null,null,null,null,null,"Ubicación del punto de referencia en planta",null,null,null,null,null,null,null,null,null,null,null,null,null,null,null,null,null,4,1.5,3,4.5,5.9,7.3,8.4,10.3,11.5,12.9,13.6,14.3,15.5,16.600000000000001,16.899999999999999,17.100000000000001]
[null,null,null,null,null,null,null,null,null,null,null,null,null,null,null,null,null,null,null,null,null,null,null,null,null,null,null,null,null,null,3,1.5,2.9,4.4000000000000004,5.6,6.9,8,9.8000000000000007,10.9,12.3,12.6,13.4,14.6,15.5,15.6,15.9]
[null,null,null,null,"Datos requeridos para los cálculos de las componentes",null,null,null,null,null,null,null,null,null,null,null,null,null,null,null,null,null,null,null,null,null,null,null,null,null,2,1.3,2.5,3.9,5,6,7,8.4,9.4,10.4,10.9,11.4,12.1,12.5,12.6,12.8]
[null,null,null,null,null,null,null,null,null,null,null,null,"donde:   \nhw es la altura efectiva de la parte superior de la ventana sobre el plano de trabajo, en caso de obstrucciones exteriores, se tomará la distancia desde el borde superior de la ventana hasta en punto en el que comienza a verse el cielo (intersección entre el vidrio y el lado inferior del ángulo azul en la siguiente figura)\nHwp es la altura del plano de trabajo sobre el suelo, en nuestro caso 0,8 m   \nW1, W2 son las anchuras efectivas de la ventana a cada lado de una línea desde el punto de refrencia normal al plano de la ventana, al igual que en hw, se considerarán las obstrucciones exteriores.  \nD1 distancia del punto de referencia al plano de la ventana.\n",null,null,null,null,null,null,null,null,null,null,null,null,null,null,"Color","Reflectancia (R)",null,1.8,1.2,2.4,3.6,4.8,5.8,6.6,7.9,8.9,9.8000000000000007,10.3,10.6,11.3,11.6,11.8,11.9]
[null,null,null,null,null,null,null,null,null,null,null,null,null,null,null,null,null,null,null,null,null,null,null,null,null,null,"Techo","Blanco o muy claro",0.8,null,1.6,1.1000000000000001,2.2999999999999998,3.4,4.4000000000000004,4.9000000000000004,6.1,7.3,8.1,9,9.4,9.8000000000000007,10.3,10.6,10.8,10.8]
[null,null,null,null,null,null,null,null,null,null,null,null,null,null,null,null,null,null,null,null,null,null,null,null,null,null,null,"claro",0.5,null,1.4,1,2,3,4,4.8,5.5,6.5,7.4,8,8.4,8.8000000000000007,9.1,9.4,9.4,9.5]
[null,null,null,null,"Datos requeridos para el cálculo del ERC",null,null,null,null,null,null,null,null,null,null,null,null,null,null,null,null,null,null,null,null,null,null,"medio",0.3,null,1.2,0.9,1.8,2.6,3.4,4.0999999999999996,4.8,5.6,6.3,6.8,7.1,7.4,7.6,7.8,7.9,7.9]
[null,null,null,null,null,null,null,null,null,null,null,null,"Calcular hw considerando que el lado superior de la ventana está situado en la intersección del lado superior del ángulo definido por la obstrucción exterior (en amarillo en la figura)\n",null,null,null,null,null,null,null,null,null,null,null,null,null,"Paredes","claro",0.5,null,1,0.7,1.4,2.1,2.8,3.3,3.8,4.5,5,5.4,5.6,5.8,5.9,6,6.1,6.3]
[null,null,null,null,null,null,null,null,null,null,null,null,null,null,null,null,null,null,null,null,null,null,null,null,null,null,null,"medio",0.3,null,0.9,0.6,1.2,1.9,2.4,2.8,3.3,3.9,4.3,4.5999999999999996,4.8,4.9000000000000004,5,5.0999999999999996,5.0999999999999996,5.2]
[null,null,null,null,null,null,null,null,null,null,null,null,null,null,null,null,null,null,null,null,null,null,null,null,null,null,null,"oscuro",0.1,null,0.8,0.5,1,1.5,2,2.4,2.8,3.3,3.6,3.9,4,4.0999999999999996,4.0999999999999996,4.3,4.3,4.3]
[null,null,null,null,null,null,null,null,null,null,null,null,null,null,null,null,null,null,null,null,null,null,null,null,null,null,"Suelo","claro",0.3,null,0.7,0.4,0.9,1.2,1.6,1.9,2.1,2.6,2.9,3.1,3.1,3.3,3.3,3.4,3.4,3.5]
[null,null,null,null,null,null,null,null,null,null,null,null,null,null,null,null,null,null,null,null,null,null,null,null,null,null,null,"oscuro",0.1,null,0.6,0.3,0.7,0.9,1.2,1.5,1.7,2,2.2999999999999998,2.4,2.4,2.5,2.5,2.6,2.6,2.6]
[null,null,null,null,null,null,null,null,null,null,null,null,null,null,null,null,null,null,null,null,null,null,null,null,null,null,null,null,null,null,0.5,0.2,0.5,0.6,0.9,1,1.2,1.4,1.7,1.8,1.8,1.8,1.9,1.9,1.9,1.9]
[null,null,null,null,null,null,null,null,null,null,null,null,null,null,null,null,null,null,null,null,null,null,null,null,null,null,null,null,null,null,0.4,0.1,0.4,0.4,0.6,0.7,0.8,1,1.1000000000000001,1.2,1.2,1.2,1.2,1.2,1.2,1.2]
[null,null,null,null,null,null,null,null,null,null,null,null,null,null,null,null,null,null,null,null,null,null,null,null,"Sí",null,null,null,null,null,0.3,0.1,0.2,0.2,0.3,0.4,0.4,0.6,0.6,0.6,0.6,0.6,0.6,0.7,0.7,0.7]
[null,null,null,null,"Espacio 1",null,null,null,"Multiplicador",null,null,null,null,null,null,null,null,null,null,null,null,null,null,null,"No","Zona de trabajo administrativo",2,null,null,null,0.2,0,0.1,0.1,0.1,0.2,0.2,0.3,0.3,0.3,0.3,0.3,0.3,0.3,0.3,0.3]
[null,null,null,null,null,null,null,null,null,null,null,null,null,null,null,null,null,null,null,null,null,null,null,null,null,"Aulas y espacios docentes",2,null,null,null,0.1,0,0,0.02,0,0,0.1,0.1,0.1,0.1,0.1,0.1,0.1,0.1,0.1,0.1]
[null,null,null,null,null,null,null,null,null,null,null,null,null,null,null,null,null,null,null,null,null,null,null,null,null,"Zona de trabajo especializado",2.5]
[null,null,null,null,"Uso del espacio",null,null,null,null,null,null,null,null,null,null,null,null,null,null,null,null,null,null,null,null,"Salas de lectura",1.5]
[null,null,null,null,null,null,null,null,null,null,null,null,null,null,null,null,null,null,null,null,null,null,null,null,null,"Espacios deportivos",3]
[null,null,null,null,"Uso del espacio",null,null,null,null,null,"DF requerido",null,{"$f":"IFERROR(VLOOKUP(G27,Z$22:AA$28,2,FALSE),\"\")","v":""},null,"Superficie útil",null,null,null,null,null,null,null,{"$f":"IF(K79=\"Sí\",K22*Q27,0)","v":0},{"$f":"Q27*K22","v":0},null,"Zona de atención al público",0.6]
[null,null,null,null,null,null,null,null,null,null,null,null,null,null,null,null,null,null,null,null,null,null,null,null,null,"Habitaciones de alojamiento y hospedaje",2]
[]
[]
[null,null,null,null,"¿Se cumplen las cuatro condiciones directas?"]
[]
[null,null,null,null,"¿Hay obstrucciones exteriores?",null,"Profundidad (m)",null,"Hw (m)",null,"Longitud (m)",null,"h(w)",null,"Superficie útil (m)",null,"Longitud de la ventana (m)"]
[]
[null,null,null,null,null,null,null,null,null,null,null,null,null,null,{"$f":"Q27","v":0}]
[]
[null,null,null,null,"Cumplimiento de las condiciones",null,null,null,{"$f":"IF(E35=\"\",\"\",IF(M27=2,IF(AND(E35=\"NO\",G35<2.5*I35,M35*Q35>0.2*O35,Q35>0.6*K35),\"Sí\",\"No\")))","v":""}]
[]
[]
[]
[null,null,null,null,"Cálculo de la componente SC"]
[]
[null,null,null,null,"hw para SC (m)",null,"W1",null,"W2",null,"D1",null,"Tipo de vidrio",null,null,null,"Transmitancia del vidrio"]
[]
[null,null,null,null,null,null,null,null,null,null,null,null,null,null,null,null,{"$f":"IFERROR(VLOOKUP(M45,$AA$3:$AB$6,2,FALSE),\"\")","v":""}]
[]
[null,null,null,null,"Componente SC",null,null,null,{"$f":"IFERROR(('Ayuda CAI 03'!E32+'Ayuda CAI 03'!G32)*Q45,\"\")","v":""}]
[]
[]
[]
[null,null,null,null,"Cálculo de la componente ERC"]
[]
[null,null,null,null,"hw para ERC (m)"]
[]
[]
[]
[null,null,null,null,"Componente ERC",null,null,null,{"$f":"IFERROR(IF(E55=\"\",0,('Ayuda CAI 03'!E42+'Ayuda CAI 03'!G42)*Q45),0)","v":0}]
[]
[]
[]
[null,null,null,null,"Cálculo de la componente IRC"]
[]
[null,null,null,null,"Área acristalada neta de ventanas",null,"Ángulo de cielo visible",null,"Altura del punto medio de las ventanas",null,"Longitud de paredes",null,"Altura de paredes",null,"Color de paredes",null,"Reflectancia de paredes"]
[]
[null,null,null,null,null,null,null,null,null,null,null,null,null,null,null,null,{"$f":"IFERROR(VLOOKUP(O65,AB$14:AC$16,2,FALSE),\"\")","v":""}]
[]
[null,null,null,null,"Superficie de techo",null,"Color de techo",null,"Reflectancia de techo",null,null,null,"Superficie de suelo",null,"Color de suelo",null,"Reflectancia de suelo"]
[]
[null,null,null,null,null,null,null,null,{"$f":"IFERROR(VLOOKUP(G69,AB$11:AC$13,2,FALSE),\"\")","v":""},null,null,null,null,null,null,null,{"$f":"IFERROR(VLOOKUP(O69,AB$17:AC$18,2,FALSE),\"\")","v":""}]
[]
[null,null,null,null,"Reflectancia \nmedia",null,"Reflectancia media superior",null,"Reflectancia media inferior"]
[]
[null,null,null,null,{"$f":"IFERROR(((((K65*M65)-E65)*Q65)+(E69*I69)+(M69*Q69))/(((K65*M65)-E65)+E69+M69),\"\")","v":""},null,{"$f":"IFERROR(((((K65*(M65-I65))-E65/2)*Q65)+(E69*I69))/(((K65*M65)-E65)+E69),\"\")","v":""},null,{"$f":"IFERROR(((((K65*I65)-E65/2)*Q65)+(M69*Q69))/((K65*E65)+M69),\"\")","v":""}]
[]
[null,null,null,null,"Componente IRC",null,null,null,{"$f":"IFERROR((Q45*E65*(((G65/2)-5)*I73+5*G73))/(((K65*M65)-E65)+E69+M69)*(1-E73),\"\")","v":""}]
[]
[]
[]
[null,null,null,null,"Cumplimiento del criterio",null,null,null,null,null,{"$f":"IFERROR(IF(I82=\"\",\"\",IF(I82>= M27,\"Sí\",\"No\")),\"\")","v":""}]
[]
[]
[null,null,null,null,"Factor luz de día de la estancia",null,null,null,{"$f":"IFERROR(IF(I37=\"Sí\",\">2%\",I47+I57+I75),\"\")","v":""},null,{"$f":"IF(K22=\"\",\"No olvides rellenar el multiplicador\",\"\")","v":"No olvides rellenar el multiplicador"}]
[]
[]
[]
[null,null,null,null,"Espacio 2",null,null,null,"Multiplicador"]
[]
[]
[null,null,null,null,"Uso del espacio"]
[]
[null,null,null,null,"Uso del espacio",null,null,null,null,null,"DF requerido",null,{"$f":"IFERROR(VLOOKUP(G91,Z$22:AA$28,2,FALSE),\"\")","v":""},null,"Superficie útil",null,null,null,null,null,null,null,{"$f":"IF(K143=\"Sí\",K86*Q91,0)","v":0},{"$f":"K86*Q91","v":0}]
[]
[]
[]
[null,null,null,null,"¿Se cumplen las cuatro condiciones directas?"]
[]
[null,null,null,null,"¿Hay obstrucciones exteriores?",null,"Profundidad (m)",null,"Hw (m)",null,"Longitud (m)",null,"h(w)",null,"Superficie útil (m)",null,"Longitud de la ventana (m)"]
[]
[null,null,null,null,null,null,null,null,null,null,null,null,null,null,{"$f":"Q91","v":0}]
[]
[null,null,null,null,"Cumplimiento de las condiciones",null,null,null,{"$f":"IF(E99=\"\",\"\",IF(M91=2,IF(AND(E99=\"NO\",G99<2.5*I99,M99*Q99>0.2*O99,Q99>0.6*K99),\"Sí\",\"No\")))","v":""}]
[]
[]
[]
[null,null,null,null,"Cálculo de la componente SC"]
[]
[null,null,null,null,"hw para SC (m)",null,"W1",null,"W2",null,"D1",null,"Tipo de vidrio",null,null,null,"Transmitancia del vidrio"]
[]
[null,null,null,null,null,null,null,null,null,null,null,null,null,null,null,null,{"$f":"IFERROR(VLOOKUP(M109,$AA$3:$AB$6,2,FALSE),\"\")","v":""}]
[]
[null,null,null,null,"Componente SC",null,null,null,{"$f":"IFERROR(('Ayuda CAI 03'!E95+'Ayuda CAI 03'!G95)*Q109,\"\")","v":""}]
[]
[]
[]
[null,null,null,null,"Cálculo de la componente ERC"]
[]
[null,null,null,null,"hw para ERC (m)"]
[]
[]
[]
[null,null,null,null,"Componente ERC",null,null,null,{"$f":"IFERROR(IF(E119=\"\",0,('Ayuda CAI 03'!E105+'Ayuda CAI 03'!G105)*Q109),\"\")","v":0}]
[]
[]
[]
[null,null,null,null,"Cálculo de la componente IRC"]
[]
[null,null,null,null,"Área acristalada neta de ventanas",null,"Ángulo de cielo visible",null,"Altura del punto medio de las ventanas",null,"Longitud de paredes",null,"Altura de paredes",null,"Color de paredes",null,"Reflectancia de paredes"]
[]
[null,null,null,null,null,null,null,null,null,null,null,null,null,null,null,null,{"$f":"IFERROR(VLOOKUP(O129,AB$14:AC$16,2,FALSE),\"\")","v":""}]
[]
[null,null,null,null,"Superficie de techo",null,"Color de techo",null,"Reflectancia de techo",null,null,null,"Superficie de suelo",null,"Color de suelo",null,"Reflectancia de suelo"]
[]
[null,null,null,null,null,null,null,null,{"$f":"IFERROR(VLOOKUP(G133,AB$11:AC$13,2,FALSE),\"\")","v":""},null,null,null,null,null,null,null,{"$f":"IFERROR(VLOOKUP(O133,AB$17:AC$18,2,FALSE),\"\")","v":""}]
[]
[null,null,null,null,"Reflectancia\n media",null,"Reflectancia media superior",null,"Reflectancia media inferior"]
[]
[null,null,null,null,{"$f":"IFERROR(((((K129*M129)-E129)*Q129)+(E133*I133)+(M133*Q133))/(((K129*M129)-E129)+E133+M133),\"\")","v":""},null,{"$f":"IFERROR(((((K129*(M129-I129))-E129/2)*Q129)+(E133*I133))/(((K129*M129)-E129)+E133),\"\")","v":""},null,{"$f":"IFERROR(((((K129*I129)-E129/2)*Q129)+(M133*Q133))/((K129*E129)+M133),\"\")","v":""}]
[]
[null,null,null,null,"Componente IRC",null,null,null,{"$f":"IFERROR((Q109*E129*(((G129/2)-5)*I137+5*G137))/(((K129*M129)-E129)+E133+M133)*(1-E137),\"\")","v":""}]
[]
[]
[]
[null,null,null,null,"Cumplimiento del criterio",null,null,null,null,null,{"$f":"IFERROR(IF(I146=\"\",\"\",IF(I146>= M91,\"Sí\",\"No\")),\"\")","v":""}]
[]
[]
[null,null,null,null,"Factor luz de día de la estancia",null,null,null,{"$f":"IFERROR(IF(I101=\"Sí\",\">2%\",I111+I121+I139),\"\")","v":""},null,{"$f":"IF(K86=\"\",\"No olvides rellenar el multiplicador\",\"\")","v":"No olvides rellenar el multiplicador"}]
[]
[]
[null,null,null,null,"Espacio 3",null,null,null,"Multiplicador"]
[]
[]
[null,null,null,null,"Uso del espacio"]
[]
[null,null,null,null,"Uso del espacio",null,null,null,null,null,"DF requerido",null,{"$f":"IFERROR(VLOOKUP(G154,Z$22:AA$28,2,FALSE),\"\")","v":""},null,"Superficie útil",null,null,null,null,null,null,null,{"$f":"IF(K206=\"Sí\",K149*Q154,0)","v":0},{"$f":"K149*Q154","v":0}]
[]
[]
[]
[null,null,null,null,"¿Se cumplen las cuatro condiciones directas?"]
[]
[null,null,null,null,"¿Hay obstrucciones exteriores?",null,"Profundidad (m)",null,"Hw (m)",null,"Longitud (m)",null,"h(w)",null,"Superficie útil (m)",null,"Longitud de la ventana (m)"]
[]
[null,null,null,null,null,null,null,null,null,null,null,null,null,null,{"$f":"Q154","v":0}]
[]
[null,null,null,null,"Cumplimiento de las condiciones",null,null,null,{"$f":"IF(E162=\"\",\"\",IF(M154=2,IF(AND(E162=\"NO\",G162<2.5*I162,M162*Q162>0.2*O162,Q162>0.6*K162),\"Sí\",\"No\")))","v":""}]
[]
[]
[]
[null,null,null,null,"Cálculo de la componente SC"]
[]
[null,null,null,null,"hw para SC (m)",null,"W1",null,"W2",null,"D1",null,"Tipo de vidrio",null,null,null,"Transmitancia del vidrio"]
[]
[null,null,null,null,null,null,null,null,null,null,null,null,null,null,null,null,{"$f":"IFERROR(VLOOKUP(M172,$AA$3:$AB$6,2,FALSE),\"\")","v":""}]
[]
[null,null,null,null,"Componente SC",null,null,null,{"$f":"IFERROR(('Ayuda CAI 03'!E158+'Ayuda CAI 03'!G158)*Q172,\"\")","v":""}]
[]
[]
[]
[null,null,null,null,"Cálculo de la componente ERC"]
[]
[null,null,null,null,"hw para ERC (m)"]
[]
[]
[]
[null,null,null,null,"Componente ERC",null,null,null,{"$f":"IFERROR(IF(E182=\"\",0,('Ayuda CAI 03'!E168+'Ayuda CAI 03'!G168)*Q172),\"\")","v":0}]
[]
[]
[]
[null,null,null,null,"Cálculo de la componente IRC"]
[]
[null,null,null,null,"Área acristalada neta de ventanas",null,"Ángulo de cielo visible",null,"Altura del punto medio de las ventanas",null,"Longitud de paredes",null,"Altura de paredes",null,"Color de paredes",null,"Reflectancia de paredes"]
[]
[null,null,null,null,null,null,null,null,null,null,null,null,null,null,null,null,{"$f":"IFERROR(VLOOKUP(O192,AB$14:AC$16,2,FALSE),\"\")","v":""}]
[]
[null,null,null,null,"Superficie de techo",null,"Color de techo",null,"Reflectancia de techo",null,null,null,"Superficie de suelo",null,"Color de suelo",null,"Reflectancia de suelo"]
[]
[null,null,null,null,null,null,null,null,{"$f":"IFERROR(VLOOKUP(G196,AB$11:AC$13,2,FALSE),\"\")","v":""},null,null,null,null,null,null,null,{"$f":"IFERROR(VLOOKUP(O196,AB$17:AC$18,2,FALSE),\"\")","v":""}]
[]
[null,null,null,null,"Reflectancia \nmedia",null,"Reflectancia media superior",null,"Reflectancia media inferior"]
[]
[null,null,null,null,{"$f":"IFERROR(((((K192*M192)-E192)*Q192)+(E196*I196)+(M196*Q196))/(((K192*M192)-E192)+E196+M196),\"\")","v":""},null,{"$f":"IFERROR(((((K192*(M192-I192))-E192/2)*Q192)+(E196*I196))/(((K192*M192)-E192)+E196),\"\")","v":""},null,{"$f":"IFERROR(((((K192*I192)-E192/2)*Q192)+(M196*Q196))/((K192*E192)+M196),\"\")","v":""}]
[]
[null,null,null,null,"Componente IRC",null,null,null,{"$f":"IFERROR((Q172*E192*(((G192/2)-5)*I200+5*G200))/(((K192*M192)-E192)+E196+M196)*(1-E200),\"\")","v":""}]
[]
[]
[]
[null,null,null,null,"Cumplimiento del criterio",null,null,null,null,null,{"$f":"IFERROR(IF(I209=\"\",\"\",IF(I209>= M154,\"Sí\",\"No\")),\"\")","v":""}]
[]
[]
[null,null,null,null,"Factor luz de día de la estancia",null,null,null,{"$f":"IFERROR(IF(I164=\"Sí\",\">2%\",I174+I184+I202),\"\")","v":""},null,{"$f":"IF(K149=\"\",\"No olvides rellenar el multiplicador\",\"\")","v":"No olvides rellenar el multiplicador"}]
[]
[]
[null,null,null,null,"Espacio 4",null,null,null,"Multiplicador"]
[]
[]
[null,null,null,null,"Uso del espacio"]
[]
[null,null,null,null,"Uso del espacio",null,null,null,null,null,"DF requerido",null,{"$f":"IFERROR(VLOOKUP(G217,Z$22:AA$28,2,FALSE),\"\")","v":""},null,"Superficie útil",null,null,null,null,null,null,null,{"$f":"IF(K269=\"Sí\",K212*Q217,0)","v":0},{"$f":"K212*Q217","v":0}]
[]
[]
[]
[null,null,null,null,"¿Se cumplen las cuatro condiciones directas?"]
[]
[null,null,null,null,"¿Hay obstrucciones exteriores?",null,"Profundidad (m)",null,"Hw (m)",null,"Longitud (m)",null,"h(w)",null,"Superficie útil (m)",null,"Longitud de la ventana (m)"]
[]
[null,null,null,null,null,null,null,null,null,null,null,null,null,null,{"$f":"Q217","v":0}]
[]
[null,null,null,null,"Cumplimiento de las condiciones",null,null,null,{"$f":"IF(E225=\"\",\"\",IF(M217=2,IF(AND(E225=\"NO\",G225<2.5*I225,M225*Q225>0.2*O225,Q225>0.6*K225),\"Sí\",\"No\")))","v":""}]
[]
[]
[]
[null,null,null,null,"Cálculo de la componente SC"]
[]
[null,null,null,null,"hw para SC (m)",null,"W1",null,"W2",null,"D1",null,"Tipo de vidrio",null,null,null,"Transmitancia del vidrio"]
[]
[null,null,null,null,null,null,null,null,null,null,null,null,null,null,null,null,{"$f":"IFERROR(VLOOKUP(M235,$AA$3:$AB$6,2,FALSE),\"\")","v":""}]
[]
[null,null,null,null,"Componente SC",null,null,null,{"$f":"IFERROR(('Ayuda CAI 03'!E221+'Ayuda CAI 03'!G221)*Q235,\"\")","v":""}]
[]
[]
[]
[null,null,null,null,"Cálculo de la componente ERC"]
[]
[null,null,null,null,"hw para ERC (m)"]
[]
[]
[]
[null,null,null,null,"Componente ERC",null,null,null,{"$f":"IFERROR(IF(E245=\"\",0,('Ayuda CAI 03'!E231+'Ayuda CAI 03'!G231)*Q235),\"\")","v":0}]
[]
[]
[]
[null,null,null,null,"Cálculo de la componente IRC"]
[]
[null,null,null,null,"Área acristalada neta de ventanas",null,"Ángulo de cielo visible",null,"Altura del punto medio de las ventanas",null,"Longitud de paredes",null,"Altura de paredes",null,"Color de paredes",null,"Reflectancia de paredes"]
[]
[null,null,null,null,null,null,null,null,null,null,null,null,null,null,null,null,{"$f":"IFERROR(VLOOKUP(O255,AB$14:AC$16,2,FALSE),\"\")","v":""}]
[]
[null,null,null,null,"Superficie de techo",null,"Color de techo",null,"Reflectancia de techo",null,null,null,"Superficie de suelo",null,"Color de suelo",null,"Reflectancia de suelo"]
[]
[null,null,null,null,null,null,null,null,{"$f":"IFERROR(VLOOKUP(G259,AB$11:AC$13,2,FALSE),\"\")","v":""},null,null,null,null,null,null,null,{"$f":"IFERROR(VLOOKUP(O259,AB$17:AC$18,2,FALSE),\"\")","v":""}]
[]
[null,null,null,null,"Reflectancia \nmedia",null,"Reflectancia media superior",null,"Reflectancia media inferior"]
[]
[null,null,null,null,{"$f":"IFERROR(((((K255*M255)-E255)*Q255)+(E259*I259)+(M259*Q259))/(((K255*M255)-E255)+E259+M259),\"\")","v":""},null,{"$f":"IFERROR(((((K255*(M255-I255))-E255/2)*Q255)+(E259*I259))/(((K255*M255)-E255)+E259),\"\")","v":""},null,{"$f":"IFERROR(((((K255*I255)-E255/2)*Q255)+(M259*Q259))/((K255*E255)+M259),\"\")","v":""}]
[]
[null,null,null,null,"Componente IRC",null,null,null,{"$f":"IFERROR((Q235*E255*(((G255/2)-5)*I263+5*G263))/(((K255*M255)-E255)+E259+M259)*(1-E263),\"\")","v":""}]
[]
[]
[]
[null,null,null,null,"Cumplimiento del criterio",null,null,null,null,null,{"$f":"IFERROR(IF(I272=\"\",\"\",IF(I272>= M217,\"Sí\",\"No\")),\"\")","v":""}]
[]
[]
[null,null,null,null,"Factor luz de día de la estancia",null,null,null,{"$f":"IFERROR(IF(I227=\"Sí\",\">2%\",I237+I247+I265),\"\")","v":""},null,{"$f":"IF(K212=\"\",\"No olvides rellenar el multiplicador\",\"\")","v":"No olvides rellenar el multiplicador"}]
[]
[]
[null,null,null,null,"Espacio 5",null,null,null,"Multiplicador"]
[]
[]
[null,null,null,null,"Uso del espacio"]
[]
[null,null,null,null,"Uso del espacio",null,null,null,null,null,"DF requerido",null,{"$f":"IFERROR(VLOOKUP(G280,Z$22:AA$28,2,FALSE),\"\")","v":""},null,"Superficie útil",null,null,null,null,null,null,null,{"$f":"IF(K332=\"Sí\",K275*Q280,0)","v":0},{"$f":"K275*Q280","v":0}]
[]
[]
[]
[null,null,null,null,"¿Se cumplen las cuatro condiciones directas?"]
[]
[null,null,null,null,"¿Hay obstrucciones exteriores?",null,"Profundidad (m)",null,"Hw (m)",null,"Longitud (m)",null,"h(w)",null,"Superficie útil (m)",null,"Longitud de la ventana (m)"]
[]
[null,null,null,null,null,null,null,null,null,null,null,null,null,null,{"$f":"Q280","v":0}]
[]
[null,null,null,null,"Cumplimiento de las condiciones",null,null,null,{"$f":"IF(E288=\"\",\"\",IF(M280=2,IF(AND(E288=\"NO\",G288<2.5*I288,M288*Q288>0.2*O288,Q288>0.6*K288),\"Sí\",\"No\")))","v":""}]
[]
[]
[]
[null,null,null,null,"Cálculo de la componente SC"]
[]
[null,null,null,null,"hw para SC (m)",null,"W1",null,"W2",null,"D1",null,"Tipo de vidrio",null,null,null,"Transmitancia del vidrio"]
[]
[null,null,null,null,null,null,null,null,null,null,null,null,null,null,null,null,{"$f":"IFERROR(VLOOKUP(M298,$AA$3:$AB$6,2,FALSE),\"\")","v":""}]
[]
[null,null,null,null,"Componente SC",null,null,null,{"$f":"IFERROR(('Ayuda CAI 03'!E284+'Ayuda CAI 03'!G284)*Q298,\"\")","v":""}]
[]
[]
[]
[null,null,null,null,"Cálculo de la componente ERC"]
[]
[null,null,null,null,"hw para ERC (m)"]
[]
[]
[]
[null,null,null,null,"Componente ERC",null,null,null,{"$f":"IFERROR(IF(E308=\"\",0,('Ayuda CAI 03'!E294+'Ayuda CAI 03'!G294)*Q298),\"\")","v":0}]
[]
[]
[]
[null,null,null,null,"Cálculo de la componente IRC"]
[]
[null,null,null,null,"Área acristalada neta de ventanas",null,"Ángulo de cielo visible",null,"Altura del punto medio de las ventanas",null,"Longitud de paredes",null,"Altura de paredes",null,"Color de paredes",null,"Reflectancia de paredes"]
[]
[null,null,null,null,null,null,null,null,null,null,null,null,null,null,null,null,{"$f":"IFERROR(VLOOKUP(O318,AB$14:AC$16,2,FALSE),\"\")","v":""}]
[]
[null,null,null,null,"Superficie de techo",null,"Color de techo",null,"Reflectancia de techo",null,null,null,"Superficie de suelo",null,"Color de suelo",null,"Reflectancia de suelo"]
[]
[null,null,null,null,null,null,null,null,{"$f":"IFERROR(VLOOKUP(G322,AB$11:AC$13,2,FALSE),\"\")","v":""},null,null,null,null,null,null,null,{"$f":"IFERROR(VLOOKUP(O322,AB$17:AC$18,2,FALSE),\"\")","v":""}]
[]
[null,null,null,null,"Reflectancia \nmedia",null,"Reflectancia media superior",null,"Reflectancia media inferior"]
[]
[null,null,null,null,{"$f":"IFERROR(((((K318*M318)-E318)*Q318)+(E322*I322)+(M322*Q322))/(((K318*M318)-E318)+E322+M322),\"\")","v":""},null,{"$f":"IFERROR(((((K318*(M318-I318))-E318/2)*Q318)+(E322*I322))/(((K318*M318)-E318)+E322),\"\")","v":""},null,{"$f":"IFERROR(((((K318*I318)-E318/2)*Q318)+(M322*Q322))/((K318*E318)+M322),\"\")","v":""}]
[]
[null,null,null,null,"Componente IRC",null,null,null,{"$f":"IFERROR((Q298*E318*(((G318/2)-5)*I326+5*G326))/(((K318*M318)-E318)+E322+M322)*(1-E326),\"\")","v":""}]
[]
[]
[]
[null,null,null,null,"Cumplimiento del criterio",null,null,null,null,null,{"$f":"IFERROR(IF(I335=\"\",\"\",IF(I335>= M280,\"Sí\",\"No\")),\"\")","v":""}]
[]
[]
[null,null,null,null,"Factor luz de día de la estancia",null,null,null,{"$f":"IFERROR(IF(I290=\"Sí\",\">2%\",I300+I310+I328),\"\")","v":""},null,{"$f":"IF(K275=\"\",\"No olvides rellenar el multiplicador\",\"\")","v":"No olvides rellenar el multiplicador"}]
[]
[]
[null,null,null,null,"Espacio 6",null,null,null,"Multiplicador"]
[]
[]
[null,null,null,null,"Uso del espacio"]
[]
[null,null,null,null,"Uso del espacio",null,null,null,null,null,"DF requerido",null,{"$f":"IFERROR(VLOOKUP(G343,Z$22:AA$28,2,FALSE),\"\")","v":""},null,"Superficie útil",null,null,null,null,null,null,null,{"$f":"IF(K395=\"Sí\",K338*Q343,0)","v":0},{"$f":"K338*Q343","v":0}]
[]
[]
[]
[null,null,null,null,"¿Se cumplen las cuatro condiciones directas?"]
[]
[null,null,null,null,"¿Hay obstrucciones exteriores?",null,"Profundidad (m)",null,"Hw (m)",null,"Longitud (m)",null,"h(w)",null,"Superficie útil (m)",null,"Longitud de la ventana (m)"]
[]
[null,null,null,null,null,null,null,null,null,null,null,null,null,null,{"$f":"Q343","v":0}]
[]
[null,null,null,null,"Cumplimiento de las condiciones",null,null,null,{"$f":"IF(E351=\"\",\"\",IF(M343=2,IF(AND(E351=\"NO\",G351<2.5*I351,M351*Q351>0.2*O351,Q351>0.6*K351),\"Sí\",\"No\")))","v":""}]
[]
[]
[]
[null,null,null,null,"Cálculo de la componente SC"]
[]
[null,null,null,null,"hw para SC (m)",null,"W1",null,"W2",null,"D1",null,"Tipo de vidrio",null,null,null,"Transmitancia del vidrio"]
[]
[null,null,null,null,null,null,null,null,null,null,null,null,null,null,null,null,{"$f":"IFERROR(VLOOKUP(M361,$AA$3:$AB$6,2,FALSE),\"\")","v":""}]
[]
[null,null,null,null,"Componente SC",null,null,null,{"$f":"IFERROR(('Ayuda CAI 03'!E347+'Ayuda CAI 03'!G347)*Q361,\"\")","v":""}]
[]
[]
[]
[null,null,null,null,"Cálculo de la componente ERC"]
[]
[null,null,null,null,"hw para ERC (m)"]
[]
[]
[]
[null,null,null,null,"Componente ERC",null,null,null,{"$f":"IFERROR(IF(E371=\"\",0,('Ayuda CAI 03'!E357+'Ayuda CAI 03'!G357)*Q361),\"\")","v":0}]
[]
[]
[]
[null,null,null,null,"Cálculo de la componente IRC"]
[]
[null,null,null,null,"Área acristalada neta de ventanas",null,"Ángulo de cielo visible",null,"Altura del punto medio de las ventanas",null,"Longitud de paredes",null,"Altura de paredes",null,"Color de paredes",null,"Reflectancia de paredes"]
[]
[null,null,null,null,null,null,null,null,null,null,null,null,null,null,null,null,{"$f":"IFERROR(VLOOKUP(O381,AB$14:AC$16,2,FALSE),\"\")","v":""}]
[]
[null,null,null,null,"Superficie de techo",null,"Color de techo",null,"Reflectancia de techo",null,null,null,"Superficie de suelo",null,"Color de suelo",null,"Reflectancia de suelo"]
[]
[null,null,null,null,null,null,null,null,{"$f":"IFERROR(VLOOKUP(G385,AB$11:AC$13,2,FALSE),\"\")","v":""},null,null,null,null,null,null,null,{"$f":"IFERROR(VLOOKUP(O385,AB$17:AC$18,2,FALSE),\"\")","v":""}]
[]
[null,null,null,null,"Reflectancia \nmedia",null,"Reflectancia media superior",null,"Reflectancia media inferior"]
[]
[null,null,null,null,{"$f":"IFERROR(((((K381*M381)-E381)*Q381)+(E385*I385)+(M385*Q385))/(((K381*M381)-E381)+E385+M385),\"\")","v":""},null,{"$f":"IFERROR(((((K381*(M381-I381))-E381/2)*Q381)+(E385*I385))/(((K381*M381)-E381)+E385),\"\")","v":""},null,{"$f":"IFERROR(((((K381*I381)-E381/2)*Q381)+(M385*Q385))/((K381*E381)+M385),\"\")","v":""}]
[]
[null,null,null,null,"Componente IRC",null,null,null,{"$f":"IFERROR((Q361*E381*(((G381/2)-5)*I389+5*G389))/(((K381*M381)-E381)+E385+M385)*(1-E389),\"\")","v":""}]
[]
[]
[]
[null,null,null,null,"Cumplimiento del criterio",null,null,null,null,null,{"$f":"IFERROR(IF(I398=\"\",\"\",IF(I398>= M343,\"Sí\",\"No\")),\"\")","v":""}]
[]
[]
[null,null,null,null,"Factor luz de día de la estancia",null,null,null,{"$f":"IFERROR(IF(I353=\"Sí\",\">2%\",I363+I373+I391),\"\")","v":""},null,{"$f":"IF(K338=\"\",\"No olvides rellenar el multiplicador\",\"\")","v":"No olvides rellenar el multiplicador"}]
[]
[]
[null,null,null,null,"Espacio 7",null,null,null,"Multiplicador"]
[]
[]
[null,null,null,null,"Uso del espacio"]
[]
[null,null,null,null,"Uso del espacio",null,null,null,null,null,"DF requerido",null,{"$f":"IFERROR(VLOOKUP(G406,Z$22:AA$28,2,FALSE),\"\")","v":""},null,"Superficie útil",null,null,null,null,null,null,null,{"$f":"IF(K458=\"Sí\",K401*Q406,0)","v":0},{"$f":"K401*Q406","v":0}]
[]
[]
[]
[null,null,null,null,"¿Se cumplen las cuatro condiciones directas?"]
[]
[null,null,null,null,"¿Hay obstrucciones exteriores?",null,"Profundidad (m)",null,"Hw (m)",null,"Longitud (m)",null,"h(w)",null,"Superficie útil (m)",null,"Longitud de la ventana (m)"]
[]
[null,null,null,null,null,null,null,null,null,null,null,null,null,null,{"$f":"Q406","v":0}]
[]
[null,null,null,null,"Cumplimiento de las condiciones",null,null,null,{"$f":"IF(E414=\"\",\"\",IF(M406=2,IF(AND(E414=\"NO\",G414<2.5*I414,M414*Q414>0.2*O414,Q414>0.6*K414),\"Sí\",\"No\")))","v":""}]
[]
[]
[]
[null,null,null,null,"Cálculo de la componente SC"]
[]
[null,null,null,null,"hw para SC (m)",null,"W1",null,"W2",null,"D1",null,"Tipo de vidrio",null,null,null,"Transmitancia del vidrio"]
[]
[null,null,null,null,null,null,null,null,null,null,null,null,null,null,null,null,{"$f":"IFERROR(VLOOKUP(M424,$AA$3:$AB$6,2,FALSE),\"\")","v":""}]
[]
[null,null,null,null,"Componente SC",null,null,null,{"$f":"IFERROR(('Ayuda CAI 03'!E410+'Ayuda CAI 03'!G410)*Q424,\"\")","v":""}]
[]
[]
[]
[null,null,null,null,"Cálculo de la componente ERC"]
[]
[null,null,null,null,"hw para ERC (m)"]
[]
[]
[]
[null,null,null,null,"Componente ERC",null,null,null,{"$f":"IFERROR(IF(E434=\"\",0,('Ayuda CAI 03'!E420+'Ayuda CAI 03'!G420)*Q424),\"\")","v":0}]
[]
[]
[]
[null,null,null,null,"Cálculo de la componente IRC"]
[]
[null,null,null,null,"Área acristalada neta de ventanas",null,"Ángulo de cielo visible",null,"Altura del punto medio de las ventanas",null,"Longitud de paredes",null,"Altura de paredes",null,"Color de paredes",null,"Reflectancia de paredes"]
[]
[null,null,null,null,null,null,null,null,null,null,null,null,null,null,null,null,{"$f":"IFERROR(VLOOKUP(O444,AB$14:AC$16,2,FALSE),\"\")","v":""}]
[]
[null,null,null,null,"Superficie de techo",null,"Color de techo",null,"Reflectancia de techo",null,null,null,"Superficie de suelo",null,"Color de suelo",null,"Reflectancia de suelo"]
[]
[null,null,null,null,null,null,null,null,{"$f":"IFERROR(VLOOKUP(G448,AB$11:AC$13,2,FALSE),\"\")","v":""},null,null,null,null,null,null,null,{"$f":"IFERROR(VLOOKUP(O448,AB$17:AC$18,2,FALSE),\"\")","v":""}]
[]
[null,null,null,null,"Reflectancia \nmedia",null,"Reflectancia media superior",null,"Reflectancia media inferior"]
[]
[null,null,null,null,{"$f":"IFERROR(((((K444*M444)-E444)*Q444)+(E448*I448)+(M448*Q448))/(((K444*M444)-E444)+E448+M448),\"\")","v":""},null,{"$f":"IFERROR(((((K444*(M444-I444))-E444/2)*Q444)+(E448*I448))/(((K444*M444)-E444)+E448),\"\")","v":""},null,{"$f":"IFERROR(((((K444*I444)-E444/2)*Q444)+(M448*Q448))/((K444*E444)+M448),\"\")","v":""}]
[]
[null,null,null,null,"Componente IRC",null,null,null,{"$f":"IFERROR((Q424*E444*(((G444/2)-5)*I452+5*G452))/(((K444*M444)-E444)+E448+M448)*(1-E452),\"\")","v":""}]
[]
[]
[]
[null,null,null,null,"Cumplimiento del criterio",null,null,null,null,null,{"$f":"IFERROR(IF(I461=\"\",\"\",IF(I461>= M406,\"Sí\",\"No\")),\"\")","v":""}]
[]
[]
[null,null,null,null,"Factor luz de día de la estancia",null,null,null,{"$f":"IFERROR(IF(I416=\"Sí\",\">2%\",I426+I436+I454),\"\")","v":""},null,{"$f":"IF(K401=\"\",\"No olvides rellenar el multiplicador\",\"\")","v":"No olvides rellenar el multiplicador"}]
[]
[]
[null,null,null,null,"Espacio 8",null,null,null,"Multiplicador"]
[]
[]
[null,null,null,null,"Uso del espacio"]
[]
[null,null,null,null,"Uso del espacio",null,null,null,null,null,"DF requerido",null,{"$f":"IFERROR(VLOOKUP(G469,Z$22:AA$28,2,FALSE),\"\")","v":""},null,"Superficie útil",null,null,null,null,null,null,null,{"$f":"IF(K521=\"Sí\",K464*Q469,0)","v":0},{"$f":"K464*Q469","v":0}]
[]
[]
[]
[null,null,null,null,"¿Se cumplen las cuatro condiciones directas?"]
[]
[null,null,null,null,"¿Hay obstrucciones exteriores?",null,"Profundidad (m)",null,"Hw (m)",null,"Longitud (m)",null,"h(w)",null,"Superficie útil (m)",null,"Longitud de la ventana (m)"]
[]
[null,null,null,null,null,null,null,null,null,null,null,null,null,null,{"$f":"Q469","v":0}]
[]
[null,null,null,null,"Cumplimiento de las condiciones",null,null,null,{"$f":"IF(E477=\"\",\"\",IF(M469=2,IF(AND(E477=\"NO\",G477<2.5*I477,M477*Q477>0.2*O477,Q477>0.6*K477),\"Sí\",\"No\")))","v":""}]
[]
[]
[]
[null,null,null,null,"Cálculo de la componente SC"]
[]
[null,null,null,null,"hw para SC (m)",null,"W1",null,"W2",null,"D1",null,"Tipo de vidrio",null,null,null,"Transmitancia del vidrio"]
[]
[null,null,null,null,null,null,null,null,null,null,null,null,null,null,null,null,{"$f":"IFERROR(VLOOKUP(M487,$AA$3:$AB$6,2,FALSE),\"\")","v":""}]
[]
[null,null,null,null,"Componente SC",null,null,null,{"$f":"IFERROR(('Ayuda CAI 03'!E473+'Ayuda CAI 03'!G473)*Q487,\"\")","v":""}]
[]
[]
[]
[null,null,null,null,"Cálculo de la componente ERC"]
[]
[null,null,null,null,"hw para ERC (m)"]
[]
[]
[]
[null,null,null,null,"Componente ERC",null,null,null,{"$f":"IFERROR(IF(E497=\"\",0,('Ayuda CAI 03'!E483+'Ayuda CAI 03'!G483)*Q487),\"\")","v":0}]
[]
[]
[]
[null,null,null,null,"Cálculo de la componente IRC"]
[]
[null,null,null,null,"Área acristalada neta de ventanas",null,"Ángulo de cielo visible",null,"Altura del punto medio de las ventanas",null,"Longitud de paredes",null,"Altura de paredes",null,"Color de paredes",null,"Reflectancia de paredes"]
[]
[null,null,null,null,null,null,null,null,null,null,null,null,null,null,null,null,{"$f":"IFERROR(VLOOKUP(O507,AB$14:AC$16,2,FALSE),\"\")","v":""}]
[]
[null,null,null,null,"Superficie de techo",null,"Color de techo",null,"Reflectancia de techo",null,null,null,"Superficie de suelo",null,"Color de suelo",null,"Reflectancia de suelo"]
[]
[null,null,null,null,null,null,null,null,{"$f":"IFERROR(VLOOKUP(G511,AB$11:AC$13,2,FALSE),\"\")","v":""},null,null,null,null,null,null,null,{"$f":"IFERROR(VLOOKUP(O511,AB$17:AC$18,2,FALSE),\"\")","v":""}]
[]
[null,null,null,null,"Reflectancia \nmedia",null,"Reflectancia media superior",null,"Reflectancia media inferior"]
[]
[null,null,null,null,{"$f":"IFERROR(((((K507*M507)-E507)*Q507)+(E511*I511)+(M511*Q511))/(((K507*M507)-E507)+E511+M511),\"\")","v":""},null,{"$f":"IFERROR(((((K507*(M507-I507))-E507/2)*Q507)+(E511*I511))/(((K507*M507)-E507)+E511),\"\")","v":""},null,{"$f":"IFERROR(((((K507*I507)-E507/2)*Q507)+(M511*Q511))/((K507*E507)+M511),\"\")","v":""}]
[]
[null,null,null,null,"Componente IRC",null,null,null,{"$f":"IFERROR((Q487*E507*(((G507/2)-5)*I515+5*G515))/(((K507*M507)-E507)+E511+M511)*(1-E515),\"\")","v":""}]
[]
[]
[]
[null,null,null,null,"Cumplimiento del criterio",null,null,null,null,null,{"$f":"IFERROR(IF(I524=\"\",\"\",IF(I524>= M469,\"Sí\",\"No\")),\"\")","v":""}]
[]
[]
[null,null,null,null,"Factor luz de día de la estancia",null,null,null,{"$f":"IFERROR(IF(I479=\"Sí\",\">2%\",I489+I499+I517),\"\")","v":""},null,{"$f":"IF(K464=\"\",\"No olvides rellenar el multiplicador\",\"\")","v":"No olvides rellenar el multiplicador"}]
[]
[]
[null,null,null,null,"Espacio 9",null,null,null,"Multiplicador"]
[]
[]
[null,null,null,null,"Uso del espacio"]
[]
[null,null,null,null,"Uso del espacio",null,null,null,null,null,"DF requerido",null,{"$f":"IFERROR(VLOOKUP(G532,Z$22:AA$28,2,FALSE),\"\")","v":""},null,"Superficie útil",null,null,null,null,null,null,null,{"$f":"IF(K584=\"Sí\",K527*Q532,0)","v":0},{"$f":"K527*Q532","v":0}]
[]
[]
[]
[null,null,null,null,"¿Se cumplen las cuatro condiciones directas?"]
[]
[null,null,null,null,"¿Hay obstrucciones exteriores?",null,"Profundidad (m)",null,"Hw (m)",null,"Longitud (m)",null,"h(w)",null,"Superficie útil (m)",null,"Longitud de la ventana (m)"]
[]
[null,null,null,null,null,null,null,null,null,null,null,null,null,null,{"$f":"Q532","v":0}]
[]
[null,null,null,null,"Cumplimiento de las condiciones",null,null,null,{"$f":"IF(E540=\"\",\"\",IF(M532=2,IF(AND(E540=\"NO\",G540<2.5*I540,M540*Q540>0.2*O540,Q540>0.6*K540),\"Sí\",\"No\")))","v":""}]
[]
[]
[]
[null,null,null,null,"Cálculo de la componente SC"]
[]
[null,null,null,null,"hw para SC (m)",null,"W1",null,"W2",null,"D1",null,"Tipo de vidrio",null,null,null,"Transmitancia del vidrio"]
[]
[null,null,null,null,null,null,null,null,null,null,null,null,null,null,null,null,{"$f":"IFERROR(VLOOKUP(M550,$AA$3:$AB$6,2,FALSE),\"\")","v":""}]
[]
[null,null,null,null,"Componente SC",null,null,null,{"$f":"IFERROR(('Ayuda CAI 03'!E536+'Ayuda CAI 03'!G536)*Q550,\"\")","v":""}]
[]
[]
[]
[null,null,null,null,"Cálculo de la componente ERC"]
[]
[null,null,null,null,"hw para ERC (m)"]
[]
[]
[]
[null,null,null,null,"Componente ERC",null,null,null,{"$f":"IFERROR(IF(E560=\"\",0,('Ayuda CAI 03'!E546+'Ayuda CAI 03'!G546)*Q550),\"\")","v":0}]
[]
[]
[]
[null,null,null,null,"Cálculo de la componente IRC"]
[]
[null,null,null,null,"Área acristalada neta de ventanas",null,"Ángulo de cielo visible",null,"Altura del punto medio de las ventanas",null,"Longitud de paredes",null,"Altura de paredes",null,"Color de paredes",null,"Reflectancia de paredes"]
[]
[null,null,null,null,null,null,null,null,null,null,null,null,null,null,null,null,{"$f":"IFERROR(VLOOKUP(O570,AB$14:AC$16,2,FALSE),\"\")","v":""}]
[]
[null,null,null,null,"Superficie de techo",null,"Color de techo",null,"Reflectancia de techo",null,null,null,"Superficie de suelo",null,"Color de suelo",null,"Reflectancia de suelo"]
[]
[null,null,null,null,null,null,null,null,{"$f":"IFERROR(VLOOKUP(G574,AB$11:AC$13,2,FALSE),\"\")","v":""},null,null,null,null,null,null,null,{"$f":"IFERROR(VLOOKUP(O574,AB$17:AC$18,2,FALSE),\"\")","v":""}]
[]
[null,null,null,null,"Reflectancia \nmedia",null,"Reflectancia media superior",null,"Reflectancia media inferior"]
[]
[null,null,null,null,{"$f":"IFERROR(((((K570*M570)-E570)*Q570)+(E574*I574)+(M574*Q574))/(((K570*M570)-E570)+E574+M574),\"\")","v":""},null,{"$f":"IFERROR(((((K570*(M570-I570))-E570/2)*Q570)+(E574*I574))/(((K570*M570)-E570)+E574),\"\")","v":""},null,{"$f":"IFERROR(((((K570*I570)-E570/2)*Q570)+(M574*Q574))/((K570*E570)+M574),\"\")","v":""}]
[]
[null,null,null,null,"Componente IRC",null,null,null,{"$f":"IFERROR((Q550*E570*(((G570/2)-5)*I578+5*G578))/(((K570*M570)-E570)+E574+M574)*(1-E578),\"\")","v":""}]
[]
[]
[]
[null,null,null,null,"Cumplimiento del criterio",null,null,null,null,null,{"$f":"IFERROR(IF(I587=\"\",\"\",IF(I587>= M532,\"Sí\",\"No\")),\"\")","v":""}]
[]
[]
[null,null,null,null,"Factor luz de día de la estancia",null,null,null,{"$f":"IFERROR(IF(I542=\"Sí\",\">2%\",I552+I562+I580),\"\")","v":""},null,{"$f":"IF(K527=\"\",\"No olvides rellenar el multiplicador\",\"\")","v":"No olvides rellenar el multiplicador"}]
[]
[]
[null,null,null,null,"Espacio 10",null,null,null,"Multiplicador"]
[]
[]
[null,null,null,null,"Uso del espacio"]
[]
[null,null,null,null,"Uso del espacio",null,null,null,null,null,"DF requerido",null,{"$f":"IFERROR(VLOOKUP(G595,Z$22:AA$28,2,FALSE),\"\")","v":""},null,"Superficie útil",null,null,null,null,null,null,null,{"$f":"IF(K647=\"Sí\",K590*Q595,0)","v":0},{"$f":"K590*Q595","v":0}]
[]
[]
[]
[null,null,null,null,"¿Se cumplen las cuatro condiciones directas?"]
[]
[null,null,null,null,"¿Hay obstrucciones exteriores?",null,"Profundidad (m)",null,"Hw (m)",null,"Longitud (m)",null,"h(w)",null,"Superficie útil (m)",null,"Longitud de la ventana (m)"]
[]
[null,null,null,null,null,null,null,null,null,null,null,null,null,null,{"$f":"Q595","v":0}]
[]
[null,null,null,null,"Cumplimiento de las condiciones",null,null,null,{"$f":"IF(E603=\"\",\"\",IF(M595=2,IF(AND(E603=\"NO\",G603<2.5*I603,M603*Q603>0.2*O603,Q603>0.6*K603),\"Sí\",\"No\")))","v":""}]
[]
[]
[]
[null,null,null,null,"Cálculo de la componente SC"]
[]
[null,null,null,null,"hw para SC (m)",null,"W1",null,"W2",null,"D1",null,"Tipo de vidrio",null,null,null,"Transmitancia del vidrio"]
[]
[null,null,null,null,null,null,null,null,null,null,null,null,null,null,null,null,{"$f":"IFERROR(VLOOKUP(M613,$AA$3:$AB$6,2,FALSE),\"\")","v":""}]
[]
[null,null,null,null,"Componente SC",null,null,null,{"$f":"IFERROR(('Ayuda CAI 03'!E599+'Ayuda CAI 03'!G599)*Q613,\"\")","v":""}]
[]
[]
[]
[null,null,null,null,"Cálculo de la componente ERC"]
[]
[null,null,null,null,"hw para ERC (m)"]
[]
[]
[]
[null,null,null,null,"Componente ERC",null,null,null,{"$f":"IFERROR(IF(E623=\"\",0,('Ayuda CAI 03'!E609+'Ayuda CAI 03'!G609)*Q613),\"\")","v":0}]
[]
[]
[]
[null,null,null,null,"Cálculo de la componente IRC"]
[]
[null,null,null,null,"Área acristalada neta de ventanas",null,"Ángulo de cielo visible",null,"Altura del punto medio de las ventanas",null,"Longitud de paredes",null,"Altura de paredes",null,"Color de paredes",null,"Reflectancia de paredes"]
[]
[null,null,null,null,null,null,null,null,null,null,null,null,null,null,null,null,{"$f":"IFERROR(VLOOKUP(O633,AB$14:AC$16,2,FALSE),\"\")","v":""}]
[]
[null,null,null,null,"Superficie de techo",null,"Color de techo",null,"Reflectancia de techo",null,null,null,"Superficie de suelo",null,"Color de suelo",null,"Reflectancia de suelo"]
[]
[null,null,null,null,null,null,null,null,{"$f":"IFERROR(VLOOKUP(G637,AB$11:AC$13,2,FALSE),\"\")","v":""},null,null,null,null,null,null,null,{"$f":"IFERROR(VLOOKUP(O637,AB$17:AC$18,2,FALSE),\"\")","v":""}]
[]
[null,null,null,null,"Reflectancia \nmedia",null,"Reflectancia media superior",null,"Reflectancia media inferior"]
[]
[null,null,null,null,{"$f":"IFERROR(((((K633*M633)-E633)*Q633)+(E637*I637)+(M637*Q637))/(((K633*M633)-E633)+E637+M637),\"\")","v":""},null,{"$f":"IFERROR(((((K633*(M633-I633))-E633/2)*Q633)+(E637*I637))/(((K633*M633)-E633)+E637),\"\")","v":""},null,{"$f":"IFERROR(((((K633*I633)-E633/2)*Q633)+(M637*Q637))/((K633*E633)+M637),\"\")","v":""}]
[]
[null,null,null,null,"Componente IRC",null,null,null,{"$f":"IFERROR((Q613*E633*(((G633/2)-5)*I641+5*G641))/(((K633*M633)-E633)+E637+M637)*(1-E641),\"\")","v":""}]
[]
[]
[]
[null,null,null,null,"Cumplimiento del criterio",null,null,null,null,null,{"$f":"IFERROR(IF(I650=\"\",\"\",IF(I650>= M595,\"Sí\",\"No\")),\"\")","v":""}]
[]
[]
[null,null,null,null,"Factor luz de día de la estancia",null,null,null,{"$f":"IFERROR(IF(I605=\"Sí\",\">2%\",I615+I625+I643),\"\")","v":""},null,{"$f":"IF(K590=\"\",\"No olvides rellenar el multiplicador\",\"\")","v":"No olvides rellenar el multiplicador"}]
[]
[]
[null,null,null,null,"Espacio 11",null,null,null,"Multiplicador"]
[]
[]
[null,null,null,null,"Uso del espacio"]
[]
[null,null,null,null,"Uso del espacio",null,null,null,null,null,"DF requerido",null,{"$f":"IFERROR(VLOOKUP(G658,Z$22:AA$28,2,FALSE),\"\")","v":""},null,"Superficie útil",null,null,null,null,null,null,null,{"$f":"IF(K710=\"Sí\",K653*Q658,0)","v":0},{"$f":"K653*Q658","v":0}]
[]
[]
[]
[null,null,null,null,"¿Se cumplen las cuatro condiciones directas?"]
[]
[null,null,null,null,"¿Hay obstrucciones exteriores?",null,"Profundidad (m)",null,"Hw (m)",null,"Longitud (m)",null,"h(w)",null,"Superficie útil (m)",null,"Longitud de la ventana (m)"]
[]
[null,null,null,null,null,null,null,null,null,null,null,null,null,null,{"$f":"Q658","v":0}]
[]
[null,null,null,null,"Cumplimiento de las condiciones",null,null,null,{"$f":"IF(E666=\"\",\"\",IF(M658=2,IF(AND(E666=\"NO\",G666<2.5*I666,M666*Q666>0.2*O666,Q666>0.6*K666),\"Sí\",\"No\")))","v":""}]
[]
[]
[]
[null,null,null,null,"Cálculo de la componente SC"]
[]
[null,null,null,null,"hw para SC (m)",null,"W1",null,"W2",null,"D1",null,"Tipo de vidrio",null,null,null,"Transmitancia del vidrio"]
[]
[null,null,null,null,null,null,null,null,null,null,null,null,null,null,null,null,{"$f":"IFERROR(VLOOKUP(M676,$AA$3:$AB$6,2,FALSE),\"\")","v":""}]
[]
[null,null,null,null,"Componente SC",null,null,null,{"$f":"IFERROR(('Ayuda CAI 03'!E662+'Ayuda CAI 03'!G662)*Q676,\"\")","v":""}]
[]
[]
[]
[null,null,null,null,"Cálculo de la componente ERC"]
[]
[null,null,null,null,"hw para ERC (m)"]
[]
[]
[]
[null,null,null,null,"Componente ERC",null,null,null,{"$f":"IFERROR(IF(E686=\"\",0,('Ayuda CAI 03'!E672+'Ayuda CAI 03'!G672)*Q676),\"\")","v":0}]
[]
[]
[]
[null,null,null,null,"Cálculo de la componente IRC"]
[]
[null,null,null,null,"Área acristalada neta de ventanas",null,"Ángulo de cielo visible",null,"Altura del punto medio de las ventanas",null,"Longitud de paredes",null,"Altura de paredes",null,"Color de paredes",null,"Reflectancia de paredes"]
[]
[null,null,null,null,null,null,null,null,null,null,null,null,null,null,null,null,{"$f":"IFERROR(VLOOKUP(O696,AB$14:AC$16,2,FALSE),\"\")","v":""}]
[]
[null,null,null,null,"Superficie de techo",null,"Color de techo",null,"Reflectancia de techo",null,null,null,"Superficie de suelo",null,"Color de suelo",null,"Reflectancia de suelo"]
[]
[null,null,null,null,null,null,null,null,{"$f":"IFERROR(VLOOKUP(G700,AB$11:AC$13,2,FALSE),\"\")","v":""},null,null,null,null,null,null,null,{"$f":"IFERROR(VLOOKUP(O700,AB$17:AC$18,2,FALSE),\"\")","v":""}]
[]
[null,null,null,null,"Reflectancia \nmedia",null,"Reflectancia media superior",null,"Reflectancia media inferior"]
[]
[null,null,null,null,{"$f":"IFERROR(((((K696*M696)-E696)*Q696)+(E700*I700)+(M700*Q700))/(((K696*M696)-E696)+E700+M700),\"\")","v":""},null,{"$f":"IFERROR(((((K696*(M696-I696))-E696/2)*Q696)+(E700*I700))/(((K696*M696)-E696)+E700),\"\")","v":""},null,{"$f":"IFERROR(((((K696*I696)-E696/2)*Q696)+(M700*Q700))/((K696*E696)+M700),\"\")","v":""}]
[]
[null,null,null,null,"Componente IRC",null,null,null,{"$f":"IFERROR((Q676*E696*(((G696/2)-5)*I704+5*G704))/(((K696*M696)-E696)+E700+M700)*(1-E704),\"\")","v":""}]
[]
[]
[]
[null,null,null,null,"Cumplimiento del criterio",null,null,null,null,null,{"$f":"IFERROR(IF(I713=\"\",\"\",IF(I713>= M658,\"Sí\",\"No\")),\"\")","v":""}]
[]
[]
[null,null,null,null,"Factor luz de día de la estancia",null,null,null,{"$f":"IFERROR(IF(I668=\"Sí\",\">2%\",I678+I688+I706),\"\")","v":""},null,{"$f":"IF(K653=\"\",\"No olvides rellenar el multiplicador\",\"\")","v":"No olvides rellenar el multiplicador"}]
[]
[]
[null,null,null,null,"Espacio 12",null,null,null,"Multiplicador"]
[]
[]
[null,null,null,null,"Uso del espacio"]
[]
[null,null,null,null,"Uso del espacio",null,"Zona de trabajo administrativo",null,null,null,"DF requerido",null,{"$f":"IFERROR(VLOOKUP(G721,Z$22:AA$28,2,FALSE),\"\")","v":2},null,"Superficie útil",null,35,null,null,null,null,null,{"$f":"IF(K773=\"Sí\",K716*Q721,0)","v":0},{"$f":"K716*Q721","v":0}]
[]
[]
[]
[null,null,null,null,"¿Se cumplen las cuatro condiciones directas?"]
[]
[null,null,null,null,"¿Hay obstrucciones exteriores?",null,"Profundidad (m)",null,"Hw (m)",null,"Longitud (m)",null,"h(w)",null,"Superficie útil (m)",null,"Longitud de la ventana (m)"]
[]
[null,null,null,null,"No",null,5,null,2.2999999999999998,null,7,null,1.2,null,{"$f":"Q721","v":35},null,6]
[]
[null,null,null,null,"Cumplimiento de las condiciones",null,null,null,{"$f":"IF(E729=\"\",\"\",IF(M721=2,IF(AND(E729=\"NO\",G729<2.5*I729,M729*Q729>0.2*O729,Q729>0.6*K729),\"Sí\",\"No\")))","v":"Sí"}]
[]
[]
[]
[null,null,null,null,"Cálculo de la componente SC"]
[]
[null,null,null,null,"hw para SC (m)",null,"W1",null,"W2",null,"D1",null,"Tipo de vidrio",null,null,null,"Transmitancia del vidrio"]
[]
[null,null,null,null,null,null,null,null,null,null,null,null,"Vidrio doble climalit",null,null,null,{"$f":"IFERROR(VLOOKUP(M739,$AA$3:$AB$6,2,FALSE),\"\")","v":0.8}]
[]
[null,null,null,null,"Componente SC",null,null,null,{"$f":"IFERROR(('Ayuda CAI 03'!E725+'Ayuda CAI 03'!G725)*Q739,\"\")","v":0}]
[]
[]
[]
[null,null,null,null,"Cálculo de la componente ERC"]
[]
[null,null,null,null,"hw para ERC (m)"]
[]
[]
[]
[null,null,null,null,"Componente ERC",null,null,null,{"$f":"IFERROR(IF(E749=\"\",0,('Ayuda CAI 03'!E735+'Ayuda CAI 03'!G735)*Q739),\"\")","v":0}]
[]
[]
[]
[null,null,null,null,"Cálculo de la componente IRC"]
[]
[null,null,null,null,"Área acristalada neta de ventanas",null,"Ángulo de cielo visible",null,"Altura del punto medio de las ventanas",null,"Longitud de paredes",null,"Altura de paredes",null,"Color de paredes",null,"Reflectancia de paredes"]
[]
[null,null,null,null,null,null,null,null,null,null,null,null,null,null,"oscuro",null,{"$f":"IFERROR(VLOOKUP(O759,AB$14:AC$16,2,FALSE),\"\")","v":0.1}]
[]
[null,null,null,null,"Superficie de techo",null,"Color de techo",null,"Reflectancia de techo",null,null,null,"Superficie de suelo",null,"Color de suelo",null,"Reflectancia de suelo"]
[]
[null,null,null,null,null,null,"claro",null,{"$f":"IFERROR(VLOOKUP(G763,AB$11:AC$13,2,FALSE),\"\")","v":0.5},null,null,null,null,null,"oscuro",null,{"$f":"IFERROR(VLOOKUP(O763,AB$17:AC$18,2,FALSE),\"\")","v":0.1}]
[]
[null,null,null,null,"Reflectancia \nmedia",null,"Reflectancia media superior",null,"Reflectancia media inferior"]
[]
[null,null,null,null,{"$f":"IFERROR(((((K759*M759)-E759)*Q759)+(E763*I763)+(M763*Q763))/(((K759*M759)-E759)+E763+M763),\"\")","v":""},null,{"$f":"IFERROR(((((K759*(M759-I759))-E759/2)*Q759)+(E763*I763))/(((K759*M759)-E759)+E763),\"\")","v":""},null,{"$f":"IFERROR(((((K759*I759)-E759/2)*Q759)+(M763*Q763))/((K759*E759)+M763),\"\")","v":""}]
[]
[null,null,null,null,"Componente IRC",null,null,null,{"$f":"IFERROR((Q739*E759*(((G759/2)-5)*I767+5*G767))/(((K759*M759)-E759)+E763+M763)*(1-E767),\"\")","v":""}]
[]
[]
[]
[null,null,null,null,"Cumplimiento del criterio",null,null,null,null,null,{"$f":"IFERROR(IF(I776=\"\",\"\",IF(I776>= M721,\"Sí\",\"No\")),\"\")","v":"Sí"}]
[]
[]
[null,null,null,null,"Factor luz de día de la estancia",null,null,null,{"$f":"IFERROR(IF(I731=\"Sí\",\">2%\",I741+I751+I769),\"\")","v":">2%"},null,{"$f":"IF(K716=\"\",\"No olvides rellenar el multiplicador\",\"\")","v":"No olvides rellenar el multiplicador"}]
[]
[]
[null,null,null,null,"Espacio 13",null,null,null,"Multiplicador"]
[]
[]
[null,null,null,null,"Uso del espacio"]
[]
[null,null,null,null,"Uso del espacio",null,"Zona de trabajo administrativo",null,null,null,"DF requerido",null,{"$f":"IFERROR(VLOOKUP(G784,Z$22:AA$28,2,FALSE),\"\")","v":2},null,"Superficie útil",null,35,null,null,null,null,null,{"$f":"IF(K836=\"Sí\",K779*Q784,0)","v":0},{"$f":"K779*Q784","v":0}]
[]
[]
[]
[null,null,null,null,"¿Se cumplen las cuatro condiciones directas?"]
[]
[null,null,null,null,"¿Hay obstrucciones exteriores?",null,"Profundidad (m)",null,"Hw (m)",null,"Longitud (m)",null,"h(w)",null,"Superficie útil (m)",null,"Longitud de la ventana (m)"]
[]
[null,null,null,null,"No",null,5,null,2.2999999999999998,null,7,null,1.2,null,{"$f":"Q784","v":35},null,6]
[]
[null,null,null,null,"Cumplimiento de las condiciones",null,null,null,{"$f":"IF(E792=\"\",\"\",IF(M784=2,IF(AND(E792=\"NO\",G792<2.5*I792,M792*Q792>0.2*O792,Q792>0.6*K792),\"Sí\",\"No\")))","v":"Sí"}]
[]
[]
[]
[null,null,null,null,"Cálculo de la componente SC"]
[]
[null,null,null,null,"hw para SC (m)",null,"W1",null,"W2",null,"D1",null,"Tipo de vidrio",null,null,null,"Transmitancia del vidrio"]
[]
[null,null,null,null,null,null,null,null,null,null,null,null,"Vidrio control solar claro",null,null,null,{"$f":"IFERROR(VLOOKUP(M802,$AA$3:$AB$6,2,FALSE),\"\")","v":0.28000000000000003}]
[]
[null,null,null,null,"Componente SC",null,null,null,{"$f":"IFERROR(('Ayuda CAI 03'!E788+'Ayuda CAI 03'!G788)*Q802,\"\")","v":0}]
[]
[]
[]
[null,null,null,null,"Cálculo de la componente ERC"]
[]
[null,null,null,null,"hw para ERC (m)"]
[]
[]
[]
[null,null,null,null,"Componente ERC",null,null,null,{"$f":"IFERROR(IF(E812=\"\",0,('Ayuda CAI 03'!E798+'Ayuda CAI 03'!G798)*Q802),\"\")","v":0}]
[]
[]
[]
[null,null,null,null,"Cálculo de la componente IRC"]
[]
[null,null,null,null,"Área acristalada neta de ventanas",null,"Ángulo de cielo visible",null,"Altura del punto medio de las ventanas",null,"Longitud de paredes",null,"Altura de paredes",null,"Color de paredes",null,"Reflectancia de paredes"]
[]
[null,null,null,null,null,null,null,null,null,null,null,null,null,null,"medio",null,{"$f":"IFERROR(VLOOKUP(O822,AB$14:AC$16,2,FALSE),\"\")","v":0.3}]
[]
[null,null,null,null,"Superficie de techo",null,"Color de techo",null,"Reflectancia de techo",null,null,null,"Superficie de suelo",null,"Color de suelo",null,"Reflectancia de suelo"]
[]
[null,null,null,null,null,null,"claro",null,{"$f":"IFERROR(VLOOKUP(G826,AB$11:AC$13,2,FALSE),\"\")","v":0.5},null,null,null,null,null,"oscuro",null,{"$f":"IFERROR(VLOOKUP(O826,AB$17:AC$18,2,FALSE),\"\")","v":0.1}]
[]
[null,null,null,null,"Reflectancia \nmedia",null,"Reflectancia media superior",null,"Reflectancia media inferior"]
[]
[null,null,null,null,{"$f":"IFERROR(((((K822*M822)-E822)*Q822)+(E826*I826)+(M826*Q826))/(((K822*M822)-E822)+E826+M826),\"\")","v":""},null,{"$f":"IFERROR(((((K822*(M822-I822))-E822/2)*Q822)+(E826*I826))/(((K822*M822)-E822)+E826),\"\")","v":""},null,{"$f":"IFERROR(((((K822*I822)-E822/2)*Q822)+(M826*Q826))/((K822*E822)+M826),\"\")","v":""}]
[]
[null,null,null,null,"Componente IRC",null,null,null,{"$f":"IFERROR((Q802*E822*(((G822/2)-5)*I830+5*G830))/(((K822*M822)-E822)+E826+M826)*(1-E830),\"\")","v":""}]
[]
[]
[]
[null,null,null,null,"Cumplimiento del criterio",null,null,null,null,null,{"$f":"IFERROR(IF(I839=\"\",\"\",IF(I839>= M784,\"Sí\",\"No\")),\"\")","v":"Sí"}]
[]
[]
[null,null,null,null,"Factor luz de día de la estancia",null,null,null,{"$f":"IFERROR(IF(I794=\"Sí\",\">2%\",I804+I814+I832),\"\")","v":">2%"},null,{"$f":"IF(K779=\"\",\"No olvides rellenar el multiplicador\",\"\")","v":"No olvides rellenar el multiplicador"}]
[]
[]
[null,null,null,null,"Espacio 14",null,null,null,"Multiplicador"]
[]
[]
[null,null,null,null,"Uso del espacio"]
[]
[null,null,null,null,"Uso del espacio",null,"Zona de trabajo administrativo",null,null,null,"DF requerido",null,{"$f":"IFERROR(VLOOKUP(G847,Z$22:AA$28,2,FALSE),\"\")","v":2},null,"Superficie útil",null,35,null,null,null,null,null,{"$f":"IF(K899=\"Sí\",K842*Q847,0)","v":0},{"$f":"K842*Q847","v":0}]
[]
[]
[]
[null,null,null,null,"¿Se cumplen las cuatro condiciones directas?"]
[]
[null,null,null,null,"¿Hay obstrucciones exteriores?",null,"Profundidad (m)",null,"Hw (m)",null,"Longitud (m)",null,"h(w)",null,"Superficie útil (m)",null,"Longitud de la ventana (m)"]
[]
[null,null,null,null,"No",null,5,null,2.2999999999999998,null,7,null,1.2,null,{"$f":"Q847","v":35},null,6]
[]
[null,null,null,null,"Cumplimiento de las condiciones",null,null,null,{"$f":"IF(E855=\"\",\"\",IF(M847=2,IF(AND(E855=\"NO\",G855<2.5*I855,M855*Q855>0.2*O855,Q855>0.6*K855),\"Sí\",\"No\")))","v":"Sí"}]
[]
[]
[]
[null,null,null,null,"Cálculo de la componente SC"]
[]
[null,null,null,null,"hw para SC (m)",null,"W1",null,"W2",null,"D1",null,"Tipo de vidrio",null,null,null,"Transmitancia del vidrio"]
[]
[null,null,null,null,null,null,null,null,null,null,null,null,"Vidrio doble bajo emisivo",null,null,null,{"$f":"IFERROR(VLOOKUP(M865,$AA$3:$AB$6,2,FALSE),\"\")","v":0.72}]
[]
[null,null,null,null,"Componente SC",null,null,null,{"$f":"IFERROR(('Ayuda CAI 03'!E851+'Ayuda CAI 03'!G851)*Q865,\"\")","v":0}]
[]
[]
[]
[null,null,null,null,"Cálculo de la componente ERC"]
[]
[null,null,null,null,"hw para ERC (m)"]
[]
[]
[]
[null,null,null,null,"Componente ERC",null,null,null,{"$f":"IFERROR(IF(E875=\"\",0,('Ayuda CAI 03'!E861+'Ayuda CAI 03'!G861)*Q865),\"\")","v":0}]
[]
[]
[]
[null,null,null,null,"Cálculo de la componente IRC"]
[]
[null,null,null,null,"Área acristalada neta de ventanas",null,"Ángulo de cielo visible",null,"Altura del punto medio de las ventanas",null,"Longitud de paredes",null,"Altura de paredes",null,"Color de paredes",null,"Reflectancia de paredes"]
[]
[null,null,null,null,null,null,null,null,null,null,null,null,null,null,"medio",null,{"$f":"IFERROR(VLOOKUP(O885,AB$14:AC$16,2,FALSE),\"\")","v":0.3}]
[]
[null,null,null,null,"Superficie de techo",null,"Color de techo",null,"Reflectancia de techo",null,null,null,"Superficie de suelo",null,"Color de suelo",null,"Reflectancia de suelo"]
[]
[null,null,null,null,null,null,"claro",null,{"$f":"IFERROR(VLOOKUP(G889,AB$11:AC$13,2,FALSE),\"\")","v":0.5},null,null,null,null,null,"oscuro",null,{"$f":"IFERROR(VLOOKUP(O889,AB$17:AC$18,2,FALSE),\"\")","v":0.1}]
[]
[null,null,null,null,"Reflectancia \nmedia",null,"Reflectancia media superior",null,"Reflectancia media inferior"]
[]
[null,null,null,null,{"$f":"IFERROR(((((K885*M885)-E885)*Q885)+(E889*I889)+(M889*Q889))/(((K885*M885)-E885)+E889+M889),\"\")","v":""},null,{"$f":"IFERROR(((((K885*(M885-I885))-E885/2)*Q885)+(E889*I889))/(((K885*M885)-E885)+E889),\"\")","v":""},null,{"$f":"IFERROR(((((K885*I885)-E885/2)*Q885)+(M889*Q889))/((K885*E885)+M889),\"\")","v":""}]
[]
[null,null,null,null,"Componente IRC",null,null,null,{"$f":"IFERROR((Q865*E885*(((G885/2)-5)*I893+5*G893))/(((K885*M885)-E885)+E889+M889)*(1-E893),\"\")","v":""}]
[]
[]
[]
[null,null,null,null,"Cumplimiento del criterio",null,null,null,null,null,{"$f":"IFERROR(IF(I902=\"\",\"\",IF(I902>= M847,\"Sí\",\"No\")),\"\")","v":"Sí"}]
[]
[]
[null,null,null,null,"Factor luz de día de la estancia",null,null,null,{"$f":"IFERROR(IF(I857=\"Sí\",\">2%\",I867+I877+I895),\"\")","v":">2%"},null,{"$f":"IF(K842=\"\",\"No olvides rellenar el multiplicador\",\"\")","v":"No olvides rellenar el multiplicador"}]
[]
[]
[null,null,null,null,"Espacio 15",null,null,null,"Multiplicador"]
[]
[]
[null,null,null,null,"Uso del espacio"]
[]
[null,null,null,null,"Uso del espacio",null,"Zona de trabajo administrativo",null,null,null,"DF requerido",null,{"$f":"IFERROR(VLOOKUP(G910,Z$22:AA$28,2,FALSE),\"\")","v":2},null,"Superficie útil",null,35,null,null,null,null,null,{"$f":"IF(K962=\"Sí\",K905*Q910,0)","v":0},{"$f":"K905*Q910","v":0}]
[]
[]
[]
[null,null,null,null,"¿Se cumplen las cuatro condiciones directas?"]
[]
[null,null,null,null,"¿Hay obstrucciones exteriores?",null,"Profundidad (m)",null,"Hw (m)",null,"Longitud (m)",null,"h(w)",null,"Superficie útil (m)",null,"Longitud de la ventana (m)"]
[]
[null,null,null,null,"No",null,5,null,2.2999999999999998,null,7,null,1.2,null,{"$f":"Q910","v":35},null,6]
[]
[null,null,null,null,"Cumplimiento de las condiciones",null,null,null,{"$f":"IF(E918=\"\",\"\",IF(M910=2,IF(AND(E918=\"NO\",G918<2.5*I918,M918*Q918>0.2*O918,Q918>0.6*K918),\"Sí\",\"No\")))","v":"Sí"}]
[]
[]
[]
[null,null,null,null,"Cálculo de la componente SC"]
[]
[null,null,null,null,"hw para SC (m)",null,"W1",null,"W2",null,"D1",null,"Tipo de vidrio",null,null,null,"Transmitancia del vidrio"]
[]
[null,null,null,null,null,null,null,null,null,null,null,null,"Vidrio doble climalit",null,null,null,{"$f":"IFERROR(VLOOKUP(M928,$AA$3:$AB$6,2,FALSE),\"\")","v":0.8}]
[]
[null,null,null,null,"Componente SC",null,null,null,{"$f":"IFERROR(('Ayuda CAI 03'!E914+'Ayuda CAI 03'!G914)*Q928,\"\")","v":0}]
[]
[]
[]
[null,null,null,null,"Cálculo de la componente ERC"]
[]
[null,null,null,null,"hw para ERC (m)"]
[]
[]
[]
[null,null,null,null,"Componente ERC",null,null,null,{"$f":"IFERROR(IF(E938=\"\",0,('Ayuda CAI 03'!E924+'Ayuda CAI 03'!G924)*Q928),\"\")","v":0}]
[]
[]
[]
[null,null,null,null,"Cálculo de la componente IRC"]
[]
[null,null,null,null,"Área acristalada neta de ventanas",null,"Ángulo de cielo visible",null,"Altura del punto medio de las ventanas",null,"Longitud de paredes",null,"Altura de paredes",null,"Color de paredes",null,"Reflectancia de paredes"]
[]
[null,null,null,null,null,null,null,null,null,null,null,null,null,null,"medio",null,{"$f":"IFERROR(VLOOKUP(O948,AB$14:AC$16,2,FALSE),\"\")","v":0.3}]
[]
[null,null,null,null,"Superficie de techo",null,"Color de techo",null,"Reflectancia de techo",null,null,null,"Superficie de suelo",null,"Color de suelo",null,"Reflectancia de suelo"]
[]
[null,null,null,null,null,null,"claro",null,{"$f":"IFERROR(VLOOKUP(G952,AB$11:AC$13,2,FALSE),\"\")","v":0.5},null,null,null,null,null,"oscuro",null,{"$f":"IFERROR(VLOOKUP(O952,AB$17:AC$18,2,FALSE),\"\")","v":0.1}]
[]
[null,null,null,null,"Reflectancia \nmedia",null,"Reflectancia media superior",null,"Reflectancia media inferior"]
[]
[null,null,null,null,{"$f":"IFERROR(((((K948*M948)-E948)*Q948)+(E952*I952)+(M952*Q952))/(((K948*M948)-E948)+E952+M952),\"\")","v":""},null,{"$f":"IFERROR(((((K948*(M948-I948))-E948/2)*Q948)+(E952*I952))/(((K948*M948)-E948)+E952),\"\")","v":""},null,{"$f":"IFERROR(((((K948*I948)-E948/2)*Q948)+(M952*Q952))/((K948*E948)+M952),\"\")","v":""}]
[]
[null,null,null,null,"Componente IRC",null,null,null,{"$f":"IFERROR((Q928*E948*(((G948/2)-5)*I956+5*G956))/(((K948*M948)-E948)+E952+M952)*(1-E956),\"\")","v":""}]
[]
[]
[]
[null,null,null,null,"Cumplimiento del criterio",null,null,null,null,null,{"$f":"IFERROR(IF(I965=\"\",\"\",IF(I965>= M910,\"Sí\",\"No\")),\"\")","v":"Sí"}]
[]
[]
[null,null,null,null,"Factor luz de día de la estancia",null,null,null,{"$f":"IFERROR(IF(I920=\"Sí\",\">2%\",I930+I940+I958),\"\")","v":">2%"},null,{"$f":"IF(K905=\"\",\"No olvides rellenar el multiplicador\",\"\")","v":"No olvides rellenar el multiplicador"}]
[]
[]
[null,null,null,null,"Espacio 16",null,null,null,"Multiplicador"]
[]
[]
[null,null,null,null,"Uso del espacio"]
[]
[null,null,null,null,"Uso del espacio",null,"Zona de trabajo administrativo",null,null,null,"DF requerido",null,{"$f":"IFERROR(VLOOKUP(G973,Z$22:AA$28,2,FALSE),\"\")","v":2},null,"Superficie útil",null,35,null,null,null,null,null,{"$f":"IF(K1025=\"Sí\",K968*Q973,0)","v":0},{"$f":"K968*Q973","v":0}]
[]
[]
[]
[null,null,null,null,"¿Se cumplen las cuatro condiciones directas?"]
[]
[null,null,null,null,"¿Hay obstrucciones exteriores?",null,"Profundidad (m)",null,"Hw (m)",null,"Longitud (m)",null,"h(w)",null,"Superficie útil (m)",null,"Longitud de la ventana (m)"]
[]
[null,null,null,null,"No",null,5,null,2.2999999999999998,null,7,null,1.2,null,{"$f":"Q973","v":35},null,6]
[]
[null,null,null,null,"Cumplimiento de las condiciones",null,null,null,{"$f":"IF(E981=\"\",\"\",IF(M973=2,IF(AND(E981=\"NO\",G981<2.5*I981,M981*Q981>0.2*O981,Q981>0.6*K981),\"Sí\",\"No\")))","v":"Sí"}]
[]
[]
[]
[null,null,null,null,"Cálculo de la componente SC"]
[]
[null,null,null,null,"hw para SC (m)",null,"W1",null,"W2",null,"D1",null,"Tipo de vidrio",null,null,null,"Transmitancia del vidrio"]
[]
[null,null,null,null,null,null,null,null,null,null,null,null,"Vidrio doble climalit",null,null,null,{"$f":"IFERROR(VLOOKUP(M991,$AA$3:$AB$6,2,FALSE),\"\")","v":0.8}]
[]
[null,null,null,null,"Componente SC",null,null,null,{"$f":"IFERROR(('Ayuda CAI 03'!E977+'Ayuda CAI 03'!G977)*Q991,\"\")","v":0}]
[]
[]
[]
[null,null,null,null,"Cálculo de la componente ERC"]
[]
[null,null,null,null,"hw para ERC (m)"]
[]
[]
[]
[null,null,null,null,"Componente ERC",null,null,null,{"$f":"IFERROR(IF(E1001=\"\",0,('Ayuda CAI 03'!E987+'Ayuda CAI 03'!G987)*Q991),\"\")","v":0}]
[]
[]
[]
[null,null,null,null,"Cálculo de la componente IRC"]
[]
[null,null,null,null,"Área acristalada neta de ventanas",null,"Ángulo de cielo visible",null,"Altura del punto medio de las ventanas",null,"Longitud de paredes",null,"Altura de paredes",null,"Color de paredes",null,"Reflectancia de paredes"]
[]
[null,null,null,null,null,null,null,null,null,null,null,null,null,null,null,null,{"$f":"IFERROR(VLOOKUP(O1011,AB$14:AC$16,2,FALSE),\"\")","v":""}]
[]
[null,null,null,null,"Superficie de techo",null,"Color de techo",null,"Reflectancia de techo",null,null,null,"Superficie de suelo",null,"Color de suelo",null,"Reflectancia de suelo"]
[]
[null,null,null,null,null,null,null,null,{"$f":"IFERROR(VLOOKUP(G1015,AB$11:AC$13,2,FALSE),\"\")","v":""},null,null,null,null,null,null,null,{"$f":"IFERROR(VLOOKUP(O1015,AB$17:AC$18,2,FALSE),\"\")","v":""}]
[]
[null,null,null,null,"Reflectancia \nmedia",null,"Reflectancia media superior",null,"Reflectancia media inferior"]
[]
[null,null,null,null,{"$f":"IFERROR(((((K1011*M1011)-E1011)*Q1011)+(E1015*I1015)+(M1015*Q1015))/(((K1011*M1011)-E1011)+E1015+M1015),\"\")","v":""},null,{"$f":"IFERROR(((((K1011*(M1011-I1011))-E1011/2)*Q1011)+(E1015*I1015))/(((K1011*M1011)-E1011)+E1015),\"\")","v":""},null,{"$f":"IFERROR(((((K1011*I1011)-E1011/2)*Q1011)+(M1015*Q1015))/((K1011*E1011)+M1015),\"\")","v":""}]
[]
[null,null,null,null,"Componente IRC",null,null,null,{"$f":"IFERROR((Q991*E1011*(((G1011/2)-5)*I1019+5*G1019))/(((K1011*M1011)-E1011)+E1015+M1015)*(1-E1019),\"\")","v":""}]
[]
[]
[]
[null,null,null,null,"Cumplimiento del criterio",null,null,null,null,null,{"$f":"IFERROR(IF(I1028=\"\",\"\",IF(I1028>= M973,\"Sí\",\"No\")),\"\")","v":"Sí"}]
[]
[]
[null,null,null,null,"Factor luz de día de la estancia",null,null,null,{"$f":"IFERROR(IF(I983=\"Sí\",\">2%\",I993+I1003+I1021),\"\")","v":">2%"},null,{"$f":"IF(K968=\"\",\"No olvides rellenar el multiplicador\",\"\")","v":"No olvides rellenar el multiplicador"}]
[]
[]
[null,null,null,null,"Espacio 17",null,null,null,"Multiplicador"]
[]
[]
[null,null,null,null,"Uso del espacio"]
[]
[null,null,null,null,"Uso del espacio",null,"Zona de trabajo administrativo",null,null,null,"DF requerido",null,{"$f":"IFERROR(VLOOKUP(G1036,Z$22:AA$28,2,FALSE),\"\")","v":2},null,"Superficie útil",null,35,null,null,null,null,null,{"$f":"IF(K1088=\"Sí\",K1031*Q1036,0)","v":0},{"$f":"K1031*Q1036","v":0}]
[]
[]
[]
[null,null,null,null,"¿Se cumplen las cuatro condiciones directas?"]
[]
[null,null,null,null,"¿Hay obstrucciones exteriores?",null,"Profundidad (m)",null,"Hw (m)",null,"Longitud (m)",null,"h(w)",null,"Superficie útil (m)",null,"Longitud de la ventana (m)"]
[]
[null,null,null,null,"No",null,5,null,2.2999999999999998,null,7,null,1.2,null,{"$f":"Q1036","v":35},null,6]
[]
[null,null,null,null,"Cumplimiento de las condiciones",null,null,null,{"$f":"IF(E1044=\"\",\"\",IF(M1036=2,IF(AND(E1044=\"NO\",G1044<2.5*I1044,M1044*Q1044>0.2*O1044,Q1044>0.6*K1044),\"Sí\",\"No\")))","v":"Sí"}]
[]
[]
[]
[null,null,null,null,"Cálculo de la componente SC"]
[]
[null,null,null,null,"hw para SC (m)",null,"W1",null,"W2",null,"D1",null,"Tipo de vidrio",null,null,null,"Transmitancia del vidrio"]
[]
[null,null,null,null,null,null,null,null,null,null,null,null,"Vidrio doble climalit",null,null,null,{"$f":"IFERROR(VLOOKUP(M1054,$AA$3:$AB$6,2,FALSE),\"\")","v":0.8}]
[]
[null,null,null,null,"Componente SC",null,null,null,{"$f":"IFERROR(('Ayuda CAI 03'!E1040+'Ayuda CAI 03'!G1040)*Q1054,\"\")","v":0}]
[]
[]
[]
[null,null,null,null,"Cálculo de la componente ERC"]
[]
[null,null,null,null,"hw para ERC (m)"]
[]
[]
[]
[null,null,null,null,"Componente ERC",null,null,null,{"$f":"IFERROR(IF(E1064=\"\",0,('Ayuda CAI 03'!E1050+'Ayuda CAI 03'!G1050)*Q1054),\"\")","v":0}]
[]
[]
[]
[null,null,null,null,"Cálculo de la componente IRC"]
[]
[null,null,null,null,"Área acristalada neta de ventanas",null,"Ángulo de cielo visible",null,"Altura del punto medio de las ventanas",null,"Longitud de paredes",null,"Altura de paredes",null,"Color de paredes",null,"Reflectancia de paredes"]
[]
[null,null,null,null,null,null,null,null,null,null,null,null,null,null,"medio",null,{"$f":"IFERROR(VLOOKUP(O1074,AB$14:AC$16,2,FALSE),\"\")","v":0.3}]
[]
[null,null,null,null,"Superficie de techo",null,"Color de techo",null,"Reflectancia de techo",null,null,null,"Superficie de suelo",null,"Color de suelo",null,"Reflectancia de suelo"]
[]
[null,null,null,null,null,null,"Blanco o muy claro",null,{"$f":"IFERROR(VLOOKUP(G1078,AB$11:AC$13,2,FALSE),\"\")","v":0.8},null,null,null,null,null,"oscuro",null,{"$f":"IFERROR(VLOOKUP(O1078,AB$17:AC$18,2,FALSE),\"\")","v":0.1}]
[]
[null,null,null,null,"Reflectancia \nmedia",null,"Reflectancia media superior",null,"Reflectancia media inferior"]
[]
[null,null,null,null,{"$f":"IFERROR(((((K1074*M1074)-E1074)*Q1074)+(E1078*I1078)+(M1078*Q1078))/(((K1074*M1074)-E1074)+E1078+M1078),\"\")","v":""},null,{"$f":"IFERROR(((((K1074*(M1074-I1074))-E1074/2)*Q1074)+(E1078*I1078))/(((K1074*M1074)-E1074)+E1078),\"\")","v":""},null,{"$f":"IFERROR(((((K1074*I1074)-E1074/2)*Q1074)+(M1078*Q1078))/((K1074*E1074)+M1078),\"\")","v":""}]
[]
[null,null,null,null,"Componente IRC",null,null,null,{"$f":"IFERROR((Q1054*E1074*(((G1074/2)-5)*I1082+5*G1082))/(((K1074*M1074)-E1074)+E1078+M1078)*(1-E1082),\"\")","v":""}]
[]
[]
[]
[null,null,null,null,"Cumplimiento del criterio",null,null,null,null,null,{"$f":"IFERROR(IF(I1091=\"\",\"\",IF(I1091>= M1036,\"Sí\",\"No\")),\"\")","v":"Sí"}]
[]
[]
[null,null,null,null,"Factor luz de día de la estancia",null,null,null,{"$f":"IFERROR(IF(I1046=\"Sí\",\">2%\",I1056+I1066+I1084),\"\")","v":">2%"},null,{"$f":"IF(K1031=\"\",\"No olvides rellenar el multiplicador\",\"\")","v":"No olvides rellenar el multiplicador"}]
[]
[]
[null,null,null,null,"Espacio 18",null,null,null,"Multiplicador"]
[]
[]
[null,null,null,null,"Uso del espacio"]
[]
[null,null,null,null,"Uso del espacio",null,"Zona de trabajo administrativo",null,null,null,"DF requerido",null,{"$f":"IFERROR(VLOOKUP(G1099,Z$22:AA$28,2,FALSE),\"\")","v":2},null,"Superficie útil",null,35,null,null,null,null,null,{"$f":"IF(K1151=\"Sí\",K1094*Q1099,0)","v":0},{"$f":"K1094*Q1099","v":0}]
[]
[]
[]
[null,null,null,null,"¿Se cumplen las cuatro condiciones directas?"]
[]
[null,null,null,null,"¿Hay obstrucciones exteriores?",null,"Profundidad (m)",null,"Hw (m)",null,"Longitud (m)",null,"h(w)",null,"Superficie útil (m)",null,"Longitud de la ventana (m)"]
[]
[null,null,null,null,"No",null,5,null,2.2999999999999998,null,7,null,1.2,null,{"$f":"Q1099","v":35},null,6]
[]
[null,null,null,null,"Cumplimiento de las condiciones",null,null,null,{"$f":"IF(E1107=\"\",\"\",IF(M1099=2,IF(AND(E1107=\"NO\",G1107<2.5*I1107,M1107*Q1107>0.2*O1107,Q1107>0.6*K1107),\"Sí\",\"No\")))","v":"Sí"}]
[]
[]
[]
[null,null,null,null,"Cálculo de la componente SC"]
[]
[null,null,null,null,"hw para SC (m)",null,"W1",null,"W2",null,"D1",null,"Tipo de vidrio",null,null,null,"Transmitancia del vidrio"]
[]
[null,null,null,null,null,null,null,null,null,null,null,null,"Vidrio doble climalit",null,null,null,{"$f":"IFERROR(VLOOKUP(M1117,$AA$3:$AB$6,2,FALSE),\"\")","v":0.8}]
[]
[null,null,null,null,"Componente SC",null,null,null,{"$f":"IFERROR(('Ayuda CAI 03'!E1103+'Ayuda CAI 03'!G1103)*Q1117,\"\")","v":0}]
[]
[]
[]
[null,null,null,null,"Cálculo de la componente ERC"]
[]
[null,null,null,null,"hw para ERC (m)"]
[]
[]
[]
[null,null,null,null,"Componente ERC",null,null,null,{"$f":"IFERROR(IF(E1127=\"\",0,('Ayuda CAI 03'!E1113+'Ayuda CAI 03'!G1113)*Q1117),\"\")","v":0}]
[]
[]
[]
[null,null,null,null,"Cálculo de la componente IRC"]
[]
[null,null,null,null,"Área acristalada neta de ventanas",null,"Ángulo de cielo visible",null,"Altura del punto medio de las ventanas",null,"Longitud de paredes",null,"Altura de paredes",null,"Color de paredes",null,"Reflectancia de paredes"]
[]
[null,null,null,null,null,null,null,null,null,null,null,null,null,null,"claro",null,{"$f":"IFERROR(VLOOKUP(O1137,AB$14:AC$16,2,FALSE),\"\")","v":0.5}]
[]
[null,null,null,null,"Superficie de techo",null,"Color de techo",null,"Reflectancia de techo",null,null,null,"Superficie de suelo",null,"Color de suelo",null,"Reflectancia de suelo"]
[]
[null,null,null,null,null,null,"claro",null,{"$f":"IFERROR(VLOOKUP(G1141,AB$11:AC$13,2,FALSE),\"\")","v":0.5},null,null,null,null,null,"oscuro",null,{"$f":"IFERROR(VLOOKUP(O1141,AB$17:AC$18,2,FALSE),\"\")","v":0.1}]
[]
[null,null,null,null,"Reflectancia \nmedia",null,"Reflectancia media superior",null,"Reflectancia media inferior"]
[]
[null,null,null,null,{"$f":"IFERROR(((((K1137*M1137)-E1137)*Q1137)+(E1141*I1141)+(M1141*Q1141))/(((K1137*M1137)-E1137)+E1141+M1141),\"\")","v":""},null,{"$f":"IFERROR(((((K1137*(M1137-I1137))-E1137/2)*Q1137)+(E1141*I1141))/(((K1137*M1137)-E1137)+E1141),\"\")","v":""},null,{"$f":"IFERROR(((((K1137*I1137)-E1137/2)*Q1137)+(M1141*Q1141))/((K1137*E1137)+M1141),\"\")","v":""}]
[]
[null,null,null,null,"Componente IRC",null,null,null,{"$f":"IFERROR((Q1117*E1137*(((G1137/2)-5)*I1145+5*G1145))/(((K1137*M1137)-E1137)+E1141+M1141)*(1-E1145),\"\")","v":""}]
[]
[]
[]
[null,null,null,null,"Cumplimiento del criterio",null,null,null,null,null,{"$f":"IFERROR(IF(I1154=\"\",\"\",IF(I1154>= M1099,\"Sí\",\"No\")),\"\")","v":"Sí"}]
[]
[]
[null,null,null,null,"Factor luz de día de la estancia",null,null,null,{"$f":"IFERROR(IF(I1109=\"Sí\",\">2%\",I1119+I1129+I1147),\"\")","v":">2%"},null,{"$f":"IF(K1094=\"\",\"No olvides rellenar el multiplicador\",\"\")","v":"No olvides rellenar el multiplicador"}]
[]
[]
[null,null,null,null,"Espacio 19",null,null,null,"Multiplicador"]
[]
[]
[null,null,null,null,"Uso del espacio"]
[]
[null,null,null,null,"Uso del espacio",null,"Zona de trabajo administrativo",null,null,null,"DF requerido",null,{"$f":"IFERROR(VLOOKUP(G1162,Z$22:AA$28,2,FALSE),\"\")","v":2},null,"Superficie útil",null,null,null,null,null,null,null,{"$f":"IF(K1214=\"Sí\",K1157*Q1162,0)","v":0},{"$f":"K1157*Q1162","v":0}]
[]
[]
[]
[null,null,null,null,"¿Se cumplen las cuatro condiciones directas?"]
[]
[null,null,null,null,"¿Hay obstrucciones exteriores?",null,"Profundidad (m)",null,"Hw (m)",null,"Longitud (m)",null,"h(w)",null,"Superficie útil (m)",null,"Longitud de la ventana (m)"]
[]
[null,null,null,null,"No",null,5,null,2.2999999999999998,null,7,null,1.2,null,{"$f":"Q1162","v":0},null,6]
[]
[null,null,null,null,"Cumplimiento de las condiciones",null,null,null,{"$f":"IF(E1170=\"\",\"\",IF(M1162=2,IF(AND(E1170=\"NO\",G1170<2.5*I1170,M1170*Q1170>0.2*O1170,Q1170>0.6*K1170),\"Sí\",\"No\")))","v":"Sí"}]
[]
[]
[]
[null,null,null,null,"Cálculo de la componente SC"]
[]
[null,null,null,null,"hw para SC (m)",null,"W1",null,"W2",null,"D1",null,"Tipo de vidrio",null,null,null,"Transmitancia del vidrio"]
[]
[null,null,null,null,null,null,null,null,null,null,null,null,"Vidrio doble bajo emisivo",null,null,null,{"$f":"IFERROR(VLOOKUP(M1180,$AA$3:$AB$6,2,FALSE),\"\")","v":0.72}]
[]
[null,null,null,null,"Componente SC",null,null,null,{"$f":"IFERROR(('Ayuda CAI 03'!E1166+'Ayuda CAI 03'!G1166)*Q1180,\"\")","v":0}]
[]
[]
[]
[null,null,null,null,"Cálculo de la componente ERC"]
[]
[null,null,null,null,"hw para ERC (m)"]
[]
[]
[]
[null,null,null,null,"Componente ERC",null,null,null,{"$f":"IFERROR(IF(E1190=\"\",0,('Ayuda CAI 03'!E1176+'Ayuda CAI 03'!G1176)*Q1180),\"\")","v":0}]
[]
[]
[]
[null,null,null,null,"Cálculo de la componente IRC"]
[]
[null,null,null,null,"Área acristalada neta de ventanas",null,"Ángulo de cielo visible",null,"Altura del punto medio de las ventanas",null,"Longitud de paredes",null,"Altura de paredes",null,"Color de paredes",null,"Reflectancia de paredes"]
[]
[null,null,null,null,null,null,null,null,null,null,null,null,null,null,"oscuro",null,{"$f":"IFERROR(VLOOKUP(O1200,AB$14:AC$16,2,FALSE),\"\")","v":0.1}]
[]
[null,null,null,null,"Superficie de techo",null,"Color de techo",null,"Reflectancia de techo",null,null,null,"Superficie de suelo",null,"Color de suelo",null,"Reflectancia de suelo"]
[]
[null,null,null,null,null,null,"claro",null,{"$f":"IFERROR(VLOOKUP(G1204,AB$11:AC$13,2,FALSE),\"\")","v":0.5},null,null,null,null,null,"claro",null,{"$f":"IFERROR(VLOOKUP(O1204,AB$17:AC$18,2,FALSE),\"\")","v":0.3}]
[]
[null,null,null,null,"Reflectancia \nmedia",null,"Reflectancia media superior",null,"Reflectancia media inferior"]
[]
[null,null,null,null,{"$f":"IFERROR(((((K1200*M1200)-E1200)*Q1200)+(E1204*I1204)+(M1204*Q1204))/(((K1200*M1200)-E1200)+E1204+M1204),\"\")","v":""},null,{"$f":"IFERROR(((((K1200*(M1200-I1200))-E1200/2)*Q1200)+(E1204*I1204))/(((K1200*M1200)-E1200)+E1204),\"\")","v":""},null,{"$f":"IFERROR(((((K1200*I1200)-E1200/2)*Q1200)+(M1204*Q1204))/((K1200*E1200)+M1204),\"\")","v":""}]
[]
[null,null,null,null,"Componente IRC",null,null,null,{"$f":"IFERROR((Q1180*E1200*(((G1200/2)-5)*I1208+5*G1208))/(((K1200*M1200)-E1200)+E1204+M1204)*(1-E1208),\"\")","v":""}]
[]
[]
[]
[null,null,null,null,"Cumplimiento del criterio",null,null,null,null,null,{"$f":"IFERROR(IF(I1217=\"\",\"\",IF(I1217>= M1162,\"Sí\",\"No\")),\"\")","v":"Sí"}]
[]
[]
[null,null,null,null,"Factor luz de día de la estancia",null,null,null,{"$f":"IFERROR(IF(I1172=\"Sí\",\">2%\",I1182+I1192+I1210),\"\")","v":">2%"},null,{"$f":"IF(K1157=\"\",\"No olvides rellenar el multiplicador\",\"\")","v":"No olvides rellenar el multiplicador"}]
[]
[]
[null,null,null,null,"Espacio 20",null,null,null,"Multiplicador"]
[]
[]
[null,null,null,null,"Uso del espacio"]
[]
[null,null,null,null,"Uso del espacio",null,"Zona de trabajo administrativo",null,null,null,"DF requerido",null,{"$f":"IFERROR(VLOOKUP(G1225,Z$22:AA$28,2,FALSE),\"\")","v":2},null,"Superficie útil",null,null,null,null,null,null,null,{"$f":"IF(K1277=\"Sí\",K1220*Q1225,0)","v":0},{"$f":"K1220*Q1225","v":0}]
[]
[]
[]
[null,null,null,null,"¿Se cumplen las cuatro condiciones directas?"]
[]
[null,null,null,null,"¿Hay obstrucciones exteriores?",null,"Profundidad (m)",null,"Hw (m)",null,"Longitud (m)",null,"h(w)",null,"Superficie útil (m)",null,"Longitud de la ventana (m)"]
[]
[null,null,null,null,"No",null,5,null,2.2999999999999998,null,7,null,1.2,null,{"$f":"Q1225","v":0},null,6]
[]
[null,null,null,null,"Cumplimiento de las condiciones",null,null,null,{"$f":"IF(E1233=\"\",\"\",IF(M1225=2,IF(AND(E1233=\"NO\",G1233<2.5*I1233,M1233*Q1233>0.2*O1233,Q1233>0.6*K1233),\"Sí\",\"No\")))","v":"Sí"}]
[]
[]
[]
[null,null,null,null,"Cálculo de la componente SC"]
[]
[null,null,null,null,"hw para SC (m)",null,"W1",null,"W2",null,"D1",null,"Tipo de vidrio",null,null,null,"Transmitancia del vidrio"]
[]
[null,null,null,null,null,null,null,null,null,null,null,null,"Vidrio simple",null,null,null,{"$f":"IFERROR(VLOOKUP(M1243,$AA$3:$AB$6,2,FALSE),\"\")","v":0.87}]
[]
[null,null,null,null,"Componente SC",null,null,null,{"$f":"IFERROR(('Ayuda CAI 03'!E1229+'Ayuda CAI 03'!G1229)*Q1243,\"\")","v":0}]
[]
[]
[]
[null,null,null,null,"Cálculo de la componente ERC"]
[]
[null,null,null,null,"hw para ERC (m)"]
[]
[]
[]
[null,null,null,null,"Componente ERC",null,null,null,{"$f":"IFERROR(IF(E1253=\"\",0,('Ayuda CAI 03'!E1239+'Ayuda CAI 03'!G1239)*Q1243),\"\")","v":0}]
[]
[]
[]
[null,null,null,null,"Cálculo de la componente IRC"]
[]
[null,null,null,null,"Área acristalada neta de ventanas",null,"Ángulo de cielo visible",null,"Altura del punto medio de las ventanas",null,"Longitud de paredes",null,"Altura de paredes",null,"Color de paredes",null,"Reflectancia de paredes"]
[]
[null,null,null,null,null,null,null,null,null,null,null,null,null,null,"medio",null,{"$f":"IFERROR(VLOOKUP(O1263,AB$14:AC$16,2,FALSE),\"\")","v":0.3}]
[]
[null,null,null,null,"Superficie de techo",null,"Color de techo",null,"Reflectancia de techo",null,null,null,"Superficie de suelo",null,"Color de suelo",null,"Reflectancia de suelo"]
[]
[null,null,null,null,null,null,"claro",null,{"$f":"IFERROR(VLOOKUP(G1267,AB$11:AC$13,2,FALSE),\"\")","v":0.5},null,null,null,null,null,"oscuro",null,{"$f":"IFERROR(VLOOKUP(O1267,AB$17:AC$18,2,FALSE),\"\")","v":0.1}]
[]
[null,null,null,null,"Reflectancia \nmedia",null,"Reflectancia media superior",null,"Reflectancia media inferior"]
[]
[null,null,null,null,{"$f":"IFERROR(((((K1263*M1263)-E1263)*Q1263)+(E1267*I1267)+(M1267*Q1267))/(((K1263*M1263)-E1263)+E1267+M1267),\"\")","v":""},null,{"$f":"IFERROR(((((K1263*(M1263-I1263))-E1263/2)*Q1263)+(E1267*I1267))/(((K1263*M1263)-E1263)+E1267),\"\")","v":""},null,{"$f":"IFERROR(((((K1263*I1263)-E1263/2)*Q1263)+(M1267*Q1267))/((K1263*E1263)+M1267),\"\")","v":""}]
[]
[null,null,null,null,"Componente IRC",null,null,null,{"$f":"IFERROR((Q1243*E1263*(((G1263/2)-5)*I1271+5*G1271))/(((K1263*M1263)-E1263)+E1267+M1267)*(1-E1271),\"\")","v":""}]
[]
[]
[]
[null,null,null,null,"Cumplimiento del criterio",null,null,null,null,null,{"$f":"IFERROR(IF(I1280=\"\",\"\",IF(I1280>= M1225,\"Sí\",\"No\")),\"\")","v":"Sí"}]
[]
[]
[null,null,null,null,"Factor luz de día de la estancia",null,null,null,{"$f":"IFERROR(IF(I1235=\"Sí\",\">2%\",I1245+I1255+I1273),\"\")","v":">2%"},null,{"$f":"IF(K1220=\"\",\"No olvides rellenar el multiplicador\",\"\")","v":"No olvides rellenar el multiplicador"}]
[]
[]
[null,null,null,null,"Porcentaje de superficie de trabajo que cumple con el criterio",null,null,null,null,null,null,null,null,null,null,null,null,null,{"$f":"IFERROR(SUM(W25:W1280)/SUM(X25:X1280),\"\")","v":""}]

{"sheet":"Ayuda CAI 03","index":28,"n_rows":1239,"n_cols":19,"rows_kept":1239,"cut":false,"hidden":true,"merged":[[651,1,651,9],[147,1,147,9],[210,1,210,9],[273,1,273,9],[21,1,21,9],[84,1,84,9],[336,1,336,9],[399,1,399,9],[462,1,462,9],[525,1,525,9],[588,1,588,9],[1092,1,1092,9],[1155,1,1155,9],[1218,1,1218,9],[714,1,714,9],[777,1,777,9],[840,1,840,9],[903,1,903,9],[966,1,966,9],[1029,1,1029,9]]}
[null,"hw/D1",1,2,3,4,5,6,7,8,9,10,11,12,13,14,15]
[null,null,0.1,0.2,0.3,0.4,0.5,0.6,0.8,1,1.2,1.4,1.6,2,3,4,5,null,0.1]
[1,5,1.6,3.1,4.5999999999999996,6.1,7.4,8.6,10.5,12,13.4,14.5,15.4,16.3,17.8,18.3,18.8,null,0.2]
[2,4,1.5,3,4.5,5.9,7.3,8.4,10.3,11.5,12.9,13.6,14.3,15.5,16.600000000000001,16.899999999999999,17.100000000000001,null,0.3]
[3,3,1.5,2.9,4.4000000000000004,5.6,6.9,8,9.8000000000000007,10.9,12.3,12.6,13.4,14.6,15.5,15.6,15.9,null,0.4]
[4,2,1.3,2.5,3.9,5,6,7,8.4,9.4,10.4,10.9,11.4,12.1,12.5,12.6,12.8,null,0.5]
[5,1.8,1.2,2.4,3.6,4.8,5.8,6.6,7.9,8.9,9.8000000000000007,10.3,10.6,11.3,11.6,11.8,11.9,null,0.6]
[6,1.6,1.1000000000000001,2.2999999999999998,3.4,4.4000000000000004,4.9000000000000004,6.1,7.3,8.1,9,9.4,9.8000000000000007,10.3,10.6,10.8,10.8,null,0.8]
[7,1.4,1,2,3,4,4.8,5.5,6.5,7.4,8,8.4,8.8000000000000007,9.1,9.4,9.4,9.5,null,1]
[8,1.2,0.9,1.8,2.6,3.4,4.0999999999999996,4.8,5.6,6.3,6.8,7.1,7.4,7.6,7.8,7.9,7.9,null,1.2]
[9,1,0.7,1.4,2.1,2.8,3.3,3.8,4.5,5,5.4,5.6,5.8,5.9,6,6.1,6.3,null,1.4]
[10,0.9,0.6,1.2,1.9,2.4,2.8,3.3,3.9,4.3,4.5999999999999996,4.8,4.9000000000000004,5,5.0999999999999996,5.0999999999999996,5.2,null,1.6]
[11,0.8,0.5,1,1.5,2,2.4,2.8,3.3,3.6,3.9,4,4.0999999999999996,4.0999999999999996,4.3,4.3,4.3,null,2]
[12,0.7,0.4,0.9,1.2,1.6,1.9,2.1,2.6,2.9,3.1,3.1,3.3,3.3,3.4,3.4,3.5,null,3]
[13,0.6,0.3,0.7,0.9,1.2,1.5,1.7,2,2.2999999999999998,2.4,2.4,2.5,2.5,2.6,2.6,2.6,null,4]
[14,0.5,0.2,0.5,0.6,0.9,1,1.2,1.4,1.7,1.8,1.8,1.8,1.9,1.9,1.9,1.9,null,5]
[15,0.4,0.1,0.4,0.4,0.6,0.7,0.8,1,1.1000000000000001,1.2,1.2,1.2,1.2,1.2,1.2,1.2]
[16,0.3,0.1,0.2,0.2,0.3,0.4,0.4,0.6,0.6,0.6,0.6,0.6,0.6,0.7,0.7,0.7]
[17,0.2,0,0.1,0.1,0.1,0.2,0.2,0.3,0.3,0.3,0.3,0.3,0.3,0.3,0.3,0.3]
[18,0.1,0,0,0.02,0,0,0.1,0.1,0.1,0.1,0.1,0.1,0.1,0.1,0.1,0.1]
[]
[null,"Espacio 1"]
[]
[null,"hw para SC (m)",null,"W1",null,"W2",null,"D1"]
[]
[null,{"$f":"'AI 03'!E45","v":0},null,{"$f":"'AI 03'!G45","v":0},null,{"$f":"'AI 03'!I45","v":0},null,{"$f":"'AI 03'!K45","v":0}]
[]
[null,"hw/D1",{"$f":"IF(H26=0,0,B26/H26)","v":0},"W1/D1",{"$f":"IF(H26=0,0,D26/H26)","v":0},"W2/D1",{"$f":"IF(H26=0,0,F26/H26)","v":0},null,null,null,{"$f":"E28-E29","v":-0.1},{"$f":"MATCH(K28,S2:S16,1)","v":{"$error":"#N/A"}}]
[null,null,{"$f":"MIN(ABS(B$3:B$20-C28))","v":0.1},null,{"$f":"MIN(ABS(S$2:S$16-E28))","v":0.1},null,{"$f":"MIN(ABS(S$2:S$16-G28))","v":0.1}]
[null,null,{"$f":"IF((C28-C29)<0.1,18,IF((C28-C29)>5,1,(MATCH((C28-C29),B$3:B$20,-1))))","v":18},null,{"$f":"IF((E28-E29)<0.1,1,IF((E28-E29)>5,15,(MATCH((E28-E29),S$2:S$16,1))))","v":1},null,{"$f":"IF((G28-G29)<0.1,1,IF((G28-G29)>5,15,(MATCH((G28-G29),S$2:S$16,1))))","v":1}]
[]
[null,null,null,null,{"$f":"INDEX(C$3:Q$20,C30,E30)","v":0},null,{"$f":"INDEX(C$3:Q$20,C30,G30)","v":0}]
[]
[null,"hw para ERC (m)",null,"W1",null,"W2",null,"D1"]
[]
[null,{"$f":"'AI 03'!E55","v":0},null,{"$f":"D26","v":0},null,{"$f":"F26","v":0},null,{"$f":"H26","v":0}]
[]
[null,"hw/D1",{"$f":"IF(H36=0,0,B36/H36)","v":0},"W1/D1",{"$f":"IF(H36=0,0,D36/H36)","v":0},"W2/D1",{"$f":"IF(H36=0,0,F36/H36)","v":0}]
[null,null,{"$f":"MIN(ABS(B$3:B$20-C38))","v":0.1},null,{"$f":"MIN(ABS(S$2:S$16-E38))","v":0.1},null,{"$f":"MIN(ABS(S$2:S$16-G38))","v":0.1}]
[null,null,{"$f":"IF((C38-C39)<0.1,18,IF((C38-C39)>5,1,(MATCH((C38-C39),B$3:B$20,-1))))","v":18},null,{"$f":"IF((E38-E39)<0.1,1,IF((E38-E39)>5,15,(MATCH((E38-E39),S$2:S$16,1))))","v":1},null,{"$f":"IF((G38-G39)<0.1,1,IF((G38-G39)>5,15,(MATCH((G38-G39),S$2:S$16,1))))","v":1}]
[]
[null,null,null,null,{"$f":"INDEX(C$3:Q$20,C40,E40)","v":0},null,{"$f":"INDEX(C$3:Q$20,C40,G40)","v":0}]
[]
[]
[]
[]
[]
[]
[]
[]
[]
[]
[]
[]
[]
[]
[]
[]
[]
[]
[]
[]
[]
[]
[]
[]
[]
[]
[]
[]
[]
[]
[]
[]
[]
[]
[]
[]
[]
[]
[]
[]
[]
[]
[null,"Espacio 2"]
[]
[null,"hw para SC (m)",null,"W1",null,"W2",null,"D1"]
[]
[null,{"$f":"'AI 03'!E109","v":0},null,{"$f":"'AI 03'!G109","v":0},null,{"$f":"'AI 03'!I109","v":0},null,{"$f":"'AI 03'!K109","v":0}]
[]
[null,"hw/D1",{"$f":"IF(H89=0,0,B89/H89)","v":0},"W1/D1",{"$f":"IF(H89=0,0,D89/H89)","v":0},"W2/D1",{"$f":"IF(H89=0,0,F89/H89)","v":0}]
[null,null,{"$f":"MIN(ABS(B$3:B$20-C91))","v":0.1},null,{"$f":"MIN(ABS(S$2:S$16-E91))","v":0.1},null,{"$f":"MIN(ABS(S$2:S$16-G91))","v":0.1}]
[null,null,{"$f":"IF((C91-C92)<0.1,18,IF((C91-C92)>5,1,(MATCH((C91-C92),B$3:B$20,-1))))","v":18},null,{"$f":"IF((E91-E92)<0.1,1,IF((E91-E92)>5,15,(MATCH((E91-E92),S$2:S$16,1))))","v":1},null,{"$f":"IF((G91-G92)<0.1,1,IF((G91-G92)>5,15,(MATCH((G91-G92),S$2:S$16,1))))","v":1}]
[]
[null,null,null,null,{"$f":"INDEX(C$3:Q$20,C93,E93)","v":0},null,{"$f":"INDEX(C$3:Q$20,C93,G93)","v":0}]
[]
[null,"hw para ERC (m)",null,"W1",null,"W2",null,"D1"]
[]
[null,{"$f":"'AI 03'!E119","v":0},null,{"$f":"D89","v":0},null,{"$f":"F89","v":0},null,{"$f":"H89","v":0}]
[]
[null,"hw/D1",{"$f":"IF(H99=0,0,B99/H99)","v":0},"W1/D1",{"$f":"IF(H99=0,0,D99/H99)","v":0},"W2/D1",{"$f":"IF(H99=0,0,F99/H99)","v":0}]
[null,null,{"$f":"MIN(ABS(B$3:B$20-C101))","v":0.1},null,{"$f":"MIN(ABS(S$2:S$16-E101))","v":0.1},null,{"$f":"MIN(ABS(S$2:S$16-G101))","v":0.1}]
[null,null,{"$f":"IF((C101-C102)<0.1,18,IF((C101-C102)>5,1,(MATCH((C101-C102),B$3:B$20,-1))))","v":18},null,{"$f":"IF((E101-E102)<0.1,1,IF((E101-E102)>5,15,(MATCH((E101-E102),S$2:S$16,1))))","v":1},null,{"$f":"IF((G101-G102)<0.1,1,IF((G101-G102)>5,15,(MATCH((G101-G102),S$2:S$16,1))))","v":1}]
[]
[null,null,null,null,{"$f":"INDEX(C$3:Q$20,C103,E103)","v":0},null,{"$f":"INDEX(C$3:Q$20,C103,G103)","v":0}]
[]
[]
[]
[]
[]
[]
[]
[]
[]
[]
[]
[]
[]
[]
[]
[]
[]
[]
[]
[]
[]
[]
[]
[]
[]
[]
[]
[]
[]
[]
[]
[]
[]
[]
[]
[]
[]
[]
[]
[]
[]
[]
[null,"Espacio 3"]
[]
[null,"hw para SC (m)",null,"W1",null,"W2",null,"D1"]
[]
[null,{"$f":"'AI 03'!E172","v":0},null,{"$f":"'AI 03'!G172","v":0},null,{"$f":"'AI 03'!I172","v":0},null,{"$f":"'AI 03'!K172","v":0}]
[]
[null,"hw/D1",{"$f":"IF(H152=0,0,B152/H152)","v":0},"W1/D1",{"$f":"IF(H152=0,0,D152/H152)","v":0},"W2/D1",{"$f":"IF(H152=0,0,F152/H152)","v":0}]
[null,null,{"$f":"MIN(ABS(B$3:B$20-C154))","v":0.1},null,{"$f":"MIN(ABS(S$2:S$16-E154))","v":0.1},null,{"$f":"MIN(ABS(S$2:S$16-G154))","v":0.1}]
[null,null,{"$f":"IF((C154-C155)<0.1,18,IF((C154-C155)>5,1,(MATCH((C154-C155),B$3:B$20,-1))))","v":18},null,{"$f":"IF((E154-E155)<0.1,1,IF((E154-E155)>5,15,(MATCH((E154-E155),S$2:S$16,1))))","v":1},null,{"$f":"IF((G154-G155)<0.1,1,IF((G154-G155)>5,15,(MATCH((G154-G155),S$2:S$16,1))))","v":1}]
[]
[null,null,null,null,{"$f":"INDEX(C$3:Q$20,C156,E156)","v":0},null,{"$f":"INDEX(C$3:Q$20,C156,G156)","v":0}]
[]
[null,"hw para ERC (m)",null,"W1",null,"W2",null,"D1"]
[]
[null,{"$f":"'AI 03'!E182","v":0},null,{"$f":"D152","v":0},null,{"$f":"F152","v":0},null,{"$f":"H152","v":0}]
[]
[null,"hw/D1",{"$f":"IF(H162=0,0,B162/H162)","v":0},"W1/D1",{"$f":"IF(H162=0,0,D162/H162)","v":0},"W2/D1",{"$f":"IF(H162=0,0,F162/H162)","v":0}]
[null,null,{"$f":"MIN(ABS(B$3:B$20-C164))","v":0.1},null,{"$f":"MIN(ABS(S$2:S$16-E164))","v":0.1},null,{"$f":"MIN(ABS(S$2:S$16-G164))","v":0.1}]
[null,null,{"$f":"IF((C164-C165)<0.1,18,IF((C164-C165)>5,1,(MATCH((C164-C165),B$3:B$20,-1))))","v":18},null,{"$f":"IF((E164-E165)<0.1,1,IF((E164-E165)>5,15,(MATCH((E164-E165),S$2:S$16,1))))","v":1},null,{"$f":"IF((G164-G165)<0.1,1,IF((G164-G165)>5,15,(MATCH((G164-G165),S$2:S$16,1))))","v":1}]
[]
[null,null,null,null,{"$f":"INDEX(C$3:Q$20,C166,E166)","v":0},null,{"$f":"INDEX(C$3:Q$20,C166,G166)","v":0}]
[]
[]
[]
[]
[]
[]
[]
[]
[]
[]
[]
[]
[]
[]
[]
[]
[]
[]
[]
[]
[]
[]
[]
[]
[]
[]
[]
[]
[]
[]
[]
[]
[]
[]
[]
[]
[]
[]
[]
[]
[]
[]
[null,"Espacio 4"]
[]
[null,"hw para SC (m)",null,"W1",null,"W2",null,"D1"]
[]
[null,{"$f":"'AI 03'!E235","v":0},null,{"$f":"'AI 03'!G235","v":0},null,{"$f":"'AI 03'!I235","v":0},null,{"$f":"'AI 03'!K235","v":0}]
[]
[null,"hw/D1",{"$f":"IF(H215=0,0,B215/H215)","v":0},"W1/D1",{"$f":"IF(H215=0,0,D215/H215)","v":0},"W2/D1",{"$f":"IF(H215=0,0,F215/H215)","v":0}]
[null,null,{"$f":"MIN(ABS(B$3:B$20-C217))","v":0.1},null,{"$f":"MIN(ABS(S$2:S$16-E217))","v":0.1},null,{"$f":"MIN(ABS(S$2:S$16-G217))","v":0.1}]
[null,null,{"$f":"IF((C217-C218)<0.1,18,IF((C217-C218)>5,1,(MATCH((C217-C218),B$3:B$20,-1))))","v":18},null,{"$f":"IF((E217-E218)<0.1,1,IF((E217-E218)>5,15,(MATCH((E217-E218),S$2:S$16,1))))","v":1},null,{"$f":"IF((G217-G218)<0.1,1,IF((G217-G218)>5,15,(MATCH((G217-G218),S$2:S$16,1))))","v":1}]
[]
[null,null,null,null,{"$f":"INDEX(C$3:Q$20,C219,E219)","v":0},null,{"$f":"INDEX(C$3:Q$20,C219,G219)","v":0}]
[]
[null,"hw para ERC (m)",null,"W1",null,"W2",null,"D1"]
[]
[null,{"$f":"'AI 03'!E245","v":0},null,{"$f":"D215","v":0},null,{"$f":"F215","v":0},null,{"$f":"H215","v":0}]
[]
[null,"hw/D1",{"$f":"IF(H225=0,0,B225/H225)","v":0},"W1/D1",{"$f":"IF(H225=0,0,D225/H225)","v":0},"W2/D1",{"$f":"IF(H225=0,0,F225/H225)","v":0}]
[null,null,{"$f":"MIN(ABS(B$3:B$20-C227))","v":0.1},null,{"$f":"MIN(ABS(S$2:S$16-E227))","v":0.1},null,{"$f":"MIN(ABS(S$2:S$16-G227))","v":0.1}]
[null,null,{"$f":"IF((C227-C228)<0.1,18,IF((C227-C228)>5,1,(MATCH((C227-C228),B$3:B$20,-1))))","v":18},null,{"$f":"IF((E227-E228)<0.1,1,IF((E227-E228)>5,15,(MATCH((E227-E228),S$2:S$16,1))))","v":1},null,{"$f":"IF((G227-G228)<0.1,1,IF((G227-G228)>5,15,(MATCH((G227-G228),S$2:S$16,1))))","v":1}]
[]
[null,null,null,null,{"$f":"INDEX(C$3:Q$20,C229,E229)","v":0},null,{"$f":"INDEX(C$3:Q$20,C229,G229)","v":0}]
[]
[]
[]
[]
[]
[]
[]
[]
[]
[]
[]
[]
[]
[]
[]
[]
[]
[]
[]
[]
[]
[]
[]
[]
[]
[]
[]
[]
[]
[]
[]
[]
[]
[]
[]
[]
[]
[]
[]
[]
[]
[]
[null,"Espacio 5"]
[]
[null,"hw para SC (m)",null,"W1",null,"W2",null,"D1"]
[]
[null,{"$f":"'AI 03'!E298","v":0},null,{"$f":"'AI 03'!G298","v":0},null,{"$f":"'AI 03'!I298","v":0},null,{"$f":"'AI 03'!K298","v":0}]
[]
[null,"hw/D1",{"$f":"IF(H278=0,0,B278/H278)","v":0},"W1/D1",{"$f":"IF(H278=0,0,D278/H278)","v":0},"W2/D1",{"$f":"IF(H278=0,0,F278/H278)","v":0}]
[null,null,{"$f":"MIN(ABS(B$3:B$20-C280))","v":0.1},null,{"$f":"MIN(ABS(S$2:S$16-E280))","v":0.1},null,{"$f":"MIN(ABS(S$2:S$16-G280))","v":0.1}]
[null,null,{"$f":"IF((C280-C281)<0.1,18,IF((C280-C281)>5,1,(MATCH((C280-C281),B$3:B$20,-1))))","v":18},null,{"$f":"IF((E280-E281)<0.1,1,IF((E280-E281)>5,15,(MATCH((E280-E281),S$2:S$16,1))))","v":1},null,{"$f":"IF((G280-G281)<0.1,1,IF((G280-G281)>5,15,(MATCH((G280-G281),S$2:S$16,1))))","v":1}]
[]
[null,null,null,null,{"$f":"INDEX(C$3:Q$20,C282,E282)","v":0},null,{"$f":"INDEX(C$3:Q$20,C282,G282)","v":0}]
[]
[null,"hw para ERC (m)",null,"W1",null,"W2",null,"D1"]
[]
[null,{"$f":"'AI 03'!E308","v":0},null,{"$f":"D278","v":0},null,{"$f":"F278","v":0},null,{"$f":"H278","v":0}]
[]
[null,"hw/D1",{"$f":"IF(H288=0,0,B288/H288)","v":0},"W1/D1",{"$f":"IF(H288=0,0,D288/H288)","v":0},"W2/D1",{"$f":"IF(H288=0,0,F288/H288)","v":0}]
[null,null,{"$f":"MIN(ABS(B$3:B$20-C290))","v":0.1},null,{"$f":"MIN(ABS(S$2:S$16-E290))","v":0.1},null,{"$f":"MIN(ABS(S$2:S$16-G290))","v":0.1}]
[null,null,{"$f":"IF((C290-C291)<0.1,18,IF((C290-C291)>5,1,(MATCH((C290-C291),B$3:B$20,-1))))","v":18},null,{"$f":"IF((E290-E291)<0.1,1,IF((E290-E291)>5,15,(MATCH((E290-E291),S$2:S$16,1))))","v":1},null,{"$f":"IF((G290-G291)<0.1,1,IF((G290-G291)>5,15,(MATCH((G290-G291),S$2:S$16,1))))","v":1}]
[]
[null,null,null,null,{"$f":"INDEX(C$3:Q$20,C292,E292)","v":0},null,{"$f":"INDEX(C$3:Q$20,C292,G292)","v":0}]
[]
[]
[]
[]
[]
[]
[]
[]
[]
[]
[]
[]
[]
[]
[]
[]
[]
[]
[]
[]
[]
[]
[]
[]
[]
[]
[]
[]
[]
[]
[]
[]
[]
[]
[]
[]
[]
[]
[]
[]
[]
[]
[null,"Espacio 6"]
[]
[null,"hw para SC (m)",null,"W1",null,"W2",null,"D1"]
[]
[null,{"$f":"'AI 03'!E361","v":0},null,{"$f":"'AI 03'!G361","v":0},null,{"$f":"'AI 03'!I361","v":0},null,{"$f":"'AI 03'!K361","v":0}]
[]
[null,"hw/D1",{"$f":"IF(H341=0,0,B341/H341)","v":0},"W1/D1",{"$f":"IF(H341=0,0,D341/H341)","v":0},"W2/D1",{"$f":"IF(H341=0,0,F341/H341)","v":0}]
[null,null,{"$f":"MIN(ABS(B$3:B$20-C343))","v":0.1},null,{"$f":"MIN(ABS(S$2:S$16-E343))","v":0.1},null,{"$f":"MIN(ABS(S$2:S$16-G343))","v":0.1}]
[null,null,{"$f":"IF((C343-C344)<0.1,18,IF((C343-C344)>5,1,(MATCH((C343-C344),B$3:B$20,-1))))","v":18},null,{"$f":"IF((E343-E344)<0.1,1,IF((E343-E344)>5,15,(MATCH((E343-E344),S$2:S$16,1))))","v":1},null,{"$f":"IF((G343-G344)<0.1,1,IF((G343-G344)>5,15,(MATCH((G343-G344),S$2:S$16,1))))","v":1}]
[]
[null,null,null,null,{"$f":"INDEX(C$3:Q$20,C345,E345)","v":0},null,{"$f":"INDEX(C$3:Q$20,C345,G345)","v":0}]
[]
[null,"hw para ERC (m)",null,"W1",null,"W2",null,"D1"]
[]
[null,{"$f":"'AI 03'!E371","v":0},null,{"$f":"D341","v":0},null,{"$f":"F341","v":0},null,{"$f":"H341","v":0}]
[]
[null,"hw/D1",{"$f":"IF(H351=0,0,B351/H351)","v":0},"W1/D1",{"$f":"IF(H351=0,0,D351/H351)","v":0},"W2/D1",{"$f":"IF(H351=0,0,F351/H351)","v":0}]
[null,null,{"$f":"MIN(ABS(B$3:B$20-C353))","v":0.1},null,{"$f":"MIN(ABS(S$2:S$16-E353))","v":0.1},null,{"$f":"MIN(ABS(S$2:S$16-G353))","v":0.1}]
[null,null,{"$f":"IF((C353-C354)<0.1,18,IF((C353-C354)>5,1,(MATCH((C353-C354),B$3:B$20,-1))))","v":18},null,{"$f":"IF((E353-E354)<0.1,1,IF((E353-E354)>5,15,(MATCH((E353-E354),S$2:S$16,1))))","v":1},null,{"$f":"IF((G353-G354)<0.1,1,IF((G353-G354)>5,15,(MATCH((G353-G354),S$2:S$16,1))))","v":1}]
[]
[null,null,null,null,{"$f":"INDEX(C$3:Q$20,C355,E355)","v":0},null,{"$f":"INDEX(C$3:Q$20,C355,G355)","v":0}]
[]
[]
[]
[]
[]
[]
[]
[]
[]
[]
[]
[]
[]
[]
[]
[]
[]
[]
[]
[]
[]
[]
[]
[]
[]
[]
[]
[]
[]
[]
[]
[]
[]
[]
[]
[]
[]
[]
[]
[]
[]
[]
[null,"Espacio 7"]
[]
[null,"hw para SC (m)",null,"W1",null,"W2",null,"D1"]
[]
[null,{"$f":"'AI 03'!E424","v":0},null,{"$f":"'AI 03'!G424","v":0},null,{"$f":"'AI 03'!I424","v":0},null,{"$f":"'AI 03'!K424","v":0}]
[]
[null,"hw/D1",{"$f":"IF(H404=0,0,B404/H404)","v":0},"W1/D1",{"$f":"IF(H404=0,0,D404/H404)","v":0},"W2/D1",{"$f":"IF(H404=0,0,F404/H404)","v":0}]
[null,null,{"$f":"MIN(ABS(B$3:B$20-C406))","v":0.1},null,{"$f":"MIN(ABS(S$2:S$16-E406))","v":0.1},null,{"$f":"MIN(ABS(S$2:S$16-G406))","v":0.1}]
[null,null,{"$f":"IF((C406-C407)<0.1,18,IF((C406-C407)>5,1,(MATCH((C406-C407),B$3:B$20,-1))))","v":18},null,{"$f":"IF((E406-E407)<0.1,1,IF((E406-E407)>5,15,(MATCH((E406-E407),S$2:S$16,1))))","v":1},null,{"$f":"IF((G406-G407)<0.1,1,IF((G406-G407)>5,15,(MATCH((G406-G407),S$2:S$16,1))))","v":1}]
[]
[null,null,null,null,{"$f":"INDEX(C$3:Q$20,C408,E408)","v":0},null,{"$f":"INDEX(C$3:Q$20,C408,G408)","v":0}]
[]
[null,"hw para ERC (m)",null,"W1",null,"W2",null,"D1"]
[]
[null,{"$f":"'AI 03'!E434","v":0},null,{"$f":"D404","v":0},null,{"$f":"F404","v":0},null,{"$f":"H404","v":0}]
[]
[null,"hw/D1",{"$f":"IF(H414=0,0,B414/H414)","v":0},"W1/D1",{"$f":"IF(H414=0,0,D414/H414)","v":0},"W2/D1",{"$f":"IF(H414=0,0,F414/H414)","v":0}]
[null,null,{"$f":"MIN(ABS(B$3:B$20-C416))","v":0.1},null,{"$f":"MIN(ABS(S$2:S$16-E416))","v":0.1},null,{"$f":"MIN(ABS(S$2:S$16-G416))","v":0.1}]
[null,null,{"$f":"IF((C416-C417)<0.1,18,IF((C416-C417)>5,1,(MATCH((C416-C417),B$3:B$20,-1))))","v":18},null,{"$f":"IF((E416-E417)<0.1,1,IF((E416-E417)>5,15,(MATCH((E416-E417),S$2:S$16,1))))","v":1},null,{"$f":"IF((G416-G417)<0.1,1,IF((G416-G417)>5,15,(MATCH((G416-G417),S$2:S$16,1))))","v":1}]
[]
[null,null,null,null,{"$f":"INDEX(C$3:Q$20,C418,E418)","v":0},null,{"$f":"INDEX(C$3:Q$20,C418,G418)","v":0}]
[]
[]
[]
[]
[]
[]
[]
[]
[]
[]
[]
[]
[]
[]
[]
[]
[]
[]
[]
[]
[]
[]
[]
[]
[]
[]
[]
[]
[]
[]
[]
[]
[]
[]
[]
[]
[]
[]
[]
[]
[]
[]
[null,"Espacio 8"]
[]
[null,"hw para SC (m)",null,"W1",null,"W2",null,"D1"]
[]
[null,{"$f":"'AI 03'!E487","v":0},null,{"$f":"'AI 03'!G487","v":0},null,{"$f":"'AI 03'!I487","v":0},null,{"$f":"'AI 03'!K487","v":0}]
[]
[null,"hw/D1",{"$f":"IF(H467=0,0,B467/H467)","v":0},"W1/D1",{"$f":"IF(H467=0,0,D467/H467)","v":0},"W2/D1",{"$f":"IF(H467=0,0,F467/H467)","v":0}]
[null,null,{"$f":"MIN(ABS(B$3:B$20-C469))","v":0.1},null,{"$f":"MIN(ABS(S$2:S$16-E469))","v":0.1},null,{"$f":"MIN(ABS(S$2:S$16-G469))","v":0.1}]
[null,null,{"$f":"IF((C469-C470)<0.1,18,IF((C469-C470)>5,1,(MATCH((C469-C470),B$3:B$20,-1))))","v":18},null,{"$f":"IF((E469-E470)<0.1,1,IF((E469-E470)>5,15,(MATCH((E469-E470),S$2:S$16,1))))","v":1},null,{"$f":"IF((G469-G470)<0.1,1,IF((G469-G470)>5,15,(MATCH((G469-G470),S$2:S$16,1))))","v":1}]
[]
[null,null,null,null,{"$f":"INDEX(C$3:Q$20,C471,E471)","v":0},null,{"$f":"INDEX(C$3:Q$20,C471,G471)","v":0}]
[]
[null,"hw para ERC (m)",null,"W1",null,"W2",null,"D1"]
[]
[null,{"$f":"'AI 03'!E497","v":0},null,{"$f":"D467","v":0},null,{"$f":"F467","v":0},null,{"$f":"H467","v":0}]
[]
[null,"hw/D1",{"$f":"IF(H477=0,0,B477/H477)","v":0},"W1/D1",{"$f":"IF(H477=0,0,D477/H477)","v":0},"W2/D1",{"$f":"IF(H477=0,0,F477/H477)","v":0}]
[null,null,{"$f":"MIN(ABS(B$3:B$20-C479))","v":0.1},null,{"$f":"MIN(ABS(S$2:S$16-E479))","v":0.1},null,{"$f":"MIN(ABS(S$2:S$16-G479))","v":0.1}]
[null,null,{"$f":"IF((C479-C480)<0.1,18,IF((C479-C480)>5,1,(MATCH((C479-C480),B$3:B$20,-1))))","v":18},null,{"$f":"IF((E479-E480)<0.1,1,IF((E479-E480)>5,15,(MATCH((E479-E480),S$2:S$16,1))))","v":1},null,{"$f":"IF((G479-G480)<0.1,1,IF((G479-G480)>5,15,(MATCH((G479-G480),S$2:S$16,1))))","v":1}]
[]
[null,null,null,null,{"$f":"INDEX(C$3:Q$20,C481,E481)","v":0},null,{"$f":"INDEX(C$3:Q$20,C481,G481)","v":0}]
[]
[]
[]
[]
[]
[]
[]
[]
[]
[]
[]
[]
[]
[]
[]
[]
[]
[]
[]
[]
[]
[]
[]
[]
[]
[]
[]
[]
[]
[]
[]
[]
[]
[]
[]
[]
[]
[]
[]
[]
[]
[]
[null,"Espacio 9"]
[]
[null,"hw para SC (m)",null,"W1",null,"W2",null,"D1"]
[]
[null,{"$f":"'AI 03'!E550","v":0},null,{"$f":"'AI 03'!G550","v":0},null,{"$f":"'AI 03'!I550","v":0},null,{"$f":"'AI 03'!K550","v":0}]
[]
[null,"hw/D1",{"$f":"IF(H530=0,0,B530/H530)","v":0},"W1/D1",{"$f":"IF(H530=0,0,D530/H530)","v":0},"W2/D1",{"$f":"IF(H530=0,0,F530/H530)","v":0}]
[null,null,{"$f":"MIN(ABS(B$3:B$20-C532))","v":0.1},null,{"$f":"MIN(ABS(S$2:S$16-E532))","v":0.1},null,{"$f":"MIN(ABS(S$2:S$16-G532))","v":0.1}]
[null,null,{"$f":"IF((C532-C533)<0.1,18,IF((C532-C533)>5,1,(MATCH((C532-C533),B$3:B$20,-1))))","v":18},null,{"$f":"IF((E532-E533)<0.1,1,IF((E532-E533)>5,15,(MATCH((E532-E533),S$2:S$16,1))))","v":1},null,{"$f":"IF((G532-G533)<0.1,1,IF((G532-G533)>5,15,(MATCH((G532-G533),S$2:S$16,1))))","v":1}]
[]
[null,null,null,null,{"$f":"INDEX(C$3:Q$20,C534,E534)","v":0},null,{"$f":"INDEX(C$3:Q$20,C534,G534)","v":0}]
[]
[null,"hw para ERC (m)",null,"W1",null,"W2",null,"D1"]
[]
[null,{"$f":"'AI 03'!E560","v":0},null,{"$f":"D530","v":0},null,{"$f":"F530","v":0},null,{"$f":"H530","v":0}]
[]
[null,"hw/D1",{"$f":"IF(H540=0,0,B540/H540)","v":0},"W1/D1",{"$f":"IF(H540=0,0,D540/H540)","v":0},"W2/D1",{"$f":"IF(H540=0,0,F540/H540)","v":0}]
[null,null,{"$f":"MIN(ABS(B$3:B$20-C542))","v":0.1},null,{"$f":"MIN(ABS(S$2:S$16-E542))","v":0.1},null,{"$f":"MIN(ABS(S$2:S$16-G542))","v":0.1}]
[null,null,{"$f":"IF((C542-C543)<0.1,18,IF((C542-C543)>5,1,(MATCH((C542-C543),B$3:B$20,-1))))","v":18},null,{"$f":"IF((E542-E543)<0.1,1,IF((E542-E543)>5,15,(MATCH((E542-E543),S$2:S$16,1))))","v":1},null,{"$f":"IF((G542-G543)<0.1,1,IF((G542-G543)>5,15,(MATCH((G542-G543),S$2:S$16,1))))","v":1}]
[]
[null,null,null,null,{"$f":"INDEX(C$3:Q$20,C544,E544)","v":0},null,{"$f":"INDEX(C$3:Q$20,C544,G544)","v":0}]
[]
[]
[]
[]
[]
[]
[]
[]
[]
[]
[]
[]
[]
[]
[]
[]
[]
[]
[]
[]
[]
[]
[]
[]
[]
[]
[]
[]
[]
[]
[]
[]
[]
[]
[]
[]
[]
[]
[]
[]
[]
[]
[null,"Espacio 10"]
[]
[null,"hw para SC (m)",null,"W1",null,"W2",null,"D1"]
[]
[null,{"$f":"'AI 03'!E613","v":0},null,{"$f":"'AI 03'!G613","v":0},null,{"$f":"'AI 03'!I613","v":0},null,{"$f":"'AI 03'!K613","v":0}]
[]
[null,"hw/D1",{"$f":"IF(H593=0,0,B593/H593)","v":0},"W1/D1",{"$f":"IF(H593=0,0,D593/H593)","v":0},"W2/D1",{"$f":"IF(H593=0,0,F593/H593)","v":0}]
[null,null,{"$f":"MIN(ABS(B$3:B$20-C595))","v":0.1},null,{"$f":"MIN(ABS(S$2:S$16-E595))","v":0.1},null,{"$f":"MIN(ABS(S$2:S$16-G595))","v":0.1}]
[null,null,{"$f":"IF((C595-C596)<0.1,18,IF((C595-C596)>5,1,(MATCH((C595-C596),B$3:B$20,-1))))","v":18},null,{"$f":"IF((E595-E596)<0.1,1,IF((E595-E596)>5,15,(MATCH((E595-E596),S$2:S$16,1))))","v":1},null,{"$f":"IF((G595-G596)<0.1,1,IF((G595-G596)>5,15,(MATCH((G595-G596),S$2:S$16,1))))","v":1}]
[]
[null,null,null,null,{"$f":"INDEX(C$3:Q$20,C597,E597)","v":0},null,{"$f":"INDEX(C$3:Q$20,C597,G597)","v":0}]
[]
[null,"hw para ERC (m)",null,"W1",null,"W2",null,"D1"]
[]
[null,{"$f":"'AI 03'!E623","v":0},null,{"$f":"D593","v":0},null,{"$f":"F593","v":0},null,{"$f":"H593","v":0}]
[]
[null,"hw/D1",{"$f":"IF(H603=0,0,B603/H603)","v":0},"W1/D1",{"$f":"IF(H603=0,0,D603/H603)","v":0},"W2/D1",{"$f":"IF(H603=0,0,F603/H603)","v":0}]
[null,null,{"$f":"MIN(ABS(B$3:B$20-C605))","v":0.1},null,{"$f":"MIN(ABS(S$2:S$16-E605))","v":0.1},null,{"$f":"MIN(ABS(S$2:S$16-G605))","v":0.1}]
[null,null,{"$f":"IF((C605-C606)<0.1,18,IF((C605-C606)>5,1,(MATCH((C605-C606),B$3:B$20,-1))))","v":18},null,{"$f":"IF((E605-E606)<0.1,1,IF((E605-E606)>5,15,(MATCH((E605-E606),S$2:S$16,1))))","v":1},null,{"$f":"IF((G605-G606)<0.1,1,IF((G605-G606)>5,15,(MATCH((G605-G606),S$2:S$16,1))))","v":1}]
[]
[null,null,null,null,{"$f":"INDEX(C$3:Q$20,C607,E607)","v":0},null,{"$f":"INDEX(C$3:Q$20,C607,G607)","v":0}]
[]
[]
[]
[]
[]
[]
[]
[]
[]
[]
[]
[]
[]
[]
[]
[]
[]
[]
[]
[]
[]
[]
[]
[]
[]
[]
[]
[]
[]
[]
[]
[]
[]
[]
[]
[]
[]
[]
[]
[]
[]
[]
[null,"Espacio 11"]
[]
[null,"hw para SC (m)",null,"W1",null,"W2",null,"D1"]
[]
[null,{"$f":"'AI 03'!E676","v":0},null,{"$f":"'AI 03'!G676","v":0},null,{"$f":"'AI 03'!I676","v":0},null,{"$f":"'AI 03'!K676","v":0}]
[]
[null,"hw/D1",{"$f":"IF(H656=0,0,B656/H656)","v":0},"W1/D1",{"$f":"IF(H656=0,0,D656/H656)","v":0},"W2/D1",{"$f":"IF(H656=0,0,F656/H656)","v":0}]
[null,null,{"$f":"MIN(ABS(B$3:B$20-C658))","v":0.1},null,{"$f":"MIN(ABS(S$2:S$16-E658))","v":0.1},null,{"$f":"MIN(ABS(S$2:S$16-G658))","v":0.1}]
[null,null,{"$f":"IF((C658-C659)<0.1,18,IF((C658-C659)>5,1,(MATCH((C658-C659),B$3:B$20,-1))))","v":18},null,{"$f":"IF((E658-E659)<0.1,1,IF((E658-E659)>5,15,(MATCH((E658-E659),S$2:S$16,1))))","v":1},null,{"$f":"IF((G658-G659)<0.1,1,IF((G658-G659)>5,15,(MATCH((G658-G659),S$2:S$16,1))))","v":1}]
[]
[null,null,null,null,{"$f":"INDEX(C$3:Q$20,C660,E660)","v":0},null,{"$f":"INDEX(C$3:Q$20,C660,G660)","v":0}]
[]
[null,"hw para ERC (m)",null,"W1",null,"W2",null,"D1"]
[]
[null,{"$f":"'AI 03'!E686","v":0},null,{"$f":"D656","v":0},null,{"$f":"F656","v":0},null,{"$f":"H656","v":0}]
[]
[null,"hw/D1",{"$f":"IF(H666=0,0,B666/H666)","v":0},"W1/D1",{"$f":"IF(H666=0,0,D666/H666)","v":0},"W2/D1",{"$f":"IF(H666=0,0,F666/H666)","v":0}]
[null,null,{"$f":"MIN(ABS(B$3:B$20-C668))","v":0.1},null,{"$f":"MIN(ABS(S$2:S$16-E668))","v":0.1},null,{"$f":"MIN(ABS(S$2:S$16-G668))","v":0.1}]
[null,null,{"$f":"IF((C668-C669)<0.1,18,IF((C668-C669)>5,1,(MATCH((C668-C669),B$3:B$20,-1))))","v":18},null,{"$f":"IF((E668-E669)<0.1,1,IF((E668-E669)>5,15,(MATCH((E668-E669),S$2:S$16,1))))","v":1},null,{"$f":"IF((G668-G669)<0.1,1,IF((G668-G669)>5,15,(MATCH((G668-G669),S$2:S$16,1))))","v":1}]
[]
[null,null,null,null,{"$f":"INDEX(C$3:Q$20,C670,E670)","v":0},null,{"$f":"INDEX(C$3:Q$20,C670,G670)","v":0}]
[]
[]
[]
[]
[]
[]
[]
[]
[]
[]
[]
[]
[]
[]
[]
[]
[]
[]
[]
[]
[]
[]
[]
[]
[]
[]
[]
[]
[]
[]
[]
[]
[]
[]
[]
[]
[]
[]
[]
[]
[]
[]
[null,"Espacio 12"]
[]
[null,"hw para SC (m)",null,"W1",null,"W2",null,"D1"]
[]
[null,{"$f":"'AI 03'!E739","v":0},null,{"$f":"'AI 03'!G739","v":0},null,{"$f":"'AI 03'!I739","v":0},null,{"$f":"'AI 03'!K739","v":0}]
[]
[null,"hw/D1",{"$f":"IF(H719=0,0,B719/H719)","v":0},"W1/D1",{"$f":"IF(H719=0,0,D719/H719)","v":0},"W2/D1",{"$f":"IF(H719=0,0,F719/H719)","v":0}]
[null,null,{"$f":"MIN(ABS(B$3:B$20-C721))","v":0.1},null,{"$f":"MIN(ABS(S$2:S$16-E721))","v":0.1},null,{"$f":"MIN(ABS(S$2:S$16-G721))","v":0.1}]
[null,null,{"$f":"IF((C721-C722)<0.1,18,IF((C721-C722)>5,1,(MATCH((C721-C722),B$3:B$20,-1))))","v":18},null,{"$f":"IF((E721-E722)<0.1,1,IF((E721-E722)>5,15,(MATCH((E721-E722),S$2:S$16,1))))","v":1},null,{"$f":"IF((G721-G722)<0.1,1,IF((G721-G722)>5,15,(MATCH((G721-G722),S$2:S$16,1))))","v":1}]
[]
[null,null,null,null,{"$f":"INDEX(C$3:Q$20,C723,E723)","v":0},null,{"$f":"INDEX(C$3:Q$20,C723,G723)","v":0}]
[]
[null,"hw para ERC (m)",null,"W1",null,"W2",null,"D1"]
[]
[null,{"$f":"'AI 03'!E749","v":0},null,{"$f":"D719","v":0},null,{"$f":"F719","v":0},null,{"$f":"H719","v":0}]
[]
[null,"hw/D1",{"$f":"IF(H729=0,0,B729/H729)","v":0},"W1/D1",{"$f":"IF(H729=0,0,D729/H729)","v":0},"W2/D1",{"$f":"IF(H729=0,0,F729/H729)","v":0}]
[null,null,{"$f":"MIN(ABS(B$3:B$20-C731))","v":0.1},null,{"$f":"MIN(ABS(S$2:S$16-E731))","v":0.1},null,{"$f":"MIN(ABS(S$2:S$16-G731))","v":0.1}]
[null,null,{"$f":"IF((C731-C732)<0.1,18,IF((C731-C732)>5,1,(MATCH((C731-C732),B$3:B$20,-1))))","v":18},null,{"$f":"IF((E731-E732)<0.1,1,IF((E731-E732)>5,15,(MATCH((E731-E732),S$2:S$16,1))))","v":1},null,{"$f":"IF((G731-G732)<0.1,1,IF((G731-G732)>5,15,(MATCH((G731-G732),S$2:S$16,1))))","v":1}]
[]
[null,null,null,null,{"$f":"INDEX(C$3:Q$20,C733,E733)","v":0},null,{"$f":"INDEX(C$3:Q$20,C733,G733)","v":0}]
[]
[]
[]
[]
[]
[]
[]
[]
[]
[]
[]
[]
[]
[]
[]
[]
[]
[]
[]
[]
[]
[]
[]
[]
[]
[]
[]
[]
[]
[]
[]
[]
[]
[]
[]
[]
[]
[]
[]
[]
[]
[]
[null,"Espacio 13"]
[]
[null,"hw para SC (m)",null,"W1",null,"W2",null,"D1"]
[]
[null,{"$f":"'AI 03'!E802","v":0},null,{"$f":"'AI 03'!G802","v":0},null,{"$f":"'AI 03'!I802","v":0},null,{"$f":"'AI 03'!K802","v":0}]
[]
[null,"hw/D1",{"$f":"IF(H782=0,0,B782/H782)","v":0},"W1/D1",{"$f":"IF(H782=0,0,D782/H782)","v":0},"W2/D1",{"$f":"IF(H782=0,0,F782/H782)","v":0}]
[null,null,{"$f":"MIN(ABS(B$3:B$20-C784))","v":0.1},null,{"$f":"MIN(ABS(S$2:S$16-E784))","v":0.1},null,{"$f":"MIN(ABS(S$2:S$16-G784))","v":0.1}]
[null,null,{"$f":"IF((C784-C785)<0.1,18,IF((C784-C785)>5,1,(MATCH((C784-C785),B$3:B$20,-1))))","v":18},null,{"$f":"IF((E784-E785)<0.1,1,IF((E784-E785)>5,15,(MATCH((E784-E785),S$2:S$16,1))))","v":1},null,{"$f":"IF((G784-G785)<0.1,1,IF((G784-G785)>5,15,(MATCH((G784-G785),S$2:S$16,1))))","v":1}]
[]
[null,null,null,null,{"$f":"INDEX(C$3:Q$20,C786,E786)","v":0},null,{"$f":"INDEX(C$3:Q$20,C786,G786)","v":0}]
[]
[null,"hw para ERC (m)",null,"W1",null,"W2",null,"D1"]
[]
[null,{"$f":"'AI 03'!E812","v":0},null,{"$f":"D782","v":0},null,{"$f":"F782","v":0},null,{"$f":"H782","v":0}]
[]
[null,"hw/D1",{"$f":"IF(H792=0,0,B792/H792)","v":0},"W1/D1",{"$f":"IF(H792=0,0,D792/H792)","v":0},"W2/D1",{"$f":"IF(H792=0,0,F792/H792)","v":0}]
[null,null,{"$f":"MIN(ABS(B$3:B$20-C794))","v":0.1},null,{"$f":"MIN(ABS(S$2:S$16-E794))","v":0.1},null,{"$f":"MIN(ABS(S$2:S$16-G794))","v":0.1}]
[null,null,{"$f":"IF((C794-C795)<0.1,18,IF((C794-C795)>5,1,(MATCH((C794-C795),B$3:B$20,-1))))","v":18},null,{"$f":"IF((E794-E795)<0.1,1,IF((E794-E795)>5,15,(MATCH((E794-E795),S$2:S$16,1))))","v":1},null,{"$f":"IF((G794-G795)<0.1,1,IF((G794-G795)>5,15,(MATCH((G794-G795),S$2:S$16,1))))","v":1}]
[]
[null,null,null,null,{"$f":"INDEX(C$3:Q$20,C796,E796)","v":0},null,{"$f":"INDEX(C$3:Q$20,C796,G796)","v":0}]
[]
[]
[]
[]
[]
[]
[]
[]
[]
[]
[]
[]
[]
[]
[]
[]
[]
[]
[]
[]
[]
[]
[]
[]
[]
[]
[]
[]
[]
[]
[]
[]
[]
[]
[]
[]
[]
[]
[]
[]
[]
[]
[null,"Espacio 14"]
[]
[null,"hw para SC (m)",null,"W1",null,"W2",null,"D1"]
[]
[null,{"$f":"'AI 03'!E865","v":0},null,{"$f":"'AI 03'!G865","v":0},null,{"$f":"'AI 03'!I865","v":0},null,{"$f":"'AI 03'!K865","v":0}]
[]
[null,"hw/D1",{"$f":"IF(H845=0,0,B845/H845)","v":0},"W1/D1",{"$f":"IF(H845=0,0,D845/H845)","v":0},"W2/D1",{"$f":"IF(H845=0,0,F845/H845)","v":0}]
[null,null,{"$f":"MIN(ABS(B$3:B$20-C847))","v":0.1},null,{"$f":"MIN(ABS(S$2:S$16-E847))","v":0.1},null,{"$f":"MIN(ABS(S$2:S$16-G847))","v":0.1}]
[null,null,{"$f":"IF((C847-C848)<0.1,18,IF((C847-C848)>5,1,(MATCH((C847-C848),B$3:B$20,-1))))","v":18},null,{"$f":"IF((E847-E848)<0.1,1,IF((E847-E848)>5,15,(MATCH((E847-E848),S$2:S$16,1))))","v":1},null,{"$f":"IF((G847-G848)<0.1,1,IF((G847-G848)>5,15,(MATCH((G847-G848),S$2:S$16,1))))","v":1}]
[]
[null,null,null,null,{"$f":"INDEX(C$3:Q$20,C849,E849)","v":0},null,{"$f":"INDEX(C$3:Q$20,C849,G849)","v":0}]
[]
[null,"hw para ERC (m)",null,"W1",null,"W2",null,"D1"]
[]
[null,{"$f":"'AI 03'!E875","v":0},null,{"$f":"D845","v":0},null,{"$f":"F845","v":0},null,{"$f":"H845","v":0}]
[]
[null,"hw/D1",{"$f":"IF(H855=0,0,B855/H855)","v":0},"W1/D1",{"$f":"IF(H855=0,0,D855/H855)","v":0},"W2/D1",{"$f":"IF(H855=0,0,F855/H855)","v":0}]
[null,null,{"$f":"MIN(ABS(B$3:B$20-C857))","v":0.1},null,{"$f":"MIN(ABS(S$2:S$16-E857))","v":0.1},null,{"$f":"MIN(ABS(S$2:S$16-G857))","v":0.1}]
[null,null,{"$f":"IF((C857-C858)<0.1,18,IF((C857-C858)>5,1,(MATCH((C857-C858),B$3:B$20,-1))))","v":18},null,{"$f":"IF((E857-E858)<0.1,1,IF((E857-E858)>5,15,(MATCH((E857-E858),S$2:S$16,1))))","v":1},null,{"$f":"IF((G857-G858)<0.1,1,IF((G857-G858)>5,15,(MATCH((G857-G858),S$2:S$16,1))))","v":1}]
[]
[null,null,null,null,{"$f":"INDEX(C$3:Q$20,C859,E859)","v":0},null,{"$f":"INDEX(C$3:Q$20,C859,G859)","v":0}]
[]
[]
[]
[]
[]
[]
[]
[]
[]
[]
[]
[]
[]
[]
[]
[]
[]
[]
[]
[]
[]
[]
[]
[]
[]
[]
[]
[]
[]
[]
[]
[]
[]
[]
[]
[]
[]
[]
[]
[]
[]
[]
[null,"Espacio 15"]
[]
[null,"hw para SC (m)",null,"W1",null,"W2",null,"D1"]
[]
[null,{"$f":"'AI 03'!E928","v":0},null,{"$f":"'AI 03'!G928","v":0},null,{"$f":"'AI 03'!I928","v":0},null,{"$f":"'AI 03'!K928","v":0}]
[]
[null,"hw/D1",{"$f":"IF(H908=0,0,B908/H908)","v":0},"W1/D1",{"$f":"IF(H908=0,0,D908/H908)","v":0},"W2/D1",{"$f":"IF(H908=0,0,F908/H908)","v":0}]
[null,null,{"$f":"MIN(ABS(B$3:B$20-C910))","v":0.1},null,{"$f":"MIN(ABS(S$2:S$16-E910))","v":0.1},null,{"$f":"MIN(ABS(S$2:S$16-G910))","v":0.1}]
[null,null,{"$f":"IF((C910-C911)<0.1,18,IF((C910-C911)>5,1,(MATCH((C910-C911),B$3:B$20,-1))))","v":18},null,{"$f":"IF((E910-E911)<0.1,1,IF((E910-E911)>5,15,(MATCH((E910-E911),S$2:S$16,1))))","v":1},null,{"$f":"IF((G910-G911)<0.1,1,IF((G910-G911)>5,15,(MATCH((G910-G911),S$2:S$16,1))))","v":1}]
[]
[null,null,null,null,{"$f":"INDEX(C$3:Q$20,C912,E912)","v":0},null,{"$f":"INDEX(C$3:Q$20,C912,G912)","v":0}]
[]
[null,"hw para ERC (m)",null,"W1",null,"W2",null,"D1"]
[]
[null,{"$f":"'AI 03'!E938","v":0},null,{"$f":"D908","v":0},null,{"$f":"F908","v":0},null,{"$f":"H908","v":0}]
[]
[null,"hw/D1",{"$f":"IF(H918=0,0,B918/H918)","v":0},"W1/D1",{"$f":"IF(H918=0,0,D918/H918)","v":0},"W2/D1",{"$f":"IF(H918=0,0,F918/H918)","v":0}]
[null,null,{"$f":"MIN(ABS(B$3:B$20-C920))","v":0.1},null,{"$f":"MIN(ABS(S$2:S$16-E920))","v":0.1},null,{"$f":"MIN(ABS(S$2:S$16-G920))","v":0.1}]
[null,null,{"$f":"IF((C920-C921)<0.1,18,IF((C920-C921)>5,1,(MATCH((C920-C921),B$3:B$20,-1))))","v":18},null,{"$f":"IF((E920-E921)<0.1,1,IF((E920-E921)>5,15,(MATCH((E920-E921),S$2:S$16,1))))","v":1},null,{"$f":"IF((G920-G921)<0.1,1,IF((G920-G921)>5,15,(MATCH((G920-G921),S$2:S$16,1))))","v":1}]
[]
[null,null,null,null,{"$f":"INDEX(C$3:Q$20,C922,E922)","v":0},null,{"$f":"INDEX(C$3:Q$20,C922,G922)","v":0}]
[]
[]
[]
[]
[]
[]
[]
[]
[]
[]
[]
[]
[]
[]
[]
[]
[]
[]
[]
[]
[]
[]
[]
[]
[]
[]
[]
[]
[]
[]
[]
[]
[]
[]
[]
[]
[]
[]
[]
[]
[]
[]
[null,"Espacio 16"]
[]
[null,"hw para SC (m)",null,"W1",null,"W2",null,"D1"]
[]
[null,{"$f":"'AI 03'!E991","v":0},null,{"$f":"'AI 03'!G991","v":0},null,{"$f":"'AI 03'!I991","v":0},null,{"$f":"'AI 03'!K991","v":0}]
[]
[null,"hw/D1",{"$f":"IF(H971=0,0,B971/H971)","v":0},"W1/D1",{"$f":"IF(H971=0,0,D971/H971)","v":0},"W2/D1",{"$f":"IF(H971=0,0,F971/H971)","v":0}]
[null,null,{"$f":"MIN(ABS(B$3:B$20-C973))","v":0.1},null,{"$f":"MIN(ABS(S$2:S$16-E973))","v":0.1},null,{"$f":"MIN(ABS(S$2:S$16-G973))","v":0.1}]
[null,null,{"$f":"IF((C973-C974)<0.1,18,IF((C973-C974)>5,1,(MATCH((C973-C974),B$3:B$20,-1))))","v":18},null,{"$f":"IF((E973-E974)<0.1,1,IF((E973-E974)>5,15,(MATCH((E973-E974),S$2:S$16,1))))","v":1},null,{"$f":"IF((G973-G974)<0.1,1,IF((G973-G974)>5,15,(MATCH((G973-G974),S$2:S$16,1))))","v":1}]
[]
[null,null,null,null,{"$f":"INDEX(C$3:Q$20,C975,E975)","v":0},null,{"$f":"INDEX(C$3:Q$20,C975,G975)","v":0}]
[]
[null,"hw para ERC (m)",null,"W1",null,"W2",null,"D1"]
[]
[null,{"$f":"'AI 03'!E1001","v":0},null,{"$f":"D971","v":0},null,{"$f":"F971","v":0},null,{"$f":"H971","v":0}]
[]
[null,"hw/D1",{"$f":"IF(H981=0,0,B981/H981)","v":0},"W1/D1",{"$f":"IF(H981=0,0,D981/H981)","v":0},"W2/D1",{"$f":"IF(H981=0,0,F981/H981)","v":0}]
[null,null,{"$f":"MIN(ABS(B$3:B$20-C983))","v":0.1},null,{"$f":"MIN(ABS(S$2:S$16-E983))","v":0.1},null,{"$f":"MIN(ABS(S$2:S$16-G983))","v":0.1}]
[null,null,{"$f":"IF((C983-C984)<0.1,18,IF((C983-C984)>5,1,(MATCH((C983-C984),B$3:B$20,-1))))","v":18},null,{"$f":"IF((E983-E984)<0.1,1,IF((E983-E984)>5,15,(MATCH((E983-E984),S$2:S$16,1))))","v":1},null,{"$f":"IF((G983-G984)<0.1,1,IF((G983-G984)>5,15,(MATCH((G983-G984),S$2:S$16,1))))","v":1}]
[]
[null,null,null,null,{"$f":"INDEX(C$3:Q$20,C985,E985)","v":0},null,{"$f":"INDEX(C$3:Q$20,C985,G985)","v":0}]
[]
[]
[]
[]
[]
[]
[]
[]
[]
[]
[]
[]
[]
[]
[]
[]
[]
[]
[]
[]
[]
[]
[]
[]
[]
[]
[]
[]
[]
[]
[]
[]
[]
[]
[]
[]
[]
[]
[]
[]
[]
[]
[null,"Espacio 17"]
[]
[null,"hw para SC (m)",null,"W1",null,"W2",null,"D1"]
[]
[null,{"$f":"'AI 03'!E1054","v":0},null,{"$f":"'AI 03'!G1054","v":0},null,{"$f":"'AI 03'!I1054","v":0},null,{"$f":"'AI 03'!K1054","v":0}]
[]
[null,"hw/D1",{"$f":"IF(H1034=0,0,B1034/H1034)","v":0},"W1/D1",{"$f":"IF(H1034=0,0,D1034/H1034)","v":0},"W2/D1",{"$f":"IF(H1034=0,0,F1034/H1034)","v":0}]
[null,null,{"$f":"MIN(ABS(B$3:B$20-C1036))","v":0.1},null,{"$f":"MIN(ABS(S$2:S$16-E1036))","v":0.1},null,{"$f":"MIN(ABS(S$2:S$16-G1036))","v":0.1}]
[null,null,{"$f":"IF((C1036-C1037)<0.1,18,IF((C1036-C1037)>5,1,(MATCH((C1036-C1037),B$3:B$20,-1))))","v":18},null,{"$f":"IF((E1036-E1037)<0.1,1,IF((E1036-E1037)>5,15,(MATCH((E1036-E1037),S$2:S$16,1))))","v":1},null,{"$f":"IF((G1036-G1037)<0.1,1,IF((G1036-G1037)>5,15,(MATCH((G1036-G1037),S$2:S$16,1))))","v":1}]
[]
[null,null,null,null,{"$f":"INDEX(C$3:Q$20,C1038,E1038)","v":0},null,{"$f":"INDEX(C$3:Q$20,C1038,G1038)","v":0}]
[]
[null,"hw para ERC (m)",null,"W1",null,"W2",null,"D1"]
[]
[null,{"$f":"'AI 03'!E1064","v":0},null,{"$f":"D1034","v":0},null,{"$f":"F1034","v":0},null,{"$f":"H1034","v":0}]
[]
[null,"hw/D1",{"$f":"IF(H1044=0,0,B1044/H1044)","v":0},"W1/D1",{"$f":"IF(H1044=0,0,D1044/H1044)","v":0},"W2/D1",{"$f":"IF(H1044=0,0,F1044/H1044)","v":0}]
[null,null,{"$f":"MIN(ABS(B$3:B$20-C1046))","v":0.1},null,{"$f":"MIN(ABS(S$2:S$16-E1046))","v":0.1},null,{"$f":"MIN(ABS(S$2:S$16-G1046))","v":0.1}]
[null,null,{"$f":"IF((C1046-C1047)<0.1,18,IF((C1046-C1047)>5,1,(MATCH((C1046-C1047),B$3:B$20,-1))))","v":18},null,{"$f":"IF((E1046-E1047)<0.1,1,IF((E1046-E1047)>5,15,(MATCH((E1046-E1047),S$2:S$16,1))))","v":1},null,{"$f":"IF((G1046-G1047)<0.1,1,IF((G1046-G1047)>5,15,(MATCH((G1046-G1047),S$2:S$16,1))))","v":1}]
[]
[null,null,null,null,{"$f":"INDEX(C$3:Q$20,C1048,E1048)","v":0},null,{"$f":"INDEX(C$3:Q$20,C1048,G1048)","v":0}]
[]
[]
[]
[]
[]
[]
[]
[]
[]
[]
[]
[]
[]
[]
[]
[]
[]
[]
[]
[]
[]
[]
[]
[]
[]
[]
[]
[]
[]
[]
[]
[]
[]
[]
[]
[]
[]
[]
[]
[]
[]
[]
[null,"Espacio 18"]
[]
[null,"hw para SC (m)",null,"W1",null,"W2",null,"D1"]
[]
[null,{"$f":"'AI 03'!E1117","v":0},null,{"$f":"'AI 03'!G1117","v":0},null,{"$f":"'AI 03'!I1117","v":0},null,{"$f":"'AI 03'!K1117","v":0}]
[]
[null,"hw/D1",{"$f":"IF(H1097=0,0,B1097/H1097)","v":0},"W1/D1",{"$f":"IF(H1097=0,0,D1097/H1097)","v":0},"W2/D1",{"$f":"IF(H1097=0,0,F1097/H1097)","v":0}]
[null,null,{"$f":"MIN(ABS(B$3:B$20-C1099))","v":0.1},null,{"$f":"MIN(ABS(S$2:S$16-E1099))","v":0.1},null,{"$f":"MIN(ABS(S$2:S$16-G1099))","v":0.1}]
[null,null,{"$f":"IF((C1099-C1100)<0.1,18,IF((C1099-C1100)>5,1,(MATCH((C1099-C1100),B$3:B$20,-1))))","v":18},null,{"$f":"IF((E1099-E1100)<0.1,1,IF((E1099-E1100)>5,15,(MATCH((E1099-E1100),S$2:S$16,1))))","v":1},null,{"$f":"IF((G1099-G1100)<0.1,1,IF((G1099-G1100)>5,15,(MATCH((G1099-G1100),S$2:S$16,1))))","v":1}]
[]
[null,null,null,null,{"$f":"INDEX(C$3:Q$20,C1101,E1101)","v":0},null,{"$f":"INDEX(C$3:Q$20,C1101,G1101)","v":0}]
[]
[null,"hw para ERC (m)",null,"W1",null,"W2",null,"D1"]
[]
[null,{"$f":"'AI 03'!E1127","v":0},null,{"$f":"D1097","v":0},null,{"$f":"F1097","v":0},null,{"$f":"H1097","v":0}]
[]
[null,"hw/D1",{"$f":"IF(H1107=0,0,B1107/H1107)","v":0},"W1/D1",{"$f":"IF(H1107=0,0,D1107/H1107)","v":0},"W2/D1",{"$f":"IF(H1107=0,0,F1107/H1107)","v":0}]
[null,null,{"$f":"MIN(ABS(B$3:B$20-C1109))","v":0.1},null,{"$f":"MIN(ABS(S$2:S$16-E1109))","v":0.1},null,{"$f":"MIN(ABS(S$2:S$16-G1109))","v":0.1}]
[null,null,{"$f":"IF((C1109-C1110)<0.1,18,IF((C1109-C1110)>5,1,(MATCH((C1109-C1110),B$3:B$20,-1))))","v":18},null,{"$f":"IF((E1109-E1110)<0.1,1,IF((E1109-E1110)>5,15,(MATCH((E1109-E1110),S$2:S$16,1))))","v":1},null,{"$f":"IF((G1109-G1110)<0.1,1,IF((G1109-G1110)>5,15,(MATCH((G1109-G1110),S$2:S$16,1))))","v":1}]
[]
[null,null,null,null,{"$f":"INDEX(C$3:Q$20,C1111,E1111)","v":0},null,{"$f":"INDEX(C$3:Q$20,C1111,G1111)","v":0}]
[]
[]
[]
[]
[]
[]
[]
[]
[]
[]
[]
[]
[]
[]
[]
[]
[]
[]
[]
[]
[]
[]
[]
[]
[]
[]
[]
[]
[]
[]
[]
[]
[]
[]
[]
[]
[]
[]
[]
[]
[]
[]
[null,"Espacio 19"]
[]
[null,"hw para SC (m)",null,"W1",null,"W2",null,"D1"]
[]
[null,{"$f":"'AI 03'!E1180","v":0},null,{"$f":"'AI 03'!G1180","v":0},null,{"$f":"'AI 03'!I1180","v":0},null,{"$f":"'AI 03'!K1180","v":0}]
[]
[null,"hw/D1",{"$f":"IF(H1160=0,0,B1160/H1160)","v":0},"W1/D1",{"$f":"IF(H1160=0,0,D1160/H1160)","v":0},"W2/D1",{"$f":"IF(H1160=0,0,F1160/H1160)","v":0}]
[null,null,{"$f":"MIN(ABS(B$3:B$20-C1162))","v":0.1},null,{"$f":"MIN(ABS(S$2:S$16-E1162))","v":0.1},null,{"$f":"MIN(ABS(S$2:S$16-G1162))","v":0.1}]
[null,null,{"$f":"IF((C1162-C1163)<0.1,18,IF((C1162-C1163)>5,1,(MATCH((C1162-C1163),B$3:B$20,-1))))","v":18},null,{"$f":"IF((E1162-E1163)<0.1,1,IF((E1162-E1163)>5,15,(MATCH((E1162-E1163),S$2:S$16,1))))","v":1},null,{"$f":"IF((G1162-G1163)<0.1,1,IF((G1162-G1163)>5,15,(MATCH((G1162-G1163),S$2:S$16,1))))","v":1}]
[]
[null,null,null,null,{"$f":"INDEX(C$3:Q$20,C1164,E1164)","v":0},null,{"$f":"INDEX(C$3:Q$20,C1164,G1164)","v":0}]
[]
[null,"hw para ERC (m)",null,"W1",null,"W2",null,"D1"]
[]
[null,{"$f":"'AI 03'!E1190","v":0},null,{"$f":"D1160","v":0},null,{"$f":"F1160","v":0},null,{"$f":"H1160","v":0}]
[]
[null,"hw/D1",{"$f":"IF(H1170=0,0,B1170/H1170)","v":0},"W1/D1",{"$f":"IF(H1170=0,0,D1170/H1170)","v":0},"W2/D1",{"$f":"IF(H1170=0,0,F1170/H1170)","v":0}]
[null,null,{"$f":"MIN(ABS(B$3:B$20-C1172))","v":0.1},null,{"$f":"MIN(ABS(S$2:S$16-E1172))","v":0.1},null,{"$f":"MIN(ABS(S$2:S$16-G1172))","v":0.1}]
[null,null,{"$f":"IF((C1172-C1173)<0.1,18,IF((C1172-C1173)>5,1,(MATCH((C1172-C1173),B$3:B$20,-1))))","v":18},null,{"$f":"IF((E1172-E1173)<0.1,1,IF((E1172-E1173)>5,15,(MATCH((E1172-E1173),S$2:S$16,1))))","v":1},null,{"$f":"IF((G1172-G1173)<0.1,1,IF((G1172-G1173)>5,15,(MATCH((G1172-G1173),S$2:S$16,1))))","v":1}]
[]
[null,null,null,null,{"$f":"INDEX(C$3:Q$20,C1174,E1174)","v":0},null,{"$f":"INDEX(C$3:Q$20,C1174,G1174)","v":0}]
[]
[]
[]
[]
[]
[]
[]
[]
[]
[]
[]
[]
[]
[]
[]
[]
[]
[]
[]
[]
[]
[]
[]
[]
[]
[]
[]
[]
[]
[]
[]
[]
[]
[]
[]
[]
[]
[]
[]
[]
[]
[]
[null,"Espacio 20"]
[]
[null,"hw para SC (m)",null,"W1",null,"W2",null,"D1"]
[]
[null,{"$f":"'AI 03'!E1243","v":0},null,{"$f":"'AI 03'!G1243","v":0},null,{"$f":"'AI 03'!I1243","v":0},null,{"$f":"'AI 03'!K1243","v":0}]
[]
[null,"hw/D1",{"$f":"IF(H1223=0,0,B1223/H1223)","v":0},"W1/D1",{"$f":"IF(H1223=0,0,D1223/H1223)","v":0},"W2/D1",{"$f":"IF(H1223=0,0,F1223/H1223)","v":0}]
[null,null,{"$f":"MIN(ABS(B$3:B$20-C1225))","v":0.1},null,{"$f":"MIN(ABS(S$2:S$16-E1225))","v":0.1},null,{"$f":"MIN(ABS(S$2:S$16-G1225))","v":0.1}]
[null,null,{"$f":"IF((C1225-C1226)<0.1,18,IF((C1225-C1226)>5,1,(MATCH((C1225-C1226),B$3:B$20,-1))))","v":18},null,{"$f":"IF((E1225-E1226)<0.1,1,IF((E1225-E1226)>5,15,(MATCH((E1225-E1226),S$2:S$16,1))))","v":1},null,{"$f":"IF((G1225-G1226)<0.1,1,IF((G1225-G1226)>5,15,(MATCH((G1225-G1226),S$2:S$16,1))))","v":1}]
[]
[null,null,null,null,{"$f":"INDEX(C$3:Q$20,C1227,E1227)","v":0},null,{"$f":"INDEX(C$3:Q$20,C1227,G1227)","v":0}]
[]
[null,"hw para ERC (m)",null,"W1",null,"W2",null,"D1"]
[]
[null,{"$f":"'AI 03'!E1253","v":0},null,{"$f":"D1223","v":0},null,{"$f":"F1223","v":0},null,{"$f":"H1223","v":0}]
[]
[null,"hw/D1",{"$f":"IF(H1233=0,0,B1233/H1233)","v":0},"W1/D1",{"$f":"IF(H1233=0,0,D1233/H1233)","v":0},"W2/D1",{"$f":"IF(H1233=0,0,F1233/H1233)","v":0}]
[null,null,{"$f":"MIN(ABS(B$3:B$20-C1235))","v":0.1},null,{"$f":"MIN(ABS(S$2:S$16-E1235))","v":0.1},null,{"$f":"MIN(ABS(S$2:S$16-G1235))","v":0.1}]
[null,null,{"$f":"IF((C1235-C1236)<0.1,18,IF((C1235-C1236)>5,1,(MATCH((C1235-C1236),B$3:B$20,-1))))","v":18},null,{"$f":"IF((E1235-E1236)<0.1,1,IF((E1235-E1236)>5,15,(MATCH((E1235-E1236),S$2:S$16,1))))","v":1},null,{"$f":"IF((G1235-G1236)<0.1,1,IF((G1235-G1236)>5,15,(MATCH((G1235-G1236),S$2:S$16,1))))","v":1}]
[]
[null,null,null,null,{"$f":"INDEX(C$3:Q$20,C1237,E1237)","v":0},null,{"$f":"INDEX(C$3:Q$20,C1237,G1237)","v":0}]

{"sheet":"AS","index":29,"n_rows":231,"n_cols":23,"rows_kept":231,"cut":false,"hidden":false,"merged":[[37,4,37,5],[2,2,2,3],[2,4,2,5],[2,6,2,7],[27,6,27,7],[29,4,29,5],[29,6,29,7],[31,5,31,6],[33,5,33,6],[35,5,35,6],[73,5,74,5],[61,5,61,6],[63,5,63,6],[65,4,65,5],[67,2,67,3],[67,4,67,5],[67,6,67,7],[39,2,39,3],[39,4,39,5],[39,6,39,7],[57,6,57,7],[59,4,59,5],[59,6,59,7],[54,5,54,6],[106,2,106,3],[106,4,106,5],[106,6,106,7],[96,6,96,7],[98,4,98,5],[98,6,98,7],[100,5,100,6],[102,5,102,6],[87,4,87,5],[89,2,89,3],[89,4,89,5],[89,6,89,7],[93,5,94,5],[127,13,127,22],[129,5,130,5],[123,4,123,5],[220,6,220,8],[9,4,10,5],[14,5,15,6],[19,5,20,6],[24,5,25,6],[46,5,46,6],[51,5,52,6],[43,4,44,5],[48,5,49,6],[115,6,115,7],[117,4,117,5],[117,6,117,7],[119,5,119,6],[121,5,121,6],[108,13,108,22],[104,4,104,5],[69,14,69,19],[77,6,77,7],[79,4,79,5],[79,6,79,7],[81,5,81,6],[132,6,132,7],[134,4,134,5],[134,6,134,7],[136,5,136,6],[138,4,138,5],[148,5,148,6],[112,5,112,6],[125,2,125,3],[125,4,125,5],[125,6,125,7],[156,5,156,6],[140,2,140,3],[140,4,140,5],[140,6,140,7],[152,4,152,5],[152,6,152,7],[154,5,154,6],[142,13,142,22],[146,5,146,6],[150,6,150,7],[164,13,164,22],[172,5,172,6],[183,6,183,7],[185,4,185,5],[185,6,185,7],[158,5,158,6],[160,4,160,5],[162,2,162,3],[162,4,162,5],[162,6,162,7],[199,13,199,22],[203,5,203,6],[187,5,187,6],[189,5,189,6],[191,5,191,6],[195,4,195,5],[166,5,166,6],[168,5,169,6],[171,5,171,6],[174,5,175,6],[193,5,193,6],[215,4,215,5],[205,5,205,6],[209,6,209,7],[211,4,211,5],[211,6,211,7],[213,5,213,6],[197,2,197,3],[197,4,197,5],[197,6,197,7]]}
[]
[]
[null,null,{"$f":"'Matriz VERDE-GBCe'!U42","v":"AS"},null,{"$f":"'Matriz VERDE-GBCe'!V42","v":"Aspectos sociales"}]
[]
[]
[null,null,null,null,{"$f":"'Matriz VERDE-GBCe'!V43","v":"AS 01"},{"$f":"VLOOKUP($E6,'Matriz VERDE-GBCe'!$V$7:$Y$51,2,FALSE)","v":"Espacios para todas las personas"},{"$f":"VLOOKUP($E6,'Matriz VERDE-GBCe'!$V$7:$Y$51,3,FALSE)","v":1.8276092201858416E-2},null,null,null,null,null,null,null,null,null,null,null,null,"SE ADJUNTA",null,"SÍ","NO"]
[null,null,null,null,null,null,null,null,null,null,null,null,null,null,null,null,null,null,null,"NO SE ADJUNTA",null,"NO"]
[null,null,null,null,null,"Las estancias de los edificios cumplen con los tamaños mínimos que exige el criterio",null,null,null,null,null,null,null,null,null,null,null,null,null,"NO APLICA"]
[null,null,null,null,null,null,null,null,null,null,null,null,null,null,null,null,null,null,null,"NO SE ADJUNTA",null,"NO"]
[null,null,null,null,"Se han implementado en el edificio las siguientes medidas que favorecen la convivencia y facilitan el desarrollo de actividades:",null,null,null,null,null,null,null,null,null,null,null,null,null,null,"NO APLICA"]
[]
[null,null,null,null,null,null,null,null,null,null,null,null,null,null,null,null,null,null,null,"NO SE ADJUNTA",null,"NO"]
[null,null,null,null,null,"Vestuarios independientes para bebés con espacios para amamantarles",null,null,null,null,null,null,{"$f":"IF(I13=\"Sí\",1,0)","v":0},null,null,null,null,null,null,"NO APLICA"]
[null,null,null,null,null,null,null,null,null,null,null,null,null,null,null,null,null,null,null,"NO SE ADJUNTA",null,"NO"]
[null,null,null,null,null,"Instalaciones para niños y niñas, como zonas de juego al aire libre, estancias interiores con equipamientos que permitan el juego, fuentes de agua potable adecuadas a su altura, etc…",null,null,null,null,null,null,{"$f":"IF(I15=\"Sí\",1,0)","v":0}]
[]
[null,null,null,null,null,null,null,null,null,null,null,null,null,null,null,null,null,null,null,"NO SE ADJUNTA",null,"NO"]
[null,null,null,null,null,"Espacios de esparcimiento para la tercera edad adecuados al uso del edificio",null,null,null,null,null,null,{"$f":"IF(I18=\"Sí\",1,0)","v":0}]
[]
[null,null,null,null,null,"Variedad de tamaños y número de dormitorios en edificios residenciales, hoteles y otros residenciales, dando respuesta a las necesidades de los distintos conjuntos familiares.",null,null,null,null,null,null,{"$f":"IF(I20=\"Sí\",1,0)","v":0},null,null,null,null,null,null,"NO APLICA"]
[]
[null,null,null,null,null,null,null,null,null,null,null,null,null,null,null,null,null,null,null,"NO SE ADJUNTA",null,"NO"]
[null,null,null,null,null,"Diseño de las cocinas como elementos integrados en el espacio de comedor",null,null,null,null,null,null,{"$f":"IF(I23=\"Sí\",1,0)","v":0}]
[]
[null,null,null,null,null,"Otras medidas innovadoras que faciliten el uso del edificio por personas de grupos de edad extremos (infancia y tercera edad) o la integración de todos los miembros de la familia.",null,null,null,null,null,null,{"$f":"IF(I25=\"Sí\",1,0)","v":0},null,null,null,null,null,null,"NO APLICA"]
[]
[]
[null,null,null,null,"NOTAS"]
[]
[null,null,null,null,"DOCUMENTOS JUSTIFICATIVOS"]
[]
[null,null,null,null,"AS 01.01","Planos del edificio donde se definan y acoten claramente las superficies y volumetría de los espacios que permitan el cumplimiento del primer indicador"]
[]
[null,null,null,null,"AS 01.02","Plantas del edificio y la parcela donde se ubiquen y definan claramente los espacios que permitan el cumplimiento del segundo indicador"]
[]
[null,null,null,null,"AS 01.03","Breve memoria justificativa del cumplimiento de las medidas puntuadas que incluya la información adecuada para su descripción: planos, fotografías, memorias, etc."]
[]
[null,null,null,null,"VALORACIÓN DEL CRITERIO",null,{"$f":"IF(I8=\"Sí\",0.4*G6,0)+IF(SUM(M13:M25)>4,0.6*G6,(SUM(M13:M25)*0.25*0.6*G6))","v":0}]
[]
[]
[]
[null,null,null,null,{"$f":"'Matriz VERDE-GBCe'!V44","v":"AS 02"},{"$f":"VLOOKUP($E42,'Matriz VERDE-GBCe'!$V$7:$Y$51,2,FALSE)","v":"Espacios para la comunicación"},{"$f":"VLOOKUP($E42,'Matriz VERDE-GBCe'!$V$7:$Y$51,3,FALSE)","v":1.7608706812464708E-2}]
[]
[null,null,null,null,"Se han diseñado en las zonas comunes de los edificios los siguientes espacios que favorecen la comunicación e interrelación entre los ocupantes del edificio"]
[]
[]
[null,null,null,null,null,"Espacios de reunión para todos los ocupantes y capaces de albergar a un número suficiente de personas",null,null,null,null,null,null,{"$f":"IF(I47=\"Sí\",1,0)","v":0}]
[null,null,null,null,null,null,null,null,null,null,null,null,null,null,null,null,null,null,null,"NO SE ADJUNTA",null,"NO"]
[null,null,null,null,null,"Espacios en los que se puedan desarrollar actividades culturales, deportivas, de ocio o de otro tipo que aporte valor a la cominidad.",null,null,null,null,null,null,{"$f":"IF(I49=\"Sí\",1,0)","v":0}]
[]
[]
[null,null,null,null,null,"Espacios que inviten al esparcimiento con zonas de asientos confortables, mesas y otros elementos, como obras de arte que inviten al descanso y desconexión",null,null,null,null,null,null,{"$f":"IF(I52=\"Sí\",1,0)","v":0},null,null,null,null,null,null,"NO APLICA"]
[]
[null,null,null,null,null,null,null,null,null,null,null,null,null,null,null,null,null,null,null,"NO SE ADJUNTA",null,"NO"]
[null,null,null,null,null,"Otras medidas innovadoras que favorezcan la relación y comunicación entre los ocupantes del edificio.",null,null,null,null,null,null,{"$f":"IF(I55=\"Sí\",1,0)","v":0}]
[]
[]
[null,null,null,null,"NOTAS"]
[]
[null,null,null,null,"DOCUMENTOS JUSTIFICATIVOS"]
[]
[null,null,null,null,"AS 02.01","Plantas del edificio y la parcela donde se ubiquen y definan claramente los espacios que permitan el cumplimiento del indicador"]
[]
[null,null,null,null,"AS 02.02","Breve memoria justificativa del cumplimiento de las medidas puntuadas que incluya la información adecuada para su descripción: planos, fotografías, memorias, etc."]
[]
[null,null,null,null,"VALORACIÓN DEL CRITERIO",null,{"$f":"SUM(M46:M55)*0.25*G42","v":0}]
[]
[]
[]
[null,null,null,null,{"$f":"'Matriz VERDE-GBCe'!V45","v":"AS 03"},{"$f":"VLOOKUP($E70,'Matriz VERDE-GBCe'!$V$7:$Y$51,2,FALSE)","v":"Derecho al sol"},{"$f":"VLOOKUP($E70,'Matriz VERDE-GBCe'!$V$7:$Y$51,3,FALSE)","v":1.6607628728374148E-2},null,null,null,null,null,{"$f":"IF(DG!F31=\"\",\"\",DG!F31)","v":""},{"$f":"IF(DG!F29=\"\",\"\",DG!F29)","v":""}]
[]
[null,null,null,null,null,null,null,null,null,null,null,null,null,"RH/EE"]
[]
[null,null,null,null,null,{"$f":"IF(N70=\"Edificios sanitarios\",\"% de camas para pacientes  internos disfrutan de soleamiento, al menos, de dos horas entre las 9:00 y las 15:00 horas del día 22 de diciembre\",\"% de unidades residenciales que tienen su estanacia principal soleada, al menos , dos horas entre las 9:00 y las 15:00 horas solares del día 22 de diciembre\")","v":"% de unidades residenciales que tienen su estanacia principal soleada, al menos , dos horas entre las 9:00 y las 15:00 horas solares del día 22 de diciembre"},null,null,null,null,null,null,{"$f":"IF(G70=\"\",0,IF(I74<0.5,0,IF(I74=1,G70,((((I74*100)-50)/50))*G70)))","v":0},{"$f":"IF(I74=\"\",0,IF(I74<0.25,0,IF(I74>0.75,G70,((((I74*100)-25)/50))*G70)))","v":0},{"$f":"IF(OR(M70=\"Rehabilitación\",M70=\"Edificio existente\"),N74,M74)","v":0}]
[null,null,null,null,null,null,null,null,null,null,null,null,{"$f":"IF(N70=\"Edificios sanitarios\",IF(I74=1,G70,0),0)","v":0}]
[]
[]
[null,null,null,null,"NOTAS"]
[]
[null,null,null,null,"DOCUMENTOS JUSTIFICATIVOS"]
[]
[null,null,null,null,"AS 03.01","Planos de proyecto donde se recogen las orientaciones de las unidades residenciales o de las viviendas"]
[]
[null,null,null,null,"AS 03.02","Planos de situación indicando las obstrucciones solares que puedan afectar al edificio"]
[]
[null,null,null,null,"AS 03.03","Estudio de soleamiento del edificio teniendo en cuenta las obstrucciones solares"]
[]
[null,null,null,null,"VALORACIÓN DEL CRITERIO",null,{"$f":"IF(N70=\"Edificios sanitarios\",M75,O74)","v":0}]
[]
[]
[]
[null,null,null,null,{"$f":"'Matriz VERDE-GBCe'!V46","v":"AS 04"},{"$f":"VLOOKUP($E92,'Matriz VERDE-GBCe'!$V$7:$Y$51,2,FALSE)","v":"Derecho a la intimidad"},{"$f":"VLOOKUP($E92,'Matriz VERDE-GBCe'!$V$7:$Y$51,3,FALSE)","v":1.6017249345448948E-2}]
[]
[null,null,null,null,null,"Porcentaje de espacios que disfrutan de intimidad en sus espacios interiores"]
[]
[]
[null,null,null,null,"NOTAS"]
[]
[null,null,null,null,"DOCUMENTOS JUSTIFICATIVOS"]
[]
[null,null,null,null,"AS 04.01","Planos del proyecto y memoria donde se indiquen las posiciones de las ventanas y la situación de elementos, a menos de 20 m del edificio en los que se pueda situar un observador"]
[]
[null,null,null,null,"AS 04.02","Cuadro de cálculo del porcentaje de viviendas, unidades residenciales y habitaciones (en uso sanitario) que cuentan con las características que cumplen con el criterio"]
[]
[null,null,null,null,"VALORACIÓN DEL CRITERIO",null,{"$f":"IF(I94<=0.5,0,((I94-0.5)/0.5)*G92)","v":0}]
[]
[]
[]
[null,null,null,null,{"$f":"'Matriz VERDE-GBCe'!V47","v":"AS 05"},{"$f":"VLOOKUP($E109,'Matriz VERDE-GBCe'!$V$7:$Y$51,2,FALSE)","v":"Contacto visual con el exterior"},{"$f":"VLOOKUP($E109,'Matriz VERDE-GBCe'!$V$7:$Y$51,3,FALSE)","v":1.7018327429539504E-2}]
[]
[null,null,null,null,null,{"$f":"IF(OR(O111=\"Alojamiento y hospedaje\",O111=\"\"),\"Todas las unidades disfrutan de contacto visual con el exterior\",IF(O111=\"Edificios sanitarios\",\"Todas las camas para pacientes internos disfrutan de contacto visual con el exterior\",\"\"))","v":"Todas las unidades disfrutan de contacto visual con el exterior"},null,null,null,null,null,null,{"$f":"IF(I111=\"Sí\",G109,0)","v":0},null,{"$f":"IF(DG!F29=\"\",\"\",DG!F29)","v":""}]
[]
[null,null,null,null,null,{"$f":"IF(OR(O111=\"Edificios administrativos\",O111=\"Edificios deportivos\"),\"Porcentaje de superficies de trabajo o uso frecuente que disfrutan de contacto visual con el exterior\",IF(O111=\"Edificios docentes\",\"Porcentaje de superficies de aulas y despachos que disfrutan de contacto visual con el exterior\",\"\"))","v":""},null,null,null,null,null,null,{"$f":"IF(I113<0.7,0,(I113-0.7)/0.3)*G109","v":0}]
[]
[]
[null,null,null,null,"NOTAS",null,null,null,null,null,null,null,{"$f":"IF(I113<0.5,0,((I113-0.5)/0.5)*G109)","v":0}]
[]
[null,null,null,null,"DOCUMENTOS JUSTIFICATIVOS"]
[]
[null,null,null,null,"AI 05.01","Planos de planta, en formato que permita la comprobación de las medidas con herramientas de libre acceso, en los que deben figurar los polígonos que determinan la superficie de las estancias o espacios de trabajo que tienen acceso a las vistas del exterior, así como el valor de dicha superficie"]
[]
[null,null,null,null,"AI 05.02","Memoria de cálculo en la que figure la superficie útil de cada estancia, superficie con acceso visual de cada estancia y porcentaje de cumplimiento del indicador "]
[]
[null,null,null,null,"VALORACIÓN DEL CRITERIO",null,{"$f":"IF(O111=\"\",0,IF(OR(O111=\"Alojamiento y hospedaje\",O111=\"Edificios sanitarios\"),M111,IF(O111=\"Edificios deportivos\",M116,M113)))","v":0}]
[]
[]
[]
[null,null,null,null,{"$f":"'Matriz VERDE-GBCe'!V48","v":"AS 06"},{"$f":"VLOOKUP($E128,'Matriz VERDE-GBCe'!$V$7:$Y$51,2,FALSE)","v":"Espacios abiertos privados"},{"$f":"VLOOKUP($E128,'Matriz VERDE-GBCe'!$V$7:$Y$51,3,FALSE)","v":1.735202012423636E-2}]
[]
[null,null,null,null,null,"Todas las plantas o unidades funcionales de uso del edificio cuentan con un espacio abierto privado de calidad con unasuperficie adecuada al número previsto de ocupantes."]
[]
[]
[null,null,null,null,"NOTAS"]
[]
[null,null,null,null,"DOCUMENTOS JUSTIFICATIVOS"]
[]
[null,null,null,null,"AS 06.03","Planos de cada una de las plantas del edificio en el que se pueda ver con claridad los espacios abiertos privados y que cumplen con las especificaciones del criterio"]
[]
[null,null,null,null,"VALORACIÓN DEL CRITERIO",null,{"$f":"IF(I130=\"Sí\",G128,0)","v":0}]
[]
[]
[]
[null,null,null,null,{"$f":"'Matriz VERDE-GBCe'!V49","v":"AS 07"},{"$f":"VLOOKUP($E143,'Matriz VERDE-GBCe'!$V$7:$Y$51,2,FALSE)","v":"Diseño inclusivo"},{"$f":"VLOOKUP($E143,'Matriz VERDE-GBCe'!$V$7:$Y$51,3,FALSE)","v":1.9764874993582836E-2}]
[]
[null,null,null,null,null,"Se prevé una señalización específica para personas con discapacidad cognitiva"]
[]
[null,null,null,null,null,"Se prevé acceso a todos los espacios de uso habitual del edificio"]
[]
[null,null,null,null,null,"Se prevé una mejora sustancial de la accesibilidad no contemplada en las medidas anteriores"]
[]
[null,null,null,null,"NOTAS"]
[]
[null,null,null,null,"DOCUMENTOS JUSTIFICATIVOS"]
[]
[null,null,null,null,"AS 07.01","Memoria de accesibilidad con indicación de las señales cognitivas instaladas, su ubicación y características"]
[]
[null,null,null,null,"AS 07.02","Planos del edificio, en formato que permita la comprobación de las medidas con herramientas de libre acceso. Estos planos deben contener las medidas adoptadas para mejorar la accesibilidad al edificio y los itinerarios accesibles o las viviendas accesibles."]
[]
[null,null,null,null,"AS 07.03","Breve memoria justificativa del cumplimiento de las medidas puntuadas"]
[]
[null,null,null,null,"VALORACIÓN DEL CRITERIO",null,{"$f":"(IF(I145=\"Sí\",G143*0.3))+(IF(I147=\"Sí\",G143*0.5))+(IF(I149=\"Sí\",G143*0.2))","v":0}]
[]
[]
[]
[null,null,null,null,{"$f":"'Matriz VERDE-GBCe'!V50","v":"AS 08"},{"$f":"VLOOKUP($E165,'Matriz VERDE-GBCe'!$V$7:$Y$51,2,FALSE)","v":"Conexión con la naturaleza"},{"$f":"VLOOKUP($E165,'Matriz VERDE-GBCe'!$V$7:$Y$51,3,FALSE)","v":2.6053698855177373E-2}]
[]
[null,null,null,null,null,"El edificio cuanta con espacios abiertos ajardinados que cumplen con las especificaciones del criterio",null,null,null,null,null,null,null,{"$f":"IF(I167=\"Sí\",0.25*G165,0)","v":0}]
[]
[null,null,null,null,null,"Los ocupantes tienen contacto visual con espacios vegetados desde zonas de paso, espacios comunes o zonas de trabajo",null,null,null,null,null,null,null,{"$f":"IF(I169=\"Sí\",0.25*G165,0)","v":0}]
[]
[]
[null,null,null,null,null,"Para introducir la naturaleza en el edificio se han planteado alguna de estas medidas"]
[null,null,null,null,null,"Ubicación pródiga de plantas en las zonas comunes del edificio",null,null,null,null,null,null,null,{"$f":"IF(I173=\"Sí\",0.4*0.35*G165,0)","v":0}]
[]
[null,null,null,null,null,"Ubicación de espacios que puedan dar servicio a la avifauna como refugio y garantizar que no supondrán un problema para el sistema constructivo o molestias para los ususarios",null,null,null,null,null,null,null,{"$f":"IF(I175=\"Sí\",0.3*0.35*G165,0)","v":0}]
[]
[]
[null,null,null,null,null,"Presencia en el exterior de plantas con flores que atraigan insectos polinizadores",null,null,null,null,null,null,null,{"$f":"IF(I178=\"Sí\",0.15*0.35*G165,0)","v":0}]
[]
[null,null,null,null,null,"Instalación de estructuras que sirvan de soporte para insectos (hoteles de insectos)",null,null,null,null,null,null,null,{"$f":"IF(I180=\"Sí\",0.15*0.35*G165,0)","v":0}]
[]
[null,null,null,null,null,"El edificio cuenta con elementos que faciliten la conviviencia con perros",null,null,null,null,null,null,null,{"$f":"IF(I182=\"Sí\",0.15*G165,0)","v":0}]
[]
[null,null,null,null,"NOTAS"]
[]
[null,null,null,null,"DOCUMENTOS JUSTIFICATIVOS"]
[]
[null,null,null,null,"AS 08.01","Planos del edificio, en formato que permita la comprobación de las medidas con herramientas de libre acceso, en los que se señalen las zonas ajardinadas y el cumplimiento de las especificaciones del criterio"]
[]
[null,null,null,null,"AS 08.02","Estudio que contenga la justificación de la elección de especies en función de los cambios de estaciones climatológicas y el diseño biodiverso con cualidades formales y cromáticas"]
[]
[null,null,null,null,"AS 08.03","Planos del edificio en los que se justifique que las viviendas o espacios evaluados cuentan con contacto visual con elementos vegetales"]
[]
[null,null,null,null,"AS 08.04","Breve memoria justificativa del cumplimiento de las medidas implementadas para introducir la naturaleza en el edificio y facilitar la convivencia con los perros, que incluya la información adecuada para su descripción, planos, fotografías, memorias, etc."]
[]
[null,null,null,null,"VALORACIÓN DEL CRITERIO",null,{"$f":"SUM(N167:N182)","v":0}]
[]
[]
[]
[null,null,null,null,{"$f":"'Matriz VERDE-GBCe'!V51","v":"AS 09"},{"$f":"VLOOKUP($E200,'Matriz VERDE-GBCe'!$V$7:$Y$51,2,FALSE)","v":"El edificio como herramienta de comunicación"},{"$f":"VLOOKUP($E200,'Matriz VERDE-GBCe'!$V$7:$Y$51,3,FALSE)","v":1.8455772883618257E-2}]
[]
[null,null,null,null,null,"Se ha definido un paln de comunicación conforme al criterio"]
[]
[null,null,null,null,null,"Se garantiza que los datos de consumo general del edificio serán públicos"]
[]
[null,null,null,null,null,"Hay un compromiso de facilitar información sobre el edificio a entidades aducacionales"]
[]
[null,null,null,null,null,"Se incentivará la difución del conocimiento del funcionamiento del edificio"]
[]
[null,null,null,null,"NOTAS"]
[]
[null,null,null,null,"DOCUMENTOS JUSTIFICATIVOS"]
[]
[null,null,null,null,"AS 09.01","Declaración de intenciones donde se recoja el compromiso de promotor(a) y proyectistas de cumplir con las medidas descritas. Esta declaración de intenciones debe detallar claramente cómo se adoptarán las medidas, cada cuánto tiempo y a través de qué medio se harán públicos los consumos; planes de presentación y comunicación de las buenas prácticas del edificio, al menos con una previsión de un año vista indicando los medios con que se cuenta; etc."]
[]
[null,null,null,null,"VALORACIÓN DEL CRITERIO",null,{"$f":"(IF(I202=\"Sí\",G200*0.25,0))+(IF(I204=\"Sí\",G200*0.25,0))+(IF(I206=\"Sí\",G200*0.25,0))+(IF(I208=\"Sí\",G200*0.25,0))","v":0}]
[]
[]
[]
[]
[null,null,null,null,null,null,"VALORACIÓN ÁREA"]
[]
[null,null,null,null,null,null,"SUBTOTAL",null,{"$f":"G38+G66+G88+G105+G124+G139+G161+G196+G216","v":0}]
[]
[null,null,null,null,null,null,"SOBRE",null,{"$f":"VLOOKUP(C$3,'Matriz VERDE-GBCe'!$U$4:$Y$51,4,FALSE)","v":0.16715437137430056}]
[]
[]
[]
[]
[]
[null,null,null,null,null,null,"SÍ",null,"x"]

{"sheet":"AS 03","index":30,"n_rows":68,"n_cols":37,"rows_kept":68,"cut":false,"hidden":false,"merged":[[9,5,9,6],[11,4,11,6],[11,31,12,32],[1,2,1,33],[2,2,2,33],[4,3,5,3],[6,3,8,3],[7,5,7,6],[8,5,8,6]]}
[]
[null,null,"Derecho al sol"]
[null,null,"VERDE Edificios 2020 Usos distintos del Residencial Privado"]
[]
[null,null,null,"Horas de soleamiento SOLSTICIO DE INVIERNO",null,"CIUDAD","LATITUD"]
[null,null,null,null,null,"LaCoruña",{"$f":"VLOOKUP(F6,capitales!M3:P54,2)","v":37.765740000000001}]
[null,null,null,{"$f":"IF(AND(AI15=\"\",'AUX - DATOS'!I4<='AUX - DATOS'!W77,'AUX - DATOS'!L4>='AUX - DATOS'!W131),AK7-AJ7,IF(AND(AI15=\"\",'AUX - DATOS'!I4>='AUX - DATOS'!W77,'AUX - DATOS'!I4<='AUX - DATOS'!W131),AK7-AG14,IF(AND(AI15=\"\",'AUX - DATOS'!L4>='AUX - DATOS'!W77,'AUX - DATOS'!L4<='AUX - DATOS'!W131),AG15-AJ7,IFERROR('AUX - DATOS'!W186,\"\"))))","v":"06:00:00"},null,null,null,null,null,null,null,null,null,null,null,null,null,null,null,null,null,null,null,null,null,null,null,null,null,null,null,null,null,null,null,"09:00:00","15:00:00"]
[null,null,null,null,null,"AZIMUT DE LA FACHADA (o)"]
[null,null,null,null,null,-20,null,null,null,null,null,null,null,null,null,null,null,null,null,null,null,null,null,null,null,null,null,null,"x","y"]
[null,null,null,null,null,null,null,null,null,null,null,null,null,null,null,null,null,null,null,null,null,null,null,null,null,null,null,null,4,5]
[null,null,null,null,null,null,null,null,null,null,null,null,null,null,null,null,null,null,null,null,null,null,null,null,null,null,null,null,null,null,null,null,null,null,null,{"$f":"AG16-AJ7","v":{"$error":"#VALUE!"}}]
[null,null,null,null,"DEFINICIÓN DE OBSTÁCULOS",null,null,null,null,null,null,null,null,null,null,null,null,null,null,null,null,null,null,null,null,null,null,null,null,null,null,"HORAS DE CORTE DE OBSTRUCCIONES \nCON CURVA SOLSTICIO DE INVIERNO",null,null,null,{"$f":"AG17-AG18","v":{"$error":"#VALUE!"}}]
[null,null,null,null,"AZIMUT (ωx)","DISTANCIA (d)","ALTURA (h)"]
[null,null,null,"punto A",null,null,null,null,null,null,null,null,null,null,null,null,null,null,null,null,null,null,null,null,null,null,null,null,{"$f":"AD10/AC10","v":1.25},null,null,"lado este de la fachada",{"$f":"'AUX - DATOS'!X139","v":"-"}]
[null,null,null,"punto B",null,null,null,null,null,null,null,null,null,null,null,null,null,null,null,null,null,null,null,null,null,null,null,null,null,null,null,"lado oeste de la fachada",{"$f":"'AUX - DATOS'!AY139","v":"-"},null,{"$f":"IF(AND(E14=\"\",E15=\"\",E16=\"\",E17=\"\",E18=\"\",E19=\"\",E20=\"\",E21=\"\",E22=\"\",E23=\"\",E24=\"\",E25=\"\",E26=\"\",E27=\"\",E28=\"\",E29=\"\",E30=\"\",E31=\"\",E32=\"\",E33=\"\",E34=\"\",E35=\"\",E36=\"\",E37=\"\",E38=\"\",E39=\"\"),\"\",\"OK\")","v":""}]
[null,null,null,"punto C",null,null,null,null,null,null,null,null,null,null,null,null,null,null,null,null,null,null,null,null,null,null,null,null,"","",null,{"$f":"IF(AND('AUX - DATOS'!Y$172<>\"\",'AUX - DATOS'!Y$172<>'AUX - DATOS'!$U$131),\"corte obstáculo 1\",\"\")","v":""},{"$f":"IF(AF16<>\"\",'AUX - DATOS'!Y$172,\"\")","v":""},null,null,"",""]
[null,null,null,"punto D",null,null,null,null,null,null,null,null,null,null,null,null,null,null,null,null,null,null,null,null,null,null,null,null,null,null,null,{"$f":"IF(AND('AUX - DATOS'!Z$172<>\"\",'AUX - DATOS'!Z$172<>'AUX - DATOS'!$U$131),\"corte obstáculo 2\",\"\")","v":""},{"$f":"IF(AF17<>\"\",'AUX - DATOS'!Z$172,\"\")","v":""}]
[null,null,null,"punto E",null,null,null,null,null,null,null,null,null,null,null,null,null,null,null,null,null,null,null,null,null,null,null,null,{"$f":"IF(AC10=0,90,(ATAN(AD10/AC10)*180/PI()))","v":51.340191745909912},null,null,{"$f":"IF(AND('AUX - DATOS'!AA$172<>\"\",'AUX - DATOS'!AA$172<>'AUX - DATOS'!$U$131),\"corte obstáculo 3\",\"\")","v":""},{"$f":"IF(AF18<>\"\",'AUX - DATOS'!AA$172,\"\")","v":""}]
[null,null,null,"punto F",null,null,null,null,null,null,null,null,null,null,null,null,null,null,null,null,null,null,null,null,null,null,null,null,null,null,null,{"$f":"IF(AND('AUX - DATOS'!AB$172<>\"\",'AUX - DATOS'!AB$172<>'AUX - DATOS'!$U$131),\"corte obstáculo 4\",\"\")","v":""},{"$f":"IF(AF19<>\"\",'AUX - DATOS'!AB$172,\"\")","v":""}]
[null,null,null,"punto G",null,null,null,null,null,null,null,null,null,null,null,null,null,null,null,null,null,null,null,null,null,null,null,null,null,null,null,{"$f":"IF(AND('AUX - DATOS'!AC$172<>\"\",'AUX - DATOS'!AC$172<>'AUX - DATOS'!$U$131),\"corte obstáculo 5\",\"\")","v":""},{"$f":"IF(AF20<>\"\",'AUX - DATOS'!AC$172,\"\")","v":""}]
[null,null,null,"punto H",null,null,null,null,null,null,null,null,null,null,null,null,null,null,null,null,null,null,null,null,null,null,null,null,{"$f":"SIN(RADIANS(AC10))","v":6.9756473744125302E-2},null,null,{"$f":"IF(AND('AUX - DATOS'!AD$172<>\"\",'AUX - DATOS'!AD$172<>'AUX - DATOS'!$U$131),\"corte obstáculo 6\",\"\")","v":""},{"$f":"IF(AF21<>\"\",'AUX - DATOS'!AD$172,\"\")","v":""}]
[null,null,null,"punto I",null,null,null,null,null,null,null,null,null,null,null,null,null,null,null,null,null,null,null,null,null,null,null,null,null,null,null,{"$f":"IF(AND('AUX - DATOS'!AE$172<>\"\",'AUX - DATOS'!AE$172<>'AUX - DATOS'!$U$131),\"corte obstáculo 7\",\"\")","v":""},{"$f":"IF(AF22<>\"\",'AUX - DATOS'!AE$172,\"\")","v":""}]
[null,null,null,"punto J",null,null,null,null,null,null,null,null,null,null,null,null,null,null,null,null,null,null,null,null,null,null,null,null,{"$f":"DEGREES(ASIN(AC21))","v":4},null,null,{"$f":"IF(AND('AUX - DATOS'!AF$172<>\"\",'AUX - DATOS'!AF$172<>'AUX - DATOS'!$U$131),\"corte obstáculo 8\",\"\")","v":""},{"$f":"IF(AF23<>\"\",'AUX - DATOS'!AF$172,\"\")","v":""}]
[null,null,null,"punto K",null,null,null,null,null,null,null,null,null,null,null,null,null,null,null,null,null,null,null,null,null,null,null,null,null,null,null,{"$f":"IF(AND('AUX - DATOS'!AG$172<>\"\",'AUX - DATOS'!AG$172<>'AUX - DATOS'!$U$131),\"corte obstáculo 9\",\"\")","v":""},{"$f":"IF(AF24<>\"\",'AUX - DATOS'!AG$172,\"\")","v":""}]
[null,null,null,"punto L",null,null,null,null,null,null,null,null,null,null,null,null,null,null,null,null,null,null,null,null,null,null,null,null,null,null,null,{"$f":"IF(AND('AUX - DATOS'!AH$172<>\"\",'AUX - DATOS'!AH$172<>'AUX - DATOS'!$U$131),\"corte obstáculo 10\",\"\")","v":""},{"$f":"IF(AF25<>\"\",'AUX - DATOS'!AH$172,\"\")","v":""}]
[null,null,null,"punto M",null,null,null,null,null,null,null,null,null,null,null,null,null,null,null,null,null,null,null,null,null,null,null,null,null,null,null,{"$f":"IF(AND('AUX - DATOS'!AI$172<>\"\",'AUX - DATOS'!AI$172<>'AUX - DATOS'!$U$131),\"corte obstáculo 11\",\"\")","v":""},{"$f":"IF(AF26<>\"\",'AUX - DATOS'!AI$172,\"\")","v":""}]
[null,null,null,"punto N",null,null,null,null,null,null,null,null,null,null,null,null,null,null,null,null,null,null,null,null,null,null,null,null,null,null,null,{"$f":"IF(AND('AUX - DATOS'!AJ$172<>\"\",'AUX - DATOS'!AJ$172<>'AUX - DATOS'!$U$131),\"corte obstáculo 12\",\"\")","v":""},{"$f":"IF(AF27<>\"\",'AUX - DATOS'!AJ$172,\"\")","v":""}]
[null,null,null,"punto O",null,null,null,null,null,null,null,null,null,null,null,null,null,null,null,null,null,null,null,null,null,null,null,null,null,null,null,{"$f":"IF(AND('AUX - DATOS'!AK$172<>\"\",'AUX - DATOS'!AK$172<>'AUX - DATOS'!$U$131),\"corte obstáculo 13\",\"\")","v":""},{"$f":"IF(AF28<>\"\",'AUX - DATOS'!AK$172,\"\")","v":""}]
[null,null,null,"punto P",null,null,null,null,null,null,null,null,null,null,null,null,null,null,null,null,null,null,null,null,null,null,null,null,null,null,null,{"$f":"IF(AND('AUX - DATOS'!AL$172<>\"\",'AUX - DATOS'!AL$172<>'AUX - DATOS'!$U$131),\"corte obstáculo 14\",\"\")","v":""},{"$f":"IF(AF29<>\"\",'AUX - DATOS'!AL$172,\"\")","v":""}]
[null,null,null,"punto Q",null,null,null,null,null,null,null,null,null,null,null,null,null,null,null,null,null,null,null,null,null,null,null,null,null,null,null,{"$f":"IF(AND('AUX - DATOS'!AM$172<>\"\",'AUX - DATOS'!AM$172<>'AUX - DATOS'!$U$131),\"corte obstáculo 15\",\"\")","v":""},{"$f":"IF(AF30<>\"\",'AUX - DATOS'!AM$172,\"\")","v":""}]
[null,null,null,"punto R",null,null,null,null,null,null,null,null,null,null,null,null,null,null,null,null,null,null,null,null,null,null,null,null,null,null,null,{"$f":"IF(AND('AUX - DATOS'!AN$172<>\"\",'AUX - DATOS'!AN$172<>'AUX - DATOS'!$U$131),\"corte obstáculo 16\",\"\")","v":""},{"$f":"IF(AF31<>\"\",'AUX - DATOS'!AN$172,\"\")","v":""}]
[null,null,null,"punto S",null,null,null,null,null,null,null,null,null,null,null,null,null,null,null,null,null,null,null,null,null,null,null,null,null,null,null,{"$f":"IF(AND('AUX - DATOS'!AO$172<>\"\",'AUX - DATOS'!AO$172<>'AUX - DATOS'!$U$131),\"corte obstáculo 17\",\"\")","v":""},{"$f":"IF(AF32<>\"\",'AUX - DATOS'!AO$172,\"\")","v":""}]
[null,null,null,"punto T",null,null,null,null,null,null,null,null,null,null,null,null,null,null,null,null,null,null,null,null,null,null,null,null,null,null,null,{"$f":"IF(AND('AUX - DATOS'!AP$172<>\"\",'AUX - DATOS'!AP$172<>'AUX - DATOS'!$U$131),\"corte obstáculo 18\",\"\")","v":""},{"$f":"IF(AF33<>\"\",'AUX - DATOS'!AP$172,\"\")","v":""}]
[null,null,null,"punto U",null,null,null,null,null,null,null,null,null,null,null,null,null,null,null,null,null,null,null,null,null,null,null,null,null,null,null,{"$f":"IF(AND('AUX - DATOS'!AQ$172<>\"\",'AUX - DATOS'!AQ$172<>'AUX - DATOS'!$U$131),\"corte obstáculo 19\",\"\")","v":""},{"$f":"IF(AF34<>\"\",'AUX - DATOS'!AQ$172,\"\")","v":""}]
[null,null,null,"punto V"]
[null,null,null,"punto W"]
[null,null,null,"punto X"]
[null,null,null,"punto Y"]
[null,null,null,"punto Z"]
[]
[]
[]
[null,null,null,"punto A",-120,20,0,null,null,null,-120,20,0]
[null,null,null,"punto B",-120,20,5,null,null,null,-120,20,4]
[null,null,null,"punto C",-74.2,18,5,null,null,null,-74.2,18,4]
[null,null,null,"punto D",-74.2,18,7,null,null,null,-74.2,18,6]
[null,null,null,"punto E",10,17,7,null,null,null,31.7,17,6]
[null,null,null,"punto F",15,28,15,null,null,null,58.9,28,6]
[null,null,null,"punto G",20,28,15,null,null,null,58.9,28,0]
[null,null,null,"punto H",20,28,5]
[null,null,null,"punto I",25,30,5]
[null,null,null,"punto J",30,30,6]
[null,null,null,"punto K",30,30,0]
[null,null,null,"punto L",35.79,30,0]
[null,null,null,"punto M",35.79,30,15]
[null,null,null,"punto N",150,30,15]
[null,null,null,"punto O"]
[null,null,null,"punto P"]
[null,null,null,"punto Q"]
[null,null,null,"punto R"]
[null,null,null,"punto S"]
[null,null,null,"punto T"]
[null,null,null,"punto U"]
[null,null,null,"punto V"]
[null,null,null,"punto W"]
[null,null,null,"punto X"]
[null,null,null,"punto Y"]
[null,null,null,"punto Z"]

{"sheet":"AUX - DATOS","index":31,"n_rows":186,"n_cols":141,"rows_kept":186,"cut":false,"hidden":true,"merged":[[46,5,46,6],[5,1,5,2],[6,1,6,2],[7,1,7,2],[9,1,9,2],[46,3,46,4],[46,87,46,88],[46,7,46,8],[46,9,46,10],[46,11,46,12],[46,13,46,14],[46,15,46,16],[46,22,46,23],[46,77,46,78],[46,79,46,80],[46,81,46,82],[46,83,46,84],[46,85,46,86],[46,111,46,112],[46,89,46,90],[46,91,46,92],[46,93,46,94],[46,95,46,96],[46,97,46,98],[46,99,46,100],[46,125,46,126],[72,24,72,49],[72,51,72,76],[142,22,143,22],[170,22,171,22],[46,113,46,114],[46,115,46,116],[46,117,46,118],[46,119,46,120],[46,121,46,122],[46,123,46,124],[46,101,46,102],[46,103,46,104],[46,105,46,106],[46,107,46,108],[46,109,46,110]]}
[]
[]
[null,"CIUDAD","LATITUD",null,"Azimut LADO ESTE","Altura ","Azimut lado OESTE","Altura solar",{"$f":"B7-80","v":-100},"fachada altura ESTE","fachada altura OESTE",null,"Azimut LADO ESTE","Azimut lado OESTE",null,null,"ESTE",null,null,null,null,"OESTE"]
[null,{"$f":"'AS 03'!F6","v":"LaCoruña"},{"$f":"'AS 03'!G6","v":37.765740000000001},null,{"$f":"E7","v":-150},0,{"$f":"G7","v":150},0,{"$f":"IF(E5<0,E5,ABS(E5))","v":-100},{"$f":"IFERROR(R34,\"\")","v":"-"},{"$f":"W34","v":"-"},{"$f":"IF(G5<0,G5,ABS(G5))","v":60},{"$f":"B7-80","v":-100},{"$f":"B7+80","v":60},null,null,null,"ALTURA","AZIMUT",null,null,null,"ALTURA"]
[null,null,null,null,{"$f":"M10","v":-100},0,{"$f":"M15","v":60},0,null,{"$f":"MIN(R77:R101)","v":{"$error":"#NUM!"}},{"$f":"MIN(S77:S101)","v":{"$error":"#NUM!"}},null,"corrección","corrección"]
[null,"AZIMUT DE LA FACHADA (º)",null,null,{"$f":"E5","v":-100},90,{"$f":"G5","v":60},90,null,null,{"$f":"IFERROR((VLOOKUP(K5,R77:X101,7)),\"\")","v":""},null,{"$f":"IF(M4<=-180,360+M4,M4)","v":-100},{"$f":"IF(N4>=180,N4-360,N4)","v":60},null,null,{"$f":"ABS(S6-$I$4)","v":57.652158333558894},{"$f":"X77","v":15.618897349342992},{"$f":"W77","v":-42.347841666441106},null,null,{"$f":"ABS(S6-$L$4)","v":102.3478416664411},{"$f":"X77","v":15.618897349342992}]
[null,{"$f":"'AS 03'!F9","v":-20},null,null,{"$f":"M12","v":-150},90,{"$f":"M17","v":150},90,null,null,null,null,"corrección 2","corrección 2",null,null,{"$f":"ABS(S7-$I$4)","v":60.61725979160196},{"$f":"X78","v":17.558639851621194},{"$f":"W78","v":-39.38274020839804},null,null,{"$f":"ABS(S7-$L$4)","v":99.382740208398047},{"$f":"X78","v":17.558639851621194}]
[null,"SUR = 0   ESTE = -90   OESTE = 90",null,null,null,null,null,null,null,null,null,null,{"$f":"IF(M6>=150,150,IF(M6<-150,-150,M6))","v":-100},{"$f":"IF(N6<=-150,-150,IF(N6>150,150,N6))","v":60},null,null,63.696370178011698,19.377513820516317,-36.303629821988302,null,null,96.303629821988295,19.377513820516317]
[null,null,null,null,null,null,null,null,null,null,null,null,"Azimut LADO ESTE","Altura ",null,null,66.891353531284437,21.065571729149902,-33.108646468715563,null,null,93.108646468715563,21.065571729149902]
[null,"DEFINICIÓN DE OBSTÁCULOS",null,null,null,null,null,null,null,null,null,{"$f":"A12","v":"A"},{"$f":"M8","v":-100},0,null,null,70.202147823158995,22.612640378106839,-29.797852176841001,null,null,89.797852176841005,22.612640378106839]
[null,"AZIMUT","ALTURA",null,null,null,null,null,null,null,null,{"$f":"A13","v":"B"},{"$f":"M10","v":-100},90,null,null,73.626413382093233,24.00849851616438,-26.373586617906771,null,null,86.373586617906767,24.00849851616438]
["A",{"$f":"IF('AS 03'!E14=\"\",\"\",'AS 03'!E14)","v":""},{"$f":"IF('AS 03'!F14=\"\",\"\",(ATAN('AS 03'!G14/'AS 03'!F14)*180/PI()))","v":""},null,{"$f":"IFERROR(B12+0.5,\"\")","v":""},null,null,null,null,null,null,{"$f":"A14","v":"C"},{"$f":"IF(AND(B7>-100,B7<130),-150,M15)","v":-150},90,null,null,77.159215048020371,25.243099002571746,-22.840784951979622,null,null,82.840784951979629,25.243099002571746]
["B",{"$f":"IF('AS 03'!E15=\"\",\"\",'AS 03'!E15)","v":""},{"$f":"IF('AS 03'!F15=\"\",\"\",(ATAN('AS 03'!G15/'AS 03'!F15)*180/PI()))","v":""},null,{"$f":"IFERROR(B13,\"\")","v":""},null,null,null,null,null,null,{"$f":"A15","v":"D"},{"$f":"M12","v":-150},0,null,null,80.792778562265624,26.306831868249027,-19.207221437734376,null,null,79.207221437734376,26.306831868249027]
["C",{"$f":"IF('AS 03'!E16=\"\",\"\",'AS 03'!E16)","v":""},{"$f":"IF('AS 03'!F16=\"\",\"\",(ATAN('AS 03'!G16/'AS 03'!F16)*180/PI()))","v":""},null,{"$f":"IFERROR(B14+0.5,\"\")","v":""},null,null,null,null,null,null,null,"Azimut lado OESTE","Altura solar",null,null,84.516365866193709,27.190819076348156,-15.483634133806289,null,null,75.483634133806291,27.190819076348156]
["D",{"$f":"IF('AS 03'!E17=\"\",\"\",'AS 03'!E17)","v":""},{"$f":"IF('AS 03'!F17=\"\",\"\",(ATAN('AS 03'!G17/'AS 03'!F17)*180/PI()))","v":""},null,{"$f":"IFERROR(B15,\"\")","v":""},null,null,null,null,null,null,{"$f":"A16","v":"E"},{"$f":"N8","v":60},0,null,null,88.316311812145287,27.887225643677976,-11.683688187854719,null,null,71.683688187854713,27.887225643677976]
["E",{"$f":"IF('AS 03'!E18=\"\",\"\",'AS 03'!E18)","v":""},{"$f":"IF('AS 03'!F18=\"\",\"\",(ATAN('AS 03'!G18/'AS 03'!F18)*180/PI()))","v":""},null,{"$f":"IFERROR(B16+0.5,\"\")","v":""},null,null,null,null,null,null,{"$f":"A17","v":"F"},{"$f":"M15","v":60},90,null,null,92.176254187756911,28.389566091457663,-7.8237458122430912,null,null,67.823745812243089,28.389566091457663]
["F",{"$f":"IF('AS 03'!E19=\"\",\"\",'AS 03'!E19)","v":""},{"$f":"IF('AS 03'!F19=\"\",\"\",(ATAN('AS 03'!G19/'AS 03'!F19)*180/PI()))","v":""},null,{"$f":"IFERROR(B17,\"\")","v":""},null,null,null,null,null,null,{"$f":"A18","v":"G"},{"$f":"IF(AND(B7<100,B7>-130),150,M10)","v":150},90,null,null,96.077569434325426,28.692981272009366,-3.9224305656745768,null,null,63.922430565674574,28.692981272009366]
["G",{"$f":"IF('AS 03'!E20=\"\",\"\",'AS 03'!E20)","v":""},{"$f":"IF('AS 03'!F20=\"\",\"\",(ATAN('AS 03'!G20/'AS 03'!F20)*180/PI()))","v":""},null,{"$f":"IFERROR(B18+0.5,\"\")","v":""},null,null,null,null,null,null,{"$f":"A19","v":"H"},{"$f":"M17","v":150},0,null,null,{"$error":"#NUM!"},28.79445978024744,{"$error":"#NUM!"},null,null,{"$error":"#NUM!"},28.79445978024744]
["H",{"$f":"IF('AS 03'!E21=\"\",\"\",'AS 03'!E21)","v":""},{"$f":"IF('AS 03'!F21=\"\",\"\",(ATAN('AS 03'!G21/'AS 03'!F21)*180/PI()))","v":""},null,{"$f":"IFERROR(B19,\"\")","v":""},null,null,null,null,null,null,null,null,null,null,null,103.92243056567457,28.692981272009366,3.9224305656745768,null,null,56.077569434325426,28.692981272009366]
["I",{"$f":"IF('AS 03'!E22=\"\",\"\",'AS 03'!E22)","v":""},{"$f":"IF('AS 03'!F22=\"\",\"\",(ATAN('AS 03'!G22/'AS 03'!F22)*180/PI()))","v":""},null,{"$f":"IFERROR(B20+0.5,\"\")","v":""},null,null,null,null,null,null,null,{"$f":"IF(AND(B7>=-100,B7<130),-150,M15)","v":-150},null,null,null,107.82374581224309,28.389566091457663,7.8237458122430912,null,null,52.176254187756911,28.389566091457663]
["J",{"$f":"IF('AS 03'!E23=\"\",\"\",'AS 03'!E23)","v":""},{"$f":"IF('AS 03'!F23=\"\",\"\",(ATAN('AS 03'!G23/'AS 03'!F23)*180/PI()))","v":""},null,{"$f":"IFERROR(B21,\"\")","v":""},null,null,null,null,null,null,null,{"$f":"IF(AND(B7<100,B7>-130),150,M10)","v":150},null,null,null,111.68368818785471,27.887225643677976,11.683688187854719,null,null,48.31631181214528,27.887225643677976]
["K",{"$f":"IF('AS 03'!E24=\"\",\"\",'AS 03'!E24)","v":""},{"$f":"IF('AS 03'!F24=\"\",\"\",(ATAN('AS 03'!G24/'AS 03'!F24)*180/PI()))","v":""},null,{"$f":"IFERROR(B22+0.5,\"\")","v":""},null,null,null,null,null,null,null,null,null,null,null,115.48363413380629,27.190819076348156,15.483634133806289,null,null,44.516365866193709,27.190819076348156]
["L",{"$f":"IF('AS 03'!E25=\"\",\"\",'AS 03'!E25)","v":""},{"$f":"IF('AS 03'!F25=\"\",\"\",(ATAN('AS 03'!G25/'AS 03'!F25)*180/PI()))","v":""},null,{"$f":"IFERROR(B23,\"\")","v":""},null,null,null,null,null,null,null,null,null,null,null,119.20722143773438,26.306831868249027,19.207221437734376,null,null,40.792778562265624,26.306831868249027]
["M",{"$f":"IF('AS 03'!E26=\"\",\"\",'AS 03'!E26)","v":""},{"$f":"IF('AS 03'!F26=\"\",\"\",(ATAN('AS 03'!G26/'AS 03'!F26)*180/PI()))","v":""},null,{"$f":"IFERROR(B24+0.5,\"\")","v":""},null,null,null,null,null,null,null,null,null,null,null,122.84078495197963,25.243099002571746,22.840784951979622,null,null,37.159215048020378,25.243099002571746]
["N",{"$f":"IF('AS 03'!E27=\"\",\"\",'AS 03'!E27)","v":""},{"$f":"IF('AS 03'!F27=\"\",\"\",(ATAN('AS 03'!G27/'AS 03'!F27)*180/PI()))","v":""},null,{"$f":"IFERROR(B25,\"\")","v":""},null,null,null,null,null,null,null,null,null,null,null,126.37358661790677,24.00849851616438,26.373586617906771,null,null,33.626413382093233,24.00849851616438]
["O",{"$f":"IF('AS 03'!E28=\"\",\"\",'AS 03'!E28)","v":""},{"$f":"IF('AS 03'!F28=\"\",\"\",(ATAN('AS 03'!G28/'AS 03'!F28)*180/PI()))","v":""},null,{"$f":"IFERROR(B26+0.5,\"\")","v":""},null,null,null,null,null,null,null,null,null,null,null,129.79785217684099,22.612640378106839,29.797852176841001,null,null,30.202147823158999,22.612640378106839]
["P",{"$f":"IF('AS 03'!E29=\"\",\"\",'AS 03'!E29)","v":""},{"$f":"IF('AS 03'!F29=\"\",\"\",(ATAN('AS 03'!G29/'AS 03'!F29)*180/PI()))","v":""},null,{"$f":"IFERROR(B27,\"\")","v":""},null,null,null,null,null,null,null,null,null,null,null,133.10864646871556,21.065571729149902,33.108646468715563,null,null,26.891353531284437,21.065571729149902]
["Q",{"$f":"IF('AS 03'!E30=\"\",\"\",'AS 03'!E30)","v":""},{"$f":"IF('AS 03'!F30=\"\",\"\",(ATAN('AS 03'!G30/'AS 03'!F30)*180/PI()))","v":""},null,{"$f":"IFERROR(B28+0.5,\"\")","v":""},null,null,null,null,null,null,null,null,null,null,null,136.3036298219883,19.377513820516317,36.303629821988302,null,null,23.696370178011698,19.377513820516317]
["R",{"$f":"IF('AS 03'!E31=\"\",\"\",'AS 03'!E31)","v":""},{"$f":"IF('AS 03'!F31=\"\",\"\",(ATAN('AS 03'!G31/'AS 03'!F31)*180/PI()))","v":""},null,{"$f":"IFERROR(B29,\"\")","v":""},null,null,null,null,null,null,null,null,null,null,null,139.38274020839805,17.558639851621194,39.38274020839804,null,null,20.61725979160196,17.558639851621194]
["S",{"$f":"IF('AS 03'!E32=\"\",\"\",'AS 03'!E32)","v":""},{"$f":"IF('AS 03'!F32=\"\",\"\",(ATAN('AS 03'!G32/'AS 03'!F32)*180/PI()))","v":""},null,{"$f":"IFERROR(B30+0.5,\"\")","v":""},null,null,null,null,null,null,null,null,null,null,null,142.3478416664411,15.618897349342992,42.347841666441106,null,null,17.652158333558894,15.618897349342992]
["T",{"$f":"IF('AS 03'!E33=\"\",\"\",'AS 03'!E33)","v":""},{"$f":"IF('AS 03'!F33=\"\",\"\",(ATAN('AS 03'!G33/'AS 03'!F33)*180/PI()))","v":""},null,{"$f":"IFERROR(B31,\"\")","v":""}]
["U",{"$f":"IF('AS 03'!E34=\"\",\"\",'AS 03'!E34)","v":""},{"$f":"IF('AS 03'!F34=\"\",\"\",(ATAN('AS 03'!G34/'AS 03'!F34)*180/PI()))","v":""},null,{"$f":"IFERROR(B32+0.5,\"\")","v":""},null,null,null,null,null,null,null,null,null,null,"diferencia menor",{"$f":"IF(AND(Q6=\"-\",Q7=\"-\",Q8=\"-\",Q9=\"-\",Q10=\"-\",Q11=\"-\",Q12=\"-\",Q13=\"-\",Q14=\"-\",Q15=\"-\",Q16=\"-\",Q17=\"-\",Q18=\"-\",Q19=\"-\",Q20=\"-\",Q21=\"-\",Q22=\"-\",Q23=\"-\",Q24=\"-\",Q25=\"-\",Q26=\"-\",Q27=\"-\",Q28=\"-\",Q29=\"-\",Q30=\"-\"),\"\",MIN(Q6:Q30))","v":{"$error":"#NUM!"}},null,null,null,"diferencia menor",{"$f":"IF(AND(V6=\"-\",V7=\"-\",V8=\"-\",V9=\"-\",V10=\"-\",V11=\"-\",V12=\"-\",V13=\"-\",V14=\"-\",V15=\"-\",V16=\"-\",V17=\"-\",V18=\"-\",V19=\"-\",V20=\"-\",V21=\"-\",V22=\"-\",V23=\"-\",V24=\"-\",V25=\"-\",V26=\"-\",V27=\"-\",V28=\"-\",V29=\"-\",V30=\"-\"),\"\",MIN(V6:V30))","v":{"$error":"#NUM!"}}]
["V",{"$f":"IF('AS 03'!E35=\"\",\"\",'AS 03'!E35)","v":""},{"$f":"IF('AS 03'!F35=\"\",\"\",(ATAN('AS 03'!G35/'AS 03'!F35)*180/PI()))","v":""},null,{"$f":"IFERROR(B33,\"\")","v":""}]
["W",{"$f":"IF('AS 03'!E36=\"\",\"\",'AS 03'!E36)","v":""},{"$f":"IF('AS 03'!F36=\"\",\"\",(ATAN('AS 03'!G36/'AS 03'!F36)*180/PI()))","v":""},null,{"$f":"IFERROR(B34+0.5,\"\")","v":""},null,null,null,null,null,null,null,null,null,null,"altura cruce",null,{"$f":"IFERROR(VLOOKUP(Q32,Q6:R30,2,FALSE),\"-\")","v":"-"},null,null,"altura cruce",null,{"$f":"IFERROR(VLOOKUP(V32,V6:W30,2,FALSE),\"-\")","v":"-"}]
["X",{"$f":"IF('AS 03'!E37=\"\",\"\",'AS 03'!E37)","v":""},{"$f":"IF('AS 03'!F37=\"\",\"\",(ATAN('AS 03'!G37/'AS 03'!F37)*180/PI()))","v":""},null,{"$f":"IFERROR(B35,\"\")","v":""},null,null,null,null,null,null,null,null,null,null,null,null,null,null,null,null,null,null,{"$f":"PI()/180*ASIN((SIN(#REF!*PI()/180)*COS(X$46*PI()/180))/COS(V53*PI()/180))","v":{"$error":"#REF!"}},{"$f":"PI()/180*ASIN((-SIN(#REF!*PI()/180)*COS(X$46*PI()/180))/COS(90-V53*PI()/180))","v":{"$error":"#REF!"}}]
["Y",{"$f":"IF('AS 03'!E38=\"\",\"\",'AS 03'!E38)","v":""},{"$f":"IF('AS 03'!F38=\"\",\"\",(ATAN('AS 03'!G38/'AS 03'!F38)*180/PI()))","v":""},null,{"$f":"IFERROR(B36+0.5,\"\")","v":""}]
["Z",{"$f":"IF('AS 03'!E39=\"\",\"\",'AS 03'!E39)","v":""},{"$f":"IF('AS 03'!F39=\"\",\"\",(ATAN('AS 03'!G39/'AS 03'!F39)*180/PI()))","v":""},null,{"$f":"IFERROR(B37,\"\")","v":""}]
[null,"","",null,{"$f":"IFERROR(B38+0.5,\"\")","v":""},null,null,null,null,null,null,{"$f":"23.45*SIN(360*((284+B138)/365))","v":21.969428744507944}]
[null,"","",null,{"$f":"IFERROR(B39,\"\")","v":""},null,null,null,null,null,null,null,null,null,null,null,null,null,null,null,null,"formula conviertiendo en radianes",{"$f":"-180/PI()*(ACOS((-SIN((X$46*PI()/180))*COS(($C$4*PI()/180))+COS((X$46*PI()/180))*SIN(($C$4*PI()/180))*COS((X$46*PI()/180)))/COS((V53*PI()/180))))","v":-33.865788473772227}]
[]
[null,null,null,"FÓRMULA DECLINACIÓN SOLAR",null,"http://www.pveducation.org/pvcdrom/properties-of-sunlight/declination-angle",null,null,null,null,null,"FORMULA AZIMUT Y ALTURA",null,"http://www.pveducation.org/es/fotovoltaica/propiedades-de-la-luz-del-sol/posici%C3%B3n-del-sol"]
[null,null,null,{"$f":"COS(360/365.24*(B138+10)*PI()/180)*-23.44","v":-23.439800219752563},null,null,null,null,null,null,null,null,null,null,null,null,null,null,null,null,null,null,"FORMULA AZIMUT Y ALTURA","http://www.pveducation.org/es/fotovoltaica/propiedades-de-la-luz-del-sol/posici%C3%B3n-del-sol"]
[]
[]
[null,null,null,"JULIAN  DAY","DECLINACIÓN","JULIAN  DAY","DECLINACIÓN","JULIAN  DAY","DECLINACIÓN","JULIAN  DAY","DECLINACIÓN","JULIAN  DAY","DECLINACIÓN","JULIAN  DAY","DECLINACIÓN","JULIAN  DAY","DECLINACIÓN",null,null,null,null,null,"JULIAN  DAY","DECLINACIÓN"]
[null,null,null,355,{"$f":"COS(360/365.24*(D46+10)*PI()/180)*-23.44","v":-23.439800219752563},21,{"$f":"COS(360/365.24*(F46+10)*PI()/180)*-23.44","v":-20.185105932889975},52,{"$f":"COS(360/365.24*(H46+10)*PI()/180)*-23.44","v":-11.324377262968429},263.94,{"$f":"COS(360/365.24*(J46+10)*PI()/180)*-23.44","v":-4.0323585279214225E-3},110,{"$f":"COS(360/365.24*(L46+10)*PI()/180)*-23.44","v":11.104843563392468},140,{"$f":"COS(360/365.24*(N46+10)*PI()/180)*-23.44","v":19.8452228714686},173,{"$f":"COS(360/365.24*(P46+10)*PI()/180)*-23.44","v":23.439499163090691},null,null,null,null,null,355,{"$f":"COS(360/365.24*(W46+10)*PI()/180)*-23.44","v":-23.439800219752563}]
[null,null,null,"SOLSTICIO DE INVIERNO",null,"21 Ene/Nov",null,"21 Feb/Oct",null,"EQUINOCIOS",null,"21 Abr/Ago",0,"21 May/Jul",0,"SOLSTICIO DE VERANO",null,null,null,null,null,null,"SOLSTICIO DE INVIERNO",null,null,null,null,null,null,null,null,null,null,null,null,null,null,null,null,null,null,null,null,null,null,null,null,null,null,null,null,{"$f":"BZ47","v":"RECTA A-B"},{"$f":"CB47","v":"RECTA B-C"},{"$f":"CD47","v":"RECTA C-D"},{"$f":"CF47","v":"RECTA D-E"},{"$f":"CH47","v":"RECTA E-F"},{"$f":"CJ47","v":"RECTA F-G"},{"$f":"CL47","v":"RECTA G-H"},{"$f":"CN47","v":"RECTA H-I"},{"$f":"CP47","v":"RECTA I-J"},{"$f":"CR47","v":"RECTAJ-K"},{"$f":"CT47","v":"RECTA K-L"},{"$f":"CV47","v":"RECTA L-M"},{"$f":"CX47","v":"RECTA M-N"},{"$f":"CZ47","v":"RECTA N-O"},{"$f":"DD47","v":"RECTA P-Q"},{"$f":"DF47","v":"RECTA Q-R"},{"$f":"DH47","v":"RECTA R-S"},{"$f":"DJ47","v":"RECTA S-T"},{"$f":"DL47","v":"RECTA T-U"},{"$f":"DN47","v":"RECTA U-V"},{"$f":"DP47","v":"RECTA V-W"},{"$f":"DR47","v":"RECTA W-X"},{"$f":"DT47","v":"RECTA X-Y"},{"$f":"DV47","v":"RECTA Y-Z"},null,null,"RECTA A-B",null,"RECTA B-C",null,"RECTA C-D",null,"RECTA D-E",null,"RECTA E-F",null,"RECTA F-G",null,"RECTA G-H",null,"RECTA H-I",null,"RECTA I-J",null,"RECTAJ-K",null,"RECTA K-L",null,"RECTA L-M",null,"RECTA M-N",null,"RECTA N-O",null,"RECTA O-P",null,"RECTA P-Q",null,"RECTA Q-R",null,"RECTA R-S",null,"RECTA S-T",null,"RECTA T-U",null,"RECTA U-V",null,"RECTA V-W",null,"RECTA W-X",null,"RECTA X-Y",null,"RECTA Y-Z"]
[null,"Hora Solar (hr)","Ángulo solar","AZIMUT","ALTURA","AZIMUT","ALTURA","AZIMUT","ALTURA","AZIMUT","ALTURA","AZIMUT","ALTURA","AZIMUT","ALTURA","AZIMUT","ALTURA",null,{"$f":"15/4","v":3.75},null,"HORA SOLAR","ÁNGULO HORARIO","AZIMUT","ALTURA",null,null,null,null,null,null,null,null,null,null,null,null,null,null,null,null,null,null,null,null,null,null,null,null,null,null,null,null,null,null,null,null,null,null,null,null,null,null,null,null,null,null,null,null,null,null,null,null,null,null,null,null,null,"AZIMUT","ALTURA","AZIMUT","ALTURA","AZIMUT","ALTURA","AZIMUT","ALTURA","AZIMUT","ALTURA","AZIMUT","ALTURA","AZIMUT","ALTURA","AZIMUT","ALTURA","AZIMUT","ALTURA","AZIMUT","ALTURA","AZIMUT","ALTURA","AZIMUT","ALTURA","AZIMUT","ALTURA","AZIMUT","ALTURA","AZIMUT","ALTURA","AZIMUT","ALTURA","AZIMUT","ALTURA","AZIMUT","ALTURA","AZIMUT","ALTURA","AZIMUT","ALTURA","AZIMUT","ALTURA","AZIMUT","ALTURA","AZIMUT","ALTURA","AZIMUT","ALTURA","AZIMUT","ALTURA",{"$f":"IFERROR(VLOOKUP(ABS($B10),$W$89:$X$101,2,TRUE),\"\")","v":""}]
[null,"02:00:00",-150,{"$f":"-DEGREES(ACOS((-SIN(RADIANS(E$46))*COS(RADIANS($C$4))+COS(RADIANS(E$46))*SIN(RADIANS($C$4))*COS(RADIANS($C49)))/COS(RADIANS(E49))))","v":-110.57036108022865},{"$f":"180/PI()*ASIN(SIN(E$46*PI()/180)*SIN($C$4*PI()/180)+COS(E$46*PI()/180)*COS($C$4*PI()/180)*COS($C49*PI()/180))","v":-60.660754422364427},{"$f":"-DEGREES(ACOS((-SIN(RADIANS(G$46))*COS(RADIANS($C$4))+COS(RADIANS(G$46))*SIN(RADIANS($C$4))*COS(RADIANS($C49)))/COS(RADIANS(G49))))","v":-115.61882429365504},-58.637071442705697,{"$f":"-DEGREES(ACOS((-SIN(RADIANS(I$46))*COS(RADIANS($C$4))+COS(RADIANS(I$46))*SIN(RADIANS($C$4))*COS(RADIANS($C49)))/COS(RADIANS(I49))))","v":-126.65457700197894},{"$f":"180/PI()*ASIN(SIN(I$46*PI()/180)*SIN($C$4*PI()/180)+COS(I$46*PI()/180)*COS($C$4*PI()/180)*COS($C49*PI()/180))","v":-52.329913239491773},{"$f":"-DEGREES(ACOS((-SIN(RADIANS(K$46))*COS(RADIANS($C$4))+COS(RADIANS(K$46))*SIN(RADIANS($C$4))*COS(RADIANS($C49)))/COS(RADIANS(K49))))","v":-136.68604028770076},{"$f":"180/PI()*ASIN(SIN(K$46*PI()/180)*SIN($C$4*PI()/180)+COS(K$46*PI()/180)*COS($C$4*PI()/180)*COS($C49*PI()/180))","v":-43.208455665742946},{"$f":"-DEGREES(ACOS((-SIN(RADIANS(M$46))*COS(RADIANS($C$4))+COS(RADIANS(M$46))*SIN(RADIANS($C$4))*COS(RADIANS($C49)))/COS(RADIANS(M49))))","v":-143.89507412653799},{"$f":"180/PI()*ASIN(SIN(M$46*PI()/180)*SIN($C$4*PI()/180)+COS(M$46*PI()/180)*COS($C$4*PI()/180)*COS($C49*PI()/180))","v":-33.630529381900381},{"$f":"-DEGREES(ACOS((-SIN(RADIANS(O$46))*COS(RADIANS($C$4))+COS(RADIANS(O$46))*SIN(RADIANS($C$4))*COS(RADIANS($C49)))/COS(RADIANS(O49))))","v":-148.4927465938035},{"$f":"180/PI()*ASIN(SIN(O$46*PI()/180)*SIN($C$4*PI()/180)+COS(O$46*PI()/180)*COS($C$4*PI()/180)*COS($C49*PI()/180))","v":-25.851814202283578},{"$f":"-DEGREES(ACOS((-SIN(RADIANS(Q$46))*COS(RADIANS($C$4))+COS(RADIANS(Q$46))*SIN(RADIANS($C$4))*COS(RADIANS($C49)))/COS(RADIANS(Q49))))","v":-150.2020081826897},{"$f":"180/PI()*ASIN(SIN(Q$46*PI()/180)*SIN($C$4*PI()/180)+COS(Q$46*PI()/180)*COS($C$4*PI()/180)*COS($C49*PI()/180))","v":-22.61291244147413},null,null,null,null,null,null,null,null,null,null,null,null,null,null,null,null,null,null,null,null,null,null,null,null,null,null,null,null,null,null,null,null,null,null,null,null,null,null,null,null,null,null,null,null,null,null,null,null,null,null,null,null,null,null,null,null,null,null,null,null,null,null,null,null,null,null,null,null,null,null,null,null,null,null,null,null,null,null,null,null,null,null,null,null,null,null,null,null,null,null,null,null,null,null,null,null,null,null,null,null,null,null,null,null,null,null,null,null,null,null,""]
[null,"02:15:00",{"$f":"C49+$S$48","v":-146.25},{"$f":"-DEGREES(ACOS((-SIN(RADIANS(E$46))*COS(RADIANS($C$4))+COS(RADIANS(E$46))*SIN(RADIANS($C$4))*COS(RADIANS($C50)))/COS(RADIANS(E50))))","v":-106.6811033472728},-57.851415628899638,{"$f":"-DEGREES(ACOS((-SIN(RADIANS(G$46))*COS(RADIANS($C$4))+COS(RADIANS(G$46))*SIN(RADIANS($C$4))*COS(RADIANS($C50)))/COS(RADIANS(G50))))","v":-111.47801513819},-55.91922156117937,-122.27731317530504,{"$f":"180/PI()*ASIN(SIN(I$46*PI()/180)*SIN($C$4*PI()/180)+COS(I$46*PI()/180)*COS($C$4*PI()/180)*COS($C50*PI()/180))","v":-49.88541706245956},-132.50441114593471,{"$f":"180/PI()*ASIN(SIN(K$46*PI()/180)*SIN($C$4*PI()/180)+COS(K$46*PI()/180)*COS($C$4*PI()/180)*COS($C50*PI()/180))","v":-41.097136816482568},-140.09701394682511,{"$f":"180/PI()*ASIN(SIN(M$46*PI()/180)*SIN($C$4*PI()/180)+COS(M$46*PI()/180)*COS($C$4*PI()/180)*COS($C50*PI()/180))","v":-31.804980163963634},-145.03709566585255,{"$f":"180/PI()*ASIN(SIN(O$46*PI()/180)*SIN($C$4*PI()/180)+COS(O$46*PI()/180)*COS($C$4*PI()/180)*COS($C50*PI()/180))","v":-24.226841425640185},-146.89120169332736,{"$f":"180/PI()*ASIN(SIN(Q$46*PI()/180)*SIN($C$4*PI()/180)+COS(Q$46*PI()/180)*COS($C$4*PI()/180)*COS($C50*PI()/180))","v":-21.065837358458342},null,null,null,null,null,{"$f":"INT(W77)","v":-43},{"$f":"X77","v":15.618897349342992},null,null,null,null,null,null,null,null,null,null,null,null,null,null,null,null,null,null,null,null,null,null,null,null,null,null,null,null,null,null,null,null,null,null,null,null,null,null,null,null,null,null,null,null,null,null,null,null,null,null,null,null,null,null,null,null,null,null,null,null,null,null,null,null,null,null,null,null,null,null,null,null,null,null,null,null,null,null,null,null,null,null,null,null,null,null,null,null,null,null,null,null,null,null,null,null,null,null,null,null,null,null,null,""]
[null,"02:30:00",{"$f":"C50+$S$48","v":-142.5},{"$f":"-DEGREES(ACOS((-SIN(RADIANS(E$46))*COS(RADIANS($C$4))+COS(RADIANS(E$46))*SIN(RADIANS($C$4))*COS(RADIANS($C51)))/COS(RADIANS(E51))))","v":-103.23139195771296},-54.987391264569226,{"$f":"-DEGREES(ACOS((-SIN(RADIANS(G$46))*COS(RADIANS($C$4))+COS(RADIANS(G$46))*SIN(RADIANS($C$4))*COS(RADIANS($C51)))/COS(RADIANS(G51))))","v":-107.78319707864762},-53.126975222339794,-118.28402741677603,{"$f":"180/PI()*ASIN(SIN(I$46*PI()/180)*SIN($C$4*PI()/180)+COS(I$46*PI()/180)*COS($C$4*PI()/180)*COS($C51*PI()/180))","v":-47.325161179472708},-128.59157362383425,{"$f":"180/PI()*ASIN(SIN(K$46*PI()/180)*SIN($C$4*PI()/180)+COS(K$46*PI()/180)*COS($C$4*PI()/180)*COS($C51*PI()/180))","v":-38.844275550625568},-136.47946737298145,{"$f":"180/PI()*ASIN(SIN(M$46*PI()/180)*SIN($C$4*PI()/180)+COS(M$46*PI()/180)*COS($C$4*PI()/180)*COS($C51*PI()/180))","v":-29.832236382785986},-141.71306541368267,{"$f":"180/PI()*ASIN(SIN(O$46*PI()/180)*SIN($C$4*PI()/180)+COS(O$46*PI()/180)*COS($C$4*PI()/180)*COS($C51*PI()/180))","v":-22.458117960439168},-143.6962073754442,{"$f":"180/PI()*ASIN(SIN(Q$46*PI()/180)*SIN($C$4*PI()/180)+COS(Q$46*PI()/180)*COS($C$4*PI()/180)*COS($C51*PI()/180))","v":-19.377772757281402},null,null,{"$f":"AVERAGE(U51:U74)","v":{"$error":"#NUM!"}},{"$f":"W77-W78","v":-2.9651014580430655},-1.939742502278202,{"$f":"INT(W78)","v":-40},17.558639851621194,null,null,null,null,null,null,null,null,null,null,null,null,null,null,null,null,null,null,null,null,null,null,null,null,null,null,null,null,null,null,null,null,null,null,null,null,null,null,null,null,null,null,null,null,null,null,null,null,null,null,null,null,null,null,null,null,null,null,null,null,null,null,null,null,null,null,null,null,null,null,null,null,null,null,null,null,null,null,null,null,null,null,null,null,null,null,null,null,null,null,null,null,null,null,null,null,null,null,null,null,null,null,null,""]
[null,"02:45:00",{"$f":"C51+$S$48","v":-138.75},{"$f":"-DEGREES(ACOS((-SIN(RADIANS(E$46))*COS(RADIANS($C$4))+COS(RADIANS(E$46))*SIN(RADIANS($C$4))*COS(RADIANS($C52)))/COS(RADIANS(E52))))","v":-100.12222876562991},-52.084381168321777,{"$f":"-DEGREES(ACOS((-SIN(RADIANS(G$46))*COS(RADIANS($C$4))+COS(RADIANS(G$46))*SIN(RADIANS($C$4))*COS(RADIANS($C52)))/COS(RADIANS(G52))))","v":-104.44396907647123},-50.279007606169991,-114.61932037569366,{"$f":"180/PI()*ASIN(SIN(I$46*PI()/180)*SIN($C$4*PI()/180)+COS(I$46*PI()/180)*COS($C$4*PI()/180)*COS($C52*PI()/180))","v":-44.670925064741056},-124.92518312881819,{"$f":"180/PI()*ASIN(SIN(K$46*PI()/180)*SIN($C$4*PI()/180)+COS(K$46*PI()/180)*COS($C$4*PI()/180)*COS($C52*PI()/180))","v":-36.469053811656579},-133.03559315793794,{"$f":"180/PI()*ASIN(SIN(M$46*PI()/180)*SIN($C$4*PI()/180)+COS(M$46*PI()/180)*COS($C$4*PI()/180)*COS($C52*PI()/180))","v":-27.727000831450351},-138.51937346721019,{"$f":"180/PI()*ASIN(SIN(O$46*PI()/180)*SIN($C$4*PI()/180)+COS(O$46*PI()/180)*COS($C$4*PI()/180)*COS($C52*PI()/180))","v":-20.557032648313793},-140.61708716111499,{"$f":"180/PI()*ASIN(SIN(Q$46*PI()/180)*SIN($C$4*PI()/180)+COS(Q$46*PI()/180)*COS($C$4*PI()/180)*COS($C52*PI()/180))","v":-17.558891935212383},null,null,null,-3.079110386409738,-1.8188739688951223,-37,19.377513820516317,null,null,null,null,null,null,null,null,null,null,null,null,null,null,null,null,null,null,null,null,null,null,null,null,null,null,null,null,null,null,null,null,null,null,null,null,null,null,null,null,null,null,null,null,null,null,null,null,null,null,null,null,null,null,null,null,null,null,null,null,null,null,null,null,null,null,null,null,null,null,null,null,null,null,null,null,null,null,null,null,null,null,null,null,null,null,null,null,null,null,null,null,null,null,null,null,null,null,null,null,null,null,null,""]
[null,"03:00:00",-135,{"$f":"-DEGREES(ACOS((-SIN(RADIANS(E$46))*COS(RADIANS($C$4))+COS(RADIANS(E$46))*SIN(RADIANS($C$4))*COS(RADIANS($C53)))/COS(RADIANS(E53))))","v":-97.278697792980367},{"$f":"180/PI()*ASIN(SIN(E$46*PI()/180)*SIN($C$4*PI()/180)+COS(E$46*PI()/180)*COS($C$4*PI()/180)*COS($C53*PI()/180))","v":-49.154187030166788},{"$f":"-DEGREES(ACOS((-SIN(RADIANS(G$46))*COS(RADIANS($C$4))+COS(RADIANS(G$46))*SIN(RADIANS($C$4))*COS(RADIANS($C53)))/COS(RADIANS(G53))))","v":-101.3888570572577},{"$f":"180/PI()*ASIN(SIN(G$46*PI()/180)*SIN($C$4*PI()/180)+COS(G$46*PI()/180)*COS($C$4*PI()/180)*COS($C53*PI()/180))","v":-47.389659628672284},-111.23354420555877,{"$f":"180/PI()*ASIN(SIN(I$46*PI()/180)*SIN($C$4*PI()/180)+COS(I$46*PI()/180)*COS($C$4*PI()/180)*COS($C53*PI()/180))","v":-41.940612014465522},-121.48146051884653,{"$f":"180/PI()*ASIN(SIN(K$46*PI()/180)*SIN($C$4*PI()/180)+COS(K$46*PI()/180)*COS($C$4*PI()/180)*COS($C53*PI()/180))","v":-33.988473757079952},-129.75601494883736,{"$f":"180/PI()*ASIN(SIN(M$46*PI()/180)*SIN($C$4*PI()/180)+COS(M$46*PI()/180)*COS($C$4*PI()/180)*COS($C53*PI()/180))","v":-25.503036999764074},-135.45257780701033,{"$f":"180/PI()*ASIN(SIN(O$46*PI()/180)*SIN($C$4*PI()/180)+COS(O$46*PI()/180)*COS($C$4*PI()/180)*COS($C53*PI()/180))","v":-18.53459716250892},-137.65197689557212,{"$f":"180/PI()*ASIN(SIN(Q$46*PI()/180)*SIN($C$4*PI()/180)+COS(Q$46*PI()/180)*COS($C$4*PI()/180)*COS($C53*PI()/180))","v":-15.619142505865311},null,null,null,-3.1949833532727396,-1.688057908633585,-34,21.065571729149902,null,null,null,null,null,null,null,null,null,null,null,null,null,null,null,null,null,null,null,null,null,null,null,null,null,null,null,null,null,null,null,null,null,null,null,null,null,null,null,null,null,null,null,null,null,null,null,null,null,null,null,null,null,null,null,null,null,null,null,null,null,null,null,null,null,null,null,null,null,null,null,null,null,null,null,null,null,null,null,null,null,null,null,null,null,null,null,null,null,null,null,null,null,null,null,null,null,null,null,null,null,null,null,""]
[null,"03:15:00",{"$f":"C53+$S$48","v":-131.25},{"$f":"-DEGREES(ACOS((-SIN(RADIANS(E$46))*COS(RADIANS($C$4))+COS(RADIANS(E$46))*SIN(RADIANS($C$4))*COS(RADIANS($C54)))/COS(RADIANS(E54))))","v":-94.643399383552349},{"$f":"180/PI()*ASIN(SIN(E$46*PI()/180)*SIN($C$4*PI()/180)+COS(E$46*PI()/180)*COS($C$4*PI()/180)*COS($C54*PI()/180))","v":-46.205939063896551},-98.56118649841288,-44.470161824102867,-108.08315898179049,{"$f":"180/PI()*ASIN(SIN(I$46*PI()/180)*SIN($C$4*PI()/180)+COS(I$46*PI()/180)*COS($C$4*PI()/180)*COS($C54*PI()/180))","v":-39.148978324272242},-118.23653746711554,{"$f":"180/PI()*ASIN(SIN(K$46*PI()/180)*SIN($C$4*PI()/180)+COS(K$46*PI()/180)*COS($C$4*PI()/180)*COS($C54*PI()/180))","v":-31.417482572677265},-126.62966076122041,{"$f":"180/PI()*ASIN(SIN(M$46*PI()/180)*SIN($C$4*PI()/180)+COS(M$46*PI()/180)*COS($C$4*PI()/180)*COS($C54*PI()/180))","v":-23.17306674641523},-132.5075415691357,{"$f":"180/PI()*ASIN(SIN(O$46*PI()/180)*SIN($C$4*PI()/180)+COS(O$46*PI()/180)*COS($C$4*PI()/180)*COS($C54*PI()/180))","v":-16.401309394848731},-134.79743900116995,{"$f":"180/PI()*ASIN(SIN(Q$46*PI()/180)*SIN($C$4*PI()/180)+COS(Q$46*PI()/180)*COS($C$4*PI()/180)*COS($C54*PI()/180))","v":-13.568112589041736},null,null,null,-3.3107942918745614,-1.5470686489569374,-30,22.612640378106839,null,null,null,null,null,null,null,null,null,null,null,null,null,null,null,null,null,null,null,null,null,null,null,null,null,null,null,null,null,null,null,null,null,null,null,null,null,null,null,null,null,null,null,null,null,null,null,null,null,null,null,null,null,null,null,null,null,null,null,null,null,null,null,null,null,null,null,null,null,null,null,null,null,null,null,null,null,null,null,null,null,null,null,null,null,null,null,null,null,null,null,null,null,null,null,null,null,null,null,null,null,null,null,{"$f":"IFERROR(VLOOKUP(ABS($B16),$W$89:$X$101,2,TRUE),\"\")","v":""}]
[null,"03:30:00",{"$f":"C54+$S$48","v":-127.5},-92.171703899897963,-43.246917511466805,-95.915681182363571,-41.529505166947139,-105.13040837255271,-36.308266382917694,-115.16730005752964,-28.769165803540325,-123.644434002349,-20.74874087399682,-129.67785041333769,-14.167066351451604,-132.04879268672786,-11.414937092930037,null,null,null,-3.4242655589342306,-1.395858138057541,-27,24.00849851616438,null,null,{"$f":"IF(AND($C$14<$X84,$C$15>$X84),BB84,IF(AND($W84>=$B$14,$W84<=$B$15),BB84,\"-\"))","v":"-"},null,null,null,null,null,null,null,null,null,null,null,null,null,null,null,null,null,null,null,null,null,null,null,null,null,null,null,null,null,null,null,null,null,null,null,null,null,null,null,null,null,null,null,null,null,null,null,null,null,null,null,null,null,null,null,null,null,null,null,null,null,null,null,null,null,null,null,null,null,null,null,null,null,null,null,null,null,null,null,null,null,null,null,null,null,null,null,null,null,null,null,null,null,null,null,null,null,null,null,null,{"$f":"IFERROR(VLOOKUP(ABS($B17),$W$89:$X$101,2,TRUE),\"\")","v":""}]
[null,"03:45:00",{"$f":"C55+$S$48","v":-123.75},-89.828352396038284,-40.283111977858866,-93.415795125106882,-38.575062532194657,-102.34269312615332,-33.42873136131967,-112.25186099535325,-26.05496882817339,-120.78772117549661,-18.240661673012507,-126.95616800127431,-11.841117946026484,-129.40040681411921,-9.168238673904181,null,null,null,-3.5328016659271491,-1.2346004864073663,-23,25.243099002571746,null,null,null,null,null,null,null,null,null,null,null,null,null,null,null,null,null,null,null,null,null,null,null,null,null,null,null,null,null,null,null,null,null,null,null,null,null,null,null,null,null,null,null,null,null,null,null,null,null,null,null,null,null,null,null,null,null,null,null,null,null,null,null,null,null,null,null,null,null,null,null,null,null,null,null,null,null,null,null,null,null,null,null,null,null,null,null,null,null,null,null,null,null,null,null,null,null,null,null,null,null,null,null,""]
[null,"04:00:00",-120,-87.585018550922385,-37.31960987224334,-91.031665280027127,-35.613036385019498,-99.69185218404408,-30.51906960544386,-109.46977290136711,-23.284921403139045,-118.046754765975,-15.658440014652937,-124.33452465235887,-9.4320529630887524,-126.84594770773718,-6.8360973078539891,null,null,null,-3.633563514245246,-1.0637328656772809,-20,26.306831868249027,null,null,null,null,null,null,null,null,null,null,null,null,null,null,null,null,null,null,null,null,null,null,null,null,null,null,null,null,null,null,null,null,null,null,null,null,null,null,null,null,null,null,null,null,null,null,null,null,null,null,null,null,null,null,null,null,null,null,null,null,null,null,null,null,null,null,null,null,null,null,null,null,null,null,null,null,null,null,null,null,null,null,null,null,null,null,null,null,null,null,null,null,null,null,null,null,null,null,null,null,null,null,null,""]
[null,"04:15:00",{"$f":"C57+$S$48","v":-116.25},-85.418547843195597,-34.360872210663608,-88.738553536727935,-32.648785752576828,-97.153458194711092,-27.586763500922224,-106.80207017262637,-20.467851213574288,-115.40885508799279,-13.010773508464034,-121.8045406383047,-6.9478091956311845,-124.37857952561478,-4.4260424986819249,null,null,null,-3.7235873039280865,-0.88398720809912845,-16,27.190819076348156,null,null,null,null,null,null,null,null,null,null,null,null,null,null,null,null,null,null,null,null,null,null,null,null,null,null,null,null,null,null,null,null,null,null,null,null,null,null,null,null,null,null,null,null,null,null,null,null,null,null,null,null,null,null,null,null,null,null,null,null,null,null,null,null,null,null,null,null,null,null,null,null,null,null,null,null,null,null,null,null,null,null,null,null,null,null,null,null,null,null,null,null,null,null,null,null,null,null,null,null,null,null,null,""]
[null,"04:30:00",{"$f":"C58+$S$48","v":-112.5},-83.309673250826208,-31.410934278140275,-86.515661837352837,-29.687069171259427,-94.706175333764222,-24.638358542114048,-104.23120295365857,-17.611579695747956,-112.86157505750303,-10.305535911921483,-119.35758928511797,-4.3957009336270385,-121.99111835147056,-1.9450627042290183,null,null,null,-3.7999459459515705,-0.69640656732982009,-12,27.887225643677976,null,null,{"$f":"IF(AND($C$14<$X84,$C$15>$X84),BB84,\"-\")","v":"-"},null,null,null,null,null,null,null,null,null,null,null,null,null,null,null,null,null,null,null,null,null,null,null,null,null,null,null,null,null,null,null,null,null,null,null,null,null,null,null,null,null,null,null,null,null,null,null,null,null,null,null,null,null,null,null,null,null,null,null,null,null,null,null,null,null,null,null,null,null,null,null,null,null,null,null,null,null,null,null,null,null,null,null,null,null,null,null,null,null,null,null,null,null,null,null,null,null,null,null,null,""]
[null,"04:45:00",{"$f":"C59+$S$48","v":-108.75},-81.242067853665802,-28.473555599876963,-84.345227595750202,-26.732228922941605,-92.331195608162034,-21.679686896679581,-101.74090702877852,-14.723097973745073,-110.39276928691423,-7.5498710743264317,-116.98490670718499,-1.7824582999499397,-119.6761431843664,0.60037264673879398,null,null,null,-3.8599423756116273,-0.50234044777968734,-8,28.389566091457663,null,null,"-",null,null,null,null,null,null,null,null,null,null,null,null,null,null,null,null,null,null,null,null,null,null,null,null,null,null,null,null,null,null,null,null,null,null,null,null,null,null,null,null,null,null,null,null,null,null,null,null,null,null,null,null,null,null,null,null,null,null,null,null,null,null,null,null,null,null,null,null,null,null,null,null,null,null,null,null,null,null,null,null,null,null,null,null,null,null,null,null,null,null,null,null,null,null,null,null,null,null,null,null,""]
[null,"05:00:00",-105,-79.201637586138304,-25.552335405134858,-82.211828599581636,-23.788334097183878,-90.011753846291185,-18.716049548114217,-99.316038482497277,-11.808723431022582,-107.99060515224612,-4.7502871437730798,-114.67765522520597,0.88572578295667448,-117.42606784095985,3.2042822998998233,null,null,null,-3.9013152465685144,-0.30341518055170269,-4,28.692981272009366,null,null,"-",null,null,null,null,null,null,null,null,null,null,null,null,null,null,null,null,null,null,null,null,null,null,null,null,null,null,null,null,null,null,null,null,null,null,null,null,null,null,null,null,null,null,null,null,null,null,null,null,null,null,null,null,null,null,null,null,null,null,null,null,null,null,null,null,null,null,null,null,null,null,null,null,null,null,null,null,null,null,null,null,null,null,null,null,null,null,null,null,null,null,null,null,null,null,null,null,null,null,null,null,""]
[null,"05:15:00",{"$f":"C61+$S$48","v":-101.25},-77.175986957737308,-22.650804467563596,-80.101844569239489,-20.859294729094216,-87.732714345344974,-15.752366869306739,-96.942391222265059,-8.8742388900767004,-105.64352950500796,-1.9127486158569853,-112.42694683083749,3.603144054813983,-115.23317777158377,5.8611363840396482,null,null,null,{"$error":"#NUM!"},-0.10147850823807403,{"$error":"#NUM!"},28.79445978024744,null,null,"-",null,null,null,null,null,null,null,null,null,null,null,null,null,null,null,null,null,null,null,null,null,null,null,null,null,null,null,null,null,null,null,null,null,null,null,null,null,null,null,null,null,null,null,null,null,null,null,null,null,null,null,null,null,null,null,null,null,null,null,null,null,null,null,null,null,null,null,null,null,null,null,null,null,null,null,null,null,null,null,null,null,null,null,null,null,null,null,null,null,null,null,null,null,null,null,null,null,null,null,null,""]
[null,"05:30:00",{"$f":"C62+$S$48","v":-97.5},-75.154010883461339,-19.772500757331589,-78.003036423684037,-17.948955659389728,-85.480219575484639,-12.793305523119008,-94.606508023052214,-5.9250170778956743,-103.34020097681388,0.95723483736753101,-110.22383182818744,6.3645208740975878,-113.0896351898183,8.565815805185732,null,null,null,{"$error":"#NUM!"},0.10147850823807403,3,28.692981272009366,null,null,"-",null,null,null,null,null,null,null,null,null,null,null,null,null,null,null,null,null,null,null,null,null,null,null,null,null,null,null,null,null,null,null,null,null,null,null,null,null,null,null,null,null,null,null,null,null,null,null,null,null,null,null,null,null,null,null,{"$f":"($W77-$B$14)*($C$15-$C$14)/($B$15-$B$14)+$C$14","v":{"$error":"#VALUE!"}},null,null,null,null,null,null,null,null,null,null,null,null,null,null,null,null,null,null,null,null,null,null,null,null,null,null,null,null,null,null,null,null,null,null,null,null,null,null,null,null,null,null,null,null,""]
[null,"05:45:00",{"$f":"C63+$S$48","v":-93.75},-73.125579796250705,-16.921034056909456,-75.904214728758106,-15.061176289056295,-83.241391133106177,-9.8433879789269128,-92.295490769927341,-2.9661333318111036,-101.06939454961916,3.8545228313518103,-108.05925624410983,9.1649569053952966,-110.98745491129331,11.313569262852853,null,null,null,-3.9013152465685144,0.30341518055170269,7,28.389566091457663,null,null,"-",null,null,null,null,null,null,null,null,null,null,null,null,null,null,null,null,null,null,null,null,null,null,null,null,null,null,null,null,null,null,null,null,null,null,null,null,null,null,null,null,null,null,null,null,null,null,null,null,null,null,null,null,null,null,null,null,null,null,null,null,null,null,null,null,null,null,null,null,null,null,null,null,null,null,null,null,null,null,null,null,null,null,null,null,null,null,null,null,null,null,null,null,null,null,null,null,null,null,null,null,""]
[null,"06:00:00",-90,-71.081294994702446,-14.100143146997796,-73.794976570552222,-12.199900680141631,-81.004074053886768,-6.9070896606548366,-89.996812334455569,-2.4695553609657829E-3,-98.819882264701178,6.7742613716560918,-105.92398988173893,11.999873080193066,-108.91845199790751,14.099968729540603,null,null,null,-3.8599423756116273,0.50234044777968734,11,27.887225643677976,null,null,"-",null,null,null,null,null,null,null,null,null,null,null,null,null,null,null,null,null,null,null,null,null,null,null,null,null,null,null,null,null,null,null,null,null,null,null,null,null,null,null,null,null,null,null,null,null,null,null,null,null,null,null,null,null,null,null,null,null,null,null,null,null,null,"anterior",null,null,null,null,null,null,null,null,null,null,null,null,null,null,null,null,null,null,null,null,null,null,null,null,null,null,null,null,null,null,null,null,null,null,null,null,null,""]
[null,"06:15:00",{"$f":"C65+$S$48","v":-86.25},-69.012298100831202,-11.313748092097633,-71.665495903810779,-9.3692212328194699,-78.756617002875998,-3.9889277502205625,-87.698130497711574,2.961187606318247,-96.580291558885619,9.7118013787758031,-103.80852503202036,14.864953780826635,-106.87416074227458,16.920863711256555,null,null,null,-3.7999459459515705,0.69640656732982009,15,27.190819076348156,null,null,"-",null,null,null,null,null,null,null,null,null,null,null,null,null,null,null,null,null,null,null,null,null,null,null,null,null,null,null,null,null,null,null,null,null,null,null,null,null,null,null,null,null,null,null,null,null,null,null,null,null,null,null,null,null,null,null,null,null,null,null,null,null,null,{"$f":"IFERROR(VLOOKUP(CM73,$W$77:$X$101,1,TRUE),\"\")","v":""}]
[null,"06:30:00",{"$f":"C66+$S$48","v":-82.5},-66.910123501019569,-8.5659993722002294,-69.50635682888641,-6.5734382735811661,-76.487682454165125,-1.0935448992459706,-85.387103166774267,5.9200514622676241,-94.338940651512388,12.662616941695406,-101.7029438222747,17.756088660942563,-104.84572266955684,19.772334127689142,null,null,null,-3.7235873039280865,0.88398720809912845,19,26.306831868249027,null,null,null,null,null,null,null,null,null,null,null,null,null,null,null,null,null,null,null,null,null,null,null,null,null,null,null,null,null,null,null,null,null,null,null,null,null,null,null,null,null,null,null,null,null,null,null,null,null,null,null,null,null,"ALTURAS RECTAS INFINITAS"]
[null,"06:45:00",{"$f":"C67+$S$48","v":-78.75},-64.766586349806971,-5.8613250016875718,-67.308422672263077,-3.8171171989333574,-74.186082644858118,1.7742095093696604,-83.051203601297772,8.8692399725804307,-92.083648560258553,15.622221146528849,-99.596749874389232,20.669311986690584,-102.82373897632311,22.650641179544557,null,null,null,-3.633563514245246,1.0637328656772809,22,25.243099002571746]
[null,"07:00:00",-75,-62.573701556156045,-3.2044762678887024,-65.06273649778305,-1.1051442449814852,-71.840638830170306,4.6091984181578267,-80.67753436737685,11.803677576523375,-89.801515614227313,18.586076823078852,-97.478657214302075,23.600737804517081,-100.79807998607461,25.552175061908574,null,null,null,-3.5328016659271491,1.2346004864073663,26,24.00849851616438,{"$f":"IF($W77<$B12,\"-\",IF($W77>$B13,\"-\",#REF!))","v":"-"},{"$f":"IF($W77<$B13,\"-\",IF($W77>$B14,\"-\",#REF!))","v":"-"},{"$f":"IF($W77<$B14,\"-\",IF($W77>$B15,\"-\",BB77))","v":"-"},{"$f":"IFERROR(X77-BC77,\"-\")","v":"-"},{"$f":"IF($W77<$B16,\"-\",IF($W77>$B17,\"-\",BD77))","v":"-"},{"$f":"IF($W77<$B17,\"-\",IF($W77>$B18,\"-\",#REF!))","v":"-"},{"$f":"IF($W77<$B18,\"-\",IF($W77>$B19,\"-\",#REF!))","v":"-"},{"$f":"IF($W77<$B19,\"-\",IF($W77>$B20,\"-\",#REF!))","v":"-"},{"$f":"IF($W77<$B20,\"-\",IF($W77>$B21,\"-\",#REF!))","v":"-"},{"$f":"IF($W77<$B21,\"-\",IF($W77>$B22,\"-\",#REF!))","v":"-"},{"$f":"IF($W77<$B22,\"-\",IF($W77>$B23,\"-\",#REF!))","v":"-"},{"$f":"IF($W77<$B23,\"-\",IF($W77>$B24,\"-\",#REF!))","v":"-"},{"$f":"IF($W77<$B24,\"-\",IF($W77>$B25,\"-\",#REF!))","v":"-"},{"$f":"IF($W77<$B25,\"-\",IF($W77>$B26,\"-\",#REF!))","v":"-"},{"$f":"IF($W77<$B26,\"-\",IF($W77>$B27,\"-\",#REF!))","v":"-"},{"$f":"IF($W77<$B27,\"-\",IF($W77>$B28,\"-\",#REF!))","v":"-"},{"$f":"IF($W77<$B28,\"-\",IF($W77>$B29,\"-\",#REF!))","v":"-"},{"$f":"IF($W77<$B29,\"-\",IF($W77>$B30,\"-\",#REF!))","v":"-"},{"$f":"IF($W77<$B30,\"-\",IF($W77>$B31,\"-\",#REF!))","v":"-"},{"$f":"IF($W77<$B31,\"-\",IF($W77>$B32,\"-\",#REF!))","v":"-"},{"$f":"IF($W77<$B32,\"-\",IF($W77>$B33,\"-\",#REF!))","v":"-"},{"$f":"IF($W77<$B33,\"-\",IF($W77>$B34,\"-\",#REF!))","v":"-"},{"$f":"IF($W77<$B34,\"-\",IF($W77>$B35,\"-\",#REF!))","v":"-"},{"$f":"IF($W77<$B35,\"-\",IF($W77>$B36,\"-\",#REF!))","v":"-"},{"$f":"IF($W77<$B36,\"-\",IF($W77>$B37,\"-\",#REF!))","v":"-"}]
[null,"07:15:00",{"$f":"C69+$S$48","v":-71.25},-60.323631429347628,-0.60057225063419128,-62.760450985000418,1.5572185721909073,-69.440063230535742,7.4059148040897629,-78.252639267440173,14.717991243278645,-87.478668709653704,21.549498948382386,-95.336325999547711,26.546488545379223,-98.757640494588216,28.473397777098185,null,null,null,-3.4242655589342306,1.395858138057541,29,22.612640378106839,null,null,null,null,null,null,null,null,null,null,null,null,null,null,null,null,null,null,null,null,null,null,null,null,null,null,null,null,null,null,null,null,null,null,null,null,null,null,null,null,null,null,null,null,null,null,null,null,null,null,null,null,null,12,13,13,14,14,15,15,16,16,17,17,18,18,19,19,20,20,21,21,22,22,23,23,24,24,25,25,26,26,27,27,28,28,29,29,30,30,31,31,32,32,33,33,34,34,35,35,36,36,37]
[null,"07:30:00",{"$f":"C70+$S$48","v":-67.5},-58.008661519285475,1.9448571949922837,-60.39278763457412,4.1642793330535879,-66.972865132402532,10.15839685655496,-75.762313662046807,17.606397776995568,-85.099964029706442,24.507544685412878,-93.156030313583926,29.502613772992326,-96.690024879883936,31.410778517432181,null,null,null,-3.3107942918745614,1.5470686489569374,33,21.065571729149902,null,null,null,null,null,null,null,null,null,null,null,null,null,null,null,null,null,null,null,null,null,null,null,null,null,null,null,null,null,null,null,null,null,null,null,null,null,null,null,null,null,null,null,null,null,null,null,null,null,null,null,null,null,"A","B","B","C","C","D","D","E","E","F","f","g","g","h","h","i","i","j","j","k","k","l","l","m","m","n","n","o","o","p","p","q","q","r","r","s","s","t","t","u","u","v","v","w","w","x","x","y","y","z"]
[null,"07:45:00",{"$f":"C71+$S$48","v":-63.75},-55.621205747341037,4.4258308338672636,-57.951027093934293,6.7098634836461173,-64.427284980649915,12.8601400083776,-73.191415623593002,20.462579368394145,-82.648638645315003,27.454886058589622,-90.922237616465324,32.464994554568428,-94.581138930202059,34.360718011338882,null,null,null,-3.1949833532727396,1.688057908633585,36,19.377513820516317]
[null,"08:00:00",-60,-53.153843223386296,6.8358792606560757,-55.426534073253421,9.1872637580324703,-61.791263074477506,15.504005935641453,-70.523683603063702,23.27954444097584,-80.105901639804344,30.385659017943794,-88.617071927332745,35.429227204840387,-92.414655562305612,37.319456680830562,null,null,null,-3.079110386409738,1.8188739688951223,39,17.558639851621194,"ALTURAS TRAMO DE RECTA",null,null,null,null,null,null,null,null,null,null,null,null,null,null,null,null,null,null,null,null,null,null,null,null,null,null,"TODAS LAS ALTURAS PARA UNA RECTA INFINITA",null,null,null,null,null,null,null,null,null,null,null,null,null,null,null,null,null,null,null,null,null,null,null,null,null,{"$f":"IFERROR(VLOOKUP(CA73,$CG$108:$CH$132,2,TRUE),\"\")","v":""},{"$f":"CM140","v":"-"},{"$f":"IFERROR(VLOOKUP(CC73,$CG$108:$CH$132,2,TRUE),\"\")","v":""},{"$f":"CO140","v":"-"},{"$f":"IFERROR(VLOOKUP(CE73,$CG$108:$CH$132,2,TRUE),\"\")","v":""},{"$f":"CQ140","v":"-"},{"$f":"IFERROR(VLOOKUP(CG73,$CG$108:$CH$132,2,TRUE),\"\")","v":""},{"$f":"CS140","v":"-"},{"$f":"IFERROR(VLOOKUP(CI73,$CG$108:$CH$132,2,TRUE),\"\")","v":""},{"$f":"CU140","v":"-"},{"$f":"IFERROR(VLOOKUP(CK73,$CG$108:$CH$132,2,TRUE),\"\")","v":""},{"$f":"CW140","v":"-"},{"$f":"IFERROR(VLOOKUP(CM73,$CG$108:$CH$132,2,TRUE),\"\")","v":""},{"$f":"CY140","v":"-"},{"$f":"IFERROR(VLOOKUP(CO73,$CG$108:$CH$132,2,TRUE),\"\")","v":""},{"$f":"DA140","v":"-"},{"$f":"IFERROR(VLOOKUP(CQ73,$CG$108:$CH$132,2,TRUE),\"\")","v":""},{"$f":"DC140","v":"-"},{"$f":"IFERROR(VLOOKUP(CS73,$CG$108:$CH$132,2,TRUE),\"\")","v":""},{"$f":"DE140","v":"-"},{"$f":"IFERROR(VLOOKUP(CU73,$CG$108:$CH$132,2,TRUE),\"\")","v":""},{"$f":"DG140","v":"-"},{"$f":"IFERROR(VLOOKUP(CW73,$CG$108:$CH$132,2,TRUE),\"\")","v":""},{"$f":"DI140","v":"-"},{"$f":"IFERROR(VLOOKUP(CY73,$CG$108:$CH$132,2,TRUE),\"\")","v":""},{"$f":"DK140","v":"-"},{"$f":"IFERROR(VLOOKUP(DA73,$CG$108:$CH$132,2,TRUE),\"\")","v":""},{"$f":"DM140","v":"-"},{"$f":"IFERROR(VLOOKUP(DC73,$CG$108:$CH$132,2,TRUE),\"\")","v":""},{"$f":"DO140","v":"-"},{"$f":"IFERROR(VLOOKUP(DE73,$CG$108:$CH$132,2,TRUE),\"\")","v":""},{"$f":"DQ140","v":"-"},{"$f":"IFERROR(VLOOKUP(DG73,$CG$108:$CH$132,2,TRUE),\"\")","v":""},{"$f":"DS140","v":"-"},{"$f":"IFERROR(VLOOKUP(DI73,$CG$108:$CH$132,2,TRUE),\"\")","v":""},{"$f":"DU140","v":"-"},{"$f":"IFERROR(VLOOKUP(DK73,$CG$108:$CH$132,2,TRUE),\"\")","v":""},{"$f":"DW140","v":"-"},{"$f":"IFERROR(VLOOKUP(DM73,$CG$108:$CH$132,2,TRUE),\"\")","v":""},{"$f":"DY140","v":"-"},{"$f":"IFERROR(VLOOKUP(DO73,$CG$108:$CH$132,2,TRUE),\"\")","v":""},{"$f":"EA140","v":"-"},{"$f":"IFERROR(VLOOKUP(DQ73,$CG$108:$CH$132,2,TRUE),\"\")","v":""},{"$f":"EC140","v":"-"},{"$f":"IFERROR(VLOOKUP(DS73,$CG$108:$CH$132,2,TRUE),\"\")","v":""},{"$f":"EE140","v":"-"},{"$f":"IFERROR(VLOOKUP(DU73,$CG$108:$CH$132,2,TRUE),\"\")","v":""},{"$f":"EG140","v":"-"},{"$f":"IFERROR(VLOOKUP(DW73,$CG$108:$CH$132,2,TRUE),\"\")","v":""},{"$f":"EI140","v":"-"}]
[null,"08:15:00",{"$f":"C73+$S$48","v":-56.25},-50.599390148550228,9.1680140464324467,-52.810821804611912,11.589194833014272,-59.052452705131024,18.082129632151631,-67.741571274383972,26.049471117849084,-77.450455807786881,33.293281074474322,-86.219622818927476,38.390477678571969,-90.171307572759176,40.282959174853197,null,null,null,-2.9651014580430655,1.939742502278202,42,15.618897349342992,null,null,null,null,null,null,null,null,null,null,null,null,null,null,null,null,null,null,null,null,null,null,null,null,null,null,null,null,null,null,null,null,null,null,null,null,null,null,null,null,null,null,null,null,null,null,null,null,null,null,null,null,null,{"$f":"IF($B12<0,BZ73,ABS(BZ73))","v":{"$error":"#VALUE!"}},null,{"$f":"IF($B13<0,CB73,ABS(CB73))","v":{"$error":"#VALUE!"}},null,{"$f":"IF($B14<0,CD73,ABS(CD73))","v":{"$error":"#VALUE!"}},null,{"$f":"IF($B15<0,CF73,ABS(CF73))","v":{"$error":"#VALUE!"}},null,{"$f":"IF($B16<0,CH73,ABS(CH73))","v":{"$error":"#VALUE!"}},null,{"$f":"IF($B17<0,CJ73,ABS(CJ73))","v":{"$error":"#VALUE!"}},null,{"$f":"IF($B18<0,CL73,ABS(CL73))","v":{"$error":"#VALUE!"}},null,{"$f":"IF($B19<0,CN73,ABS(CN73))","v":{"$error":"#VALUE!"}},null,{"$f":"IF($B20<0,CP73,ABS(CP73))","v":{"$error":"#VALUE!"}},null,{"$f":"IF($B21<0,CR73,ABS(CR73))","v":{"$error":"#VALUE!"}},null,{"$f":"IF($B22<0,CT73,ABS(CT73))","v":{"$error":"#VALUE!"}},null,{"$f":"IF($B23<0,CV73,ABS(CV73))","v":{"$error":"#VALUE!"}},null,{"$f":"IF($B24<0,CX73,ABS(CX73))","v":{"$error":"#VALUE!"}},null,{"$f":"IF($B25<0,CZ73,ABS(CZ73))","v":{"$error":"#VALUE!"}},null,{"$f":"IF($B26<0,DB73,ABS(DB73))","v":{"$error":"#VALUE!"}},null,{"$f":"IF($B27<0,DD73,ABS(DD73))","v":{"$error":"#VALUE!"}},null,{"$f":"IF($B28<0,DF73,ABS(DF73))","v":{"$error":"#VALUE!"}},null,{"$f":"IF($B29<0,DH73,ABS(DH73))","v":{"$error":"#VALUE!"}},null,{"$f":"IF($B30<0,DJ73,ABS(DJ73))","v":{"$error":"#VALUE!"}},null,{"$f":"IF($B31<0,DL73,ABS(DL73))","v":{"$error":"#VALUE!"}},null,{"$f":"IF($B32<0,DN73,ABS(DN73))","v":{"$error":"#VALUE!"}},null,{"$f":"IF($B33<0,DP73,ABS(DP73))","v":{"$error":"#VALUE!"}},null,{"$f":"IF($B34<0,DR73,ABS(DR73))","v":{"$error":"#VALUE!"}},null,{"$f":"IF($B35<0,DT73,ABS(DT73))","v":{"$error":"#VALUE!"}},null,{"$f":"IF($B36<0,DV73,ABS(DV73))","v":{"$error":"#VALUE!"}}]
[null,"08:30:00",{"$f":"C74+$S$48","v":-52.5},-47.951010804756116,11.414705723008369,-50.095662161063736,13.907755766746645,-56.198291219904448,20.585827020852651,-64.826117654265829,28.763531340823949,-74.657943821511438,36.170227792704111,-83.705049161164098,41.343294297250061,-87.827940240900134,43.24676439453664,null,null,null,null,null,null,null,{"$f":"AZ75","v":"AB"},{"$f":"BA75","v":"BC"},"CD","DE","EF","FG","GH","HI","IJ","JK","KL","LM","MN","NO","OP","PQ","QR","RS","ST","TU","UV","VW","WX","XY","YZ",null,null,"AB","BC","CD","DE","EF","FG","GH","HI","IJ","JK","KL","LM","MN","NO","OP","PQ","QR","RS","ST","TU","UV","VW","WX","XY","YZ"]
[null,"08:45:00",{"$f":"C75+$S$48","v":-48.75},-45.202371645805492,13.567874358345694,-47.273248163061652,16.134404400662241,-53.216146360418151,23.005507402004454,-61.756881344029168,31.411695127257126,-71.700320334435006,39.007756293347555,-81.043409809199957,44.281361257783999,-85.356227032708858,46.205784826550691,"este","oeste",null,null,null,"AZIMUT","ALTURA"]
[null,"09:00:00",-45,-42.347841666441106,15.618897349342992,-44.336415295398943,18.25994914877592,-50.093558813077408,25.330597457057525,-58.511982694602636,33.982517129999877,-68.545167864401975,41.79556186063251,-78.198133575417046,47.197167722417845,-82.720908787519704,49.154030734636578,{"$f":"ABS($I$4-W77)","v":57.652158333558894},{"$f":"ABS($L$4-W77)","v":102.3478416664411},"15:00:00","09:00:00",-45,{"$f":"-DEGREES(ACOS((-SIN(RADIANS(X$46))*COS(RADIANS($C$4))+COS(RADIANS(X$46))*SIN(RADIANS($C$4))*COS(RADIANS(V77)))/COS(RADIANS(X77))))","v":-42.347841666441106},{"$f":"180/PI()*ASIN(SIN(X$46*PI()/180)*SIN($C$4*PI()/180)+COS(X$46*PI()/180)*COS($C$4*PI()/180)*COS($V77*PI()/180))","v":15.618897349342992},{"$f":"IF(AND($B$12=$B$13,OR(AND($C$12>$X77,$C$13<$X77),AND($C$12<$X77,$C$13>$X77))),AZ77,IF(AND($W77>=$B$12,$W77<=$B$13),AZ77,\"-\"))","v":"-"},{"$f":"IF(AND($B$13=$B$14,OR(AND($C$13>$X77,$C$14<$X77),AND($C$13<$X77,$C$14>$X77))),BA77,IF(AND($W77>=$B$13,$W77<=$B$14),BA77,\"-\"))","v":"-"},{"$f":"IF(AND($B$14=$B$15,OR(AND($C$14>$X77,$C$15<$X77),AND($C$14<$X77,$C$15>$X77))),BB77,IF(AND($W77>=$B$14,$W77<=$B$15),BB77,\"-\"))","v":"-"},{"$f":"IF(AND($B$15=$B$16,OR(AND($C$15>$X77,$C$16<$X77),AND($C$15<$X77,$C$16>$X77))),BC77,IF(AND($W77>=$B$15,$W77<=$B$16),BC77,\"-\"))","v":"-"},{"$f":"IF(AND($B$16=$B$17,OR(AND($C$16>$X77,$C$17<$X77),AND($C$16<$X77,$C$17>$X77))),BD77,IF(AND($W77>=$B$16,$W77<=$B$17),BD77,\"-\"))","v":"-"},{"$f":"IF(AND($B$17=$B$18,OR(AND($C$17>$X77,$C$18<$X77),AND($C$17<$X77,$C$18>$X77))),BE77,IF(AND($W77>=$B$17,$W77<=$B$18),BE77,\"-\"))","v":"-"},{"$f":"IF(AND($B$18=$B$19,OR(AND($C$18>$X77,$C$19<$X77),AND($C$18<$X77,$C$19>$X77))),BF77,IF(AND($W77>=$B$18,$W77<=$B$19),BF77,\"-\"))","v":"-"},{"$f":"IF(AND($B$19=$B$20,OR(AND($C$19>$X77,$C$20<$X77),AND($C$19<$X77,$C$20>$X77))),BG77,IF(AND($W77>=$B$19,$W77<=$B$20),BG77,\"-\"))","v":"-"},{"$f":"IF(AND($B$20=$B$21,OR(AND($C$20>$X77,$C$21<$X77),AND($C$20<$X77,$C$21>$X77))),BH77,IF(AND($W77>=$B$20,$W77<=$B$21),BH77,\"-\"))","v":"-"},{"$f":"IF(AND($B$21=$B$22,OR(AND($C$21>$X77,$C$22<$X77),AND($C$21<$X77,$C$22>$X77))),BI77,IF(AND($W77>=$B$21,$W77<=$B$22),BI77,\"-\"))","v":"-"},{"$f":"IF(AND($B$22=$B$23,OR(AND($C$22>$X77,$C$23<$X77),AND($C$22<$X77,$C$23>$X77))),BJ77,IF(AND($W77>=$B$22,$W77<=$B$23),BJ77,\"-\"))","v":"-"},{"$f":"IF(AND($B$23=$B$24,OR(AND($C$23>$X77,$C$24<$X72),AND($C$23<$X72,$C$24>$X77))),BK77,IF(AND($W77>=$B$23,$W77<=$B$24),BK77,\"-\"))","v":"-"},{"$f":"IF(AND($B$24=$B$25,OR(AND($C$24>$X77,$C$25<$X72),AND($C$24<$X72,$C$25>$X77))),BL77,IF(AND($W77>=$B$24,$W77<=$B$25),BL77,\"-\"))","v":"-"},{"$f":"IF(AND($B$25=$B$26,OR(AND($C$25>$X77,$C$26<$X72),AND($C$25<$X72,$C$26>$X77))),BM77,IF(AND($W77>=$B$25,$W77<=$B$26),BM77,\"-\"))","v":"-"},{"$f":"IF(AND($B$26=$B$27,OR(AND($C$26>$X77,$C$27<$X72),AND($C$26<$X72,$C$27>$X77))),BN77,IF(AND($W77>=$B$26,$W77<=$B$27),BN77,\"-\"))","v":"-"},{"$f":"IF(AND($B$27=$B$28,OR(AND($C$27>$X77,$C$28<$X72),AND($C$27<$X72,$C$28>$X77))),BO77,IF(AND($W77>=$B$27,$W77<=$B$28),BO77,\"-\"))","v":"-"},{"$f":"IF(AND($B$28=$B$29,OR(AND($C$28>$X77,$C$29<$X72),AND($C$28<$X72,$C$29>$X77))),BP77,IF(AND($W77>=$B$28,$W77<=$B$29),BP77,\"-\"))","v":"-"},{"$f":"IF(AND($B$29=$B$30,OR(AND($C$29>$X77,$C$30<$X72),AND($C$29<$X72,$C$30>$X77))),BQ77,IF(AND($W77>=$B$29,$W77<=$B$30),BQ77,\"-\"))","v":"-"},{"$f":"IF(AND($B$30=$B$31,OR(AND($C$30>$X77,$C$31<$X72),AND($C$30<$X72,$C$31>$X77))),BR77,IF(AND($W77>=$B$30,$W77<=$B$31),BR77,\"-\"))","v":"-"},{"$f":"IF(AND($B$31=$B$32,OR(AND($C$31>$X77,$C$32<$X72),AND($C$31<$X72,$C$32>$X77))),BS77,IF(AND($W77>=$B$31,$W77<=$B$32),BS77,\"-\"))","v":"-"},{"$f":"IF(AND($B$32=$B$33,OR(AND($C$32>$X77,$C$33<$X72),AND($C$32<$X72,$C$33>$X77))),BT77,IF(AND($W77>=$B$32,$W77<=$B$33),BT77,\"-\"))","v":"-"},{"$f":"IF(AND($B$33=$B$34,OR(AND($C$33>$X77,$C$34<$X72),AND($C$33<$X72,$C$34>$X77))),BU77,IF(AND($W77>=$B$33,$W77<=$B$34),BU77,\"-\"))","v":"-"},{"$f":"IF(AND($B$34=$B$35,OR(AND($C$34>$X77,$C$35<$X72),AND($C$34<$X72,$C$35>$X77))),BV77,IF(AND($W77>=$B$34,$W77<=$B$35),BV77,\"-\"))","v":"-"},{"$f":"IF(AND($B$35=$B$36,OR(AND($C$35>$X77,$C$36<$X72),AND($C$35<$X72,$C$36>$X77))),BW77,IF(AND($W77>=$B$35,$W77<=$B$36),BW77,\"-\"))","v":"-"},{"$f":"IF(AND($B$36=$B$37,OR(AND($C$36>$X77,$C$37<$X72),AND($C$36<$X72,$C$37>$X77))),BX77,IF(AND($W77>=$B$36,$W77<=$B$37),BX77,\"-\"))","v":"-"},null,{"$f":"ABS(MAX(W77-W78))","v":2.9651014580430655},{"$f":"IF(CA77=\"-\",\"-\",IF(CA77-($AY107/2)<=$X77,CA77,\"-\"))","v":"-"},{"$f":"IF(CC77=\"-\",\"-\",IF(CC77-($AY107/2)<=$X77,CC77,\"-\"))","v":"-"},{"$f":"IF(CE77=\"-\",\"-\",IF(CE77-($AY107/2)<=$X77,CE77,\"-\"))","v":"-"},{"$f":"IF(CG77=\"-\",\"-\",IF(CG77-($AY107/2)<=$X77,CG77,\"-\"))","v":"-"},{"$f":"IF(CI77=\"-\",\"-\",IF(CI77-($AY107/2)<=$X77,CI77,\"-\"))","v":"-"},{"$f":"IF(CK77=\"-\",\"-\",IF(CK77-($AY107/2)<=$X77,CK77,\"-\"))","v":"-"},{"$f":"IF(CM77=\"-\",\"-\",IF(CM77-($AY107/2)<=$X77,CM77,\"-\"))","v":"-"},{"$f":"IF(CO77=\"-\",\"-\",IF(CO77-($AY107/2)<=$X77,CO77,\"-\"))","v":"-"},{"$f":"IF(CQ77=\"-\",\"-\",IF(CQ77-($AY107/2)<=$X77,CQ77,\"-\"))","v":"-"},{"$f":"IF(CS77=\"-\",\"-\",IF(CS77-($AY107/2)<=$X77,CS77,\"-\"))","v":"-"},{"$f":"IF(CU77=\"-\",\"-\",IF(CU77-($AY107/2)<=$X77,CU77,\"-\"))","v":"-"},{"$f":"IF(CW77=\"-\",\"-\",IF(CW77-($AY107/2)<=$X77,CW77,\"-\"))","v":"-"},{"$f":"IF(CY77=\"-\",\"-\",IF(CY77-($AY107/2)<=$X77,CY77,\"-\"))","v":"-"},{"$f":"IF(DA77=\"-\",\"-\",IF(DA77-($AY107/2)<=$X77,DA77,\"-\"))","v":"-"},{"$f":"IF(DC77=\"-\",\"-\",IF(DC77-($AY107/2)<=$X77,DC77,\"-\"))","v":"-"},{"$f":"IF(DE77=\"-\",\"-\",IF(DE77-($AY107/2)<=$X77,DE77,\"-\"))","v":"-"},{"$f":"IF(DG77=\"-\",\"-\",IF(DG77-($AY107/2)<=$X77,DG77,\"-\"))","v":"-"},{"$f":"IF(DI77=\"-\",\"-\",IF(DI77-($AY107/2)<=$X77,DI77,\"-\"))","v":"-"},{"$f":"IF(DK77=\"-\",\"-\",IF(DK77-($AY107/2)<=$X77,DK77,\"-\"))","v":"-"},{"$f":"IF(DM77=\"-\",\"-\",IF(DM77-($AY107/2)<=$X77,DM77,\"-\"))","v":"-"},{"$f":"IF(DO77=\"-\",\"-\",IF(DO77-($AY107/2)<=$X77,DO77,\"-\"))","v":"-"},{"$f":"IF(DQ77=\"-\",\"-\",IF(DQ77-($AY107/2)<=$X77,DQ77,\"-\"))","v":"-"},{"$f":"IF(DS77=\"-\",\"-\",IF(DS77-($AY107/2)<=$X77,DS77,\"-\"))","v":"-"},{"$f":"IF(DU77=\"-\",\"-\",IF(DU77-($AY107/2)<=$X77,DU77,\"-\"))","v":"-"},{"$f":"IF(DW77=\"-\",\"-\",IF(DW77-($AY107/2)<=$X77,DW77,\"-\"))","v":"-"},null,{"$f":"$W77","v":-42.347841666441106},{"$f":"IFERROR(IF(OR($B$13<$W$77,$B$12>$W$101),\"-\",IF(AND($W77=BZ$74,$B$12=$B$13),CA$73,(($W77-$B$12)*($C$13-$C$12)/($B$13-$B$12))+$C$12)),\"-\")","v":"-"},{"$f":"$W77","v":-42.347841666441106},{"$f":"IFERROR(IF(OR($B$14<$W$77,$B$13>$W$101),\"-\",IF(AND($W77=CB$74,$B$13=$B$14),CC$73,(($W77-$B$13)*($C$14-$C$13)/($B$14-$B$13))+$C$13)),\"-\")","v":"-"},{"$f":"$W77","v":-42.347841666441106},{"$f":"IFERROR(IF(OR($B$15<$W$77,$B$14>$W$101),\"-\",IF(AND($W77=CD$74,$B$14=$B$15),CE$73,(($W77-$B$14)*($C$15-$C$14)/($B$15-$B$14))+$C$14)),\"-\")","v":"-"},{"$f":"$W77","v":-42.347841666441106},{"$f":"IFERROR(IF(OR($B$16<$W$77,$B$15>$W$101),\"-\",IF(AND($W77=CF$74,$B$15=$B$16),CG$73,(($W77-$B$15)*($C$16-$C$15)/($B$16-$B$15))+$C$15)),\"-\")","v":"-"},{"$f":"$W77","v":-42.347841666441106},{"$f":"IFERROR(IF(OR($B$17<$W$77,$B$16>$W$101),\"-\",IF(AND($W77=CH$74,$B$16=$B$17),CI$73,(($W77-$B$16)*($C$17-$C$16)/($B$17-$B$16))+$C$16)),\"-\")","v":"-"},{"$f":"$W77","v":-42.347841666441106},{"$f":"IFERROR(IF(OR($B$18<$W$77,$B$17>$W$101),\"-\",IF(AND($W77=CJ$74,$B$17=$B$18),CK$73,(($W77-$B$17)*($C$18-$C$17)/($B$18-$B$17))+$C$17)),\"-\")","v":"-"},{"$f":"$W77","v":-42.347841666441106},{"$f":"IFERROR(IF(OR($B$19<$W$77,$B$18>$W$101),\"-\",IF(AND($W77=CL$74,$B$18=$B$19),CM$73,(($W77-$B$18)*($C$19-$C$18)/($B$19-$B$18))+$C$18)),\"-\")","v":"-"},{"$f":"$W77","v":-42.347841666441106},{"$f":"IFERROR(IF(OR($B$20<$W$77,$B$19>$W$101),\"-\",IF(AND($W77=CN$74,$B$19=$B$20),CO$73,(($W77-$B$19)*($C$20-$C$19)/($B$20-$B$19))+$C$19)),\"-\")","v":"-"},{"$f":"$W77","v":-42.347841666441106},{"$f":"IFERROR(IF(OR($B$21<$W$77,$B$20>$W$101),\"-\",IF(AND($W77=CP$74,$B$20=$B$21),CQ$73,(($W77-$B$20)*($C$21-$C$20)/($B$21-$B$20))+$C$20)),\"-\")","v":"-"},{"$f":"$W77","v":-42.347841666441106},{"$f":"IFERROR(IF(OR($B$22<$W$77,$B$21>$W$101),\"-\",IF(AND($W77=CR$74,$B$21=$B$22),CS$73,(($W77-$B$21)*($C$22-$C$21)/($B$22-$B$21))+$C$21)),\"-\")","v":"-"},{"$f":"$W77","v":-42.347841666441106},{"$f":"IFERROR(IF(OR($B$23<$W$77,$B$22>$W$101),\"-\",IF(AND($W77=CT$74,$B$22=$B$23),CU$73,(($W77-$B$22)*($C$23-$C$22)/($B$23-$B$22))+$C$22)),\"-\")","v":"-"},{"$f":"$W77","v":-42.347841666441106},{"$f":"IFERROR(IF(OR($B$24<$W$77,$B$23>$W$101),\"-\",IF(AND($W77=CV$74,$B$23=$B$24),CW$73,(($W77-$B$23)*($C$24-$C$23)/($B$24-$B$23))+$C$23)),\"-\")","v":"-"},{"$f":"$W77","v":-42.347841666441106},{"$f":"IFERROR(IF(OR($B$25<$W$77,$B$24>$W$101),\"-\",IF(AND($W77=CX$74,$B$24=$B$25),CY$73,(($W77-$B$24)*($C$25-$C$24)/($B$25-$B$24))+$C$24)),\"-\")","v":"-"},{"$f":"$W77","v":-42.347841666441106},{"$f":"IFERROR(IF(OR($B$26<$W$77,$B$25>$W$101),\"-\",IF(AND($W77=CZ$74,$B$25=$B$26),DA$73,(($W77-$B$25)*($C$26-$C$25)/($B$26-$B$25))+$C$25)),\"-\")","v":"-"},{"$f":"$W77","v":-42.347841666441106},{"$f":"IFERROR(IF(OR($B$27<$W$77,$B$26>$W$101),\"-\",IF(AND($W77=DB$74,$B$26=$B$27),DC$73,(($W77-$B$26)*($C$27-$C$26)/($B$27-$B$26))+$C$26)),\"-\")","v":"-"},{"$f":"$W77","v":-42.347841666441106},{"$f":"IFERROR(IF(OR($B$28<$W$77,$B$27>$W$101),\"-\",IF(AND($W77=DD$74,$B$27=$B$28),DE$73,(($W77-$B$27)*($C$28-$C$27)/($B$28-$B$27))+$C$27)),\"-\")","v":"-"},{"$f":"$W77","v":-42.347841666441106},{"$f":"IFERROR(IF(OR($B$29<$W$77,$B$28>$W$101),\"-\",IF(AND($W77=DF$74,$B$28=$B$29),DG$73,(($W77-$B$28)*($C$29-$C$28)/($B$29-$B$28))+$C$28)),\"-\")","v":"-"},{"$f":"$W77","v":-42.347841666441106},{"$f":"IFERROR(IF(OR($B$30<$W$77,$B$29>$W$101),\"-\",IF(AND($W77=DH$74,$B$29=$B$30),DI$73,(($W77-$B$29)*($C$30-$C$29)/($B$30-$B$29))+$C$29)),\"-\")","v":"-"},{"$f":"$W77","v":-42.347841666441106},{"$f":"IFERROR(IF(OR($B$31<$W$77,$B$30>$W$101),\"-\",IF(AND($W77=DJ$74,$B$30=$B$31),DK$73,(($W77-$B$30)*($C$31-$C$30)/($B$31-$B$30))+$C$30)),\"-\")","v":"-"},{"$f":"$W77","v":-42.347841666441106},{"$f":"IFERROR(IF(OR($B$32<$W$77,$B$31>$W$101),\"-\",IF(AND($W77=DL$74,$B$31=$B$32),DM$73,(($W77-$B$31)*($C$32-$C$31)/($B$32-$B$31))+$C$31)),\"-\")","v":"-"},{"$f":"$W77","v":-42.347841666441106},{"$f":"IFERROR(IF(OR($B$33<$W$77,$B$32>$W$101),\"-\",IF(AND($W77=DN$74,$B$32=$B$33),DO$73,(($W77-$B$32)*($C$33-$C$32)/($B$33-$B$32))+$C$32)),\"-\")","v":"-"},{"$f":"$W77","v":-42.347841666441106},{"$f":"IFERROR(IF(OR($B$34<$W$77,$B$33>$W$101),\"-\",IF(AND($W77=DP$74,$B$33=$B$34),DQ$73,(($W77-$B$33)*($C$34-$C$33)/($B$34-$B$33))+$C$33)),\"-\")","v":"-"},{"$f":"$W77","v":-42.347841666441106},{"$f":"IFERROR(IF(OR($B$35<$W$77,$B$34>$W$101),\"-\",IF(AND($W77=DR$74,$B$34=$B$35),DS$73,(($W77-$B$34)*($C$35-$C$34)/($B$35-$B$34))+$C$34)),\"-\")","v":"-"},{"$f":"$W77","v":-42.347841666441106},{"$f":"IFERROR(IF(OR($B$36<$W$77,$B$35>$W$101),\"-\",IF(AND($W77=DT$74,$B$35=$B$36),DU$73,(($W77-$B$35)*($C$36-$C$35)/($B$36-$B$35))+$C$35)),\"-\")","v":"-"},{"$f":"$W77","v":-42.347841666441106},{"$f":"IFERROR(IF(OR($B$37<$W$77,$B$36>$W$101),\"-\",IF(AND($W77=DV$74,$B$36=$B$37),DW$73,(($W77-$B$36)*($C$37-$C$36)/($B$37-$B$36))+$C$36)),\"-\")","v":"-"}]
[null,"09:15:00",{"$f":"C77+$S$48","v":-41.25},-39.38274020839804,17.558639851621194,-41.278926344670126,20.274564862898657,-46.818604287504407,27.549486573390485,-55.068317412290291,36.462912242264601,-65.155006366702011,44.521352534187145,-75.124021093129159,50.081556202712314,-79.877355678539587,52.084221711203753,{"$f":"ABS($I$4-W78)","v":60.61725979160196},{"$f":"ABS($L$4-W78)","v":99.382740208398047},"14:45:00","09:15:00",{"$f":"V77+$S$48","v":-41.25},-39.38274020839804,17.558639851621194,"-",{"$f":"IF(AND($B$13=$B$14,OR(AND($C$13>$X78,$C$14<$X78),AND($C$13<$X78,$C$14>$X78))),BA78,IF(AND($W78>=$B$13,$W78<=$B$14),BA78,\"-\"))","v":"-"},{"$f":"IF(AND($B$14=$B$15,OR(AND($C$14>$X78,$C$15<$X78),AND($C$14<$X78,$C$15>$X78))),BB78,IF(AND($W78>=$B$14,$W78<=$B$15),BB78,\"-\"))","v":"-"},{"$f":"IF(AND($B$15=$B$16,OR(AND($C$15>$X78,$C$16<$X78),AND($C$15<$X78,$C$16>$X78))),BC78,IF(AND($W78>=$B$15,$W78<=$B$16),BC78,\"-\"))","v":"-"},{"$f":"IF(AND($B$16=$B$17,OR(AND($C$16>$X78,$C$17<$X78),AND($C$16<$X78,$C$17>$X78))),BD78,IF(AND($W78>=$B$16,$W78<=$B$17),BD78,\"-\"))","v":"-"},"-","-","-","-","-","-","-","-","-","-","-","-","-","-","-","-","-","-","-","-",null,{"$f":"ABS(MAX(W78-W79))","v":3.079110386409738},"-","-","-","-","-","-","-","-","-","-","-","-","-","-","-","-","-","-","-","-","-","-","-","-","-",null,{"$f":"$W78","v":-39.38274020839804},{"$f":"IFERROR(IF(OR($B$13<$W$77,$B$12>$W$101),\"-\",IF(AND($W78=BZ$74,$B$12=$B$13),CA$73,(($W78-$B$12)*($C$13-$C$12)/($B$13-$B$12))+$C$12)),\"-\")","v":"-"},-39.38274020839804,{"$f":"IFERROR(IF(OR($B$14<$W$77,$B$13>$W$101),\"-\",IF(AND($W78=CB$74,$B$13=$B$14),CC$73,(($W78-$B$13)*($C$14-$C$13)/($B$14-$B$13))+$C$13)),\"-\")","v":"-"},-39.38274020839804,{"$f":"IFERROR(IF(OR($B$15<$W$77,$B$14>$W$101),\"-\",IF(AND($W78=CD$74,$B$14=$B$15),CE$73,(($W78-$B$14)*($C$15-$C$14)/($B$15-$B$14))+$C$14)),\"-\")","v":"-"},-39.38274020839804,{"$f":"IFERROR(IF(OR($B$16<$W$77,$B$15>$W$101),\"-\",IF(AND($W78=CF$74,$B$15=$B$16),CG$73,(($W78-$B$15)*($C$16-$C$15)/($B$16-$B$15))+$C$15)),\"-\")","v":"-"},{"$f":"$W78","v":-39.38274020839804},{"$f":"IFERROR(IF(OR($B$17<$W$77,$B$16>$W$101),\"-\",IF(AND($W78=CH$74,$B$16=$B$17),CI$73,(($W78-$B$16)*($C$17-$C$16)/($B$17-$B$16))+$C$16)),\"-\")","v":"-"},{"$f":"$W78","v":-39.38274020839804},{"$f":"IFERROR(IF(OR($B$18<$W$77,$B$17>$W$101),\"-\",IF(AND($W78=CJ$74,$B$17=$B$18),CK$73,(($W78-$B$17)*($C$18-$C$17)/($B$18-$B$17))+$C$17)),\"-\")","v":"-"},{"$f":"$W78","v":-39.38274020839804},"-",{"$f":"$W78","v":-39.38274020839804},{"$f":"IFERROR(IF(OR($B$20<$W$77,$B$19>$W$101),\"-\",IF(AND($W78=CN$74,$B$19=$B$20),CO$73,(($W78-$B$19)*($C$20-$C$19)/($B$20-$B$19))+$C$19)),\"-\")","v":"-"},{"$f":"$W78","v":-39.38274020839804},{"$f":"IFERROR(IF(OR($B$21<$W$77,$B$20>$W$101),\"-\",IF(AND($W78=CP$74,$B$20=$B$21),CQ$73,(($W78-$B$20)*($C$21-$C$20)/($B$21-$B$20))+$C$20)),\"-\")","v":"-"},{"$f":"$W78","v":-39.38274020839804},{"$f":"IFERROR(IF(OR($B$22<$W$77,$B$21>$W$101),\"-\",IF(AND($W78=CR$74,$B$21=$B$22),CS$73,(($W78-$B$21)*($C$22-$C$21)/($B$22-$B$21))+$C$21)),\"-\")","v":"-"},{"$f":"$W78","v":-39.38274020839804},{"$f":"IFERROR(IF(OR($B$23<$W$77,$B$22>$W$101),\"-\",IF(AND($W78=CT$74,$B$22=$B$23),CU$73,(($W78-$B$22)*($C$23-$C$22)/($B$23-$B$22))+$C$22)),\"-\")","v":"-"},{"$f":"$W78","v":-39.38274020839804},{"$f":"IFERROR(IF(OR($B$24<$W$77,$B$23>$W$101),\"-\",IF(AND($W78=CV$74,$B$23=$B$24),CW$73,(($W78-$B$23)*($C$24-$C$23)/($B$24-$B$23))+$C$23)),\"-\")","v":"-"},{"$f":"$W78","v":-39.38274020839804},{"$f":"IFERROR(IF(OR($B$25<$W$77,$B$24>$W$101),\"-\",IF(AND($W78=CX$74,$B$24=$B$25),CY$73,(($W78-$B$24)*($C$25-$C$24)/($B$25-$B$24))+$C$24)),\"-\")","v":"-"},{"$f":"$W78","v":-39.38274020839804},{"$f":"IFERROR(IF(OR($B$26<$W$77,$B$25>$W$101),\"-\",IF(AND($W78=CZ$74,$B$25=$B$26),DA$73,(($W78-$B$25)*($C$26-$C$25)/($B$26-$B$25))+$C$25)),\"-\")","v":"-"},{"$f":"$W78","v":-39.38274020839804},{"$f":"IFERROR(IF(OR($B$27<$W$77,$B$26>$W$101),\"-\",IF(AND($W78=DB$74,$B$26=$B$27),DC$73,(($W78-$B$26)*($C$27-$C$26)/($B$27-$B$26))+$C$26)),\"-\")","v":"-"},{"$f":"$W78","v":-39.38274020839804},{"$f":"IFERROR(IF(OR($B$28<$W$77,$B$27>$W$101),\"-\",IF(AND($W78=DD$74,$B$27=$B$28),DE$73,(($W78-$B$27)*($C$28-$C$27)/($B$28-$B$27))+$C$27)),\"-\")","v":"-"},{"$f":"$W78","v":-39.38274020839804},{"$f":"IFERROR(IF(OR($B$29<$W$77,$B$28>$W$101),\"-\",IF(AND($W78=DF$74,$B$28=$B$29),DG$73,(($W78-$B$28)*($C$29-$C$28)/($B$29-$B$28))+$C$28)),\"-\")","v":"-"},{"$f":"$W78","v":-39.38274020839804},{"$f":"IFERROR(IF(OR($B$30<$W$77,$B$29>$W$101),\"-\",IF(AND($W78=DH$74,$B$29=$B$30),DI$73,(($W78-$B$29)*($C$30-$C$29)/($B$30-$B$29))+$C$29)),\"-\")","v":"-"},{"$f":"$W78","v":-39.38274020839804},{"$f":"IFERROR(IF(OR($B$31<$W$77,$B$30>$W$101),\"-\",IF(AND($W78=DJ$74,$B$30=$B$31),DK$73,(($W78-$B$30)*($C$31-$C$30)/($B$31-$B$30))+$C$30)),\"-\")","v":"-"},{"$f":"$W78","v":-39.38274020839804},{"$f":"IFERROR(IF(OR($B$32<$W$77,$B$31>$W$101),\"-\",IF(AND($W78=DL$74,$B$31=$B$32),DM$73,(($W78-$B$31)*($C$32-$C$31)/($B$32-$B$31))+$C$31)),\"-\")","v":"-"},{"$f":"$W78","v":-39.38274020839804},{"$f":"IFERROR(IF(OR($B$33<$W$77,$B$32>$W$101),\"-\",IF(AND($W78=DN$74,$B$32=$B$33),DO$73,(($W78-$B$32)*($C$33-$C$32)/($B$33-$B$32))+$C$32)),\"-\")","v":"-"},{"$f":"$W78","v":-39.38274020839804},{"$f":"IFERROR(IF(OR($B$34<$W$77,$B$33>$W$101),\"-\",IF(AND($W78=DP$74,$B$33=$B$34),DQ$73,(($W78-$B$33)*($C$34-$C$33)/($B$34-$B$33))+$C$33)),\"-\")","v":"-"},{"$f":"$W78","v":-39.38274020839804},{"$f":"IFERROR(IF(OR($B$35<$W$77,$B$34>$W$101),\"-\",IF(AND($W78=DR$74,$B$34=$B$35),DS$73,(($W78-$B$34)*($C$35-$C$34)/($B$35-$B$34))+$C$34)),\"-\")","v":"-"},{"$f":"$W78","v":-39.38274020839804},{"$f":"IFERROR(IF(OR($B$36<$W$77,$B$35>$W$101),\"-\",IF(AND($W78=DT$74,$B$35=$B$36),DU$73,(($W78-$B$35)*($C$36-$C$35)/($B$36-$B$35))+$C$35)),\"-\")","v":"-"},-39.38274020839804,{"$f":"IFERROR(IF(OR($B$37<$W$77,$B$36>$W$101),\"-\",IF(AND($W78=DV$74,$B$36=$B$37),DW$73,(($W78-$B$36)*($C$37-$C$36)/($B$37-$B$36))+$C$36)),\"-\")","v":"-"}]
[null,"09:30:00",{"$f":"C78+$S$48","v":-37.5},-36.303629821988302,19.377513820516317,-38.09582075268284,22.167840565996734,-43.38039804827747,29.649506847093775,-51.402029033815062,38.837934318928873,-61.486705270636008,47.170327854925482,-71.764661934834081,52.923098223833492,-76.768167941969352,54.987227333790436,63.696370178011698,96.303629821988295,"14:30:00","09:30:00",{"$f":"V78+$S$48","v":-37.5},-36.303629821988302,19.377513820516317,"-","-","-","-","-","-","-","-","-","-","-","-","-","-","-","-","-","-","-","-","-","-","-","-","-",null,3.1949833532727396,"-","-","-","-","-","-","-","-","-","-","-","-","-","-","-","-","-","-","-","-","-","-","-","-","-",null,-36.303629821988302,"-",-36.303629821988302,"-",-36.303629821988302,"-",-36.303629821988302,"-",-36.303629821988302,"-",-36.303629821988302,"-",-36.303629821988302,"-",-36.303629821988302,"-",-36.303629821988302,"-",-36.303629821988302,"-",-36.303629821988302,"-",{"$f":"$W79","v":-36.303629821988302},"-",-36.303629821988302,"-",-36.303629821988302,"-",-36.303629821988302,"-",-36.303629821988302,"-",-36.303629821988302,"-",-36.303629821988302,"-",-36.303629821988302,"-",-36.303629821988302,"-",-36.303629821988302,"-",-36.303629821988302,"-",-36.303629821988302,"-",-36.303629821988302,"-",-36.303629821988302,"-"]
[null,"09:45:00",{"$f":"C79+$S$48","v":-33.75},-33.108646468715563,21.065571729149902,-34.783823173655946,23.928867503609847,-39.76975938417241,31.616964943283058,-47.489352641102826,41.090583089070165,-57.49120875931284,49.724555013656513,-68.049179126589436,55.707224026289722,-73.318429687037664,57.851245651286398,66.891353531284437,93.108646468715563,"14:15:00","09:45:00",{"$f":"V79+$S$48","v":-33.75},-33.108646468715563,21.065571729149902,"-","-","-","-","-","-","-","-","-","-","-","-","-","-","-","-","-","-","-","-","-","-","-","-","-",null,3.3107942918745614,"-","-","-","-","-","-","-","-","-","-","-","-","-","-","-","-","-","-","-","-","-","-","-","-","-",null,-33.108646468715563,"-",-33.108646468715563,"-",-33.108646468715563,"-",-33.108646468715563,"-",-33.108646468715563,"-",-33.108646468715563,"-",-33.108646468715563,"-",-33.108646468715563,"-",-33.108646468715563,"-",-33.108646468715563,"-",-33.108646468715563,"-",-33.108646468715563,"-",-33.108646468715563,"-",-33.108646468715563,"-",-33.108646468715563,"-",-33.108646468715563,"-",-33.108646468715563,"-",-33.108646468715563,"-",-33.108646468715563,"-",-33.108646468715563,"-",-33.108646468715563,"-",-33.108646468715563,"-",-33.108646468715563,"-",-33.108646468715563,"-",-33.108646468715563,"-"]
[null,"10:00:00",-30,-29.797852176841001,22.612640378106839,-31.34179662982897,25.546375778886638,-35.980040108483962,33.437246359999264,-43.307960044238222,43.201679625155819,-53.113950407581591,52.162254514699924,-63.888346738550595,58.415007561411521,-69.429143271806268,60.660576503682314,70.202147823158995,89.797852176841005,"14:00:00","10:00:00",-30,-29.797852176841001,22.612640378106839,"-","-","-","-","-","-","-","-","-","-","-","-","-","-","-","-","-","-","-","-","-","-","-","-","-",null,3.4242655589342306,"-","-","-","-","-","-","-","-","-","-","-","-","-","-","-","-","-","-","-","-","-","-","-","-","-",null,-29.797852176841001,"-",-29.797852176841001,"-",-29.797852176841001,"-",-29.797852176841001,"-",-29.797852176841001,"-",-29.797852176841001,"-",-29.797852176841001,"-",-29.797852176841001,"-",-29.797852176841001,"-",-29.797852176841001,"-",-29.797852176841001,"-",-29.797852176841001,"-",-29.797852176841001,"-",-29.797852176841001,"-",-29.797852176841001,"-",-29.797852176841001,"-",-29.797852176841001,"-",-29.797852176841001,"-",-29.797852176841001,"-",-29.797852176841001,"-",-29.797852176841001,"-",-29.797852176841001,"-",-29.797852176841001,"-",-29.797852176841001,"-",-29.797852176841001,"-"]
[null,"10:15:00",{"$f":"C81+$S$48","v":-26.25},-26.373586617906771,24.00849851616438,-27.771213499774746,27.008926332036591,-32.008096902685004,35.095014368435621,-38.838931404168235,45.149869814913835,-48.296576466128485,54.457047978578508,-59.170514968843818,61.021486590213932,-64.968425052144426,63.393769549050774,73.626413382093233,86.373586617906767,"13:45:00","10:15:00",{"$f":"V81+$S$48","v":-26.25},-26.373586617906771,24.00849851616438,"-","-","-","-","-","-","-","-","-","-","-","-","-","-","-","-","-","-","-","-","-","-","-","-","-",null,3.5328016659271491,"-","-","-","-","-","-","-","-","-","-","-","-","-","-","-","-","-","-","-","-","-","-","-","-","-",null,-26.373586617906771,"-",-26.373586617906771,"-",-26.373586617906771,"-",-26.373586617906771,"-",-26.373586617906771,"-",-26.373586617906771,"-",-26.373586617906771,"-",-26.373586617906771,"-",-26.373586617906771,"-",-26.373586617906771,"-",-26.373586617906771,"-",-26.373586617906771,"-",-26.373586617906771,"-",-26.373586617906771,"-",-26.373586617906771,"-",-26.373586617906771,"-",-26.373586617906771,"-",-26.373586617906771,"-",-26.373586617906771,"-",-26.373586617906771,"-",-26.373586617906771,"-",-26.373586617906771,"-",-26.373586617906771,"-",-26.373586617906771,"-",-26.373586617906771,"-"]
[null,"10:30:00",{"$f":"C82+$S$48","v":-22.5},-22.840784951979622,25.243099002571746,-24.076603569556639,28.305161724283391,-27.855350481290792,36.574524275230516,-34.069423971022267,46.911835150873856,-42.980897419732997,56.577296528208073,-53.758730710470658,63.493408422950715,-59.760623085408646,66.020826650523446,77.159215048020371,82.840784951979629,"13:30:00","10:30:00",{"$f":"V82+$S$48","v":-22.5},-22.840784951979622,25.243099002571746,"-","-","-","-","-","-","-","-","-","-","-","-","-","-","-","-","-","-","-","-","-","-","-","-","-",null,3.633563514245246,"-","-","-","-","-","-","-","-","-","-","-","-","-","-","-","-","-","-","-","-","-","-","-","-","-",null,-22.840784951979622,"-",-22.840784951979622,"-",-22.840784951979622,"-",-22.840784951979622,"-",-22.840784951979622,"-",-22.840784951979622,"-",-22.840784951979622,"-",-22.840784951979622,"-",-22.840784951979622,"-",-22.840784951979622,"-",-22.840784951979622,"-",-22.840784951979622,"-",-22.840784951979622,"-",-22.840784951979622,"-",-22.840784951979622,"-",-22.840784951979622,"-",-22.840784951979622,"-",-22.840784951979622,"-",-22.840784951979622,"-",-22.840784951979622,"-",-22.840784951979622,"-",-22.840784951979622,"-",-22.840784951979622,"-",-22.840784951979622,"-",-22.840784951979622,"-"]
[null,"10:45:00",{"$f":"C83+$S$48","v":-18.75},-19.207221437734376,26.306831868249027,-20.265924812894028,29.424113774972177,-23.528826970268995,37.860066638817557,-28.995972589451299,48.462803478432868,-37.11622238828636,58.485781746480519,-47.492499036812184,65.786410594759147,-53.575679109616395,68.499061627397936,80.792778562265624,79.207221437734376,"13:15:00","10:45:00",{"$f":"V83+$S$48","v":-18.75},-19.207221437734376,26.306831868249027,"-","-","-","-","-","-","-","-","-","-","-","-","-","-","-","-","-","-","-","-","-","-","-","-","-",null,3.7235873039280865,"-","-","-","-","-","-","-","-","-","-","-","-","-","-","-","-","-","-","-","-","-","-","-","-","-",null,-19.207221437734376,"-",-19.207221437734376,"-",-19.207221437734376,"-",-19.207221437734376,"-",-19.207221437734376,"-",-19.207221437734376,"-",-19.207221437734376,{"$f":"IFERROR(IF(OR($B$19<$W$77,$B$18>$W$101),\"-\",IF(AND($W84=CL$74,$B$18=$B$19),CM$73,(($W84-$B$18)*($C$19-$C$18)/($B$19-$B$18))+$C$18)),\"-\")","v":"-"},-19.207221437734376,"-",-19.207221437734376,"-",-19.207221437734376,"-",-19.207221437734376,"-",-19.207221437734376,"-",-19.207221437734376,"-",-19.207221437734376,"-",-19.207221437734376,"-",-19.207221437734376,"-",-19.207221437734376,"-",-19.207221437734376,"-",-19.207221437734376,"-",-19.207221437734376,"-",-19.207221437734376,"-",-19.207221437734376,"-",-19.207221437734376,"-",-19.207221437734376,"-",-19.207221437734376,"-"]
[null,"11:00:00",-15,-15.483634133806289,27.190819076348156,-16.350793077033398,30.355558646084038,-19.042026431142055,38.936538936854518,-23.628114562393378,49.777446212080143,-30.671070036345924,60.140146191649762,-40.201377250963077,67.842042211259709,-46.127278100886542,70.767368186772416,84.516365866193709,75.483634133806291,"13:00:00","11:00:00",-15,-15.483634133806289,27.190819076348156,"-","-","-","-","-","-","-","-","-","-","-","-","-","-","-","-","-","-","-","-","-","-","-","-","-",null,3.7999459459515705,"-","-","-","-","-","-","-","-","-","-","-","-","-","-","-","-","-","-","-","-","-","-","-","-","-",null,-15.483634133806289,"-",-15.483634133806289,"-",-15.483634133806289,"-",-15.483634133806289,"-",-15.483634133806289,"-",-15.483634133806289,"-",-15.483634133806289,{"$f":"IFERROR(IF(OR($B$19<$W$77,$B$18>$W$101),\"-\",IF(AND($W85=CL$74,$B$18=$B$19),CM$73,(($W85-$B$18)*($C$19-$C$18)/($B$19-$B$18))+$C$18)),\"-\")","v":"-"},-15.483634133806289,"-",-15.483634133806289,"-",-15.483634133806289,"-",-15.483634133806289,"-",-15.483634133806289,"-",-15.483634133806289,"-",-15.483634133806289,"-",-15.483634133806289,"-",-15.483634133806289,"-",-15.483634133806289,"-",-15.483634133806289,"-",-15.483634133806289,"-",-15.483634133806289,"-",-15.483634133806289,"-",-15.483634133806289,"-",-15.483634133806289,"-",-15.483634133806289,"-",-15.483634133806289,"-"]
[null,"11:15:00",{"$f":"C85+$S$48","v":-11.25},-11.683688187854719,27.887225643677976,-12.346505950443976,31.090401151222252,-14.41542568246272,39.790123576992698,-17.991700284853497,50.831206164997532,-23.649094242191527,61.49465467018306,-31.742353888318007,69.585985437146476,-37.102703234347203,72.73963837467069,88.316311812145287,71.683688187854713,"12:45:00","11:15:00",{"$f":"V85+$S$48","v":-11.25},-11.683688187854719,27.887225643677976,"-","-","-","-","-","-","-","-","-","-","-","-","-","-","-","-","-","-","-","-","-","-","-","-","-",null,3.8599423756116273,"-","-","-","-","-","-","-","-","-","-","-","-","-","-","-","-","-","-","-","-","-","-","-","-","-",null,-11.683688187854719,"-",-11.683688187854719,"-",-11.683688187854719,"-",-11.683688187854719,"-",-11.683688187854719,"-",-11.683688187854719,"-",-11.683688187854719,{"$f":"IFERROR(IF(OR($B$19<$W$77,$B$18>$W$101),\"-\",IF(AND($W86=CL$74,$B$18=$B$19),CM$73,(($W86-$B$18)*($C$19-$C$18)/($B$19-$B$18))+$C$18)),\"-\")","v":"-"},-11.683688187854719,"-",-11.683688187854719,"-",-11.683688187854719,"-",-11.683688187854719,"-",-11.683688187854719,"-",-11.683688187854719,"-",-11.683688187854719,"-",-11.683688187854719,"-",-11.683688187854719,"-",-11.683688187854719,"-",-11.683688187854719,"-",-11.683688187854719,"-",-11.683688187854719,"-",-11.683688187854719,"-",-11.683688187854719,"-",-11.683688187854719,"-",-11.683688187854719,"-",-11.683688187854719,"-"]
[null,"11:30:00",{"$f":"C86+$S$48","v":-7.5},-7.8237458122430912,28.389566091457663,-8.2718079338199662,31.621061305355752,-9.6764188949901282,40.409023415161116,-12.13093144947702,51.602008867331257,-16.106319028970351,62.503798380322493,-22.07284654341672,70.930487952004796,-26.269100716249564,74.301232546372034,92.176254187756911,67.823745812243089,"12:30:00","11:30:00",{"$f":"V86+$S$48","v":-7.5},-7.8237458122430912,28.389566091457663,"-","-","-","-","-","-","-","-","-","-","-","-","-","-","-","-","-","-","-","-","-","-","-","-","-",null,3.9013152465685144,"-","-","-","-","-","-","-","-","-","-","-","-","-","-","-","-","-","-","-","-","-","-","-","-","-",null,-7.8237458122430912,"-",-7.8237458122430912,"-",-7.8237458122430912,"-",-7.8237458122430912,"-",-7.8237458122430912,"-",-7.8237458122430912,"-",-7.8237458122430912,"-",-7.8237458122430912,"-",-7.8237458122430912,"-",-7.8237458122430912,"-",-7.8237458122430912,"-",-7.8237458122430912,"-",-7.8237458122430912,"-",-7.8237458122430912,"-",-7.8237458122430912,"-",-7.8237458122430912,"-",-7.8237458122430912,"-",-7.8237458122430912,"-",-7.8237458122430912,"-",-7.8237458122430912,"-",-7.8237458122430912,"-",-7.8237458122430912,"-",-7.8237458122430912,"-",-7.8237458122430912,"-",-7.8237458122430912,"-"]
[null,"11:45:00",{"$f":"C87+$S$48","v":-3.75},-3.9224305656745768,28.692981272009366,-4.1483705473985504,31.941829467631919,-4.8585498002199659,40.784179948638595,-6.108059435582013,52.072176525722824,-8.1628606744736416,63.127801465517926,-11.350598840451006,71.785363039152415,-13.69546009103049,75.31849376032639,96.077569434325426,63.922430565674574,"12:15:00","11:45:00",{"$f":"V87+$S$48","v":-3.75},-3.9224305656745768,28.692981272009366,"-","-","-","-","-","-","-","-","-","-","-","-","-","-","-","-","-","-","-","-","-","-","-","-","-",null,{"$error":"#NUM!"},"-","-","-","-","-","-","-","-","-","-","-","-","-","-","-","-","-","-","-","-","-","-","-","-","-",null,-3.9224305656745768,"-",-3.9224305656745768,"-",-3.9224305656745768,"-",-3.9224305656745768,"-",-3.9224305656745768,"-",-3.9224305656745768,"-",-3.9224305656745768,"-",-3.9224305656745768,"-",-3.9224305656745768,"-",-3.9224305656745768,"-",-3.9224305656745768,"-",-3.9224305656745768,"-",-3.9224305656745768,"-",-3.9224305656745768,"-",-3.9224305656745768,"-",-3.9224305656745768,"-",-3.9224305656745768,"-",-3.9224305656745768,"-",-3.9224305656745768,"-",-3.9224305656745768,"-",-3.9224305656745768,"-",-3.9224305656745768,"-",-3.9224305656745768,"-",-3.9224305656745768,"-",-3.9224305656745768,"-"]
[null,"12:00:00",0,0,28.79445978024744,0,32.049154067110031,0,40.909882737031573,0,52.230227641472077,0,63.339103563392484,0,72.079482871468599,0,75.673759163090693,{"$error":"#NUM!"},{"$error":"#NUM!"},"12:00:00","12:00:00",0,{"$error":"#NUM!"},28.79445978024744,{"$error":"#NUM!"},{"$error":"#NUM!"},{"$error":"#NUM!"},{"$error":"#NUM!"},{"$error":"#NUM!"},{"$error":"#NUM!"},{"$error":"#NUM!"},{"$error":"#NUM!"},{"$error":"#NUM!"},{"$error":"#NUM!"},{"$error":"#NUM!"},{"$error":"#NUM!"},{"$error":"#NUM!"},{"$error":"#NUM!"},{"$error":"#NUM!"},{"$error":"#NUM!"},{"$error":"#NUM!"},{"$error":"#NUM!"},{"$error":"#NUM!"},{"$error":"#NUM!"},{"$error":"#NUM!"},{"$error":"#NUM!"},{"$error":"#NUM!"},{"$error":"#NUM!"},{"$error":"#NUM!"},null,{"$error":"#NUM!"},"-","-","-","-","-","-","-","-","-","-","-","-","-","-","-","-","-","-","-","-","-","-","-","-","-",null,{"$error":"#NUM!"},"-",{"$error":"#NUM!"},"-",{"$error":"#NUM!"},"-",{"$error":"#NUM!"},"-",{"$error":"#NUM!"},"-",{"$error":"#NUM!"},"-",{"$error":"#NUM!"},"-",{"$error":"#NUM!"},"-",{"$error":"#NUM!"},"-",{"$error":"#NUM!"},"-",{"$error":"#NUM!"},"-",{"$error":"#NUM!"},"-",{"$error":"#NUM!"},"-",{"$error":"#NUM!"},"-",{"$error":"#NUM!"},"-",{"$error":"#NUM!"},"-",{"$error":"#NUM!"},"-",{"$error":"#NUM!"},"-",{"$error":"#NUM!"},"-",{"$error":"#NUM!"},"-",{"$error":"#NUM!"},"-",{"$error":"#NUM!"},"-",{"$error":"#NUM!"},"-",{"$error":"#NUM!"},"-",{"$error":"#NUM!"},"-"]
[null,"12:15:00",{"$f":"C89+$S$48","v":3.75},{"$f":"DEGREES(ACOS((-SIN(RADIANS(E$46))*COS(RADIANS($C$4))+COS(RADIANS(E$46))*SIN(RADIANS($C$4))*COS(RADIANS($C90)))/COS(RADIANS(E90))))","v":3.9224305656745768},28.692981272009366,{"$f":"DEGREES(ACOS((-SIN(RADIANS(G$46))*COS(RADIANS($C$4))+COS(RADIANS(G$46))*SIN(RADIANS($C$4))*COS(RADIANS($C90)))/COS(RADIANS(G90))))","v":4.1483705473985504},31.941829467631919,{"$f":"DEGREES(ACOS((-SIN(RADIANS(I$46))*COS(RADIANS($C$4))+COS(RADIANS(I$46))*SIN(RADIANS($C$4))*COS(RADIANS($C90)))/COS(RADIANS(I90))))","v":4.8585498002199659},40.784179948638595,{"$f":"DEGREES(ACOS((-SIN(RADIANS(K$46))*COS(RADIANS($C$4))+COS(RADIANS(K$46))*SIN(RADIANS($C$4))*COS(RADIANS($C90)))/COS(RADIANS(K90))))","v":6.108059435582013},52.072176525722824,{"$f":"DEGREES(ACOS((-SIN(RADIANS(M$46))*COS(RADIANS($C$4))+COS(RADIANS(M$46))*SIN(RADIANS($C$4))*COS(RADIANS($C90)))/COS(RADIANS(M90))))","v":8.1628606744736416},63.127801465517926,{"$f":"DEGREES(ACOS((-SIN(RADIANS(O$46))*COS(RADIANS($C$4))+COS(RADIANS(O$46))*SIN(RADIANS($C$4))*COS(RADIANS($C90)))/COS(RADIANS(O90))))","v":11.350598840451006},71.785363039152415,{"$f":"DEGREES(ACOS((-SIN(RADIANS(Q$46))*COS(RADIANS($C$4))+COS(RADIANS(Q$46))*SIN(RADIANS($C$4))*COS(RADIANS($C90)))/COS(RADIANS(Q90))))","v":13.69546009103049},75.31849376032639,103.92243056567457,56.077569434325426,"11:45:00","12:15:00",{"$f":"V89+$S$48","v":3.75},{"$f":"DEGREES(ACOS((-SIN(RADIANS(X$46))*COS(RADIANS($C$4))+COS(RADIANS(X$46))*SIN(RADIANS($C$4))*COS(RADIANS(V90)))/COS(RADIANS(X90))))","v":3.9224305656745768},28.692981272009366,"-","-","-","-","-","-","-","-","-","-","-","-","-","-","-","-","-","-","-","-","-","-","-","-","-",null,3.9013152465685144,"-","-","-","-","-","-","-","-","-","-","-","-","-","-","-","-","-","-","-","-","-","-","-","-","-",null,3.9224305656745768,"-",3.9224305656745768,"-",3.9224305656745768,"-",3.9224305656745768,"-",3.9224305656745768,"-",3.9224305656745768,"-",3.9224305656745768,"-",3.9224305656745768,"-",3.9224305656745768,"-",3.9224305656745768,"-",3.9224305656745768,"-",3.9224305656745768,"-",3.9224305656745768,"-",3.9224305656745768,"-",3.9224305656745768,"-",3.9224305656745768,"-",3.9224305656745768,"-",3.9224305656745768,"-",3.9224305656745768,"-",3.9224305656745768,"-",3.9224305656745768,"-",3.9224305656745768,"-",3.9224305656745768,"-",3.9224305656745768,"-",3.9224305656745768,"-"]
[null,"12:30:00",{"$f":"C90+$S$48","v":7.5},{"$f":"DEGREES(ACOS((-SIN(RADIANS(E$46))*COS(RADIANS($C$4))+COS(RADIANS(E$46))*SIN(RADIANS($C$4))*COS(RADIANS($C91)))/COS(RADIANS(E91))))","v":7.8237458122430912},28.389566091457663,{"$f":"DEGREES(ACOS((-SIN(RADIANS(G$46))*COS(RADIANS($C$4))+COS(RADIANS(G$46))*SIN(RADIANS($C$4))*COS(RADIANS($C91)))/COS(RADIANS(G91))))","v":8.2718079338199662},31.621061305355752,9.6764188949901282,40.409023415161116,12.13093144947702,51.602008867331257,16.106319028970351,62.503798380322493,22.07284654341672,70.930487952004796,26.269100716249564,74.301232546372034,107.82374581224309,52.176254187756911,"11:30:00","12:30:00",{"$f":"V90+$S$48","v":7.5},{"$f":"DEGREES(ACOS((-SIN(RADIANS(X$46))*COS(RADIANS($C$4))+COS(RADIANS(X$46))*SIN(RADIANS($C$4))*COS(RADIANS(V91)))/COS(RADIANS(X91))))","v":7.8237458122430912},28.389566091457663,"-","-","-","-","-","-","-","-","-","-","-","-","-","-","-","-","-","-","-","-","-","-","-","-","-",null,3.8599423756116273,"-","-","-","-","-","-","-","-","-","-","-","-","-","-","-","-","-","-","-","-","-","-","-","-","-",null,7.8237458122430912,"-",7.8237458122430912,"-",7.8237458122430912,"-",7.8237458122430912,"-",7.8237458122430912,"-",7.8237458122430912,"-",7.8237458122430912,"-",7.8237458122430912,"-",7.8237458122430912,"-",7.8237458122430912,"-",7.8237458122430912,"-",7.8237458122430912,"-",7.8237458122430912,"-",7.8237458122430912,"-",7.8237458122430912,"-",7.8237458122430912,"-",7.8237458122430912,"-",7.8237458122430912,"-",7.8237458122430912,"-",7.8237458122430912,"-",7.8237458122430912,"-",7.8237458122430912,"-",7.8237458122430912,"-",7.8237458122430912,"-",7.8237458122430912,"-"]
[null,"12:45:00",{"$f":"C91+$S$48","v":11.25},{"$f":"DEGREES(ACOS((-SIN(RADIANS(E$46))*COS(RADIANS($C$4))+COS(RADIANS(E$46))*SIN(RADIANS($C$4))*COS(RADIANS($C92)))/COS(RADIANS(E92))))","v":11.683688187854719},27.887225643677976,12.346505950443976,31.090401151222252,14.41542568246272,39.790123576992698,17.991700284853497,50.831206164997532,23.649094242191527,61.49465467018306,31.742353888318007,69.585985437146476,37.102703234347203,72.73963837467069,111.68368818785471,48.31631181214528,"11:15:00","12:45:00",{"$f":"V91+$S$48","v":11.25},11.683688187854719,27.887225643677976,"-","-","-","-","-","-","-","-","-","-","-","-","-","-","-","-","-","-","-","-","-","-","-","-","-",null,3.7999459459515705,"-","-","-","-","-","-","-","-","-","-","-","-","-","-","-","-","-","-","-","-","-","-","-","-","-",null,11.683688187854719,"-",11.683688187854719,"-",11.683688187854719,"-",11.683688187854719,"-",11.683688187854719,"-",11.683688187854719,"-",11.683688187854719,"-",11.683688187854719,"-",11.683688187854719,"-",11.683688187854719,"-",11.683688187854719,"-",11.683688187854719,"-",11.683688187854719,"-",11.683688187854719,"-",11.683688187854719,"-",11.683688187854719,"-",11.683688187854719,"-",11.683688187854719,"-",11.683688187854719,"-",11.683688187854719,"-",11.683688187854719,"-",11.683688187854719,"-",11.683688187854719,"-",11.683688187854719,"-",11.683688187854719,"-"]
[null,"13:00:00",15,15.483634133806289,27.190819076348156,16.350793077033398,30.355558646084038,19.042026431142055,38.936538936854518,23.628114562393378,49.777446212080143,30.671070036345924,60.140146191649762,40.201377250963077,67.842042211259709,46.127278100886542,70.767368186772416,115.48363413380629,44.516365866193709,"11:00:00","13:00:00",15,15.483634133806289,27.190819076348156,"-","-","-","-","-","-","-","-","-","-","-","-","-","-","-","-","-","-","-","-","-","-","-","-","-",null,3.7235873039280865,"-","-","-","-","-","-","-","-","-","-","-","-","-","-","-","-","-","-","-","-","-","-","-","-","-",null,15.483634133806289,"-",15.483634133806289,"-",15.483634133806289,"-",15.483634133806289,"-",15.483634133806289,"-",15.483634133806289,"-",15.483634133806289,"-",15.483634133806289,"-",15.483634133806289,"-",15.483634133806289,"-",15.483634133806289,"-",15.483634133806289,"-",15.483634133806289,"-",15.483634133806289,"-",15.483634133806289,"-",15.483634133806289,"-",15.483634133806289,"-",15.483634133806289,"-",15.483634133806289,"-",15.483634133806289,"-",15.483634133806289,"-",15.483634133806289,"-",15.483634133806289,"-",15.483634133806289,"-",15.483634133806289,"-"]
[null,"13:15:00",{"$f":"C93+$S$48","v":18.75},19.207221437734376,26.306831868249027,20.265924812894028,29.424113774972177,23.528826970268995,37.860066638817557,28.995972589451299,48.462803478432868,37.11622238828636,58.485781746480519,47.492499036812184,65.786410594759147,53.575679109616395,68.499061627397936,119.20722143773438,40.792778562265624,"10:45:00","13:15:00",{"$f":"V93+$S$48","v":18.75},19.207221437734376,26.306831868249027,"-","-","-","-","-","-",{"$f":"IF(AND($B$18=$B$19,OR(AND($C$18>$X94,$C$19<$X94),AND($C$18<$X94,$C$19>$X94))),BF94,IF(AND($W94>=$B$18,$W94<=$B$19),BF94,\"-\"))","v":"-"},{"$f":"IF(AND($B$19=$B$20,OR(AND($C$19>$X94,$C$20<$X94),AND($C$19<$X94,$C$20>$X94))),BG94,IF(AND($W94>=$B$19,$W94<=$B$20),BG94,\"-\"))","v":"-"},"-","-","-","-","-","-","-","-","-","-","-","-","-","-","-","-","-",null,3.633563514245246,"-","-","-","-","-","-","-","-","-","-","-","-","-","-","-","-","-","-","-","-","-","-","-","-","-",null,19.207221437734376,"-",19.207221437734376,"-",19.207221437734376,"-",19.207221437734376,"-",19.207221437734376,"-",19.207221437734376,"-",19.207221437734376,"-",19.207221437734376,"-",19.207221437734376,"-",19.207221437734376,"-",19.207221437734376,"-",19.207221437734376,"-",19.207221437734376,"-",19.207221437734376,"-",19.207221437734376,"-",19.207221437734376,"-",19.207221437734376,"-",19.207221437734376,"-",19.207221437734376,"-",19.207221437734376,"-",19.207221437734376,"-",19.207221437734376,"-",19.207221437734376,"-",19.207221437734376,"-",19.207221437734376,"-"]
[null,"13:30:00",{"$f":"C94+$S$48","v":22.5},22.840784951979622,25.243099002571746,24.076603569556639,28.305161724283391,27.855350481290792,36.574524275230516,34.069423971022267,46.911835150873856,42.980897419732997,56.577296528208073,53.758730710470658,63.493408422950715,59.760623085408646,66.020826650523446,122.84078495197963,37.159215048020378,"10:30:00","13:30:00",{"$f":"V94+$S$48","v":22.5},22.840784951979622,25.243099002571746,"-","-","-","-","-","-",{"$f":"IF(AND($B$18=$B$19,OR(AND($C$18>$X95,$C$19<$X95),AND($C$18<$X95,$C$19>$X95))),BF95,IF(AND($W95>=$B$18,$W95<=$B$19),BF95,\"-\"))","v":"-"},{"$f":"IF(AND($B$19=$B$20,OR(AND($C$19>$X95,$C$20<$X95),AND($C$19<$X95,$C$20>$X95))),BG95,IF(AND($W95>=$B$19,$W95<=$B$20),BG95,\"-\"))","v":"-"},"-","-","-","-","-","-","-","-","-","-","-","-","-","-","-","-","-",null,3.5328016659271491,"-","-","-","-","-","-","-","-","-","-","-","-","-","-","-","-","-","-","-","-","-","-","-","-","-",null,22.840784951979622,"-",22.840784951979622,"-",22.840784951979622,"-",22.840784951979622,"-",22.840784951979622,"-",22.840784951979622,"-",22.840784951979622,"-",22.840784951979622,"-",22.840784951979622,"-",22.840784951979622,"-",22.840784951979622,"-",22.840784951979622,"-",22.840784951979622,"-",22.840784951979622,"-",22.840784951979622,"-",22.840784951979622,"-",22.840784951979622,"-",22.840784951979622,"-",22.840784951979622,"-",22.840784951979622,"-",22.840784951979622,"-",22.840784951979622,"-",22.840784951979622,"-",{"$f":"$W95","v":22.840784951979622},"-",22.840784951979622,"-"]
[null,"13:45:00",{"$f":"C95+$S$48","v":26.25},26.373586617906771,24.00849851616438,27.771213499774746,27.008926332036591,32.008096902685004,35.095014368435621,38.838931404168235,45.149869814913835,48.296576466128485,54.457047978578508,59.170514968843818,61.021486590213932,64.968425052144426,63.393769549050774,126.37358661790677,33.626413382093233,"10:15:00","13:45:00",{"$f":"V95+$S$48","v":26.25},26.373586617906771,24.00849851616438,"-","-","-","-","-","-","-","-","-","-","-","-","-","-","-","-","-","-","-","-","-","-","-","-","-",null,3.4242655589342306,"-","-","-","-","-","-","-","-","-","-","-","-","-","-","-","-","-","-","-","-","-","-","-","-","-",null,26.373586617906771,"-",26.373586617906771,"-",26.373586617906771,"-",26.373586617906771,"-",26.373586617906771,"-",26.373586617906771,"-",26.373586617906771,"-",26.373586617906771,"-",26.373586617906771,"-",26.373586617906771,"-",26.373586617906771,"-",26.373586617906771,"-",26.373586617906771,"-",26.373586617906771,"-",26.373586617906771,"-",26.373586617906771,"-",26.373586617906771,"-",26.373586617906771,"-",26.373586617906771,"-",26.373586617906771,"-",26.373586617906771,"-",26.373586617906771,"-",26.373586617906771,"-",{"$f":"$W96","v":26.373586617906771},"-",26.373586617906771,"-"]
[null,"14:00:00",30,29.797852176841001,22.612640378106839,31.34179662982897,25.546375778886638,35.980040108483962,33.437246359999264,43.307960044238222,43.201679625155819,53.113950407581591,52.162254514699924,63.888346738550595,58.415007561411521,69.429143271806268,60.660576503682314,129.79785217684099,30.202147823158999,"10:00:00","14:00:00",30,29.797852176841001,22.612640378106839,"-","-","-","-","-","-","-","-","-","-","-","-","-","-","-","-","-","-","-","-","-","-","-","-","-",null,3.3107942918745614,"-","-","-","-","-","-","-","-","-","-","-","-","-","-","-","-","-","-","-","-","-","-","-","-","-",null,29.797852176841001,"-",29.797852176841001,"-",29.797852176841001,"-",29.797852176841001,"-",29.797852176841001,"-",29.797852176841001,"-",29.797852176841001,"-",29.797852176841001,"-",29.797852176841001,"-",29.797852176841001,"-",29.797852176841001,"-",29.797852176841001,"-",29.797852176841001,"-",29.797852176841001,"-",29.797852176841001,"-",29.797852176841001,"-",29.797852176841001,"-",29.797852176841001,"-",29.797852176841001,"-",29.797852176841001,"-",29.797852176841001,"-",29.797852176841001,"-",29.797852176841001,"-",29.797852176841001,"-",29.797852176841001,"-"]
[null,"14:15:00",{"$f":"C97+$S$48","v":33.75},33.108646468715563,21.065571729149902,34.783823173655946,23.928867503609847,39.76975938417241,31.616964943283058,47.489352641102826,41.090583089070165,57.49120875931284,49.724555013656513,68.049179126589436,55.707224026289722,73.318429687037664,57.851245651286398,133.10864646871556,26.891353531284437,"09:45:00","14:15:00",{"$f":"V97+$S$48","v":33.75},33.108646468715563,21.065571729149902,"-","-","-","-","-","-","-","-","-","-","-","-","-","-","-","-","-","-","-","-","-","-","-","-","-",null,3.1949833532727396,"-","-","-","-","-","-","-","-","-","-","-","-","-","-","-","-","-","-","-","-","-","-","-","-","-",null,33.108646468715563,"-",33.108646468715563,"-",33.108646468715563,"-",33.108646468715563,"-",33.108646468715563,"-",33.108646468715563,"-",33.108646468715563,"-",33.108646468715563,"-",33.108646468715563,"-",33.108646468715563,"-",33.108646468715563,"-",33.108646468715563,"-",33.108646468715563,"-",33.108646468715563,"-",33.108646468715563,"-",33.108646468715563,"-",33.108646468715563,"-",33.108646468715563,"-",33.108646468715563,"-",33.108646468715563,"-",33.108646468715563,"-",33.108646468715563,"-",{"$f":"$W98","v":33.108646468715563},"-",33.108646468715563,"-",33.108646468715563,"-"]
[null,"14:30:00",{"$f":"C98+$S$48","v":37.5},36.303629821988302,19.377513820516317,38.09582075268284,22.167840565996734,43.38039804827747,29.649506847093775,51.402029033815062,38.837934318928873,61.486705270636008,47.170327854925482,71.764661934834081,52.923098223833492,76.768167941969352,54.987227333790436,136.3036298219883,23.696370178011698,"09:30:00","14:30:00",{"$f":"V98+$S$48","v":37.5},36.303629821988302,19.377513820516317,"-","-","-","-","-","-","-","-","-","-","-",{"$f":"IF(AND($B$23=$B$24,OR(AND($C$23>$X99,$C$24<$X94),AND($C$23<$X94,$C$24>$X99))),BK99,IF(AND($W99>=$B$23,$W99<=$B$24),BK99,\"-\"))","v":"-"},"-","-","-","-","-","-","-","-","-","-","-","-","-",null,3.079110386409738,"-","-","-","-","-","-","-","-","-","-","-","-","-","-","-","-","-","-","-","-","-","-","-","-","-",null,36.303629821988302,"-",36.303629821988302,"-",36.303629821988302,"-",36.303629821988302,"-",36.303629821988302,"-",36.303629821988302,"-",36.303629821988302,"-",36.303629821988302,"-",36.303629821988302,"-",36.303629821988302,"-",36.303629821988302,"-",{"$f":"$W99","v":36.303629821988302},"-",36.303629821988302,"-",36.303629821988302,"-",36.303629821988302,"-",36.303629821988302,"-",36.303629821988302,"-",36.303629821988302,"-",36.303629821988302,"-",36.303629821988302,"-",36.303629821988302,"-",36.303629821988302,"-",36.303629821988302,"-",36.303629821988302,"-",36.303629821988302,"-"]
[null,"14:45:00",{"$f":"C99+$S$48","v":41.25},39.38274020839804,17.558639851621194,41.278926344670126,20.274564862898657,46.818604287504407,27.549486573390485,55.068317412290291,36.462912242264601,65.155006366702011,44.521352534187145,75.124021093129159,50.081556202712314,79.877355678539587,52.084221711203753,139.38274020839805,20.61725979160196,"09:15:00","14:45:00",{"$f":"V99+$S$48","v":41.25},39.38274020839804,17.558639851621194,"-","-","-","-","-","-","-","-","-","-","-",{"$f":"IF(AND($B$23=$B$24,OR(AND($C$23>$X100,$C$24<$X95),AND($C$23<$X95,$C$24>$X100))),BK100,IF(AND($W100>=$B$23,$W100<=$B$24),BK100,\"-\"))","v":"-"},"-","-","-","-","-","-","-","-","-","-","-","-","-",null,2.9651014580430655,"-","-","-","-","-","-","-","-","-","-","-","-","-","-","-","-","-","-","-","-","-","-","-","-","-",null,39.38274020839804,"-",39.38274020839804,"-",39.38274020839804,"-",39.38274020839804,"-",39.38274020839804,"-",39.38274020839804,"-",39.38274020839804,"-",39.38274020839804,"-",39.38274020839804,"-",39.38274020839804,"-",39.38274020839804,"-",39.38274020839804,"-",39.38274020839804,"-",39.38274020839804,"-",39.38274020839804,"-",39.38274020839804,"-",39.38274020839804,"-",39.38274020839804,"-",39.38274020839804,"-",39.38274020839804,"-",39.38274020839804,"-",39.38274020839804,"-",39.38274020839804,"-",39.38274020839804,"-",39.38274020839804,"-"]
[null,"15:00:00",45,42.347841666441106,15.618897349342992,44.336415295398943,18.25994914877592,50.093558813077408,25.330597457057525,58.511982694602636,33.982517129999877,68.545167864401975,41.79556186063251,78.198133575417046,47.197167722417845,82.720908787519704,49.154030734636578,142.3478416664411,17.652158333558894,"09:00:00","15:00:00",45,42.347841666441106,15.618897349342992,"-","-","-","-","-","-","-","-","-","-","-",{"$f":"IF(AND($B$23=$B$24,OR(AND($C$23>$X101,$C$24<$X96),AND($C$23<$X96,$C$24>$X101))),BK101,IF(AND($W101>=$B$23,$W101<=$B$24),BK101,\"-\"))","v":"-"},"-","-","-","-","-","-","-","-","-","-","-","-","-",null,null,"-","-","-","-","-","-","-","-","-","-","-","-","-","-","-","-","-","-","-","-","-","-","-","-","-",null,42.347841666441106,"-",42.347841666441106,"-",42.347841666441106,"-",42.347841666441106,"-",42.347841666441106,"-",42.347841666441106,"-",42.347841666441106,"-",42.347841666441106,"-",42.347841666441106,"-",{"$f":"$W101","v":42.347841666441106},"-",{"$f":"$W101","v":42.347841666441106},"-",42.347841666441106,"-",42.347841666441106,"-",42.347841666441106,"-",42.347841666441106,"-",42.347841666441106,"-",42.347841666441106,"-",42.347841666441106,"-",42.347841666441106,"-",42.347841666441106,"-",42.347841666441106,"-",42.347841666441106,"-",42.347841666441106,"-",42.347841666441106,"-",42.347841666441106,"-"]
[null,"15:15:00",{"$f":"C101+$S$48","v":48.75},45.202371645805492,13.567874358345694,47.273248163061652,16.134404400662241,53.216146360418151,23.005507402004454,61.756881344029168,31.411695127257126,71.700320334435006,39.007756293347555,81.043409809199957,44.281361257783999,85.356227032708858,46.205784826550691]
[null,"15:30:00",{"$f":"C102+$S$48","v":52.5},47.951010804756116,11.414705723008369,50.095662161063736,13.907755766746645,56.198291219904448,20.585827020852651,64.826117654265829,28.763531340823949,74.657943821511438,36.170227792704111,83.705049161164098,41.343294297250061,87.827940240900134,43.24676439453664,null,null,null,null,null,null,null,null,null,null,null,null,null,null,null,null,null,null,null,null,null,null,null,null,null,null,null,null,null,null,null,null,null,{"$f":"ABS(AB81-$X81)","v":{"$error":"#VALUE!"}},null,null,"tabla que busca las horizontales que cortan 2 veces la curva del solsticio de invierno"]
[null,"15:45:00",{"$f":"C103+$S$48","v":56.25},50.599390148550228,9.1680140464324467,52.810821804611912,11.589194833014272,59.052452705131024,18.082129632151631,67.741571274383972,26.049471117849084,77.450455807786881,33.293281074474322,86.219622818927476,38.390477678571969,90.171307572759176,40.282959174853197,null,null,null,null,null,null,null,"TENIENDO EN CUENTA LAS FACHADAS",null,null,null,null,null,null,null,null,null,null,null,null,null,null,null,null,null,null,null,null,null,null,null,null,null,{"$f":"ABS(AB97-$X97)","v":{"$error":"#VALUE!"}}]
[null,"16:00:00",60,53.153843223386296,6.8358792606560757,55.426534073253421,9.1872637580324703,61.791263074477506,15.504005935641453,70.523683603063702,23.27954444097584,80.105901639804344,30.385659017943794,88.617071927332745,35.429227204840387,92.414655562305612,37.319456680830562,null,null,null,null,null,null,null,{"$f":"Y75","v":"AB"},{"$f":"Z75","v":"BC"},"CD","DE","EF","FG","GH","HI","IJ","JK","KL","LM","MN","NO","OP","PQ","QR","RS","ST","TU","UV","VW","WX","XY","YZ",null,null,null,null,{"$f":"Y75","v":"AB"},{"$f":"Z75","v":"BC"},"CD","DE","EF","FG","GH","HI","IJ","JK","KL","LM","MN","NO","OP","PQ","QR","RS","ST","TU","UV","VW","WX","XY","YZ",null,null,null,null,null,null,null,null,null,null,null,12,null,13,null,14,null,15,null,16,null,17,null,18,null,19,null,20,null,21,null,22,null,23,null,24,null,25,null,26,null,27,null,28,null,29,null,30,null,31,null,32,null,33,null,34,null,35,null,36,null,37]
[null,"16:15:00",{"$f":"C105+$S$48","v":63.75},55.621205747341037,4.4258308338672636,57.951027093934293,6.7098634836461173,64.427284980649915,12.8601400083776,73.191415623593002,20.462579368394145,82.648638645315003,27.454886058589622,90.922237616465324,32.464994554568428,94.581138930202059,34.360718011338882,null,null,null,null,null,null,null,null,null,null,null,null,null,null,null,null,null,null,null,null,null,null,null,null,null,null,null,null,null,null,null,null,null,null,null,null,{"$f":"IFERROR(SMALL(Y107:Y131,2),\"\")","v":""},"","","","","","","","","","","","","","","","","","","","","","","","",null,"AZIMUT","ALTURA",null,null,null,null,null,null,null,null,"A","ALTURA","B","ALTURA","C","ALTURA","D","ALTURA","E","ALTURA","f","ALTURA","g","ALTURA","h","ALTURA","i","ALTURA","J","ALTURA","k","ALTURA","l","ALTURA","m","ALTURA","n","ALTURA","o","ALTURA","p","ALTURA","q","ALTURA","r","ALTURA","s","ALTURA","t","ALTURA","u","ALTURA","v","ALTURA","w","ALTURA","x","ALTURA","y ","ALTURA","z","ALTURA"]
[null,"16:30:00",{"$f":"C106+$S$48","v":67.5},58.008661519285475,1.9448571949922837,60.39278763457412,4.1642793330535879,66.972865132402532,10.15839685655496,75.762313662046807,17.606397776995568,85.099964029706442,24.507544685412878,93.156030313583926,29.502613772992326,96.690024879883936,31.410778517432181,null,null,null,"09:00:00",-45,{"$f":"-DEGREES(ACOS((-SIN(RADIANS(X$46))*COS(RADIANS($C$4))+COS(RADIANS(X$46))*SIN(RADIANS($C$4))*COS(RADIANS(V107)))/COS(RADIANS(X107))))","v":-42.347841666441106},{"$f":"180/PI()*ASIN(SIN(X$46*PI()/180)*SIN($C$4*PI()/180)+COS(X$46*PI()/180)*COS($C$4*PI()/180)*COS($V107*PI()/180))","v":15.618897349342992},{"$f":"IFERROR(IF(ABS(Y77-$X77)>$AZ$132,\"-\",$U107),\"-\")","v":"-"},"-","-","-","-","-","-","-","-","-","-","-","-","-","-","-","-","-","-","-","-","-","-","-","-",{"$f":"IFERROR(ABS(AX77-$X77),\"-\")","v":15.618897349342992},{"$f":"ABS(MAX(X107-X108))","v":1.939742502278202},null,null,{"$f":"Y107","v":"-"},"-","-","-","-","-","-","-","-","-","-","-","-","-","-","-",{"$f":"AO107","v":"-"},"-","-","-","-","-","-","-","-",null,-41.88349477943585,13.652268663015196,null,null,null,"ALTURA","AZIMUT",{"$f":"A12","v":"A"},""]
[null,"16:45:00",{"$f":"C107+$S$48","v":71.25},60.323631429347628,-0.60057225063419128,62.760450985000418,1.5572185721909073,69.440063230535742,7.4059148040897629,78.252639267440173,14.717991243278645,87.478668709653704,21.549498948382386,95.336325999547711,26.546488545379223,98.757640494588216,28.473397777098185,null,null,null,"09:15:00",{"$f":"V107+$S$48","v":-41.25},-39.38274020839804,17.558639851621194,"-","-","-","-","-","-","-","-","-","-","-","-","-","-","-","-","-","-","-","-","-","-","-","-","-",null,{"$f":"ABS(X108-X109)","v":1.8188739688951223},null,null,"-","-","-","-","-","-","-","-","-","-","-","-","-","-","-","-","-","-","-","-","-","-","-","-","-",null,-38.886081064558283,15.502218668540674,null,"09:00:00",-45,{"$f":"X77","v":15.618897349342992},{"$f":"W77","v":-42.347841666441106},"B","",null,{"$f":"IF($CJ$107=\"\",\"-\",ABS($CJ$107-$CB107))","v":"-"},{"$f":"$CG108","v":15.618897349342992},{"$f":"IF($CJ$108=\"\",\"-\",ABS($CJ$108-$CB107))","v":"-"},{"$f":"$CG108","v":15.618897349342992},{"$f":"IF($CJ$109=\"\",\"-\",ABS($CJ$109-$CB107))","v":"-"},{"$f":"$CG108","v":15.618897349342992},{"$f":"IF($CJ$110=\"\",\"-\",ABS($CJ$110-$CB107))","v":"-"},{"$f":"$CG108","v":15.618897349342992},{"$f":"IF($CJ$111=\"\",\"-\",ABS($CJ$111-$CB107))","v":"-"},{"$f":"$CG108","v":15.618897349342992},{"$f":"IF($CJ$112=\"\",\"-\",ABS($CJ$112-$CB107))","v":"-"},{"$f":"$CG108","v":15.618897349342992},{"$f":"IF($CJ$113=\"\",\"-\",ABS($CJ$113-$CB107))","v":"-"},{"$f":"$CG108","v":15.618897349342992},{"$f":"IF($CJ$114=\"\",\"-\",ABS($CJ$114-$CB107))","v":"-"},{"$f":"$CG108","v":15.618897349342992},{"$f":"IF($CJ$115=\"\",\"-\",ABS($CJ$115-$CB107))","v":"-"},{"$f":"$CG108","v":15.618897349342992},{"$f":"IF($CJ$116=\"\",\"-\",ABS($CJ$116-$CB107))","v":"-"},{"$f":"$CG108","v":15.618897349342992},{"$f":"IF($CJ$117=\"\",\"-\",ABS($CJ$117-$CB107))","v":"-"},{"$f":"$CG108","v":15.618897349342992},{"$f":"IF($CJ$118=\"\",\"-\",ABS($CJ$118-$CB107))","v":"-"},{"$f":"$CG108","v":15.618897349342992},{"$f":"IF($CJ$119=\"\",\"-\",ABS($CJ$119-$CB107))","v":"-"},{"$f":"$CG108","v":15.618897349342992},{"$f":"IF($CJ$120=\"\",\"-\",ABS($CJ$120-$CB107))","v":"-"},{"$f":"$CG108","v":15.618897349342992},{"$f":"IF($CJ$121=\"\",\"-\",ABS($CJ$121-$CB107))","v":"-"},{"$f":"$CG108","v":15.618897349342992},{"$f":"IF($CJ$122=\"\",\"-\",ABS($CJ$122-$CB107))","v":"-"},{"$f":"$CG108","v":15.618897349342992},{"$f":"IF($CJ$123=\"\",\"-\",ABS($CJ$123-$CB107))","v":"-"},{"$f":"$CG108","v":15.618897349342992},{"$f":"IF($CJ$124=\"\",\"-\",ABS($CJ$124-$CB107))","v":"-"},{"$f":"$CG108","v":15.618897349342992},{"$f":"IF($CJ$125=\"\",\"-\",ABS($CJ$125-$CB107))","v":"-"},{"$f":"$CG108","v":15.618897349342992},{"$f":"IF($CJ$126=\"\",\"-\",ABS($CJ$126-$CB107))","v":"-"},{"$f":"$CG108","v":15.618897349342992},{"$f":"IF($CJ$127=\"\",\"-\",ABS($CJ$127-$CB107))","v":"-"},{"$f":"$CG108","v":15.618897349342992},{"$f":"IF($CJ$128=\"\",\"-\",ABS($CJ$128-$CB107))","v":"-"},{"$f":"$CG108","v":15.618897349342992},{"$f":"IF($CJ$129=\"\",\"-\",ABS($CJ$129-$CB107))","v":"-"},{"$f":"$CG108","v":15.618897349342992},{"$f":"IF($CJ$130=\"\",\"-\",ABS($CJ$130-$CB107))","v":"-"},{"$f":"$CG108","v":15.618897349342992},{"$f":"IF($CJ$131=\"\",\"-\",ABS($CJ$131-$CB107))","v":"-"},{"$f":"$CG108","v":15.618897349342992},{"$f":"IF($CJ$132=\"\",\"-\",ABS($CJ$132-$CB107))","v":"-"},{"$f":"$CG108","v":15.618897349342992}]
[null,"17:00:00",75,62.573701556156045,-3.2044762678887024,65.06273649778305,-1.1051442449814852,71.840638830170306,4.6091984181578267,80.67753436737685,11.803677576523375,89.801515614227313,18.586076823078852,97.478657214302075,23.600737804517081,100.79807998607461,25.552175061908574,null,null,null,"09:30:00",{"$f":"V108+$S$48","v":-37.5},-36.303629821988302,19.377513820516317,"-","-","-","-","-","-","-","-","-","-","-","-","-","-","-","-","-","-","-","-","-","-","-","-","-",null,1.688057908633585,null,null,"-","-","-","-","-","-","-","-","-","-","-","-","-","-","-","-","-","-","-","-","-","-","-","-","-",null,-35.787477482558735,17.233935617375867,null,"09:15:00",{"$f":"CF108+$S$48","v":-41.25},17.558639851621194,-39.38274020839804,"C","",null,"-",17.558639851621194,"-",17.558639851621194,"-",17.558639851621194,"-",17.558639851621194,"-",17.558639851621194,"-",17.558639851621194,"-",17.558639851621194,"-",17.558639851621194,"-",17.558639851621194,"-",17.558639851621194,"-",17.558639851621194,"-",17.558639851621194,"-",17.558639851621194,"-",17.558639851621194,"-",17.558639851621194,"-",17.558639851621194,"-",17.558639851621194,"-",17.558639851621194,"-",17.558639851621194,"-",17.558639851621194,"-",17.558639851621194,"-",17.558639851621194,"-",17.558639851621194,"-",17.558639851621194,{"$f":"IF($CJ$119=\"\",\"-\",ABS($CJ$119-$CB108))","v":"-"},17.558639851621194,{"$f":"IF($CJ$120=\"\",\"-\",ABS($CJ$120-$CB108))","v":"-"},17.558639851621194]
[null,"17:15:00",{"$f":"C109+$S$48","v":78.75},64.766586349806971,-5.8613250016875718,67.308422672263077,-3.8171171989333574,74.186082644858118,1.7742095093696604,83.051203601297772,8.8692399725804307,92.083648560258553,15.622221146528849,99.596749874389232,20.669311986690584,102.82373897632311,22.650641179544557,null,null,null,"09:45:00",{"$f":"V109+$S$48","v":-33.75},-33.108646468715563,21.065571729149902,"-","-","-","-","-","-","-","-","-","-","-","-","-","-","-","-","-","-","-","-","-","-","-","-","-",null,1.5470686489569374,null,null,"-","-","-","-","-","-","-","-","-","-","-","-","-","-","-","-","-","-","-","-","-","-","-","-","-",null,-32.586566732076356,18.838325660249811,null,"09:30:00",{"$f":"CF109+$S$48","v":-37.5},19.377513820516317,-36.303629821988302,"D","",null,"-",19.377513820516317,"-",19.377513820516317,"-",19.377513820516317,"-",19.377513820516317,"-",19.377513820516317,"-",19.377513820516317,"-",19.377513820516317,"-",19.377513820516317,"-",19.377513820516317,"-",19.377513820516317,"-",19.377513820516317,"-",19.377513820516317,"-",19.377513820516317,"-",19.377513820516317,"-",19.377513820516317,"-",19.377513820516317,"-",19.377513820516317,"-",19.377513820516317,"-",19.377513820516317,"-",19.377513820516317,"-",19.377513820516317,"-",19.377513820516317,"-",19.377513820516317,"-",19.377513820516317,"-",19.377513820516317,"-",19.377513820516317]
[null,"17:30:00",{"$f":"C110+$S$48","v":82.5},66.910123501019569,-8.5659993722002294,69.50635682888641,-6.5734382735811661,76.487682454165125,-1.0935448992459706,85.387103166774267,5.9200514622676241,94.338940651512388,12.662616941695406,101.7029438222747,17.756088660942563,104.84572266955684,19.772334127689142,null,null,null,"10:00:00",-30,-29.797852176841001,22.612640378106839,"-","-","-","-","-","-","-","-","-","-","-","-","-","-","-","-","-","-","-","-","-","-","-","-","-",null,1.395858138057541,null,null,"-","-","-","-","-","-","-","-","-","-","-","-","-","-","-","-","-","-","-","-","-","-","-","-","-",null,-29.283972356834614,20.306180453690455,null,"09:45:00",{"$f":"CF110+$S$48","v":-33.75},21.065571729149902,-33.108646468715563,"E","",null,"-",21.065571729149902,"-",21.065571729149902,"-",21.065571729149902,"-",21.065571729149902,"-",21.065571729149902,"-",21.065571729149902,"-",21.065571729149902,"-",21.065571729149902,"-",21.065571729149902,"-",21.065571729149902,"-",21.065571729149902,"-",21.065571729149902,"-",21.065571729149902,"-",21.065571729149902,"-",21.065571729149902,"-",21.065571729149902,"-",21.065571729149902,"-",21.065571729149902,"-",21.065571729149902,"-",21.065571729149902,"-",21.065571729149902,"-",21.065571729149902,"-",21.065571729149902,"-",21.065571729149902,"-",21.065571729149902,"-",21.065571729149902]
[null,"17:45:00",{"$f":"C111+$S$48","v":86.25},69.012298100831202,-11.313748092097633,71.665495903810779,-9.3692212328194699,78.756617002875998,-3.9889277502205625,87.698130497711574,2.961187606318247,96.580291558885619,9.7118013787758031,103.80852503202036,14.864953780826635,106.87416074227458,16.920863711256555,null,null,null,"10:15:00",{"$f":"V111+$S$48","v":-26.25},-26.373586617906771,24.00849851616438,"-","-","-","-","-","-","-","-","-","-","-","-","-","-","-","-","-","-","-","-","-","-","-","-","-",null,1.2346004864073663,null,null,"-","-","-","-","-","-","-","-","-","-","-","-","-","-","-","-","-","-","-","-","-","-","-","-","-",null,-25.882318478633962,21.628337368656844,null,"10:00:00",-30,22.612640378106839,-29.797852176841001,"F","",null,"-",22.612640378106839,"-",22.612640378106839,"-",22.612640378106839,"-",22.612640378106839,"-",22.612640378106839,"-",22.612640378106839,"-",22.612640378106839,"-",22.612640378106839,"-",22.612640378106839,"-",22.612640378106839,"-",22.612640378106839,"-",22.612640378106839,"-",22.612640378106839,"-",22.612640378106839,"-",22.612640378106839,"-",22.612640378106839,"-",22.612640378106839,"-",22.612640378106839,"-",22.612640378106839,"-",22.612640378106839,"-",22.612640378106839,"-",22.612640378106839,"-",22.612640378106839,"-",22.612640378106839,"-",22.612640378106839,"-",22.612640378106839]
[null,"18:00:00",90,71.081294994702446,-14.100143146997796,73.794976570552222,-12.199900680141631,81.004074053886768,-6.9070896606548366,89.996812334455569,-2.4695553609657829E-3,98.819882264701178,6.7742613716560918,105.92398988173893,11.999873080193066,108.91845199790751,14.099968729540603,null,null,null,"10:30:00",{"$f":"V112+$S$48","v":-22.5},-22.840784951979622,25.243099002571746,"-","-","-","-","-","-","-","-","-","-","-","-","-","-","-","-","-","-","-","-","-","-","-","-","-",null,1.0637328656772809,null,null,"-","-","-","-","-","-","-","-","-","-","-","-","-","-","-","-","-","-","-","-","-","-","-","-","-",null,-22.386452574519581,22.79587332520358,null,"10:15:00",{"$f":"CF112+$S$48","v":-26.25},24.00849851616438,-26.373586617906771,"G","",null,"-",24.00849851616438,"-",24.00849851616438,"-",24.00849851616438,"-",24.00849851616438,"-",24.00849851616438,"-",24.00849851616438,"-",24.00849851616438,"-",24.00849851616438,"-",24.00849851616438,"-",24.00849851616438,"-",24.00849851616438,"-",24.00849851616438,"-",24.00849851616438,"-",24.00849851616438,"-",24.00849851616438,"-",24.00849851616438,"-",24.00849851616438,"-",24.00849851616438,"-",24.00849851616438,"-",24.00849851616438,"-",24.00849851616438,"-",24.00849851616438,"-",24.00849851616438,"-",24.00849851616438,"-",24.00849851616438,"-",24.00849851616438]
[null,"18:15:00",{"$f":"C113+$S$48","v":93.75},73.125579796250705,-16.921034056909456,75.904214728758106,-15.061176289056295,83.241391133106177,-9.8433879789269128,92.295490769927341,-2.9661333318111036,101.06939454961916,3.8545228313518103,108.05925624410983,9.1649569053952966,110.98745491129331,11.313569262852853,null,null,null,"10:45:00",{"$f":"V113+$S$48","v":-18.75},-19.207221437734376,26.306831868249027,"-","-","-","-","-","-","-","-","-","-","-","-","-","-","-","-","-","-","-","-","-","-","-","-","-",null,0.88398720809912845,null,null,"-","-","-","-","-","-","-","-","-","-","-","-","-","-","-","-","-","-","-","-","-","-","-","-","-",null,-18.803601153057873,23.800327964408542,null,"10:30:00",{"$f":"CF113+$S$48","v":-22.5},25.243099002571746,-22.840784951979622,"H","",null,"-",25.243099002571746,"-",25.243099002571746,"-",25.243099002571746,"-",25.243099002571746,"-",25.243099002571746,"-",25.243099002571746,"-",25.243099002571746,"-",25.243099002571746,"-",25.243099002571746,"-",25.243099002571746,"-",25.243099002571746,"-",25.243099002571746,"-",25.243099002571746,"-",25.243099002571746,"-",25.243099002571746,"-",25.243099002571746,"-",25.243099002571746,"-",25.243099002571746,"-",25.243099002571746,"-",25.243099002571746,"-",25.243099002571746,"-",25.243099002571746,"-",25.243099002571746,"-",25.243099002571746,"-",25.243099002571746,"-",25.243099002571746]
[null,"18:30:00",{"$f":"C114+$S$48","v":97.5},75.154010883461339,-19.772500757331589,78.003036423684037,-17.948955659389728,85.480219575484639,-12.793305523119008,94.606508023052214,-5.9250170778956743,103.34020097681388,0.95723483736753101,110.22383182818744,6.3645208740975878,113.0896351898183,8.565815805185732,null,null,null,"11:00:00",-15,-15.483634133806289,27.190819076348156,"-","-","-","-","-","-","-","-","-","-","-","-","-","-","-","-","-","-","-","-","-","-","-","-","-",null,0.69640656732982009,null,null,"-","-","-","-","-","-","-","-","-","-","-","-","-","-","-","-","-","-","-","-","-","-","-","-","-",null,-15.143426852213059,24.633947774758685,null,"10:45:00",{"$f":"CF114+$S$48","v":-18.75},26.306831868249027,-19.207221437734376,"I","",null,"-",26.306831868249027,"-",26.306831868249027,"-",26.306831868249027,"-",26.306831868249027,"-",26.306831868249027,"-",26.306831868249027,"-",26.306831868249027,"-",26.306831868249027,"-",26.306831868249027,"-",26.306831868249027,"-",26.306831868249027,"-",26.306831868249027,"-",26.306831868249027,"-",26.306831868249027,"-",26.306831868249027,"-",26.306831868249027,"-",26.306831868249027,"-",26.306831868249027,"-",26.306831868249027,"-",26.306831868249027,"-",26.306831868249027,"-",26.306831868249027,"-",26.306831868249027,"-",26.306831868249027,"-",26.306831868249027,"-",26.306831868249027]
[null,"18:45:00",{"$f":"C115+$S$48","v":101.25},77.175986957737308,-22.650804467563596,80.101844569239489,-20.859294729094216,87.732714345344974,-15.752366869306739,96.942391222265059,-8.8742388900767004,105.64352950500796,-1.9127486158569853,112.42694683083749,3.603144054813983,115.23317777158377,5.8611363840396482,null,null,null,"11:15:00",{"$f":"V115+$S$48","v":-11.25},-11.683688187854719,27.887225643677976,"-","-","-","-","-","-","-","-","-","-","-","-","-","-","-","-","-","-","-","-","-","-","-","-","-",null,0.50234044777968734,null,null,"-","-","-","-","-","-","-","-","-","-","-","-","-","-","-","-","-","-","-","-","-","-","-","-","-",null,-11.417958734073796,25.289938525147647,null,"11:00:00",-15,27.190819076348156,-15.483634133806289,"J","",null,"-",27.190819076348156,"-",27.190819076348156,"-",27.190819076348156,"-",27.190819076348156,"-",27.190819076348156,"-",27.190819076348156,"-",27.190819076348156,"-",27.190819076348156,"-",27.190819076348156,"-",27.190819076348156,"-",27.190819076348156,"-",27.190819076348156,"-",27.190819076348156,"-",27.190819076348156,"-",27.190819076348156,"-",27.190819076348156,"-",27.190819076348156,"-",27.190819076348156,"-",27.190819076348156,"-",27.190819076348156,"-",27.190819076348156,"-",27.190819076348156,"-",27.190819076348156,"-",27.190819076348156,"-",27.190819076348156,"-",27.190819076348156]
[null,"19:00:00",105,79.201637586138304,-25.552335405134858,82.211828599581636,-23.788334097183878,90.011753846291185,-18.716049548114217,99.316038482497277,-11.808723431022582,107.99060515224612,-4.7502871437730798,114.67765522520597,0.88572578295667448,117.42606784095985,3.2042822998998233,null,null,null,"11:30:00",{"$f":"V116+$S$48","v":-7.5},-7.8237458122430912,28.389566091457663,"-","-","-","-","-",{"$f":"IFERROR(IF(ABS(AD87-$X87)>$AZ$132,\"-\",$U117),\"-\")","v":"-"},"-","-","-","-","-","-","-","-","-","-","-","-","-","-","-","-","-","-","-",null,0.30341518055170269,null,null,"-","-","-","-","-","-","-","-","-","-","-","-","-","-","-","-","-","-","-","-","-","-","-","-","-",null,-7.6413764062110587,25.762709648644627,null,"11:15:00",{"$f":"CF116+$S$48","v":-11.25},27.887225643677976,-11.683688187854719,"K","",null,"-",27.887225643677976,"-",27.887225643677976,"-",27.887225643677976,"-",27.887225643677976,"-",27.887225643677976,"-",27.887225643677976,"-",27.887225643677976,"-",27.887225643677976,"-",27.887225643677976,"-",27.887225643677976,"-",27.887225643677976,"-",27.887225643677976,"-",27.887225643677976,"-",27.887225643677976,"-",27.887225643677976,"-",27.887225643677976,"-",27.887225643677976,"-",27.887225643677976,"-",27.887225643677976,"-",27.887225643677976,"-",27.887225643677976,"-",27.887225643677976,"-",27.887225643677976,"-",27.887225643677976,"-",27.887225643677976,"-",27.887225643677976]
[null,"19:15:00",{"$f":"C117+$S$48","v":108.75},81.242067853665802,{"$f":"180/PI()*ASIN(SIN(E$46*PI()/180)*SIN($C$4*PI()/180)+COS(E$46*PI()/180)*COS($C$4*PI()/180)*COS($C118*PI()/180))","v":-28.473555599876963},84.345227595750202,-26.732228922941605,92.331195608162034,-21.679686896679581,101.74090702877852,-14.723097973745073,110.39276928691423,-7.5498710743264317,116.98490670718499,-1.7824582999499397,119.6761431843664,0.60037264673879398,null,null,null,"11:45:00",{"$f":"V117+$S$48","v":-3.75},-3.9224305656745768,28.692981272009366,{"$f":"IFERROR(IF(ABS(Y88-$X88)>$AZ$132,\"-\",$U118),\"-\")","v":"-"},"-","-","-","-","-","-","-","-","-","-","-","-","-","-","-","-","-","-","-","-","-","-","-","-",null,0.10147850823807403,null,null,"-","-","-","-","-","-","-","-","-","-","-","-","-","-","-","-","-","-","-","-","-","-","-","-","-",null,-3.8296429625831316,26.048091931462313,null,"11:30:00",{"$f":"CF117+$S$48","v":-7.5},28.389566091457663,-7.8237458122430912,"L","",null,"-",28.389566091457663,"-",28.389566091457663,"-",28.389566091457663,"-",28.389566091457663,"-",28.389566091457663,"-",28.389566091457663,"-",28.389566091457663,"-",28.389566091457663,"-",28.389566091457663,"-",28.389566091457663,"-",28.389566091457663,"-",28.389566091457663,"-",28.389566091457663,"-",28.389566091457663,"-",28.389566091457663,"-",28.389566091457663,"-",28.389566091457663,"-",28.389566091457663,"-",28.389566091457663,"-",28.389566091457663,"-",28.389566091457663,"-",28.389566091457663,"-",28.389566091457663,"-",28.389566091457663,"-",28.389566091457663,"-",28.389566091457663]
[null,"19:30:00",{"$f":"C118+$S$48","v":112.5},83.309673250826208,-31.410934278140275,86.515661837352837,-29.687069171259427,94.706175333764222,-24.638358542114048,104.23120295365857,-17.611579695747956,112.86157505750303,-10.305535911921483,119.35758928511797,-4.3957009336270385,121.99111835147056,-1.9450627042290183,null,null,null,"12:00:00",0,{"$error":"#NUM!"},28.79445978024744,"-","-","-","-","-","-","-","-","-","-","-","-","-","-","-","-","-","-","-","-","-","-","-","-","-",null,0.10147850823807403,null,null,"-","-","-","-","-","-","-","-","-","-","-","-","-","-","-","-","-","-","-","-","-","-","-","-","-",null,0,26.143509780247438,null,"11:45:00",{"$f":"CF118+$S$48","v":-3.75},28.692981272009366,-3.9224305656745768,"M","",null,"-",28.692981272009366,"-",28.692981272009366,"-",28.692981272009366,"-",28.692981272009366,"-",28.692981272009366,"-",28.692981272009366,"-",28.692981272009366,"-",28.692981272009366,"-",28.692981272009366,"-",28.692981272009366,"-",28.692981272009366,"-",28.692981272009366,"-",28.692981272009366,"-",28.692981272009366,"-",28.692981272009366,"-",28.692981272009366,"-",28.692981272009366,"-",28.692981272009366,"-",28.692981272009366,"-",28.692981272009366,"-",28.692981272009366,"-",28.692981272009366,"-",28.692981272009366,"-",28.692981272009366,"-",28.692981272009366,"-",28.692981272009366]
[null,"19:45:00",{"$f":"C119+$S$48","v":116.25},85.418547843195597,-34.360872210663608,88.738553536727935,-32.648785752576828,97.153458194711092,-27.586763500922224,106.80207017262637,-20.467851213574288,115.40885508799279,-13.010773508464034,121.8045406383047,-6.9478091956311845,124.37857952561478,-4.4260424986819249,null,null,null,"12:15:00",{"$f":"V119+$S$48","v":3.75},{"$f":"DEGREES(ACOS((-SIN(RADIANS(X$46))*COS(RADIANS($C$4))+COS(RADIANS(X$46))*SIN(RADIANS($C$4))*COS(RADIANS(V120)))/COS(RADIANS(X120))))","v":3.9224305656745768},28.692981272009366,"-","-","-","-","-","-","-","-","-","-","-","-","-","-","-","-","-","-","-","-","-","-","-","-","-",null,0.30341518055170269,null,null,"-","-","-","-","-","-","-","-","-","-","-","-","-","-","-","-","-","-","-","-","-","-","-","-","-",null,3.8296429625831316,26.048091931462313,null,"12:00:00",0,28.79445978024744,{"$error":"#NUM!"},"N","",null,"-",28.79445978024744,"-",28.79445978024744,"-",28.79445978024744,"-",28.79445978024744,"-",28.79445978024744,"-",28.79445978024744,"-",28.79445978024744,"-",28.79445978024744,"-",28.79445978024744,"-",28.79445978024744,"-",28.79445978024744,"-",28.79445978024744,"-",28.79445978024744,"-",28.79445978024744,"-",28.79445978024744,"-",28.79445978024744,"-",28.79445978024744,"-",28.79445978024744,"-",28.79445978024744,"-",28.79445978024744,"-",28.79445978024744,"-",28.79445978024744,"-",28.79445978024744,"-",28.79445978024744,"-",28.79445978024744,"-",28.79445978024744]
[null,"20:00:00",120,87.585018550922385,-37.31960987224334,91.031665280027127,-35.613036385019498,99.69185218404408,-30.51906960544386,109.46977290136711,-23.284921403139045,118.046754765975,-15.658440014652937,124.33452465235887,-9.4320529630887524,126.84594770773718,-6.8360973078539891,null,null,null,"12:30:00",{"$f":"V120+$S$48","v":7.5},{"$f":"DEGREES(ACOS((-SIN(RADIANS(X$46))*COS(RADIANS($C$4))+COS(RADIANS(X$46))*SIN(RADIANS($C$4))*COS(RADIANS(V121)))/COS(RADIANS(X121))))","v":7.8237458122430912},28.389566091457663,"-","-","-","-","-","-","-","-","-","-","-","-","-","-","-","-","-","-","-","-","-","-","-","-","-",null,0.50234044777968734,null,null,"-","-","-","-","-","-","-","-","-","-","-","-","-","-","-","-","-","-","-","-","-","-","-","-","-",null,7.6413764062110587,25.762709648644627,null,"12:15:00",{"$f":"CF120+$S$48","v":3.75},28.692981272009366,3.9224305656745768,"O","",null,"-",28.692981272009366,"-",28.692981272009366,"-",28.692981272009366,"-",28.692981272009366,"-",28.692981272009366,"-",28.692981272009366,"-",28.692981272009366,"-",28.692981272009366,"-",28.692981272009366,"-",28.692981272009366,"-",28.692981272009366,"-",28.692981272009366,"-",28.692981272009366,"-",28.692981272009366,"-",28.692981272009366,"-",28.692981272009366,"-",28.692981272009366,"-",28.692981272009366,"-",28.692981272009366,"-",28.692981272009366,"-",28.692981272009366,"-",28.692981272009366,"-",28.692981272009366,"-",28.692981272009366,"-",28.692981272009366,"-",28.692981272009366]
[null,"20:15:00",{"$f":"C121+$S$48","v":123.75},89.828352396038284,-40.283111977858866,93.415795125106882,-38.575062532194657,102.34269312615332,-33.42873136131967,112.25186099535325,-26.05496882817339,120.78772117549661,-18.240661673012507,126.95616800127431,-11.841117946026484,129.40040681411921,-9.168238673904181,null,null,null,"12:45:00",{"$f":"V121+$S$48","v":11.25},11.683688187854719,27.887225643677976,"-","-","-","-","-","-","-","-","-","-","-","-","-","-","-","-","-","-","-","-","-","-","-","-","-",null,0.69640656732982009,null,null,"-","-","-","-","-","-","-","-","-","-","-","-","-","-","-",{"$f":"AN122","v":"-"},"-","-","-","-","-","-","-","-","-",null,11.417958734073796,25.289938525147647,null,"12:30:00",{"$f":"CF121+$S$48","v":7.5},28.389566091457663,7.8237458122430912,"P","",null,"-",28.389566091457663,"-",28.389566091457663,"-",28.389566091457663,"-",28.389566091457663,"-",28.389566091457663,"-",28.389566091457663,"-",28.389566091457663,"-",28.389566091457663,"-",28.389566091457663,"-",28.389566091457663,"-",28.389566091457663,"-",28.389566091457663,"-",28.389566091457663,"-",28.389566091457663,"-",28.389566091457663,"-",28.389566091457663,"-",28.389566091457663,"-",28.389566091457663,"-",28.389566091457663,"-",28.389566091457663,"-",28.389566091457663,"-",28.389566091457663,"-",28.389566091457663,"-",28.389566091457663,"-",28.389566091457663,"-",28.389566091457663]
[null,"20:30:00",{"$f":"C122+$S$48","v":127.5},92.171703899897963,-43.246917511466805,95.915681182363571,-41.529505166947139,105.13040837255271,-36.308266382917694,115.16730005752964,-28.769165803540325,123.644434002349,-20.74874087399682,129.67785041333769,-14.167066351451604,132.04879268672786,-11.414937092930037,null,null,null,"13:00:00",15,15.483634133806289,27.190819076348156,"-","-","-","-","-","-","-","-","-","-","-","-","-","-","-","-","-","-","-","-","-","-","-","-","-",null,0.88398720809912845,null,null,{"$f":"Y123","v":"-"},"-","-","-","-","-","-","-","-","-","-","-","-","-","-","-","-","-","-","-","-","-","-","-","-",null,15.143426852213059,24.633947774758685,null,"12:45:00",{"$f":"CF122+$S$48","v":11.25},27.887225643677976,11.683688187854719,"Q","",null,"-",27.887225643677976,"-",27.887225643677976,"-",27.887225643677976,"-",27.887225643677976,"-",27.887225643677976,"-",27.887225643677976,"-",27.887225643677976,"-",27.887225643677976,"-",27.887225643677976,"-",27.887225643677976,"-",27.887225643677976,"-",27.887225643677976,"-",27.887225643677976,"-",27.887225643677976,"-",27.887225643677976,"-",27.887225643677976,"-",27.887225643677976,"-",27.887225643677976,"-",27.887225643677976,"-",27.887225643677976,"-",27.887225643677976,"-",27.887225643677976,"-",27.887225643677976,"-",27.887225643677976,"-",27.887225643677976,"-",27.887225643677976]
[null,"20:45:00",{"$f":"C123+$S$48","v":131.25},94.643399383552349,-46.205939063896551,98.56118649841288,-44.470161824102867,108.08315898179049,-39.148978324272242,118.23653746711554,-31.417482572677265,126.62966076122041,-23.17306674641523,132.5075415691357,-16.401309394848731,134.79743900116995,-13.568112589041736,null,null,null,"13:15:00",{"$f":"V123+$S$48","v":18.75},19.207221437734376,26.306831868249027,"-","-","-","-","-","-","-","-","-","-","-","-","-","-","-","-","-","-","-","-","-","-","-","-","-",null,1.0637328656772809,null,null,"-","-","-","-","-","-","-","-","-","-","-","-","-","-","-","-","-","-","-","-","-","-","-","-","-",null,18.803601153057873,23.800327964408542,null,"13:00:00",15,27.190819076348156,15.483634133806289,"R","",null,"-",27.190819076348156,"-",27.190819076348156,"-",27.190819076348156,"-",27.190819076348156,"-",27.190819076348156,"-",27.190819076348156,"-",27.190819076348156,"-",27.190819076348156,"-",27.190819076348156,"-",27.190819076348156,"-",27.190819076348156,"-",27.190819076348156,"-",27.190819076348156,"-",27.190819076348156,"-",27.190819076348156,"-",27.190819076348156,"-",27.190819076348156,"-",27.190819076348156,"-",27.190819076348156,"-",27.190819076348156,"-",27.190819076348156,"-",27.190819076348156,"-",27.190819076348156,"-",27.190819076348156,"-",27.190819076348156,"-",27.190819076348156]
[null,"21:00:00",135,97.278697792980367,-49.154187030166788,101.3888570572577,-47.389659628672284,111.23354420555877,-41.940612014465522,121.48146051884653,-33.988473757079952,129.75601494883736,-25.503036999764074,135.45257780701033,-18.53459716250892,137.65197689557212,-15.619142505865311,null,null,null,"13:30:00",{"$f":"V124+$S$48","v":22.5},22.840784951979622,25.243099002571746,"-","-","-","-","-","-","-","-","-","-","-","-","-","-","-","-","-","-","-","-","-","-","-","-","-",null,1.2346004864073663,null,null,"-","-","-","-","-","-","-","-","-","-","-","-","-","-","-","-","-","-","-","-","-","-","-","-","-",null,22.386452574519581,22.79587332520358,null,"13:15:00",{"$f":"CF124+$S$48","v":18.75},26.306831868249027,19.207221437734376,"S","",null,"-",26.306831868249027,"-",26.306831868249027,"-",26.306831868249027,"-",26.306831868249027,"-",26.306831868249027,"-",26.306831868249027,"-",26.306831868249027,"-",26.306831868249027,"-",26.306831868249027,"-",26.306831868249027,"-",26.306831868249027,"-",26.306831868249027,"-",26.306831868249027,"-",26.306831868249027,"-",26.306831868249027,"-",26.306831868249027,"-",26.306831868249027,"-",26.306831868249027,"-",26.306831868249027,"-",26.306831868249027,"-",26.306831868249027,"-",26.306831868249027,"-",26.306831868249027,"-",26.306831868249027,"-",26.306831868249027,"-",26.306831868249027]
[null,"21:15:00",{"$f":"C125+$S$48","v":138.75},{"$f":"DEGREES(ACOS((-SIN(RADIANS(E$46))*COS(RADIANS($C$4))+COS(RADIANS(E$46))*SIN(RADIANS($C$4))*COS(RADIANS($C126)))/COS(RADIANS(E126))))","v":100.12222876562991},-52.084381168321777,{"$f":"DEGREES(ACOS((-SIN(RADIANS(G$46))*COS(RADIANS($C$4))+COS(RADIANS(G$46))*SIN(RADIANS($C$4))*COS(RADIANS($C126)))/COS(RADIANS(G126))))","v":104.44396907647123},-50.279007606169991,114.61932037569366,-44.670925064741056,124.92518312881819,-36.469053811656579,133.03559315793794,-27.727000831450351,138.51937346721019,-20.557032648313793,140.61708716111499,-17.558891935212383,null,null,null,"13:45:00",{"$f":"V125+$S$48","v":26.25},26.373586617906771,24.00849851616438,"-","-","-","-","-","-","-","-","-","-","-","-","-","-","-","-","-","-","-","-","-","-","-","-","-",null,1.395858138057541,null,null,"-","-","-","-","-","-","-","-","-","-","-","-","-","-","-","-","-","-","-","-","-","-","-","-","-",null,25.882318478633962,21.628337368656844,null,"13:30:00",{"$f":"CF125+$S$48","v":22.5},25.243099002571746,22.840784951979622,"T","",null,"-",25.243099002571746,"-",25.243099002571746,"-",25.243099002571746,"-",25.243099002571746,"-",25.243099002571746,"-",25.243099002571746,"-",25.243099002571746,"-",25.243099002571746,"-",25.243099002571746,"-",25.243099002571746,"-",25.243099002571746,"-",25.243099002571746,"-",25.243099002571746,"-",25.243099002571746,"-",25.243099002571746,"-",25.243099002571746,"-",25.243099002571746,"-",25.243099002571746,"-",25.243099002571746,"-",25.243099002571746,"-",25.243099002571746,"-",25.243099002571746,"-",25.243099002571746,"-",25.243099002571746,"-",25.243099002571746,"-",25.243099002571746]
[null,"21:30:00",{"$f":"C126+$S$48","v":142.5},{"$f":"DEGREES(ACOS((-SIN(RADIANS(E$46))*COS(RADIANS($C$4))+COS(RADIANS(E$46))*SIN(RADIANS($C$4))*COS(RADIANS($C127)))/COS(RADIANS(E127))))","v":103.23139195771296},-54.987391264569226,{"$f":"DEGREES(ACOS((-SIN(RADIANS(G$46))*COS(RADIANS($C$4))+COS(RADIANS(G$46))*SIN(RADIANS($C$4))*COS(RADIANS($C127)))/COS(RADIANS(G127))))","v":107.78319707864762},-53.126975222339794,118.28402741677603,-47.325161179472708,128.59157362383425,-38.844275550625568,136.47946737298145,-29.832236382785986,141.71306541368267,-22.458117960439168,143.6962073754442,-19.377772757281402,null,null,null,"14:00:00",30,29.797852176841001,22.612640378106839,"-","-","-","-","-","-","-","-","-","-","-","-","-","-","-","-","-","-","-","-","-","-","-","-","-",null,1.5470686489569374,null,null,"-","-","-","-","-","-","-","-","-","-","-","-","-","-","-","-","-","-","-","-","-","-","-","-","-",null,29.283972356834614,20.306180453690455,null,"13:45:00",{"$f":"CF126+$S$48","v":26.25},24.00849851616438,26.373586617906771,"U","",null,"-",24.00849851616438,"-",24.00849851616438,"-",24.00849851616438,"-",24.00849851616438,"-",24.00849851616438,"-",24.00849851616438,"-",24.00849851616438,"-",24.00849851616438,"-",24.00849851616438,"-",24.00849851616438,"-",24.00849851616438,"-",24.00849851616438,"-",24.00849851616438,"-",24.00849851616438,"-",24.00849851616438,"-",24.00849851616438,"-",24.00849851616438,"-",24.00849851616438,"-",24.00849851616438,"-",24.00849851616438,"-",24.00849851616438,"-",24.00849851616438,"-",24.00849851616438,"-",24.00849851616438,"-",24.00849851616438,"-",24.00849851616438]
[null,"21:45:00",{"$f":"C127+$S$48","v":146.25},{"$f":"DEGREES(ACOS((-SIN(RADIANS(E$46))*COS(RADIANS($C$4))+COS(RADIANS(E$46))*SIN(RADIANS($C$4))*COS(RADIANS($C128)))/COS(RADIANS(E128))))","v":106.6811033472728},-57.851415628899638,{"$f":"DEGREES(ACOS((-SIN(RADIANS(G$46))*COS(RADIANS($C$4))+COS(RADIANS(G$46))*SIN(RADIANS($C$4))*COS(RADIANS($C128)))/COS(RADIANS(G128))))","v":111.47801513819},-55.91922156117937,122.27731317530504,-49.88541706245956,132.50441114593471,-41.097136816482568,140.09701394682511,-31.804980163963634,145.03709566585255,-24.226841425640185,146.89120169332736,-21.065837358458342,null,null,null,"14:15:00",{"$f":"V127+$S$48","v":33.75},33.108646468715563,21.065571729149902,"-","-","-","-","-","-","-","-","-","-","-","-","-","-","-","-","-","-","-","-","-","-","-","-","-",null,1.688057908633585,null,null,"-","-","-","-","-","-","-","-","-","-","-","-","-","-","-","-","-","-","-","-","-","-","-","-","-",null,32.586566732076356,18.838325660249811,null,"14:00:00",30,22.612640378106839,29.797852176841001,"V","",null,"-",22.612640378106839,"-",22.612640378106839,"-",22.612640378106839,"-",22.612640378106839,"-",22.612640378106839,"-",22.612640378106839,"-",22.612640378106839,"-",22.612640378106839,"-",22.612640378106839,"-",22.612640378106839,"-",22.612640378106839,"-",22.612640378106839,"-",22.612640378106839,"-",22.612640378106839,"-",22.612640378106839,"-",22.612640378106839,"-",22.612640378106839,"-",22.612640378106839,"-",22.612640378106839,"-",22.612640378106839,"-",22.612640378106839,"-",22.612640378106839,"-",22.612640378106839,"-",22.612640378106839,"-",22.612640378106839,"-",22.612640378106839]
[null,"22:00:00",150,{"$f":"DEGREES(ACOS((-SIN(RADIANS(E$46))*COS(RADIANS($C$4))+COS(RADIANS(E$46))*SIN(RADIANS($C$4))*COS(RADIANS($C129)))/COS(RADIANS(E129))))","v":110.57036108022865},-60.660754422364427,{"$f":"DEGREES(ACOS((-SIN(RADIANS(G$46))*COS(RADIANS($C$4))+COS(RADIANS(G$46))*SIN(RADIANS($C$4))*COS(RADIANS($C129)))/COS(RADIANS(G129))))","v":115.61882429365504},-58.637071442705697,126.65457700197894,-52.329913239491773,136.68604028770076,-43.208455665742946,143.89507412653799,-33.630529381900381,148.4927465938035,-25.851814202283578,150.2020081826897,-22.61291244147413,null,null,null,"14:30:00",{"$f":"V128+$S$48","v":37.5},36.303629821988302,19.377513820516317,"-","-","-","-","-","-","-","-","-","-","-","-","-","-","-","-","-","-","-","-","-","-","-","-","-",null,1.8188739688951223,null,null,"-","-","-","-","-","-","-","-","-","-","-","-","-","-","-","-","-","-","-","-","-","-","-","-","-",null,35.787477482558735,17.233935617375867,null,"14:15:00",{"$f":"CF128+$S$48","v":33.75},21.065571729149902,33.108646468715563,"W","",null,"-",21.065571729149902,"-",21.065571729149902,"-",21.065571729149902,"-",21.065571729149902,"-",21.065571729149902,"-",21.065571729149902,"-",21.065571729149902,"-",21.065571729149902,"-",21.065571729149902,"-",21.065571729149902,"-",21.065571729149902,"-",21.065571729149902,"-",21.065571729149902,"-",21.065571729149902,"-",21.065571729149902,"-",21.065571729149902,"-",21.065571729149902,"-",21.065571729149902,"-",21.065571729149902,"-",21.065571729149902,"-",21.065571729149902,"-",21.065571729149902,"-",21.065571729149902,"-",21.065571729149902,"-",21.065571729149902,"-",21.065571729149902]
[null,null,null,null,null,null,null,null,null,null,null,null,null,null,null,null,null,null,null,null,"14:45:00",{"$f":"V129+$S$48","v":41.25},39.38274020839804,17.558639851621194,"-","-","-","-","-","-","-","-","-","-","-","-","-","-","-","-","-","-","-","-","-","-","-","-","-",null,1.939742502278202,"LIMITE",null,"-","-","-","-","-","-","-","-","-","-","-","-","-","-","-","-","-","-","-","-","-","-","-","-","-",null,38.886081064558283,15.502218668540674,null,"14:30:00",{"$f":"CF129+$S$48","v":37.5},19.377513820516317,36.303629821988302,"X","",null,"-",19.377513820516317,"-",19.377513820516317,"-",19.377513820516317,"-",19.377513820516317,"-",19.377513820516317,"-",19.377513820516317,"-",19.377513820516317,"-",19.377513820516317,"-",19.377513820516317,"-",19.377513820516317,"-",19.377513820516317,"-",19.377513820516317,"-",19.377513820516317,"-",19.377513820516317,"-",19.377513820516317,"-",19.377513820516317,"-",19.377513820516317,"-",19.377513820516317,"-",19.377513820516317,"-",19.377513820516317,"-",19.377513820516317,"-",19.377513820516317,"-",19.377513820516317,"-",19.377513820516317,"-",19.377513820516317,"-",19.377513820516317]
[null,null,null,null,null,null,null,null,null,null,null,null,null,null,null,null,null,null,null,null,"15:00:00",45,42.347841666441106,15.618897349342992,"-","-","-","-","-","-","-","-","-","-","-","-","-","-","-","-","-","-","-","-","-","-","-","-","-",null,null,null,null,"-","-","-","-","-","-","-","-","-","-","-","-","-","-","-","-","-","-","-","-","-","-","-","-","-",null,41.88349477943585,13.652268663015196,null,"14:45:00",{"$f":"CF130+$S$48","v":41.25},17.558639851621194,39.38274020839804,"Y","",null,"-",17.558639851621194,"-",17.558639851621194,"-",17.558639851621194,"-",17.558639851621194,"-",17.558639851621194,"-",17.558639851621194,"-",17.558639851621194,"-",17.558639851621194,"-",17.558639851621194,"-",17.558639851621194,"-",17.558639851621194,"-",17.558639851621194,"-",17.558639851621194,"-",17.558639851621194,"-",17.558639851621194,"-",17.558639851621194,"-",17.558639851621194,"-",17.558639851621194,"-",17.558639851621194,"-",17.558639851621194,"-",17.558639851621194,"-",17.558639851621194,"-",17.558639851621194,"-",17.558639851621194,"-",17.558639851621194,"-",17.558639851621194]
[null,null,null,null,null,null,null,null,null,null,null,null,null,null,null,null,null,null,null,null,null,null,null,null,null,null,null,null,null,null,null,null,null,null,null,null,null,null,null,null,null,null,null,null,null,null,null,null,null,null,{"$f":"MAX(AY107:AY130)","v":1.939742502278202},{"$f":"AY132/2.5","v":0.77589700091128078},null,null,null,null,null,null,null,null,null,null,null,null,null,null,null,null,null,null,null,null,null,null,null,null,null,null,null,null,null,null,"15:00:00",45,15.618897349342992,42.347841666441106,"Z","",null,"-",15.618897349342992,"-",15.618897349342992,"-",15.618897349342992,"-",15.618897349342992,"-",15.618897349342992,"-",15.618897349342992,"-",15.618897349342992,"-",15.618897349342992,"-",15.618897349342992,"-",15.618897349342992,"-",15.618897349342992,"-",15.618897349342992,"-",15.618897349342992,"-",15.618897349342992,"-",15.618897349342992,"-",15.618897349342992,"-",15.618897349342992,"-",15.618897349342992,"-",15.618897349342992,"-",15.618897349342992,"-",15.618897349342992,"-",15.618897349342992,"-",15.618897349342992,"-",15.618897349342992,"-",15.618897349342992,"-",15.618897349342992]
[]
[]
[]
[null,null,null,null,null,null,null,null,null,null,null,null,null,null,null,null,null,null,null,null,null,null,null,"HORAS DE CORTE",{"$f":"IF(AND(Y107=\"-\",Y108=\"-\",Y109=\"-\",Y110=\"-\",Y111=\"-\",Y112=\"-\",Y113=\"-\",Y114=\"-\",Y115=\"-\",Y116=\"-\",Y117=\"-\",Y118=\"-\",Y119=\"-\",Y120=\"-\",Y121=\"-\",Y122=\"-\",Y123=\"-\",Y124=\"-\",Y125=\"-\",Y126=\"-\",Y127=\"-\",Y128=\"-\",Y129=\"-\",Y130=\"-\",Y131=\"-\"),\"\",IF(MIN(Y107:Y131)>$AY$132,\"\",MIN(Y107:Y131)))","v":""},"","","","","","","","","","","","","","","","","","","","","","","","","",{"$f":"IF(AND(#REF!=\"-\",#REF!=\"-\",#REF!=\"-\",#REF!=\"-\",#REF!=\"-\",#REF!=\"-\",#REF!=\"-\",#REF!=\"-\",#REF!=\"-\",#REF!=\"-\",#REF!=\"-\",#REF!=\"-\",#REF!=\"-\",#REF!=\"-\",#REF!=\"-\",#REF!=\"-\",#REF!=\"-\",#REF!=\"-\",#REF!=\"-\",#REF!=\"-\",#REF!=\"-\",#REF!=\"-\",#REF!=\"-\",#REF!=\"-\",#REF!=\"-\"),\"\",IF(MIN(#REF!)>$AY$132,\"\",MIN(#REF!)))","v":{"$error":"#REF!"}},null,null,{"$f":"IF(BB106=\"\",\"-\",BB106)","v":"-"},{"$f":"IF(BC106=\"\",\"-\",BC106)","v":"-"},{"$f":"IF(BD106=\"\",\"-\",BD106)","v":"-"},{"$f":"IF(BE106=\"\",\"-\",BE106)","v":"-"},{"$f":"IF(BF106=\"\",\"-\",BF106)","v":"-"},"-","-","-","-","-","-","-","-","-","-","-","-","-","-","-","-","-","-","-","-"]
[null,null,null,"month",12,null,null,null,null,null,null,null,null,null,null,null,null,null,null,null,null,null,null,"fachada este",{"$f":"IFERROR(LOOKUP(Y136,Y107:Y131,$W$107:$W$131),\"-\")","v":"-"},{"$f":"IFERROR(LOOKUP(Z136,Z107:Z131,$W$107:$W$131),\"-\")","v":"-"},{"$f":"IFERROR(LOOKUP(AA136,AA107:AA131,$W$107:$W$131),\"-\")","v":"-"},"-","-","-","-","-","-","-","-","-","-","-","-","-","-","-","-","-","-","-","-","-","-",null,"fachada oeste",null,null,{"$f":"IF(BB136<>\"-\",LOOKUP(BB136,Y107:Y131,$W$107:$W$131),\"-\")","v":"-"},{"$f":"IF(BC136<>\"-\",LOOKUP(BC136,Z107:Z131,$W$107:$W$131),\"-\")","v":"-"},{"$f":"IF(BD136<>\"-\",LOOKUP(BD136,AA107:AA131,$W$107:$W$131),\"-\")","v":"-"},{"$f":"IF(BE136<>\"-\",LOOKUP(BE136,AB107:AB131,$W$107:$W$131),\"-\")","v":"-"},{"$f":"IF(BF136<>\"-\",LOOKUP(BF136,AC107:AC131,$W$107:$W$131),\"-\")","v":"-"},"-","-","-","-","-","-","-","-","-","-","-","-","-","-","-","-","-","-","-","-",null,null,null,null,null,null,null,null,null,null,"diferencia menor",{"$f":"IF(AND(CL108=\"-\",CL109=\"-\",CL110=\"-\",CL111=\"-\",CL112=\"-\",CL113=\"-\",CL114=\"-\",CL115=\"-\",CL116=\"-\",CL117=\"-\",CL118=\"-\",CL119=\"-\",CL120=\"-\",CL121=\"-\",CL122=\"-\",CL123=\"-\",CL124=\"-\",CL125=\"-\",CL126=\"-\",CL127=\"-\",CL128=\"-\",CL129=\"-\",CL130=\"-\",CL131=\"-\",CL132=\"-\"),\"\",MIN(CL108:CL132))","v":""},null,{"$f":"IF(AND(CN108=\"-\",CN109=\"-\",CN110=\"-\",CN111=\"-\",CN112=\"-\",CN113=\"-\",CN114=\"-\",CN115=\"-\",CN116=\"-\",CN117=\"-\",CN118=\"-\",CN119=\"-\",CN120=\"-\",CN121=\"-\",CN122=\"-\",CN123=\"-\",CN124=\"-\",CN125=\"-\",CN126=\"-\",CN127=\"-\",CN128=\"-\",CN129=\"-\",CN130=\"-\",CN131=\"-\",CN132=\"-\"),\"\",MIN(CN108:CN132))","v":""},null,{"$f":"IF(AND(CP108=\"-\",CP109=\"-\",CP110=\"-\",CP111=\"-\",CP112=\"-\",CP113=\"-\",CP114=\"-\",CP115=\"-\",CP116=\"-\",CP117=\"-\",CP118=\"-\",CP119=\"-\",CP120=\"-\",CP121=\"-\",CP122=\"-\",CP123=\"-\",CP124=\"-\",CP125=\"-\",CP126=\"-\",CP127=\"-\",CP128=\"-\",CP129=\"-\",CP130=\"-\",CP131=\"-\",CP132=\"-\"),\"\",MIN(CP108:CP132))","v":""},null,{"$f":"IF(AND(CR108=\"-\",CR109=\"-\",CR110=\"-\",CR111=\"-\",CR112=\"-\",CR113=\"-\",CR114=\"-\",CR115=\"-\",CR116=\"-\",CR117=\"-\",CR118=\"-\",CR119=\"-\",CR120=\"-\",CR121=\"-\",CR122=\"-\",CR123=\"-\",CR124=\"-\",CR125=\"-\",CR126=\"-\",CR127=\"-\",CR128=\"-\",CR129=\"-\",CR130=\"-\",CR131=\"-\",CR132=\"-\"),\"\",MIN(CR108:CR132))","v":""},null,{"$f":"IF(AND(CT108=\"-\",CT109=\"-\",CT110=\"-\",CT111=\"-\",CT112=\"-\",CT113=\"-\",CT114=\"-\",CT115=\"-\",CT116=\"-\",CT117=\"-\",CT118=\"-\",CT119=\"-\",CT120=\"-\",CT121=\"-\",CT122=\"-\",CT123=\"-\",CT124=\"-\",CT125=\"-\",CT126=\"-\",CT127=\"-\",CT128=\"-\",CT129=\"-\",CT130=\"-\",CT131=\"-\",CT132=\"-\"),\"\",MIN(CT108:CT132))","v":""},null,{"$f":"IF(AND(CV108=\"-\",CV109=\"-\",CV110=\"-\",CV111=\"-\",CV112=\"-\",CV113=\"-\",CV114=\"-\",CV115=\"-\",CV116=\"-\",CV117=\"-\",CV118=\"-\",CV119=\"-\",CV120=\"-\",CV121=\"-\",CV122=\"-\",CV123=\"-\",CV124=\"-\",CV125=\"-\",CV126=\"-\",CV127=\"-\",CV128=\"-\",CV129=\"-\",CV130=\"-\",CV131=\"-\",CV132=\"-\"),\"\",MIN(CV108:CV132))","v":""},null,{"$f":"IF(AND(CX108=\"-\",CX109=\"-\",CX110=\"-\",CX111=\"-\",CX112=\"-\",CX113=\"-\",CX114=\"-\",CX115=\"-\",CX116=\"-\",CX117=\"-\",CX118=\"-\",CX119=\"-\",CX120=\"-\",CX121=\"-\",CX122=\"-\",CX123=\"-\",CX124=\"-\",CX125=\"-\",CX126=\"-\",CX127=\"-\",CX128=\"-\",CX129=\"-\",CX130=\"-\",CX131=\"-\",CX132=\"-\"),\"\",MIN(CX108:CX132))","v":""},null,{"$f":"IF(AND(CZ108=\"-\",CZ109=\"-\",CZ110=\"-\",CZ111=\"-\",CZ112=\"-\",CZ113=\"-\",CZ114=\"-\",CZ115=\"-\",CZ116=\"-\",CZ117=\"-\",CZ118=\"-\",CZ119=\"-\",CZ120=\"-\",CZ121=\"-\",CZ122=\"-\",CZ123=\"-\",CZ124=\"-\",CZ125=\"-\",CZ126=\"-\",CZ127=\"-\",CZ128=\"-\",CZ129=\"-\",CZ130=\"-\",CZ131=\"-\",CZ132=\"-\"),\"\",MIN(CZ108:CZ132))","v":""},null,{"$f":"IF(AND(DB108=\"-\",DB109=\"-\",DB110=\"-\",DB111=\"-\",DB112=\"-\",DB113=\"-\",DB114=\"-\",DB115=\"-\",DB116=\"-\",DB117=\"-\",DB118=\"-\",DB119=\"-\",DB120=\"-\",DB121=\"-\",DB122=\"-\",DB123=\"-\",DB124=\"-\",DB125=\"-\",DB126=\"-\",DB127=\"-\",DB128=\"-\",DB129=\"-\",DB130=\"-\",DB131=\"-\",DB132=\"-\"),\"\",MIN(DB108:DB132))","v":""},null,{"$f":"IF(AND(DD108=\"-\",DD109=\"-\",DD110=\"-\",DD111=\"-\",DD112=\"-\",DD113=\"-\",DD114=\"-\",DD115=\"-\",DD116=\"-\",DD117=\"-\",DD118=\"-\",DD119=\"-\",DD120=\"-\",DD121=\"-\",DD122=\"-\",DD123=\"-\",DD124=\"-\",DD125=\"-\",DD126=\"-\",DD127=\"-\",DD128=\"-\",DD129=\"-\",DD130=\"-\",DD131=\"-\",DD132=\"-\"),\"\",MIN(DD108:DD132))","v":""},null,{"$f":"IF(AND(DF108=\"-\",DF109=\"-\",DF110=\"-\",DF111=\"-\",DF112=\"-\",DF113=\"-\",DF114=\"-\",DF115=\"-\",DF116=\"-\",DF117=\"-\",DF118=\"-\",DF119=\"-\",DF120=\"-\",DF121=\"-\",DF122=\"-\",DF123=\"-\",DF124=\"-\",DF125=\"-\",DF126=\"-\",DF127=\"-\",DF128=\"-\",DF129=\"-\",DF130=\"-\",DF131=\"-\",DF132=\"-\"),\"\",MIN(DF108:DF132))","v":""},null,{"$f":"IF(AND(DH108=\"-\",DH109=\"-\",DH110=\"-\",DH111=\"-\",DH112=\"-\",DH113=\"-\",DH114=\"-\",DH115=\"-\",DH116=\"-\",DH117=\"-\",DH118=\"-\",DH119=\"-\",DH120=\"-\",DH121=\"-\",DH122=\"-\",DH123=\"-\",DH124=\"-\",DH125=\"-\",DH126=\"-\",DH127=\"-\",DH128=\"-\",DH129=\"-\",DH130=\"-\",DH131=\"-\",DH132=\"-\"),\"\",MIN(DH108:DH132))","v":""},null,{"$f":"IF(AND(DJ108=\"-\",DJ109=\"-\",DJ110=\"-\",DJ111=\"-\",DJ112=\"-\",DJ113=\"-\",DJ114=\"-\",DJ115=\"-\",DJ116=\"-\",DJ117=\"-\",DJ118=\"-\",DJ119=\"-\",DJ120=\"-\",DJ121=\"-\",DJ122=\"-\",DJ123=\"-\",DJ124=\"-\",DJ125=\"-\",DJ126=\"-\",DJ127=\"-\",DJ128=\"-\",DJ129=\"-\",DJ130=\"-\",DJ131=\"-\",DJ132=\"-\"),\"\",MIN(DJ108:DJ132))","v":""},null,{"$f":"IF(AND(DL108=\"-\",DL109=\"-\",DL110=\"-\",DL111=\"-\",DL112=\"-\",DL113=\"-\",DL114=\"-\",DL115=\"-\",DL116=\"-\",DL117=\"-\",DL118=\"-\",DL119=\"-\",DL120=\"-\",DL121=\"-\",DL122=\"-\",DL123=\"-\",DL124=\"-\",DL125=\"-\",DL126=\"-\",DL127=\"-\",DL128=\"-\",DL129=\"-\",DL130=\"-\",DL131=\"-\",DL132=\"-\"),\"\",MIN(DL108:DL132))","v":""},null,{"$f":"IF(AND(DN108=\"-\",DN109=\"-\",DN110=\"-\",DN111=\"-\",DN112=\"-\",DN113=\"-\",DN114=\"-\",DN115=\"-\",DN116=\"-\",DN117=\"-\",DN118=\"-\",DN119=\"-\",DN120=\"-\",DN121=\"-\",DN122=\"-\",DN123=\"-\",DN124=\"-\",DN125=\"-\",DN126=\"-\",DN127=\"-\",DN128=\"-\",DN129=\"-\",DN130=\"-\",DN131=\"-\",DN132=\"-\"),\"\",MIN(DN108:DN132))","v":""},null,{"$f":"IF(AND(DP108=\"-\",DP109=\"-\",DP110=\"-\",DP111=\"-\",DP112=\"-\",DP113=\"-\",DP114=\"-\",DP115=\"-\",DP116=\"-\",DP117=\"-\",DP118=\"-\",DP119=\"-\",DP120=\"-\",DP121=\"-\",DP122=\"-\",DP123=\"-\",DP124=\"-\",DP125=\"-\",DP126=\"-\",DP127=\"-\",DP128=\"-\",DP129=\"-\",DP130=\"-\",DP131=\"-\",DP132=\"-\"),\"\",MIN(DP108:DP132))","v":""},null,{"$f":"IF(AND(DR108=\"-\",DR109=\"-\",DR110=\"-\",DR111=\"-\",DR112=\"-\",DR113=\"-\",DR114=\"-\",DR115=\"-\",DR116=\"-\",DR117=\"-\",DR118=\"-\",DR119=\"-\",DR120=\"-\",DR121=\"-\",DR122=\"-\",DR123=\"-\",DR124=\"-\",DR125=\"-\",DR126=\"-\",DR127=\"-\",DR128=\"-\",DR129=\"-\",DR130=\"-\",DR131=\"-\",DR132=\"-\"),\"\",MIN(DR108:DR132))","v":""},null,{"$f":"IF(AND(DT108=\"-\",DT109=\"-\",DT110=\"-\",DT111=\"-\",DT112=\"-\",DT113=\"-\",DT114=\"-\",DT115=\"-\",DT116=\"-\",DT117=\"-\",DT118=\"-\",DT119=\"-\",DT120=\"-\",DT121=\"-\",DT122=\"-\",DT123=\"-\",DT124=\"-\",DT125=\"-\",DT126=\"-\",DT127=\"-\",DT128=\"-\",DT129=\"-\",DT130=\"-\",DT131=\"-\",DT132=\"-\"),\"\",MIN(DT108:DT132))","v":""},null,{"$f":"IF(AND(DV108=\"-\",DV109=\"-\",DV110=\"-\",DV111=\"-\",DV112=\"-\",DV113=\"-\",DV114=\"-\",DV115=\"-\",DV116=\"-\",DV117=\"-\",DV118=\"-\",DV119=\"-\",DV120=\"-\",DV121=\"-\",DV122=\"-\",DV123=\"-\",DV124=\"-\",DV125=\"-\",DV126=\"-\",DV127=\"-\",DV128=\"-\",DV129=\"-\",DV130=\"-\",DV131=\"-\",DV132=\"-\"),\"\",MIN(DV108:DV132))","v":""},null,{"$f":"IF(AND(DX108=\"-\",DX109=\"-\",DX110=\"-\",DX111=\"-\",DX112=\"-\",DX113=\"-\",DX114=\"-\",DX115=\"-\",DX116=\"-\",DX117=\"-\",DX118=\"-\",DX119=\"-\",DX120=\"-\",DX121=\"-\",DX122=\"-\",DX123=\"-\",DX124=\"-\",DX125=\"-\",DX126=\"-\",DX127=\"-\",DX128=\"-\",DX129=\"-\",DX130=\"-\",DX131=\"-\",DX132=\"-\"),\"\",MIN(DX108:DX132))","v":""},null,{"$f":"IF(AND(DZ108=\"-\",DZ109=\"-\",DZ110=\"-\",DZ111=\"-\",DZ112=\"-\",DZ113=\"-\",DZ114=\"-\",DZ115=\"-\",DZ116=\"-\",DZ117=\"-\",DZ118=\"-\",DZ119=\"-\",DZ120=\"-\",DZ121=\"-\",DZ122=\"-\",DZ123=\"-\",DZ124=\"-\",DZ125=\"-\",DZ126=\"-\",DZ127=\"-\",DZ128=\"-\",DZ129=\"-\",DZ130=\"-\",DZ131=\"-\",DZ132=\"-\"),\"\",MIN(DZ108:DZ132))","v":""},null,{"$f":"IF(AND(EB108=\"-\",EB109=\"-\",EB110=\"-\",EB111=\"-\",EB112=\"-\",EB113=\"-\",EB114=\"-\",EB115=\"-\",EB116=\"-\",EB117=\"-\",EB118=\"-\",EB119=\"-\",EB120=\"-\",EB121=\"-\",EB122=\"-\",EB123=\"-\",EB124=\"-\",EB125=\"-\",EB126=\"-\",EB127=\"-\",EB128=\"-\",EB129=\"-\",EB130=\"-\",EB131=\"-\",EB132=\"-\"),\"\",MIN(EB108:EB132))","v":""},null,{"$f":"IF(AND(ED108=\"-\",ED109=\"-\",ED110=\"-\",ED111=\"-\",ED112=\"-\",ED113=\"-\",ED114=\"-\",ED115=\"-\",ED116=\"-\",ED117=\"-\",ED118=\"-\",ED119=\"-\",ED120=\"-\",ED121=\"-\",ED122=\"-\",ED123=\"-\",ED124=\"-\",ED125=\"-\",ED126=\"-\",ED127=\"-\",ED128=\"-\",ED129=\"-\",ED130=\"-\",ED131=\"-\",ED132=\"-\"),\"\",MIN(ED108:ED132))","v":""},null,{"$f":"IF(AND(EF108=\"-\",EF109=\"-\",EF110=\"-\",EF111=\"-\",EF112=\"-\",EF113=\"-\",EF114=\"-\",EF115=\"-\",EF116=\"-\",EF117=\"-\",EF118=\"-\",EF119=\"-\",EF120=\"-\",EF121=\"-\",EF122=\"-\",EF123=\"-\",EF124=\"-\",EF125=\"-\",EF126=\"-\",EF127=\"-\",EF128=\"-\",EF129=\"-\",EF130=\"-\",EF131=\"-\",EF132=\"-\"),\"\",MIN(EF108:EF132))","v":""},null,{"$f":"IF(AND(EH108=\"-\",EH109=\"-\",EH110=\"-\",EH111=\"-\",EH112=\"-\",EH113=\"-\",EH114=\"-\",EH115=\"-\",EH116=\"-\",EH117=\"-\",EH118=\"-\",EH119=\"-\",EH120=\"-\",EH121=\"-\",EH122=\"-\",EH123=\"-\",EH124=\"-\",EH125=\"-\",EH126=\"-\",EH127=\"-\",EH128=\"-\",EH129=\"-\",EH130=\"-\",EH131=\"-\",EH132=\"-\"),\"\",MIN(EH108:EH132))","v":""},null,{"$f":"IF(AND(EJ108=\"-\",EJ109=\"-\",EJ110=\"-\",EJ111=\"-\",EJ112=\"-\",EJ113=\"-\",EJ114=\"-\",EJ115=\"-\",EJ116=\"-\",EJ117=\"-\",EJ118=\"-\",EJ119=\"-\",EJ120=\"-\",EJ121=\"-\",EJ122=\"-\",EJ123=\"-\",EJ124=\"-\",EJ125=\"-\",EJ126=\"-\",EJ127=\"-\",EJ128=\"-\",EJ129=\"-\",EJ130=\"-\",EJ131=\"-\",EJ132=\"-\"),\"\",MIN(EJ108:EJ132))","v":""}]
["Día Juliano",{"$f":"DATEDIF(A141,A143,\"d\")","v":355},null,"day",21,null,null,null,null,null,null,null,null,null,null,null,null,null,null,null,null,{"$f":"IF(E5<0,W138,ABS(W138))","v":"-"},{"$f":"IFERROR(LOOKUP(X138,X107:X131,$W107:$W131),\"-\")","v":"-"},{"$f":"IF(AND($E$5>$W$77,$E$5<$W$101),J4,\"-\")","v":"-"},{"$f":"IFERROR(LOOKUP(Y136,Y107:Y131,$X$107:$X$131),\"-\")","v":"-"},{"$f":"IFERROR(LOOKUP(Z136,Z107:Z131,$X$107:$X$131),\"-\")","v":"-"},{"$f":"IFERROR(LOOKUP(AA136,AA107:AA131,$X$107:$X$131),\"-\")","v":"-"},{"$f":"IFERROR(LOOKUP(AB136,AB107:AB131,$X$107:$X$131),\"-\")","v":"-"},{"$f":"IFERROR(LOOKUP(AC136,AC107:AC131,$X$107:$X$131),\"-\")","v":"-"},{"$f":"IFERROR(LOOKUP(AD136,AD107:AD131,$X$107:$X$131),\"-\")","v":"-"},"-","-","-","-","-","-","-","-","-","-","-","-","-","-","-","-","-","-","-","-",{"$f":"IF(AND($G$5>$W$77,$G$5<$W$101),K4,\"-\")","v":"-"},{"$f":"IFERROR(LOOKUP(AY138,X107:X131,$W107:$W131),\"-\")","v":"-"},{"$f":"IF(G5<0,AZ138,ABS(AZ138))","v":{"$error":"#VALUE!"}},{"$f":"IF(BB136<>\"-\",LOOKUP(BB136,Y107:Y131,$X$107:$X$131),\"-\")","v":"-"},{"$f":"IF(BC136<>\"-\",LOOKUP(BC136,Z107:Z131,$X$107:$X$131),\"-\")","v":"-"},{"$f":"IF(BD136<>\"-\",LOOKUP(BD136,AA107:AA131,$X$107:$X$131),\"-\")","v":"-"},{"$f":"IF(BE136<>\"-\",LOOKUP(BE136,AB107:AB131,$X$107:$X$131),\"-\")","v":"-"},{"$f":"IF(BF136<>\"-\",LOOKUP(BF136,AC107:AC131,$X$107:$X$131),\"-\")","v":"-"},"-","-","-","-","-","-","-","-","-","-","-","-","-","-","-","-","-","-","-","-"]
[null,null,null,null,null,null,null,null,null,null,null,null,null,null,null,null,null,null,null,null,null,null,null,{"$f":"IFERROR(LOOKUP(V138,W107:W131,$U107:$U131),\"-\")","v":"-"},{"$f":"IF(Y136=\"\",\"-\",Y136)","v":"-"},{"$f":"IF(Z136=\"\",\"-\",Z136)","v":"-"},{"$f":"IF(AA136=\"\",\"-\",AA136)","v":"-"},{"$f":"IF(AB136=\"\",\"-\",AB136)","v":"-"},{"$f":"IF(AC136=\"\",\"-\",AC136)","v":"-"},"-","-","-","-","-","-","-","-","-","-","-","-","-","-","-","-","-","-","-","-","-",{"$f":"IFERROR(LOOKUP(BA138,W107:W131,$U107:$U131),\"-\")","v":"-"},null,null,{"$f":"IF(BB136=\"\",\"-\",BB136)","v":"-"},"-","-","-","-","-","-","-","-","-","-","-","-","-","-","-","-","-","-","-","-","-","-","-","-"]
["fecha inicio",null,null,null,null,null,null,null,null,null,null,null,null,null,null,null,null,null,null,null,null,null,null,null,{"$f":"Y105","v":"AB"},"BC","CD","DE","EF","FG","GH","HI","IJ","JK","KL","LM","MN","NO","OP","PQ","QR","RS","ST","TU","UV","VW","WX","XY","YZ",null,null,null,null,null,null,null,null,null,null,null,null,null,null,null,null,null,null,null,null,null,null,null,null,null,null,null,null,null,null,null,null,null,null,null,null,null,null,null,"altura cruce",null,{"$f":"IFERROR(VLOOKUP(CL137,CL108:CM132,2,FALSE),\"-\")","v":"-"},null,{"$f":"IFERROR(VLOOKUP(CN137,CN108:CO132,2,FALSE),\"-\")","v":"-"},null,{"$f":"IFERROR(VLOOKUP(CP137,CP108:CQ132,2,FALSE),\"-\")","v":"-"},null,{"$f":"IFERROR(VLOOKUP(CR137,CR108:CS132,2,FALSE),\"-\")","v":"-"},null,{"$f":"IFERROR(VLOOKUP(CT137,CT108:CU132,2,FALSE),\"-\")","v":"-"},null,{"$f":"IFERROR(VLOOKUP(CV137,CV108:CW132,2,FALSE),\"-\")","v":"-"},null,{"$f":"IFERROR(VLOOKUP(CX137,CX108:CY132,2,FALSE),\"-\")","v":"-"},null,{"$f":"IFERROR(VLOOKUP(CZ137,CZ108:DA132,2,FALSE),\"-\")","v":"-"},null,{"$f":"IFERROR(VLOOKUP(DB137,DB108:DC132,2,FALSE),\"-\")","v":"-"},null,{"$f":"IFERROR(VLOOKUP(DD137,DD108:DE132,2,FALSE),\"-\")","v":"-"},null,{"$f":"IFERROR(VLOOKUP(DF137,DF108:DG132,2,FALSE),\"-\")","v":"-"},null,{"$f":"IFERROR(VLOOKUP(DH137,DH108:DI132,2,FALSE),\"-\")","v":"-"},null,{"$f":"IFERROR(VLOOKUP(DJ137,DJ108:DK132,2,FALSE),\"-\")","v":"-"},null,{"$f":"IFERROR(VLOOKUP(DL137,DL108:DM132,2,FALSE),\"-\")","v":"-"},null,{"$f":"IFERROR(VLOOKUP(DN137,DN108:DO132,2,FALSE),\"-\")","v":"-"},null,{"$f":"IFERROR(VLOOKUP(DP137,DP108:DQ132,2,FALSE),\"-\")","v":"-"},null,{"$f":"IFERROR(VLOOKUP(DR137,DR108:DS132,2,FALSE),\"-\")","v":"-"},null,{"$f":"IFERROR(VLOOKUP(DT137,DT108:DU132,2,FALSE),\"-\")","v":"-"},null,{"$f":"IFERROR(VLOOKUP(DV137,DV108:DW132,2,FALSE),\"-\")","v":"-"},null,{"$f":"IFERROR(VLOOKUP(DX137,DX108:DY132,2,FALSE),\"-\")","v":"-"},null,{"$f":"IFERROR(VLOOKUP(DZ137,DZ108:EA132,2,FALSE),\"-\")","v":"-"},null,{"$f":"IFERROR(VLOOKUP(EB137,EB108:EC132,2,FALSE),\"-\")","v":"-"},null,{"$f":"IFERROR(VLOOKUP(ED137,ED108:EE132,2,FALSE),\"-\")","v":"-"},null,{"$f":"IFERROR(VLOOKUP(EF137,EF108:EG132,2,FALSE),\"-\")","v":"-"},null,{"$f":"IFERROR(VLOOKUP(EH137,EH108:EI132,2,FALSE),\"-\")","v":"-"},null,{"$f":"IFERROR(VLOOKUP(EJ137,EJ108:EK132,2,FALSE),\"-\")","v":"-"}]
[36891,null,null,null,null,null,null,null,null,null,null,null,null,null,null,null,null,null,null,null,null,null,null,null,1,2,3,4,5,6,7,8,9,10,11,12,13,14,15,16,17,18,19,20,21,22,23,24,25]
["fecha finalización",null,null,null,null,null,null,null,null,null,null,null,null,null,null,null,null,null,null,null,null,null,null,null,"A","B","C","D","E","F","G","H","I","J","K","L","M","N","O","P","Q","R","S","T","U","V","W","X","Y"]
[{"$f":"CONCATENATE(E138,\"-\",E137,\"-\",2001)","v":"21-12-2001"},null,null,null,null,null,null,null,null,null,null,null,null,null,null,null,null,null,null,null,null,null,"TIEMPO DE SOLEAMIENTO","HORAS DE CORTE"]
[null,null,null,null,null,null,null,null,null,null,null,null,null,null,null,null,null,null,null,null,null,null,null,{"$f":"IF(AND(Z152>=Z151,Z150>W107),U107,\"\")","v":{"$error":"#N/A"}},{"$f":"IF(MIN(Y139:AX139)=0,\"\",MIN(Y139:AX139))","v":""},{"$f":"IFERROR(SMALL($Y$139:$AW$139,2),\"\")","v":""},{"$f":"IFERROR(SMALL($Y$139:$AW$139,3),\"\")","v":""},{"$f":"IFERROR(SMALL($Y$139:$AW$139,4),\"\")","v":""},{"$f":"IFERROR(SMALL($Y$139:$AW$139,5),\"\")","v":""},{"$f":"IFERROR(SMALL($Y$139:$AW$139,6),\"\")","v":""},{"$f":"IFERROR(SMALL($Y$139:$AW$139,7),\"\")","v":""},{"$f":"IFERROR(SMALL($Y$139:$AW$139,8),\"\")","v":""},{"$f":"IFERROR(SMALL($Y$139:$AW$139,9),\"\")","v":""},{"$f":"IFERROR(SMALL($Y$139:$AW$139,10),\"\")","v":""},{"$f":"IFERROR(SMALL($Y$139:$AW$139,11),\"\")","v":""},{"$f":"IFERROR(SMALL($Y$139:$AW$139,12),\"\")","v":""},{"$f":"IFERROR(SMALL($Y$139:$AW$139,13),\"\")","v":""},{"$f":"IFERROR(SMALL($Y$139:$AW$139,14),\"\")","v":""},{"$f":"IFERROR(SMALL($Y$139:$AW$139,15),\"\")","v":""},{"$f":"IFERROR(SMALL($Y$139:$AW$139,16),\"\")","v":""},{"$f":"IFERROR(SMALL($Y$139:$AW$139,17),\"\")","v":""},{"$f":"IFERROR(SMALL($Y$139:$AW$139,18),\"\")","v":""},{"$f":"IFERROR(SMALL($Y$139:$AW$139,19),\"\")","v":""},{"$f":"IFERROR(SMALL($Y$139:$AW$139,20),\"\")","v":""},{"$f":"IFERROR(SMALL($Y$139:$AW$139,21),\"\")","v":""},{"$f":"IFERROR(SMALL($Y$139:$AW$139,22),\"\")","v":""},{"$f":"IFERROR(SMALL($Y$139:$AW$139,23),\"\")","v":""},{"$f":"IFERROR(SMALL($Y$139:$AW$139,24),\"\")","v":""},{"$f":"IFERROR(SMALL($Y$139:$AW$139,25),\"\")","v":""},null,{"$f":"IF(AND(AH152>=AH151,AH153<W131),U131,\"\")","v":{"$error":"#N/A"}}]
["Hora solar","13:00:00","00:00:00",null,null,null,null,null,null,null,null,null,null,null,null,null,null,null,null,null,{"$f":"IF(X144<>\"\",Y144,IF(AND(V145<>\"\",Z144=\"\"),$U$131,Z144))","v":{"$error":"#N/A"}},{"$f":"IF(X144<>\"\",X144,Y144)","v":{"$error":"#N/A"}},{"$f":"IFERROR(U145-V145,\"\")","v":""},null,null,null,null,null,null,null,null,{"$f":"IF(AND(AH152<=AH151,AH150<W107),U107,\"\")","v":{"$error":"#N/A"}}]
[null,null,null,null,null,null,null,null,null,null,null,null,null,null,null,null,null,null,null,null,{"$f":"IF(X144<>\"\",AA144,IF(AND(V146<>\"\",AB144=\"\"),$U$131,AB144))","v":{"$error":"#N/A"}},{"$f":"IF(X144<>\"\",Z144,AA144)","v":{"$error":"#N/A"}},""]
[null,"Declinación","Hora Solar (hr)","Azimut hora solar","Azimut","Altura solar",null,null,null,null,null,null,null,null,null,null,null,null,null,null,{"$f":"IF(X144<>\"\",AC144,IF(AND(V147<>\"\",AD144=\"\"),$U$131,AD144))","v":{"$error":"#N/A"}},{"$f":"IF(X144<>\"\",AB144,AC144)","v":{"$error":"#N/A"}},"",null,{"$f":"IFERROR(VLOOKUP(Y144,$U$107:$W$131,3, FALSE),\"\")","v":""},{"$f":"IFERROR(VLOOKUP(Z144,$U$107:$W$131,3, FALSE),\"\")","v":""},{"$f":"IFERROR(VLOOKUP(AA144,$U$107:$W$131,3, FALSE),\"\")","v":""},{"$f":"IFERROR(VLOOKUP(AB144,$U$107:$W$131,3, FALSE),\"\")","v":""},null,{"$f":"IFERROR(VLOOKUP(AD144,$U$107:$W$131,3, FALSE),\"\")","v":""},"","","","","","","","","","","","","","","","","","",""]
[null,{"$f":"(ASIN(0.39795*COS(0.98563*(B138-173)*PI()/180)))*180/PI()","v":-23.448652178874497},{"$f":"INT((B145-C145)*24)","v":13},{"$f":"180-(C148/24*360)","v":-15},{"$f":"IF(C148>12,-180/PI()*(ACOS(((SIN(F148*PI()/180)*SIN($C$4*PI()/180))-SIN(B148*PI()/180))/(COS(F148*PI()/180)*COS($C$4*PI()/180)))),180/PI()*(ACOS(((SIN(F148*PI()/180)*SIN($C$4*PI()/180))-SIN(B148*PI()/180))/(COS(F148*PI()/180)*COS($C$4*PI()/180)))))","v":-15.481345196260978},{"$f":"180/PI()*(ASIN((COS($C$4*PI()/180)*COS(B148*PI()/180)*COS(D148*PI()/180))+(SIN($C$4*PI()/180)*SIN(B148*PI()/180))))","v":27.182204459669432},null,null,null,null,null,null,null,null,null,null,null,null,null,null,{"$f":"IF(X144<>\"\",AE144,IF(AND(V148<>\"\",AF144=\"\"),$U$131,AF144))","v":{"$error":"#N/A"}},{"$f":"IF(X144<>\"\",AD144,AE144)","v":{"$error":"#N/A"}},"",null,null,null,null,null,null,null,null,null,{"$f":"MAX(Y144:AW144)","v":"00:00:00"}]
["2000-03-20T07:35:00",{"$f":"DEGREES(ASIN(SIN(RADIANS((A143-A149)*360/365.2422))*0.4))","v":-23.56974069055892},{"$f":"INT((B145-C145)*24)","v":13},{"$f":"180-(C148/24*360)","v":-15},{"$f":"IF(C149>12,-180/PI()*(ACOS(((SIN(F149*PI()/180)*SIN($C$4*PI()/180))-SIN(B149*PI()/180))/(COS(F149*PI()/180)*COS($C$4*PI()/180)))),180/PI()*(ACOS(((SIN(F149*PI()/180)*SIN($C$4*PI()/180))-SIN(B149*PI()/180))/(COS(F149*PI()/180)*COS($C$4*PI()/180)))))","v":-15.450069564871104},{"$f":"180/PI()*(ASIN((COS($C$4*PI()/180)*COS(B149*PI()/180)*COS(D149*PI()/180))+(SIN($C$4*PI()/180)*SIN(B149*PI()/180))))","v":27.064358901986939},null,null,null,null,null,null,null,null,null,null,null,null,null,null,{"$f":"IF(X144<>\"\",AG144,IF(AND(V149<>\"\",AH144=\"\"),$U$131,AH144))","v":{"$error":"#N/A"}},{"$f":"IF(X144<>\"\",AF144,AG144)","v":{"$error":"#N/A"}},"",null,{"$f":"LOOKUP(Y144,Y139:AX139,Y140:AW140)","v":{"$error":"#N/A"}},{"$f":"LOOKUP(Y149,Y140:AW140,Y141:AW141)","v":{"$error":"#N/A"}},{"$f":"Z149-1","v":{"$error":"#N/A"}},{"$f":"Z149+1","v":{"$error":"#N/A"}},{"$f":"AB149+1","v":{"$error":"#N/A"}},null,null,null,{"$f":"LOOKUP(AG148,Y139:AX139,Y140:AW140)","v":{"$error":"#N/A"}},{"$f":"LOOKUP(AG149,Y140:AW140,Y141:AW141)","v":{"$error":"#N/A"}},{"$f":"AH149-1","v":{"$error":"#N/A"}},{"$f":"AH149+1","v":{"$error":"#N/A"}},{"$f":"AJ149+1","v":{"$error":"#N/A"}}]
[null,{"$f":"-23.44*COS((B138+10)*360/365.2422)","v":1.1461661506124781},null,null,null,null,null,null,null,null,null,null,null,null,null,null,null,null,null,null,{"$f":"IF(X144<>\"\",AI144,IF(AND(V150<>\"\",AJ144=\"\"),$U$131,AJ144))","v":{"$error":"#N/A"}},{"$f":"IF(X144<>\"\",AH144,AI144)","v":{"$error":"#N/A"}},"",null,{"$f":"IF(AA149=0,\"-\",LOOKUP(AA149,Y141:AW141,Y142:AW142))","v":{"$error":"#N/A"}},{"$f":"IF(AA149=0,150,VLOOKUP(Y150,$A$12:$C$37,2))","v":{"$error":"#N/A"}},{"$f":"IF(AA149=AB140,AA142,\"\")","v":{"$error":"#N/A"}},{"$error":"#N/A"},{"$error":"#N/A"},"","",null,{"$f":"LOOKUP(AI149,Y141:AW141,Y142:AW142)","v":{"$error":"#N/A"}},{"$f":"VLOOKUP(AG150,$A$12:$C$37,2)","v":{"$error":"#N/A"}},{"$f":"IF(AI149=AJ140,AI142,\"\")","v":{"$error":"#N/A"}},{"$f":"IF(AJ149=AK140,AJ142,\"\")","v":{"$error":"#N/A"}},{"$f":"IF(AK149=AL140,AK142,\"\")","v":{"$error":"#N/A"}},"","","","","","","","","","","","Y"]
[null,null,null,null,null,null,null,null,{"$f":"COS(53.26*PI()*180)","v":-0.80901699437228158},null,null,null,null,null,null,null,null,null,null,null,{"$f":"IF(X144<>\"\",AK144,IF(AND(V151<>\"\",AL144=\"\"),$U$131,AL144))","v":{"$error":"#N/A"}},{"$f":"IF(X144<>\"\",AJ144,AK144)","v":{"$error":"#N/A"}},"",{"$f":"Z151","v":{"$error":"#N/A"}},{"$f":"LOOKUP(Z149,Y141:AW141,Y142:AW142)","v":{"$error":"#N/A"}},{"$f":"VLOOKUP(Y151,$A$12:$C$37,2)","v":{"$error":"#N/A"}},{"$f":"VLOOKUP(Y151,$A$12:$C$37,3)","v":{"$error":"#N/A"}},null,null,null,null,{"$f":"AH151","v":{"$error":"#N/A"}},{"$f":"LOOKUP(AH149,Y141:AW141,Y142:AW142)","v":{"$error":"#N/A"}},{"$f":"VLOOKUP(AG151,$A$12:$C$37,2)","v":{"$error":"#N/A"}},{"$f":"VLOOKUP(AG151,$A$12:$C$37,3)","v":{"$error":"#N/A"}}]
[null,null,null,null,null,null,null,null,null,null,null,null,null,null,null,null,null,null,null,null,{"$f":"IF(X144<>\"\",AM144,IF(AND(V152<>\"\",AN144=\"\"),$U$131,AN144))","v":{"$error":"#N/A"}},{"$f":"IF(X144<>\"\",AL144,AM144)","v":{"$error":"#N/A"}},"",{"$f":"Z152","v":{"$error":"#N/A"}},{"$f":"LOOKUP(AB149,Y141:AW141,Y142:AW142)","v":{"$error":"#N/A"}},{"$f":"VLOOKUP(Y152,$A$12:$C$37,2)","v":{"$error":"#N/A"}},{"$f":"VLOOKUP(Y152,$A$12:$C$37,3)","v":{"$error":"#N/A"}},null,null,null,null,{"$f":"AH152","v":{"$error":"#N/A"}},{"$f":"LOOKUP(AJ149,Y141:AW141,Y142:AW142)","v":{"$error":"#N/A"}},{"$f":"VLOOKUP(AG152,$A$12:$C$37,2)","v":{"$error":"#N/A"}},{"$f":"VLOOKUP(AG152,$A$12:$C$37,3)","v":{"$error":"#N/A"}}]
[null,null,null,null,null,null,null,null,null,null,null,null,null,null,null,null,null,null,null,null,{"$f":"IF(X144<>\"\",AO144,IF(AND(V153<>\"\",AP144=\"\"),$U$131,AP144))","v":{"$error":"#N/A"}},{"$f":"IF(X144<>\"\",AN144,AO144)","v":{"$error":"#N/A"}},"",null,{"$f":"LOOKUP(AC149,Y141:AW141,Y142:AW142)","v":{"$error":"#N/A"}},{"$f":"VLOOKUP(Y153,$A$12:$C$37,2)","v":{"$error":"#N/A"}},null,null,null,null,null,null,{"$f":"LOOKUP(AK149,Y141:AW141,Y142:AW142)","v":{"$error":"#N/A"}},{"$f":"IF((VLOOKUP(AG153,$A$12:$C$37,2))=\"\",-150,VLOOKUP(AG153,$A$12:$C$37,2))","v":{"$error":"#N/A"}}]
[null,null,null,null,null,null,null,null,null,null,null,null,null,null,null,null,null,null,null,null,{"$f":"IF(X144<>\"\",AQ144,IF(AND(V154<>\"\",AR144=\"\"),$U$131,AR144))","v":{"$error":"#N/A"}},{"$f":"IF(X144<>\"\",AP144,AQ144)","v":{"$error":"#N/A"}},""]
[null,"AZIMUT","ALTURA","AZIMUT","ALTURA","AZIMUT","ALTURA","AZIMUT","ALTURA","AZIMUT","ALTURA","AZIMUT","ALTURA","AZIMUT","ALTURA","AZIMUT","ALTURA","AZIMUT","ALTURA",null,{"$f":"IF(X144<>\"\",AS144,IF(AND(V155<>\"\",AT144=\"\"),$U$131,AT144))","v":{"$error":"#N/A"}},{"$f":"IF(X144<>\"\",AR144,AS144)","v":{"$error":"#N/A"}},"",null,{"$f":"MAX(X151:X152,)","v":{"$error":"#N/A"}},{"$f":"VLOOKUP(Y155,X151:Y152,2,FALSE)","v":{"$error":"#N/A"}}]
[null,{"$f":"B12","v":""},{"$f":"C12","v":""},{"$f":"B13","v":""},{"$f":"C13","v":""},{"$f":"B14","v":""},{"$f":"C14","v":""},{"$f":"B15","v":""},{"$f":"C15","v":""},{"$f":"B16","v":""},{"$f":"C16","v":""},{"$f":"B17","v":""},{"$f":"C17","v":""},{"$f":"B22","v":""},{"$f":"C22","v":""},{"$f":"B23","v":""},{"$f":"C23","v":""},{"$f":"B24","v":""},{"$f":"C24","v":""},null,{"$f":"IF(X144<>\"\",AU144,IF(AND(V156<>\"\",AV144=\"\"),$U$131,AV144))","v":{"$error":"#N/A"}},{"$f":"IF(X144<>\"\",AT144,AU144)","v":{"$error":"#N/A"}},"",null,"F. ESTE",null,"min","max",null,"F. OESTE"]
[null,null,null,null,null,null,null,null,null,null,null,null,null,null,null,null,null,null,null,null,{"$f":"IF(V157<U131,U101,\"\")","v":{"$error":"#N/A"}},{"$f":"IF(X144<>\"\",AV144,AW144)","v":{"$error":"#N/A"}},"",null,{"$f":"IF(AND(I4<W101,I4>W77),X139,\"\")","v":""},null,{"$f":"MIN(Y144:AW144)","v":"00:00:00"},{"$f":"MAX(Y144:AW144)","v":"00:00:00"},null,{"$f":"IF(AND(L4<W101,L4>W77),AY139,\"\")","v":""}]
[null,null,null,null,null,null,null,null,null,null,null,null,null,null,null,null,null,null,null,null,null,null,{"$f":"IF(AND(E5>W101,G5<W77),0,SUM(W145:W157))","v":"00:00:00"},"AZIMUT",{"$f":"M4","v":-100},null,{"$f":"LOOKUP(AA157,$Y$139:$AW$139,$Y$137:$AW$137)","v":{"$error":"#N/A"}},{"$f":"LOOKUP(AB157,$Y$139:$AW$139,$Y$137:$AW$137)","v":{"$error":"#N/A"}},null,{"$f":"N4","v":60}]
[null,null,null,null,null,null,null,null,null,null,null,null,null,null,null,null,null,null,null,null,null,null,null,"ALTURA",{"$f":"J4","v":"-"},null,{"$f":"LOOKUP(AA157,$Y$139:$AW$139,$Y$138:$AW$138)","v":{"$error":"#N/A"}},{"$f":"LOOKUP(AB157,$Y$139:$AW$139,$Y$138:$AW$138)","v":{"$error":"#N/A"}},null,{"$f":"K4","v":"-"}]
[]
[]
[null,null,null,null,null,null,null,null,null,null,null,null,null,null,null,null,null,null,null,null,null,null,null,{"$f":"IF(AND(Z152>=Z151,Z150>W107),U107,\"\")","v":{"$error":"#N/A"}},{"$f":"IF(Y139<>\"-\",Y139,IF(Z139<>\"-\",Z139,IF(AA139<>\"-\",AA139,IF(AB139<>\"-\",AB139,IF(AC139<>\"-\",AC139,IF(AD139<>\"-\",AD139,IF(AE139<>\"-\",AE139,IF(AF139<>\"-\",AF139,IF(AG139<>\"-\",AG139,IF(AH139<>\"-\",AH139,IF(AI139<>\"-\",AI139,IF(AJ139<>\"-\",AJ139,IF(AK139<>\"-\",AK139,IF(AL139<>\"-\",AL139,IF(AM139<>\"-\",AM139,IF(AN139<>\"-\",AN139,IF(AO139<>\"-\",AO139,IF(AP139<>\"-\",AP139,IF(AQ139<>\"-\",AQ139,IF(AR139<>\"-\",AR139,IF(AS139<>\"-\",AS139,IF(AT139<>\"-\",AT139,IF(AU139<>\"-\",AU139,IF(AV139<>\"-\",AV139,IF(AW139<>\"-\",AW139,\"-\")))))))))))))))))))))))))","v":"-"}]
[]
[]
[null,null,null,null,null,null,null,null,null,null,null,null,null,null,null,null,null,null,null,null,null,null,null,null,{"$f":"IF(AND(I4<AA158,I4>W77),X139,\"\")","v":{"$error":"#N/A"}}]
[]
[null,null,null,null,null,null,null,null,null,null,null,null,null,null,null,null,null,null,null,null,null,null,null,{"$f":"IF(Y158>AA158,Y157,\"-\")","v":{"$error":"#N/A"}},{"$f":"IF(OR(Y137<$Y$158,Y137>$AD$158),\"-\",Y139)","v":"-"},{"$f":"IF(OR(Z137<$Y$158,Z137>$AD$158),\"-\",Z139)","v":"-"},{"$f":"IF(OR(AA137<$Y$158,AA137>$AD$158),\"-\",AA139)","v":"-"},{"$f":"IF(OR(AB137<$Y$158,AB137>$AD$158),\"-\",AB139)","v":"-"},{"$f":"IF(OR(AC137<$Y$158,AC137>$AD$158),\"-\",AC139)","v":"-"},"-","-","-","-","-","-","-","-","-","-","-","-","-","-","-","-","-","-","-","-",null,{"$f":"IF(AND(AH152>=AH151,AH153<W131,AB158<AD158),U131,\"\")","v":{"$error":"#N/A"}},null,null,null,{"$f":"IF(OR(BC137<$Y$158,BC137>$AD$158),\"-\",BC139)","v":"-"},{"$f":"IF(OR(BD137<$Y$158,BD137>$AD$158),\"-\",BD139)","v":"-"},"-","-","-","-","-","-","-","-","-","-","-","-","-","-","-","-","-","-","-","-","-","-"]
[]
[]
[]
[null,null,null,null,null,null,null,null,null,null,null,null,null,null,null,null,null,null,null,null,null,null,"TIEMPO DE SOLEAMIENTO"]
[null,null,null,null,null,null,null,null,null,null,null,null,null,null,null,null,null,null,null,null,null,null,null,{"$f":"IFERROR(IF(AND(AND(Z152>=Z151,Z150>W107),(AA158>Y158)),U107,\"\"),\"\")","v":""},{"$f":"IFERROR(MIN(X167:AY167),\"\")","v":""},{"$f":"IFERROR(SMALL($X$167:$BZ$167,2),\"\")","v":""},{"$f":"IFERROR(SMALL($X$167:$BZ$167,3),\"\")","v":""},{"$f":"IFERROR(SMALL($X$167:$BZ$167,4),\"\")","v":""},{"$f":"IFERROR(SMALL($X$167:$BZ$167,5),\"\")","v":""},{"$f":"IFERROR(SMALL($X$167:$BZ$167,6),\"\")","v":""},{"$f":"IFERROR(SMALL($X$167:$BZ$167,7),\"\")","v":""},{"$f":"IFERROR(SMALL($X$167:$BZ$167,8),\"\")","v":""},{"$f":"IFERROR(SMALL($X$167:$BZ$167,9),\"\")","v":""},{"$f":"IFERROR(SMALL($X$167:$BZ$167,10),\"\")","v":""},{"$f":"IFERROR(SMALL($X$167:$BZ$167,11),\"\")","v":""},{"$f":"IFERROR(SMALL($X$167:$BZ$167,12),\"\")","v":""},{"$f":"IFERROR(SMALL($X$167:$BZ$167,13),\"\")","v":""},{"$f":"IFERROR(SMALL($X$167:$BZ$167,14),\"\")","v":""},{"$f":"IFERROR(SMALL($X$167:$BZ$167,15),\"\")","v":""},{"$f":"IFERROR(SMALL($X$167:$BZ$167,16),\"\")","v":""},{"$f":"IFERROR(SMALL($X$167:$BZ$167,17),\"\")","v":""},{"$f":"IFERROR(SMALL($X$167:$BZ$167,18),\"\")","v":""},{"$f":"IFERROR(SMALL($X$167:$BZ$167,19),\"\")","v":""},{"$f":"IFERROR(SMALL($X$167:$BZ$167,20),\"\")","v":""},{"$f":"IFERROR(SMALL($X$167:$BZ$167,21),\"\")","v":""},{"$f":"IFERROR(SMALL($X$167:$BZ$167,22),\"\")","v":""},{"$f":"IFERROR(SMALL($X$167:$BZ$167,23),\"\")","v":""},{"$f":"IFERROR(SMALL($X$167:$BZ$167,24),\"\")","v":""},{"$f":"IFERROR(SMALL($X$167:$BZ$167,25),\"\")","v":""},null,{"$f":"IFERROR(IF(AND(AH152>=AH151,AH153<W131,AB158<AD158),U131,\"\"),\"\")","v":""}]
[null,null,null,null,null,null,null,null,null,null,null,null,null,null,null,null,null,null,null,null,{"$f":"IF(X172<>\"\",Y172,IF(AND(V173<>\"\",Z172=\"\"),$U$131,Z172))","v":""},{"$f":"IF(X172<>\"\",X172,Y172)","v":""},{"$f":"IFERROR(U173-V173,\"\")","v":""}]
[null,null,null,null,null,null,null,null,null,null,null,null,null,null,null,null,null,null,null,null,{"$f":"IF(X172<>\"\",AA172,IF(AND(V174<>\"\",AB172=\"\"),$U$131,AB172))","v":""},{"$f":"IF(X172<>\"\",Z172,AA172)","v":""},""]
[null,null,null,null,null,null,null,null,null,null,null,null,null,null,null,null,null,null,null,null,{"$f":"IF(X172<>\"\",AC172,IF(AND(V175<>\"\",AD172=\"\"),$U$131,AD172))","v":""},{"$f":"IF(X172<>\"\",AB172,AC172)","v":""},""]
[null,null,null,null,null,null,null,null,null,null,null,null,null,null,null,null,null,null,null,null,{"$f":"IF(X172<>\"\",AE172,IF(AND(V176<>\"\",AF172=\"\"),$U$131,AF172))","v":""},{"$f":"IF(X172<>\"\",AD172,AE172)","v":""},""]
[null,null,null,null,null,null,null,null,null,null,null,null,null,null,null,null,null,null,null,null,{"$f":"IF(X172<>\"\",AG172,IF(AND(V177<>\"\",AH172=\"\"),$U$131,AH172))","v":""},{"$f":"IF(X172<>\"\",AF172,AG172)","v":""},""]
[null,null,null,null,null,null,null,null,null,null,null,null,null,null,null,null,null,null,null,null,{"$f":"IF(X172<>\"\",AI172,IF(AND(V178<>\"\",AJ172=\"\"),$U$131,AJ172))","v":""},{"$f":"IF(X172<>\"\",AH172,AI172)","v":""},""]
[null,null,null,null,null,null,null,null,null,null,null,null,null,null,null,null,null,null,null,null,{"$f":"IF(X172<>\"\",AK172,IF(AND(V179<>\"\",AL172=\"\"),$U$131,AL172))","v":""},{"$f":"IF(X172<>\"\",AJ172,AK172)","v":""},""]
[null,null,null,null,null,null,null,null,null,null,null,null,null,null,null,null,null,null,null,null,{"$f":"IF(X172<>\"\",AM172,IF(AND(V180<>\"\",AN172=\"\"),$U$131,AN172))","v":""},{"$f":"IF(X172<>\"\",AL172,AM172)","v":""},""]
[null,null,null,null,null,null,null,null,null,null,null,null,null,null,null,null,null,null,null,null,{"$f":"IF(X172<>\"\",AO172,IF(AND(V181<>\"\",AP172=\"\"),$U$131,AP172))","v":""},{"$f":"IF(X172<>\"\",AN172,AO172)","v":""},""]
[null,null,null,null,null,null,null,null,null,null,null,null,null,null,null,null,null,null,null,null,{"$f":"IF(X172<>\"\",AQ172,IF(AND(V182<>\"\",AR172=\"\"),$U$131,AR172))","v":""},{"$f":"IF(X172<>\"\",AP172,AQ172)","v":""},""]
[null,null,null,null,null,null,null,null,null,null,null,null,null,null,null,null,null,null,null,null,{"$f":"IF(X172<>\"\",AS172,IF(AND(V183<>\"\",AT172=\"\"),$U$131,AT172))","v":""},{"$f":"IF(X172<>\"\",AR172,AS172)","v":""},""]
[null,null,null,null,null,null,null,null,null,null,null,null,null,null,null,null,null,null,null,null,{"$f":"IF(X172<>\"\",AU172,IF(AND(V184<>\"\",AV172=\"\"),$U$131,AV172))","v":""},{"$f":"IF(X172<>\"\",AT172,AU172)","v":""},""]
[null,null,null,null,null,null,null,null,null,null,null,null,null,null,null,null,null,null,null,null,{"$f":"IF(V185<U159,U129,\"\")","v":""},{"$f":"IF(X172<>\"\",AV172,AW172)","v":""},""]
[null,null,null,null,null,null,null,null,null,null,null,null,null,null,null,null,null,null,null,null,null,null,{"$f":"IF(OR(AND(E5>W101,G5<W77),AND(G5<AA158,AD159<AA159,G5>W77,G5<W101),AND(E5>AB158,Y159<AB159,E5>W77,E5<W101)),0,SUM(W173:W185))","v":{"$error":"#N/A"}}]

{"sheet":"capitales","index":32,"n_rows":54,"n_cols":25,"rows_kept":54,"cut":false,"hidden":true,"merged":[]}
[null,null,null,null,null,null,null,null,null,null,null,null,null,null,null,null,null,null,"Estaciones meteorológicas"]
["Comunidad","Provincia",null,null,null,null,null,null,null,null,null,null,"Población","Latitud","Longitud","Altitud",null,"Albacete","Albacete"]
["Andalucía","Almería","Cádiz","Córdoba","Granada","Huelva","Jaén","Málaga","Sevilla",null,null,null,"Albacete",38.99765,-1.8600699999999999,685.95730000000003,null,"Alicante","Alicante"]
["Cataluña","Barcelona","Gerona","Lérida","Tarragona",null,null,null,null,null,null,null,"Alicante",38.345199999999998,-0.48100599999999999,16.632560000000002,null,"Almería","Almería"]
["ComunidaddeMadrid","Madrid",null,null,null,null,null,null,null,null,null,null,"Almería",36.840159999999997,-2.4679220000000002,27.00703,null,"Ávila","Ávila"]
["ComunidadValenciana","Alicante","Castellón","Valencia",null,null,null,null,null,null,null,null,"Ávila",40.656419999999997,-4.700323,1129.8409999999999,null,"Badajoz","Badajoz"]
["Galicia","LaCoruña","Lugo","Orense","Pontevedra",null,null,null,null,null,null,null,"Badajoz",38.878599999999999,-6.9702840000000004,192.03749999999999,null,"Barcelona","Barcelona","Fabra"]
["CastillayLeón","Ávila","Burgos","León","Palencia","Salamanca","Soria","Valladolid","Zamora",null,null,null,"Barcelona",41.387920000000001,2.1699190000000002,19.990690000000001,null,"Bilbao","Bilbao"]
["PaísVasco","Bilbao","SanSebastián","Vitoria",null,null,null,null,null,null,null,null,"Bilbao",43.256959999999999,-2.923441,17.88842,null,"Burgos","Burgos"]
["Canarias","LasPalmasdeGranCanaria","SantaCruzDeTenerife",null,null,null,null,null,null,null,null,null,"Burgos",42.340870000000002,-3.6997309999999999,865.80160000000001,null,"Cáceres","Cáceres"]
["CastillaLaMancha","Albacete","CiudadReal","Cuenca","Guadalajara","Segovia","Toledo",null,null,null,null,null,"Cáceres",39.476179999999999,-6.3707599999999998,434.61619999999999,null,"Cádiz","Cádiz","Tarifa"," Jerez de la Frontera"]
["RegióndeMurcia","Murcia",null,null,null,null,null,null,null,null,null,null,"Cádiz",36.529690000000002,-6.2926570000000002,15.424149999999999,null,"Castellón","Castellón"]
["Aragón","Huesca","Teruel","Zaragoza",null,null,null,null,null,null,null,null,"Castellón",39.985979999999998,-3.76709E-2,36,null,"Ceuta","Ceuta"]
["IslasBaleares","PalmadeMallorca",null,null,null,null,null,null,null,null,null,"Ceuta","CiudadReal",38.9861,-3.9272629999999999,636.70029999999997,null,"CiudadReal","Ciudad Real"]
["Extremadura","Badajoz","Cáceres",null,null,null,null,null,null,null,null,null,"Córdoba",37.884729999999998,-4.7791519999999998,131.9102,null,"Córdoba","Córdoba"]
["Asturias","Oviedo",null,null,null,null,null,null,null,null,null,null,"LaCoruña",43.370869999999996,-8.3958349999999999,16.760670000000001,null,"Cuenca","Cuenca"]
["Cantabria","Santander",null,null,null,null,null,null,null,null,null,null,"Cuenca",40.071829999999999,-2.1340050000000002,930.41240000000005,null,"Gerona","Gerona"]
["Navarra","Pamplona",null,null,null,null,null,null,null,null,null,null,"SanSebastián",43.320740000000001,-1.984421,6.7468430000000001,null,"Granada","Granada"]
["LaRioja","Logroño ",null,null,null,null,null,null,null,null,null,null,"Eivissa",38.908859999999997,1.4323779999999999,9.8139210000000006,null,"Guadalajara","Guadalajara"]
["Melilla","Melilla",null,null,null,null,null,null,null,null,null,null,"Formentera",38.696399999999997,1.4531350000000001,21.562460000000002,null,"Huelva","Huelva"]
["Ceuta","Ceuta",null,null,null,null,null,null,null,null,null,null,"Gerona",41.9818,2.8237000000000001,69.022679999999994,null,"Huesca","Huesca"]
[null,null,null,null,null,null,null,null,null,null,null,null,"Granada",37.176490000000001,-3.5979290000000002,697.48599999999999,null,"Jaén","Jaén"]
[null,null,null,null,null,null,null,null,null,null,null,null,"Guadalajara",40.629809999999999,-3.166493,714.21770000000004,null,"LaCoruña","La Coruña","Santiago de Compostela"]
[null,null,null,null,null,null,null,null,null,null,null,null,"Huelva",37.257100000000001,-6.9495550000000001,20.744140000000002,null,"LasPalmasdeGranCanaria","Las Palmas de Gran Canaria","Lanzarote","Fuerteventura"]
[null,null,null,null,null,null,null,null,null,null,null,null,"Huesca",42.140099999999997,-0.40889799999999998,467,null,"León","León","Virgen del Camino"]
[null,null,null,null,null,null,null,null,null,null,null,null,"Jaén",37.765740000000001,-3.7895180000000002,576.39390000000003,null,"Lérida","Lérida"]
[null,null,null,null,null,null,null,null,null,null,null,null,"Lérida",41.614150000000002,0.62578250000000002,166.44990000000001,null,"Logroño ","Logroño"]
[null,null,null,null,null,null,null,null,null,null,null,null,"León",42.599879999999999,-5.571752,841.33730000000003,null,"Lugo","Lugo"]
[null,null,null,null,null,null,null,null,null,null,null,null,"Logroño ",42.465769999999999,-2.4499949999999999,396.47280000000001,null,"Madrid","Colmenar Viejo","Madrid","Barajas","Cuatro Vientos","Getafe","Puerto Navacerrada","Torrejón De Ardoz"]
[null,null,null,null,null,null,null,null,null,null,null,null,"Lugo",43.012079999999997,-7.5558509999999997,468.23469999999998,null,"Málaga","Málaga"]
[null,null,null,null,null,null,null,null,null,null,null,null,"Madrid",40.416690000000003,-3.7003460000000001,653.00469999999996,null,"Melilla","Melilla"]
[null,null,null,null,null,null,null,null,null,null,null,"Melilla","Málaga",36.719650000000001,-4.4200189999999999,20.765879999999999,null,"Murcia","Alcantarilla","Murcia","San Javier"]
[null,null,null,null,null,null,null,null,null,null,null,null,"Murcia",37.983440000000002,-1.1298900000000001,51.070869999999999,null,"Orense","Orense"]
[null,null,null,null,null,null,null,null,null,null,null,null,"Orense",42.340009999999999,-7.8646409999999998,144.5574,null,"Oviedo","Asturias / Aeropuerto","Oviedo"]
[null,null,null,null,null,null,null,null,null,null,null,null,"Oviedo",43.360259999999997,-5.8447589999999998,238.86590000000001,null,"Palencia","Palencia"]
[null,null,null,null,null,null,null,null,null,null,null,null,"Palencia",42.012459999999997,-4.5311750000000002,745.83749999999998,null,"PalmadeMallorca","Ibiza","Menorca / Mahón","Palma de Mallorca","Palma de Mallorca / Aeropuerto"]
[null,null,null,null,null,null,null,null,null,null,null,null,"PalmadeMallorca",39.569510000000001,2.649966,31.927240000000001,null,"Pamplona","Pamplona"]
[null,null,null,null,null,null,null,null,null,null,null,null,"LasPalmasdeGranCanaria",28.12482,-15.430009999999999,7.2710359999999996,null,"Pontevedra","Pontevedra","Vigo"]
[null,null,null,null,null,null,null,null,null,null,null,null,"Pamplona",42.817210000000003,-1.6467670000000001,458.14060000000001,null,"Salamanca","Salamanca"]
[null,null,null,null,null,null,null,null,null,null,null,null,"Pontevedra",42.433619999999998,-8.6480530000000009,18.607859999999999,null,"SanSebastián","San Sebastián / Aeropuerto","San Sebastián / Igueldo"]
[null,null,null,null,null,null,null,null,null,null,null,null,"Salamanca",40.964970000000001,-5.6630469999999997,802.79150000000004,null,"SantaCruzDeTenerife","Hierro","Santa Cruz De Tenerife","Tenerife / Aeropuerto Tenerife Sur","Tenerife / Izaña","Tenerife / Norte"]
[null,null,null,null,null,null,null,null,null,null,null,null,"SantaCruzDeTenerife",28.469809999999999,-16.254860000000001,41.293880000000001,null,"Santander","Santander"]
[null,null,null,null,null,null,null,null,null,null,null,null,"Santander",43.46096,-3.8079339999999999,4.0999999999999996,null,"Segovia","Segovia"]
[null,null,null,null,null,null,null,null,null,null,null,null,"Segovia",40.94943,-4.1192089999999997,1012.785,null,"Sevilla","Sevilla / Aeropuerto","Sevilla / Morón de la Frontera / B. Aérea","Sevilla / Tablada"]
[null,null,null,null,null,null,null,null,null,null,null,null,"Sevilla",37.382640000000002,-5.9962949999999999,8.2655729999999998,null,"Soria","Soria"]
[null,null,null,null,null,null,null,null,null,null,null,null,"Soria",41.763599999999997,-2.4649209999999999,1064.8230000000001,null,"Tarragona","Tarragona","Tarragona / Reus"]
[null,null,null,null,null,null,null,null,null,null,null,null,"Tarragona",41.118659999999998,1.24533,26.262640000000001,null,"Teruel","Teruel"]
[null,null,null,null,null,null,null,null,null,null,null,null,"Teruel",40.344110000000001,-1.1069100000000001,927.45619999999997,null,"Toledo","Toledo"]
[null,null,null,null,null,null,null,null,null,null,null,null,"Toledo",39.856780000000001,-4.0244759999999999,524.06179999999995,null,"Valencia","Valencia","Valencia - Manises"]
[null,null,null,null,null,null,null,null,null,null,null,null,"Valencia",39.470239999999997,-0.3768049,23.334900000000001,null,"Valladolid","Valladolid","Valladolid / Aeropuerto","Valladolid / Aeropuerto"]
[null,null,null,null,null,null,null,null,null,null,null,null,"Valladolid",41.652949999999997,-4.7283879999999998,699.49270000000001,null,"Vitoria","Vitoria"]
[null,null,null,null,null,null,null,null,null,null,null,null,"Vitoria",42.846409999999999,-2.6678929999999998,534.35820000000001,null,"Zamora","Zamora"]
[null,null,null,null,null,null,null,null,null,null,null,null,"Zamora",41.503680000000003,-5.7437779999999998,657.16579999999999,null,"Zaragoza","Zaragoza"]
[null,null,null,null,null,null,null,null,null,null,null,null,"Zaragoza",41.656289999999998,-0.87653789999999998,204.0027]

{"sheet":"CE ","index":33,"n_rows":232,"n_cols":23,"rows_kept":232,"cut":false,"hidden":false,"merged":[[2,2,2,3],[201,2,201,3],[201,4,201,5],[201,6,201,7],[97,2,97,3],[97,4,97,5],[97,6,97,7],[58,2,58,3],[58,4,58,5],[58,6,58,7],[81,2,81,3],[81,4,81,5],[81,6,81,7],[73,5,73,6],[75,5,75,6],[77,5,77,6],[220,6,220,8],[136,2,136,3],[136,4,136,5],[136,6,136,7],[179,2,179,3],[179,4,179,5],[179,6,179,7],[209,6,209,7],[211,4,211,5],[211,6,211,7],[213,5,213,6],[215,4,215,5],[191,4,191,5],[191,6,191,7],[195,5,195,6],[197,5,197,6],[79,4,79,5],[85,5,85,6],[87,6,87,7],[71,5,71,6],[199,4,199,5],[159,4,159,5],[159,6,159,7],[126,5,126,6],[128,5,128,6],[130,5,130,6],[132,5,132,6],[134,4,134,5],[144,5,144,6],[146,5,147,6],[149,5,150,5],[152,5,153,5],[207,5,207,6],[189,6,189,7],[161,5,161,6],[163,5,163,6],[165,5,165,6],[167,5,167,6],[169,5,169,6],[171,5,171,6],[173,5,173,6],[175,5,175,6],[177,4,177,5],[183,5,184,6],[186,5,187,6],[193,5,193,6],[155,5,155,6],[157,6,157,7],[124,5,124,6],[89,4,89,5],[89,6,89,7],[91,5,91,6],[93,5,93,6],[95,4,95,5],[101,5,101,6],[103,5,103,6],[118,6,118,7],[120,4,120,5],[120,6,120,7],[122,5,122,6],[56,4,56,5],[62,5,63,5],[67,6,67,7],[69,4,69,5],[69,6,69,7],[31,14,33,14],[36,5,36,6],[38,6,38,7],[40,4,40,5],[40,6,40,7],[2,4,2,5],[2,6,2,7],[54,5,54,6],[42,5,42,6],[44,5,44,6],[46,5,46,6],[48,5,48,6],[50,5,50,6],[52,5,52,6],[23,5,24,5],[28,5,29,5],[33,5,34,5]]}
[]
[]
[null,null,{"$f":"'Matriz VERDE-GBCe'!U52","v":"CE"},null,{"$f":"'Matriz VERDE-GBCe'!V52","v":"Calidad de la edificación"}]
[]
[]
[null,null,null,null,{"$f":"'Matriz VERDE-GBCe'!V53","v":"CE 01"},{"$f":"VLOOKUP($E6,'Matriz VERDE-GBCe'!$V$7:$Y$59,2,FALSE)","v":"Diseño pasivo"},{"$f":"VLOOKUP($E6,'Matriz VERDE-GBCe'!$V$7:$Y$59,3,FALSE)","v":2.8363879049232509E-2},null,null,null,null,null,null,null,null,null,"≥ 27",null,null,"SE ADJUNTA",null,"SÍ","NO"]
[null,null,null,null,null,null,null,null,null,null,null,null,null,null,null,null,"≥ 9",null,null,"NO SE ADJUNTA",null,"NO"]
[null,null,null,null,null,"Valor límite máximo de KLIM establecido por el DB HE 01",null,null,null,null,null,null,null,null,null,null,"≥ 3",null,null,"NO APLICA"]
[null,null,null,null,null,null,null,null,null,null,null,null,null,null,null,null,null,null,null,"NO SE ADJUNTA",null,"NO"]
[null,null,null,null,null,"Valor de K del proyecto",null,null,null,null,null,null,null,null,null,null,null,null,null,"NO APLICA"]
[null,null,null,null,null,null,null,null,null,null,null,null,null,null,null,null,null,null,null,"NO SE ADJUNTA",null,"NO"]
[null,null,null,null,null,"Porcentaje de reducción del coeficiente de reducción global de transmisión térmica K",{"$f":"IFERROR(IF(OR(I8=0,I8=\"\",I10=\"\"),0,(1-I10/I8)),\"\")","v":0},null,null,null,null,null,null,{"$f":"IF(OR(G12=0,G12=\"\"),0,IF(G12>=0.3,0.25*G6,(G12/0.3)*0.25*G6))","v":0},null,null,null,null,null,"NO APLICA"]
[]
[null,null,null,null,null,"Valór límite del parámetro de control solar qsol:jul Lim establecido en DB HE 01, ≤ ",4]
[]
[null,null,null,null,null,"Valór del parámetro de control solar qsol:jul del proyecto "]
[]
[null,null,null,null,null,"Porcentaje de reducción, según límites del criterio, del parámetro de control solar qsol:jul, ",{"$f":"IFERROR(IF(OR(I16=4,I16=\"\"),0,IF(OR(I16=1,I16<1),1,(1-(I16-1)/3))),\"\")","v":0},null,null,null,null,null,null,{"$f":"IF(G18=1,0.25*G6,G18*0.25*G6)","v":0}]
[]
[null,null,null,null,null,"Volumen interior de las áreas calefactadas del edificio en m3",null,null,2000]
[]
[null,null,null,null,null,"Valor límite de renovaciones por hora a una presión de 50 Pa n50 [h-1]"]
[]
[null,null,null,null,null,{"$f":"IF(I20>=1500,\"Valor límite de la permeabilidad al aire de los huecos de la envolvente en función de la zona climática Q100 Lim fijado por el DB HE\",\"\")","v":"Valor límite de la permeabilidad al aire de los huecos de la envolvente en función de la zona climática Q100 Lim fijado por el DB HE"}]
[]
[]
[null,null,null,null,null,"Renovaciones por hora a una presión de 50 Pa n50 [h-1] del proyecto",null,null,null,null,null,null,{"$f":"IFERROR(IF(OR(I22=0,I22=\"\",I27=\"\"),0,(1-I27/I22)),\"\")","v":0},{"$f":"IF(OR(M27=0,M27=\"\"),0,IF(M27>=0.5,0.25*G6,(M27/0.5)*0.25*G6))","v":0},"Edificios< 1500 m3"]
[]
[null,null,null,null,null,{"$f":"IF(I20>=1500,\"Valor de la permeabilidad al aire de los huecos de la envolvente en función de la zona climática Q100 del proyecto\",\"\")","v":"Valor de la permeabilidad al aire de los huecos de la envolvente en función de la zona climática Q100 del proyecto"}]
[]
[]
[null,null,null,null,null,"Porcentaje de reducción de las renovaciones por hora a una presión de 50 Pa n50 [h-1]",{"$f":"IF(I20>=1500,M32,M27)","v":0},null,null,null,null,null,{"$f":"IFERROR(IF(OR(I22=0,I22=\"\",I27=\"\"),0,(1-I27/I22)),\"\")","v":0},{"$f":"IF(OR(M32=0,M32=\"\"),0,IF(M32>=0.5,0.125*G6,(M32/0.5)*0.125*G5))","v":0},"Edificios >1500 m3"]
[]
[null,null,null,null,null,{"$f":"IF(I20>=1500,\"Mejora el valor de la permeabilidad al aire de los huecos de la envolvente respecto del valor límite Q100 fijado por el DB HE\",\"\")","v":"Mejora el valor de la permeabilidad al aire de los huecos de la envolvente respecto del valor límite Q100 fijado por el DB HE"},{"$f":"IF(M34=0,V7,V6)","v":"NO"},null,null,null,null,null,{"$f":"IF(OR(I29=\"\",I29=I24),0,IF(AND(I29=Q7,I24=Q6),1,IF(AND(I29=Q8,I24=Q7),1,IF(AND(I29=Q8,I24=Q6),1,0))))","v":0},{"$f":"IF(OR(M34=0,M34=\"\"),0,IF(M34>=1,0.125*G6,0))","v":0}]
[]
[]
[null,null,null,null,null,"Se cumple en todos los casos, incluidos puentes térmicos con el valor mínimo de Fpsi",null,null,null,null,null,null,null,{"$f":"IF(OR(I37=\"\",I37=\"No\"),0,0.25*G6)","v":0},"Puentes térmicos"]
[]
[null,null,null,null,"NOTAS"]
[]
[null,null,null,null,"DOCUMENTOS JUSTIFICATIVOS"]
[]
[null,null,null,null,"CE 01.01","Cuadro de valores de transmitancia térmica de los elementos de la envolvente"]
[]
[null,null,null,null,"CE 01.02","Documentos justificativos del cálculo del parámetro de control solar"]
[]
[null,null,null,null,"CE 01.03","Informe de resultados de la determinación de la permeabilidad al aire. Evaluación de la relación del cambio de aire n50 en h-1 y, si procede, cálculos de la relación del cambio de aire de superficies externas q50 en m3/(h · m2) a una diferencia de presión de 50 Pa de acuerdo con UNE EN ISO 9972:2019."]
[]
[null,null,null,null,"CEC 01.04","Documentación de la permeabilidad al aire de los huecos Q de acuerdo a UNE EN 12207 y detalles de la clase calculada en función de la declaración ambiental de producto. Los detalles se deben tomar de la hoja de datos técnicos correspondiente a las ventanas y puertas como valores de banco de pruebas."]
[]
[null,null,null,null,"CE 01.05","Informe elaborado por especialista que declare que el diseño de la envolvente evita las condensaciones que producirían una merma significativa en sus prestaciones térmicas o supondrían un riesgo de degradación o pérdida de su vida útil."]
[]
[null,null,null,null,"CE 01.06","Cálculo de los puentes térmicos, que demuestre que se cumple con el aislamiento térmico previsto en proyecto y que este es suficiente para cumplir con los objetivos de demanda. Documento DA DB HE / 3 Puentes térmicos"]
[]
[null,null,null,null,"CE 01.07","Detalles de los puentes térmicos justificando los parámetros establecidos en el criterio."]
[]
[null,null,null,null,"VALORACIÓN DEL CRITERIO",null,{"$f":"IF(I20>=1500,N12+N18+N32+N34+N37,N12+N18+N27+N37)","v":0}]
[]
[]
[]
[null,null,null,null,{"$f":"'Matriz VERDE-GBCe'!V54","v":"CE 02"},{"$f":"VLOOKUP($E61,'Matriz VERDE-GBCe'!$V$7:$Y$59,2,FALSE)","v":"Control parcial de los sistemas de clima (HVAC)"},{"$f":"VLOOKUP($E61,'Matriz VERDE-GBCe'!$V$7:$Y$59,3,FALSE)","v":2.6695415575748244E-2}]
[]
[null,null,null,null,null,"El edificio permite el funcionamiento parcial de los sistemas de clima según la compartimentación por zonas",null,null,null,null,null,null,{"$f":"IF(I63=\"sí\",G61*0.6,0)","v":0}]
[]
[]
[null,null,null,null,null,"Porcentaje de superficies de trabajo que tienen control termostático",null,null,null,null,null,null,{"$f":"IF(I66<=0.7,0,IF(I66>1,\"ERROR\",((I66-0.7)/0.3)*G61*0.4))","v":0}]
[]
[null,null,null,null,"NOTAS"]
[]
[null,null,null,null,"DOCUMENTOS JUSTIFICATIVOS"]
[]
[null,null,null,null,"CE 02.01","Planos de plantas del proyecto en formato que permita la comprobación de las medidas con herramientas de libre acceso, en los que deberán figurar las áreas térmicas diferenciadas que deberían tener el edificio según lo establecido en el criterio, así como la señalización de aquellas áreas térmicas diferenciadas que cuenten con control accesible termostático\n"]
[]
[null,null,null,null,"CE 02.02","Proyecto de las instalaciones de climatización del edificio y su independencia según las zonas de uso."]
[]
[null,null,null,null,"CE 02.03","Memoria de cálculo del porcentaje de áreas térmicas diferenciadas que cuentan con un control accesible termostático"]
[]
[null,null,null,null,"CE 02.04","Memoria justificativa del cumplimiento de las exigencias del criterio"]
[]
[null,null,null,null,"VALORACIÓN DEL CRITERIO",null,{"$f":"M63+M66","v":0}]
[]
[]
[]
[null,null,null,null,{"$f":"'Matriz VERDE-GBCe'!V55","v":"CE 03"},{"$f":"VLOOKUP($E84,'Matriz VERDE-GBCe'!$V$7:$Y$59,2,FALSE)","v":"Control local de la iluminación"},{"$f":"VLOOKUP($E84,'Matriz VERDE-GBCe'!$V$7:$Y$59,3,FALSE)","v":2.2229067200574978E-2}]
[]
[null,null,null,null,null,"Porcentaje de puestos de trabajo que cuentan con un control local de la iluminación."]
[]
[null,null,null,null,"NOTAS"]
[]
[null,null,null,null,"DOCUMENTOS JUSTIFICATIVOS"]
[]
[null,null,null,null,"CE 03.01","Planos de plantas del proyecto en formato que permita la comprobación de las medidas con herramientas de libre acceso, en los que deberá figurar la localización de los puestos de trabajo individuales señalizando aquellos que dispongan de un control personal de la iluminación."]
[]
[null,null,null,null,"CE 03.02","Memoria de cálculo del porcentaje de puestos de trabajo individuales que dispongan de un control personal de la iluminación"]
[]
[null,null,null,null,"VALORACIÓN DEL CRITERIO",null,{"$f":"IF($I86<=0.7,0,IF(I86>1,\"ERROR\",(($I86-0.7)/0.3)*G84))","v":0}]
[]
[]
[]
[null,null,null,null,{"$f":"'Matriz VERDE-GBCe'!V56","v":"CE 04"},{"$f":"VLOOKUP($E100,'Matriz VERDE-GBCe'!$V$7:$Y$59,2,FALSE)","v":"Calidad en la construcción"},{"$f":"VLOOKUP($E100,'Matriz VERDE-GBCe'!$V$7:$Y$59,3,FALSE)","v":3.4781046254941224E-2}]
[]
[null,null,null,null,null,"Se ha realizado e implementado un plan de control de calidad en la construcción del edificio",null,null,null,null,null,null,{"$f":"IF($I102=\"Sí\",$G100*0.3,0)","v":0}]
[]
[null,null,null,null,null,"Se ha realizado e implementado un plan gestión ambiental durante la construcción del edificio",null,null,null,null,null,null,{"$f":"IF($I104=\"Sí\",$G100*0.2,0)","v":0}]
[]
[null,null,null,null,null,"Pruebas de control de calidad a realizar al final de la obra"]
[]
[null,null,null,null,null,"Se ha medido la presión diferencial mediante un endayo blower door",null,null,null,null,null,null,{"$f":"IF($I108=\"sí\",$G100*0.2,0)","v":0}]
[]
[null,null,null,null,null,"Se ha medido el aislamiento acústico en obra terminada",null,null,null,null,null,null,{"$f":"IF($I110=\"sí\",$G100*0.1,0)","v":0}]
[]
[null,null,null,null,null,"Se han realizado pruebas de estanqueidad en cubiertas y carpinterías",null,null,null,null,null,null,{"$f":"IF($I112=\"sí\",$G100*0.1,0)","v":0}]
[]
[null,null,null,null,null,"Se han realizado otras mediciones relevantes para el edificio",null,null,null,null,null,null,{"$f":"IF($I114=\"sí\",$G100*0.1,0)","v":0}]
[]
[]
[null,null,null,null,null,"Se han recogido las garantías de calidad de los productos durante la ejecución de la obra",null,null,null,null,null,null,{"$f":"IF($I117=\"sí\",$G100*0.1,0)","v":0}]
[]
[null,null,null,null,"NOTAS"]
[]
[null,null,null,null,"DOCUMENTOS JUSTIFICATIVOS"]
[]
[null,null,null,null,"CE 04.01","Plan de control de calidad\n"]
[]
[null,null,null,null,"CE 04.02","Informes del control de calidad realizado durante la ejecución del edificio."]
[]
[null,null,null,null,"CE 04.03","Plan de gestión ambiental"]
[]
[null,null,null,null,"CE 04.04","Informes del control del cumplimiento del plan de gestión ambiental durante la ejecución del edificio."]
[]
[null,null,null,null,"CE 04.05","Informes de las entidades o laboratorios que realicen las pruebas o mediciones de control de calidad\n"]
[]
[null,null,null,null,"CE 04.06","Documentación de los materiales utilizados en la obra afectados por el plan de control de calidad"]
[]
[null,null,null,null,"VALORACIÓN DEL CRITERIO",null,{"$f":"IF((M108+M110+M112+M114)>=0.4*G100,(0.4*G100)+M102+M104+M117,M102+M104+M108+M110+M112+M114+M117)","v":0}]
[]
[]
[]
[null,null,null,null,{"$f":"'Matriz VERDE-GBCe'!V57","v":"CE 05"},{"$f":"VLOOKUP($E139,'Matriz VERDE-GBCe'!$V$7:$Y$59,2,FALSE)","v":"Puesta en marcha sistemática"},{"$f":"VLOOKUP($E139,'Matriz VERDE-GBCe'!$V$7:$Y$59,3,FALSE)","v":3.6115817033728632E-2},null,null,null,null,null,null,{"$f":"DG!F31","v":0}]
[]
[null,null,null,null,null,"Se ha implementado un plan de monitorización de los consumos adecuado para el edificio",null,null,null,null,null,null,{"$f":"IF($I141=\"sí\",$G139*0.15,0)","v":0},{"$f":"IF($I141=\"sí\",$G139*0.3,0)","v":0}]
[]
[null,null,null,null,null,"Se ha elaborado un plan de puesta en marcha adecuado para el edificio.",null,null,null,null,null,null,{"$f":"IF($I143=\"sí\",$G139*0.1,0)","v":0}]
[]
[null,null,null,null,null,"Todos los componentes técnicos esenciales han sido sometidos a una prueba de funcionamiento preliminar",null,null,null,null,null,null,{"$f":"IF($I145=\"sí\",$G139*0.1,0)","v":0}]
[]
[null,null,null,null,null,{"$f":"IF(N139=\"Edificio existente\",\"El operador ha recibido formación sobre como utilizar todos los sistemas\",\"Todos los sistemas técnicos esenciales han sido sometidos a su puesta en marcha, conforme especificaciones del criterios y el operador ha recibido formación sobre como utilizar todos los sistemas\")","v":"Todos los sistemas técnicos esenciales han sido sometidos a su puesta en marcha, conforme especificaciones del criterios y el operador ha recibido formación sobre como utilizar todos los sistemas"},null,null,null,null,null,null,{"$f":"IF($I147=\"sí\",$G139*0.15,0)","v":0},{"$f":"IF($I147=\"sí\",$G139*0.3,0)","v":0}]
[]
[]
[null,null,null,null,null,"Se documenta todo el proceso de puesta en marcha en un informe que permitirá a los futuros operadores comprender los resultados de las pruebas",null,null,null,null,null,null,{"$f":"IF($I150=\"sí\",$G139*0.2,0)","v":0}]
[]
[]
[null,null,null,null,null,{"$f":"IF(N139=\"Edificio existente\",\"Cuenta con un plan de mantenimiento preventivo sistemático\",\"Se ha elaborado un manual de funcionamiento integral de las instalaciones del edificio. Se elabora un plan de mantenimiento preventivo sistemático\")","v":"Se ha elaborado un manual de funcionamiento integral de las instalaciones del edificio. Se elabora un plan de mantenimiento preventivo sistemático"},null,null,null,null,null,null,{"$f":"IF($I153=\"sí\",$G139*0.2,0)","v":0},{"$f":"IF($I153=\"sí\",$G139*0.4,0)","v":0}]
[]
[]
[null,null,null,null,null,"Se ha realizado una Gestión de la puesta en marcha conforme a las especificaciones del criterio",null,null,null,null,null,null,{"$f":"IF($I156=\"sí\",$G139*0.1,0)","v":0}]
[]
[null,null,null,null,"NOTAS"]
[]
[null,null,null,null,"DOCUMENTOS JUSTIFICATIVOS"]
[]
[null,null,null,null,"CE 05.01","Definición del sistema de monitorización que recoja los requisitos del cliente y especifique los parámetros a considerar, que deberán incluir al menos la medición exhaustiva del consumo de energía y agua mensualmente."]
[]
[null,null,null,null,"CE 05.02","Plan de puesta en marcha que incluya objetivos medibles en materia de consumo, temperaturas, rendimiento, etc., y un protocolo para la documentación completa de los procesos de regulación y reajuste"]
[]
[null,null,null,null,"CE 05.03","Extractos de los informes de puesta en servicio y documentos contractuales con un organismo independiente para llevar a cabo la gestión de la puesta en marcha."]
[]
[null,null,null,null,"CE 05.04","Certificados de entrega para pruebas de funcionamiento preliminares completadas."]
[]
[null,null,null,null,"CE 05.05","Certificados de entrega para la puesta en marcha completada."]
[]
[null,null,null,null,"CE 05.06","Lista de pruebas de funcionamiento completadas e informes asociados (para todos los sistemas como son los de calefacción, ventilación, sistemas automáticos de riego, etc.) con sus resultados."]
[]
[null,null,null,null,"CE 05.07","Plan para transformar la puesta en marcha en un proceso de monitorización y optimización continua."]
[]
[null,null,null,null,"CE 05.08","Extracto del contrato de revisión del sistema en los 14 primeros meses."]
[]
[null,null,null,null,"VALORACIÓN DEL CRITERIO",null,{"$f":"IF(N139=\"Edificio existente\",N141+N147+N153,M141+M143+M145+M147+M150+M153+M156)","v":0}]
[]
[]
[]
[null,null,null,null,{"$f":"'Matriz VERDE-GBCe'!V58","v":"CE 06"},{"$f":"VLOOKUP($E182,'Matriz VERDE-GBCe'!$V$7:$Y$59,2,FALSE)","v":"Custodia de la documentación del proyecto"},{"$f":"VLOOKUP($E182,'Matriz VERDE-GBCe'!$V$7:$Y$59,3,FALSE)","v":3.2111504697366393E-2}]
[]
[null,null,null,null,null,"El protocolo de custodia de la documentación del proyecto incluye a propietarios, equipo de proyecto y promotores.",null,null,null,null,null,null,{"$f":"IF(I184=\"sí\",G182*0.4,0)","v":0}]
[]
[]
[null,null,null,null,null," Pliegos de licitación o contrato que defina todos los requisitos establecidos en el criterio para diseño del proyecto BIM",null,null,null,null,null,null,{"$f":"IF(I187=\"sí\",G182*0.6,0)","v":0}]
[]
[]
[null,null,null,null,"NOTAS"]
[]
[null,null,null,null,"DOCUMENTOS JUSTIFICATIVOS"]
[]
[null,null,null,null,"CE 06.01","Protocolo de custodia de la documentación del proyecto"]
[]
[null,null,null,null,"CE 06.02","Libro del edificio que incluya el protocolo de custodia de la documentación del proyecto"]
[]
[null,null,null,null,"CE 06.03","Pliegos de licitación o contrato que defina todos los requisitos establecidos en el criterio para diseño del proyecto BIM"]
[]
[null,null,null,null,"VALORACIÓN DEL CRITERIO",null,{"$f":"M184+M187","v":0}]
[]
[]
[]
[null,null,null,null,{"$f":"'Matriz VERDE-GBCe'!V59","v":"CE 07"},{"$f":"VLOOKUP($E204,'Matriz VERDE-GBCe'!$V$7:$Y$59,2,FALSE)","v":"Certificaciones voluntarias de edificios"},{"$f":"VLOOKUP($E204,'Matriz VERDE-GBCe'!$V$7:$Y$59,3,FALSE)","v":0}]
[]
[null,null,null,null,null,"El edificio cuenta con una certificación VERDE",null,null,null,null,null,null,{"$f":"IF(I206=\"sí\",G204,0)","v":0}]
[]
[null,null,null,null,null,"El edificio cuenta con otra certificación voluntaria que valora la sostenibilidad en la edificación.",null,null,null,null,null,null,{"$f":"IF(I208=\"sí\",G204*0.5,0)","v":0}]
[]
[null,null,null,null,"NOTAS"]
[]
[null,null,null,null,"DOCUMENTOS JUSTIFICATIVOS"]
[]
[null,null,null,null,"CE 07.01","Certificado voluntario que valore la sostenibilidad del edificio"]
[]
[null,null,null,null,"VALORACIÓN DEL CRITERIO",null,{"$f":"IF(I206=\"Sí\",M206,M208)","v":0}]
[]
[]
[]
[]
[null,null,null,null,null,null,"VALORACIÓN ÁREA"]
[]
[null,null,null,null,null,null,"SUBTOTAL",null,{"$f":"G57+G80+G96+G135+G178+G200+G216","v":0}]
[]
[null,null,null,null,null,null,"SOBRE",null,{"$f":"VLOOKUP(C$3,'Matriz VERDE-GBCe'!$U$4:$Y$59,4,FALSE)","v":0.18029672981159198}]
[]
[]
[]
[]
[]
[]
[null,null,null,null,null,null,"SÍ",null,"x"]

{"sheet":"IN","index":34,"n_rows":49,"n_cols":23,"rows_kept":49,"cut":false,"hidden":false,"merged":[[38,6,38,9],[8,3,8,4],[12,3,12,4],[16,3,16,4],[31,5,31,6],[33,4,33,5],[27,6,27,7],[1,2,1,3],[1,4,1,5],[1,6,1,7],[29,4,29,5],[29,6,29,7],[20,3,20,4],[24,3,24,4],[8,6,8,7],[12,6,12,7],[16,6,16,7],[20,6,20,7],[24,6,24,7]]}
[]
[null,null,"INN",null,"INNOVACIÓN",null,null,null,null,null,null,null,null,null,"SÍ"]
[null,null,null,null,null,null,null,null,null,null,null,null,null,null,"NO"]
[]
[null,null,null,null,"INN","Medidas de innovación propuestas",0.05,null,null,null,null,null,null,null,null,null,null,null,null,"SE ADJUNTA",null,"SÍ","NO"]
[null,null,null,null,null,null,null,null,null,null,null,null,null,null,null,null,null,null,null,"NO SE ADJUNTA",null,"NO"]
[null,null,null,null,null,"medida de innovación 1",null,null,null,null,null,null,null,null,null,null,null,null,null,"NO APLICA"]
[null,null,null,null,null,null,null,null,null,null,null,null,null,null,null,null,null,null,null,"NO SE ADJUNTA",null,"NO"]
[null,null,null,"Descripción:",null,null,null,null,null,null,null,null,null,null,null,null,null,null,null,"NO APLICA"]
[null,null,null,null,null,null,null,null,null,null,null,null,null,null,null,null,null,null,null,"NO SE ADJUNTA",null,"NO"]
[null,null,null,null,null,"medida de innovación 2",null,null,null,null,null,null,null,null,null,null,null,null,null,"NO APLICA"]
[null,null,null,null,null,null,null,null,null,null,null,null,null,null,null,null,null,null,null,"NO SE ADJUNTA",null,"NO"]
[null,null,null,"Descripción:",null,null,null,null,null,null,null,null,null,null,null,null,null,null,null,"NO APLICA"]
[null,null,null,null,null,null,null,null,null,null,null,null,null,null,null,null,null,null,null,"NO SE ADJUNTA",null,"NO"]
[null,null,null,null,null,"medida de innovación 3",null,null,null,null,null,null,null,null,null,null,null,null,null,"NO APLICA"]
[null,null,null,null,null,null,null,null,null,null,null,null,null,null,null,null,null,null,null,"NO SE ADJUNTA",null,"NO"]
[null,null,null,"Descripción:",null,null,null,null,null,null,null,null,null,null,null,null,null,null,null,"NO APLICA"]
[null,null,null,null,null,null,null,null,null,null,null,null,null,null,null,null,null,null,null,"NO SE ADJUNTA",null,"NO"]
[null,null,null,null,null,"medida de innovación 4",null,null,null,null,null,null,null,null,null,null,null,null,null,"NO APLICA"]
[null,null,null,null,null,null,null,null,null,null,null,null,null,null,null,null,null,null,null,"NO SE ADJUNTA",null,"NO"]
[null,null,null,"Descripción:",null,null,null,null,null,null,null,null,null,null,null,null,null,null,null,"NO APLICA"]
[null,null,null,null,null,null,null,null,null,null,null,null,null,null,null,null,null,null,null,"NO SE ADJUNTA",null,"NO"]
[null,null,null,null,null,"medida de innovación 5",null,null,null,null,null,null,null,null,null,null,null,null,null,"NO APLICA"]
[null,null,null,null,null,null,null,null,null,null,null,null,null,null,null,null,null,null,null,"NO SE ADJUNTA",null,"NO"]
[null,null,null,"Descripción:",null,null,null,null,null,null,null,null,null,null,null,null,null,null,null,"NO APLICA"]
[]
[]
[null,null,null,null,"NOTAS"]
[]
[null,null,null,null,"DOCUMENTOS JUSTIFICATIVOS"]
[]
[]
[]
[null,null,null,null,"VALORACIÓN DEL CRITERIO",null,{"$f":"(IF(I7=\"SÍ\",0.01,0))+(IF(I11=\"SÍ\",0.01,0))+(IF(I15=\"SÍ\",0.01,0))+(IF(I19=\"SÍ\",0.01,0))+(IF(I23=\"SÍ\",0.01,0))","v":0}]
[]
[]
[]
[]
[null,null,null,null,null,null,"VALORACIÓN ÁREA"]
[]
[null,null,null,null,null,null,"SUBTOTAL",null,{"$f":"G34","v":0}]
[]
[null,null,null,null,null,null,"SOBRE",null,0.05]
[]
[]
[]
[]
[]
[null,null,null,null,null,null,"SÍ",null,"x"]

{"sheet":"Informe resultados","index":35,"n_rows":74,"n_cols":31,"rows_kept":74,"cut":false,"hidden":false,"merged":[[39,10,50,10],[51,15,55,15],[26,16,34,16],[35,16,38,16],[39,16,49,16],[51,16,55,16],[39,12,50,12],[39,14,50,14],[39,15,50,15],[51,3,55,3],[51,4,55,4],[54,6,54,9],[55,6,55,9],[26,3,34,3],[35,3,38,3],[39,3,49,3],[29,6,29,9],[28,6,28,9],[30,6,30,9],[45,6,45,9],[46,6,46,9],[47,6,47,9],[48,6,48,9],[39,4,50,4],[41,6,41,7],[76,5,76,9],[26,14,34,14],[35,14,38,14],[51,14,55,14],[26,12,34,12],[35,12,38,12],[51,12,55,12],[58,6,58,9],[53,6,53,9],[52,6,52,9],[73,4,73,9],[35,10,38,10],[63,6,63,9],[59,6,59,9],[60,6,60,9],[61,6,61,9],[2,4,2,14],[1,4,1,14],[35,4,38,4],[35,6,35,9],[38,6,38,9],[26,4,34,4],[26,6,26,9],[26,10,34,10],[33,6,33,9],[34,6,34,9],[25,6,25,9],[25,4,25,5],[27,6,27,9],[4,4,24,15],[26,15,34,15],[35,15,38,15],[73,10,73,11],[73,12,73,13],[31,6,31,9],[32,6,32,9],[36,6,36,9],[37,6,37,9],[40,6,40,9],[42,6,42,9],[39,6,39,9],[43,6,43,9],[44,6,44,9],[51,6,51,9],[51,10,55,10],[57,6,57,9],[49,6,49,9],[50,6,50,9],[56,4,64,4],[56,10,64,10],[56,12,64,12],[56,14,64,14],[56,15,64,15],[62,6,62,9],[64,6,64,9],[56,6,56,9],[56,3,64,3],[65,3,71,3],[65,16,71,16],[56,16,64,16],[65,15,71,15],[65,10,71,10],[71,6,71,9],[65,4,71,4],[65,12,71,12],[65,14,71,14],[66,6,66,9],[67,6,67,9],[68,6,68,9],[69,6,69,9],[70,6,70,9],[65,6,65,9]]}
[]
[null,null,null,null,"INFORME DEL COMPORTAMIENTO SOSTENIBLE PARA VERDE Edificios 2020 Usos distintos del Residencial Privado"]
[null,null,null,null,"CONJUNTO DE CRITERIOS"]
[]
[null,null,null,null,null,null,null,null,null,null,null,null,null,null,null,null,null,null,null,null,null,null,null,null,null,"Columna1","Seguro","2hojas","3 hojas","4 hojas","5 hojas"]
[null,null,null,null,null,null,null,null,null,null,null,null,null,null,null,null,null,null,null,null,null,null,null,null,null,"PE",{"$f":"O27","v":0},0.3,0.35,0.45,0.6]
[null,null,null,null,null,null,null,null,null,null,null,null,null,null,null,null,null,null,null,null,null,null,null,null,null,"EA",{"$f":"O36","v":0},0.3,0.35,0.45,0.6]
[null,null,null,null,null,null,null,null,null,null,null,null,null,null,null,null,null,null,null,null,null,null,null,null,null,"RN",{"$f":"O40","v":0},0.3,0.35,0.45,0.6]
[null,null,null,null,null,null,null,null,null,null,null,null,null,null,null,null,null,null,null,null,null,null,null,null,null,"AI",{"$f":"O52","v":0},0.3,0.35,0.45,0.6]
[null,null,null,null,null,null,null,null,null,null,null,null,null,null,null,null,null,null,null,null,null,null,null,null,null,"AS",{"$f":"O57","v":0},0.3,0.35,0.45,0.6]
[null,null,null,null,null,null,null,null,null,null,null,null,null,null,null,null,null,null,null,null,null,null,null,null,null,"CE",{"$f":"O66","v":0},0.3,0.35,0.45,0.6]
[]
[]
[]
[]
[]
[]
[]
[]
[]
[]
[]
[]
[]
[]
[null,null,null,"Áreas de criterios","Áreas de criterios",null,"Criterio",null,null,null,"Peso del área","Peso del criterio","Puntuación del área","Puntuación del criterio","Porcentaje cumplimiento","Nivel mínimo cumplimiento","Porcentaje por cumplir"]
[null,null,null,{"$f":"'Matriz VERDE-GBCe'!U6","v":"PE"},{"$f":"'Matriz VERDE-GBCe'!V6","v":"Parcela y emplazamiento"},{"$f":"'Matriz VERDE-GBCe'!V7","v":"PE 01"},{"$f":"VLOOKUP($F27,'Matriz VERDE-GBCe'!$V$7:$Y$51,2,FALSE)","v":"Proximidad al transporte publico."},null,null,null,{"$f":"SUM(L27:L35)","v":0.15244622413881617},{"$f":"VLOOKUP($F27,'Matriz VERDE-GBCe'!$V$7:$Y$51,3,FALSE)","v":1.4297448534319013E-2},{"$f":"SUM(N27:N35)","v":0},{"$f":"PE!G27","v":0},{"$f":"IF(K27=0,0,M27/K27)","v":0},{"$f":"IF(DG!F31=\"Edificio existente\",'Informe resultados'!V31,'Informe resultados'!V30)","v":0},{"$f":"1-O27","v":1}]
[null,null,null,null,null,{"$f":"'Matriz VERDE-GBCe'!V8","v":"PE 02"},{"$f":"VLOOKUP($F28,'Matriz VERDE-GBCe'!$V$7:$Y$51,2,FALSE)","v":"Proximidad a equipamiento y servicios."},null,null,null,null,{"$f":"VLOOKUP($F28,'Matriz VERDE-GBCe'!$V$7:$Y$51,3,FALSE)","v":1.3476051131988296E-2},null,{"$f":"PE!G51","v":0}]
[null,null,null,null,null,{"$f":"'Matriz VERDE-GBCe'!V9","v":"PE 03"},{"$f":"VLOOKUP($F29,'Matriz VERDE-GBCe'!$V$7:$Y$51,2,FALSE)","v":"Facilidades para la bicicleta."},null,null,null,null,{"$f":"VLOOKUP($F29,'Matriz VERDE-GBCe'!$V$7:$Y$51,3,FALSE)","v":1.6299604702500133E-2},null,{"$f":"PE!G101","v":0}]
[null,null,null,null,null,{"$f":"'Matriz VERDE-GBCe'!V10","v":"PE 04"},{"$f":"VLOOKUP($F30,'Matriz VERDE-GBCe'!$V$7:$Y$51,2,FALSE)","v":"Capacidad de carga de vehículos eléctricos."},null,null,null,null,{"$f":"VLOOKUP($F30,'Matriz VERDE-GBCe'!$V$7:$Y$51,3,FALSE)","v":1.6017249345448948E-2},null,{"$f":"PE!G129","v":0},null,null,null,null,null,null,null,{"$f":"IF(O27>60%,5,IF(O27>45%,4,IF(O27>35%,3,IF(O27>30%,2,IF(O27<30%,0,0)))))","v":0}]
[null,null,null,null,null,{"$f":"'Matriz VERDE-GBCe'!V11","v":"PE 05"},{"$f":"VLOOKUP($F31,'Matriz VERDE-GBCe'!$V$7:$Y$51,2,FALSE)","v":"Clasificación de RSU."},null,null,null,null,{"$f":"VLOOKUP($F31,'Matriz VERDE-GBCe'!$V$7:$Y$51,3,FALSE)","v":1.1294214282047332E-2},null,{"$f":"PE!G173","v":0},null,null,null,null,null,null,null,{"$f":"IF(O27>80%,5,IF(O27>60%,4,IF(O27>50%,3,IF(O27>40%,2,IF(O27>30%,1,0)))))","v":0}]
[null,null,null,null,null,{"$f":"'Matriz VERDE-GBCe'!V12","v":"PE 06"},{"$f":"VLOOKUP($F32,'Matriz VERDE-GBCe'!$V$7:$Y$51,2,FALSE)","v":"Gestión y Restauración del hábitat."},null,null,null,null,{"$f":"VLOOKUP($F32,'Matriz VERDE-GBCe'!$V$7:$Y$51,3,FALSE)","v":2.2819446583500182E-2},null,{"$f":"PE!G200","v":0}]
[null,null,null,null,null,{"$f":"'Matriz VERDE-GBCe'!V13","v":"PE 07"},{"$f":"VLOOKUP($F33,'Matriz VERDE-GBCe'!$V$7:$Y$51,2,FALSE)","v":"Uso de plantas para crear sombras."},null,null,null,null,{"$f":"VLOOKUP($F33,'Matriz VERDE-GBCe'!$V$7:$Y$51,3,FALSE)","v":1.8122080188921405E-2},null,{"$f":"PE!G228","v":0}]
[null,null,null,null,null,{"$f":"'Matriz VERDE-GBCe'!V14","v":"PE 08"},{"$f":"VLOOKUP($F34,'Matriz VERDE-GBCe'!$V$7:$Y$51,2,FALSE)","v":"Efecto isla de calor."},null,null,null,null,{"$f":"VLOOKUP($F34,'Matriz VERDE-GBCe'!$V$7:$Y$51,3,FALSE)","v":2.043226038297654E-2},null,{"$f":"PE!G280","v":0}]
[null,null,null,null,null,{"$f":"'Matriz VERDE-GBCe'!V15","v":"PE 09"},{"$f":"VLOOKUP($F35,'Matriz VERDE-GBCe'!$V$7:$Y$51,2,FALSE)","v":"Contaminación lumínica."},null,null,null,null,{"$f":"VLOOKUP($F35,'Matriz VERDE-GBCe'!$V$7:$Y$51,3,FALSE)","v":1.9687868987114329E-2},null,{"$f":"PE!G304","v":0}]
[null,null,null,{"$f":"'Matriz VERDE-GBCe'!U16","v":"EA"},{"$f":"'Matriz VERDE-GBCe'!V16","v":"Energía y atmósfera"},{"$f":"'Matriz VERDE-GBCe'!V18","v":"EA 01"},{"$f":"VLOOKUP($F36,'Matriz VERDE-GBCe'!$V$7:$Y$51,2,FALSE)","v":"Consumo de energía primaria"},null,null,null,{"$f":"SUM(L36:L39)","v":0.17601006211817857},{"$f":"VLOOKUP($F36,'Matriz VERDE-GBCe'!$V$7:$Y$51,3,FALSE)","v":7.5414549001488793E-2},{"$f":"SUM(N36:N39)","v":0},{"$f":"EA!H65","v":0},{"$f":"IF(K36=0,0,M36/K36)","v":0},{"$f":"IF(DG!F31=\"Edificio existente\",'Informe resultados'!V38,'Informe resultados'!V37)","v":0},{"$f":"1-O36","v":1}]
[null,null,null,null,null,{"$f":"'Matriz VERDE-GBCe'!V19","v":"EA 02"},{"$f":"VLOOKUP($F37,'Matriz VERDE-GBCe'!$V$7:$Y$51,2,FALSE)","v":"Generación distribuida"},null,null,null,null,{"$f":"VLOOKUP($F37,'Matriz VERDE-GBCe'!$V$7:$Y$51,3,FALSE)","v":4.8513784075157877E-2},null,{"$f":"EA!H107","v":0},null,null,null,null,null,null,null,{"$f":"IF(O36>60%,5,IF(O36>45%,4,IF(O36>35%,3,IF(O36>30%,2,IF(O36<30%,0,0)))))","v":0}]
[null,null,null,null,null,{"$f":"'Matriz VERDE-GBCe'!V20","v":"EA 03"},{"$f":"VLOOKUP($F38,'Matriz VERDE-GBCe'!$V$7:$Y$51,2,FALSE)","v":"Consumo en zonas comunes"},null,null,null,null,{"$f":"VLOOKUP($F38,'Matriz VERDE-GBCe'!$V$7:$Y$51,3,FALSE)","v":2.5411982134606503E-2},null,{"$f":"EA!H129","v":0},null,null,null,null,null,null,null,{"$f":"IF(O36>80%,5,IF(O36>60%,4,IF(O36>50%,3,IF(O36>40%,2,IF(O36>30%,1,0)))))","v":0}]
[null,null,null,null,null,{"$f":"'Matriz VERDE-GBCe'!V22","v":"EA 04"},{"$f":"VLOOKUP($F39,'Matriz VERDE-GBCe'!$V$7:$Y$51,2,FALSE)","v":"Elección responsable de refrigerantes"},null,null,null,null,{"$f":"VLOOKUP($F39,'Matriz VERDE-GBCe'!$V$7:$Y$51,3,FALSE)","v":2.6669746906925414E-2},null,{"$f":"EA!H155","v":0}]
[null,null,null,{"$f":"'Matriz VERDE-GBCe'!U23","v":"RN"},{"$f":"'Matriz VERDE-GBCe'!V23","v":"Recursos naturales"},{"$f":"'Matriz VERDE-GBCe'!V24","v":"RN 01"},{"$f":"VLOOKUP($F40,'Matriz VERDE-GBCe'!$V$7:$Y$51,2,FALSE)","v":"Consumo de agua en aparatos sanitarios"},null,null,null,{"$f":"SUM(L40:L51)","v":0.22922121258791522},{"$f":"VLOOKUP($F40,'Matriz VERDE-GBCe'!$V$7:$Y$51,3,FALSE)","v":2.1407669798244267E-2},{"$f":"SUM(N40:N51)","v":0},{"$f":"'RN '!G25","v":0},{"$f":"IF(K40=0,0,M40/K40)","v":0},{"$f":"IF(DG!F31=\"Edificio existente\",'Informe resultados'!V46,'Informe resultados'!V45)","v":0},{"$f":"1-O40","v":1}]
[null,null,null,null,null,{"$f":"'Matriz VERDE-GBCe'!V25","v":"RN 02"},{"$f":"VLOOKUP($F41,'Matriz VERDE-GBCe'!$V$7:$Y$51,2,FALSE)","v":"Necesidades de riego en jardines."},null,null,null,null,{"$f":"VLOOKUP($F41,'Matriz VERDE-GBCe'!$V$7:$Y$51,3,FALSE)","v":0},null,{"$f":"'RN '!G51","v":0}]
[null,null,null,null,null,{"$f":"'Matriz VERDE-GBCe'!V26","v":"RN 03"},"Consumo de agua en elementos singulares",null,null,null,null,{"$f":"VLOOKUP($F42,'Matriz VERDE-GBCe'!$V$7:$Y$51,3,FALSE)","v":1.8122080188921405E-2},null,{"$f":"'RN '!G66","v":0}]
[null,null,null,null,null,{"$f":"'Matriz VERDE-GBCe'!V27","v":"RN 04"},{"$f":"VLOOKUP($F43,'Matriz VERDE-GBCe'!$V$7:$Y$51,2,FALSE)","v":"Uso de agua no potable."},null,null,null,null,{"$f":"VLOOKUP($F43,'Matriz VERDE-GBCe'!$V$7:$Y$51,3,FALSE)","v":2.0842959084141899E-2},null,{"$f":"'RN '!G100","v":0}]
[null,null,null,null,null,{"$f":"'Matriz VERDE-GBCe'!V28","v":"RN 05"},{"$f":"VLOOKUP($F44,'Matriz VERDE-GBCe'!$V$7:$Y$51,2,FALSE)","v":"Uso de materiales reciclados."},null,null,null,null,{"$f":"VLOOKUP($F44,'Matriz VERDE-GBCe'!$V$7:$Y$51,3,FALSE)","v":1.8122080188921405E-2},null,{"$f":"'RN '!G145","v":0}]
[null,null,null,null,null,{"$f":"'Matriz VERDE-GBCe'!V29","v":"RN 06"},{"$f":"VLOOKUP($F45,'Matriz VERDE-GBCe'!$V$7:$Y$51,2,FALSE)","v":"Elección responsable de materiales"},null,null,null,null,{"$f":"VLOOKUP($F45,'Matriz VERDE-GBCe'!$V$7:$Y$51,3,FALSE)","v":1.8789465578315109E-2},null,{"$f":"'RN '!G177","v":0},null,null,null,null,null,null,null,{"$f":"IF(O40>60%,5,IF(O40>45%,4,IF(O40>35%,3,IF(O40>30%,2,IF(O40<30%,0,0)))))","v":0}]
[null,null,null,null,null,{"$f":"'Matriz VERDE-GBCe'!V30","v":"RN 07"},{"$f":"VLOOKUP($F46,'Matriz VERDE-GBCe'!$V$7:$Y$51,2,FALSE)","v":"Uso de materiales de producción local."},null,null,null,null,{"$f":"VLOOKUP($F46,'Matriz VERDE-GBCe'!$V$7:$Y$51,3,FALSE)","v":1.9739206324759999E-2},null,{"$f":"'RN '!G199","v":0},null,null,null,null,null,null,null,{"$f":"IF(O40>80%,5,IF(O40>60%,4,IF(O40>50%,3,IF(O40>40%,2,IF(O40>30%,1,0)))))","v":0}]
[null,null,null,null,null,{"$f":"'Matriz VERDE-GBCe'!V31","v":"RN 08"},{"$f":"VLOOKUP($F47,'Matriz VERDE-GBCe'!$V$7:$Y$51,2,FALSE)","v":"El edificio como banco de materiales"},null,null,null,null,{"$f":"VLOOKUP($F47,'Matriz VERDE-GBCe'!$V$7:$Y$51,3,FALSE)","v":2.1638687817649778E-2},null,{"$f":"'RN '!G241","v":0}]
[null,null,null,null,null,{"$f":"'Matriz VERDE-GBCe'!V32","v":"RN 09"},{"$f":"VLOOKUP($F48,'Matriz VERDE-GBCe'!$V$7:$Y$51,2,FALSE)","v":"Gestión de los residuos de la construcción."},null,null,null,null,{"$f":"VLOOKUP($F48,'Matriz VERDE-GBCe'!$V$7:$Y$51,3,FALSE)","v":1.5657887981929259E-2},null,{"$f":"'RN '!G272","v":0}]
[null,null,null,null,null,{"$f":"'Matriz VERDE-GBCe'!V33","v":"RN 10"},{"$f":"VLOOKUP($F49,'Matriz VERDE-GBCe'!$V$7:$Y$51,2,FALSE)","v":"Nivel de intervención en rehabilitaciones"},null,null,null,null,{"$f":"VLOOKUP($F49,'Matriz VERDE-GBCe'!$V$7:$Y$51,3,FALSE)","v":0},null,{"$f":"'RN '!G300","v":0}]
[null,null,null,null,null,{"$f":"'Matriz VERDE-GBCe'!V34","v":"RN 11"},{"$f":"VLOOKUP($F50,'Matriz VERDE-GBCe'!$V$7:$Y$51,2,FALSE)","v":"Impacto de los materiales de la construcción."},null,null,null,null,{"$f":"VLOOKUP($F50,'Matriz VERDE-GBCe'!$V$7:$Y$51,3,FALSE)","v":5.4853945274398075E-2},null,{"$f":"'RN '!G387","v":0}]
[null,null,null,null,null,{"$f":"'Matriz VERDE-GBCe'!V35","v":"RN 12"},{"$f":"VLOOKUP($F51,'Matriz VERDE-GBCe'!$V$7:$Y$51,2,FALSE)","v":"Ecoetiquetado de producto."},null,null,null,null,{"$f":"VLOOKUP($F51,'Matriz VERDE-GBCe'!$V$7:$Y$51,3,FALSE)","v":2.0047230350634018E-2},null,{"$f":"'RN '!G412","v":0}]
[null,null,null,{"$f":"'Matriz VERDE-GBCe'!U36","v":"AI"},{"$f":"'Matriz VERDE-GBCe'!V36","v":"Ambiente Interior."},{"$f":"'Matriz VERDE-GBCe'!V37","v":"AI 01"},{"$f":"VLOOKUP($F52,'Matriz VERDE-GBCe'!$V$7:$Y$51,2,FALSE)","v":"Limitación de las emisiones de COVs"},null,null,null,{"$f":"SUM(L52:L56)","v":9.4871399969197606E-2},{"$f":"VLOOKUP($F52,'Matriz VERDE-GBCe'!$V$7:$Y$51,3,FALSE)","v":1.9020483597720624E-2},{"$f":"SUM(N52:N56)","v":0},{"$f":"AI!G32","v":0},{"$f":"IF(K52=0,0,M52/K52)","v":0},{"$f":"IF(DG!F31=\"Edificio existente\",'Informe resultados'!V54,'Informe resultados'!V53)","v":0},{"$f":"1-O52","v":1}]
[null,null,null,null,null,{"$f":"'Matriz VERDE-GBCe'!V38","v":"AI 02"},{"$f":"VLOOKUP($F53,'Matriz VERDE-GBCe'!$V$7:$Y$51,2,FALSE)","v":"Control de la calidad del aire"},null,null,null,null,{"$f":"VLOOKUP($F53,'Matriz VERDE-GBCe'!$V$7:$Y$51,3,FALSE)","v":1.8609784896555268E-2},null,{"$f":"AI!G50","v":0},null,null,null,null,null,null,null,{"$f":"IF(O52>60%,5,IF(O52>45%,4,IF(O52>35%,3,IF(O52>30%,2,IF(O52<30%,0,0)))))","v":0}]
[null,null,null,null,null,{"$f":"'Matriz VERDE-GBCe'!V39","v":"AI 03"},{"$f":"VLOOKUP($F54,'Matriz VERDE-GBCe'!$V$7:$Y$51,2,FALSE)","v":"Iluminación natural."},null,null,null,null,{"$f":"VLOOKUP($F54,'Matriz VERDE-GBCe'!$V$7:$Y$51,3,FALSE)","v":1.8609784896555268E-2},null,{"$f":"AI!G71","v":0},null,null,null,null,null,null,null,{"$f":"IF(O52>80%,5,IF(O52>60%,4,IF(O52>50%,3,IF(O52>40%,2,IF(O52>30%,1,0)))))","v":0}]
[null,null,null,null,null,{"$f":"'Matriz VERDE-GBCe'!V40","v":"AI 04"},{"$f":"VLOOKUP($F55,'Matriz VERDE-GBCe'!$V$7:$Y$51,2,FALSE)","v":"Iluminación artificial"},null,null,null,null,{"$f":"VLOOKUP($F55,'Matriz VERDE-GBCe'!$V$7:$Y$51,3,FALSE)","v":2.0021561681811184E-2},null,{"$f":"AI!G97","v":0}]
[null,null,null,null,null,{"$f":"'Matriz VERDE-GBCe'!V41","v":"AI 05"},{"$f":"VLOOKUP($F56,'Matriz VERDE-GBCe'!$V$7:$Y$51,2,FALSE)","v":"Protección frente al ruido."},null,null,null,null,{"$f":"VLOOKUP($F56,'Matriz VERDE-GBCe'!$V$7:$Y$51,3,FALSE)","v":1.8609784896555268E-2},null,{"$f":"AI!G154","v":0}]
[null,null,null,{"$f":"'Matriz VERDE-GBCe'!U42","v":"AS"},{"$f":"'Matriz VERDE-GBCe'!V42","v":"Aspectos sociales"},{"$f":"'Matriz VERDE-GBCe'!V43","v":"AS 01"},{"$f":"VLOOKUP($F57,'Matriz VERDE-GBCe'!$V$7:$Y$51,2,FALSE)","v":"Espacios para todas las personas"},null,null,null,{"$f":"SUM(L57:L65)","v":0.16715437137430056},{"$f":"VLOOKUP($F57,'Matriz VERDE-GBCe'!$V$7:$Y$51,3,FALSE)","v":1.8276092201858416E-2},{"$f":"SUM(N57:N65)","v":0},{"$f":"AS!G38","v":0},{"$f":"IF(K57=0,0,M57/K57)","v":0},{"$f":"IF(DG!F31=\"Edificio existente\",'Informe resultados'!V63,'Informe resultados'!V62)","v":0},{"$f":"1-O57","v":1}]
[null,null,null,null,null,{"$f":"'Matriz VERDE-GBCe'!V44","v":"AS 02"},{"$f":"VLOOKUP($F58,'Matriz VERDE-GBCe'!$V$7:$Y$51,2,FALSE)","v":"Espacios para la comunicación"},null,null,null,null,{"$f":"VLOOKUP($F58,'Matriz VERDE-GBCe'!$V$7:$Y$51,3,FALSE)","v":1.7608706812464708E-2},null,{"$f":"AS!G66","v":0}]
[null,null,null,null,null,{"$f":"'Matriz VERDE-GBCe'!V45","v":"AS 03"},{"$f":"VLOOKUP($F59,'Matriz VERDE-GBCe'!$V$7:$Y$51,2,FALSE)","v":"Derecho al sol"},null,null,null,null,{"$f":"VLOOKUP($F59,'Matriz VERDE-GBCe'!$V$7:$Y$51,3,FALSE)","v":1.6607628728374148E-2},null,{"$f":"AS!G88","v":0}]
[null,null,null,null,null,{"$f":"'Matriz VERDE-GBCe'!V46","v":"AS 04"},{"$f":"VLOOKUP($F60,'Matriz VERDE-GBCe'!$V$7:$Y$51,2,FALSE)","v":"Derecho a la intimidad"},null,null,null,null,{"$f":"VLOOKUP($F60,'Matriz VERDE-GBCe'!$V$7:$Y$51,3,FALSE)","v":1.6017249345448948E-2},null,{"$f":"AS!G105","v":0}]
[null,null,null,null,null,{"$f":"'Matriz VERDE-GBCe'!V47","v":"AS 05"},{"$f":"VLOOKUP($F61,'Matriz VERDE-GBCe'!$V$7:$Y$51,2,FALSE)","v":"Contacto visual con el exterior"},null,null,null,null,{"$f":"VLOOKUP($F61,'Matriz VERDE-GBCe'!$V$7:$Y$51,3,FALSE)","v":1.7018327429539504E-2},null,{"$f":"AS!G124","v":0}]
[null,null,null,null,null,{"$f":"'Matriz VERDE-GBCe'!V48","v":"AS 06"},{"$f":"VLOOKUP($F62,'Matriz VERDE-GBCe'!$V$7:$Y$51,2,FALSE)","v":"Espacios abiertos privados"},null,null,null,null,{"$f":"VLOOKUP($F62,'Matriz VERDE-GBCe'!$V$7:$Y$51,3,FALSE)","v":1.735202012423636E-2},null,{"$f":"AS!G139","v":0},null,null,null,null,null,null,null,{"$f":"IF(O57>60%,5,IF(O57>45%,4,IF(O57>35%,3,IF(O57>30%,2,IF(O57<30%,0,0)))))","v":0}]
[null,null,null,null,null,{"$f":"'Matriz VERDE-GBCe'!V49","v":"AS 07"},{"$f":"VLOOKUP($F63,'Matriz VERDE-GBCe'!$V$7:$Y$51,2,FALSE)","v":"Diseño inclusivo"},null,null,null,null,{"$f":"VLOOKUP($F63,'Matriz VERDE-GBCe'!$V$7:$Y$51,3,FALSE)","v":1.9764874993582836E-2},null,{"$f":"AS!G161","v":0},null,null,null,null,null,null,null,{"$f":"IF(O57>80%,5,IF(O57>60%,4,IF(O57>50%,3,IF(O57>40%,2,IF(O57>30%,1,0)))))","v":0}]
[null,null,null,null,null,{"$f":"'Matriz VERDE-GBCe'!V50","v":"AS 08"},{"$f":"VLOOKUP($F64,'Matriz VERDE-GBCe'!$V$7:$Y$51,2,FALSE)","v":"Conexión con la naturaleza"},null,null,null,null,{"$f":"VLOOKUP($F64,'Matriz VERDE-GBCe'!$V$7:$Y$51,3,FALSE)","v":2.6053698855177373E-2},null,{"$f":"AS!G196","v":0}]
[null,null,null,null,null,{"$f":"'Matriz VERDE-GBCe'!V51","v":"AS 09"},{"$f":"VLOOKUP($F65,'Matriz VERDE-GBCe'!$V$7:$Y$51,2,FALSE)","v":"El edificio como herramienta de comunicación"},null,null,null,null,{"$f":"VLOOKUP($F65,'Matriz VERDE-GBCe'!$V$7:$Y$51,3,FALSE)","v":1.8455772883618257E-2},null,{"$f":"AS!G216","v":0}]
[null,null,null,{"$f":"'Matriz VERDE-GBCe'!U52","v":"CE"},{"$f":"'Matriz VERDE-GBCe'!V52","v":"Calidad de la edificación"},{"$f":"'Matriz VERDE-GBCe'!V53","v":"CE 01"},{"$f":"VLOOKUP($F66,'Matriz VERDE-GBCe'!$V$7:$Y$59,2,FALSE)","v":"Diseño pasivo"},null,null,null,{"$f":"SUM(L66:L72)","v":0.18029672981159198},{"$f":"VLOOKUP($F66,'Matriz VERDE-GBCe'!$V$7:$Y$59,3,FALSE)","v":2.8363879049232509E-2},{"$f":"SUM(N66:N72)","v":0},{"$f":"'CE '!G57","v":0},{"$f":"IF(K66=0,0,M66/K66)","v":0},{"$f":"IF(DG!F31=\"Edificio existente\",'Informe resultados'!V69,'Informe resultados'!V68)","v":0},{"$f":"1-O66","v":1}]
[null,null,null,null,null,{"$f":"'Matriz VERDE-GBCe'!V54","v":"CE 02"},{"$f":"VLOOKUP($F67,'Matriz VERDE-GBCe'!$V$7:$Y$59,2,FALSE)","v":"Control parcial de los sistemas de clima (HVAC)"},null,null,null,null,{"$f":"VLOOKUP($F67,'Matriz VERDE-GBCe'!$V$7:$Y$59,3,FALSE)","v":2.6695415575748244E-2},null,{"$f":"'CE '!G80","v":0}]
[null,null,null,null,null,{"$f":"'Matriz VERDE-GBCe'!V55","v":"CE 03"},{"$f":"VLOOKUP($F68,'Matriz VERDE-GBCe'!$V$7:$Y$59,2,FALSE)","v":"Control local de la iluminación"},null,null,null,null,{"$f":"VLOOKUP($F68,'Matriz VERDE-GBCe'!$V$7:$Y$59,3,FALSE)","v":2.2229067200574978E-2},null,{"$f":"'CE '!G96","v":0},null,null,null,null,null,null,null,{"$f":"IF(O66>60%,5,IF(O66>45%,4,IF(O66>35%,3,IF(O66>30%,2,IF(O66<30%,0,0)))))","v":0}]
[null,null,null,null,null,{"$f":"'Matriz VERDE-GBCe'!V56","v":"CE 04"},{"$f":"VLOOKUP($F69,'Matriz VERDE-GBCe'!$V$7:$Y$59,2,FALSE)","v":"Calidad en la construcción"},null,null,null,null,{"$f":"VLOOKUP($F69,'Matriz VERDE-GBCe'!$V$7:$Y$59,3,FALSE)","v":3.4781046254941224E-2},null,{"$f":"'CE '!G135","v":0},null,null,null,null,null,null,null,{"$f":"IF(O66>80%,5,IF(O66>60%,4,IF(O66>50%,3,IF(O66>40%,2,IF(O66>30%,1,0)))))","v":0}]
[null,null,null,null,null,{"$f":"'Matriz VERDE-GBCe'!V57","v":"CE 05"},{"$f":"VLOOKUP($F70,'Matriz VERDE-GBCe'!$V$7:$Y$59,2,FALSE)","v":"Puesta en marcha sistemática"},null,null,null,null,{"$f":"VLOOKUP($F70,'Matriz VERDE-GBCe'!$V$7:$Y$59,3,FALSE)","v":3.6115817033728632E-2},null,{"$f":"'CE '!G178","v":0}]
[null,null,null,null,null,{"$f":"'Matriz VERDE-GBCe'!V58","v":"CE 06"},{"$f":"VLOOKUP($F71,'Matriz VERDE-GBCe'!$V$7:$Y$59,2,FALSE)","v":"Custodia de la documentación del proyecto"},null,null,null,null,{"$f":"VLOOKUP($F71,'Matriz VERDE-GBCe'!$V$7:$Y$59,3,FALSE)","v":3.2111504697366393E-2},null,{"$f":"'CE '!G200","v":0}]
[null,null,null,null,null,{"$f":"'Matriz VERDE-GBCe'!V59","v":"CE 07"},{"$f":"VLOOKUP($F72,'Matriz VERDE-GBCe'!$V$7:$Y$59,2,FALSE)","v":"Certificaciones voluntarias de edificios"},null,null,null,null,{"$f":"VLOOKUP($F72,'Matriz VERDE-GBCe'!$V$7:$Y$59,3,FALSE)","v":0},null,{"$f":"'CE '!G216","v":0}]
[null,null,null,"INN","Innovación","IN","Propuestas de innovación aceptadas",null,null,null,"+ 5%","+ 1%",{"$f":"IN!G34","v":0}]
[null,null,null,null,"TOTAL",null,null,null,null,null,{"$f":"SUM(K27:K72)","v":1.0000000000000002},null,{"$f":"SUM(M27:M73)","v":0},null,null,{"$f":"IF(AND(M74>80%,V74=5),5,IF(AND(M74>60%,V74>=4),4,IF(AND(M74>50%,V74>=3),3,IF(AND(M74>40%,V74>=2),2,IF(AND(M74>30%,V74=0),0,0)))))","v":0},null,null,null,null,null,{"$f":"IF(AND(P27=5,P36=5,P40=5,P52=5,P57>5,P66=5),5,IF(AND(P27>=4,P36>=4,P40>=4,P52>=4,P57>=4,P66>=4),4,IF(AND(P27>=3,P36>=3,P40>=3,P52>=3,P57>=3,P66>=3),3,IF(AND(P27>=2,P36>=2,P40>=2,P52>=2,P57>=2,P66>=2),2,0))))","v":0}]

{"sheet":"Resultados por impactos","index":36,"n_rows":29,"n_cols":12,"rows_kept":29,"cut":false,"hidden":false,"merged":[[25,4,25,6],[26,4,26,6],[27,4,27,6],[28,4,28,6],[17,4,17,6],[20,3,20,6],[19,4,19,6],[24,4,24,6],[21,4,21,6],[22,4,22,6],[23,4,23,6],[2,3,2,10],[1,3,1,10],[4,3,4,6],[5,4,5,6],[6,4,6,6],[12,4,12,6],[13,4,13,6],[14,4,14,6],[5,2,7,2],[18,4,18,6],[15,4,15,6],[16,4,16,6],[7,4,7,6],[8,4,8,6],[9,4,9,6],[10,4,10,6],[11,4,11,6]]}
[]
[null,null,null,"INFORME DEL COMPORTAMIENTO SOSTENIBLE PARA VERDE Edificios 2020 Usos distintos del Residencial Privado"]
[null,null,null,"CONJUNTO DE INDICADORES DE IMPACTOS"]
[]
[null,null,null,"Impactos negativos",null,null,null,"Peso del impacto","Puntuación máxima a obtener","Puntuación obtenida","Impacto evitado","Impacto residual"]
[null,null,null,"IN 01",{"$f":"'Matriz VERDE-GBCe'!AJ2","v":"Cambio climático"},null,null,{"$f":"HLOOKUP(E6,'Matriz VERDE-GBCe'!$AJ$2:$AX$5,4,FALSE)","v":9.375E-2},{"$f":"'Matriz VERDE-GBCe'!AZ61","v":1.41275844741084E-2},{"$f":"'Matriz VERDE-GBCe'!BP61","v":0},{"$f":"IFERROR(IF(I6=0,0,J6/I6),\"\")","v":0},{"$f":"1-K6","v":1}]
[null,null,null,null,"Potencial de agotamiento de la capara de ozono estratosférica",null,null,{"$f":"HLOOKUP(E7,'Matriz VERDE-GBCe'!$AJ$2:$AX$5,4,FALSE)","v":{"$error":"#N/A"}},0,0,{"$f":"IF(I7=0,0,J7/I7)","v":0},0]
[null,null,null,"IN 02",{"$f":"'Matriz VERDE-GBCe'!AK2","v":"Emisiones a la atmósfera, tierra y agua"},null,null,{"$f":"HLOOKUP(E8,'Matriz VERDE-GBCe'!$AJ$2:$AX$5,4,FALSE)","v":6.25E-2},{"$f":"'Matriz VERDE-GBCe'!BA61","v":4.7477598869712073E-3},{"$f":"'Matriz VERDE-GBCe'!BQ61","v":0},{"$f":"IFERROR(IF(I8=0,0,J8/I8),\"\")","v":0},{"$f":"1-K8","v":1}]
[null,null,null,"IN 03",{"$f":"'Matriz VERDE-GBCe'!AL2","v":"Cambios en la biodiversidad"},null,null,{"$f":"HLOOKUP(E9,'Matriz VERDE-GBCe'!$AJ$2:$AX$5,4,FALSE)","v":9.375E-2},{"$f":"'Matriz VERDE-GBCe'!BB61","v":6.6781600365963499E-3},{"$f":"'Matriz VERDE-GBCe'!BR61","v":0},{"$f":"IFERROR(IF(I9=0,0,J9/I9),\"\")","v":0},{"$f":"1-K9","v":1}]
[null,null,null,"IN 04",{"$f":"'Matriz VERDE-GBCe'!AM2","v":"Agotamiento de energía no renovable"},null,null,{"$f":"HLOOKUP(E10,'Matriz VERDE-GBCe'!$AJ$2:$AX$5,4,FALSE)","v":9.375E-2},{"$f":"'Matriz VERDE-GBCe'!BC61","v":6.0761849751763729E-3},{"$f":"'Matriz VERDE-GBCe'!BS61","v":0},0,{"$f":"1-K10","v":1}]
[null,null,null,null,"Agotamiento de recursos abióticos de elementos",null,null,{"$f":"HLOOKUP(E11,'Matriz VERDE-GBCe'!$AJ$2:$AX$5,4,FALSE)","v":{"$error":"#N/A"}},0,0,0,0]
[null,null,null,"IN 05",{"$f":"'Matriz VERDE-GBCe'!AN2","v":"Agotamiento de agua potable"},null,null,{"$f":"HLOOKUP(E12,'Matriz VERDE-GBCe'!$AJ$2:$AX$5,4,FALSE)","v":6.25E-2},{"$f":"'Matriz VERDE-GBCe'!BD61","v":2.0440114906057471E-3},{"$f":"'Matriz VERDE-GBCe'!BT61","v":0},0,{"$f":"1-K12","v":1}]
[null,null,null,"IN 06",{"$f":"'Matriz VERDE-GBCe'!AO2","v":"Agotamiento de recursos materiales"},null,null,{"$f":"HLOOKUP(E13,'Matriz VERDE-GBCe'!$AJ$2:$AX$5,4,FALSE)","v":6.25E-2},{"$f":"'Matriz VERDE-GBCe'!BE61","v":2.770455462547004E-3},{"$f":"'Matriz VERDE-GBCe'!BU61","v":0},0,{"$f":"1-K13","v":1}]
[null,null,null,null,"Uso de energía primaria renovable utilizados como materia prima",null,null,{"$f":"HLOOKUP(E14,'Matriz VERDE-GBCe'!$AJ$2:$AX$5,4,FALSE)","v":{"$error":"#N/A"}},0,0,0,0]
[null,null,null,null,"Uso de energía primaria NO renovable excluyendo los recursos de energía utilizados como materia prima",null,null,{"$f":"HLOOKUP(E15,'Matriz VERDE-GBCe'!$AJ$2:$AX$5,4,FALSE)","v":{"$error":"#N/A"}},0,0,0,0]
[null,null,null,null,"Uso de recursos de energía primaria no renovable utilizados como materia prima",null,null,{"$f":"HLOOKUP(E16,'Matriz VERDE-GBCe'!$AJ$2:$AX$5,4,FALSE)","v":{"$error":"#N/A"}},0,0,0,0]
[null,null,null,"IN 07",{"$f":"'Matriz VERDE-GBCe'!AP2","v":"Generación de residuos"},null,null,{"$f":"HLOOKUP(E17,'Matriz VERDE-GBCe'!$AJ$2:$AX$5,4,FALSE)","v":3.125E-2},{"$f":"'Matriz VERDE-GBCe'!BF61","v":5.4513519276003675E-4},{"$f":"'Matriz VERDE-GBCe'!BV61","v":0},0,{"$f":"1-K17","v":1}]
[null,null,null,null,"Uso de combustibles secundarios renovables",null,null,0,0,0,{"$f":"IF(I18=0,0,J18/I18)","v":0},0]
[null,null,null,null,"Uso de combustibles secundarios NO renovables",null,null,0,0,0,{"$f":"IF(I19=0,0,J19/I19)","v":0},0]
[null,null,null,"I18","Residuos radioactivos vertidos",null,null,0,0,0,{"$f":"IF(I20=0,0,J20/I20)","v":0},0]
[null,null,null,"Impactos positivos",null,null,null,"Peso del impacto","Puntuación máxima a obtener","Puntuación obtenida","Beneficio obtenido","Beneficio perdido"]
[null,null,null,"IP 01",{"$f":"'Matriz VERDE-GBCe'!AQ2","v":"Accesibilidad"},null,null,{"$f":"HLOOKUP(E22,'Matriz VERDE-GBCe'!$AJ$2:$AX$5,4,FALSE)","v":6.25E-2},{"$f":"'Matriz VERDE-GBCe'!BG61","v":1.8743225775794395E-3},{"$f":"'Matriz VERDE-GBCe'!BW61","v":0},{"$f":"IFERROR(IF(I22=0,0,J22/I22),\"\")","v":0},{"$f":"1-K22","v":1}]
[null,null,null,"IP 02",{"$f":"'Matriz VERDE-GBCe'!AR2","v":"Adaptabilidad"},null,null,{"$f":"HLOOKUP(E23,'Matriz VERDE-GBCe'!$AJ$2:$AX$5,4,FALSE)","v":3.125E-2},{"$f":"'Matriz VERDE-GBCe'!BH61","v":4.5467552011063894E-4},{"$f":"'Matriz VERDE-GBCe'!BX61","v":0},0,{"$f":"1-K23","v":1}]
[null,null,null,"IP 03",{"$f":"'Matriz VERDE-GBCe'!AS2","v":"Salud y confort"},null,null,{"$f":"HLOOKUP(E24,'Matriz VERDE-GBCe'!$AJ$2:$AX$5,4,FALSE)","v":9.375E-2},{"$f":"'Matriz VERDE-GBCe'!BI61","v":1.6502167858717192E-3},{"$f":"'Matriz VERDE-GBCe'!BY61","v":0},0,{"$f":"1-K24","v":1}]
[null,null,null,"IP 04",{"$f":"'Matriz VERDE-GBCe'!AT2","v":"Impactos sobre el vecindario"},null,null,{"$f":"HLOOKUP(E25,'Matriz VERDE-GBCe'!$AJ$2:$AX$5,4,FALSE)","v":6.25E-2},{"$f":"'Matriz VERDE-GBCe'!BJ61","v":9.3387385499649651E-3},{"$f":"'Matriz VERDE-GBCe'!BZ61","v":0},0,1]
[null,null,null,"IP 05",{"$f":"'Matriz VERDE-GBCe'!AU2","v":"Mantenimiento"},null,null,{"$f":"HLOOKUP(E26,'Matriz VERDE-GBCe'!$AJ$2:$AX$5,4,FALSE)","v":3.125E-2},{"$f":"'Matriz VERDE-GBCe'!BK61","v":3.6404138291683753E-3},{"$f":"'Matriz VERDE-GBCe'!CA61","v":0},0,1]
[null,null,null,"IP 06",{"$f":"'Matriz VERDE-GBCe'!AV2","v":"Seguridad"},null,null,{"$f":"HLOOKUP(E27,'Matriz VERDE-GBCe'!$AJ$2:$AX$5,4,FALSE)","v":6.25E-2},{"$f":"'Matriz VERDE-GBCe'!BL61","v":1.1001445239144795E-3},{"$f":"'Matriz VERDE-GBCe'!CB61","v":0},0,1]
[null,null,null,"IP 07",{"$f":"'Matriz VERDE-GBCe'!AW2","v":"Aspectos económicos del resultado"},null,null,{"$f":"HLOOKUP(E28,'Matriz VERDE-GBCe'!$AJ$2:$AX$5,4,FALSE)","v":6.25E-2},{"$f":"'Matriz VERDE-GBCe'!BM61","v":9.3387385499649651E-3},{"$f":"'Matriz VERDE-GBCe'!CC61","v":0},0,1]
[null,null,null,"IP 08",{"$f":"'Matriz VERDE-GBCe'!AX2","v":"Ahorro en el coste del ciclo de vida"},null,null,{"$f":"HLOOKUP(E29,'Matriz VERDE-GBCe'!$AJ$2:$AX$5,4,FALSE)","v":9.375E-2},{"$f":"'Matriz VERDE-GBCe'!BN61","v":1.0921241487505126E-2},{"$f":"'Matriz VERDE-GBCe'!CD61","v":0},0,1]

{"sheet":"Indicadores","index":37,"n_rows":18,"n_cols":10,"rows_kept":18,"cut":false,"hidden":false,"merged":[[1,2,1,9],[13,6,13,7],[15,6,15,7],[3,3,3,4],[4,3,8,3],[4,4,8,4],[4,5,8,5],[8,6,8,7],[2,4,2,6],[16,3,17,3],[16,4,17,4],[16,5,17,5],[9,3,13,3],[9,4,13,4],[9,5,13,5],[14,3,15,3],[14,4,15,4],[14,5,15,5]]}
[]
[null,null,"INFORME DEL COMPORTAMIENTO SOSTENIBLE PARA VERDE Edificios 2020 Usos distintos del Residencial Privado"]
[null,null,null,null,"INDICADORES AMBIENTALES"]
[null,null,null,"Impacto",null,"Indicador anual","Etapa","Alcance","Referencia","Objeto"]
[null,null,null,"IA 01","Cambio climático","Kg CO2 eq/m2","Etapa de producto","Materiales empleados en envolvente y particiones interiores",{"$f":"IFERROR(0,'RN '!I326/DG!$F$20/50)","v":0},{"$f":"IF(DG!$F$20=0,0,'RN '!I332/DG!$F$20/'RN '!G106)","v":0}]
[null,null,null,null,null,null,"Etapa  de construcción","Instalación de los materiales y equipos en la obra","-",{"$f":"IF(DG!$F$20=0,0,'RN '!I340/DG!$F$20/'RN '!G106)","v":0}]
[null,null,null,null,null,null,"Etapa de uso","Calefacción, refrigeración y ACS en uso",{"$f":"IF(DG!$F$20=0,0,EA!J17)","v":0},{"$f":"IF(DG!$F$20=0,0,EA!J19)","v":0}]
[null,null,null,null,null,null,"Etapa de fin de vida","Desmontaje de los materiales del edificio","-",{"$f":"IF(DG!$F$20=0,0,'RN '!I352/DG!$F$20/'RN '!G106)","v":0}]
[null,null,null,null,null,null,"TOTAL",null,{"$f":"SUM(I5:I8)","v":0},{"$f":"SUM(J5:J8)","v":0}]
[null,null,null,"IA 04","Agotamiento de energía","kWh/m2","Etapa de producto","Materiales empleados en envolvente y particiones interiores",{"$f":"IFERROR(IF(DG!$F$20=0,0,('RN '!I328*0.2778)/DG!$F$20/50),0)","v":0},{"$f":"IF(DG!$F$20=0,0,('RN '!I334*0.2778)/DG!$F$20/'RN '!G106)","v":0}]
[null,null,null,null,null,null,"Etapa de construcción","Instalación de los materiales y equipos en la obra","-",{"$f":"IF(DG!$F$20=0,0,('RN '!I342*0.2778)/DG!$F$20/'RN '!G106)","v":0}]
[null,null,null,null,null,null,"Etapa de uso","Calefacción, refrigeración y ACS en uso",{"$f":"IFERROR(IF(EA!F13=\"Nueva edificación\",EA!H24,EA!J23),0)","v":0},{"$f":"IF(DG!$F$20=0,0,EA!J26)","v":0}]
[null,null,null,null,null,null,"Etapa de fin de vida","Desmontaje de los materiales del edificio","-",{"$f":"IF(DG!$F$20=0,0,('RN '!I342*0.2778)/DG!$F$20/'RN '!G106)","v":0}]
[null,null,null,null,null,null,"TOTAL",null,{"$f":"SUM(I10:I13)","v":0},{"$f":"SUM(J10:J13)","v":0}]
[null,null,null,"IA 05","Consumo de agua potable","m3/m2","Etapa de uso","Uso de sanitarios y necesidades de riego.",{"$f":"IFERROR(0,('RN '!G11+'RN '!G35))","v":0},{"$f":"IF(DG!$F$20=0,0,'RN '!G13+'RN '!G37)","v":0}]
[null,null,null,null,null,null,"TOTAL",null,{"$f":"SUM(I15:I15)","v":0},{"$f":"SUM(J15:J15)","v":0}]
[null,null,null,"IN 07","Generación de residuos no peligrosos","kg/m2","Etapa de producto","Materiales empleados en obra",{"$f":"IF(DG!$F$20=0,0,(#REF!)/(DG!$F$20*#REF!))","v":0},{"$f":"IF(DG!$F$20=0,0,(#REF!)/(DG!$F$20*#REF!))","v":0}]
[null,null,null,null,null,null,"TOTAL",null,{"$f":"SUM(I17:I17)","v":0},{"$f":"SUM(J17:J17)","v":0}]

{"sheet":"hojitas","index":38,"n_rows":9,"n_cols":2,"rows_kept":9,"cut":false,"hidden":true,"merged":[]}
[]
[]
[null,"FOTO"]
[0]
[1]
[2]
[3]
[4]
[5]