{"text_format":"1","workbook":"xlsx","n_sheets":42,"sheets":["Hoja2","Matriz para imagen","Propuesta de áreas 2021","Matriz VERDE-GBCe (2)","tablas y gráficos Guía","Matriz VERDE-GBCe","Revisión","Portada ","Instrucciones","zona clima","DG ","CA","PRE","PE","EA","RN","RN 01","BD","P","ETo","JR","Nf","RN 02","RN 04","RN 07","DATOSMat","Mat Ref","RN 11","AI ","AI 02","AI 03","Ayuda CAI 03","AS","AS 03","AUX - DATOS","capitales","CE ","IN","Informe resultados","Resultados por impactos","Indicadores","hojitas"],"not_rendered":{"charts":10,"images":74,"macros":1,"external_links":11,"defined_names":393,"comments":0,"pivot_tables":0},"unopened":[],"bounds":{"document_bytes":16777216,"sheet_cells":100000,"rows_first":2000,"rows_last":500,"rows_between":2000,"halvings":0,"cell_chars":16384,"cell_head_chars":4096},"cells_cut":0,"cells_raw":0,"read":"whole","date_system":"1900"}

{"sheet":"Hoja2","index":0,"n_rows":9,"n_cols":2,"rows_kept":9,"cut":false,"hidden":true,"merged":[]}
[{"$f":"#REF!","v":{"$error":"#REF!"}},{"$f":"#REF!","v":{"$error":"#REF!"}}]
[{"$f":"#REF!","v":{"$error":"#REF!"}},{"$f":"#REF!","v":{"$error":"#REF!"}}]
[{"$f":"#REF!","v":{"$error":"#REF!"}},{"$f":"#REF!","v":{"$error":"#REF!"}}]
[{"$f":"#REF!","v":{"$error":"#REF!"}},{"$f":"#REF!","v":{"$error":"#REF!"}}]
[{"$f":"#REF!","v":{"$error":"#REF!"}},{"$f":"#REF!","v":{"$error":"#REF!"}}]
[{"$f":"#REF!","v":{"$error":"#REF!"}},{"$f":"#REF!","v":{"$error":"#REF!"}}]
[]
[]
[null,{"$f":"SUM(B1:B8)","v":{"$error":"#REF!"}}]

{"sheet":"Matriz para imagen","index":1,"n_rows":45,"n_cols":15,"rows_kept":45,"cut":false,"hidden":true,"merged":[[0,1,0,2]]}
[null,null,null,"Cambio climático","Emisiones a la atmósfera, tierra y agua","Cambios en la biodiversidad","Agotamiento de energía no renovable","Agotamiento de agua potable","Agotamiento de recursos materiales","Generación de residuos","Impactos sobre el vecindario","Accesibilidad","Salud y confort","Aspectos económicos del resultado","Ahorro en el coste del ciclo de vida"]
[null,"Parcela y Emplazamiento"]
[null,"PyE 01","Proximidad al transporte publico.",null,null,null,null,null,null,null,null,1,1,1]
[null,"PyE 02","Proximidad a equipamiento y servicios.",null,null,null,null,null,null,null,null,1,1,1]
[null,"PyE 03","Facilidades para la bicicleta.",null,null,null,null,null,null,null,null,1,1,1]
[null,"PyE 04","Clasificación de RSU",null,null,null,null,null,1,2]
[null,"PyE 05","Gestión y Restauración del hábitat",null,null,1,null,null,1,null,1,null,null,1]
[null,"PyE 06","Uso de plantas para crear sombras",0.15,null,1,null,null,null,null,1,null,1]
[null,"PyE 07","Efecto isla de calor",0.75,null,1,null,null,null,null,1]
[null,"PyE 08","Contaminación lumínica.",null,null,2,null,null,null,null,1]
[null,"Energía y Atmósfera"]
[null,"EyA 01","Demanda de calefacción y refrigeración",1,1,null,1,null,null,null,null,null,2,1,2]
[null,"EyA 02","Consumo de energía primaria no renovable",1,1,null,2,null,null,null,null,null,null,null,1]
[null,"EyA 03","Emisiones de CO2 por procesos de climatización y ACS",2,2]
[null,"EyA 04","Demanda de energía eléctrica en fase de uso",0.25,0.25,null,0.25,null,null,null,null,null,null,null,0.25]
[null,"EyA 05","Emisión de NOx en calderas de combustión.",null,1,null,null,null,null,null,null,null,1]
[null,"EyA 06","Elección responsable de refrigerantes",1,2,1]
[null,"Recursos Naturales"]
[null,"RN 01","Consumo de agua en aparatos sanitarios",null,1,null,null,2,null,null,null,null,null,null,2]
[null,"RN 02","Necesidades de riego en jardines",null,null,null,null,1,null,null,null,null,null,1,1]
[null,"RN 03","Consumo de agua en zonas comunes",null,null,null,null,0.5,null,null,null,null,null,null,1]
[null,"RN 04","Uso de aguas no potables.",null,null,null,null,1,null,null,null,null,null,1,1]
[null,"RN 05","Uso de materiales reciclados.",null,null,null,null,null,1,1]
[null,"RN 06","Uso de materiales obtenidos de recursos sostenibles.",null,null,null,null,null,0.5,null,null,null,null,1]
[null,"RN 07","Uso de materiales locales.",null,null,null,null,null,null,null,1,null,null,3]
[null,"RN 08","Planificación de una estrategia de demolición selectiva,",null,null,null,null,null,1,1,null,null,null,null,1]
[null,"RN 09","Gestión de los residuos de la construcción.",null,null,null,null,null,1,1]
[null,"RN 10","Impacto de los materiales de la construcción.",null,2,null,1,1,1,1]
[null,"RN 11","Ecoetiquetado de producto.",null,null,null,null,null,1,null,null,null,null,3]
[null,"Calidad del Ambiente Interior"]
[null,"CAI 01","Limitación en las emisiones de COVs.",null,null,null,null,null,null,null,null,null,2,1]
[null,"CAI 02","Eficacia de la ventilación natural.",null,null,null,null,null,null,null,null,null,3,1]
[null,"CAI 03","Iluminación natural.",null,null,null,null,null,null,null,null,null,3,2]
[null,"CAI 04","Protección frente al ruido.",null,null,null,null,null,null,null,null,null,3,1]
[null,"Aspectos Sociales y Económicos"]
[null,"ASE 01","Acceso universal.",null,null,null,null,null,null,null,1,3,null,2]
[null,"ASE 02","Derecho al sol.",null,null,null,null,null,null,null,null,null,2,1]
[null,"ASE 03","Acceso a espacios abiertos privados.",null,null,null,null,null,null,null,null,null,1,1]
[null,"ASE 04","Derecho a la intimidad.",null,null,null,null,null,null,null,null,null,1,1]
[null,"ASE 05","Coste de construcción.",null,null,null,null,null,null,null,null,null,null,null,3]
[null,"Concepto de Calidad"]
[null,"CC 01","Eficiencia de los espacios.",null,null,null,null,null,null,null,null,null,null,2,1]
[null,"CC 02","Disponibilidad de un sistema de gestión del edificio (BMS).",null,null,null,1,1,null,null,null,null,null,2,1]
[null,"CC 03","Custodia de la documentación del proyecto",null,null,null,null,null,null,null,null,null,null,3]
[null,"CC 04","El edificio como una herramienta para la educación",null,null,null,null,null,null,null,1,null,null,3]

{"sheet":"Propuesta de áreas 2021","index":2,"n_rows":59,"n_cols":24,"rows_kept":59,"cut":false,"hidden":true,"merged":[[2,1,2,2],[2,3,2,8],[2,9,2,23]]}
[]
[null," ","Lista de criterios","Alcance del efecto","Duración del efecto","Intensidad del efecto","Fiabilidad de los datos","Capacidad de lograr el objetivo","Complejidad del criterio","Cambio climático","Emisiones a la atmósfera, tierra y agua","Cambios en la biodiversidad","Agotamiento de energía no renovable","Agotamiento de agua potable","Agotamiento de recursos materiales","Generación de residuos","Accesibilidad","Adaptabilidad","Salud y confort","Impactos sobre el vecindario","Mantenimiento","Seguridad","Aspectos económicos del resultado","Ahorro en el coste del ciclo de vida"]
[null,"Listas de criterios",null,"Solidez del criterio",null,null,null,null,null,"Influencia de los impactos"]
[null,null,null,3,3,2,1,2,1,3,2,3,3,2,2,1,2,1,3,2,1,2,2,3]
[null,null,null,{"$f":"D4/SUM($D4:$H4)","v":0.27272727272727271},0.27272727272727271,0.18181818181818182,9.0909090909090912E-2,0.18181818181818182,9.0909090909090912E-2,{"$f":"J4/SUM($J4:$X4)","v":9.375E-2},6.25E-2,9.375E-2,9.375E-2,6.25E-2,6.25E-2,3.125E-2,6.25E-2,3.125E-2,9.375E-2,6.25E-2,{"$f":"U4/SUM($J4:$X4)","v":3.125E-2},{"$f":"V4/SUM($J4:$X4)","v":6.25E-2},{"$f":"W4/SUM($J4:$X4)","v":6.25E-2},{"$f":"X4/SUM($J4:$X4)","v":9.375E-2}]
[null,"Transporte y movilidad"]
[null,"E 01","Proximidad al transporte publico.",2,2,1,3,1,1,1,1,null,null,null,null,null,3,2,null,null,null,null,2]
[null,"E 02","Proximidad a equipamiento y servicios.",2,2,1,3,1,2,1,1,null,null,null,null,null,3,2,null,null,null,null,2]
[null,"E 03","Facilidades para la bicicleta.",2,2,1,3,1,1,1,1,null,null,null,null,null,3,2,1,null,null,null,2]
[null,"Gestión de la parcela"]
[null,"GP 01","Capacidad de carga de vehículos eléctricos.",2,2,1,3,2,1,null,1,null,null,null,null,null,1,2,null,null,null,null,2]
[null,"GP 02","Clasificación de RSU.",3,2,1,2,1,1,null,null,1,null,null,1,3]
[null,"GP 03","Gestión y Restauración del hábitat.",3,2,2,1,2,3,null,null,3,null,null,1,null,null,null,1,2,null,null,1]
[null,"GP 04","Uso de plantas para crear sombras.",2,2,1,2,2,1,1,null,2,1,1,null,null,null,null,1,1]
[null,null,"Gestión de riesgos, escorrentías, terrenos contaminados"]
[null,"Impacto en el vecindario"]
[null,"GP 05","Efecto isla de calor.",2,2,2,3,3,2,2,null,2,null,null,null,null,null,null,1,3]
[null,"GP 06","Contaminación lumínica.",2,2,2,3,3,1,1,null,3,null,null,null,null,null,null,1,2]
[null,"Ciclo de la energía"]
[null,"CE 01","Consumo de energía primaria",3,3,3,3,3,5,3,3,null,3,null,null,null,null,null,2,null,null,null,3,3]
[null,"CE 02","Generación de energías renovables",3,3,2,3,2,3,3,2,null,3,null,null,null,null,null,null,null,null,null,2,3]
[null,"CE 03","Demanda de energía eléctrica en fase de uso",3,3,1,3,3,2,3,2,null,2,null,null,null,null,null,null,null,null,null,1,2]
[null,"CE 04","Emisión de NOx en calderas de combustión.",3,3,1,2,2,1,2,2,null,3,null,null,null,null,null,2,null,null,null,2,3]
[null,"CE 05","Elección responsable de refrigerantes",1,2,1,2,3,1,null,2,null,null,null,null,null,null,null,1]
[null,"Ciclo del agua"]
[null,"CA 01","Consumo de agua en aparatos sanitarios",3,3,3,2,2,3,null,1,null,null,3,null,null,null,null,null,null,null,null,1,2]
[null,"CA 02","Necesidades de riego en jardines.",3,2,3,1,2,2,null,null,null,null,3,null,null,null,null,null,null,null,null,1,2]
[null,"CA 03","Consumo de agua en zonas comunes.",3,3,1,2,2,1,null,1,null,null,3,null,null,null,null,null,null,null,null,1,2]
[null,"CA 04","Uso de aguas no potables.",3,3,1,3,3,2,null,null,null,null,2,null,null,null,null,null,null,null,null,1,1]
[null,"Ciclo de los materiales"]
[null,"CM 01","Uso de materiales reciclados.",2,2,2,3,3,1,null,null,null,null,null,2,1]
[null,"CM 02","Uso de materiales obtenidos de recursos sostenibles.",2,2,2,3,3,1,null,null,1,null,null,3,null,null,null,1]
[null,"CM 03","Uso de materiales locales.",2,2,2,3,3,1,null,1,null,null,null,null,null,null,null,null,2,null,null,3]
[null,"CM 04","Planificación de una estrategia de demolición selectiva.",3,3,2,3,2,3,null,null,null,null,null,2,3,null,null,null,null,null,null,1,2]
[null,"CM 05","Gestión de los residuos de la construcción.",2,1,1,2,2,2,null,null,null,null,null,1,3,null,null,null,null,null,null,null,1]
[null,"CM 06","Impacto de los materiales de la construcción.",5,5,3,2,3,5,3,3,1,3,3,3,3,null,1,null,null,3,null,2,3]
[null,"CM 07","Ecoetiquetado de producto.",1,1,1,3,1,1,1,1,null,1,1,1,1,null,null,null,null,null,null,3]
[null,"Salud y confort"]
[null,"CAI 01","Limitación en las emisiones de COVs.",1,2,3,3,3,2,null,null,null,null,null,null,null,null,null,3,null,null,null,1]
[null,"CAI 02","Monitorización de la calidad del aire",1,2,3,3,3,1,null,null,null,null,null,null,null,null,null,3,null,null,null,2]
[null,"CAI 03","Eficacia de la ventilación natural.",1,2,3,1,2,1,null,null,null,null,null,null,null,null,null,3,null,null,null,1]
[null,"CAI 04","Iluminación natural.",1,2,3,2,3,2,null,null,null,null,null,null,null,null,null,3,null,null,null,2]
[null,"CAI 05","Iluminación artificial",1,2,2,2,2,1,null,null,null,null,null,null,null,null,null,2,null,null,null,1]
[null,"CAI 06","Protección frente al ruido.",1,2,3,2,2,1,null,null,null,null,null,null,null,null,null,3,null,null,null,1]
[null,"Aspectos Sociales y Económicos."]
[null,"ASE 01","Acceso universal.",2,3,3,3,2,3,null,null,null,null,null,null,null,3,null,null,1,null,null,2]
[null,"ASE 02","Calidad de los espacios",1,3,3,3,2,5,null,null,null,null,null,null,null,null,2,1,null,null,null,1]
[null,"ASE 03","El edificio como una herramienta para la educación",3,3,1,1,2,1,null,null,null,null,null,null,null,null,null,null,1,null,null,3]
[null,"ASE 04","Flexibilidad y adaptabilidad",1,3,3,2,2,3,null,null,null,null,null,null,null,null,3,null,null,1,null,2]
[null,"ASE 05","Viabilidad comercial",1,2,2,2,2,3,null,null,null,null,null,null,null,null,null,null,null,null,1,3,3]
[null,"ASE 06","Coste de ciclo de vida",2,2,3,2,2,5,null,null,null,null,null,null,null,null,1,null,null,3,null,2,3]
[null,"Calidad de la construcción"]
[null,"CC 01","Eficiencia de los espacios.",1,3,2,3,2,1,null,null,null,null,null,null,null,null,null,null,null,null,null,2,1]
[null,"CC 02","Puesta en marcha sistemática",1,2,3,3,3,3,null,null,null,2,2,null,null,null,null,null,null,3,null,2,3]
[null,"CC 03","Custodia de la documentación del proyecto",1,3,2,1,2,1,null,null,null,null,null,null,null,null,null,null,null,1,null,3]
[null,"CC 04","Calidad de la envolvente del edificio",1,3,3,3,3,3,1,1,null,1,null,null,null,null,null,2,null,2,2,3,1]
[null,"CC 05","Calidad en el proceso de construcción",1,2,3,3,3,3,null,null,null,null,null,null,null,null,null,1,null,3,2,3,2]
[null,null,null,null,null,null,null,null,null,{"$f":"SUM(J7:J55)","v":22},22,13,18,18,14,14,13,null,null,null,{"$f":"SUM(U7:U55)","v":11},{"$f":"SUM(V7:V55)","v":1},{"$f":"SUM(W7:W55)","v":58},{"$f":"SUM(X7:X55)","v":34}]
[null,null,null,null,null,null,null,null,null,{"$f":"SUM(J7:J55)*J5","v":2.0625},1.375,1.21875,1.6875,1.125,0.875,0.4375,0.8125,null,null,null,{"$f":"SUM(U7:U55)*U5","v":0.34375},{"$f":"SUM(V7:V55)*V5","v":6.25E-2},{"$f":"SUM(W7:W55)*W5","v":3.625},{"$f":"SUM(X7:X55)*X5","v":3.1875}]

{"sheet":"Matriz VERDE-GBCe (2)","index":3,"n_rows":50,"n_cols":51,"rows_kept":50,"cut":false,"hidden":true,"merged":[[0,6,2,7]]}
[null,null,null,null,null,null,"Lista de criterios",null,null,null,null,"Cambio climático","Emisiones a la atmósfera, tierra y agua","Cambios en la biodiversidad","Agotamiento de energía no renovable","Agotamiento de agua potable","Agotamiento de recursos materiales","Generación de residuos","Impactos sobre el vecindario","Accesibilidad","Salud y confort","Aspectos económicos del resultado","Ahorro en el coste del ciclo de vida",null,"Cambio climático","Emisiones a la atmósfera, tierra y agua","Cambios en la biodiversidad","Agotamiento de energía no renovable","Agotamiento de agua potable","Agotamiento de recursos materiales","Generación de residuos","Impactos sobre el vecindario","Accesibilidad","Salud y confort","Aspectos económicos del resultado","Ahorro en el coste del ciclo de vida",null,"Cambio climático","Emisiones a la atmósfera, tierra y agua","Cambios en la biodiversidad","Agotamiento de energía no renovable","Agotamiento de agua potable","Agotamiento de recursos materiales","Generación de residuos","Impactos sobre el vecindario","Accesibilidad","Salud y confort","Aspectos económicos del resultado","Ahorro en el coste del ciclo de vida"]
[null,null,null,null,null,null,null,null,null,null,null,3,2,1,3,2,2,1,2,1,4,2,2,null,4,2,1,3,2,2,1,1,1,3,1,2,null,4,2,1,3,2,2,1,1,1,3,1,2]
[null,"Nueva Edificación","Rehabilitación","Existente","Mixto",null,null,null,null,null,null,{"$f":"L2/SUM($L2:$W2)","v":0.12},{"$f":"M2/SUM($L2:$W2)","v":0.08},0.04,0.12,0.08,0.08,0.04,0.08,0.04,0.16,0.08,0.08,null,{"$f":"Y2/SUM($L2:$W2)","v":0.16},{"$f":"Z2/SUM($L2:$W2)","v":0.08},0.04,0.12,0.08,0.08,0.04,0.04,0.04,0.12,0.04,0.08,null,{"$f":"AL2/SUM($L2:$W2)","v":0.16},{"$f":"AM2/SUM($L2:$W2)","v":0.08},0.04,0.12,0.08,0.08,0.04,0.04,0.04,0.12,0.04,0.08]
[null,null,null,null,null,"PyE","Parcela y Emplazamiento.",null,{"$f":"SUM(I5:I13)","v":{"$error":"#REF!"}}]
[null,null,null,null,null,{"$f":"VLOOKUP(G5,#REF!,5,FALSE)","v":{"$error":"#REF!"}},"PyE 01","Proximidad al transporte publico.",{"$f":"IF(J$49=0,0,J5/J$49)","v":{"$error":"#REF!"}},{"$f":"IF(F5=\"a\",SUMPRODUCT(L5:W5,L$3:W$3),\"0\")","v":{"$error":"#REF!"}},{"$f":"'Informe resultados'!N27","v":0},null,null,null,null,null,null,null,null,1,1,1,null,null,{"$f":"(L5*L$3)*$I5/SUMPRODUCT($L5:$W5,$L$3:$W$3)","v":{"$error":"#REF!"}},{"$f":"(M5*M$3)*$I5/SUMPRODUCT($L5:$W5,$L$3:$W$3)","v":{"$error":"#REF!"}},{"$error":"#REF!"},{"$error":"#REF!"},{"$error":"#REF!"},{"$error":"#REF!"},{"$error":"#REF!"},{"$error":"#REF!"},{"$error":"#REF!"},{"$error":"#REF!"},{"$error":"#REF!"},{"$error":"#REF!"},null,{"$f":"(L5*L$3)*$K5/SUMPRODUCT($L5:$W5,$L$3:$W$3)","v":0},{"$f":"(M5*M$3)*$K5/SUMPRODUCT($L5:$W5,$L$3:$W$3)","v":0},0,0,0,0,0,0,0,0,0,0]
[null,null,null,null,null,{"$f":"VLOOKUP(G6,#REF!,5,FALSE)","v":{"$error":"#REF!"}},"PyE 02","Proximidad a equipamiento y servicios.",{"$error":"#REF!"},{"$error":"#REF!"},{"$f":"'Informe resultados'!N28","v":0},null,null,null,null,null,null,null,null,1,1,1,null,null,{"$error":"#REF!"},{"$error":"#REF!"},{"$error":"#REF!"},{"$error":"#REF!"},{"$error":"#REF!"},{"$error":"#REF!"},{"$error":"#REF!"},{"$error":"#REF!"},{"$error":"#REF!"},{"$error":"#REF!"},{"$error":"#REF!"},{"$error":"#REF!"},null,0,0,0,0,0,0,0,0,0,0,0,0]
[null,null,null,null,null,{"$f":"IF(OR(#REF!=\"\",#REF!=\"Residencial colectivo\"),VLOOKUP(G7,#REF!,5,FALSE),\"\")","v":{"$error":"#REF!"}},"PyE 03","Facilidades para la bicicleta.",{"$error":"#REF!"},{"$error":"#REF!"},{"$f":"'Informe resultados'!N29","v":0},null,null,null,null,null,null,null,null,1,1,1,null,null,{"$error":"#REF!"},{"$error":"#REF!"},{"$error":"#REF!"},{"$error":"#REF!"},{"$error":"#REF!"},{"$error":"#REF!"},{"$error":"#REF!"},{"$error":"#REF!"},{"$error":"#REF!"},{"$error":"#REF!"},{"$error":"#REF!"},{"$error":"#REF!"},null,0,0,0,0,0,0,0,0,0,0,0,0]
[null,null,null,null,null,{"$f":"IF(OR(#REF!=\"Parte de un edificio\",#REF!=\"NO\"),\"\",VLOOKUP(G8,#REF!,5,FALSE))","v":{"$error":"#REF!"}},"PyE 04","Capacidad de carga de vehículos eléctricos.",{"$error":"#REF!"},{"$f":"IF(F8=\"a\",SUMPRODUCT(L8:W8,L$3:W$3),\"0\")","v":{"$error":"#REF!"}},{"$f":"'Informe resultados'!N31","v":0},0.15,0.15,null,0.15,null,null,null,0.5,0.5,null,0.5,null,null,{"$error":"#REF!"},{"$f":"(M8*M$3)*$I8/SUMPRODUCT($L8:$W8,$L$3:$W$3)","v":{"$error":"#REF!"}},{"$error":"#REF!"},{"$error":"#REF!"},{"$error":"#REF!"},{"$error":"#REF!"},{"$error":"#REF!"},{"$error":"#REF!"},{"$error":"#REF!"},{"$error":"#REF!"},{"$error":"#REF!"},{"$error":"#REF!"},null,0,{"$f":"(M8*M$3)*$K8/SUMPRODUCT($L8:$W8,$L$3:$W$3)","v":0},0,0,0,0,0,0,0,0,0,0]
[null,null,null,null,null,{"$f":"IF(#REF!=\"Parte de un edificio\",\"\",VLOOKUP(G9,#REF!,5,FALSE))","v":{"$error":"#REF!"}},"PyE 05","Clasificación de RSU.",{"$error":"#REF!"},{"$error":"#REF!"},{"$f":"'Informe resultados'!N31","v":0},null,null,null,null,null,1,2,null,null,null,null,null,null,{"$error":"#REF!"},{"$error":"#REF!"},{"$error":"#REF!"},{"$error":"#REF!"},{"$error":"#REF!"},{"$error":"#REF!"},{"$error":"#REF!"},{"$error":"#REF!"},{"$error":"#REF!"},{"$error":"#REF!"},{"$error":"#REF!"},{"$error":"#REF!"},null,0,0,0,0,0,0,0,0,0,0,0,0]
[null,null,null,null,null,{"$f":"IF(#REF!=\"Parte de un edificio\",\"\",VLOOKUP(G10,#REF!,5,FALSE))","v":{"$error":"#REF!"}},"PyE 06","Gestión y Restauración del hábitat.",{"$error":"#REF!"},{"$error":"#REF!"},{"$f":"'Informe resultados'!N32","v":0},null,null,1,null,null,1,null,1,null,null,1,null,null,{"$error":"#REF!"},{"$error":"#REF!"},{"$error":"#REF!"},{"$error":"#REF!"},{"$error":"#REF!"},{"$error":"#REF!"},{"$error":"#REF!"},{"$error":"#REF!"},{"$error":"#REF!"},{"$error":"#REF!"},{"$error":"#REF!"},{"$error":"#REF!"},null,0,0,0,0,0,0,0,0,0,0,0,0]
[null,null,null,null,null,{"$f":"IF(#REF!=\"Parte de un edificio\",\"\",VLOOKUP(G11,#REF!,5,FALSE))","v":{"$error":"#REF!"}},"PyE 07","Uso de plantas para crear sombras.",{"$error":"#REF!"},{"$error":"#REF!"},{"$f":"'Informe resultados'!N33","v":0},0.15,null,1,null,null,null,null,1,null,1,null,null,null,{"$error":"#REF!"},{"$error":"#REF!"},{"$error":"#REF!"},{"$error":"#REF!"},{"$error":"#REF!"},{"$error":"#REF!"},{"$error":"#REF!"},{"$error":"#REF!"},{"$error":"#REF!"},{"$error":"#REF!"},{"$error":"#REF!"},{"$error":"#REF!"},null,0,0,0,0,0,0,0,0,0,0,0,0]
[null,null,null,null,null,{"$f":"IF(#REF!=\"Parte de un edificio\",\"\",VLOOKUP(G12,#REF!,5,FALSE))","v":{"$error":"#REF!"}},"PyE 08","Efecto isla de calor.",{"$error":"#REF!"},{"$error":"#REF!"},{"$f":"'Informe resultados'!N34","v":0},0.75,null,1,null,null,null,null,1,null,null,null,null,null,{"$error":"#REF!"},{"$error":"#REF!"},{"$error":"#REF!"},{"$error":"#REF!"},{"$error":"#REF!"},{"$error":"#REF!"},{"$error":"#REF!"},{"$error":"#REF!"},{"$error":"#REF!"},{"$error":"#REF!"},{"$error":"#REF!"},{"$error":"#REF!"},null,0,0,0,0,0,0,0,0,0,0,0,0]
[null,null,null,null,null,{"$f":"IF(#REF!=\"Parte de un edificio\",\"\",VLOOKUP(G13,#REF!,5,FALSE))","v":{"$error":"#REF!"}},"PyE 09","Contaminación lumínica.",{"$error":"#REF!"},{"$error":"#REF!"},{"$f":"'Informe resultados'!N35","v":0},null,null,2,null,null,null,null,1,null,null,null,null,null,{"$error":"#REF!"},{"$error":"#REF!"},{"$error":"#REF!"},{"$error":"#REF!"},{"$error":"#REF!"},{"$error":"#REF!"},{"$error":"#REF!"},{"$error":"#REF!"},{"$error":"#REF!"},{"$error":"#REF!"},{"$error":"#REF!"},{"$error":"#REF!"},null,0,0,0,0,0,0,0,0,0,0,0,0]
[null,null,null,null,null,"EyA","Energía y Atmósfera.",null,{"$f":"SUM(I15:I20)","v":{"$error":"#REF!"}}]
[null,null,null,null,null,{"$f":"VLOOKUP(G15,#REF!,5,FALSE)","v":{"$error":"#REF!"}},"EyA 01","Demanda de calefacción y refrigeración.",{"$f":"IF(J$49=0,0,J15/J$49)","v":{"$error":"#REF!"}},{"$f":"IF(F15=\"a\",SUMPRODUCT(L15:W15,L$3:W$3),\"0\")","v":{"$error":"#REF!"}},{"$f":"'Informe resultados'!N36","v":0},1,1,null,1,null,null,null,null,null,2,1,2,null,{"$f":"(L15*L$3)*$I15/SUMPRODUCT($L15:$W15,$L$3:$W$3)","v":{"$error":"#REF!"}},{"$error":"#REF!"},{"$error":"#REF!"},{"$error":"#REF!"},{"$error":"#REF!"},{"$error":"#REF!"},{"$error":"#REF!"},{"$error":"#REF!"},{"$error":"#REF!"},{"$error":"#REF!"},{"$error":"#REF!"},{"$error":"#REF!"},null,{"$f":"(L15*L$3)*$K15/SUMPRODUCT($L15:$W15,$L$3:$W$3)","v":0},0,0,0,0,0,0,0,0,0,0,0]
[null,null,null,null,null,{"$f":"VLOOKUP(G16,#REF!,5,FALSE)","v":{"$error":"#REF!"}},"EyA 02","Consumo de energía primaria no renovable.",{"$error":"#REF!"},{"$error":"#REF!"},{"$f":"'Informe resultados'!N37","v":0},1,1,null,2,null,null,null,null,null,null,null,1,null,{"$error":"#REF!"},{"$error":"#REF!"},{"$error":"#REF!"},{"$error":"#REF!"},{"$error":"#REF!"},{"$error":"#REF!"},{"$error":"#REF!"},{"$error":"#REF!"},{"$error":"#REF!"},{"$error":"#REF!"},{"$error":"#REF!"},{"$error":"#REF!"},null,0,0,0,0,0,0,0,0,0,0,0,0]
[null,null,null,null,null,{"$f":"VLOOKUP(G17,#REF!,5,FALSE)","v":{"$error":"#REF!"}},"EyA 03","Emisiones de CO2",{"$error":"#REF!"},{"$error":"#REF!"},{"$f":"'Informe resultados'!N38","v":0},2,2,null,null,null,null,null,null,null,null,null,null,null,{"$error":"#REF!"},{"$error":"#REF!"},{"$error":"#REF!"},{"$error":"#REF!"},{"$error":"#REF!"},{"$error":"#REF!"},{"$error":"#REF!"},{"$error":"#REF!"},{"$error":"#REF!"},{"$error":"#REF!"},{"$error":"#REF!"},{"$error":"#REF!"},null,0,0,0,0,0,0,0,0,0,0,0,0]
[null,null,null,null,null,{"$f":"IF(OR(#REF!=\"\",#REF!=\"Residencial colectivo\"),VLOOKUP(G18,#REF!,5,FALSE),\"\")","v":{"$error":"#REF!"}},"EyA 04","Demanda de energía eléctrica en fase de uso.",{"$error":"#REF!"},{"$error":"#REF!"},{"$f":"'Informe resultados'!#REF!","v":{"$error":"#REF!"}},0.25,0.5,null,0.5,null,null,null,null,null,null,null,0.25,null,{"$error":"#REF!"},{"$error":"#REF!"},{"$error":"#REF!"},{"$error":"#REF!"},{"$error":"#REF!"},{"$error":"#REF!"},{"$error":"#REF!"},{"$error":"#REF!"},{"$error":"#REF!"},{"$error":"#REF!"},{"$error":"#REF!"},{"$error":"#REF!"},null,{"$error":"#REF!"},{"$error":"#REF!"},{"$error":"#REF!"},{"$error":"#REF!"},{"$error":"#REF!"},{"$error":"#REF!"},{"$error":"#REF!"},{"$error":"#REF!"},{"$error":"#REF!"},{"$error":"#REF!"},{"$error":"#REF!"},{"$error":"#REF!"}]
[null,null,null,null,null,{"$f":"VLOOKUP(G19,#REF!,5,FALSE)","v":{"$error":"#REF!"}},"EyA 05","Emisión de NOx en calderas de combustión.",{"$error":"#REF!"},{"$error":"#REF!"},{"$f":"'Informe resultados'!#REF!","v":{"$error":"#REF!"}},null,1,null,null,null,null,null,null,null,1,null,null,null,{"$error":"#REF!"},{"$error":"#REF!"},{"$error":"#REF!"},{"$error":"#REF!"},{"$error":"#REF!"},{"$error":"#REF!"},{"$error":"#REF!"},{"$error":"#REF!"},{"$error":"#REF!"},{"$error":"#REF!"},{"$error":"#REF!"},{"$error":"#REF!"},null,{"$error":"#REF!"},{"$error":"#REF!"},{"$error":"#REF!"},{"$error":"#REF!"},{"$error":"#REF!"},{"$error":"#REF!"},{"$error":"#REF!"},{"$error":"#REF!"},{"$error":"#REF!"},{"$error":"#REF!"},{"$error":"#REF!"},{"$error":"#REF!"}]
[null,null,null,null,null,{"$f":"VLOOKUP(G20,#REF!,5,FALSE)","v":{"$error":"#REF!"}},"EyA 06","Elección responsable de refrigerantes.",{"$error":"#REF!"},{"$error":"#REF!"},{"$f":"'Informe resultados'!#REF!","v":{"$error":"#REF!"}},1,2,1,null,null,null,null,null,null,null,null,null,null,{"$error":"#REF!"},{"$error":"#REF!"},{"$error":"#REF!"},{"$error":"#REF!"},{"$error":"#REF!"},{"$error":"#REF!"},{"$error":"#REF!"},{"$error":"#REF!"},{"$error":"#REF!"},{"$error":"#REF!"},{"$error":"#REF!"},{"$error":"#REF!"},null,{"$error":"#REF!"},{"$error":"#REF!"},{"$error":"#REF!"},{"$error":"#REF!"},{"$error":"#REF!"},{"$error":"#REF!"},{"$error":"#REF!"},{"$error":"#REF!"},{"$error":"#REF!"},{"$error":"#REF!"},{"$error":"#REF!"},{"$error":"#REF!"}]
[null,null,null,null,null,"RN","Recursos Naturales.",null,{"$f":"SUM(I22:I32)","v":{"$error":"#REF!"}}]
[null,null,null,null,null,{"$f":"VLOOKUP(G22,#REF!,5,FALSE)","v":{"$error":"#REF!"}},"RN 01","Consumo de agua en aparatos sanitarios.",{"$f":"IF(J$49=0,0,J22/J$49)","v":{"$error":"#REF!"}},{"$f":"IF(F22=\"a\",SUMPRODUCT(L22:W22,L$3:W$3),\"0\")","v":{"$error":"#REF!"}},{"$f":"'Informe resultados'!N40","v":0},null,1,null,null,2,null,null,null,null,null,null,2,null,{"$f":"(L22*L$3)*$I22/SUMPRODUCT($L22:$W22,$L$3:$W$3)","v":{"$error":"#REF!"}},{"$error":"#REF!"},{"$error":"#REF!"},{"$error":"#REF!"},{"$error":"#REF!"},{"$error":"#REF!"},{"$error":"#REF!"},{"$error":"#REF!"},{"$error":"#REF!"},{"$error":"#REF!"},{"$error":"#REF!"},{"$error":"#REF!"},null,{"$f":"(L22*L$3)*$K22/SUMPRODUCT($L22:$W22,$L$3:$W$3)","v":0},0,0,0,0,0,0,0,0,0,0,0]
[null,null,null,null,null,{"$f":"IF(#REF!=\"Parte de un edificio\",\"\",VLOOKUP(G23,#REF!,5,FALSE))","v":{"$error":"#REF!"}},"RN 02","Necesidades de riego en jardines.",{"$error":"#REF!"},{"$f":"IF(F23=\"a\",IF(#REF!=\"no\",0,SUMPRODUCT(L23:W23,L$3:W$3)),\"0\")","v":{"$error":"#REF!"}},{"$f":"'Informe resultados'!N41","v":0},null,null,null,null,1,null,null,null,null,null,1,1,null,{"$error":"#REF!"},{"$error":"#REF!"},{"$error":"#REF!"},{"$error":"#REF!"},{"$error":"#REF!"},{"$error":"#REF!"},{"$error":"#REF!"},{"$error":"#REF!"},{"$error":"#REF!"},{"$error":"#REF!"},{"$error":"#REF!"},{"$error":"#REF!"},null,0,0,0,0,0,0,0,0,0,0,0,0]
[null,null,null,null,null,{"$f":"IF(OR(#REF!=\"\",#REF!=\"Residencial colectivo\"),VLOOKUP(G24,#REF!,5,FALSE),\"\")","v":{"$error":"#REF!"}},"RN 03","Consumo de agua en zonas comunes.",{"$error":"#REF!"},{"$f":"IF(F24=\"a\",IF(#REF!=\"no\",0,SUMPRODUCT(L24:W24,L$3:W$3)),\"0\")","v":{"$error":"#REF!"}},{"$f":"'Informe resultados'!N42","v":0},null,null,null,null,1,null,null,null,null,null,null,1,null,{"$error":"#REF!"},{"$error":"#REF!"},{"$error":"#REF!"},{"$error":"#REF!"},{"$error":"#REF!"},{"$error":"#REF!"},{"$error":"#REF!"},{"$error":"#REF!"},{"$error":"#REF!"},{"$error":"#REF!"},{"$error":"#REF!"},{"$error":"#REF!"},null,0,0,0,0,0,0,0,0,0,0,0,0]
[null,null,null,null,null,{"$f":"IF(#REF!=\"Parte de un edificio\",\"\",VLOOKUP(G25,#REF!,5,FALSE))","v":{"$error":"#REF!"}},"RN 04","Uso de aguas no potables.",{"$error":"#REF!"},{"$f":"IF(F25=\"a\",SUMPRODUCT(L25:W25,L$3:W$3),\"0\")","v":{"$error":"#REF!"}},{"$f":"'Informe resultados'!N43","v":0},null,null,null,null,1,null,null,null,null,null,1,1,null,{"$error":"#REF!"},{"$error":"#REF!"},{"$error":"#REF!"},{"$error":"#REF!"},{"$error":"#REF!"},{"$error":"#REF!"},{"$error":"#REF!"},{"$error":"#REF!"},{"$error":"#REF!"},{"$error":"#REF!"},{"$error":"#REF!"},{"$error":"#REF!"},null,0,0,0,0,0,0,0,0,0,0,0,0]
[null,null,null,null,null,{"$f":"IF(OR(#REF!=\"Parte de un edificio\",#REF!=\"Edificio existente\"),\"\",VLOOKUP(G26,#REF!,5,FALSE))","v":{"$error":"#REF!"}},"RN 05","Uso de materiales reciclados.",{"$error":"#REF!"},{"$error":"#REF!"},{"$f":"'Informe resultados'!N44","v":0},null,null,null,null,null,3,2,null,null,null,null,null,null,{"$error":"#REF!"},{"$error":"#REF!"},{"$error":"#REF!"},{"$error":"#REF!"},{"$error":"#REF!"},{"$error":"#REF!"},{"$error":"#REF!"},{"$error":"#REF!"},{"$error":"#REF!"},{"$error":"#REF!"},{"$error":"#REF!"},{"$error":"#REF!"},null,0,0,0,0,0,0,0,0,0,0,0,0]
[null,null,null,null,null,{"$f":"IF(OR(#REF!=\"Parte de un edificio\",#REF!=\"Edificio existente\"),\"\",VLOOKUP(G27,#REF!,5,FALSE))","v":{"$error":"#REF!"}},"RN 06","Uso de materiales obtenidos de recursos sostenibles.",{"$error":"#REF!"},{"$error":"#REF!"},{"$f":"'Informe resultados'!N45","v":0},null,null,null,null,null,1,null,null,null,null,1,null,null,{"$error":"#REF!"},{"$error":"#REF!"},{"$error":"#REF!"},{"$error":"#REF!"},{"$error":"#REF!"},{"$error":"#REF!"},{"$error":"#REF!"},{"$error":"#REF!"},{"$error":"#REF!"},{"$error":"#REF!"},{"$error":"#REF!"},{"$error":"#REF!"},null,0,0,0,0,0,0,0,0,0,0,0,0]
[null,null,null,null,null,{"$f":"IF(OR(#REF!=\"Parte de un edificio\",#REF!=\"Edificio existente\"),\"\",VLOOKUP(G28,#REF!,5,FALSE))","v":{"$error":"#REF!"}},"RN 07","Uso de materiales locales.",{"$error":"#REF!"},{"$error":"#REF!"},{"$f":"'Informe resultados'!N46","v":0},null,null,null,null,null,null,null,1,null,null,3,null,null,{"$error":"#REF!"},{"$error":"#REF!"},{"$error":"#REF!"},{"$error":"#REF!"},{"$error":"#REF!"},{"$error":"#REF!"},{"$error":"#REF!"},{"$error":"#REF!"},{"$error":"#REF!"},{"$error":"#REF!"},{"$error":"#REF!"},{"$error":"#REF!"},null,0,0,0,0,0,0,0,0,0,0,0,0]
[null,null,null,null,null,{"$f":"IF(OR(#REF!=\"Parte de un edificio\",#REF!=\"Edificio existente\"),\"\",VLOOKUP(G29,#REF!,5,FALSE))","v":{"$error":"#REF!"}},"RN 08","Planificación de una estrategia de demolición selectiva.",{"$error":"#REF!"},{"$error":"#REF!"},{"$f":"'Informe resultados'!N47","v":0},null,null,null,null,null,1,1,null,null,null,null,1,null,{"$error":"#REF!"},{"$error":"#REF!"},{"$error":"#REF!"},{"$error":"#REF!"},{"$error":"#REF!"},{"$error":"#REF!"},{"$error":"#REF!"},{"$error":"#REF!"},{"$error":"#REF!"},{"$error":"#REF!"},{"$error":"#REF!"},{"$error":"#REF!"},null,0,0,0,0,0,0,0,0,0,0,0,0]
[null,null,null,null,null,{"$f":"IF(OR(#REF!=\"Parte de un edificio\",#REF!=\"Edificio existente\"),\"\",VLOOKUP(G30,#REF!,5,FALSE))","v":{"$error":"#REF!"}},"RN 09","Gestión de los residuos de la construcción.",{"$error":"#REF!"},{"$error":"#REF!"},{"$f":"'Informe resultados'!N48","v":0},null,null,null,null,null,1,2,null,null,null,null,null,null,{"$error":"#REF!"},{"$error":"#REF!"},{"$error":"#REF!"},{"$error":"#REF!"},{"$error":"#REF!"},{"$error":"#REF!"},{"$error":"#REF!"},{"$error":"#REF!"},{"$error":"#REF!"},{"$error":"#REF!"},{"$error":"#REF!"},{"$error":"#REF!"},null,0,0,0,0,0,0,0,0,0,0,0,0]
[null,null,null,null,null,{"$f":"IF(OR(#REF!=\"Parte de un edificio\",#REF!=\"Edificio existente\"),\"\",VLOOKUP(G31,#REF!,5,FALSE))","v":{"$error":"#REF!"}},"RN 10","Impacto de los materiales de la construcción.",{"$error":"#REF!"},{"$error":"#REF!"},{"$f":"'Informe resultados'!N50","v":0},null,3,null,2,2,2,2,null,null,null,null,null,null,{"$error":"#REF!"},{"$error":"#REF!"},{"$error":"#REF!"},{"$error":"#REF!"},{"$error":"#REF!"},{"$error":"#REF!"},{"$error":"#REF!"},{"$error":"#REF!"},{"$error":"#REF!"},{"$error":"#REF!"},{"$error":"#REF!"},{"$error":"#REF!"},null,0,0,0,0,0,0,0,0,0,0,0,0]
[null,null,null,null,null,{"$f":"IF(OR(#REF!=\"Edificio existente\",#REF!=\"Parte de un edificio\"),\"\",VLOOKUP(G32,#REF!,5,FALSE))","v":{"$error":"#REF!"}},"RN 11","Ecoetiquetado de producto.",{"$error":"#REF!"},{"$error":"#REF!"},{"$f":"'Informe resultados'!N51","v":0},null,null,null,null,null,1,null,null,null,null,3,null,null,{"$error":"#REF!"},{"$error":"#REF!"},{"$error":"#REF!"},{"$error":"#REF!"},{"$error":"#REF!"},{"$error":"#REF!"},{"$error":"#REF!"},{"$error":"#REF!"},{"$error":"#REF!"},{"$error":"#REF!"},{"$error":"#REF!"},{"$error":"#REF!"},null,0,0,0,0,0,0,0,0,0,0,0,0]
[null,null,null,null,null,"CAI","Calidad del Ambiente Interior.",null,{"$f":"SUM(I34:I37)","v":{"$error":"#REF!"}}]
[null,null,null,null,null,{"$f":"IF(#REF!=\"Edificio existente\",\"\",VLOOKUP(G34,#REF!,5,FALSE))","v":{"$error":"#REF!"}},"CAI 01","Limitación en las emisiones de COVs.",{"$f":"IF(J$49=0,0,J34/J$49)","v":{"$error":"#REF!"}},{"$f":"IF(F34=\"a\",SUMPRODUCT(L34:W34,L$3:W$3),\"0\")","v":{"$error":"#REF!"}},{"$f":"'Informe resultados'!N52","v":0},null,null,null,null,null,null,null,null,null,2,1,null,null,{"$f":"(L34*L$3)*$I34/SUMPRODUCT($L34:$W34,$L$3:$W$3)","v":{"$error":"#REF!"}},{"$error":"#REF!"},{"$error":"#REF!"},{"$error":"#REF!"},{"$error":"#REF!"},{"$error":"#REF!"},{"$error":"#REF!"},{"$error":"#REF!"},{"$error":"#REF!"},{"$error":"#REF!"},{"$error":"#REF!"},{"$error":"#REF!"},null,{"$f":"(L34*L$3)*$K34/SUMPRODUCT($L34:$W34,$L$3:$W$3)","v":0},0,0,0,0,0,0,0,0,0,0,0]
[null,null,null,null,null,{"$f":"IF(OR(#REF!=\"Unifamiliar\",#REF!=\"Urbanización\"),\"\",VLOOKUP(G35,#REF!,5,FALSE))","v":{"$error":"#REF!"}},"CAI 02","Eficacia de la ventilación natural.",{"$f":"IF(J$49=0,0,J35/J$49)","v":{"$error":"#REF!"}},{"$f":"IF(F35=\"a\",SUMPRODUCT(L35:W35,L$3:W$3),\"0\")","v":{"$error":"#REF!"}},{"$f":"'Informe resultados'!N53","v":0},null,null,null,null,null,null,null,null,null,3,1,null,null,{"$error":"#REF!"},{"$error":"#REF!"},{"$error":"#REF!"},{"$error":"#REF!"},{"$error":"#REF!"},{"$error":"#REF!"},{"$error":"#REF!"},{"$error":"#REF!"},{"$error":"#REF!"},{"$error":"#REF!"},{"$error":"#REF!"},{"$error":"#REF!"},null,0,0,0,0,0,0,0,0,0,0,0,0]
[null,null,null,null,null,{"$f":"IF(OR(#REF!=\"Unifamiliar\",#REF!=\"Urbanización\"),\"\",VLOOKUP(G36,#REF!,5,FALSE))","v":{"$error":"#REF!"}},"CAI 03","Iluminación natural.",{"$f":"IF(J$49=0,0,J36/J$49)","v":{"$error":"#REF!"}},{"$f":"IF(F36=\"a\",SUMPRODUCT(L36:W36,L$3:W$3),\"0\")","v":{"$error":"#REF!"}},{"$f":"'Informe resultados'!N54","v":0},null,null,null,null,null,null,null,null,null,3,2,null,null,{"$error":"#REF!"},{"$error":"#REF!"},{"$error":"#REF!"},{"$error":"#REF!"},{"$error":"#REF!"},{"$error":"#REF!"},{"$error":"#REF!"},{"$error":"#REF!"},{"$error":"#REF!"},{"$error":"#REF!"},{"$error":"#REF!"},{"$error":"#REF!"},null,0,0,0,0,0,0,0,0,0,0,0,0]
[null,null,null,null,null,{"$f":"VLOOKUP(G37,#REF!,5,FALSE)","v":{"$error":"#REF!"}},"CAI 04","Protección frente al ruido.",{"$f":"IF(J$49=0,0,J37/J$49)","v":{"$error":"#REF!"}},{"$f":"IF(F37=\"a\",SUMPRODUCT(L37:W37,L$3:W$3),\"0\")","v":{"$error":"#REF!"}},{"$f":"'Informe resultados'!N55","v":0},null,null,null,null,null,null,null,null,null,3,1,null,null,{"$error":"#REF!"},{"$error":"#REF!"},{"$error":"#REF!"},{"$error":"#REF!"},{"$error":"#REF!"},{"$error":"#REF!"},{"$error":"#REF!"},{"$error":"#REF!"},{"$error":"#REF!"},{"$error":"#REF!"},{"$error":"#REF!"},{"$error":"#REF!"},null,0,0,0,0,0,0,0,0,0,0,0,0]
[null,null,null,null,null,"ASE","Aspectos Sociales y Económicos.",null,{"$f":"SUM(I39:I43)","v":{"$error":"#REF!"}}]
[null,null,null,null,null,{"$f":"IF(OR(#REF!=\"Unifamiliar\",#REF!=\"Urbanización\",#REF!=\"Parte de un edificio\"),\"\",VLOOKUP(G39,#REF!,5,FALSE))","v":{"$error":"#REF!"}},"ASE 01","Acceso universal.",{"$f":"IF(J$49=0,0,J39/J$49)","v":{"$error":"#REF!"}},{"$f":"IF(F39=\"a\",SUMPRODUCT(L39:W39,L$3:W$3),\"0\")","v":{"$error":"#REF!"}},{"$f":"'Informe resultados'!N57","v":0},null,null,null,null,null,null,null,1,3,null,2,null,null,{"$f":"(L39*L$3)*$I39/SUMPRODUCT($L39:$W39,$L$3:$W$3)","v":{"$error":"#REF!"}},{"$error":"#REF!"},{"$error":"#REF!"},{"$error":"#REF!"},{"$error":"#REF!"},{"$error":"#REF!"},{"$error":"#REF!"},{"$error":"#REF!"},{"$error":"#REF!"},{"$error":"#REF!"},{"$error":"#REF!"},{"$error":"#REF!"},null,{"$f":"(L39*L$3)*$K39/SUMPRODUCT($L39:$W39,$L$3:$W$3)","v":0},0,0,0,0,0,0,0,0,0,0,0]
[null,null,null,null,null,{"$f":"VLOOKUP(G40,#REF!,5,FALSE)","v":{"$error":"#REF!"}},"ASE 02","Derecho al sol.",{"$f":"IF(J$49=0,0,J40/J$49)","v":{"$error":"#REF!"}},{"$f":"IF(F40=\"a\",SUMPRODUCT(L40:W40,L$3:W$3),\"0\")","v":{"$error":"#REF!"}},{"$f":"'Informe resultados'!N58","v":0},null,null,null,null,null,null,null,null,null,2,1,null,null,{"$error":"#REF!"},{"$error":"#REF!"},{"$error":"#REF!"},{"$error":"#REF!"},{"$error":"#REF!"},{"$error":"#REF!"},{"$error":"#REF!"},{"$error":"#REF!"},{"$error":"#REF!"},{"$error":"#REF!"},{"$error":"#REF!"},{"$error":"#REF!"},null,0,0,0,0,0,0,0,0,0,0,0,0]
[null,null,null,null,null,{"$f":"IF(OR(#REF!=\"Unifamiliar\",#REF!=\"Urbanización\"),\"\",VLOOKUP(G41,#REF!,5,FALSE))","v":{"$error":"#REF!"}},"ASE 03","Acceso a espacios abiertos privados.",{"$f":"IF(J$49=0,0,J41/J$49)","v":{"$error":"#REF!"}},{"$f":"IF(F41=\"a\",SUMPRODUCT(L41:W41,L$3:W$3),\"0\")","v":{"$error":"#REF!"}},{"$f":"'Informe resultados'!N60","v":0},null,null,null,null,null,null,null,null,null,1,1,null,null,{"$error":"#REF!"},{"$error":"#REF!"},{"$error":"#REF!"},{"$error":"#REF!"},{"$error":"#REF!"},{"$error":"#REF!"},{"$error":"#REF!"},{"$error":"#REF!"},{"$error":"#REF!"},{"$error":"#REF!"},{"$error":"#REF!"},{"$error":"#REF!"},null,0,0,0,0,0,0,0,0,0,0,0,0]
[null,null,null,null,null,{"$f":"VLOOKUP(G42,#REF!,5,FALSE)","v":{"$error":"#REF!"}},"ASE 04","Derecho a la intimidad.",{"$f":"IF(J$49=0,0,J42/J$49)","v":{"$error":"#REF!"}},{"$f":"IF(F42=\"a\",SUMPRODUCT(L42:W42,L$3:W$3),\"0\")","v":{"$error":"#REF!"}},{"$f":"'Informe resultados'!N61","v":0},null,null,null,null,null,null,null,null,null,1,1,null,null,{"$error":"#REF!"},{"$error":"#REF!"},{"$error":"#REF!"},{"$error":"#REF!"},{"$error":"#REF!"},{"$error":"#REF!"},{"$error":"#REF!"},{"$error":"#REF!"},{"$error":"#REF!"},{"$error":"#REF!"},{"$error":"#REF!"},{"$error":"#REF!"},null,0,0,0,0,0,0,0,0,0,0,0,0]
[null,null,null,null,null,{"$f":"IF(OR(#REF!=\"\",#REF!=\"Residencial colectivo\"),VLOOKUP(G43,#REF!,5,FALSE),\"\")","v":{"$error":"#REF!"}},"ASE 05","Coste de construcción.",{"$f":"IF(J$49=0,0,J43/J$49)","v":{"$error":"#REF!"}},{"$f":"IF(F43=\"a\",SUMPRODUCT(L43:W43,L$3:W$3),\"0\")","v":{"$error":"#REF!"}},{"$f":"'Informe resultados'!N65","v":0},null,null,null,null,null,null,null,null,null,null,null,3,null,{"$error":"#REF!"},{"$error":"#REF!"},{"$error":"#REF!"},{"$error":"#REF!"},{"$error":"#REF!"},{"$error":"#REF!"},{"$error":"#REF!"},{"$error":"#REF!"},{"$error":"#REF!"},{"$error":"#REF!"},{"$error":"#REF!"},{"$error":"#REF!"},null,0,0,0,0,0,0,0,0,0,0,0,0]
[null,null,null,null,null,"CC","Concepto de Calidad.",null,{"$f":"SUM(I45:I48)","v":{"$error":"#REF!"}}]
[null,null,null,null,null,{"$f":"IF(OR(#REF!=\"\",#REF!=\"Residencial colectivo\"),VLOOKUP(G45,#REF!,5,FALSE),\"\")","v":{"$error":"#REF!"}},"CC 01","Eficiencia de los espacios.",{"$f":"IF(J$49=0,0,J45/J$49)","v":{"$error":"#REF!"}},{"$f":"IF(F45=\"a\",SUMPRODUCT(L45:W45,L$3:W$3),\"0\")","v":{"$error":"#REF!"}},{"$f":"'Informe resultados'!N66","v":0},null,null,null,null,null,null,null,null,null,null,2,1,null,{"$f":"(L45*L$3)*$I45/SUMPRODUCT($L45:$W45,$L$3:$W$3)","v":{"$error":"#REF!"}},{"$error":"#REF!"},{"$error":"#REF!"},{"$error":"#REF!"},{"$error":"#REF!"},{"$error":"#REF!"},{"$error":"#REF!"},{"$error":"#REF!"},{"$error":"#REF!"},{"$error":"#REF!"},{"$error":"#REF!"},{"$error":"#REF!"},null,{"$f":"(L45*L$3)*$K45/SUMPRODUCT($L45:$W45,$L$3:$W$3)","v":0},0,0,0,0,0,0,0,0,0,0,0]
[null,null,null,null,null,{"$f":"VLOOKUP(G46,#REF!,5,FALSE)","v":{"$error":"#REF!"}},"CC 02","Sistema de gestión del edificio (BMS).",{"$f":"IF(J$49=0,0,J46/J$49)","v":{"$error":"#REF!"}},{"$f":"IF(F46=\"a\",SUMPRODUCT(L46:W46,L$3:W$3),\"0\")","v":{"$error":"#REF!"}},{"$f":"'Informe resultados'!N67","v":0},null,null,null,1,1,null,null,null,null,null,2,1,null,{"$error":"#REF!"},{"$error":"#REF!"},{"$error":"#REF!"},{"$error":"#REF!"},{"$error":"#REF!"},{"$error":"#REF!"},{"$error":"#REF!"},{"$error":"#REF!"},{"$error":"#REF!"},{"$error":"#REF!"},{"$error":"#REF!"},{"$error":"#REF!"},null,0,0,0,0,0,0,0,0,0,0,0,0]
[null,null,null,null,null,{"$f":"IF(#REF!=\"Parte de un edificio\",\"\",VLOOKUP(G47,#REF!,5,FALSE))","v":{"$error":"#REF!"}},"CC 03","Custodia de la documentación del proyecto.",{"$f":"IF(J$49=0,0,J47/J$49)","v":{"$error":"#REF!"}},{"$f":"IF(F47=\"a\",SUMPRODUCT(L47:W47,L$3:W$3),\"0\")","v":{"$error":"#REF!"}},{"$f":"'Informe resultados'!N68","v":0},null,null,null,null,null,null,null,null,null,null,3,null,null,{"$error":"#REF!"},{"$error":"#REF!"},{"$error":"#REF!"},{"$error":"#REF!"},{"$error":"#REF!"},{"$error":"#REF!"},{"$error":"#REF!"},{"$error":"#REF!"},{"$error":"#REF!"},{"$error":"#REF!"},{"$error":"#REF!"},{"$error":"#REF!"},null,0,0,0,0,0,0,0,0,0,0,0,0]
[null,null,null,null,null,{"$f":"IF(#REF!=\"Parte de un edificio\",\"\",VLOOKUP(G48,#REF!,5,FALSE))","v":{"$error":"#REF!"}},"CC 04","El edificio como una herramienta para la educación.",{"$f":"IF(J$49=0,0,J48/J$49)","v":{"$error":"#REF!"}},{"$f":"IF(F48=\"a\",SUMPRODUCT(L48:W48,L$3:W$3),\"0\")","v":{"$error":"#REF!"}},{"$f":"'Informe resultados'!N72","v":0},null,null,null,null,null,null,null,1,null,null,3,null,null,{"$error":"#REF!"},{"$error":"#REF!"},{"$error":"#REF!"},{"$error":"#REF!"},{"$error":"#REF!"},{"$error":"#REF!"},{"$error":"#REF!"},{"$error":"#REF!"},{"$error":"#REF!"},{"$error":"#REF!"},{"$error":"#REF!"},{"$error":"#REF!"},null,0,0,0,0,0,0,0,0,0,0,0,0]
[null,null,null,null,null,null,null,null,{"$f":"I4+I14+I21+I33+I38+I44","v":{"$error":"#REF!"}},{"$f":"SUM(J4:J48)","v":{"$error":"#REF!"}},null,{"$f":"SUM(L5:L48)","v":6.3},11.65,6,6.65,8,11,9,7.5,6.5,22,34.5,14.25,null,{"$f":"SUM(Y5:Y48)","v":{"$error":"#REF!"}},{"$error":"#REF!"},{"$error":"#REF!"},{"$error":"#REF!"},{"$error":"#REF!"},{"$error":"#REF!"},{"$error":"#REF!"},{"$error":"#REF!"},{"$error":"#REF!"},{"$error":"#REF!"},{"$error":"#REF!"},{"$error":"#REF!"},null,{"$f":"SUM(AL5:AL48)","v":{"$error":"#REF!"}},{"$error":"#REF!"},{"$error":"#REF!"},{"$error":"#REF!"},{"$error":"#REF!"},{"$error":"#REF!"},{"$error":"#REF!"},{"$error":"#REF!"},{"$error":"#REF!"},{"$error":"#REF!"},{"$error":"#REF!"},{"$error":"#REF!"},null,{"$f":"SUM(Y49:AJ49)","v":{"$error":"#REF!"}}]
[null,null,null,null,null,null,null,null,null,null,null,{"$f":"SUM(L5:L48)*L3","v":0.75600000000000001},0.93200000000000005,0.24,0.79800000000000004,0.64,0.88,0.36,0.6,0.26,3.52,2.7600000000000002,1.1400000000000001]

{"sheet":"tablas y gráficos Guía","index":4,"n_rows":46,"n_cols":27,"rows_kept":46,"cut":false,"hidden":true,"merged":[[0,1,0,3],[0,4,0,5],[0,6,0,12],[0,13,0,16]]}
[null,"PRODUCTO",null,null,"CONSTRUCCIÓN",null,"USO",null,null,null,null,null,null,"FIN DE VIDA"]
[null,"A1","A2","A3","A4","A5","B1","B2","B3","B4","B5","B6","B7","C1","C2","C3","C4"]
["Cambio climático",3,3,3,2,null,null,null,null,null,null,2,null,null,null,null,null,null,"Cambio climático",{"$f":"'Matriz VERDE-GBCe'!AJ5","v":9.375E-2}]
["Emisiones a la atmósfera, tierra y agua",3,3,3,1,null,null,null,null,null,null,2,null,null,null,null,null,null,"Emisiones a la atmósfera, tierra y agua",{"$f":"'Matriz VERDE-GBCe'!AK5","v":6.25E-2}]
["Cambios en la biodiversidad",1,null,null,null,2,2,null,null,null,null,null,null,null,null,null,null,null,"Cambios en la biodiversidad",{"$f":"'Matriz VERDE-GBCe'!AL5","v":9.375E-2}]
["Agotamiento de energía no renovable",3,3,3,2,1,null,null,null,null,null,3,null,null,null,null,null,null,"Agotamiento de energía no renovable",{"$f":"'Matriz VERDE-GBCe'!AM5","v":9.375E-2}]
["Agotamiento de agua potable",null,null,null,null,null,null,null,null,null,null,null,3,null,null,null,null,null,"Agotamiento de agua potable",{"$f":"'Matriz VERDE-GBCe'!AN5","v":6.25E-2}]
["Agotamiento de recursos materiales",3,3,3,null,null,null,null,null,2,null,null,null,1,null,null,null,null,"Agotamiento de recursos materiales",{"$f":"'Matriz VERDE-GBCe'!AO5","v":6.25E-2}]
["Generación de residuos",2,2,2,null,3,null,null,null,1,1,null,null,2,null,2,null,null,"Generación de residuos",{"$f":"'Matriz VERDE-GBCe'!AP5","v":3.125E-2}]
["Accesibilidad",null,null,null,null,null,3,null,null,null,null,null,null,null,null,null,null,null,"Accesibilidad",{"$f":"'Matriz VERDE-GBCe'!AQ5","v":6.25E-2}]
["Adaptabilidad",null,null,null,null,null,3,null,null,null,null,null,null,null,null,null,null,null,"Adaptabilidad",{"$f":"'Matriz VERDE-GBCe'!AR5","v":3.125E-2}]
["Salud y confort",null,null,null,null,null,3,null,null,null,null,null,null,null,null,null,null,null,"Salud y confort",{"$f":"'Matriz VERDE-GBCe'!AS5","v":9.375E-2}]
["Impactos sobre el vecindario",null,null,null,null,null,3,null,null,null,null,null,null,null,null,null,null,null,"Impactos sobre el vecindario",{"$f":"'Matriz VERDE-GBCe'!AT5","v":6.25E-2}]
["Mantenimiento",null,null,null,null,null,3,3,3,2,2,null,null,null,null,null,null,null,"Mantenimiento",{"$f":"'Matriz VERDE-GBCe'!AU5","v":3.125E-2}]
["Seguridad",null,null,null,null,null,3,null,null,null,null,null,null,null,null,null,null,null,"Seguridad",{"$f":"'Matriz VERDE-GBCe'!AV5","v":6.25E-2}]
["Aspectos económicos del resultado",null,null,null,null,3,2,1,1,2,1,2,2,2,null,null,null,null,"Aspectos económicos del resultado",{"$f":"'Matriz VERDE-GBCe'!AW5","v":6.25E-2}]
["Ahorro en el coste del ciclo de vida",3,3,3,null,3,2,null,null,3,null,2,2,3,null,null,null,null,"Ahorro en el coste del ciclo de vida",{"$f":"'Matriz VERDE-GBCe'!AX5","v":9.375E-2}]
[]
[null,null,null,null,null,null,null,null,null,null,null,null,null,null,null,null,null,null,"Comportamiento ambiental",{"$f":"SUM(T20:T26)","v":0.5},"Comportamiento social",{"$f":"SUM(V20:V26)","v":0.34375},"Comportamiento económico",{"$f":"SUM(X20:X26)","v":0.15625},null,"Comportamiento ambiental",{"$f":"SUM(T20:T26)","v":0.5}]
[null,null,null,null,null,null,null,null,null,null,null,null,null,null,null,null,null,null,"Cambio climático",{"$f":"'Matriz VERDE-GBCe'!AZ5","v":9.375E-2},"Accesibilidad",{"$f":"'Matriz VERDE-GBCe'!BG5","v":6.25E-2},"Aspectos económicos del resultado",{"$f":"'Matriz VERDE-GBCe'!BM5","v":6.25E-2},null,"Comportamiento social",{"$f":"SUM(V20:V26)","v":0.34375}]
[null,null,null,null,null,null,null,null,null,null,null,null,null,null,null,null,null,null,"Emisiones a la atmósfera, tierra y agua",{"$f":"'Matriz VERDE-GBCe'!BA5","v":6.25E-2},"Adaptabilidad",{"$f":"'Matriz VERDE-GBCe'!BH5","v":3.125E-2},"Ahorro en el coste del ciclo de vida",{"$f":"'Matriz VERDE-GBCe'!BN5","v":9.375E-2},null,"Comportamiento económico",{"$f":"SUM(X20:X25)","v":0.15625}]
[null,null,null,null,null,null,null,null,null,null,null,null,null,null,null,null,null,null,"Cambios en la biodiversidad",{"$f":"'Matriz VERDE-GBCe'!BB5","v":9.375E-2},"Salud y confort",{"$f":"'Matriz VERDE-GBCe'!BI5","v":9.375E-2}]
[null,null,null,null,null,null,null,null,null,null,null,null,null,null,null,null,null,null,"Agotamiento de energía no renovable",{"$f":"'Matriz VERDE-GBCe'!BC5","v":9.375E-2},"Impactos sobre el vecindario",{"$f":"'Matriz VERDE-GBCe'!BJ5","v":6.25E-2}]
[null,null,null,null,null,null,null,null,null,null,null,null,null,null,null,null,null,null,"Agotamiento de agua potable",{"$f":"'Matriz VERDE-GBCe'!BD5","v":6.25E-2},"Mantenimiento",{"$f":"'Matriz VERDE-GBCe'!BK5","v":3.125E-2}]
[null,null,null,null,null,null,null,null,null,null,null,null,null,null,null,null,null,null,"Agotamiento de recursos materiales",{"$f":"'Matriz VERDE-GBCe'!BE5","v":6.25E-2},"Seguridad",{"$f":"'Matriz VERDE-GBCe'!BL5","v":6.25E-2}]
[null,null,null,null,null,null,null,null,null,null,null,null,null,null,null,null,null,null,"Generación de residuos",{"$f":"'Matriz VERDE-GBCe'!BF5","v":3.125E-2}]
[]
[]
[null,null,null,null,null,null,null,null,null,null,null,null,null,null,null,null,null,null,{"$f":"'Matriz VERDE-GBCe'!V6","v":"Parcela y emplazamiento"},{"$f":"'Matriz VERDE-GBCe'!X6","v":0.15998599213404449}]
[null,null,null,null,null,null,null,null,null,null,null,null,null,null,null,null,null,null,{"$f":"'Matriz VERDE-GBCe'!V16","v":"Energía y atmósfera"},{"$f":"'Matriz VERDE-GBCe'!X16","v":0.18471526318625081}]
[null,null,null,null,null,null,null,null,null,null,null,null,null,null,null,null,null,null,{"$f":"'Matriz VERDE-GBCe'!V23","v":"Recursos naturales"},{"$f":"'Matriz VERDE-GBCe'!X23","v":0.26345563277840633}]
[null,null,null,null,null,null,null,null,null,null,null,null,null,null,null,null,null,null,{"$f":"'Matriz VERDE-GBCe'!V36","v":"Ambiente Interior."},{"$f":"'Matriz VERDE-GBCe'!X36","v":7.8551802165831588E-2}]
[null,null,null,null,null,null,null,null,null,null,null,null,null,null,null,null,null,null,{"$f":"'Matriz VERDE-GBCe'!V42","v":"Aspectos sociales"},{"$f":"'Matriz VERDE-GBCe'!X42","v":0.17542158288885298}]
[null,null,null,null,null,null,null,null,null,null,null,null,null,null,null,null,null,null,{"$f":"'Matriz VERDE-GBCe'!V52","v":"Calidad de la edificación"},{"$f":"'Matriz VERDE-GBCe'!X52","v":0.13786972684661389}]
[]
[null,null,null,null,null,null,null,null,null,null,null,null,null,null,null,null,null,null,null,{"$f":"SUM(T29:T35)","v":1}]
[]
[]
[null,null,null,null,null,null,null,null,null,null,null,null,null,null,null,null,null,null,null,17.84]
[null,null,null,null,null,null,null,null,null,null,null,null,null,null,null,null,null,null,null,15.47]
[null,null,null,null,null,null,null,null,null,null,null,null,null,null,null,null,null,null,null,24.07]
[null,null,null,null,null,null,null,null,null,null,null,null,null,null,null,null,null,null,null,14.16]
[null,null,null,null,null,null,null,null,null,null,null,null,null,null,null,null,null,null,null,12.79]
[null,null,null,null,null,null,null,null,null,null,null,null,null,null,null,null,null,null,null,15.67]
[]
[null,null,null,null,null,null,null,null,null,null,null,null,null,null,null,null,null,null,null,{"$f":"SUM(T39:T45)","v":100.00000000000001}]

{"sheet":"Matriz VERDE-GBCe","index":5,"n_rows":61,"n_cols":84,"rows_kept":61,"cut":false,"hidden":true,"merged":[[2,27,2,32],[2,35,2,49],[2,21,2,22]]}
[]
["Residencial colectivo","Unifamiliar","Urbanizaciones","Vivienda en un edificio","Edificios administrativos","Equipamiento público","Edificios docentes","Edificios comerciales","Alojamiento y hospedaje","Servicios de restauración","Edificios deportivos","Edificios sanitarios","Industria ligera o logística","Local o parte de un edificio",null,"Nueva Edificación","Rehabilitación","Existente","Mixto","Límites de aplicabilidad"," "," ","Lista de criterios","Peso del criterio",null,"Solidez del criterio","Solidez del criterio","Alcance del efecto","Duración del efecto","Intensidad del efecto","Fiabilidad de los datos","Capacidad de lograr el objetivo","Complejidad del criterio","Peso por impactos","Peso por impactos","Cambio climático","Emisiones a la atmósfera, tierra y agua","Cambios en la biodiversidad","Agotamiento de energía no renovable","Agotamiento de agua potable","Agotamiento de recursos materiales","Generación de residuos","Accesibilidad","Adaptabilidad","Salud y confort","Impactos sobre el vecindario","Mantenimiento","Seguridad","Aspectos económicos del resultado","Ahorro en el coste del ciclo de vida",null,"Cambio climático","Emisiones a la atmósfera, tierra y agua","Cambios en la biodiversidad","Agotamiento de energía no renovable","Agotamiento de agua potable","Agotamiento de recursos materiales","Generación de residuos","Accesibilidad","Adaptabilidad","Salud y confort","Impactos sobre el vecindario","Mantenimiento","Seguridad","Aspectos económicos del resultado","Ahorro en el coste del ciclo de vida",null,"Cambio climático","Emisiones a la atmósfera, tierra y agua","Cambios en la biodiversidad","Agotamiento de energía no renovable","Agotamiento de agua potable","Agotamiento de recursos materiales","Generación de residuos","Accesibilidad","Adaptabilidad","Salud y confort","Impactos sobre el vecindario","Mantenimiento","Seguridad","Aspectos económicos del resultado","Ahorro en el coste del ciclo de vida"]
[null,null,null,null,null,null,null,null,null,null,null,null,null,null,null,null,null,null,null,null,null,"Listas de criterios",null,"Peso",null,null,null,"Solidez del criterio",null,null,null,null,null,null,null,"Influencia de los impactos"]
[null,null,null,null,null,null,null,null,null,null,null,null,null,null,null,null,null,null,null,null,null,null,null,null,null,null,null,3,3,2,1,3,1,null,null,3,2,3,3,2,2,1,2,1,3,2,1,2,2,3,null,3,2,3,3,2,2,1,2,1,3,2,1,2,2,3,null,3,2,3,3,2,2,1,2,1,3,2,1,2,2,3]
[null,null,null,null,null,null,null,null,null,null,null,null,null,null,null,null,null,null,null,null,null,null,null,null,null,null,{"$f":"SUM(AB5:AG5)","v":1},{"$f":"AB4/SUM($AB4:$AG4)","v":0.23076923076923078},0.23076923076923078,0.15384615384615385,7.6923076923076927E-2,0.23076923076923078,7.6923076923076927E-2,null,{"$f":"SUM(AJ5:AX5)","v":1},{"$f":"AJ4/SUM($AJ4:$AX4)","v":9.375E-2},6.25E-2,9.375E-2,9.375E-2,6.25E-2,6.25E-2,3.125E-2,6.25E-2,{"$f":"AR4/SUM($AJ4:$AX4)","v":3.125E-2},9.375E-2,6.25E-2,3.125E-2,6.25E-2,6.25E-2,9.375E-2,null,{"$f":"AZ4/SUM($AJ4:$AX4)","v":9.375E-2},6.25E-2,9.375E-2,9.375E-2,6.25E-2,6.25E-2,3.125E-2,6.25E-2,{"$f":"BH4/SUM($AJ4:$AX4)","v":3.125E-2},9.375E-2,6.25E-2,3.125E-2,6.25E-2,6.25E-2,9.375E-2,null,{"$f":"BP4/SUM($AJ4:$AX4)","v":9.375E-2},6.25E-2,9.375E-2,9.375E-2,6.25E-2,6.25E-2,3.125E-2,6.25E-2,{"$f":"BX4/SUM($AJ4:$AX4)","v":3.125E-2},9.375E-2,6.25E-2,3.125E-2,6.25E-2,6.25E-2,9.375E-2]
[null,null,null,null,null,null,null,null,null,null,null,null,null,null,null,null,null,null,null,null,"PE","Parcela y emplazamiento",null,{"$f":"SUM(X7:X15)","v":0.15998599213404449},null,null,{"$f":"SUM(AA7:AA15)","v":0.15406562054208275},null,null,null,null,null,null,null,{"$f":"SUM(AI7:AI15)","v":0.16902654867256639}]
["si","si","si","si","si","si","si","si","si","si","si","si","si","si",null,null,null,null,null,"NO",{"$f":"VLOOKUP(V7,CA!$E$9:$I$128,5,FALSE)","v":1},"PE 01","Proximidad al transporte publico.",{"$f":"($Z7+2*$AH7)/($Z$60+2*$AH$60)","v":1.5004579494639301E-2},{"$f":"'Informe resultados'!N27","v":0},{"$f":"IF($U7=1,SUMPRODUCT(AB7:AG7,AB$5:AG$5),\"0\")","v":1.6153846153846156},{"$f":"IF($Z$60=0,0,$Z7/$Z$60)","v":1.4978601997146936E-2},2,2,1,3,1,1,{"$f":"IF($U7=1,SUMPRODUCT(AJ7:AX7,AJ$5:AX$5),\"0\")","v":0.53125},{"$f":"IF($AH$60=0,0,$AH7/$AH$60)","v":1.5044247787610619E-2},1,1,null,null,null,null,null,3,2,null,null,null,null,2,null,null,{"$f":"(AJ7*AJ$5)*$X7/SUMPRODUCT($AJ7:$AX7,$AJ$5:$AX$5)","v":2.6478669696422298E-3},{"$f":"(AK7*AK$5)*$X7/SUMPRODUCT($AJ7:$AX7,$AJ$5:$AX$5)","v":1.765244646428153E-3},{"$f":"(AL7*AL$5)*$X7/SUMPRODUCT($AJ7:$AX7,$AJ$5:$AX$5)","v":0},{"$f":"(AM7*AM$5)*$X7/SUMPRODUCT($AJ7:$AX7,$AJ$5:$AX$5)","v":0},{"$f":"(AN7*AN$5)*$X7/SUMPRODUCT($AJ7:$AX7,$AJ$5:$AX$5)","v":0},{"$f":"(AO7*AO$5)*$X7/SUMPRODUCT($AJ7:$AX7,$AJ$5:$AX$5)","v":0},{"$f":"(AP7*AP$5)*$X7/SUMPRODUCT($AJ7:$AX7,$AJ$5:$AX$5)","v":0},{"$f":"(AQ7*AQ$5)*$X7/SUMPRODUCT($AJ7:$AX7,$AJ$5:$AX$5)","v":5.2957339392844596E-3},{"$f":"(AU7*AU$5)*$X7/SUMPRODUCT($AJ7:$AX7,$AJ$5:$AX$5)","v":0},{"$f":"(AV7*AV$5)*$X7/SUMPRODUCT($AJ7:$AX7,$AJ$5:$AX$5)","v":0},3.530489292856306E-3,0,{"$f":"(AV7*AV$5)*$X7/SUMPRODUCT($AJ7:$AX7,$AJ$5:$AX$5)","v":0},{"$f":"(AW7*AW$5)*$X7/SUMPRODUCT($AJ7:$AX7,$AJ$5:$AX$5)","v":3.530489292856306E-3},{"$f":"(AX7*AX$5)*$X7/SUMPRODUCT($AJ7:$AX7,$AJ$5:$AX$5)","v":0},null,{"$f":"(AJ7*AJ$5)*$Y7/SUMPRODUCT($AJ7:$AX7,$AJ$5:$AX$5)","v":0},{"$f":"(AK7*AK$5)*$Y7/SUMPRODUCT($AJ7:$AX7,$AJ$5:$AX$5)","v":0},{"$f":"(AL7*AL$5)*$Y7/SUMPRODUCT($AJ7:$AX7,$AJ$5:$AX$5)","v":0},{"$f":"(AM7*AM$5)*$Y7/SUMPRODUCT($AJ7:$AX7,$AJ$5:$AX$5)","v":0},{"$f":"(AN7*AN$5)*$Y7/SUMPRODUCT($AJ7:$AX7,$AJ$5:$AX$5)","v":0},{"$f":"(AO7*AO$5)*$Y7/SUMPRODUCT($AJ7:$AX7,$AJ$5:$AX$5)","v":0},0,0,{"$f":"(AO7*AO$5)*$Y7/SUMPRODUCT($AJ7:$AX7,$AJ$5:$AX$5)","v":0},{"$f":"(AP7*AP$5)*$Y7/SUMPRODUCT($AJ7:$AX7,$AJ$5:$AX$5)","v":0},{"$f":"(AQ7*AQ$5)*$Y7/SUMPRODUCT($AJ7:$AX7,$AJ$5:$AX$5)","v":0},{"$f":"(AU7*AU$5)*$Y7/SUMPRODUCT($AJ7:$AX7,$AJ$5:$AX$5)","v":0},{"$f":"(AV7*AV$5)*$Y7/SUMPRODUCT($AJ7:$AX7,$AJ$5:$AX$5)","v":0},{"$f":"(AW7*AW$5)*$Y7/SUMPRODUCT($AJ7:$AX7,$AJ$5:$AX$5)","v":0},{"$f":"(AX7*AX$5)*$Y7/SUMPRODUCT($AJ7:$AX7,$AJ$5:$AX$5)","v":0}]
["si","si","si","si","si","si","si","si","si","si","si","si","si","si",null,null,null,null,null,"NO",{"$f":"VLOOKUP(V8,CA!$E$9:$I$128,5,FALSE)","v":1},"PE 02","Proximidad a equipamiento y servicios.",{"$f":"($Z8+2*$AH8)/($Z$60+2*$AH$60)","v":1.4142556974300955E-2},{"$f":"'Informe resultados'!N28","v":0},{"$f":"IF($U8=1,SUMPRODUCT(AB8:AG8,AB$5:AG$5),\"0\")","v":1.4615384615384617},1.3552068473609132E-2,2,1,1,3,1,2,{"$f":"IF($U8=1,SUMPRODUCT(AJ8:AX8,AJ$5:AX$5),\"0\")","v":0.53125},1.5044247787610619E-2,1,1,null,null,null,null,null,3,2,null,null,null,null,2,null,null,{"$f":"(AJ8*AJ$5)*$X8/SUMPRODUCT($AJ8:$AX8,$AJ$5:$AX$5)","v":2.4957453484060511E-3},1.6638302322707005E-3,0,0,0,0,0,4.9914906968121023E-3,0,0,3.3276604645414011E-3,0,0,3.3276604645414011E-3,0,null,0,0,0,0,0,0,0,0,0,0,0,0,0,0,0]
["si","no","no","no","si","si","si","si","si","si","si","si","si","no",null,null,null,null,null,null,{"$f":"IF(OR('DG '!F$27=\"Unifamiliar\",'DG '!F$27=\"Urbanizaciones\",'DG '!F$27=\"Vivienda en un edificio\",'DG '!F$27=\"Local o parte de un edificio\"),0,VLOOKUP(V9,CA!$E$9:$I$128,5,FALSE))","v":1},"PE 03","Facilidades para la bicicleta.",1.7105759387964013E-2,{"$f":"'Informe resultados'!N29","v":0},{"$f":"IF($U9=1,SUMPRODUCT(AB9:AG9,AB$5:AG$5),\"0\")","v":1.6153846153846156},1.4978601997146936E-2,2,2,1,3,1,1,{"$f":"IF($U9=1,SUMPRODUCT(AJ9:AX9,AJ$5:AX$5),\"0\")","v":0.71875},2.0353982300884955E-2,1,1,null,null,null,null,null,3,2,2,null,null,null,2,null,null,2.231186007125741E-3,1.4874573380838272E-3,0,0,0,0,0,4.462372014251482E-3,0,0,2.9749146761676544E-3,0,0,2.9749146761676544E-3,0,null,0,0,0,0,0,0,0,0,0,0,0,0,0,0,0]
["si","si","si","no","si","si","si","si","si","si","si","si","si","no",null,null,null,null,null,null,{"$f":"IF(OR('DG '!F27=\"Vivienda en un edificio\",'DG '!F27=\"Parte de un edificio\",'DG '!F41=\"NO\"),0,VLOOKUP(V10,CA!$E$9:$I$128,5,FALSE))","v":1},"PE 04","Capacidad de carga de vehículos eléctricos.",1.6809439146597709E-2,{"$f":"'Informe resultados'!N31","v":0},{"$f":"IF($U10=1,SUMPRODUCT(AB10:AG10,AB$5:AG$5),\"0\")","v":2.0000000000000004},1.8544935805991446E-2,2,2,2,3,2,1,{"$f":"IF($U10=1,SUMPRODUCT(AJ10:AX10,AJ$5:AX$5),\"0\")","v":0.5},1.415929203539823E-2,1,1,null,null,null,null,null,1,2,null,null,null,null,2,1,null,3.1517698399870704E-3,2.1011798933247136E-3,0,0,0,0,0,2.1011798933247136E-3,0,{"$f":"(AV10*AV$5)*$X10/SUMPRODUCT($AJ10:$AX10,$AJ$5:$AX$5)","v":0},4.2023597866494272E-3,3.1517698399870704E-3,0,4.2023597866494272E-3,3.1517698399870704E-3,null,0,0,0,0,0,{"$f":"(AO10*AO$5)*$Y10/SUMPRODUCT($AJ10:$AX10,$AJ$5:$AX$5)","v":0},0,0,0,0,0,0,0,0,0]
["si","si","si","no","si","si","si","si","si","si","si","si","si","no",null,null,null,null,null,null,{"$f":"IF(OR('DG '!F$27=\"Vivienda en un edificio\",'DG '!F$27=\"Parte de un edificio\"),0,VLOOKUP(V11,CA!$E$9:$I$128,5,FALSE))","v":1},"PE 05","Clasificación de RSU.",1.1852809654652225E-2,{"$f":"'Informe resultados'!N31","v":0},1.6153846153846152,1.4978601997146932E-2,2,1,1,3,2,1,0.25,7.0796460176991149E-3,null,null,1,null,null,1,3,null,null,null,null,null,null,null,null,null,0,0,4.4448036204945843E-3,0,0,2.9632024136630563E-3,4.4448036204945843E-3,0,0,0,0,0,0,0,0,null,0,0,0,0,0,0,0,0,0,0,0,0,0,0,0]
["si","si","si","no","si","si","si","si","si","si","si","si","si","no",null,null,null,null,null,null,{"$f":"IF(OR('DG '!F$27=\"Vivienda en un edificio\",'DG '!F$27=\"Parte de un edificio\"),0,VLOOKUP(V12,CA!$E$9:$I$128,5,FALSE))","v":1},"PE 06","Gestión y Restauración del hábitat.",2.3948063143149616E-2,{"$f":"'Informe resultados'!N32","v":0},2.4615384615384612,2.2824536376604847E-2,2,3,2,2,3,2,0.90625,2.5663716814159292E-2,1,1,3,null,2,1,null,null,null,1,2,null,null,1,null,null,2.4773858423947875E-3,1.6515905615965252E-3,7.4321575271843639E-3,0,3.3031811231930505E-3,1.6515905615965252E-3,0,0,0,0,1.6515905615965252E-3,0,0,1.6515905615965252E-3,0,null,0,0,0,0,0,0,0,0,0,0,0,0,0,0,0]
["si","si","si","no","si","si","si","si","si","si","si","si","si","no",null,null,null,null,null,null,{"$f":"IF(OR('DG '!F$27=\"Vivienda en un edificio\",'DG '!F$27=\"Parte de un edificio\"),0,VLOOKUP(V13,CA!$E$9:$I$128,5,FALSE))","v":1},"PE 07","Uso de plantas para crear sombras.",1.9018371854964713E-2,{"$f":"'Informe resultados'!N33","v":0},1.7692307692307692,1.6405135520684736E-2,2,1,1,2,3,1,0.8125,2.3008849557522124E-2,1,1,3,1,2,null,null,null,null,1,1,null,null,null,null,null,2.1944275217266975E-3,1.4629516811511317E-3,6.583282565180093E-3,2.1944275217266975E-3,2.9259033623022634E-3,0,0,0,0,0,0,0,0,0,0,null,0,0,0,0,0,0,0,0,0,0,0,0,0,0,0]
["si","si","si","no","si","si","si","si","si","si","si","si","si","no",null,null,null,null,null,null,{"$f":"IF(OR('DG '!F$27=\"Vivienda en un edificio\",'DG '!F$27=\"Parte de un edificio\"),0,VLOOKUP(V14,CA!$E$9:$I$128,5,FALSE))","v":1},"PE 08","Efecto isla de calor.",2.1442810193416303E-2,{"$f":"'Informe resultados'!N34","v":0},2.0769230769230771,1.9258202567760344E-2,2,1,2,3,3,2,0.875,2.4778761061946902E-2,2,2,2,null,null,null,null,null,null,2,3,null,null,null,null,null,4.594887898589208E-3,3.0632585990594719E-3,4.594887898589208E-3,0,0,0,0,0,0,0,0,0,0,0,0,null,0,0,0,0,0,0,0,0,0,0,0,0,0,0,0]
["si","si","si","no","si","si","si","si","si","si","si","si","si","no",null,null,null,null,null,null,{"$f":"IF(OR('DG '!F$27=\"Vivienda en un edificio\",'DG '!F$27=\"Parte de un edificio\"),0,VLOOKUP(V15,CA!$E$9:$I$128,5,FALSE))","v":1},"PE 09","Contaminación lumínica.",2.0661602284359679E-2,{"$f":"'Informe resultados'!N35","v":0},2,1.8544935805991442E-2,2,1,2,3,3,1,0.84375,2.3893805309734513E-2,null,3,3,null,null,null,null,null,null,2,3,null,null,null,null,null,0,4.591467174302151E-3,6.8872007614532264E-3,0,0,0,0,0,0,0,0,0,0,0,0,null,0,0,0,0,0,0,0,0,0,0,0,0,0,0,0]
[null,null,null,null,null,null,null,null,null,null,null,null,null,null,null,null,null,null,null,null,"EA","Energía y atmósfera",null,{"$f":"SUM(X17:X22)","v":0.18471526318625081},null,null,{"$f":"SUM(AA17:AA22)","v":0.19614835948644796},null,null,null,null,null,null,null,{"$f":"SUM(AI17:AI22)","v":0.1672566371681416}]
[null,null,null,null,null,null,null,null,null,null,null,null,null,null,null,null,null,null,null,null,0,"EA 00","Demanda de calefacción y refrigeración",{"$f":"($Z17+2*$AH17)/($Z$60+2*$AH$60)","v":0},null,{"$f":"IF($U17=1,SUMPRODUCT(AB17:AG17,AB$5:AG$5),\"0\")","v":"0"},{"$f":"IF($Z$60=0,0,$Z17/$Z$60)","v":0},3,3,3,3,3,5,{"$f":"IF($U17=1,SUMPRODUCT(AJ17:AX17,AJ$5:AX$5),\"0\")","v":"0"},{"$f":"IF($AH$60=0,0,$AH17/$AH$60)","v":0},3,3,null,3,null,null,null,null,null,3,null,null,null,3,3,null,{"$f":"(AJ17*AJ$5)*$X17/SUMPRODUCT($AJ17:$AX17,$AJ$5:$AX$5)","v":0},0,0,0,0,0,0,0,{"$f":"(AU17*AU$5)*$X17/SUMPRODUCT($AJ17:$AX17,$AJ$5:$AX$5)","v":0},{"$f":"(AV17*AV$5)*$X17/SUMPRODUCT($AJ17:$AX17,$AJ$5:$AX$5)","v":0},0,0,{"$f":"(AV17*AV$5)*$X17/SUMPRODUCT($AJ17:$AX17,$AJ$5:$AX$5)","v":0},0,0,null,{"$f":"(AJ17*AJ$5)*$Y17/SUMPRODUCT($AJ17:$AX17,$AJ$5:$AX$5)","v":0},0,0,0,0,0,0,0,{"$f":"(AO17*AO$5)*$Y17/SUMPRODUCT($AJ17:$AX17,$AJ$5:$AX$5)","v":0},0,0,{"$f":"(AU17*AU$5)*$Y17/SUMPRODUCT($AJ17:$AX17,$AJ$5:$AX$5)","v":0},0,0,0]
["si","si","si","si","si","si","si","si","si","si","si","si","si","si",null,null,null,null,null,"NO",{"$f":"VLOOKUP(V18,CA!$E$9:$I$128,5,FALSE)","v":1},"EA 01","Consumo de energía primaria",7.9144442648564212E-2,{"$f":"'Informe resultados'!N36","v":0},10.000000000000002,9.2724679029957222E-2,10,10,10,10,10,10,2.0625,5.8407079646017698E-2,10,3,2,3,null,null,null,null,null,null,null,null,null,3,3,null,3.5974746658438278E-2,7.1949493316876556E-3,7.1949493316876556E-3,1.0792423997531483E-2,0,0,0,0,0,0,7.1949493316876556E-3,1.0792423997531483E-2,0,7.1949493316876556E-3,1.0792423997531483E-2,null,0,0,0,0,0,0,0,0,0,0,0,0,0,0,0]
["si","si","si","no","si","si","si","si","si","si","si","si","si","no",null,null,null,null,null,null,{"$f":"IF(OR('DG '!F$27=\"Vivienda en un edificio\",'DG '!F$27=\"Parte de un edificio\"),0,VLOOKUP(V19,CA!$E$9:$I$128,5,FALSE))","v":1},"EA 02","Generación distribuida",5.0913205107483449E-2,{"$f":"'Informe resultados'!N37","v":0},5.4615384615384626,5.0641940085592023E-2,5,5,3,3,10,2,1.8125,5.1327433628318583E-2,10,3,2,2,null,null,null,null,null,null,null,null,null,2,2,null,2.6334416434905233E-2,5.2668832869810465E-3,5.2668832869810465E-3,5.2668832869810465E-3,0,0,0,0,0,0,3.5112555246540307E-3,5.2668832869810465E-3,0,3.5112555246540307E-3,5.2668832869810465E-3,null,0,0,0,0,0,0,0,0,0,0,0,0,0,0,0]
["si","no","no","no","si","si","si","si","si","si","si","si","si","si",null,null,null,null,null,null,{"$f":"IF(OR('DG '!F$27=\"Unifamiliar\",'DG '!F$27=\"Urbanizaciones\",'DG '!F$27=\"Vivienda en un edificio\"),0,VLOOKUP(V20,CA!$E$9:$I$128,5,FALSE))","v":1},"EA 03","Consumo en zonas comunes",2.6668821722967515E-2,{"$f":"'Informe resultados'!N38","v":0},2.384615384615385,2.2111269614835952E-2,3,3,2,2,2,1,1.1875,3.3628318584070796E-2,2,2,2,3,null,null,null,null,null,null,null,null,null,2,3,null,4.2108665878369759E-3,2.8072443918913171E-3,4.2108665878369759E-3,6.3162998817554647E-3,0,0,0,0,0,0,2.8072443918913171E-3,6.3162998817554647E-3,0,2.8072443918913171E-3,6.3162998817554647E-3,null,0,0,0,0,0,0,0,0,0,0,0,0,0,0,0]
[null,null,null,null,null,null,null,null,null,null,null,null,null,null,null,null,null,null,null,null,0,"EA 05","Emisión de NOx en calderas de combustión.",0,null,"0",0,1,2,1,2,3,1,"0",0,null,2,null,null,null,null,null,null,null,1,null,null,null,null,null,null,0,0,0,0,0,0,0,0,0,0,0,0,0,0,0,null,0,0,0,0,0,0,0,0,0,0,0,0,0,0,0]
["si","si","si","si","si","si","si","si","si","si","si","si","si","si",null,null,null,null,null,"NO",{"$f":"VLOOKUP(V22,CA!$E$9:$I$128,5,FALSE)","v":1},"EA 04","Elección responsable de refrigerantes",2.7988793707235605E-2,{"$f":"'Informe resultados'!N39","v":0},3.3076923076923079,3.0670470756062773E-2,3,3,3,3,5,1,0.84375,2.3893805309734513E-2,5,3,2,null,null,null,null,null,null,null,null,null,null,null,null,null,1.5549329837353113E-2,6.219731934941246E-3,6.219731934941246E-3,0,0,0,0,0,0,0,0,0,0,0,0,null,0,0,0,0,0,0,0,0,0,0,0,0,0,0,0]
[null,null,null,null,null,null,null,null,null,null,null,null,null,null,null,null,null,null,null,null,"RN","Recursos naturales",null,{"$f":"SUM(X24:X35)","v":0.26345563277840633},null,null,{"$f":"SUM(AA24:AA35)","v":0.28530670470756064},null,null,null,null,null,null,null,{"$f":"SUM(AI24:AI35)","v":0.23008849557522124}]
["si","si","si","si","si","si","si","si","si","si","si","si","si","si",null,null,null,null,null,"NO",{"$f":"VLOOKUP(V24,CA!$E$9:$I$128,5,FALSE)","v":1},"RN 01","Consumo de agua en aparatos sanitarios",{"$f":"($Z24+2*$AH24)/($Z$60+2*$AH$60)","v":2.2466461936318089E-2},{"$f":"'Informe resultados'!N40","v":0},{"$f":"IF($U24=1,SUMPRODUCT(AB24:AG24,AB$5:AG$5),\"0\")","v":2.3846153846153846},{"$f":"IF($Z$60=0,0,$Z24/$Z$60)","v":2.2111269614835949E-2},3,1,3,3,3,1,{"$f":"IF($U24=1,SUMPRODUCT(AJ24:AX24,AJ$5:AX$5),\"0\")","v":0.8125},{"$f":"IF($AH$60=0,0,$AH24/$AH$60)","v":2.3008849557522124E-2},null,2,1,null,3,null,null,null,null,null,null,null,null,2,3,null,{"$f":"(AJ24*AJ$5)*$X24/SUMPRODUCT($AJ24:$AX24,$AJ$5:$AX$5)","v":0},{"$f":"(AK24*AK$5)*$X24/SUMPRODUCT($AJ24:$AX24,$AJ$5:$AX$5)","v":3.456378759433552E-3},{"$f":"(AL24*AL$5)*$X24/SUMPRODUCT($AJ24:$AX24,$AJ$5:$AX$5)","v":2.5922840695751645E-3},{"$f":"(AM24*AM$5)*$X24/SUMPRODUCT($AJ24:$AX24,$AJ$5:$AX$5)","v":0},{"$f":"(AN24*AN$5)*$X24/SUMPRODUCT($AJ24:$AX24,$AJ$5:$AX$5)","v":5.1845681391503289E-3},{"$f":"(AO24*AO$5)*$X24/SUMPRODUCT($AJ24:$AX24,$AJ$5:$AX$5)","v":0},{"$f":"(AP24*AP$5)*$X24/SUMPRODUCT($AJ24:$AX24,$AJ$5:$AX$5)","v":0},{"$f":"(AQ24*AQ$5)*$X24/SUMPRODUCT($AJ24:$AX24,$AJ$5:$AX$5)","v":0},{"$f":"(AU24*AU$5)*$X24/SUMPRODUCT($AJ24:$AX24,$AJ$5:$AX$5)","v":0},{"$f":"(AV24*AV$5)*$X24/SUMPRODUCT($AJ24:$AX24,$AJ$5:$AX$5)","v":0},3.456378759433552E-3,7.7768522087254925E-3,{"$f":"(AV24*AV$5)*$X24/SUMPRODUCT($AJ24:$AX24,$AJ$5:$AX$5)","v":0},{"$f":"(AW24*AW$5)*$X24/SUMPRODUCT($AJ24:$AX24,$AJ$5:$AX$5)","v":3.456378759433552E-3},{"$f":"(AX24*AX$5)*$X24/SUMPRODUCT($AJ24:$AX24,$AJ$5:$AX$5)","v":7.7768522087254925E-3},null,{"$f":"(AJ24*AJ$5)*$Y24/SUMPRODUCT($AJ24:$AX24,$AJ$5:$AX$5)","v":0},{"$f":"(AK24*AK$5)*$Y24/SUMPRODUCT($AJ24:$AX24,$AJ$5:$AX$5)","v":0},{"$f":"(AL24*AL$5)*$Y24/SUMPRODUCT($AJ24:$AX24,$AJ$5:$AX$5)","v":0},{"$f":"(AM24*AM$5)*$Y24/SUMPRODUCT($AJ24:$AX24,$AJ$5:$AX$5)","v":0},{"$f":"(AN24*AN$5)*$Y24/SUMPRODUCT($AJ24:$AX24,$AJ$5:$AX$5)","v":0},{"$f":"(AO24*AO$5)*$Y24/SUMPRODUCT($AJ24:$AX24,$AJ$5:$AX$5)","v":0},0,0,{"$f":"(AO24*AO$5)*$Y24/SUMPRODUCT($AJ24:$AX24,$AJ$5:$AX$5)","v":0},{"$f":"(AP24*AP$5)*$Y24/SUMPRODUCT($AJ24:$AX24,$AJ$5:$AX$5)","v":0},{"$f":"(AQ24*AQ$5)*$Y24/SUMPRODUCT($AJ24:$AX24,$AJ$5:$AX$5)","v":0},{"$f":"(AU24*AU$5)*$Y24/SUMPRODUCT($AJ24:$AX24,$AJ$5:$AX$5)","v":0},{"$f":"(AV24*AV$5)*$Y24/SUMPRODUCT($AJ24:$AX24,$AJ$5:$AX$5)","v":0},{"$f":"(AW24*AW$5)*$Y24/SUMPRODUCT($AJ24:$AX24,$AJ$5:$AX$5)","v":0},{"$f":"(AX24*AX$5)*$Y24/SUMPRODUCT($AJ24:$AX24,$AJ$5:$AX$5)","v":0}]
["si","si","si","no","si","si","si","si","si","si","si","si","si","no",null,null,null,null,null,null,{"$f":"IF(OR('DG '!F$27=\"Vivienda en un edificio\",'DG '!F$27=\"Parte de un edificio\"),0,VLOOKUP(V25,CA!$E$9:$I$128,5,FALSE))","v":1},"RN 02","Necesidades de riego en jardines.",2.2897473196487259E-2,{"$f":"'Informe resultados'!N41","v":0},{"$f":"IF($U25=1,SUMPRODUCT(AB25:AG25,AB$5:AG$5),\"0\")","v":2.4615384615384612},2.2824536376604847E-2,3,1,3,3,3,2,{"$f":"IF($U25=1,SUMPRODUCT(AJ25:AX25,AJ$5:AX$5),\"0\")","v":0.8125},2.3008849557522124E-2,null,2,1,null,3,null,null,null,null,null,null,null,null,2,3,null,0,3.5226881840749627E-3,2.6420161380562223E-3,0,5.2840322761124447E-3,0,0,0,0,0,3.5226881840749627E-3,7.9260484141686662E-3,0,3.5226881840749627E-3,7.9260484141686662E-3,null,0,0,0,0,0,0,0,0,0,0,0,0,0,0,0]
["si","no","no","no","si","si","si","si","si","si","si","si","si","si",null,null,null,null,null,null,{"$f":"IF(OR('DG '!F$27=\"Unifamiliar\",'DG '!F$27=\"Urbanizaciones\",'DG '!F$27=\"Vivienda en un edificio\"),0,VLOOKUP(V26,CA!$E$9:$I$128,5,FALSE))","v":1},"RN 03","Consumos de agua singulares.",1.9018371854964713E-2,{"$f":"'Informe resultados'!N42","v":0},{"$f":"IF($U26=1,SUMPRODUCT(AB26:AG26,AB$5:AG$5),\"0\")","v":1.7692307692307694},1.640513552068474E-2,3,1,1,2,2,1,{"$f":"IF($U26=1,SUMPRODUCT(AJ26:AX26,AJ$5:AX$5),\"0\")","v":0.8125},2.3008849557522124E-2,null,2,1,null,3,null,null,null,null,null,null,null,null,2,3,null,0,2.9259033623022634E-3,2.1944275217266975E-3,0,4.3888550434533951E-3,0,0,0,0,0,2.9259033623022634E-3,6.583282565180093E-3,0,2.9259033623022634E-3,6.583282565180093E-3,null,0,0,0,0,0,0,0,0,0,0,0,0,0,0,0]
["si","si","si","no","si","si","si","si","si","si","si","si","si","no",null,null,null,null,null,null,{"$f":"IF(OR('DG '!F$27=\"Vivienda en un edificio\",'DG '!F$27=\"Parte de un edificio\"),0,VLOOKUP(V27,CA!$E$9:$I$128,5,FALSE))","v":1},"RN 04","Uso de agua no potable.",2.1873821453585476E-2,{"$f":"'Informe resultados'!N43","v":0},{"$f":"IF($U27=1,SUMPRODUCT(AB27:AG27,AB$5:AG$5),\"0\")","v":2.1538461538461537},1.9971469329529243E-2,3,1,1,3,3,2,{"$f":"IF($U27=1,SUMPRODUCT(AJ27:AX27,AJ$5:AX$5),\"0\")","v":0.875},2.4778761061946902E-2,null,2,1,null,3,null,null,null,null,null,null,null,null,3,3,null,0,3.1248316362264966E-3,2.3436237271698725E-3,0,4.6872474543397449E-3,0,0,0,0,0,4.6872474543397449E-3,7.0308711815096165E-3,0,4.6872474543397449E-3,7.0308711815096165E-3,null,0,0,0,0,0,0,0,0,0,0,0,0,0,0,0]
["si","si","si","si","si","si","si","si","si","si","si","si","si","si",null,null,null,"no",null,null,{"$f":"IF('DG '!F$29=\"Edificio existente\",0,VLOOKUP(V28,CA!$E$9:$I$128,5,FALSE))","v":1},"RN 05","Uso de materiales reciclados.",1.9018371854964713E-2,{"$f":"'Informe resultados'!N44","v":0},{"$f":"IF($U28=1,SUMPRODUCT(AB28:AG28,AB$5:AG$5),\"0\")","v":2.7692307692307692},2.5677603423680459E-2,3,3,2,3,3,2,{"$f":"IF($U28=1,SUMPRODUCT(AJ28:AX28,AJ$5:AX$5),\"0\")","v":0.3125},8.8495575221238937E-3,null,null,null,null,null,3,1,null,null,null,null,null,null,null,1,null,0,0,0,0,0,1.1411023112978827E-2,1.9018371854964712E-3,0,0,{"$f":"(AV28*AV$5)*$X28/SUMPRODUCT($AJ28:$AX28,$AJ$5:$AX$5)","v":0},0,5.7055115564894135E-3,0,0,5.7055115564894135E-3,null,0,0,0,0,0,{"$f":"(AO28*AO$5)*$Y28/SUMPRODUCT($AJ28:$AX28,$AJ$5:$AX$5)","v":0},0,0,0,0,0,0,0,0,0]
["si","si","si","si","si","si","si","si","si","si","si","si","si","si",null,null,null,"no",null,null,{"$f":"IF('DG '!F$29=\"Edificio existente\",0,VLOOKUP(V29,CA!$E$9:$I$128,5,FALSE))","v":1},"RN 06","Elección responsable de materiales",1.9718765152739615E-2,{"$f":"'Informe resultados'!N45","v":0},2.7692307692307692,2.5677603423680459E-2,3,3,2,3,3,2,0.375,1.0619469026548672E-2,null,null,1,null,null,3,null,null,null,1,null,null,null,null,null,null,0,0,4.9296912881849038E-3,0,0,9.8593825763698077E-3,0,0,0,0,0,0,0,0,0,null,0,0,0,0,0,0,0,0,0,0,0,0,0,0,0]
["si","si","si","si","si","si","si","si","si","si","si","si","si","si",null,null,null,"no",null,null,{"$f":"IF('DG '!F$29=\"Edificio existente\",0,VLOOKUP(V30,CA!$E$9:$I$128,5,FALSE))","v":1},"RN 07","Uso de materiales de producción local.",2.0715478691880826E-2,{"$f":"'Informe resultados'!N46","v":0},2.3846153846153846,2.2111269614835949E-2,3,1,3,3,3,1,0.65625,1.8584070796460177E-2,1,1,null,null,null,null,null,null,null,null,3,null,null,2,2,null,2.9593540988401179E-3,1.9729027325600785E-3,0,0,0,0,0,0,0,0,3.9458054651201569E-3,5.9187081976802359E-3,0,3.9458054651201569E-3,5.9187081976802359E-3,null,0,0,0,0,0,0,0,0,0,0,0,0,0,0,0]
["si","si","si","si","si","si","si","si","si","si","si","si","si","si",null,null,null,"no",null,null,{"$f":"IF('DG '!F$29=\"Edificio existente\",0,VLOOKUP(V31,CA!$E$9:$I$128,5,FALSE))","v":1},"RN 08","El edificio como banco de materiales",2.2708905770163244E-2,{"$f":"'Informe resultados'!N47","v":0},2.6153846153846154,2.4251069900142655E-2,3,2,3,2,3,2,0.71875,2.0353982300884955E-2,null,null,null,null,null,3,3,null,3,null,null,null,null,1,3,null,0,0,0,0,0,5.9240623748251942E-3,2.9620311874125971E-3,0,0,0,1.9746874582750647E-3,8.8860935622377905E-3,0,1.9746874582750647E-3,8.8860935622377905E-3,null,0,0,0,0,0,0,0,0,0,0,0,0,0,0,0]
["si","si","si","si","si","si","si","si","si","si","si","si","si","si",null,null,null,"no",null,null,{"$f":"IF('DG '!F$29=\"Edificio existente\",0,VLOOKUP(V32,CA!$E$9:$I$128,5,FALSE))","v":1},"RN 09","Gestión de los residuos de la construcción.",1.6432304293949682E-2,{"$f":"'Informe resultados'!N48","v":0},2.3076923076923079,2.139800285306705E-2,3,2,1,3,3,1,0.3125,8.8495575221238937E-3,null,null,null,null,null,2,3,null,null,null,null,null,null,null,1,null,0,0,0,0,0,6.5729217175798729E-3,4.9296912881849047E-3,0,0,0,0,4.9296912881849047E-3,0,0,4.9296912881849047E-3,null,0,0,0,0,0,0,0,0,0,0,0,0,0,0,0]
["si","si","si","si","si","si","si","si","si","si","si","si","si","si",null,"no",null,"no",null,null,{"$f":"IF('DG '!F$29=\"Rehabilitación\",VLOOKUP(V33,CA!$E$9:$I$128,5,FALSE),0)","v":0},"RN 10","Nivel de intervención en rehabilitaciones",0,{"$f":"'Informe resultados'!N50","v":0},{"$f":"IF($U33=1,SUMPRODUCT(AB33:AG33,AB$5:AG$5),\"0\")","v":"0"},0,3,2,2,2,3,2,{"$f":"IF($U33=1,SUMPRODUCT(AJ33:AX33,AJ$5:AX$5),\"0\")","v":"0"},0,null,null,null,null,null,3,3,null,2,null,null,null,null,null,3,null,{"$f":"(AJ33*AJ$5)*$X33/SUMPRODUCT($AJ33:$AX33,$AJ$5:$AX$5)","v":0},0,0,0,0,0,0,0,{"$f":"(AU33*AU$5)*$X33/SUMPRODUCT($AJ33:$AX33,$AJ$5:$AX$5)","v":0},{"$f":"(AV33*AV$5)*$X33/SUMPRODUCT($AJ33:$AX33,$AJ$5:$AX$5)","v":0},{"$f":"(AW33*AW$5)*$X33/SUMPRODUCT($AJ33:$AX33,$AJ$5:$AX$5)","v":0},{"$f":"(AX33*AX$5)*$X33/SUMPRODUCT($AJ33:$AX33,$AJ$5:$AX$5)","v":0},{"$f":"(AV33*AV$5)*$X33/SUMPRODUCT($AJ33:$AX33,$AJ$5:$AX$5)","v":0},{"$f":"(AW33*AW$5)*$X33/SUMPRODUCT($AJ33:$AX33,$AJ$5:$AX$5)","v":0},{"$f":"(AX33*AX$5)*$X33/SUMPRODUCT($AJ33:$AX33,$AJ$5:$AX$5)","v":0},null,{"$f":"(AJ33*AJ$5)*$Y33/SUMPRODUCT($AJ33:$AX33,$AJ$5:$AX$5)","v":0},0,0,0,0,0,0,0,{"$f":"(AO33*AO$5)*$Y33/SUMPRODUCT($AJ33:$AX33,$AJ$5:$AX$5)","v":0},{"$f":"(AP33*AP$5)*$Y33/SUMPRODUCT($AJ33:$AX33,$AJ$5:$AX$5)","v":0},{"$f":"(AQ33*AQ$5)*$Y33/SUMPRODUCT($AJ33:$AX33,$AJ$5:$AX$5)","v":0},{"$f":"(AU33*AU$5)*$Y33/SUMPRODUCT($AJ33:$AX33,$AJ$5:$AX$5)","v":0},{"$f":"(AV33*AV$5)*$Y33/SUMPRODUCT($AJ33:$AX33,$AJ$5:$AX$5)","v":0},{"$f":"(AW33*AW$5)*$Y33/SUMPRODUCT($AJ33:$AX33,$AJ$5:$AX$5)","v":0},{"$f":"(AX33*AX$5)*$Y33/SUMPRODUCT($AJ33:$AX33,$AJ$5:$AX$5)","v":0}]
["si","si","si","si","si","si","si","si","si","si","si","si","si","si",null,null,null,"no",null,null,{"$f":"IF('DG '!F$29=\"Edificio existente\",0,VLOOKUP(V34,CA!$E$9:$I$128,5,FALSE))","v":1},"RN 11","Impacto de los materiales de la construcción.",5.7566941436345026E-2,{"$f":"'Informe resultados'!N51","v":0},6.4615384615384617,5.9914407988587735E-2,8,3,8,3,8,8,1.90625,5.3982300884955751E-2,3,3,1,3,3,3,3,null,1,null,null,3,null,3,3,null,8.4934831627394292E-3,5.6623221084929534E-3,2.8311610542464767E-3,8.4934831627394292E-3,5.6623221084929534E-3,5.6623221084929534E-3,2.8311610542464767E-3,0,2.8311610542464767E-3,0,5.6623221084929534E-3,8.4934831627394292E-3,0,5.6623221084929534E-3,8.4934831627394292E-3,null,0,0,0,0,0,0,0,0,0,0,0,0,0,0,0]
["si","si","si","si","si","si","si","si","si","si","si","si","si","si",null,null,null,"no",null,null,{"$f":"IF('DG '!F$29=\"Edificio existente\",0,VLOOKUP(V35,CA!$E$9:$I$128,5,FALSE))","v":1},"RN 12","Ecoetiquetado de producto.",2.1038737137007706E-2,{"$f":"'Informe resultados'!N52","v":0},2.6923076923076925,2.4964336661911557E-2,3,3,2,3,3,1,0.53125,1.5044247787610619E-2,1,1,null,1,1,1,1,null,null,null,null,null,null,2,null,null,3.712718318295477E-3,2.4751455455303182E-3,0,3.712718318295477E-3,2.4751455455303182E-3,2.4751455455303182E-3,1.2375727727651591E-3,0,0,0,4.9502910910606364E-3,0,0,4.9502910910606364E-3,0,null,0,0,0,0,0,0,0,0,0,0,0,0,0,0,0]
[null,null,null,null,null,null,null,null,null,null,null,null,null,null,null,null,null,null,null,null,"AI","Ambiente Interior.",null,{"$f":"SUM(X37:X41)","v":7.8551802165831588E-2},null,null,{"$f":"SUM(AA37:AA41)","v":7.2039942938659063E-2},null,null,null,null,null,null,null,{"$f":"SUM(AI37:AI41)","v":8.8495575221238937E-2}]
["si","si","si","si","si","si","si","si","si","si","si","si","si","si",null,null,null,"no",null,null,{"$f":"IF('DG '!F$29=\"Edificio existente\",0,VLOOKUP(V37,CA!$E$9:$I$128,5,FALSE))","v":1},"AI 01","Limitación de las emisiones de COVs",{"$f":"($Z37+2*$AH37)/($Z$60+2*$AH$60)","v":1.9961208986584777E-2},{"$f":"'Informe resultados'!N53","v":0},{"$f":"IF($U37=1,SUMPRODUCT(AB37:AG37,AB$5:AG$5),\"0\")","v":2},{"$f":"IF($Z$60=0,0,$Z37/$Z$60)","v":1.8544935805991442E-2},1,1,3,3,3,2,{"$f":"IF($U37=1,SUMPRODUCT(AJ37:AX37,AJ$5:AX$5),\"0\")","v":0.78125},{"$f":"IF($AH$60=0,0,$AH37/$AH$60)","v":2.2123893805309734E-2},null,null,null,null,null,null,null,null,null,5,null,null,null,5,null,null,{"$f":"(AJ37*AJ$5)*$X37/SUMPRODUCT($AJ37:$AX37,$AJ$5:$AX$5)","v":0},0,0,0,0,0,0,0,{"$f":"(AU37*AU$5)*$X37/SUMPRODUCT($AJ37:$AX37,$AJ$5:$AX$5)","v":0},0,7.9844835946339104E-3,0,{"$f":"(AV37*AV$5)*$X37/SUMPRODUCT($AJ37:$AX37,$AJ$5:$AX$5)","v":0},7.9844835946339104E-3,0,null,{"$f":"(AJ37*AJ$5)*$Y37/SUMPRODUCT($AJ37:$AX37,$AJ$5:$AX$5)","v":0},0,0,0,0,0,0,0,{"$f":"(AO37*AO$5)*$Y37/SUMPRODUCT($AJ37:$AX37,$AJ$5:$AX$5)","v":0},0,0,{"$f":"(AU37*AU$5)*$Y37/SUMPRODUCT($AJ37:$AX37,$AJ$5:$AX$5)","v":0},0,0,0]
["si","si","si","si","si","si","si","si","si","si","si","si","si","si",null,null,null,null,null,"NO",{"$f":"VLOOKUP(V38,CA!$E$9:$I$128,5,FALSE)","v":1},"AI 02","Control de la calidad del aire",{"$f":"($Z38+2*$AH38)/($Z$60+2*$AH$60)","v":1.9530197726415604E-2},{"$f":"'Informe resultados'!N54","v":0},{"$f":"IF($U38=1,SUMPRODUCT(AB38:AG38,AB$5:AG$5),\"0\")","v":1.9230769230769231},{"$f":"IF($Z$60=0,0,$Z38/$Z$60)","v":1.783166904422254E-2},1,1,3,3,3,1,{"$f":"IF($U38=1,SUMPRODUCT(AJ38:AX38,AJ$5:AX$5),\"0\")","v":0.78125},{"$f":"IF($AH$60=0,0,$AH38/$AH$60)","v":2.2123893805309734E-2},null,null,null,null,null,null,null,null,null,5,null,null,null,5,null,null,0,0,0,0,0,0,0,0,0,0,7.8120790905662416E-3,0,0,7.8120790905662416E-3,0,null,0,0,0,0,0,0,0,0,0,0,0,0,0,0,0]
["si","no","no","si","si","si","si","si","si","si","si","si","si","si",null,null,null,null,null,null,{"$f":"IF(OR('DG '!F$27=\"Unifamiliar\",'DG '!F$27=\"Urbanizaciones\"),0,VLOOKUP(V39,CA!$E$9:$I$128,5,FALSE))","v":1},"AI 03","Iluminación natural.",{"$f":"($Z39+2*$AH39)/($Z$60+2*$AH$60)","v":1.9530197726415604E-2},{"$f":"'Informe resultados'!N55","v":0},{"$f":"IF($U39=1,SUMPRODUCT(AB39:AG39,AB$5:AG$5),\"0\")","v":1.9230769230769234},{"$f":"IF($Z$60=0,0,$Z39/$Z$60)","v":1.7831669044222544E-2},1,1,3,2,3,2,{"$f":"IF($U39=1,SUMPRODUCT(AJ39:AX39,AJ$5:AX$5),\"0\")","v":0.78125},{"$f":"IF($AH$60=0,0,$AH39/$AH$60)","v":2.2123893805309734E-2},null,null,null,null,null,null,null,null,null,5,null,null,null,5,null,null,0,0,0,0,0,0,0,0,0,0,7.8120790905662416E-3,0,0,7.8120790905662416E-3,0,null,0,0,0,0,0,0,0,0,0,0,0,0,0,0,0]
["no","no","no","no","si","si","si","si","si","si","si","si","si","si",null,null,null,null,null,null,{"$f":"IF(OR('DG '!F$27=\"Residencial colectivo\",'DG '!F$27=\"Unifamiliar\",'DG '!F$27=\"Urbanizaciones\",'DG '!F$27=\"Vivienda en un edificio\",'DG '!F$27=\"\"),0,VLOOKUP(V40,CA!$D$9:$I$128,5,FALSE))","v":0},"AI 04","Iluminación artificial",{"$f":"($Z40+2*$AH40)/($Z$60+2*$AH$60)","v":0},{"$f":"'Informe resultados'!N56","v":0},{"$f":"IF($U40=1,SUMPRODUCT(AB40:AG40,AB$5:AG$5),\"0\")","v":"0"},{"$f":"IF($Z$60=0,0,$Z40/$Z$60)","v":0},1,1,3,3,3,2,{"$f":"IF($U40=1,SUMPRODUCT(AJ40:AX40,AJ$5:AX$5),\"0\")","v":"0"},{"$f":"IF($AH$60=0,0,$AH40/$AH$60)","v":0},1,null,null,null,null,null,null,null,null,5,null,null,null,5,null,null,0,0,0,0,0,0,0,0,0,0,0,0,0,0,0,null,0,0,0,0,0,0,0,0,0,0,0,0,0,0,0]
["si","si","si","si","si","si","si","si","si","si","si","si","si","si",null,null,null,null,null,"NO",{"$f":"VLOOKUP(V41,CA!$E$9:$I$128,5,FALSE)","v":1},"AI 05","Protección frente al ruido.",{"$f":"($Z41+2*$AH41)/($Z$60+2*$AH$60)","v":1.9530197726415604E-2},{"$f":"'Informe resultados'!N57","v":0},{"$f":"IF($U41=1,SUMPRODUCT(AB41:AG41,AB$5:AG$5),\"0\")","v":1.9230769230769231},{"$f":"IF($Z$60=0,0,$Z41/$Z$60)","v":1.783166904422254E-2},1,1,3,3,3,1,{"$f":"IF($U41=1,SUMPRODUCT(AJ41:AX41,AJ$5:AX$5),\"0\")","v":0.78125},{"$f":"IF($AH$60=0,0,$AH41/$AH$60)","v":2.2123893805309734E-2},null,null,null,null,null,null,null,null,null,5,null,null,null,5,null,null,{"$f":"(AJ41*AJ$5)*$X41/SUMPRODUCT($AJ41:$AX41,$AJ$5:$AX$5)","v":0},0,0,0,0,0,0,0,{"$f":"(AU41*AU$5)*$X41/SUMPRODUCT($AJ41:$AX41,$AJ$5:$AX$5)","v":0},{"$f":"(AV41*AV$5)*$X41/SUMPRODUCT($AJ41:$AX41,$AJ$5:$AX$5)","v":0},{"$f":"(AW41*AW$5)*$X41/SUMPRODUCT($AJ41:$AX41,$AJ$5:$AX$5)","v":7.8120790905662416E-3},{"$f":"(AX41*AX$5)*$X41/SUMPRODUCT($AJ41:$AX41,$AJ$5:$AX$5)","v":0},{"$f":"(AV41*AV$5)*$X41/SUMPRODUCT($AJ41:$AX41,$AJ$5:$AX$5)","v":0},{"$f":"(AW41*AW$5)*$X41/SUMPRODUCT($AJ41:$AX41,$AJ$5:$AX$5)","v":7.8120790905662416E-3},{"$f":"(AX41*AX$5)*$X41/SUMPRODUCT($AJ41:$AX41,$AJ$5:$AX$5)","v":0},null,{"$f":"(AJ41*AJ$5)*$Y41/SUMPRODUCT($AJ41:$AX41,$AJ$5:$AX$5)","v":0},0,0,0,0,0,0,0,{"$f":"(AO41*AO$5)*$Y41/SUMPRODUCT($AJ41:$AX41,$AJ$5:$AX$5)","v":0},{"$f":"(AP41*AP$5)*$Y41/SUMPRODUCT($AJ41:$AX41,$AJ$5:$AX$5)","v":0},{"$f":"(AQ41*AQ$5)*$Y41/SUMPRODUCT($AJ41:$AX41,$AJ$5:$AX$5)","v":0},{"$f":"(AU41*AU$5)*$Y41/SUMPRODUCT($AJ41:$AX41,$AJ$5:$AX$5)","v":0},{"$f":"(AV41*AV$5)*$Y41/SUMPRODUCT($AJ41:$AX41,$AJ$5:$AX$5)","v":0},{"$f":"(AW41*AW$5)*$Y41/SUMPRODUCT($AJ41:$AX41,$AJ$5:$AX$5)","v":0},{"$f":"(AX41*AX$5)*$Y41/SUMPRODUCT($AJ41:$AX41,$AJ$5:$AX$5)","v":0}]
[null,null,null,null,null,null,null,null,null,null,null,null,null,null,null,null,null,null,null,null,"AS","Aspectos sociales",null,{"$f":"SUM(X43:X51)","v":0.17542158288885298},null,null,{"$f":"SUM(AA43:AA51)","v":0.17902995720399428},null,null,null,null,null,null,null,{"$f":"SUM(AI43:AI51)","v":0.16991150442477876}]
["si","si","si","si","si","si","si","si","si","si","si","si","si","si",null,null,null,null,null,"NO",{"$f":"VLOOKUP(V43,CA!$E$9:$I$128,5,FALSE)","v":1},"AS 01","Espacios para todas las personas",{"$f":"($Z43+2*$AH43)/($Z$60+2*$AH$60)","v":1.9180001077528153E-2},{"$f":"'Informe resultados'!N58","v":0},{"$f":"IF($U43=1,SUMPRODUCT(AB43:AG43,AB$5:AG$5),\"0\")","v":1.9230769230769234},{"$f":"IF($Z$60=0,0,$Z43/$Z$60)","v":1.7831669044222544E-2},1,1,3,2,3,2,{"$f":"IF($U43=1,SUMPRODUCT(AJ43:AX43,AJ$5:AX$5),\"0\")","v":0.75},{"$f":"IF($AH$60=0,0,$AH43/$AH$60)","v":2.1238938053097345E-2},null,null,null,null,null,null,null,3,3,3,1,null,null,2,null,null,{"$f":"(AJ43*AJ$5)*$X43/SUMPRODUCT($AJ43:$AX43,$AJ$5:$AX$5)","v":0},{"$f":"(AK43*AK$5)*$X43/SUMPRODUCT($AJ43:$AX43,$AJ$5:$AX$5)","v":0},{"$f":"(AL43*AL$5)*$X43/SUMPRODUCT($AJ43:$AX43,$AJ$5:$AX$5)","v":0},{"$f":"(AM43*AM$5)*$X43/SUMPRODUCT($AJ43:$AX43,$AJ$5:$AX$5)","v":0},{"$f":"(AN43*AN$5)*$X43/SUMPRODUCT($AJ43:$AX43,$AJ$5:$AX$5)","v":0},{"$f":"(AO43*AO$5)*$X43/SUMPRODUCT($AJ43:$AX43,$AJ$5:$AX$5)","v":0},{"$f":"(AP43*AP$5)*$X43/SUMPRODUCT($AJ43:$AX43,$AJ$5:$AX$5)","v":0},{"$f":"(AQ43*AQ$5)*$X43/SUMPRODUCT($AJ43:$AX43,$AJ$5:$AX$5)","v":4.7950002693820382E-3},{"$f":"(AU43*AU$5)*$X43/SUMPRODUCT($AJ43:$AX43,$AJ$5:$AX$5)","v":0},{"$f":"(AV43*AV$5)*$X43/SUMPRODUCT($AJ43:$AX43,$AJ$5:$AX$5)","v":0},{"$f":"(AW43*AW$5)*$X43/SUMPRODUCT($AJ43:$AX43,$AJ$5:$AX$5)","v":3.1966668462546921E-3},{"$f":"(AX43*AX$5)*$X43/SUMPRODUCT($AJ43:$AX43,$AJ$5:$AX$5)","v":0},{"$f":"(AV43*AV$5)*$X43/SUMPRODUCT($AJ43:$AX43,$AJ$5:$AX$5)","v":0},{"$f":"(AW43*AW$5)*$X43/SUMPRODUCT($AJ43:$AX43,$AJ$5:$AX$5)","v":3.1966668462546921E-3},{"$f":"(AX43*AX$5)*$X43/SUMPRODUCT($AJ43:$AX43,$AJ$5:$AX$5)","v":0},null,{"$f":"(AJ43*AJ$5)*$Y43/SUMPRODUCT($AJ43:$AX43,$AJ$5:$AX$5)","v":0},{"$f":"(AK43*AK$5)*$Y43/SUMPRODUCT($AJ43:$AX43,$AJ$5:$AX$5)","v":0},{"$f":"(AL43*AL$5)*$Y43/SUMPRODUCT($AJ43:$AX43,$AJ$5:$AX$5)","v":0},{"$f":"(AM43*AM$5)*$Y43/SUMPRODUCT($AJ43:$AX43,$AJ$5:$AX$5)","v":0},{"$f":"(AN43*AN$5)*$Y43/SUMPRODUCT($AJ43:$AX43,$AJ$5:$AX$5)","v":0},{"$f":"(AO43*AO$5)*$Y43/SUMPRODUCT($AJ43:$AX43,$AJ$5:$AX$5)","v":0},{"$f":"(AP43*AP$5)*$Y43/SUMPRODUCT($AJ43:$AX43,$AJ$5:$AX$5)","v":0},{"$f":"(AQ43*AQ$5)*$Y43/SUMPRODUCT($AJ43:$AX43,$AJ$5:$AX$5)","v":0},{"$f":"(AO43*AO$5)*$Y43/SUMPRODUCT($AJ43:$AX43,$AJ$5:$AX$5)","v":0},{"$f":"(AP43*AP$5)*$Y43/SUMPRODUCT($AJ43:$AX43,$AJ$5:$AX$5)","v":0},{"$f":"(AQ43*AQ$5)*$Y43/SUMPRODUCT($AJ43:$AX43,$AJ$5:$AX$5)","v":0},{"$f":"(AU43*AU$5)*$Y43/SUMPRODUCT($AJ43:$AX43,$AJ$5:$AX$5)","v":0},{"$f":"(AV43*AV$5)*$Y43/SUMPRODUCT($AJ43:$AX43,$AJ$5:$AX$5)","v":0},{"$f":"(AW43*AW$5)*$Y43/SUMPRODUCT($AJ43:$AX43,$AJ$5:$AX$5)","v":0},{"$f":"(AX43*AX$5)*$Y43/SUMPRODUCT($AJ43:$AX43,$AJ$5:$AX$5)","v":0}]
["si","no","no","no","si","si","si","si","si","no","no","si","si","no",null,null,null,null,null,null,{"$f":"IF(OR('DG '!F$27=\"Unifamiliar\",'DG '!F$27=\"Urbanizaciones\",'DG '!F$27=\"Vivienda en un edificio\",'DG '!F$27=\"Servicios de restauración\",'DG '!F$27=\"Edificios deportivos\",'DG '!F$27=\"Local o parte de un edificio\"),0,VLOOKUP(V44,CA!$E$9:$I$128,5,FALSE))","v":1},"AS 02","Espacios para la comunicación",1.8479607779753247E-2,{"$f":"'Informe resultados'!N59","v":0},1.9230769230769234,1.7831669044222544E-2,1,1,3,2,3,2,0.6875,1.9469026548672566E-2,null,null,null,null,null,null,null,3,3,3,null,null,null,2,null,null,0,0,0,0,0,0,0,5.0398930308417945E-3,0,0,3.359928687227863E-3,0,0,3.359928687227863E-3,0,null,0,0,0,0,0,0,0,0,0,0,0,0,0,0,0]
["si","si","si","si","no","no","no","no","si","no","no","si","no","si",null,null,null,null,null,null,{"$f":"IF(OR('DG '!F$27=\"Servicios de restauración\",'DG '!F$27=\"Edificios deportivos\",'DG '!F$27=\"Local o parte de un edificio\"),0,VLOOKUP(V45,CA!$E$9:$I$128,5,FALSE))","v":1},"AS 03","Derecho al sol",1.7429017833090893E-2,{"$f":"'Informe resultados'!N60","v":0},1.9230769230769231,1.783166904422254E-2,1,1,3,3,3,1,0.59375,1.6814159292035398E-2,null,null,null,null,null,null,null,null,2,3,1,null,null,3,null,null,0,0,0,0,0,0,0,0,0,0,5.5039003683444929E-3,0,0,5.5039003683444929E-3,0,null,0,0,0,0,0,0,0,0,0,0,0,0,0,0,0]
["si","si","si","si","no","no","no","no","si","no","no","no","no","si",null,null,null,null,null,null,{"$f":"IF(OR('DG '!F27=\"Edificios administrativos\",'DG '!F27=\"equipamiento público\",'DG '!F27=\"Edificios docentes\",'DG '!F27=\"Edificios comerciales\",'DG '!F27=\"Servicios de restauración\",'DG '!F27=\"Edificios deportivos\",'DG '!F27=\"Edificios sanitarios\",'DG '!F27=\"Industria ligera o logística\"),0,VLOOKUP(V46,CA!$E$9:$I$128,5,FALSE))","v":1},"AS 04","Derecho a la intimidad",1.6809439146597705E-2,{"$f":"'Informe resultados'!N61","v":0},2,1.8544935805991442E-2,1,1,3,3,3,2,0.5,1.415929203539823E-2,null,null,null,null,null,null,null,null,2,3,null,1,null,2,null,null,0,0,0,0,0,0,0,0,1.0505899466623566E-3,0,4.2023597866494263E-3,0,0,4.2023597866494263E-3,0,null,0,0,0,0,0,0,0,0,0,0,0,0,0,0,0]
["si","si","si","si","si","no","si","no","si","no","si","si","no","si",null,null,null,null,null,null,{"$f":"IF(OR('DG '!F27=\"equipamiento público\",'DG '!F27=\"Edificios comerciales\",'DG '!F27=\"Servicios de restauración\",'DG '!F27=\"Industria ligera o logística\"),0,VLOOKUP(V47,CA!$E$9:$I$128,5,FALSE))","v":1},"AS 05","Contacto visual con el exterior",1.7860029093260062E-2,{"$f":"'Informe resultados'!N62","v":0},2,1.8544935805991442E-2,1,1,3,3,3,2,0.59375,1.6814159292035398E-2,null,null,null,null,null,null,null,null,2,3,null,null,1,3,null,null,0,0,0,0,0,0,0,0,0,1.8800030624484276E-3,5.6400091873452822E-3,0,1.8800030624484276E-3,5.6400091873452822E-3,0,null,0,0,0,0,0,0,0,0,0,0,0,0,0,0,0]
["si","si","si","si","si","no","no","no","no","no","no","si","no","no",null,null,null,null,null,null,{"$f":"IF(OR('DG '!F27=\"equipamiento público\",'DG '!F27=\"Edificios docentes\",'DG '!F27=\"Edificios comerciales\",'DG '!F27=\"Alojamiento y hospedaje\",'DG '!F27=\"Servicios de restauración\",'DG '!F27=\"Edificios deportivos\",'DG '!F27=\"Industria ligera o logística\",'DG '!F27=\"local o parte de un edificio\"),0,VLOOKUP(V48,CA!$E$9:$I$128,5,FALSE))","v":1},"AS 06","Espacios abiertos privados",1.8210225742147514E-2,{"$f":"'Informe resultados'!N63","v":0},2,1.8544935805991442E-2,1,1,3,3,3,2,0.625,1.7699115044247787E-2,null,null,null,null,null,null,null,null,3,3,null,null,1,3,null,null,0,0,0,0,0,0,0,0,0,1.8210225742147513E-3,5.4630677226442537E-3,0,1.8210225742147513E-3,5.4630677226442537E-3,0,null,0,0,0,0,0,0,0,0,0,0,0,0,0,0,0]
["si","si","si","si","si","si","si","si","si","si","si","si","si","si",null,null,null,null,null,"NO",{"$f":"VLOOKUP(V49,CA!$E$9:$I$128,5,FALSE)","v":1},"AS 07","Diseño inclusivo",2.0742416895641401E-2,{"$f":"'Informe resultados'!N64","v":0},2.0769230769230771,1.9258202567760344E-2,1,1,3,3,3,3,0.8125,2.3008849557522124E-2,null,null,null,null,null,null,null,3,3,3,null,null,1,3,null,null,0,0,0,0,0,0,0,4.7867115913018616E-3,0,1.5955705304339539E-3,4.7867115913018616E-3,0,1.5955705304339539E-3,4.7867115913018616E-3,0,null,0,0,0,0,0,0,0,0,0,0,0,0,0,0,0]
["si","si","si","si","si","si","si","si","si","si","si","si","si","si",null,null,null,null,null,"NO",{"$f":"VLOOKUP(V50,CA!$E$9:$I$128,5,FALSE)","v":1},"AS 08","Conexión con la naturaleza",2.7342276816981845E-2,{"$f":"'Informe resultados'!N65","v":0},2.6923076923076925,2.4964336661911557E-2,2,3,3,2,3,3,1.09375,3.0973451327433628E-2,1,null,3,null,2,null,null,null,2,3,null,null,1,3,null,null,2.3436237271698725E-3,0,7.0308711815096174E-3,0,3.1248316362264966E-3,0,0,0,0,1.5624158181132483E-3,4.6872474543397449E-3,0,1.5624158181132483E-3,4.6872474543397449E-3,0,null,0,0,0,0,0,0,0,0,0,0,0,0,0,0,0]
["si","si","si","si","si","si","si","si","si","si","si","si","si","si",null,null,null,null,null,"NO",{"$f":"VLOOKUP(V51,CA!$E$9:$I$128,5,FALSE)","v":1},"AS 09","El edificio como herramienta de comunicación",1.9368568503852164E-2,{"$f":"'Informe resultados'!N66","v":0},2.7692307692307692,2.5677603423680459E-2,3,3,2,2,3,3,0.34375,9.7345132743362831E-3,1,null,null,null,null,null,null,null,null,null,3,null,1,null,null,null,5.2823368646869534E-3,0,0,0,0,0,0,0,0,3.5215579097913024E-3,0,0,3.5215579097913024E-3,0,0,null,0,0,0,0,0,0,0,0,0,0,0,0,0,0,0]
[null,null,null,null,null,null,null,null,null,null,null,null,null,null,null,null,null,null,null,null,"CE","Calidad de la edificación",null,{"$f":"SUM(X53:X59)","v":0.13786972684661389},null,null,{"$f":"SUM(AA53:AA59)","v":0.11340941512125537},null,null,null,null,null,null,null,{"$f":"SUM(AI53:AI59)","v":0.17522123893805308}]
["si","si","si","si","si","si","si","si","si","si","si","si","si","si",null,null,null,null,null,"NO",{"$f":"VLOOKUP(V53,CA!$E$9:$I$128,5,FALSE)","v":1},"CE 01","Diseño pasivo",{"$f":"($Z53+2*$AH53)/($Z$60+2*$AH$60)","v":2.9766715155433436E-2},{"$f":"'Informe resultados'!N67","v":0},{"$f":"IF($U53=1,SUMPRODUCT(AB53:AG53,AB$5:AG$5),\"0\")","v":3},{"$f":"IF($Z$60=0,0,$Z53/$Z$60)","v":2.7817403708987162E-2},3,3,3,3,3,3,{"$f":"IF($U53=1,SUMPRODUCT(AJ53:AX53,AJ$5:AX$5),\"0\")","v":1.15625},{"$f":"IF($AH$60=0,0,$AH53/$AH$60)","v":3.2743362831858407E-2},3,3,null,3,null,null,null,null,null,null,null,null,null,2,3,null,{"$f":"(AJ53*AJ$5)*$X53/SUMPRODUCT($AJ53:$AX53,$AJ$5:$AX$5)","v":7.2405523351054303E-3},4.8270348900702866E-3,0,7.2405523351054303E-3,0,0,0,0,{"$f":"(AU53*AU$5)*$X53/SUMPRODUCT($AJ53:$AX53,$AJ$5:$AX$5)","v":0},0,3.2180232600468582E-3,7.2405523351054303E-3,{"$f":"(AV53*AV$5)*$X53/SUMPRODUCT($AJ53:$AX53,$AJ$5:$AX$5)","v":0},3.2180232600468582E-3,7.2405523351054303E-3,null,{"$f":"(AJ53*AJ$5)*$Y53/SUMPRODUCT($AJ53:$AX53,$AJ$5:$AX$5)","v":0},0,0,0,0,0,0,0,{"$f":"(AO53*AO$5)*$Y53/SUMPRODUCT($AJ53:$AX53,$AJ$5:$AX$5)","v":0},0,0,{"$f":"(AU53*AU$5)*$Y53/SUMPRODUCT($AJ53:$AX53,$AJ$5:$AX$5)","v":0},0,0,0]
["no","no","no","no","si","si","si","si","si","si","si","si","si","si",null,null,null,null,null,null,{"$f":"IF(OR('DG '!F$27=\"Residencial colectivo\",'DG '!F$27=\"Unifamiliar\",'DG '!F$27=\"Urbanizaciones\",'DG '!F$27=\"Vivienda en un edificio\",'DG '!F$27=\"\"),0,VLOOKUP(V54,CA!$D$9:$I$128,5,FALSE))","v":0},"CE 02","Control parcial de los sistemas de clima",{"$f":"($Z54+2*$AH54)/($Z$60+2*$AH$60)","v":0},{"$f":"'Informe resultados'!N68","v":0},"0",0,3,3,3,3,3,3,"0",0,2,2,null,2,null,null,null,null,null,null,null,3,null,2,3,null,0,0,0,0,0,0,0,0,0,0,0,0,0,0,0,null,0,0,0,0,0,0,0,0,0,0,0,0,0,0,0]
["no","no","no","no","si","si","si","si","si","si","si","si","si","si",null,null,null,null,null,null,{"$f":"IF(OR('DG '!F$27=\"Residencial colectivo\",'DG '!F$27=\"Unifamiliar\",'DG '!F$27=\"Urbanizaciones\",'DG '!F$27=\"Vivienda en un edificio\",'DG '!F$27=\"\"),0,VLOOKUP(V55,CA!$D$9:$I$128,5,FALSE))","v":0},"CE 03","Control local de la iluminación",{"$f":"($Z55+2*$AH55)/($Z$60+2*$AH$60)","v":0},{"$f":"'Informe resultados'!N69","v":0},"0",0,3,3,2,1,3,1,"0",0,1,1,null,1,null,null,null,null,null,null,null,3,null,3,3,null,0,0,0,0,0,0,0,0,0,0,0,0,0,0,0,null,0,0,0,0,0,0,0,0,0,0,0,0,0,0,0]
["si","si","si","si","si","si","si","si","si","si","si","si","si","si",null,null,null,null,null,"NO",{"$f":"VLOOKUP(V56,CA!$E$9:$I$128,5,FALSE)","v":1},"CE 04","Calidad en la construcción",{"$f":"($Z56+(2*$AH56))/($Z$60+(2*$AH$60))","v":3.6501266095576745E-2},{"$f":"'Informe resultados'!N70","v":0},3.0769230769230771,2.8530670470756067E-2,2,2,3,2,5,5,1.71875,4.8672566371681415E-2,3,3,null,3,null,null,null,null,null,3,null,3,2,3,3,null,5.9729344520034677E-3,3.9819563013356448E-3,0,5.9729344520034677E-3,0,0,0,0,1.9909781506678224E-3,2.6546375342237634E-3,3.9819563013356448E-3,5.9729344520034677E-3,2.6546375342237634E-3,3.9819563013356448E-3,5.9729344520034677E-3,null,0,0,0,0,0,0,0,0,0,0,0,0,0,0,0]
["si","si","si","si","si","si","si","si","si","si","si","si","si","si",null,null,null,null,null,"NO",{"$f":"VLOOKUP(V57,CA!$E$9:$I$128,5,FALSE)","v":1},"CE 05","Puesta en marcha sistemática",{"$f":"($Z57+(2*$AH57))/($Z$60+(2*$AH$60))","v":3.7902052691126557E-2},{"$f":"'Informe resultados'!N71","v":0},3.0769230769230771,2.8530670470756067E-2,2,2,3,2,5,5,1.84375,5.2212389380530973E-2,3,3,null,3,2,null,null,null,null,3,null,3,2,3,3,null,{"$f":"(AJ57*AJ$5)*$X57/SUMPRODUCT($AJ57:$AX57,$AJ$5:$AX$5)","v":5.7816690545786278E-3},3.8544460363857513E-3,0,5.7816690545786278E-3,2.5696306909238345E-3,0,0,0,{"$f":"(AU57*AU$5)*$X57/SUMPRODUCT($AJ57:$AX57,$AJ$5:$AX$5)","v":1.9272230181928756E-3},2.5696306909238345E-3,3.8544460363857513E-3,5.7816690545786278E-3,{"$f":"(AV57*AV$5)*$X57/SUMPRODUCT($AJ57:$AX57,$AJ$5:$AX$5)","v":2.5696306909238345E-3},3.8544460363857513E-3,5.7816690545786278E-3,null,{"$f":"(AJ57*AJ$5)*$Y57/SUMPRODUCT($AJ57:$AX57,$AJ$5:$AX$5)","v":0},0,0,0,0,0,0,0,{"$f":"(AO57*AO$5)*$Y57/SUMPRODUCT($AJ57:$AX57,$AJ$5:$AX$5)","v":0},0,0,{"$f":"(AU57*AU$5)*$Y57/SUMPRODUCT($AJ57:$AX57,$AJ$5:$AX$5)","v":0},0,0,0]
["si","si","si","si","si","si","si","si","si","si","si","si","si","si",null,null,null,null,null,"NO",{"$f":"VLOOKUP(V58,CA!$E$9:$I$128,5,FALSE)","v":1},"CE 06","Custodia de la documentación del proyecto",{"$f":"($Z58+(2*$AH58))/($Z$60+(2*$AH$60))","v":3.3699692904477128E-2},{"$f":"'Informe resultados'!N72","v":0},3.0769230769230771,2.8530670470756067E-2,2,2,3,2,5,5,1.46875,4.15929203539823E-2,2,2,null,2,null,null,null,null,null,3,null,3,2,3,3,null,4.3020884558906966E-3,2.8680589705937982E-3,0,4.3020884558906966E-3,0,0,0,0,2.1510442279453483E-3,2.8680589705937982E-3,4.3020884558906966E-3,6.4531326838360454E-3,2.8680589705937982E-3,4.3020884558906966E-3,6.4531326838360454E-3,null,0,0,0,0,0,0,0,0,0,0,0,0,0,0,0]
["no","no","no","si","no","no","no","no","no","no","no","no","no","si",null,null,null,null,null,null,{"$f":"IF(OR('DG '!F$27=\"Vivienda en un edificio\",'DG '!F$27=\"Parte de un edificio\"),VLOOKUP(V59,CA!$E$9:$I$128,5,FALSE),0)","v":0},"CE 07","Certificaciones voluntarias de edificios",{"$f":"($Z59+(2*$AH59))/($Z$60+(2*$AH$60))","v":0},{"$f":"'Informe resultados'!N73","v":0},"0",0,3,3,5,2,5,1,"0",0,3,3,null,2,null,null,null,null,null,3,null,2,2,3,1,null,0,0,0,0,0,0,0,0,0,0,0,0,0,0,0,null,0,0,0,0,0,0,0,0,0,0,0,0,0,0,0]
[null,null,null,null,null,null,null,null,null,null,null,null,null,null,null,null,null,null,null,null,null,null,null,{"$f":"SUM(X6:X59)","v":1.9999999999999998},null,{"$f":"SUM(Z7:Z59)","v":107.84615384615384},{"$f":"SUM(AA6:AA59)","v":2.0000000000000013},null,null,null,null,null,null,{"$f":"SUM(AH7:AH59)","v":35.3125},{"$f":"SUM(AI6:AI59)","v":1.9999999999999996},{"$f":"SUM(AJ7:AJ59)","v":63},57,29,32,24,20,17,19,34,74,17,21,13,101,56,null,{"$f":"SUM(AZ7:AZ59)","v":0.14795138941571548},7.7947457598724054E-2,7.7398838494817365E-2,6.007348046660782E-2,3.9605717379724834E-2,4.6519650411036555E-2,1.8307097108600193E-2,3.1472381435198454E-2,9.9509963977148803E-3,1.8472897090743082E-2,0.14394291447724286,0.11422620766869426,1.8472897090743082E-2,0.14394291447724286,0.11422620766869426,null,{"$f":"SUM(BP7:BP59)","v":0},0,0,0,0,0,0,0,0,0,0,0,0,0,0,null,{"$f":"SUM(AZ60:BN60)","v":1.0625110471815}]
[null,null,null,null,null,null,null,null,null,null,null,null,null,null,null,null,null,null,null,null,null,null,null,null,null,null,null,null,null,null,null,null,null,null,null,{"$f":"SUM(AJ7:AJ59)*AJ5","v":5.90625},3.5625,2.71875,3,1.5,1.25,0.53125,1.1875,1.0625,6.9375,1.0625,0.65625,0.8125,6.3125,5.25,null,1.3870442757723325E-2,4.8717160999202534E-3,7.2561411088891276E-3,5.6318887937444832E-3,2.4753573362328021E-3,2.9074781506897847E-3,5.7209678464375602E-4,1.9670238396999034E-3,3.1096863742859001E-4,1.7318341022571639E-3,8.9964321548276788E-3,3.5695689896466957E-3,1.1545560681714426E-3,8.9964321548276788E-3,1.0708706968940086E-2,null,0,0,0,0,0,0,0,0,0,0,0,0,0,0,0]

{"sheet":"Revisión","index":6,"n_rows":572,"n_cols":32,"rows_kept":572,"cut":false,"hidden":true,"merged":[[8,11,8,19],[1,1,1,21],[2,1,2,21],[3,3,3,4],[3,5,3,6],[3,7,3,8],[3,9,3,10],[3,11,3,12],[25,7,25,9],[25,11,26,19],[28,7,28,9],[28,11,29,19],[35,11,35,19],[37,7,37,9],[37,11,38,19],[10,7,10,9],[10,11,11,19],[13,7,13,9],[13,11,14,19],[20,11,20,19],[22,7,22,9],[22,11,23,19],[40,7,40,9],[40,11,41,19],[43,7,43,9],[43,11,44,19],[47,3,47,4],[47,5,47,6],[47,7,47,8],[47,9,47,10],[47,11,47,12],[63,7,63,9],[63,11,64,19],[66,7,66,9],[66,11,67,19],[69,7,69,9],[69,11,70,19],[52,11,52,19],[54,7,54,9],[54,11,55,19],[57,7,57,9],[57,11,58,19],[60,7,60,9],[60,11,61,19],[76,11,76,19],[78,7,78,9],[78,11,79,19],[81,7,81,9],[81,11,82,19],[85,3,85,4],[85,5,85,6],[85,7,85,8],[85,9,85,10],[85,11,85,12],[101,7,101,9],[101,11,102,19],[117,3,117,4],[117,5,117,6],[117,7,117,8],[117,9,117,10],[117,11,117,12],[90,11,90,19],[92,7,92,9],[92,11,93,19],[95,7,95,9],[95,11,96,19],[98,7,98,9],[98,11,99,19],[108,11,108,19],[110,7,110,9],[110,11,111,19],[113,7,113,9],[113,11,114,19],[147,3,147,4],[147,5,147,6],[147,7,147,8],[147,9,147,10],[147,11,147,12],[123,11,123,19],[125,7,125,9],[125,11,126,19],[128,7,128,9],[128,11,129,19],[131,7,131,9],[131,11,132,19],[152,11,152,19],[154,7,154,9],[154,11,155,19],[157,7,157,9],[157,11,158,19],[160,7,160,9],[160,11,161,19],[134,7,134,9],[134,11,135,19],[141,11,141,19],[143,7,143,9],[143,11,144,19],[181,7,181,9],[181,11,182,19],[184,7,184,9],[184,11,185,19],[187,7,187,9],[187,11,188,19],[163,7,163,9],[163,11,164,19],[170,11,170,19],[172,7,172,9],[172,11,173,19],[179,11,179,19],[219,3,219,4],[219,5,219,6],[219,7,219,8],[219,9,219,10],[219,11,219,12],[194,11,194,19],[196,7,196,9],[196,11,197,19],[203,11,203,19],[205,7,205,9],[205,11,206,19],[224,11,224,19],[226,7,226,9],[226,11,227,19],[229,7,229,9],[229,11,230,19],[232,7,232,9],[232,11,233,19],[212,11,212,19],[214,7,214,9],[214,11,215,19],[269,11,269,19],[271,7,271,9],[271,11,272,19],[274,7,274,9],[274,11,275,19],[277,7,277,9],[277,11,278,19],[239,11,239,19],[241,7,241,9],[241,11,242,19],[244,7,244,9],[244,11,245,19],[247,7,247,9],[247,11,248,19],[254,11,254,19],[256,7,256,9],[256,11,257,19],[259,7,259,9],[259,11,260,19],[262,7,262,9],[262,11,263,19],[298,7,298,9],[298,11,299,19],[301,7,301,9],[301,11,302,19],[308,11,308,19],[310,7,310,9],[310,11,311,19],[280,7,280,9],[280,11,281,19],[287,11,287,19],[289,7,289,9],[289,11,290,19],[296,11,296,19],[332,11,332,19],[334,7,334,9],[334,11,335,19],[337,7,337,9],[337,11,338,19],[344,11,344,19],[313,7,313,9],[313,11,314,19],[320,11,320,19],[322,7,322,9],[322,11,323,19],[325,7,325,9],[325,11,326,19],[355,7,355,9],[355,11,356,19],[358,7,358,9],[358,11,359,19],[365,11,365,19],[367,7,367,9],[367,11,368,19],[346,7,346,9],[346,11,347,19],[349,7,349,9],[349,11,350,19],[352,7,352,9],[352,11,353,19],[370,7,370,9],[370,11,371,19],[373,7,373,9],[373,11,374,19],[377,3,377,4],[377,5,377,6],[377,7,377,8],[377,9,377,10],[377,11,377,12],[396,7,396,9],[396,11,397,19],[399,7,399,9],[399,11,400,19],[402,7,402,9],[402,11,403,19],[382,11,382,19],[384,7,384,9],[384,11,385,19],[387,7,387,9],[387,11,388,19],[394,11,394,19],[420,7,420,9],[420,11,421,19],[427,11,427,19],[429,7,429,9],[429,11,430,19],[432,7,432,9],[432,11,433,19],[405,7,405,9],[405,11,406,19],[408,7,408,9],[408,11,409,19],[415,11,415,19],[417,7,417,9],[417,11,418,19],[454,11,454,19],[456,7,456,9],[456,11,457,19],[459,7,459,9],[459,11,460,19],[462,7,462,9],[462,11,463,19],[435,7,435,9],[435,11,436,19],[442,11,442,19],[444,7,444,9],[444,11,445,19],[447,7,447,9],[447,11,448,19],[472,3,472,4],[472,5,472,6],[472,7,472,8],[472,9,472,10],[472,11,472,12],[465,7,465,9],[465,11,466,19],[468,7,468,9],[468,11,469,19],[488,7,488,9],[488,11,489,19],[491,7,491,9],[491,11,492,19],[498,11,498,19],[500,7,500,9],[500,11,501,19],[477,11,477,19],[479,7,479,9],[479,11,480,19],[482,7,482,9],[482,11,483,19],[485,7,485,9],[485,11,486,19],[518,7,518,9],[518,11,519,19],[521,7,521,9],[521,11,522,19],[527,9,527,11],[527,13,527,15],[527,17,527,19],[503,7,503,9],[503,11,504,19],[506,7,506,9],[506,11,507,19],[513,11,513,19],[515,7,515,9],[515,11,516,19],[529,5,529,7],[529,9,529,11],[529,13,529,15],[529,17,529,19],[532,3,532,4],[532,5,532,6],[532,7,532,8],[532,9,532,10],[532,11,532,12],[547,11,547,19],[549,3,549,4],[549,7,549,9],[549,11,550,19],[552,11,552,19],[554,3,554,4],[554,7,554,9],[554,11,555,19],[537,11,537,19],[539,3,539,4],[539,7,539,9],[539,11,540,19],[542,11,542,19],[544,3,544,4],[544,7,544,9],[544,11,545,19],[566,5,566,7],[566,9,566,11],[566,13,566,15],[566,17,566,19],[569,2,569,5],[569,6,569,8],[557,11,557,19],[559,3,559,4],[559,7,559,9],[559,11,560,19],[564,9,564,11],[564,13,564,15],[564,17,564,19]]}
[]
[null,"VERDE W Residencial",null,null,null,null,null,null,null,null,null,null,null,null,null,null,null,null,null,null,null,null,null,null,"SEGURO"]
[null,"REVISIÓN",null,null,null,null,null,null,null,null,null,null,null,null,null,null,null,null,null,null,null,null,null,null,"EN REVISIÓN"]
[null,{"$f":"'Matriz VERDE-GBCe'!U6","v":"PE"},null,{"$f":"VLOOKUP($B4,'Matriz VERDE-GBCe'!$U$6:$V$61,2,FALSE)","v":"Parcela y emplazamiento"},{"$f":"VLOOKUP($D4,'Matriz VERDE-GBCe'!$V$6:$AH$61,2,FALSE)","v":0},null,null,null,null,null,null,null,null,null,null,null,null,null,null,null,null,null,null,null,"NO CUMPLE"]
[]
[]
[null,null,null,{"$f":"'Matriz VERDE-GBCe'!V7","v":"PE 01"},{"$f":"VLOOKUP($D7,'Matriz VERDE-GBCe'!$V$6:$AH$61,2,FALSE)","v":"Proximidad al transporte publico."},{"$f":"VLOOKUP($D7,'Matriz VERDE-GBCe'!$V$6:$Y$61,5,FALSE)","v":{"$error":"#REF!"}},null,null,null,null,null,null,null,null,null,null,null,null,null,null,null,null,null,null,"Target","SEGURO",null,"EN REVISIÓN",null,"NO CUMPLE",null,"NO APLICA"]
[]
[null,null,null,"D.J","Fecha de entrega del archivo"]
[]
[null,null,null,"AA 01.1","Mantenimiento de corredores naturales",null,null,null,null,null,null,null,null,null,null,null,null,null,null,null,null,null,null,null,{"$f":"IF(AF11=0,1,0)","v":1},{"$f":"+IF($H11=\"seguro\",$Y11,0)","v":0},null,{"$f":"+IF($H11=\"EN REVISIÓN\",$Y11,0)","v":0},null,{"$f":"+IF($H11=\"NO CUMPLE\",$Y11,0)","v":0},null,{"$f":"+IF($H11=\"no aplica\",2,0)","v":0}]
[]
[]
[null,null,null,"AA 01.2","Medidas de protección de la biodiversidad",null,null,null,null,null,null,null,null,null,null,null,null,null,null,null,null,null,null,null,{"$f":"IF(AF14=0,1,0)","v":1},{"$f":"+IF($H14=\"seguro\",$Y14,0)","v":0},null,{"$f":"+IF($H14=\"EN REVISIÓN\",$Y14,0)","v":0},null,{"$f":"+IF($H14=\"NO CUMPLE\",$Y14,0)","v":0},null,{"$f":"+IF($H14=\"no aplica\",2,0)","v":0}]
[]
[null,null,null,null,null,null,null,null,null,null,null,null,null,null,null,null,null,null,null,null,null,null,null,null,{"$f":"SUM(Y11:Y14)","v":2},{"$f":"IF($F7=\"\",0,SUM(Z11:Z14)*$F7/$Y16)","v":{"$error":"#REF!"}},null,{"$f":"IF($F7=\"\",0,SUM(AB11:AB14)*$F7/$Y16)","v":{"$error":"#REF!"}},null,{"$f":"IF($F7=\"\",0,SUM(AD11:AD14)*$F7/$Y16)","v":{"$error":"#REF!"}}]
[]
[]
[null,null,null,{"$f":"'Matriz VERDE-GBCe'!V11","v":"PE 05"},{"$f":"VLOOKUP($D19,'Matriz VERDE-GBCe'!$V$6:$AH$61,2,FALSE)","v":"Clasificación de RSU."},4.1597337770382714E-2,null,null,null,null,null,"NOTAS",null,null,null,null,null,null,null,null,null,null,null,null,"Target","SEGURO",null,"EN REVISIÓN",null,"NO CUMPLE",null,"NO APLICA"]
[]
[null,null,null,"D.J","Fecha del archivo"]
[]
[null,null,null,"AA 02.1","20% de superficie ajardinada con plantas autóctonas o adaptadas",null,null,null,null,null,null,null,null,null,null,null,null,null,null,null,null,null,null,null,{"$f":"IF(AF23=0,0.4,0)","v":0.4},{"$f":"+IF($H23=\"seguro\",$Y23,0)","v":0},null,{"$f":"+IF($H23=\"EN REVISIÓN\",$Y23,0)","v":0},null,{"$f":"+IF($H23=\"NO CUMPLE\",$Y23,0)","v":0},null,{"$f":"+IF($H23=\"no aplica\",2,0)","v":0}]
[]
[]
[null,null,null,"AA 02.2","Existe un estudio previo del terreno",null,null,null,null,null,null,null,null,null,null,null,null,null,null,null,null,null,null,null,{"$f":"IF(AF26=0,0.3,0)","v":0.3},{"$f":"+IF($H26=\"seguro\",$Y26,0)","v":0},null,{"$f":"+IF($H26=\"EN REVISIÓN\",$Y26,0)","v":0},null,{"$f":"+IF($H26=\"NO CUMPLE\",$Y26,0)","v":0},null,{"$f":"+IF($H26=\"no aplica\",2,0)","v":0}]
[]
[]
[null,null,null,"AA 02.3","Se supera en un 10% las superficies ajardinadas fijadas por normativa",null,null,null,null,null,null,null,null,null,null,null,null,null,null,null,null,null,null,null,{"$f":"IF(AF29=0,0.3,0)","v":0.3},{"$f":"+IF($H29=\"seguro\",$Y29,0)","v":0},null,{"$f":"+IF($H29=\"EN REVISIÓN\",$Y29,0)","v":0},null,{"$f":"+IF($H29=\"NO CUMPLE\",$Y29,0)","v":0},null,{"$f":"+IF($H29=\"no aplica\",2,0)","v":0}]
[]
[null,null,null,null,null,null,null,null,null,null,null,null,null,null,null,null,null,null,null,null,null,null,null,null,{"$f":"SUM(Y23:Y29)","v":1},{"$f":"IF($F19=\"\",0,SUM(Z22:Z29)*$F19/$Y31)","v":0},null,{"$f":"IF($F19=\"\",0,SUM(AB22:AB29)*$F19/$Y31)","v":0},null,{"$f":"IF($F19=\"\",0,SUM(AD22:AD29)*$F19/$Y31)","v":0}]
[]
[]
[null,null,null,{"$f":"'Matriz VERDE-GBCe'!V15","v":"PE 09"},{"$f":"VLOOKUP($D34,'Matriz VERDE-GBCe'!$V$6:$AH$61,2,FALSE)","v":"Contaminación lumínica."},{"$f":"VLOOKUP($D34,'Matriz VERDE-GBCe'!$V$6:$AH$61,6,FALSE)","v":1.8544935805991442E-2},null,null,null,null,null,"NOTAS",null,null,null,null,null,null,null,null,null,null,null,null,"Target","SEGURO",null,"EN REVISIÓN",null,"NO CUMPLE",null,"NO APLICA"]
[]
[null,null,null,"D.J","Fecha del archivo"]
[]
[null,null,null,"AA 03.1","Valor ecológico previo de la zona",null,null,null,null,null,null,null,null,null,null,null,null,null,null,null,null,null,null,null,{"$f":"IF(AF38=0,0.4,0)","v":0.4},{"$f":"+IF($H38=\"seguro\",$Y38,0)","v":0},null,{"$f":"+IF($H38=\"EN REVISIÓN\",$Y38,0)","v":0},null,{"$f":"+IF($H38=\"NO CUMPLE\",$Y38,0)","v":0},null,{"$f":"+IF($H38=\"no aplica\",2,0)","v":0}]
[]
[]
[null,null,null,"AA 03.2","Implantación sobre terrenos ya urbanizados",null,null,null,null,null,null,null,null,null,null,null,null,null,null,null,null,null,null,null,{"$f":"IF(AF41=0,0.3,0)","v":0.3},{"$f":"+IF($H41=\"seguro\",$Y41,0)","v":0},null,{"$f":"+IF($H41=\"EN REVISIÓN\",$Y41,0)","v":0},null,{"$f":"+IF($H41=\"NO CUMPLE\",$Y41,0)","v":0},null,{"$f":"+IF($H41=\"no aplica\",2,0)","v":0}]
[]
[]
[null,null,null,"AA 03.3","Estudio previo de la contaminación del suelo",null,null,null,null,null,null,null,null,null,null,null,null,null,null,null,null,null,null,null,{"$f":"IF(AF44=0,0.3,0)","v":0.3},{"$f":"+IF($H44=\"seguro\",$Y44,0)","v":0},null,{"$f":"+IF($H44=\"EN REVISIÓN\",$Y44,0)","v":0},null,{"$f":"+IF($H44=\"NO CUMPLE\",$Y44,0)","v":0},null,{"$f":"+IF($H44=\"no aplica\",2,0)","v":0}]
[]
[null,null,null,null,null,null,null,null,null,null,null,null,null,null,null,null,null,null,null,null,null,null,null,null,{"$f":"SUM(Y38:Y44)","v":1},{"$f":"IF($F34=\"\",0,SUM(Z37:Z44)*$F34/$Y46)","v":0},null,{"$f":"IF($F34=\"\",0,SUM(AB37:AB44)*$F34/$Y46)","v":0},null,{"$f":"IF($F34=\"\",0,SUM(AD37:AD44)*$F34/$Y46)","v":0}]
[]
[null,null,null,{"$f":"'Matriz VERDE-GBCe'!V16","v":"Energía y atmósfera"}]
[]
[]
[null,null,null,{"$f":"'Matriz VERDE-GBCe'!V17","v":"EA 00"},{"$f":"VLOOKUP($D51,'Matriz VERDE-GBCe'!$V$6:$AH$61,2,FALSE)","v":"Demanda de calefacción y refrigeración"},{"$f":"VLOOKUP($D51,'Matriz VERDE-GBCe'!$V$6:$AH$61,6,FALSE)","v":0},null,null,null,null,null,"NOTAS",null,null,null,null,null,null,null,null,null,null,null,null,"Target","SEGURO",null,"EN REVISIÓN",null,"NO CUMPLE",null,"NO APLICA"]
[]
[null,null,null,"D.J","Fecha del archivo"]
[]
[null,null,null,"AA 05.1","El Índice de calificación energética es D",null,null,null,null,null,null,null,null,null,null,null,null,null,null,null,null,null,null,null,{"$f":"IF(AF55=0,0.1,0)","v":0.1},{"$f":"+IF($H55=\"seguro\",$Y55,0)","v":0},null,{"$f":"+IF($H55=\"EN REVISIÓN\",$Y55,0)","v":0},null,{"$f":"+IF($H55=\"NO CUMPLE\",$Y55,0)","v":0},null,{"$f":"+IF($H55=\"no aplica\",2,0)","v":0}]
[]
[]
[null,null,null,"AA 05.2","El Índice de calificación energética es C",null,null,null,null,null,null,null,null,null,null,null,null,null,null,null,null,null,null,null,{"$f":"IF(AF58=0,0.2,0)","v":0.2},{"$f":"+IF($H58=\"seguro\",$Y58,0)","v":0},null,{"$f":"+IF($H58=\"EN REVISIÓN\",$Y58,0)","v":0},null,{"$f":"+IF($H58=\"NO CUMPLE\",$Y58,0)","v":0},null,{"$f":"+IF($H58=\"no aplica\",2,0)","v":0}]
[]
[]
[null,null,null,"AA 05.3","El Índice de calificación energética es B",null,null,null,null,null,null,null,null,null,null,null,null,null,null,null,null,null,null,null,0.5,{"$f":"+IF($H61=\"seguro\",$Y61,0)","v":0},null,{"$f":"+IF($H61=\"EN REVISIÓN\",$Y61,0)","v":0},null,{"$f":"+IF($H61=\"NO CUMPLE\",$Y61,0)","v":0},null,{"$f":"+IF($H61=\"no aplica\",2,0)","v":0}]
[]
[]
[null,null,null,"AA 05.4","El Índice de calificación energética es A",null,null,null,null,null,null,null,null,null,null,null,null,null,null,null,null,null,null,null,0.7,{"$f":"+IF($H64=\"seguro\",$Y64,0)","v":0},null,{"$f":"+IF($H64=\"EN REVISIÓN\",$Y64,0)","v":0},null,{"$f":"+IF($H64=\"NO CUMPLE\",$Y64,0)","v":0},null,{"$f":"+IF($H64=\"no aplica\",2,0)","v":0}]
[]
[]
[null,null,null,"AA 05.5","Se utilizan equipos de bombeo eficientes",null,null,null,null,null,null,null,null,null,null,null,null,null,null,null,null,null,null,null,{"$f":"IF(AF67=0,0.2,0)","v":0.2},{"$f":"+IF($H67=\"seguro\",$Y67,0)","v":0},null,{"$f":"+IF($H67=\"EN REVISIÓN\",$Y67,0)","v":0},null,{"$f":"+IF($H67=\"NO CUMPLE\",$Y67,0)","v":0},null,{"$f":"+IF($H67=\"no aplica\",2,0)","v":0}]
[]
[]
[null,null,null,"AA 05.6","Medidas de telecontrol para gestionart los sistemas de bombeo",null,null,null,null,null,null,null,null,null,null,null,null,null,null,null,null,null,null,null,{"$f":"IF(AF70=0,0.1,0)","v":0.1},{"$f":"+IF($H70=\"seguro\",$Y70,0)","v":0},null,{"$f":"+IF($H70=\"EN REVISIÓN\",$Y70,0)","v":0},null,{"$f":"+IF($H70=\"NO CUMPLE\",$Y70,0)","v":0},null,{"$f":"+IF($H70=\"no aplica\",2,0)","v":0}]
[]
[null,null,null,null,null,null,null,null,null,null,null,null,null,null,null,null,null,null,null,null,null,null,null,null,{"$f":"SUM(Y63:Y70)","v":0.99999999999999989},{"$f":"IF($F51=\"\",0,SUM(Z55:Z70)*$F51/$Y72)","v":0},null,{"$f":"IF($F51=\"\",0,SUM(AB55:AB70)*$F51/$Y72)","v":0},null,{"$f":"IF($F51=\"\",0,SUM(AD55:AD70)*$F51/$Y72)","v":0}]
[]
[]
[null,null,null,{"$f":"'Matriz VERDE-GBCe'!V22","v":"EA 04"},{"$f":"VLOOKUP($D75,'Matriz VERDE-GBCe'!$V$6:$AH$61,2,FALSE)","v":"Elección responsable de refrigerantes"},{"$f":"VLOOKUP($D75,'Matriz VERDE-GBCe'!$V$6:$AH$61,6,FALSE)","v":3.0670470756062773E-2},null,null,null,null,null,"NOTAS",null,null,null,null,null,null,null,null,null,null,null,null,"Target","SEGURO",null,"EN REVISIÓN",null,"NO CUMPLE",null,"NO APLICA"]
[]
[null,null,null,"D.J","Fecha del archivo"]
[]
[null,null,null,"AA 06.1","Estudio previo de implantación de renovables",null,null,null,null,null,null,null,null,null,null,null,null,null,null,null,null,null,null,null,0.4,{"$f":"+IF($H79=\"seguro\",$Y79,0)","v":0},null,{"$f":"+IF($H79=\"EN REVISIÓN\",$Y79,0)","v":0},null,{"$f":"+IF($H79=\"NO CUMPLE\",$Y79,0)","v":0},null,{"$f":"+IF($H79=\"no aplica\",2,0)","v":0}]
[]
[]
[null,null,null,"AA 06.2","Sistema de producción y distribución de energía cumunitario",null,null,null,null,null,null,null,null,null,null,null,null,null,null,null,null,null,null,null,0.6,{"$f":"+IF($H82=\"seguro\",$Y82,0)","v":0},null,{"$f":"+IF($H82=\"EN REVISIÓN\",$Y82,0)","v":0},null,{"$f":"+IF($H82=\"NO CUMPLE\",$Y82,0)","v":0},null,{"$f":"+IF($H82=\"no aplica\",2,0)","v":0}]
[]
[null,null,null,null,null,null,null,null,null,null,null,null,null,null,null,null,null,null,null,null,null,null,null,null,{"$f":"SUM(Y79:Y82)","v":1},{"$f":"IF($F75=\"\",0,SUM(Z79:Z82)*$F75/$Y84)","v":0},null,{"$f":"IF($F75=\"\",0,SUM(AB79:AB82)*$F75/$Y84)","v":0},null,{"$f":"IF($F75=\"\",0,SUM(AD79:AD82)*$F75/$Y84)","v":0}]
[]
[null,null,null,{"$f":"'Matriz VERDE-GBCe'!V23","v":"Recursos naturales"}]
[]
[]
[null,null,null,{"$f":"'Matriz VERDE-GBCe'!V24","v":"RN 01"},{"$f":"VLOOKUP($D89,'Matriz VERDE-GBCe'!$V$6:$AH$61,2,FALSE)","v":"Consumo de agua en aparatos sanitarios"},{"$f":"VLOOKUP($D89,'Matriz VERDE-GBCe'!$V$6:$AH$61,6,FALSE)","v":2.2111269614835949E-2},null,null,null,null,null,"NOTAS",null,null,null,null,null,null,null,null,null,null,null,null,"Target","SEGURO",null,"EN REVISIÓN",null,"NO CUMPLE",null,"NO APLICA"]
[]
[null,null,null,"D.J","Fecha del archivo"]
[]
[null,null,null,"AA 07.1","Las necesidades de riego se reducen en un 20%",null,null,null,null,null,null,null,null,null,null,null,null,null,null,null,null,null,null,null,{"$f":"IF(AF93=0,0.15,0)","v":0.15},{"$f":"+IF($H93=\"seguro\",$Y93,0)","v":0},null,{"$f":"+IF($H93=\"EN REVISIÓN\",$Y93,0)","v":0},null,{"$f":"+IF($H93=\"NO CUMPLE\",$Y93,0)","v":0},null,{"$f":"+IF($H93=\"no aplica\",2,0)","v":0}]
[]
[]
[null,null,null,"AA 07.2","Las necesidades de riego se reducen en un 50%",null,null,null,null,null,null,null,null,null,null,null,null,null,null,null,null,null,null,null,{"$f":"IF(AF96=0,0.25,0)","v":0.25},{"$f":"+IF($H96=\"seguro\",$Y96,0)","v":0},null,{"$f":"+IF($H96=\"EN REVISIÓN\",$Y96,0)","v":0},null,{"$f":"+IF($H96=\"NO CUMPLE\",$Y96,0)","v":0},null,{"$f":"+IF($H96=\"no aplica\",2,0)","v":0}]
[]
[]
[null,null,null,"AA 07.3","Sistema de monitorización para gestionar el consumo de agua",null,null,null,null,null,null,null,null,null,null,null,null,null,null,null,null,null,null,null,{"$f":"IF(AF99=0,0.3,0)","v":0.3},{"$f":"+IF($H99=\"seguro\",$Y99,0)","v":0},null,{"$f":"+IF($H99=\"EN REVISIÓN\",$Y99,0)","v":0},null,{"$f":"+IF($H99=\"NO CUMPLE\",$Y99,0)","v":0},null,{"$f":"+IF($H99=\"no aplica\",2,0)","v":0}]
[]
[]
[null,null,null,"AA 07.4","Se reaprovechas las aguas pluviales y/o grises",null,null,null,null,null,null,null,null,null,null,null,null,null,null,null,null,null,null,null,{"$f":"IF(AF102=0,0.3,0)","v":0.3},{"$f":"+IF($H102=\"seguro\",$Y102,0)","v":0},null,{"$f":"+IF($H102=\"EN REVISIÓN\",$Y102,0)","v":0},null,{"$f":"+IF($H102=\"NO CUMPLE\",$Y102,0)","v":0},null,{"$f":"+IF($H102=\"no aplica\",2,0)","v":0}]
[]
[null,null,null,null,null,null,null,null,null,null,null,null,null,null,null,null,null,null,null,null,null,null,null,null,{"$f":"SUM(Y93:Y102)","v":1},{"$f":"IF($F89=\"\",0,SUM(Z93:Z102)*$F89/$Y104)","v":0},null,{"$f":"IF($F89=\"\",0,SUM(AB93:AB102)*$F89/$Y104)","v":0},null,{"$f":"IF($F89=\"\",0,SUM(AD93:AD102)*$F89/$Y104)","v":0}]
[]
[]
[null,null,null,{"$f":"'Matriz VERDE-GBCe'!V35","v":"RN 12"},{"$f":"VLOOKUP($D107,'Matriz VERDE-GBCe'!$V$6:$AH$61,2,FALSE)","v":"Ecoetiquetado de producto."},{"$f":"VLOOKUP($D107,'Matriz VERDE-GBCe'!$V$6:$AH$61,6,FALSE)","v":2.4964336661911557E-2},null,null,null,null,null,"NOTAS",null,null,null,null,null,null,null,null,null,null,null,null,"Target","SEGURO",null,"EN REVISIÓN",null,"NO CUMPLE",null,"NO APLICA"]
[]
[null,null,null,"D.J","Fecha del archivo"]
[]
[null,null,null,"AA 06.1","Estudio previo de implantación de renovables",null,null,null,null,null,null,null,null,null,null,null,null,null,null,null,null,null,null,null,0.4,{"$f":"+IF($H111=\"seguro\",$Y111,0)","v":0},null,{"$f":"+IF($H111=\"EN REVISIÓN\",$Y111,0)","v":0},null,{"$f":"+IF($H111=\"NO CUMPLE\",$Y111,0)","v":0},null,{"$f":"+IF($H111=\"no aplica\",2,0)","v":0}]
[]
[]
[null,null,null,"AA 06.2","Sistema de producción y distribución de energía cumunitario",null,null,null,null,null,null,null,null,null,null,null,null,null,null,null,null,null,null,null,0.6,{"$f":"+IF($H114=\"seguro\",$Y114,0)","v":0},null,{"$f":"+IF($H114=\"EN REVISIÓN\",$Y114,0)","v":0},null,{"$f":"+IF($H114=\"NO CUMPLE\",$Y114,0)","v":0},null,{"$f":"+IF($H114=\"no aplica\",2,0)","v":0}]
[]
[null,null,null,null,null,null,null,null,null,null,null,null,null,null,null,null,null,null,null,null,null,null,null,null,{"$f":"SUM(Y111:Y114)","v":1},{"$f":"IF($F107=\"\",0,SUM(Z111:Z114)*$F107/$Y116)","v":0},null,{"$f":"IF($F107=\"\",0,SUM(AB111:AB114)*$F107/$Y116)","v":0},null,{"$f":"IF($F107=\"\",0,SUM(AD111:AD114)*$F107/$Y116)","v":0}]
[]
[null,null,null,{"$f":"'Matriz VERDE-GBCe'!V36","v":"Ambiente Interior."}]
[]
[]
[]
[null,null,null,{"$f":"'Matriz VERDE-GBCe'!V37","v":"AI 01"},{"$f":"VLOOKUP($D122,'Matriz VERDE-GBCe'!$V$6:$AH$61,2,FALSE)","v":"Limitación de las emisiones de COVs"},{"$f":"VLOOKUP($D122,'Matriz VERDE-GBCe'!$V$6:$AH$61,6,FALSE)","v":1.8544935805991442E-2},null,null,null,null,null,"NOTAS",null,null,null,null,null,null,null,null,null,null,null,null,"Target","SEGURO",null,"EN REVISIÓN",null,"NO CUMPLE",null,"NO APLICA"]
[]
[null,null,null,"D.J","Fecha del archivo"]
[]
[null,null,null,"AA 09.1","Se ha reutilizado, al menos, un 5% del material",null,null,null,null,null,null,null,null,null,null,null,null,null,null,null,null,null,null,null,{"$f":"IF(AF126=0,0.25,0)","v":0.25},{"$f":"+IF($H126=\"seguro\",$Y126,0)","v":0},null,{"$f":"+IF($H126=\"EN REVISIÓN\",$Y126,0)","v":0},null,{"$f":"+IF($H126=\"NO CUMPLE\",$Y126,0)","v":0},null,{"$f":"+IF($H126=\"no aplica\",2,0)","v":0}]
[]
[]
[null,null,null,"AA 09.2","Los materiles reciclados alcanzan, al menos, un 40% del total",null,null,null,null,null,null,null,null,null,null,null,null,null,null,null,null,null,null,null,{"$f":"IF(AF129=0,0.25,0)","v":0.25},{"$f":"+IF($H129=\"seguro\",$Y129,0)","v":0},null,{"$f":"+IF($H129=\"EN REVISIÓN\",$Y129,0)","v":0},null,{"$f":"+IF($H129=\"NO CUMPLE\",$Y129,0)","v":0},null,{"$f":"+IF($H129=\"no aplica\",2,0)","v":0}]
[]
[]
[null,null,null,"AA 09.3","Se alcanza, al menos, un 15% de materiales de origen sostenible",null,null,null,null,null,null,null,null,null,null,null,null,null,null,null,null,null,null,null,{"$f":"IF(AF132=0,0.25,0)","v":0.25},{"$f":"+IF($H132=\"seguro\",$Y132,0)","v":0},null,{"$f":"+IF($H132=\"EN REVISIÓN\",$Y132,0)","v":0},null,{"$f":"+IF($H132=\"NO CUMPLE\",$Y132,0)","v":0},null,{"$f":"+IF($H132=\"no aplica\",2,0)","v":0}]
[]
[]
[null,null,null,"AA 09.4","Se disponene de, al menos, 5 materiales con ecoetiqueta tipo I o III",null,null,null,null,null,null,null,null,null,null,null,null,null,null,null,null,null,null,null,{"$f":"IF(AF135=0,0.25,0)","v":0.25},{"$f":"+IF($H135=\"seguro\",$Y135,0)","v":0},null,{"$f":"+IF($H135=\"EN REVISIÓN\",$Y135,0)","v":0},null,{"$f":"+IF($H135=\"NO CUMPLE\",$Y135,0)","v":0},null,{"$f":"+IF($H135=\"no aplica\",2,0)","v":0}]
[]
[null,null,null,null,null,null,null,null,null,null,null,null,null,null,null,null,null,null,null,null,null,null,null,null,{"$f":"SUM(Y126:Y135)","v":1},{"$f":"IF($F122=\"\",0,SUM(Z126:Z135)*$F122/$Y137)","v":0},null,{"$f":"IF($F122=\"\",0,SUM(AB126:AB135)*$F122/$Y137)","v":0},null,{"$f":"IF($F122=\"\",0,SUM(AD126:AD135)*$F122/$Y137)","v":0}]
[]
[]
[null,null,null,{"$f":"'Matriz VERDE-GBCe'!#REF!","v":{"$error":"#REF!"}},{"$f":"VLOOKUP($D140,'Matriz VERDE-GBCe'!$V$6:$AH$61,2,FALSE)","v":{"$error":"#REF!"}},8.8740987243483116E-2,null,null,null,null,null,"NOTAS",null,null,null,null,null,null,null,null,null,null,null,null,"Target","SEGURO",null,"EN REVISIÓN",null,"NO CUMPLE",null,"NO APLICA"]
[]
[null,null,null,"D.J","Fecha del archivo"]
[]
[null,null,null,"AA 10.1","Se ha desarrollado un ACV de los materiales empleados",null,null,null,null,null,null,null,null,null,null,null,null,null,null,null,null,null,null,null,{"$f":"IF(AF144=0,1,0)","v":1},{"$f":"+IF($H144=\"seguro\",$Y144,0)","v":0},null,{"$f":"+IF($H144=\"EN REVISIÓN\",$Y144,0)","v":0},null,{"$f":"+IF($H144=\"NO CUMPLE\",$Y144,0)","v":0},null,{"$f":"+IF($H144=\"no aplica\",2,0)","v":0}]
[]
[null,null,null,null,null,null,null,null,null,null,null,null,null,null,null,null,null,null,null,null,null,null,null,null,{"$f":"Y144","v":1},{"$f":"IF($F140=\"\",0,Z144*$F140)","v":0},null,{"$f":"IF($F140=\"\",0,AB144*$F140)","v":0},null,{"$f":"IF($F140=\"\",0,AD144*$F140)","v":0}]
[]
[null,null,null,{"$f":"'Matriz VERDE-GBCe'!V52","v":"Calidad de la edificación"}]
[]
[]
[null,null,null,{"$f":"'Matriz VERDE-GBCe'!V53","v":"CE 01"},{"$f":"VLOOKUP($D151,'Matriz VERDE-GBCe'!$V$6:$AH$61,2,FALSE)","v":"Diseño pasivo"},{"$f":"VLOOKUP($D151,'Matriz VERDE-GBCe'!$V$6:$AH$61,6,FALSE)","v":2.7817403708987162E-2},null,null,null,null,null,"NOTAS",null,null,null,null,null,null,null,null,null,null,null,null,"Target","SEGURO",null,"EN REVISIÓN",null,"NO CUMPLE",null,"NO APLICA"]
[]
[null,null,null,"D.J","Fecha del archivo"]
[]
[null,null,null,"AA 11.1","Instalación de contenedores por fracciones para residuos NO peligrosos",null,null,null,null,null,null,null,null,null,null,null,null,null,null,null,null,null,null,null,0.25,{"$f":"+IF($H155=\"seguro\",$Y155,0)","v":0},null,{"$f":"+IF($H155=\"EN REVISIÓN\",$Y155,0)","v":0},null,{"$f":"+IF($H155=\"NO CUMPLE\",$Y155,0)","v":0},null,{"$f":"+IF($H155=\"no aplica\",2,0)","v":0}]
[]
[]
[null,null,null,"AA 11.2","Instalacción de contenedores para residuos peligrosos",null,null,null,null,null,null,null,null,null,null,null,null,null,null,null,null,null,null,null,0.25,{"$f":"+IF($H158=\"seguro\",$Y158,0)","v":0},null,{"$f":"+IF($H158=\"EN REVISIÓN\",$Y158,0)","v":0},null,{"$f":"+IF($H158=\"NO CUMPLE\",$Y158,0)","v":0},null,{"$f":"+IF($H158=\"no aplica\",2,0)","v":0}]
[]
[]
[null,null,null,"AA 11.3","Compromiso de retirada selectiva de residuos",null,null,null,null,null,null,null,null,null,null,null,null,null,null,null,null,null,null,null,0.25,{"$f":"+IF($H161=\"seguro\",$Y161,0)","v":0},null,{"$f":"+IF($H161=\"EN REVISIÓN\",$Y161,0)","v":0},null,{"$f":"+IF($H161=\"NO CUMPLE\",$Y161,0)","v":0},null,{"$f":"+IF($H161=\"no aplica\",2,0)","v":0}]
[]
[]
[null,null,null,"AA 11.4","Mejora sustancial en la gestión de residuos",null,null,null,null,null,null,null,null,null,null,null,null,null,null,null,null,null,null,null,0.25,{"$f":"+IF($H164=\"seguro\",$Y164,0)","v":0},null,{"$f":"+IF($H164=\"EN REVISIÓN\",$Y164,0)","v":0},null,{"$f":"+IF($H164=\"NO CUMPLE\",$Y164,0)","v":0},null,{"$f":"+IF($H164=\"no aplica\",2,0)","v":0}]
[]
[null,null,null,null,null,null,null,null,null,null,null,null,null,null,null,null,null,null,null,null,null,null,null,null,{"$f":"SUM(Y155:Y164)","v":1},{"$f":"IF($F151=\"\",0,SUM(Z154:Z164)*$F151/$Y166)","v":0},null,{"$f":"IF($F151=\"\",0,SUM(AB154:AB164)*$F151/$Y166)","v":0},null,{"$f":"IF($F151=\"\",0,SUM(AD154:AD164)*$F151/$Y166)","v":0}]
[]
[]
[null,null,null,{"$f":"'Matriz VERDE-GBCe'!V54","v":"CE 02"},{"$f":"VLOOKUP($D169,'Matriz VERDE-GBCe'!$V$6:$AH$61,2,FALSE)","v":"Control parcial de los sistemas de clima"},{"$f":"VLOOKUP($D169,'Matriz VERDE-GBCe'!$V$6:$AH$61,6,FALSE)","v":0},null,null,null,null,null,"NOTAS",null,null,null,null,null,null,null,null,null,null,null,null,"Target","SEGURO",null,"EN REVISIÓN",null,"NO CUMPLE",null,"NO APLICA"]
[]
[null,null,null,"D.J","Fecha del archivo"]
[]
[null,null,null,"AA 12.1","Existe un plan de prevención de las actividades de la construcción",null,null,null,null,null,null,null,null,null,null,null,null,null,null,null,null,null,null,null,{"$f":"IF(AF173=0,1,0)","v":1},{"$f":"+IF($H173=\"seguro\",$Y173,0)","v":0},null,{"$f":"+IF($H173=\"EN REVISIÓN\",$Y173,0)","v":0},null,{"$f":"+IF($H173=\"NO CUMPLE\",$Y173,0)","v":0},null,{"$f":"+IF($H173=\"no aplica\",2,0)","v":0}]
[]
[null,null,null,null,null,null,null,null,null,null,null,null,null,null,null,null,null,null,null,null,null,null,null,null,{"$f":"Y173","v":1},{"$f":"IF($F169=\"\",0,Z173*$F169)","v":0},null,{"$f":"IF($F169=\"\",0,AB173*$F169)","v":0},null,{"$f":"IF($F169=\"\",0,AD173*$F169)","v":0}]
[]
[]
[null,null,null,{"$f":"'Matriz VERDE-GBCe'!#REF!","v":{"$error":"#REF!"}},{"$f":"VLOOKUP($D178,'Matriz VERDE-GBCe'!$V$6:$AH$61,2,FALSE)","v":{"$error":"#REF!"}},{"$f":"VLOOKUP($D178,'Matriz VERDE-GBCe'!$V$6:$AH$61,6,FALSE)","v":{"$error":"#REF!"}},null,null,null,null,null,"NOTAS",null,null,null,null,null,null,null,null,null,null,null,null,"Target","SEGURO",null,"EN REVISIÓN",null,"NO CUMPLE",null,"NO APLICA"]
[]
[null,null,null,"D.J","Fecha del archivo"]
[]
[null,null,null,"AA 13.1","Red separativa de pluviales",null,null,null,null,null,null,null,null,null,null,null,null,null,null,null,null,null,null,null,0.6,{"$f":"+IF($H182=\"seguro\",$Y182,0)","v":0},null,{"$f":"+IF($H182=\"EN REVISIÓN\",$Y182,0)","v":0},null,{"$f":"+IF($H182=\"NO CUMPLE\",$Y182,0)","v":0},null,{"$f":"+IF($H182=\"no aplica\",2,0)","v":0}]
[]
[]
[null,null,null,"AA 13.2","Separadores de contaminantes (hidrocarburos y otros)",null,null,null,null,null,null,null,null,null,null,null,null,null,null,null,null,null,null,null,0.2,{"$f":"+IF($H185=\"seguro\",$Y185,0)","v":0},null,{"$f":"+IF($H185=\"EN REVISIÓN\",$Y185,0)","v":0},null,{"$f":"+IF($H185=\"NO CUMPLE\",$Y185,0)","v":0},null,{"$f":"+IF($H185=\"no aplica\",2,0)","v":0}]
[]
[]
[null,null,null,"AA 13.3","Gestión de escorrentías",null,null,null,null,null,null,null,null,null,null,null,null,null,null,null,null,null,null,null,0.2,{"$f":"+IF($H188=\"seguro\",$Y188,0)","v":0},null,{"$f":"+IF($H188=\"EN REVISIÓN\",$Y188,0)","v":0},null,{"$f":"+IF($H188=\"NO CUMPLE\",$Y188,0)","v":0},null,{"$f":"+IF($H188=\"no aplica\",2,0)","v":0}]
[]
[null,null,null,null,null,null,null,null,null,null,null,null,null,null,null,null,null,null,null,null,null,null,null,null,{"$f":"SUM(Y182:Y189)","v":1},{"$f":"IF($F178=\"\",0,SUM(Z181:Z188)*$F178/$Y190)","v":{"$error":"#REF!"}},null,{"$f":"IF($F178=\"\",0,SUM(AB181:AB188)*$F178/$Y190)","v":{"$error":"#REF!"}},null,{"$f":"IF($F178=\"\",0,SUM(AD181:AD188)*$F178/$Y190)","v":{"$error":"#REF!"}}]
[]
[]
[null,null,null,{"$f":"'Matriz VERDE-GBCe'!#REF!","v":{"$error":"#REF!"}},{"$f":"VLOOKUP($D193,'Matriz VERDE-GBCe'!$V$6:$AH$61,2,FALSE)","v":{"$error":"#REF!"}},{"$f":"VLOOKUP($D193,'Matriz VERDE-GBCe'!$V$6:$AH$61,6,FALSE)","v":{"$error":"#REF!"}},null,null,null,null,null,"NOTAS",null,null,null,null,null,null,null,null,null,null,null,null,"Target","SEGURO",null,"EN REVISIÓN",null,"NO CUMPLE",null,"NO APLICA"]
[]
[null,null,null,"D.J","Fecha del archivo"]
[]
[null,null,null,"AA 14.1","El FHS reduce el exigido por normativa en un 50%",null,null,null,null,null,null,null,null,null,null,null,null,null,null,null,null,null,null,null,{"$f":"IF(AF197=0,1,0)","v":1},{"$f":"+IF($H197=\"seguro\",$Y197,0)","v":0},null,{"$f":"+IF($H197=\"EN REVISIÓN\",$Y197,0)","v":0},null,{"$f":"+IF($H197=\"NO CUMPLE\",$Y197,0)","v":0},null,{"$f":"+IF($H197=\"no aplica\",2,0)","v":0}]
[]
[null,null,null,null,null,null,null,null,null,null,null,null,null,null,null,null,null,null,null,null,null,null,null,null,{"$f":"Y197","v":1},{"$f":"IF($F193=\"\",0,Z197*$F193)","v":{"$error":"#REF!"}},null,{"$f":"IF($F193=\"\",0,AB197*$F193)","v":{"$error":"#REF!"}},null,{"$f":"IF($F193=\"\",0,AD197*$F193)","v":{"$error":"#REF!"}}]
[]
[]
[null,null,null,{"$f":"'Matriz VERDE-GBCe'!#REF!","v":{"$error":"#REF!"}},{"$f":"VLOOKUP($D202,'Matriz VERDE-GBCe'!$V$6:$AH$61,2,FALSE)","v":{"$error":"#REF!"}},{"$f":"VLOOKUP($D202,'Matriz VERDE-GBCe'!$V$6:$AH$61,6,FALSE)","v":{"$error":"#REF!"}},null,null,null,null,null,"NOTAS",null,null,null,null,null,null,null,null,null,null,null,null,"Target","SEGURO",null,"EN REVISIÓN",null,"NO CUMPLE",null,"NO APLICA"]
[null,null,null,{"$f":"'Matriz VERDE-GBCe'!#REF!","v":{"$error":"#REF!"}}]
[null,null,null,"D.J","Fecha del archivo"]
[]
[null,null,null,"AA 15.1","Las superficies tratadas para evitar la isla de calor supera el 25%",null,null,null,null,null,null,null,null,null,null,null,null,null,null,null,null,null,null,null,{"$f":"IF(AF206=0,1,0)","v":1},{"$f":"+IF($H206=\"seguro\",$Y206,0)","v":0},null,{"$f":"+IF($H206=\"EN REVISIÓN\",$Y206,0)","v":0},null,{"$f":"+IF($H206=\"NO CUMPLE\",$Y206,0)","v":0},null,{"$f":"+IF($H206=\"no aplica\",2,0)","v":0}]
[]
[null,null,null,null,null,null,null,null,null,null,null,null,null,null,null,null,null,null,null,null,null,null,null,null,{"$f":"Y206","v":1},{"$f":"IF($F202=\"\",0,Z206*$F202)","v":{"$error":"#REF!"}},null,{"$f":"IF($F202=\"\",0,AB206*$F202)","v":{"$error":"#REF!"}},null,{"$f":"IF($F202=\"\",0,AD206*$F202)","v":{"$error":"#REF!"}}]
[]
[]
[null,null,null,{"$f":"'Matriz VERDE-GBCe'!#REF!","v":{"$error":"#REF!"}},{"$f":"VLOOKUP($D211,'Matriz VERDE-GBCe'!$V$6:$AH$61,2,FALSE)","v":{"$error":"#REF!"}},{"$f":"VLOOKUP($D211,'Matriz VERDE-GBCe'!$V$6:$AH$61,6,FALSE)","v":{"$error":"#REF!"}},null,null,null,null,null,"NOTAS",null,null,null,null,null,null,null,null,null,null,null,null,"Target","SEGURO",null,"EN REVISIÓN",null,"NO CUMPLE",null,"NO APLICA"]
[]
[null,null,null,"D.J","Fecha del archivo"]
[null,null,null,null,null,null,null,null,null,null,null,null,null,null,null,null,null,null,null,null,null,null,null,{"$f":"D211","v":{"$error":"#REF!"}}]
[null,null,null,"AA 16.1","Se emplea asfalto fonoabsorvente (solo cerca de poblaciones)",null,null,null,null,null,null,null,null,null,null,null,null,null,null,null,null,null,null,null,{"$f":"IF(AF215=0,1,0)","v":1},{"$f":"+IF($H215=\"seguro\",$Y215,0)","v":0},null,{"$f":"+IF($H215=\"EN REVISIÓN\",$Y215,0)","v":0},null,{"$f":"+IF($H215=\"NO CUMPLE\",$Y215,0)","v":0},null,{"$f":"+IF($H215=\"no aplica\",2,0)","v":0}]
[]
[null,null,null,null,null,null,null,null,null,null,null,null,null,null,null,null,null,null,null,null,null,null,null,null,{"$f":"Y215","v":1},{"$f":"IF($F211=\"\",0,Z215*$F211)","v":{"$error":"#REF!"}},null,{"$f":"IF($F211=\"\",0,AB215*$F211)","v":{"$error":"#REF!"}},null,{"$f":"IF($F211=\"\",0,AD215*$F211)","v":{"$error":"#REF!"}}]
[]
[]
[null,{"$f":"'Matriz VERDE-GBCe'!U42","v":"AS"},null,{"$f":"'Matriz VERDE-GBCe'!V42","v":"Aspectos sociales"}]
[]
[]
[null,null,null,{"$f":"'Matriz VERDE-GBCe'!V43","v":"AS 01"},{"$f":"VLOOKUP($D223,'Matriz VERDE-GBCe'!$V$6:$AH$61,2,FALSE)","v":"Espacios para todas las personas"},{"$f":"VLOOKUP($D223,'Matriz VERDE-GBCe'!$V$6:$AH$61,6,FALSE)","v":1.7831669044222544E-2},null,null,null,null,null,"NOTAS",null,null,null,null,null,null,null,null,null,null,null,null,"Target","SEGURO",null,"EN REVISIÓN",null,"NO CUMPLE",null,"NO APLICA"]
[]
[null,null,null,"D.J","Fecha del archivo"]
[]
[null,null,null,"AS 01.1","Existe una estación que mide la calidad del aire",null,null,null,null,null,null,null,null,null,null,null,null,null,null,null,null,null,null,null,{"$f":"IF(AF227=0,1,0)","v":1},{"$f":"+IF($H227=\"seguro\",$Y227,0)","v":0},null,{"$f":"+IF($H227=\"EN REVISIÓN\",$Y227,0)","v":0},null,{"$f":"+IF($H227=\"NO CUMPLE\",$Y227,0)","v":0},null,{"$f":"+IF($H227=\"no aplica\",2,0)","v":0}]
[]
[]
[null,null,null,"AS 01.2","Los datos de dicha estación se comparten con los servicios municipales",null,null,null,null,null,null,null,null,null,null,null,null,null,null,null,null,null,null,null,{"$f":"IF(AF230=0,1,0)","v":1},{"$f":"+IF($H230=\"seguro\",$Y230,0)","v":0},null,{"$f":"+IF($H230=\"EN REVISIÓN\",$Y230,0)","v":0},null,{"$f":"+IF($H230=\"NO CUMPLE\",$Y230,0)","v":0},null,{"$f":"+IF($H230=\"no aplica\",2,0)","v":0}]
[]
[]
[null,null,null,"AS 01.3","Los datos de la estación son públicos",null,null,null,null,null,null,null,null,null,null,null,null,null,null,null,null,null,null,null,{"$f":"IF(AF233=0,1,0)","v":1},{"$f":"+IF($H233=\"seguro\",$Y233,0)","v":0},null,{"$f":"+IF($H233=\"EN REVISIÓN\",$Y233,0)","v":0},null,{"$f":"+IF($H233=\"NO CUMPLE\",$Y233,0)","v":0},null,{"$f":"+IF($H233=\"no aplica\",2,0)","v":0}]
[]
[null,null,null,null,null,null,null,null,null,null,null,null,null,null,null,null,null,null,null,null,null,null,null,null,{"$f":"SUM(Y226:Y233)","v":3},{"$f":"IF($F223=\"\",0,SUM(Z227:Z233)*$F223/$Y235)","v":0},null,{"$f":"IF($F223=\"\",0,SUM(AB227:AB233)*$F223/$Y235)","v":0},null,{"$f":"IF($F223=\"\",0,SUM(AD227:AD233)*$F223/$Y235)","v":0}]
[]
[]
[null,null,null,{"$f":"'Matriz VERDE-GBCe'!V44","v":"AS 02"},{"$f":"VLOOKUP($D238,'Matriz VERDE-GBCe'!$V$6:$AH$61,2,FALSE)","v":"Espacios para la comunicación"},{"$f":"VLOOKUP($D238,'Matriz VERDE-GBCe'!$V$6:$AH$61,6,FALSE)","v":1.7831669044222544E-2},null,null,null,null,null,"NOTAS",null,null,null,null,null,null,null,null,null,null,null,null,"Target","SEGURO",null,"EN REVISIÓN",null,"NO CUMPLE",null,"NO APLICA"]
[]
[null,null,null,"D.J","Fecha del archivo"]
[]
[null,null,null,"AS 02.1","El 70% tienen acceso a equipamientos a menos de 1,000 m",null,null,null,null,null,null,null,null,null,null,null,null,null,null,null,null,null,null,null,{"$f":"IF(AF242=0,0.4,0)","v":0.4},{"$f":"+IF($H242=\"seguro\",$Y242,0)","v":0},null,{"$f":"+IF($H242=\"EN REVISIÓN\",$Y242,0)","v":0},null,{"$f":"+IF($H242=\"NO CUMPLE\",$Y242,0)","v":0},null,{"$f":"+IF($H242=\"no aplica\",2,0)","v":0}]
[]
[]
[null,null,null,"AS 02.2","Las zonas verdes están dotadas de, al menos, 3 equipaciones",null,null,null,null,null,null,null,null,null,null,null,null,null,null,null,null,null,null,null,{"$f":"IF(AF245=0,0.3,0)","v":0.3},{"$f":"+IF($H245=\"seguro\",$Y245,0)","v":0},null,{"$f":"+IF($H245=\"EN REVISIÓN\",$Y245,0)","v":0},null,{"$f":"+IF($H245=\"NO CUMPLE\",$Y245,0)","v":0},null,{"$f":"+IF($H245=\"no aplica\",2,0)","v":0}]
[]
[]
[null,null,null,"AS 02.3","Existen, al menos, dos usos complementarios al de nave logística.",null,null,null,null,null,null,null,null,null,null,null,null,null,null,null,null,null,null,null,{"$f":"IF(AF248=0,0.3,0)","v":0.3},{"$f":"+IF($H248=\"seguro\",$Y248,0)","v":0},null,{"$f":"+IF($H248=\"EN REVISIÓN\",$Y248,0)","v":0},null,{"$f":"+IF($H248=\"NO CUMPLE\",$Y248,0)","v":0},null,{"$f":"+IF($H248=\"no aplica\",2,0)","v":0}]
[]
[null,null,null,null,null,null,null,null,null,null,null,null,null,null,null,null,null,null,null,null,null,null,null,null,{"$f":"SUM(Y242:Y248)","v":1},{"$f":"IF($F238=\"\",0,SUM(Z242:Z248)*$F238/$Y250)","v":0},null,{"$f":"IF($F238=\"\",0,SUM(AB242:AB248)*$F238/$Y250)","v":0},null,{"$f":"IF($F238=\"\",0,SUM(AD242:AD248)*$F238/$Y250)","v":0}]
[]
[]
[null,null,null,{"$f":"'Matriz VERDE-GBCe'!#REF!","v":{"$error":"#REF!"}},{"$f":"VLOOKUP($D253,'Matriz VERDE-GBCe'!$V$6:$AH$61,2,FALSE)","v":{"$error":"#REF!"}},{"$f":"VLOOKUP($D253,'Matriz VERDE-GBCe'!$V$6:$AH$61,6,FALSE)","v":{"$error":"#REF!"}},null,null,null,null,null,"NOTAS",null,null,null,null,null,null,null,null,null,null,null,null,"Target","SEGURO",null,"EN REVISIÓN",null,"NO CUMPLE",null,"NO APLICA"]
[]
[null,null,null,"D.J","Fecha del archivo"]
[]
[null,null,null,"AS 02.1","El 70% tienen acceso a equipamientos a menos de 1,000 m",null,null,null,null,null,null,null,null,null,null,null,null,null,null,null,null,null,null,null,{"$f":"IF(AF257=0,0.4,0)","v":0.4},{"$f":"+IF($H257=\"seguro\",$Y257,0)","v":0},null,{"$f":"+IF($H257=\"EN REVISIÓN\",$Y257,0)","v":0},null,{"$f":"+IF($H257=\"NO CUMPLE\",$Y257,0)","v":0},null,{"$f":"+IF($H257=\"no aplica\",2,0)","v":0}]
[]
[]
[null,null,null,"AS 02.2","Las zonas verdes están dotadas de, al menos, 3 equipaciones",null,null,null,null,null,null,null,null,null,null,null,null,null,null,null,null,null,null,null,{"$f":"IF(AF260=0,0.3,0)","v":0.3},{"$f":"+IF($H260=\"seguro\",$Y260,0)","v":0},null,{"$f":"+IF($H260=\"EN REVISIÓN\",$Y260,0)","v":0},null,{"$f":"+IF($H260=\"NO CUMPLE\",$Y260,0)","v":0},null,{"$f":"+IF($H260=\"no aplica\",2,0)","v":0}]
[]
[]
[null,null,null,"AS 02.3","Existen, al menos, dos usos complementarios al de nave logística.",null,null,null,null,null,null,null,null,null,null,null,null,null,null,null,null,null,null,null,{"$f":"IF(AF263=0,0.3,0)","v":0.3},{"$f":"+IF($H263=\"seguro\",$Y263,0)","v":0},null,{"$f":"+IF($H263=\"EN REVISIÓN\",$Y263,0)","v":0},null,{"$f":"+IF($H263=\"NO CUMPLE\",$Y263,0)","v":0},null,{"$f":"+IF($H263=\"no aplica\",2,0)","v":0}]
[]
[null,null,null,null,null,null,null,null,null,null,null,null,null,null,null,null,null,null,null,null,null,null,null,null,{"$f":"SUM(Y257:Y263)","v":1},{"$f":"IF($F253=\"\",0,SUM(Z257:Z263)*$F253/$Y265)","v":{"$error":"#REF!"}},null,{"$f":"IF($F253=\"\",0,SUM(AB257:AB263)*$F253/$Y265)","v":{"$error":"#REF!"}},null,{"$f":"IF($F253=\"\",0,SUM(AD257:AD263)*$F253/$Y265)","v":{"$error":"#REF!"}}]
[]
[]
[null,null,null,{"$f":"'Matriz VERDE-GBCe'!V47","v":"AS 05"},{"$f":"VLOOKUP($D268,'Matriz VERDE-GBCe'!$V$6:$AH$61,2,FALSE)","v":"Contacto visual con el exterior"},{"$f":"VLOOKUP($D268,'Matriz VERDE-GBCe'!$V$6:$AH$61,6,FALSE)","v":1.8544935805991442E-2},null,null,null,null,null,"NOTAS",null,null,null,null,null,null,null,null,null,null,null,null,"Target","SEGURO",null,"EN REVISIÓN",null,"NO CUMPLE",null,"NO APLICA"]
[]
[null,null,null,"D.J","Fecha del archivo"]
[]
[null,null,null,"AS 03.1","Existe un núcleo que cumple con el criterio a menos de 15,000 m",null,null,null,null,null,null,null,null,null,null,null,null,null,null,null,null,null,null,null,0.25,{"$f":"+IF($H272=\"seguro\",$Y272,0)","v":0},null,{"$f":"+IF($H272=\"EN REVISIÓN\",$Y272,0)","v":0},null,{"$f":"+IF($H272=\"NO CUMPLE\",$Y272,0)","v":0},null,{"$f":"+IF($H272=\"no aplica\",2,0)","v":0}]
[]
[]
[null,null,null,"AS 03.2","Existe un núcleo que cumple con el criterio a menos de 10,000 m",null,null,null,null,null,null,null,null,null,null,null,null,null,null,null,null,null,null,null,0.25,{"$f":"+IF($H275=\"seguro\",$Y275,0)","v":0},null,{"$f":"+IF($H275=\"EN REVISIÓN\",$Y275,0)","v":0},null,{"$f":"+IF($H275=\"NO CUMPLE\",$Y275,0)","v":0},null,{"$f":"+IF($H275=\"no aplica\",2,0)","v":0}]
[]
[]
[null,null,null,"AS 03.3","Existe un núcleo que cumple con el criterio a menos de 5,000 m",null,null,null,null,null,null,null,null,null,null,null,null,null,null,null,null,null,null,null,0.25,{"$f":"+IF($H278=\"seguro\",$Y278,0)","v":0},null,{"$f":"+IF($H278=\"EN REVISIÓN\",$Y278,0)","v":0},null,{"$f":"+IF($H278=\"NO CUMPLE\",$Y278,0)","v":0},null,{"$f":"+IF($H278=\"no aplica\",2,0)","v":0}]
[]
[]
[null,null,null,"AS 03.4","Existe un núcleo que cumple con el criterio a menos de 2,000 m",null,null,null,null,null,null,null,null,null,null,null,null,null,null,null,null,null,null,null,0.25,{"$f":"+IF($H281=\"seguro\",$Y281,0)","v":0},null,{"$f":"+IF($H281=\"EN REVISIÓN\",$Y281,0)","v":0},null,{"$f":"+IF($H281=\"NO CUMPLE\",$Y281,0)","v":0},null,{"$f":"+IF($H281=\"no aplica\",2,0)","v":0}]
[]
[null,null,null,null,null,null,null,null,null,null,null,null,null,null,null,null,null,null,null,null,null,null,null,null,{"$f":"SUM(Y271:Y281)","v":1},{"$f":"IF($F268=\"\",0,SUM(Z271:Z281)*$F268/$Y283)","v":0},null,{"$f":"IF($F268=\"\",0,SUM(AB271:AB281)*$F268/$Y283)","v":0},null,{"$f":"IF($F268=\"\",0,SUM(AD271:AD281)*$F268/$Y283)","v":0}]
[]
[]
[null,null,null,{"$f":"'Matriz VERDE-GBCe'!V47","v":"AS 05"},{"$f":"VLOOKUP($D286,'Matriz VERDE-GBCe'!$V$6:$AH$61,2,FALSE)","v":"Contacto visual con el exterior"},{"$f":"VLOOKUP($D286,'Matriz VERDE-GBCe'!$V$6:$AH$61,6,FALSE)","v":1.8544935805991442E-2},null,null,null,null,null,"NOTAS",null,null,null,null,null,null,null,null,null,null,null,null,"Target","SEGURO",null,"EN REVISIÓN",null,"NO CUMPLE",null,"NO APLICA"]
[]
[null,null,null,"D.J","Fecha del archivo"]
[]
[null,null,null,"AS 04.1","Existe un Plan de Movilidad Sostenible",null,null,null,null,null,null,null,null,null,null,null,null,null,null,null,null,null,null,null,1,{"$f":"+IF($H290=\"seguro\",$Y290,0)","v":0},null,{"$f":"+IF($H290=\"EN REVISIÓN\",$Y290,0)","v":0},null,{"$f":"+IF($H290=\"NO CUMPLE\",$Y290,0)","v":0},null,{"$f":"+IF($H290=\"no aplica\",2,0)","v":0}]
[]
[null,null,null,null,null,null,null,null,null,null,null,null,null,null,null,null,null,null,null,null,null,null,null,null,{"$f":"SUM(Y289:Y290)","v":1},{"$f":"IF($F286=\"\",0,SUM(Z289:Z290)*$F286/$Y292)","v":0},null,{"$f":"IF($F286=\"\",0,SUM(AB289:AB290)*$F286/$Y292)","v":0},null,{"$f":"IF($F286=\"\",0,SUM(AD289:AD290)*$F286/$Y292)","v":0}]
[]
[]
[null,null,null,{"$f":"'Matriz VERDE-GBCe'!#REF!","v":{"$error":"#REF!"}},{"$f":"VLOOKUP($D295,'Matriz VERDE-GBCe'!$V$6:$AH$61,2,FALSE)","v":{"$error":"#REF!"}},{"$f":"VLOOKUP($D295,'Matriz VERDE-GBCe'!$V$6:$AH$61,6,FALSE)","v":{"$error":"#REF!"}},null,null,null,null,null,"NOTAS",null,null,null,null,null,null,null,null,null,null,null,null,"Target","SEGURO",null,"EN REVISIÓN",null,"NO CUMPLE",null,"NO APLICA"]
[]
[null,null,null,"D.J","Fecha del archivo"]
[]
[null,null,null,"AS 05.1","El diseño de los viales garantizan la accesibilidad",null,null,null,null,null,null,null,null,null,null,null,null,null,null,null,null,null,null,null,{"$f":"IF(AF299=0,0.7,0)","v":0.7},{"$f":"+IF($H299=\"seguro\",$Y299,0)","v":0},null,{"$f":"+IF($H299=\"EN REVISIÓN\",$Y299,0)","v":0},null,{"$f":"+IF($H299=\"NO CUMPLE\",$Y299,0)","v":0},null,{"$f":"+IF($H299=\"no aplica\",2,0)","v":0}]
[]
[]
[null,null,null,"AS 05.2","La señalización del parque es adecuada",null,null,null,null,null,null,null,null,null,null,null,null,null,null,null,null,null,null,null,{"$f":"IF(AF302=0,0.3,0)","v":0.3},{"$f":"+IF($H302=\"seguro\",$Y302,0)","v":0},null,{"$f":"+IF($H302=\"EN REVISIÓN\",$Y302,0)","v":0},null,{"$f":"+IF($H302=\"NO CUMPLE\",$Y302,0)","v":0},null,{"$f":"+IF($H302=\"no aplica\",2,0)","v":0}]
[]
[null,null,null,null,null,null,null,null,null,null,null,null,null,null,null,null,null,null,null,null,null,null,null,null,{"$f":"SUM(Y299:Y302)","v":1},{"$f":"IF($F295=\"\",0,SUM(Z299:Z302)*$F295/$Y304)","v":{"$error":"#REF!"}},null,{"$f":"IF($F295=\"\",0,SUM(AB299:AB302)*$F295/$Y304)","v":{"$error":"#REF!"}},null,{"$f":"IF($F295=\"\",0,SUM(AD299:AD302)*$F295/$Y304)","v":{"$error":"#REF!"}}]
[]
[]
[null,null,null,{"$f":"'Matriz VERDE-GBCe'!#REF!","v":{"$error":"#REF!"}},{"$f":"VLOOKUP($D307,'Matriz VERDE-GBCe'!$V$6:$AH$61,2,FALSE)","v":{"$error":"#REF!"}},{"$f":"VLOOKUP($D307,'Matriz VERDE-GBCe'!$V$6:$AH$61,6,FALSE)","v":{"$error":"#REF!"}},null,null,null,null,null,"NOTAS",null,null,null,null,null,null,null,null,null,null,null,null,"Target","SEGURO",null,"EN REVISIÓN",null,"NO CUMPLE",null,"NO APLICA"]
[]
[null,null,null,"D.J","Fecha del archivo"]
[]
[null,null,null,"AS 06.1","Existe aparcamiento de bicicletas ",null,null,null,null,null,null,null,null,null,null,null,null,null,null,null,null,null,null,null,0.5,{"$f":"+IF($H311=\"seguro\",$Y311,0)","v":0},null,{"$f":"+IF($H311=\"EN REVISIÓN\",$Y311,0)","v":0},null,{"$f":"+IF($H311=\"NO CUMPLE\",$Y311,0)","v":0},null,{"$f":"+IF($H311=\"no aplica\",2,0)","v":0}]
[]
[]
[null,null,null,"AS 06.2","Se ha diseñado una red viaria para bicicletas",null,null,null,null,null,null,null,null,null,null,null,null,null,null,null,null,null,null,null,0.5,{"$f":"+IF($H314=\"seguro\",$Y314,0)","v":0},null,{"$f":"+IF($H314=\"EN REVISIÓN\",$Y314,0)","v":0},null,{"$f":"+IF($H314=\"NO CUMPLE\",$Y314,0)","v":0},null,{"$f":"+IF($H314=\"no aplica\",2,0)","v":0}]
[]
[null,null,null,null,null,null,null,null,null,null,null,null,null,null,null,null,null,null,null,null,null,null,null,null,{"$f":"SUM(Y311:Y314)","v":1},{"$f":"IF($F307=\"\",0,SUM(Z311:Z314)*$F307/$Y316)","v":{"$error":"#REF!"}},null,{"$f":"IF($F307=\"\",0,SUM(AB311:AB314)*$F307/$Y316)","v":{"$error":"#REF!"}},null,{"$f":"IF($F307=\"\",0,SUM(AD311:AD314)*$F307/$Y316)","v":{"$error":"#REF!"}}]
[]
[]
[null,null,null,{"$f":"'Matriz VERDE-GBCe'!#REF!","v":{"$error":"#REF!"}},{"$f":"VLOOKUP($D319,'Matriz VERDE-GBCe'!$V$6:$AH$61,2,FALSE)","v":{"$error":"#REF!"}},{"$f":"VLOOKUP($D319,'Matriz VERDE-GBCe'!$V$6:$AH$61,6,FALSE)","v":{"$error":"#REF!"}},null,null,null,null,null,"NOTAS",null,null,null,null,null,null,null,null,null,null,null,null,"Target","SEGURO",null,"EN REVISIÓN",null,"NO CUMPLE",null,"NO APLICA"]
[]
[null,null,null,"D.J","Fecha del archivo"]
[]
[null,null,null,"AS 07.1","El 70% de las parcelas tienen un nodo de trasnporte a menos de 1.000 m",null,null,null,null,null,null,null,null,null,null,null,null,null,null,null,null,null,null,null,{"$f":"IF(AF323=0,0.7,0)","v":0.7},{"$f":"+IF($H323=\"seguro\",$Y323,0)","v":0},null,{"$f":"+IF($H323=\"EN REVISIÓN\",$Y323,0)","v":0},null,{"$f":"+IF($H323=\"NO CUMPLE\",$Y323,0)","v":0},null,{"$f":"+IF($H323=\"no aplica\",2,0)","v":0}]
[]
[]
[null,null,null,"AS 07.2","El parque tiene conexión con al menos, dos lineas de trasnporte",null,null,null,null,null,null,null,null,null,null,null,null,null,null,null,null,null,null,null,{"$f":"IF(AF326=0,0.3,0)","v":0.3},{"$f":"+IF($H326=\"seguro\",$Y326,0)","v":0},null,{"$f":"+IF($H326=\"EN REVISIÓN\",$Y326,0)","v":0},null,{"$f":"+IF($H326=\"NO CUMPLE\",$Y326,0)","v":0},null,{"$f":"+IF($H326=\"no aplica\",2,0)","v":0}]
[]
[null,null,null,null,null,null,null,null,null,null,null,null,null,null,null,null,null,null,null,null,null,null,null,null,{"$f":"SUM(Y323:Y326)","v":1},{"$f":"IF($F319=\"\",0,SUM(Z323:Z326)*$F319/$Y328)","v":{"$error":"#REF!"}},null,{"$f":"IF($F319=\"\",0,SUM(AB323:AB326)*$F319/$Y328)","v":{"$error":"#REF!"}},null,{"$f":"IF($F319=\"\",0,SUM(AD323:AD326)*$F319/$Y328)","v":{"$error":"#REF!"}}]
[]
[]
[null,null,null,{"$f":"'Matriz VERDE-GBCe'!#REF!","v":{"$error":"#REF!"}},{"$f":"VLOOKUP($D331,'Matriz VERDE-GBCe'!$V$6:$AH$61,2,FALSE)","v":{"$error":"#REF!"}},{"$f":"VLOOKUP($D331,'Matriz VERDE-GBCe'!$V$6:$AH$61,6,FALSE)","v":{"$error":"#REF!"}},null,null,null,null,null,"NOTAS",null,null,null,null,null,null,null,null,null,null,null,null,"Target","SEGURO",null,"EN REVISIÓN",null,"NO CUMPLE",null,"NO APLICA"]
[]
[null,null,null,"D.J","Fecha del archivo"]
[]
[null,null,null,"AS 08.1","Las plazas de aparcamiento no superan las exigencias normativas",null,null,null,null,null,null,null,null,null,null,null,null,null,null,null,null,null,null,null,{"$f":"IF(AF335=0,0.7,0)","v":0.7},{"$f":"+IF($H335=\"seguro\",$Y335,0)","v":0},null,{"$f":"+IF($H335=\"EN REVISIÓN\",$Y335,0)","v":0},null,{"$f":"+IF($H335=\"NO CUMPLE\",$Y335,0)","v":0},null,{"$f":"+IF($H335=\"no aplica\",2,0)","v":0}]
[]
[]
[null,null,null,"AS 08.2","Se cumple con la reserva de plazas para vehículos eléctricos",null,null,null,null,null,null,null,null,null,null,null,null,null,null,null,null,null,null,null,{"$f":"IF(AF338=0,0.3,0)","v":0.3},{"$f":"+IF($H338=\"seguro\",$Y338,0)","v":0},null,{"$f":"+IF($H338=\"EN REVISIÓN\",$Y338,0)","v":0},null,{"$f":"+IF($H338=\"NO CUMPLE\",$Y338,0)","v":0},null,{"$f":"+IF($H338=\"no aplica\",2,0)","v":0}]
[]
[null,null,null,null,null,null,null,null,null,null,null,null,null,null,null,null,null,null,null,null,null,null,null,null,{"$f":"SUM(Y335:Y338)","v":1},{"$f":"IF($F331=\"\",0,SUM(Z335:Z338)*$F331/$Y340)","v":{"$error":"#REF!"}},null,{"$f":"IF($F331=\"\",0,SUM(AB335:AB338)*$F331/$Y340)","v":{"$error":"#REF!"}},null,{"$f":"IF($F331=\"\",0,SUM(AD335:AD338)*$F331/$Y340)","v":{"$error":"#REF!"}}]
[]
[]
[null,null,null,{"$f":"'Matriz VERDE-GBCe'!#REF!","v":{"$error":"#REF!"}},{"$f":"VLOOKUP($D343,'Matriz VERDE-GBCe'!$V$6:$AH$61,2,FALSE)","v":{"$error":"#REF!"}},{"$f":"VLOOKUP($D343,'Matriz VERDE-GBCe'!$V$6:$AH$61,6,FALSE)","v":{"$error":"#REF!"}},null,null,null,null,null,"NOTAS",null,null,null,null,null,null,null,null,null,null,null,null,"Target","SEGURO",null,"EN REVISIÓN",null,"NO CUMPLE",null,"NO APLICA"]
[]
[null,null,null,"D.J","Fecha del archivo"]
[]
[null,null,null,"AS 09.1","Se cumple con una de las medidas propuestas",null,null,null,null,null,null,null,null,null,null,null,null,null,null,null,null,null,null,null,{"$f":"IF(AF347=0,0.2,0)","v":0.2},{"$f":"+IF($H347=\"seguro\",$Y347,0)","v":0},null,{"$f":"+IF($H347=\"EN REVISIÓN\",$Y347,0)","v":0},null,{"$f":"+IF($H347=\"NO CUMPLE\",$Y347,0)","v":0},null,{"$f":"+IF($H347=\"no aplica\",2,0)","v":0}]
[]
[]
[null,null,null,"AS 09.2","Se cumple con dos de las medidas propuestas",null,null,null,null,null,null,null,null,null,null,null,null,null,null,null,null,null,null,null,{"$f":"IF(AF350=0,0.2,0)","v":0.2},{"$f":"+IF($H350=\"seguro\",$Y350,0)","v":0},null,{"$f":"+IF($H350=\"EN REVISIÓN\",$Y350,0)","v":0},null,{"$f":"+IF($H350=\"NO CUMPLE\",$Y350,0)","v":0},null,{"$f":"+IF($H350=\"no aplica\",2,0)","v":0}]
[]
[]
[null,null,null,"AS 09.3","Se cumple con tres de las medidas propuestas",null,null,null,null,null,null,null,null,null,null,null,null,null,null,null,null,null,null,null,{"$f":"IF(AF353=0,0.2,0)","v":0.2},{"$f":"+IF($H353=\"seguro\",$Y353,0)","v":0},null,{"$f":"+IF($H353=\"EN REVISIÓN\",$Y353,0)","v":0},null,{"$f":"+IF($H353=\"NO CUMPLE\",$Y353,0)","v":0},null,{"$f":"+IF($H353=\"no aplica\",2,0)","v":0}]
[]
[]
[null,null,null,"AS 09.4","Se cumple con cuatro de las medidas propuestas",null,null,null,null,null,null,null,null,null,null,null,null,null,null,null,null,null,null,null,{"$f":"IF(AF356=0,0.2,0)","v":0.2},{"$f":"+IF($H356=\"seguro\",$Y356,0)","v":0},null,{"$f":"+IF($H356=\"EN REVISIÓN\",$Y356,0)","v":0},null,{"$f":"+IF($H356=\"NO CUMPLE\",$Y356,0)","v":0},null,{"$f":"+IF($H356=\"no aplica\",2,0)","v":0}]
[]
[]
[null,null,null,"AS 09.5","Se cumplen con cinco de las medidas propuestas",null,null,null,null,null,null,null,null,null,null,null,null,null,null,null,null,null,null,null,{"$f":"IF(AF359=0,0.2,0)","v":0.2},{"$f":"+IF($H359=\"seguro\",$Y359,0)","v":0},null,{"$f":"+IF($H359=\"EN REVISIÓN\",$Y359,0)","v":0},null,{"$f":"+IF($H359=\"NO CUMPLE\",$Y359,0)","v":0},null,{"$f":"+IF($H359=\"no aplica\",2,0)","v":0}]
[]
[null,null,null,null,null,null,null,null,null,null,null,null,null,null,null,null,null,null,null,null,null,null,null,null,{"$f":"SUM(Y347:Y359)","v":1},{"$f":"IF($F343=\"\",0,SUM(Z347:Z359)*$F343/$Y361)","v":{"$error":"#REF!"}},null,{"$f":"IF($F343=\"\",0,SUM(AB347:AB359)*$F343/$Y361)","v":{"$error":"#REF!"}},null,{"$f":"IF($F343=\"\",0,SUM(AD347:AD359)*$F343/$Y361)","v":{"$error":"#REF!"}}]
[]
[]
[null,null,null,{"$f":"'Matriz VERDE-GBCe'!#REF!","v":{"$error":"#REF!"}},{"$f":"VLOOKUP($D364,'Matriz VERDE-GBCe'!$V$6:$AH$61,2,FALSE)","v":{"$error":"#REF!"}},{"$f":"VLOOKUP($D364,'Matriz VERDE-GBCe'!$V$6:$AH$61,6,FALSE)","v":{"$error":"#REF!"}},null,null,null,null,null,"NOTAS",null,null,null,null,null,null,null,null,null,null,null,null,"Target","SEGURO",null,"EN REVISIÓN",null,"NO CUMPLE",null,"NO APLICA"]
[]
[null,null,null,"D.J","Fecha del archivo"]
[]
[null,null,null,"AS 10.1","Control de acceso",null,null,null,null,null,null,null,null,null,null,null,null,null,null,null,null,null,null,null,0.5,{"$f":"+IF($H368=\"seguro\",$Y368,0)","v":0},null,{"$f":"+IF($H368=\"EN REVISIÓN\",$Y368,0)","v":0},null,{"$f":"+IF($H368=\"NO CUMPLE\",$Y368,0)","v":0},null,{"$f":"+IF($H368=\"no aplica\",2,0)","v":0}]
[]
[]
[null,null,null,"AS 10.2","Estudio de seguridad",null,null,null,null,null,null,null,null,null,null,null,null,null,null,null,null,null,null,null,0.25,{"$f":"+IF($H371=\"seguro\",$Y371,0)","v":0},null,{"$f":"+IF($H371=\"EN REVISIÓN\",$Y371,0)","v":0},null,{"$f":"+IF($H371=\"NO CUMPLE\",$Y371,0)","v":0},null,{"$f":"+IF($H371=\"no aplica\",2,0)","v":0}]
[]
[]
[null,null,null,"AS 10.3","Medidas extraordinarias de seguridad",null,null,null,null,null,null,null,null,null,null,null,null,null,null,null,null,null,null,null,0.25,{"$f":"+IF($H374=\"seguro\",$Y374,0)","v":0},null,{"$f":"+IF($H374=\"EN REVISIÓN\",$Y374,0)","v":0},null,{"$f":"+IF($H374=\"NO CUMPLE\",$Y374,0)","v":0},null,{"$f":"+IF($H374=\"no aplica\",2,0)","v":0}]
[]
[null,null,null,null,null,null,null,null,null,null,null,null,null,null,null,null,null,null,null,null,null,null,null,null,{"$f":"SUM(Y368:Y374)","v":1},{"$f":"IF($F364=\"\",0,SUM(Z368:Z374)*$F364/$Y376)","v":{"$error":"#REF!"}},null,{"$f":"IF($F364=\"\",0,SUM(AB368:AB374)*$F364/$Y376)","v":{"$error":"#REF!"}},null,{"$f":"IF($F364=\"\",0,SUM(AD368:AD374)*$F364/$Y376)","v":{"$error":"#REF!"}}]
[]
[null,{"$f":"'Matriz VERDE-GBCe'!#REF!","v":{"$error":"#REF!"}},null,{"$f":"'Matriz VERDE-GBCe'!#REF!","v":{"$error":"#REF!"}}]
[]
[]
[null,null,null,{"$f":"'Matriz VERDE-GBCe'!#REF!","v":{"$error":"#REF!"}},{"$f":"VLOOKUP($D381,'Matriz VERDE-GBCe'!$V$6:$AH$61,2,FALSE)","v":{"$error":"#REF!"}},{"$f":"VLOOKUP($D381,'Matriz VERDE-GBCe'!$V$6:$AH$61,6,FALSE)","v":{"$error":"#REF!"}},null,null,null,null,null,"NOTAS",null,null,null,null,null,null,null,null,null,null,null,null,"Target","SEGURO",null,"EN REVISIÓN",null,"NO CUMPLE",null,"NO APLICA"]
[]
[null,null,null,"D.J","Fecha del archivo"]
[]
[null,null,null,"AE 01.1","Existe un estudio de viabilidad económica del polígono",null,null,null,null,null,null,null,null,null,null,null,null,null,null,null,null,null,null,null,0.5,{"$f":"+IF($H385=\"seguro\",$Y385,0)","v":0},null,{"$f":"+IF($H385=\"EN REVISIÓN\",$Y385,0)","v":0},null,{"$f":"+IF($H385=\"NO CUMPLE\",$Y385,0)","v":0},null,{"$f":"+IF($H385=\"no aplica\",2,0)","v":0}]
[]
[]
[null,null,null,"AE 01.2","Se han adoptado medidas para mejorar la viabilidad económica",null,null,null,null,null,null,null,null,null,null,null,null,null,null,null,null,null,null,null,0.5,{"$f":"+IF($H388=\"seguro\",$Y388,0)","v":0},null,{"$f":"+IF($H388=\"EN REVISIÓN\",$Y388,0)","v":0},null,{"$f":"+IF($H388=\"NO CUMPLE\",$Y388,0)","v":0},null,{"$f":"+IF($H388=\"no aplica\",2,0)","v":0}]
[]
[null,null,null,null,null,null,null,null,null,null,null,null,null,null,null,null,null,null,null,null,null,null,null,null,{"$f":"SUM(Y385:Y388)","v":1},{"$f":"IF($F381=\"\",0,SUM(Z385:Z388)*$F381/$Y390)","v":{"$error":"#REF!"}},null,{"$f":"IF($F381=\"\",0,SUM(AB385:AB388)*$F381/$Y390)","v":{"$error":"#REF!"}},null,{"$f":"IF($F381=\"\",0,SUM(AD385:AD388)*$F381/$Y390)","v":{"$error":"#REF!"}}]
[]
[]
[null,null,null,{"$f":"'Matriz VERDE-GBCe'!#REF!","v":{"$error":"#REF!"}},{"$f":"VLOOKUP($D393,'Matriz VERDE-GBCe'!$V$6:$AH$61,2,FALSE)","v":{"$error":"#REF!"}},{"$f":"VLOOKUP($D393,'Matriz VERDE-GBCe'!$V$6:$AH$61,6,FALSE)","v":{"$error":"#REF!"}},null,null,null,null,null,"NOTAS",null,null,null,null,null,null,null,null,null,null,null,null,"Target","SEGURO",null,"EN REVISIÓN",null,"NO CUMPLE",null,"NO APLICA"]
[]
[null,null,null,"D.J","Fecha del archivo"]
[]
[null,null,null,"AE 02.1","No hay coste de iluminación para el municipio",null,null,null,null,null,null,null,null,null,null,null,null,null,null,null,null,null,null,null,0.2,{"$f":"+IF($H397=\"seguro\",$Y397,0)","v":0},null,{"$f":"+IF($H397=\"EN REVISIÓN\",$Y397,0)","v":0},null,{"$f":"+IF($H397=\"NO CUMPLE\",$Y397,0)","v":0},null,{"$f":"+IF($H397=\"no aplica\",2,0)","v":0}]
[]
[]
[null,null,null,"AE 02.2","No hay coste de depuración de aguas para el municipio",null,null,null,null,null,null,null,null,null,null,null,null,null,null,null,null,null,null,null,0.2,{"$f":"+IF($H400=\"seguro\",$Y400,0)","v":0},null,{"$f":"+IF($H400=\"EN REVISIÓN\",$Y400,0)","v":0},null,{"$f":"+IF($H400=\"NO CUMPLE\",$Y400,0)","v":0},null,{"$f":"+IF($H400=\"no aplica\",2,0)","v":0}]
[]
[]
[null,null,null,"AE 02.3","No hay coste de recogida de residuos para el municipio",null,null,null,null,null,null,null,null,null,null,null,null,null,null,null,null,null,null,null,0.2,{"$f":"+IF($H403=\"seguro\",$Y403,0)","v":0},null,{"$f":"+IF($H403=\"EN REVISIÓN\",$Y403,0)","v":0},null,{"$f":"+IF($H403=\"NO CUMPLE\",$Y403,0)","v":0},null,{"$f":"+IF($H403=\"no aplica\",2,0)","v":0}]
[]
[]
[null,null,null,"AE 02.4","No hay coste de limpieza del viario para el municipio",null,null,null,null,null,null,null,null,null,null,null,null,null,null,null,null,null,null,null,0.2,{"$f":"+IF($H406=\"seguro\",$Y406,0)","v":0},null,{"$f":"+IF($H406=\"EN REVISIÓN\",$Y406,0)","v":0},null,{"$f":"+IF($H406=\"NO CUMPLE\",$Y406,0)","v":0},null,{"$f":"+IF($H406=\"no aplica\",2,0)","v":0}]
[]
[]
[null,null,null,"AE 02.5","No hay coste de mantenimiento para el municipio",null,null,null,null,null,null,null,null,null,null,null,null,null,null,null,null,null,null,null,0.2,{"$f":"+IF($H409=\"seguro\",$Y409,0)","v":0},null,{"$f":"+IF($H409=\"EN REVISIÓN\",$Y409,0)","v":0},null,{"$f":"+IF($H409=\"NO CUMPLE\",$Y409,0)","v":0},null,{"$f":"+IF($H409=\"no aplica\",2,0)","v":0}]
[]
[null,null,null,null,null,null,null,null,null,null,null,null,null,null,null,null,null,null,null,null,null,null,null,null,{"$f":"SUM(Y397:Y409)","v":1},{"$f":"IF($F393=\"\",0,SUM(Z397:Z409)*$F393)","v":{"$error":"#REF!"}},null,{"$f":"IF($F393=\"\",0,SUM(AB397:AB409)*$F393)","v":{"$error":"#REF!"}},null,{"$f":"IF($F393=\"\",0,SUM(AD397:AD409)*$F393)","v":{"$error":"#REF!"}}]
[]
[]
[null,null,null,{"$f":"'Matriz VERDE-GBCe'!#REF!","v":{"$error":"#REF!"}},{"$f":"VLOOKUP($D414,'Matriz VERDE-GBCe'!$V$6:$AH$61,2,FALSE)","v":{"$error":"#REF!"}},{"$f":"VLOOKUP($D414,'Matriz VERDE-GBCe'!$V$6:$AH$61,6,FALSE)","v":{"$error":"#REF!"}},null,null,null,null,null,"NOTAS",null,null,null,null,null,null,null,null,null,null,null,null,"Target","SEGURO",null,"EN REVISIÓN",null,"NO CUMPLE",null,"NO APLICA"]
[]
[null,null,null,"D.J","Fecha del archivo"]
[]
[null,null,null,"AE 03.1","El 30% de las parcelas están reservadas ",null,null,null,null,null,null,null,null,null,null,null,null,null,null,null,null,null,null,null,0.5,{"$f":"+IF($H418=\"seguro\",$Y418,0)","v":0},null,{"$f":"+IF($H418=\"EN REVISIÓN\",$Y418,0)","v":0},null,{"$f":"+IF($H418=\"NO CUMPLE\",$Y418,0)","v":0},null,{"$f":"+IF($H418=\"no aplica\",2,0)","v":0}]
[]
[]
[null,null,null,"AE 03.2","El 70% de las parcelas están reservadas",null,null,null,null,null,null,null,null,null,null,null,null,null,null,null,null,null,null,null,0.5,{"$f":"+IF($H421=\"seguro\",$Y421,0)","v":0},null,{"$f":"+IF($H421=\"EN REVISIÓN\",$Y421,0)","v":0},null,{"$f":"+IF($H421=\"NO CUMPLE\",$Y421,0)","v":0},null,{"$f":"+IF($H421=\"no aplica\",2,0)","v":0}]
[]
[null,null,null,null,null,null,null,null,null,null,null,null,null,null,null,null,null,null,null,null,null,null,null,null,{"$f":"SUM(Y418:Y421)","v":1},{"$f":"IF($F414=\"\",0,SUM(Z418:Z421)*$F414/$Y423)","v":{"$error":"#REF!"}},null,{"$f":"IF($F414=\"\",0,SUM(AB418:AB421)*$F414/$Y423)","v":{"$error":"#REF!"}},null,{"$f":"IF($F414=\"\",0,SUM(AD418:AD421)*$F414/$Y423)","v":{"$error":"#REF!"}}]
[]
[]
[null,null,null,{"$f":"'Matriz VERDE-GBCe'!#REF!","v":{"$error":"#REF!"}},{"$f":"VLOOKUP($D426,'Matriz VERDE-GBCe'!$V$6:$AH$61,2,FALSE)","v":{"$error":"#REF!"}},{"$f":"VLOOKUP($D426,'Matriz VERDE-GBCe'!$V$6:$AH$61,6,FALSE)","v":{"$error":"#REF!"}},null,null,null,null,null,"NOTAS",null,null,null,null,null,null,null,null,null,null,null,null,"Target","SEGURO",null,"EN REVISIÓN",null,"NO CUMPLE",null,"NO APLICA"]
[]
[null,null,null,"D.J","Fecha del archivo"]
[]
[null,null,null,"AE 04.1","Incentivar las certificaciones sostenibles de los edificios",null,null,null,null,null,null,null,null,null,null,null,null,null,null,null,null,null,null,null,0.4,{"$f":"+IF($H430=\"seguro\",$Y430,0)","v":0},null,{"$f":"+IF($H430=\"EN REVISIÓN\",$Y430,0)","v":0},null,{"$f":"+IF($H430=\"NO CUMPLE\",$Y430,0)","v":0},null,{"$f":"+IF($H430=\"no aplica\",2,0)","v":0}]
[]
[]
[null,null,null,"AE 04.1","Existe infraestructura de uso comunitario",null,null,null,null,null,null,null,null,null,null,null,null,null,null,null,null,null,null,null,0.3,{"$f":"+IF($H433=\"seguro\",$Y433,0)","v":0},null,{"$f":"+IF($H433=\"EN REVISIÓN\",$Y433,0)","v":0},null,{"$f":"+IF($H433=\"NO CUMPLE\",$Y433,0)","v":0},null,{"$f":"+IF($H433=\"no aplica\",2,0)","v":0}]
[]
[]
[null,null,null,"AE 04.1","Fondo de formación y bolsa de trabajo para empleo local",null,null,null,null,null,null,null,null,null,null,null,null,null,null,null,null,null,null,null,0.3,{"$f":"+IF($H436=\"seguro\",$Y436,0)","v":0},null,{"$f":"+IF($H436=\"EN REVISIÓN\",$Y436,0)","v":0},null,{"$f":"+IF($H436=\"NO CUMPLE\",$Y436,0)","v":0},null,{"$f":"+IF($H436=\"no aplica\",2,0)","v":0}]
[]
[null,null,null,null,null,null,null,null,null,null,null,null,null,null,null,null,null,null,null,null,null,null,null,null,{"$f":"SUM(Y430:Y436)","v":1},{"$f":"IF($F426=\"\",0,Z430*$F426)","v":{"$error":"#REF!"}},null,{"$f":"IF($F426=\"\",0,AB430*$F426)","v":{"$error":"#REF!"}},null,{"$f":"IF($F426=\"\",0,AD430*$F426)","v":{"$error":"#REF!"}}]
[]
[]
[null,null,null,{"$f":"'Matriz VERDE-GBCe'!#REF!","v":{"$error":"#REF!"}},{"$f":"VLOOKUP($D441,'Matriz VERDE-GBCe'!$V$6:$AH$61,2,FALSE)","v":{"$error":"#REF!"}},{"$f":"VLOOKUP($D441,'Matriz VERDE-GBCe'!$V$6:$AH$61,6,FALSE)","v":{"$error":"#REF!"}},null,null,null,null,null,"NOTAS",null,null,null,null,null,null,null,null,null,null,null,null,"Target","SEGURO",null,"EN REVISIÓN",null,"NO CUMPLE",null,"NO APLICA"]
[]
[null,null,null,"D.J","Fecha del archivo"]
[]
[null,null,null,"AE 05.1","El acceso a una vía rápida rodada está a menos de 1.500 m",null,null,null,null,null,null,null,null,null,null,null,null,null,null,null,null,null,null,null,{"$f":"IF(AF445=0,0.7,0)","v":0.7},{"$f":"+IF($H445=\"seguro\",$Y445,0)","v":0},null,{"$f":"+IF($H445=\"EN REVISIÓN\",$Y445,0)","v":0},null,{"$f":"+IF($H445=\"NO CUMPLE\",$Y445,0)","v":0},null,{"$f":"+IF($H445=\"no aplica\",2,0)","v":0}]
[]
[]
[null,null,null,"AE 05.2","El acceso a otras infraestructuras de transporte a menos de 5.000 m",null,null,null,null,null,null,null,null,null,null,null,null,null,null,null,null,null,null,null,{"$f":"IF(AF448=0,0.3,0)","v":0.3},{"$f":"+IF($H448=\"seguro\",$Y448,0)","v":0},null,{"$f":"+IF($H448=\"EN REVISIÓN\",$Y448,0)","v":0},null,{"$f":"+IF($H448=\"NO CUMPLE\",$Y448,0)","v":0},null,{"$f":"+IF($H448=\"no aplica\",2,0)","v":0}]
[]
[null,null,null,null,null,null,null,null,null,null,null,null,null,null,null,null,null,null,null,null,null,null,null,null,{"$f":"SUM(Y445:Y448)","v":1},{"$f":"IF($F441=\"\",0,SUM(Z445:Z448)*$F441/$Y450)","v":{"$error":"#REF!"}},null,{"$f":"IF($F441=\"\",0,SUM(AB445:AB448)*$F441/$Y450)","v":{"$error":"#REF!"}},null,{"$f":"IF($F441=\"\",0,SUM(AD445:AD448)*$F441/$Y450)","v":{"$error":"#REF!"}}]
[]
[]
[null,null,null,{"$f":"'Matriz VERDE-GBCe'!#REF!","v":{"$error":"#REF!"}},{"$f":"VLOOKUP($D453,'Matriz VERDE-GBCe'!$V$6:$AH$61,2,FALSE)","v":{"$error":"#REF!"}},{"$f":"VLOOKUP($D453,'Matriz VERDE-GBCe'!$V$6:$AH$61,6,FALSE)","v":{"$error":"#REF!"}},null,null,null,null,null,"NOTAS",null,null,null,null,null,null,null,null,null,null,null,null,"Target","SEGURO",null,"EN REVISIÓN",null,"NO CUMPLE",null,"NO APLICA"]
[]
[null,null,null,"D.J","Fecha del archivo"]
[]
[null,null,null,"AE 06.1","Toma de medidas de consumo energético por usos",null,null,null,null,null,null,null,null,null,null,null,null,null,null,null,null,null,null,null,0.35,{"$f":"+IF($H457=\"seguro\",$Y457,0)","v":0},null,{"$f":"+IF($H457=\"EN REVISIÓN\",$Y457,0)","v":0},null,{"$f":"+IF($H457=\"NO CUMPLE\",$Y457,0)","v":0},null,{"$f":"+IF($H457=\"no aplica\",2,0)","v":0}]
[]
[]
[null,null,null,"AE 06.2","Toma de medidas de consumo de agua por usos",null,null,null,null,null,null,null,null,null,null,null,null,null,null,null,null,null,null,null,0.15,{"$f":"+IF($H460=\"seguro\",$Y460,0)","v":0},null,{"$f":"+IF($H460=\"EN REVISIÓN\",$Y460,0)","v":0},null,{"$f":"+IF($H460=\"NO CUMPLE\",$Y460,0)","v":0},null,{"$f":"+IF($H460=\"no aplica\",2,0)","v":0}]
[]
[]
[null,null,null,"AE 06.3","Sistemas de monitorización y telemedida por usos",null,null,null,null,null,null,null,null,null,null,null,null,null,null,null,null,null,null,null,0.2,{"$f":"+IF($H463=\"seguro\",$Y463,0)","v":0},null,{"$f":"+IF($H463=\"EN REVISIÓN\",$Y463,0)","v":0},null,{"$f":"+IF($H463=\"NO CUMPLE\",$Y463,0)","v":0},null,{"$f":"+IF($H463=\"no aplica\",2,0)","v":0}]
[]
[]
[null,null,null,"AE 06.4","Sistemas de monitorización y telemedida sectorizado",null,null,null,null,null,null,null,null,null,null,null,null,null,null,null,null,null,null,null,0.2,{"$f":"+IF($H466=\"seguro\",$Y466,0)","v":0},null,{"$f":"+IF($H466=\"EN REVISIÓN\",$Y466,0)","v":0},null,{"$f":"+IF($H466=\"NO CUMPLE\",$Y466,0)","v":0},null,{"$f":"+IF($H466=\"no aplica\",2,0)","v":0}]
[]
[]
[null,null,null,"AE 06.5","Archivo de registro de medidas",null,null,null,null,null,null,null,null,null,null,null,null,null,null,null,null,null,null,null,0.1,{"$f":"+IF($H469=\"seguro\",$Y469,0)","v":0},null,{"$f":"+IF($H469=\"EN REVISIÓN\",$Y469,0)","v":0},null,{"$f":"+IF($H469=\"NO CUMPLE\",$Y469,0)","v":0},null,{"$f":"+IF($H469=\"no aplica\",2,0)","v":0}]
[]
[null,null,null,null,null,null,null,null,null,null,null,null,null,null,null,null,null,null,null,null,null,null,null,null,{"$f":"SUM(Y457:Y469)","v":0.99999999999999989},{"$f":"IF($F453=\"\",0,SUM(Z456:Z469)*$F453/$Y471)","v":{"$error":"#REF!"}},null,{"$f":"IF($F453=\"\",0,SUM(AB456:AB469)*$F453/$Y471)","v":{"$error":"#REF!"}},null,{"$f":"IF($F453=\"\",0,SUM(AD457:AD469)*$F453/$Y471)","v":{"$error":"#REF!"}}]
[]
[null,{"$f":"'Matriz VERDE-GBCe'!#REF!","v":{"$error":"#REF!"}},null,{"$f":"'Matriz VERDE-GBCe'!#REF!","v":{"$error":"#REF!"}}]
[]
[]
[null,null,null,{"$f":"'Matriz VERDE-GBCe'!#REF!","v":{"$error":"#REF!"}},{"$f":"VLOOKUP($D476,'Matriz VERDE-GBCe'!$V$6:$AH$61,2,FALSE)","v":{"$error":"#REF!"}},{"$f":"VLOOKUP($D476,'Matriz VERDE-GBCe'!$V$6:$AH$61,6,FALSE)","v":{"$error":"#REF!"}},null,null,null,null,null,"NOTAS",null,null,null,null,null,null,null,null,null,null,null,null,"Target","SEGURO",null,"EN REVISIÓN",null,"NO CUMPLE",null,"NO APLICA"]
[]
[null,null,null,"D.J","Fecha del archivo"]
[]
[null,null,null,"CC 01.1","Documento de requisitos previo al proyecto",null,null,null,null,null,null,null,null,null,null,null,null,null,null,null,null,null,null,null,0.2,{"$f":"+IF($H480=\"seguro\",$Y480,0)","v":0},null,{"$f":"+IF($H480=\"EN REVISIÓN\",$Y480,0)","v":0},null,{"$f":"+IF($H480=\"NO CUMPLE\",$Y480,0)","v":0},null,{"$f":"+IF($H480=\"no aplica\",2,0)","v":0}]
[]
[]
[null,null,null,"CC 01.2","Análisis de alternativas constructivas y de diseño",null,null,null,null,null,null,null,null,null,null,null,null,null,null,null,null,null,null,null,0.2,{"$f":"+IF($H483=\"seguro\",$Y483,0)","v":0},null,{"$f":"+IF($H483=\"EN REVISIÓN\",$Y483,0)","v":0},null,{"$f":"+IF($H483=\"NO CUMPLE\",$Y483,0)","v":0},null,{"$f":"+IF($H483=\"no aplica\",2,0)","v":0}]
[]
[]
[null,null,null,"CC 01.3","Guías de diseño que se han tenido en cuenta",null,null,null,null,null,null,null,null,null,null,null,null,null,null,null,null,null,null,null,0.2,{"$f":"+IF($H486=\"seguro\",$Y486,0)","v":0},null,{"$f":"+IF($H486=\"EN REVISIÓN\",$Y486,0)","v":0},null,{"$f":"+IF($H486=\"NO CUMPLE\",$Y486,0)","v":0},null,{"$f":"+IF($H486=\"no aplica\",2,0)","v":0}]
[]
[]
[null,null,null,"CC 01.4","Equipo de diseño integrado",null,null,null,null,null,null,null,null,null,null,null,null,null,null,null,null,null,null,null,0.2,{"$f":"+IF($H489=\"seguro\",$Y489,0)","v":0},null,{"$f":"+IF($H489=\"EN REVISIÓN\",$Y489,0)","v":0},null,{"$f":"+IF($H489=\"NO CUMPLE\",$Y489,0)","v":0},null,{"$f":"+IF($H489=\"no aplica\",2,0)","v":0}]
[]
[]
[null,null,null,"CC 01.5","Participación del cliente en el proceso de diseño",null,null,null,null,null,null,null,null,null,null,null,null,null,null,null,null,null,null,null,0.2,{"$f":"+IF($H492=\"seguro\",$Y492,0)","v":0},null,{"$f":"+IF($H492=\"EN REVISIÓN\",$Y492,0)","v":0},null,{"$f":"+IF($H492=\"NO CUMPLE\",$Y492,0)","v":0},null,{"$f":"+IF($H492=\"no aplica\",2,0)","v":0}]
[]
[null,null,null,null,null,null,null,null,null,null,null,null,null,null,null,null,null,null,null,null,null,null,null,null,{"$f":"SUM(Y480:Y492)","v":1},{"$f":"IF($F476=\"\",0,SUM(Z480:Z492)*$F476/$Y494)","v":{"$error":"#REF!"}},null,{"$f":"IF($F476=\"\",0,SUM(AB480:AB492)*$F476/$Y494)","v":{"$error":"#REF!"}},null,{"$f":"IF($F476=\"\",0,SUM(AD480:AD483)*$F476/$Y494)","v":{"$error":"#REF!"}}]
[]
[]
[null,null,null,{"$f":"'Matriz VERDE-GBCe'!#REF!","v":{"$error":"#REF!"}},{"$f":"VLOOKUP($D497,'Matriz VERDE-GBCe'!$V$6:$AH$61,2,FALSE)","v":{"$error":"#REF!"}},{"$f":"VLOOKUP($D497,'Matriz VERDE-GBCe'!$V$6:$AH$61,6,FALSE)","v":{"$error":"#REF!"}},null,null,null,null,null,"NOTAS",null,null,null,null,null,null,null,null,null,null,null,null,"Target","SEGURO",null,"EN REVISIÓN",null,"NO CUMPLE",null,"NO APLICA"]
[]
[null,null,null,"D.J","Fecha del archivo"]
[]
[null,null,null,"CC 02.1","Se prevé la figura de gestor de mantenimiento",null,null,null,null,null,null,null,null,null,null,null,null,null,null,null,null,null,null,null,{"$f":"IF(AF501=0,0.1,0)","v":0.1},{"$f":"+IF($H501=\"seguro\",$Y501,0)","v":0},null,{"$f":"+IF($H501=\"EN REVISIÓN\",$Y501,0)","v":0},null,{"$f":"+IF($H501=\"NO CUMPLE\",$Y501,0)","v":0},null,{"$f":"+IF($H501=\"no aplica\",2,0)","v":0}]
[]
[]
[null,null,null,"CC 02.2","Existe un plan de gfestión y mantenimineto",null,null,null,null,null,null,null,null,null,null,null,null,null,null,null,null,null,null,null,{"$f":"IF(AF504=0,0.5,0)","v":0.5},{"$f":"+IF($H504=\"seguro\",$Y504,0)","v":0},null,{"$f":"+IF($H504=\"EN REVISIÓN\",$Y504,0)","v":0},null,{"$f":"+IF($H504=\"NO CUMPLE\",$Y504,0)","v":0},null,{"$f":"+IF($H504=\"no aplica\",2,0)","v":0}]
[]
[]
[null,null,null,"CC 02.3","Existe un compromiso de mejora en dos años",null,null,null,null,null,null,null,null,null,null,null,null,null,null,null,null,null,null,null,{"$f":"IF(AF507=0,0.4,0)","v":0.4},{"$f":"+IF($H507=\"seguro\",$Y507,0)","v":0},null,{"$f":"+IF($H507=\"EN REVISIÓN\",$Y507,0)","v":0},null,{"$f":"+IF($H507=\"NO CUMPLE\",$Y507,0)","v":0},null,{"$f":"+IF($H507=\"no aplica\",2,0)","v":0}]
[]
[null,null,null,null,null,null,null,null,null,null,null,null,null,null,null,null,null,null,null,null,null,null,null,null,{"$f":"SUM(Y501:Y507)","v":1},{"$f":"IF($F497=\"\",0,SUM(Z501:Z507)*$F497/$Y509)","v":{"$error":"#REF!"}},null,{"$f":"IF($F497=\"\",0,SUM(AB501:AB507)*$F497/$Y509)","v":{"$error":"#REF!"}},null,{"$f":"IF($F497=\"\",0,SUM(AD501:AD507)*$F497/$Y509)","v":{"$error":"#REF!"}}]
[]
[]
[null,null,null,{"$f":"'Matriz VERDE-GBCe'!#REF!","v":{"$error":"#REF!"}},{"$f":"VLOOKUP($D512,'Matriz VERDE-GBCe'!$V$6:$AH$61,2,FALSE)","v":{"$error":"#REF!"}},{"$f":"VLOOKUP($D512,'Matriz VERDE-GBCe'!$V$6:$AH$61,6,FALSE)","v":{"$error":"#REF!"}},null,null,null,null,null,"NOTAS",null,null,null,null,null,null,null,null,null,null,null,null,"Target","SEGURO",null,"EN REVISIÓN",null,"NO CUMPLE",null,"NO APLICA"]
[]
[null,null,null,"D.J","Fecha del archivo"]
[]
[null,null,null,"CC 04.1","Existe una preinstalación para redes de fibra óptica",null,null,null,null,null,null,null,null,null,null,null,null,null,null,null,null,null,null,null,0.3,{"$f":"+IF($H516=\"seguro\",$Y516,0)","v":0},null,{"$f":"+IF($H516=\"EN REVISIÓN\",$Y516,0)","v":0},null,{"$f":"+IF($H516=\"NO CUMPLE\",$Y516,0)","v":0},null,{"$f":"+IF($H516=\"no aplica\",2,0)","v":0}]
[]
[]
[null,null,null,"CC 04.2","Existe una red de fibra óptica",null,null,null,null,null,null,null,null,null,null,null,null,null,null,null,null,null,null,null,0.75,{"$f":"+IF($H519=\"seguro\",$Y519,0)","v":0},null,{"$f":"+IF($H519=\"EN REVISIÓN\",$Y519,0)","v":0},null,{"$f":"+IF($H519=\"NO CUMPLE\",$Y519,0)","v":0},null,{"$f":"+IF($H519=\"no aplica\",2,0)","v":0}]
[]
[]
[null,null,null,"CC 04.3","Hay cobertura wifi abierta en el polígono",null,null,null,null,null,null,null,null,null,null,null,null,null,null,null,null,null,null,null,0.25,{"$f":"+IF($H522=\"seguro\",$Y522,0)","v":0},null,{"$f":"+IF($H522=\"EN REVISIÓN\",$Y522,0)","v":0},null,{"$f":"+IF($H522=\"NO CUMPLE\",$Y522,0)","v":0},null,{"$f":"+IF($H522=\"no aplica\",2,0)","v":0}]
[]
[null,null,null,null,null,null,null,null,null,null,null,null,null,null,null,null,null,null,null,null,null,null,null,null,{"$f":"SUM(Y519:Y522)","v":1},{"$f":"IF($F512=\"\",0,SUM(Z516:Z522)*$F512/$Y524)","v":{"$error":"#REF!"}},null,{"$f":"IF($F512=\"\",0,AB516*$F512)","v":{"$error":"#REF!"}},null,{"$f":"IF($F512=\"\",0,AD516*$F512)","v":{"$error":"#REF!"}}]
[]
[]
[]
[null,null,null,null,null,null,null,null,null,"SEGUROS",null,null,null,"EN REVISIÓN",null,null,null,"NO CUMPLE",null,null,null,null,null,null,{"$f":"SUM(F7:G512)","v":{"$error":"#REF!"}}]
[]
[null,null,null,null,null,"SUBTOTAL",null,null,null,{"$f":"Z524++Z509+Z494+Z471+Z450+Z438+Z423+Z411+Z390+Z376+Z361+Z340+Z328+Z316+Z304+Z283+Z292+Z250+Z235+Z217+Z208+Z190+Z175+Z166+Z146+Z137+Z104+Z84+Z72+Z46+Z31+Z16+Z199","v":{"$error":"#REF!"}},null,null,null,{"$f":"AB524+AB509+AB494+AB471+AB450+AB438+AB423+AB411+AB390+AB376+AB361+AB340+AB328+AB316+AB304+AB283+AB292+AB250+AB235+AB217+AB208+AB190+AB199+AB175+AB166+AB146+AB137+AB104+AB84+AB72+AB46+AB31+AB16","v":{"$error":"#REF!"}},null,null,null,{"$f":"AD524+AD509+AD494+AD471+AD450+AD438+AD423+AD411+AD390+AD376+AD361+AD340+AD328+AD316+AD304+AD283+AD292+AD250+AD235+AD217+AD208+AD190+AD199+AD175+AD166+AD146+AD137+AD104+AD84+AD72+AD46+AD31+AD16","v":{"$error":"#REF!"}},null,null,null,null,"                                                                                                                                                                        "]
[]
[]
[null,"IN",null,"Innovación",null,{"$f":"SUM(F536:F560)","v":0.05}]
[]
[]
[null,null,null,"IN 01","Criterio 1",0.05,null,null,null,null,null,"NOTAS",null,null,null,null,null,null,null,null,null,null,null,null,"Target","SEGURO",null,"PROBABLE",null,"DUDOSO",null,"NO APLICA"]
[]
[null,null,null,"D.J","Fecha del archivo"]
[]
[null,null,null,"medida de innovación aprobada por GCBe",null,null,null,null,null,null,null,null,null,null,null,null,null,null,null,null,null,null,null,null,0.2,{"$f":"+IF($H540=\"seguro\",$Y540,0)","v":0},null,{"$f":"+IF($H540=\"EN REVISIÓN\",$Y540,0)","v":0},null,{"$f":"+IF($H540=\"NO CUMPLE\",$Y540,0)","v":0},null,{"$f":"+IF($H540=\"no aplica\",2,0)","v":0}]
[]
[]
[null,null,null,"D.J","Fecha del archivo"]
[]
[null,null,null,"medida de innovación aprobada por GCBe",null,null,null,null,null,null,null,null,null,null,null,null,null,null,null,null,null,null,null,null,0.2,{"$f":"+IF($H545=\"seguro\",$Y545,0)","v":0},null,{"$f":"+IF($H545=\"EN REVISIÓN\",$Y545,0)","v":0},null,{"$f":"+IF($H545=\"NO CUMPLE\",$Y545,0)","v":0},null,{"$f":"+IF($H545=\"no aplica\",2,0)","v":0}]
[]
[]
[null,null,null,"D.J","Fecha del archivo"]
[]
[null,null,null,"medida de innovación aprobada por GCBe",null,null,null,null,null,null,null,null,null,null,null,null,null,null,null,null,null,null,null,null,0.2,{"$f":"+IF($H550=\"seguro\",$Y550,0)","v":0},null,{"$f":"+IF($H550=\"EN REVISIÓN\",$Y550,0)","v":0},null,{"$f":"+IF($H550=\"NO CUMPLE\",$Y550,0)","v":0},null,{"$f":"+IF($H550=\"no aplica\",2,0)","v":0}]
[]
[]
[null,null,null,"D.J","Fecha del archivo"]
[]
[null,null,null,"medida de innovación aprobada por GCBe",null,null,null,null,null,null,null,null,null,null,null,null,null,null,null,null,null,null,null,null,0.2,{"$f":"+IF($H555=\"seguro\",$Y555,0)","v":0},null,{"$f":"+IF($H555=\"EN REVISIÓN\",$Y555,0)","v":0},null,{"$f":"+IF($H555=\"NO CUMPLE\",$Y555,0)","v":0},null,{"$f":"+IF($H555=\"no aplica\",2,0)","v":0}]
[]
[]
[null,null,null,"D.J","Fecha del archivo"]
[]
[null,null,null,"medida de innovación aprobada por GCBe",null,null,null,null,null,null,null,null,null,null,null,null,null,null,null,null,null,null,null,null,0.2,{"$f":"+IF($H560=\"seguro\",$Y560,0)","v":0},null,{"$f":"+IF($H560=\"EN REVISIÓN\",$Y560,0)","v":0},null,{"$f":"+IF($H560=\"NO CUMPLE\",$Y560,0)","v":0},null,{"$f":"+IF($H560=\"no aplica\",2,0)","v":0}]
[]
[null,null,null,null,null,null,null,null,null,null,null,null,null,null,null,null,null,null,null,null,null,null,null,null,{"$f":"SUM(Y540:Y560)","v":1},{"$f":"IF($F536=\"\",0,SUM(Z540:Z560)*$F536/$Y562)","v":0},null,{"$f":"IF($F536=\"\",0,SUM(AB540:AB560)*$F536/$Y562)","v":0},null,{"$f":"IF($F536=\"\",0,SUM(AD540:AD560)*$F536/$Y562)","v":0}]
[]
[]
[null,null,null,null,null,null,null,null,null,"SEGUROS",null,null,null,"EN REVISIÓN",null,null,null,"NO CUMPLE",null,null,null,null,null,null,"S","S+P","S+P+D"]
[]
[null,null,null,null,null,"SUBTOTAL",null,null,null,{"$f":"J530+Z562","v":{"$error":"#REF!"}},null,null,null,{"$f":"N530+AB562","v":{"$error":"#REF!"}},null,null,null,{"$f":"R530+AD562","v":{"$error":"#REF!"}},null,null,null,null,null,null,{"$f":"J567","v":{"$error":"#REF!"}},{"$f":"H567+J567","v":{"$error":"#REF!"}},{"$f":"H567+J567+L567","v":{"$error":"#REF!"}}," hoja"]
[]
[null,null,null,null,null,null,null,null,null,null,null,null,null,null,null,null,null,null,null,null,null,null,null,null,{"$f":"IF(AND(Y567<0.4,Y567>=0.2),1,IF(Y567>=0.9,5,IF(AND(Y567<0.6,Y567>=0.4),2,IF(AND(Y567<0.75,Y567>=0.6),3,IF(AND(Y567<0.9,Y567>=0.75),4,IF(Y567<=0.2,0))))))","v":{"$error":"#REF!"}},{"$f":"IF(AND(Z567<0.4,Z567>=0.3),1,IF(Z567>=0.8,5,IF(AND(Z567<0.5,Z567>=0.4),2,IF(AND(Z567<0.6,Z567>=0.5),3,IF(AND(Z567<0.8,Z567>=0.6),4,IF(Z567<=0.3,0))))))","v":{"$error":"#REF!"}},{"$f":"IF(AND(AA567<0.4,AA567>=0.3),1,IF(AA567>=0.8,5,IF(AND(AA567<0.5,AA567>=0.4),2,IF(AND(AA567<0.6,AA567>=0.5),3,IF(AND(AA567<0.8,AA567>=0.6),4,IF(AA567<=0.3,0))))))","v":{"$error":"#REF!"}}," hojas"]
[null,null,"  Los criterios seguros dan un resultado de ",null,null,null,{"$f":"CONCATENATE(Y569,Y570)","v":{"$error":"#REF!"}},null,null,null,null,null,null,null,null,null,null,null,null,null,null,null,null,null,{"$f":"IF(Y569=1,AB567,AB569)","v":{"$error":"#REF!"}},{"$f":"IF(Z569=1,AB567,AB569)","v":{"$error":"#REF!"}},{"$f":"IF(AA569=1,AB567,AB569)","v":{"$error":"#REF!"}}]
[]
[null,null,null,null,"Limpiar contenidos"]

{"sheet":"Portada ","index":7,"n_rows":9,"n_cols":5,"rows_kept":9,"cut":false,"hidden":false,"merged":[[8,4,8,5],[1,3,1,6],[2,2,2,8],[3,4,3,6],[4,4,4,6],[5,4,5,6],[7,4,7,6]]}
[]
[]
[null,null,"VERDE Edificios 2020"]
[null,null,null,null,"Evaluación de la sostenibilidad en edificios"]
[null,null,null,null,"Residencial privado"]
[null,null,null,null,"Nueva Edificación, ReHabilitación, Edificios Existentes y mixtos"]
[]
[null,null,null,null,"VERDE Edificios 2020"]
[null,null,null,null,"Revisión diciembre de 2021"]

{"sheet":"Instrucciones","index":8,"n_rows":38,"n_cols":4,"rows_kept":38,"cut":false,"hidden":false,"merged":[[1,1,1,5],[5,2,5,4],[10,2,10,4],[29,2,29,4],[35,2,35,4],[2,1,2,5]]}
[]
[]
[null,"VERDE Edificios 2020"]
[null,null,null,"Instrucciones de uso"]
[]
[null,null,"Celdas a rellenar"]
[]
[null,null,null,"Solo se rellenan las celdas sombreadas."]
[]
[]
[null,null,"Pestañas"]
[]
[null,null,null,"Para navegar por la herramienta existen una serie de pestañas que se pueden ver en el margen inferior de la ventana, a continación se describen los contenidos de cada una de ellas:"]
[]
[null,null,null,"DG (datos generales): En ella se introducirán los datos del edificio, el proyecto y el EA VERDE que realiza la evaluación."]
[]
[null,null,null,"CA (criterios aplicables): En esta pestaña se pueden personalizar los criterios que serán de aplicación para una evaluación. De cara a una certificación, deberán estar todos los criterios activos a menos que se haya justificado la no aplicabilidad de alguno de ellos y se haya aprobado por GBCe."]
[]
[null,null,null,"PRE (pre-evaluación): En esta pestaña se puede hacer una preevaluación del edificio. En el listado de criterios, se indicará qué criterios es seguro (s) que se van a cumplir, cuáles son probables (p), difícil (d) o cuáles no se van a cumplir (n). En función de los datos introducidos, la herramienta informará de las posibles valoraciones del edificio."]
[]
[null,null,null,"Pestañas de certificación: por cada una de las áreas de evaluación, tenemos una pestaña donde se introducirán los datos generales para la evaluación y los resultados criterio a criterio. Al final de la hoja, aparece la valoración que se ha obtenido en la misma."]
[]
[null,null,null,"Informe resultados: en esta hoja aparecen los resultados de la evaluación, con la calificación de la certificación y un resumen de los resultados por criterios"]
[]
[null,null,null,"Resultados por impactos: en esta hoja se ofrece la mejora alcanzada por el edificio en los distintos impactos evaluados sobre la referencia establecida."]
[]
[null,null,null,"Indicadores: en esta hoja se ofrecen los datos cuantitativos de los indicadores correspondientes a cada impacto de forma cualitativa y referido a la referencia establecida. Se indica a qué fase del ciclo de vida se hace referencia y cuál es el alcance del cálculo."]
[]
[]
[null,null,"Celdas Documento Justificativos"]
[]
[null,null,null,"Estas celdas aparecen, tanto en la pestaña de datos generales, como en las pestañas de certificación, en cada uno de los criterios. En ellas habrá que indicar si se han incluido, no se han incluido o no son de aplicación, en los archivos de evaluación los Documentos Justificativos (D.J.) correspondientes."]
[null,null,null,"Los D.J. solicitados para justificar la evaluación de cara a una certificación con VERDE, se describen en la guía de la herramienta."]
[]
[]
[null,null,"¿Cómo hacer la evaluación de los criterios?"]
[]
[null,null,null,"El método de evaluación de cada uno de los criterios, aparece definido en la guía de evaluación de la herramienta que se puede descargar en la página web."]

{"sheet":"zona clima","index":9,"n_rows":60,"n_cols":77,"rows_kept":60,"cut":false,"hidden":true,"merged":[[3,30,3,31],[3,8,3,9],[3,10,3,11],[3,12,3,13],[3,14,3,15],[3,16,3,17],[3,18,3,19],[3,20,3,21],[3,22,3,23],[3,24,3,25],[3,26,3,27],[3,28,3,29],[3,54,3,55],[3,32,3,33],[3,34,3,35],[3,36,3,37],[3,38,3,39],[3,40,3,41],[3,42,3,43],[57,34,57,35],[3,56,3,57],[3,58,3,59],[57,8,57,9],[57,10,57,11],[57,12,57,13],[57,14,57,15],[57,16,57,17],[57,18,57,19],[57,20,57,21],[57,22,57,23],[3,44,3,45],[3,46,3,47],[3,48,3,49],[3,50,3,51],[3,52,3,53],[57,24,57,25],[57,26,57,27],[57,28,57,29],[57,30,57,31],[57,32,57,33],[57,58,57,59],[57,36,57,37],[57,38,57,39],[57,40,57,41],[57,42,57,43],[57,44,57,45],[57,46,57,47],[57,48,57,49],[57,50,57,51],[57,52,57,53],[57,54,57,55],[57,56,57,57]]}
[null,null,null,null,null,null,null,null,"A","B","C","D","E"]
[null,null,null,null,null,null,null,null,1,2,3,4]
[]
[null,null,null,null,"CAPITAL ","Z.C. INVIERNO","Z.C. VERANO ","ALTITUD","0-50",null,"50-100",null,"100-150",null,"150-200",null,"200-250",null,"250-300",null,"300-350",null,"350-400",null,"400-450",null,"450-500",null,"500-550",null,"550-600",null,"600-650",null,"650-700",null,"700-750",null,"750-800",null,"800-850",null,"850-900",null,"900-950",null,"950-1000",null,"1000-1050",null,"1100-1150",null,"1150-1200",null,"1200-1250",null,"1250-1300",null,">=1300",null,null,"A4","A3","A2","A1","B4","B3","B2","B1","C4","C3","C2","C1","D3","D2","D1","E1"]
[null,"capital de provincia",{"$f":"IF('DG '!F14=0,\"\",'DG '!F14)","v":""},null,"Albacete",{"$f":"$L$1","v":"D"},{"$f":"$K$2","v":3},677,{"$f":"$K$1","v":"C"},{"$f":"$K$2","v":3},{"$f":"$K$1","v":"C"},{"$f":"$K$2","v":3},{"$f":"$K$1","v":"C"},{"$f":"$K$2","v":3},{"$f":"$K$1","v":"C"},{"$f":"$K$2","v":3},{"$f":"$K$1","v":"C"},{"$f":"$K$2","v":3},{"$f":"$K$1","v":"C"},{"$f":"$K$2","v":3},{"$f":"$K$1","v":"C"},{"$f":"$K$2","v":3},{"$f":"$K$1","v":"C"},{"$f":"$K$2","v":3},{"$f":"$K$1","v":"C"},{"$f":"$K$2","v":3},{"$f":"$L$1","v":"D"},{"$f":"$K$2","v":3},{"$f":"$L$1","v":"D"},{"$f":"$K$2","v":3},{"$f":"$L$1","v":"D"},{"$f":"$K$2","v":3},{"$f":"$L$1","v":"D"},{"$f":"$K$2","v":3},{"$f":"$L$1","v":"D"},{"$f":"$K$2","v":3},{"$f":"$L$1","v":"D"},{"$f":"$K$2","v":3},{"$f":"$L$1","v":"D"},{"$f":"$K$2","v":3},{"$f":"$L$1","v":"D"},{"$f":"$K$2","v":3},{"$f":"$L$1","v":"D"},{"$f":"$K$2","v":3},{"$f":"$L$1","v":"D"},{"$f":"$K$2","v":3},{"$f":"$M$1","v":"E"},{"$f":"$I$2","v":1},"E",1,"E",1,"E",1,"E",1,"E",1,"E",1,null,null,null,null,null,null,null,null,null,null,"<450",null,null,"<950",null,null,">=950"]
[null,"altura capital",{"$f":"IF(C5=\"\",\"\",VLOOKUP(C5,E5:BJ55,3,FALSE))","v":""},null,"Alicante",{"$f":"$J$1","v":"B"},{"$f":"$L$2","v":4},7,{"$f":"$J$1","v":"B"},{"$f":"$L$2","v":4},{"$f":"$J$1","v":"B"},{"$f":"$L$2","v":4},{"$f":"$J$1","v":"B"},{"$f":"$L$2","v":4},{"$f":"$J$1","v":"B"},{"$f":"$L$2","v":4},{"$f":"$J$1","v":"B"},{"$f":"$L$2","v":4},{"$f":"$K$1","v":"C"},{"$f":"$K$2","v":3},{"$f":"$K$1","v":"C"},{"$f":"$K$2","v":3},{"$f":"$K$1","v":"C"},{"$f":"$K$2","v":3},{"$f":"$K$1","v":"C"},{"$f":"$K$2","v":3},{"$f":"$K$1","v":"C"},{"$f":"$K$2","v":3},{"$f":"$K$1","v":"C"},{"$f":"$K$2","v":3},{"$f":"$K$1","v":"C"},{"$f":"$K$2","v":3},{"$f":"$K$1","v":"C"},{"$f":"$K$2","v":3},{"$f":"$K$1","v":"C"},{"$f":"$K$2","v":3},{"$f":"$L$1","v":"D"},{"$f":"$K$2","v":3},{"$f":"$L$1","v":"D"},{"$f":"$K$2","v":3},{"$f":"$L$1","v":"D"},{"$f":"$K$2","v":3},{"$f":"$L$1","v":"D"},{"$f":"$K$2","v":3},{"$f":"$L$1","v":"D"},{"$f":"$K$2","v":3},{"$f":"$L$1","v":"D"},{"$f":"$K$2","v":3},{"$f":"$L$1","v":"D"},{"$f":"$K$2","v":3},{"$f":"$L$1","v":"D"},{"$f":"$K$2","v":3},{"$f":"$L$1","v":"D"},{"$f":"$K$2","v":3},{"$f":"$L$1","v":"D"},{"$f":"$K$2","v":3},{"$f":"$L$1","v":"D"},{"$f":"$K$2","v":3},{"$f":"$L$1","v":"D"},{"$f":"$K$2","v":3},null,null,null,null,null,"<250",null,null,null,null,"<700",null,null,">=700"]
[null,"altura localidad",{"$f":"IF('DG '!F16=\"\",\"\",'DG '!F16)","v":""},null,"Almería",{"$f":"$I$1","v":"A"},{"$f":"$L$2","v":4},0,"A",{"$f":"$L$2","v":4},"A",{"$f":"$L$2","v":4},{"$f":"$J$1","v":"B"},{"$f":"$L$2","v":4},{"$f":"$J$1","v":"B"},{"$f":"$L$2","v":4},{"$f":"$J$1","v":"B"},{"$f":"$L$2","v":4},{"$f":"$J$1","v":"B"},{"$f":"$K$2","v":3},{"$f":"$J$1","v":"B"},{"$f":"$K$2","v":3},{"$f":"$J$1","v":"B"},{"$f":"$K$2","v":3},{"$f":"$K$1","v":"C"},{"$f":"$K$2","v":3},{"$f":"$K$1","v":"C"},{"$f":"$K$2","v":3},{"$f":"$K$1","v":"C"},{"$f":"$K$2","v":3},{"$f":"$K$1","v":"C"},{"$f":"$K$2","v":3},{"$f":"$K$1","v":"C"},{"$f":"$K$2","v":3},{"$f":"$K$1","v":"C"},{"$f":"$K$2","v":3},{"$f":"$K$1","v":"C"},{"$f":"$K$2","v":3},{"$f":"$K$1","v":"C"},{"$f":"$K$2","v":3},{"$f":"$L$1","v":"D"},{"$f":"$K$2","v":3},{"$f":"$L$1","v":"D"},{"$f":"$K$2","v":3},{"$f":"$L$1","v":"D"},{"$f":"$K$2","v":3},{"$f":"$L$1","v":"D"},{"$f":"$K$2","v":3},{"$f":"$L$1","v":"D"},{"$f":"$K$2","v":3},{"$f":"$L$1","v":"D"},{"$f":"$K$2","v":3},{"$f":"$L$1","v":"D"},{"$f":"$K$2","v":3},{"$f":"$L$1","v":"D"},{"$f":"$K$2","v":3},{"$f":"$L$1","v":"D"},{"$f":"$K$2","v":3},{"$f":"$L$1","v":"D"},{"$f":"$K$2","v":3},null,"<100",null,null,null,"<250","<400",null,null,null,"<800",null,null,">=800"]
[null,"REDONDEO ALTITUD",{"$f":"IF(C7>=1300,1300,IF(AND(C7>=1250,C7<1300),1250,ROUND((C7+25)/50,0)*50))","v":1300},null,"Ávila",{"$f":"$M$1","v":"E"},{"$f":"$I$2","v":1},1054,{"$f":"$L$1","v":"D"},{"$f":"$J$2","v":2},{"$f":"$L$1","v":"D"},{"$f":"$J$2","v":2},{"$f":"$L$1","v":"D"},{"$f":"$J$2","v":2},{"$f":"$L$1","v":"D"},{"$f":"$J$2","v":2},{"$f":"$L$1","v":"D"},{"$f":"$J$2","v":2},{"$f":"$L$1","v":"D"},{"$f":"$J$2","v":2},{"$f":"$L$1","v":"D"},{"$f":"$J$2","v":2},{"$f":"$L$1","v":"D"},{"$f":"$J$2","v":2},{"$f":"$L$1","v":"D"},{"$f":"$J$2","v":2},{"$f":"$L$1","v":"D"},{"$f":"$J$2","v":2},{"$f":"$L$1","v":"D"},{"$f":"$J$2","v":2},{"$f":"$L$1","v":"D"},{"$f":"$I$2","v":1},{"$f":"$L$1","v":"D"},{"$f":"$I$2","v":1},{"$f":"$L$1","v":"D"},{"$f":"$I$2","v":1},{"$f":"$L$1","v":"D"},{"$f":"$I$2","v":1},{"$f":"$L$1","v":"D"},{"$f":"$I$2","v":1},{"$f":"$L$1","v":"D"},{"$f":"$I$2","v":1},{"$f":"$M$1","v":"E"},{"$f":"$I$2","v":1},{"$f":"$M$1","v":"E"},{"$f":"$I$2","v":1},{"$f":"$M$1","v":"E"},{"$f":"$I$2","v":1},{"$f":"$M$1","v":"E"},{"$f":"$I$2","v":1},{"$f":"$M$1","v":"E"},{"$f":"$I$2","v":1},{"$f":"$M$1","v":"E"},{"$f":"$I$2","v":1},{"$f":"$M$1","v":"E"},{"$f":"$I$2","v":1},{"$f":"$M$1","v":"E"},{"$f":"$I$2","v":1},{"$f":"$M$1","v":"E"},{"$f":"$I$2","v":1},null,null,null,null,null,null,null,null,null,null,null,null,"<50",null,null,"<550",">=550"]
[null,"Nº DE COLUMNA",{"$f":"(C8/50)*2","v":52},null,"Badajoz",{"$f":"$K$1","v":"C"},{"$f":"$L$2","v":4},168,{"$f":"$K$1","v":"C"},{"$f":"$L$2","v":4},{"$f":"$K$1","v":"C"},{"$f":"$L$2","v":4},{"$f":"$K$1","v":"C"},{"$f":"$L$2","v":4},{"$f":"$K$1","v":"C"},{"$f":"$L$2","v":4},{"$f":"$K$1","v":"C"},{"$f":"$L$2","v":4},{"$f":"$K$1","v":"C"},{"$f":"$L$2","v":4},{"$f":"$K$1","v":"C"},{"$f":"$L$2","v":4},{"$f":"$K$1","v":"C"},{"$f":"$L$2","v":4},{"$f":"$K$1","v":"C"},{"$f":"$K$2","v":3},{"$f":"$L$1","v":"D"},{"$f":"$K$2","v":3},{"$f":"$L$1","v":"D"},{"$f":"$K$2","v":3},{"$f":"$L$1","v":"D"},{"$f":"$K$2","v":3},{"$f":"$L$1","v":"D"},{"$f":"$K$2","v":3},{"$f":"$L$1","v":"D"},{"$f":"$K$2","v":3},{"$f":"$L$1","v":"D"},{"$f":"$K$2","v":3},{"$f":"$L$1","v":"D"},{"$f":"$K$2","v":3},{"$f":"$L$1","v":"D"},{"$f":"$K$2","v":3},{"$f":"$L$1","v":"D"},{"$f":"$K$2","v":3},{"$f":"$L$1","v":"D"},{"$f":"$K$2","v":3},{"$f":"$L$1","v":"D"},{"$f":"$K$2","v":3},{"$f":"$L$1","v":"D"},{"$f":"$K$2","v":3},{"$f":"$L$1","v":"D"},{"$f":"$K$2","v":3},{"$f":"$L$1","v":"D"},{"$f":"$K$2","v":3},{"$f":"$L$1","v":"D"},{"$f":"$K$2","v":3},{"$f":"$L$1","v":"D"},{"$f":"$K$2","v":3},{"$f":"$L$1","v":"D"},{"$f":"$K$2","v":3},null,null,null,null,null,null,null,null,null,null,null,null,null,null,"<550","<850",">=850"]
[null,"ZC Invierno localidad",{"$f":"IF(C5=\"\",\"\",VLOOKUP(C$5,$E:$BH,C$9+3,FALSE))","v":""},null,"Barcelona",{"$f":"$K$1","v":"C"},{"$f":"$J$2","v":2},1,{"$f":"$K$1","v":"C"},{"$f":"$J$2","v":2},{"$f":"$K$1","v":"C"},{"$f":"$J$2","v":2},{"$f":"$K$1","v":"C"},{"$f":"$J$2","v":2},{"$f":"$K$1","v":"C"},{"$f":"$J$2","v":2},{"$f":"$K$1","v":"C"},{"$f":"$J$2","v":2},{"$f":"$L$1","v":"D"},{"$f":"$J$2","v":2},{"$f":"$L$1","v":"D"},{"$f":"$J$2","v":2},{"$f":"$L$1","v":"D"},{"$f":"$J$2","v":2},{"$f":"$L$1","v":"D"},{"$f":"$J$2","v":2},{"$f":"$L$1","v":"D"},{"$f":"$I$2","v":1},{"$f":"$L$1","v":"D"},{"$f":"$I$2","v":1},{"$f":"$L$1","v":"D"},{"$f":"$I$2","v":1},{"$f":"$L$1","v":"D"},{"$f":"$I$2","v":1},{"$f":"$L$1","v":"D"},{"$f":"$I$2","v":1},{"$f":"$L$1","v":"D"},{"$f":"$I$2","v":1},{"$f":"$M$1","v":"E"},{"$f":"$I$2","v":1},{"$f":"$M$1","v":"E"},{"$f":"$I$2","v":1},{"$f":"$M$1","v":"E"},{"$f":"$I$2","v":1},{"$f":"$M$1","v":"E"},{"$f":"$I$2","v":1},{"$f":"$M$1","v":"E"},{"$f":"$I$2","v":1},{"$f":"$M$1","v":"E"},{"$f":"$I$2","v":1},{"$f":"$M$1","v":"E"},{"$f":"$I$2","v":1},{"$f":"$M$1","v":"E"},{"$f":"$I$2","v":1},{"$f":"$M$1","v":"E"},{"$f":"$I$2","v":1},{"$f":"$M$1","v":"E"},{"$f":"$I$2","v":1},{"$f":"$M$1","v":"E"},{"$f":"$I$2","v":1},null,null,null,null,null,null,null,null,null,"<400","<450",null,null,">=450"]
[null,"ZC Verano localidad",{"$f":"IF(C5=\"\",\"\",VLOOKUP(C$5,$E:$BH,C$9+4,FALSE))","v":""},null,"Bilbao",{"$f":"$K$1","v":"C"},{"$f":"$I$2","v":1},214,{"$f":"$K$1","v":"C"},{"$f":"$I$2","v":1},{"$f":"$K$1","v":"C"},{"$f":"$I$2","v":1},{"$f":"$K$1","v":"C"},{"$f":"$I$2","v":1},{"$f":"$K$1","v":"C"},{"$f":"$I$2","v":1},{"$f":"$K$1","v":"C"},{"$f":"$I$2","v":1},{"$f":"$L$1","v":"D"},{"$f":"$I$2","v":1},{"$f":"$L$1","v":"D"},{"$f":"$I$2","v":1},{"$f":"$L$1","v":"D"},{"$f":"$I$2","v":1},{"$f":"$L$1","v":"D"},{"$f":"$I$2","v":1},{"$f":"$L$1","v":"D"},{"$f":"$I$2","v":1},{"$f":"$L$1","v":"D"},{"$f":"$I$2","v":1},{"$f":"$L$1","v":"D"},{"$f":"$I$2","v":1},{"$f":"$L$1","v":"D"},{"$f":"$I$2","v":1},{"$f":"$L$1","v":"D"},{"$f":"$I$2","v":1},{"$f":"$L$1","v":"D"},{"$f":"$I$2","v":1},{"$f":"$L$1","v":"D"},{"$f":"$I$2","v":1},{"$f":"$L$1","v":"D"},{"$f":"$I$2","v":1},{"$f":"$L$1","v":"D"},{"$f":"$I$2","v":1},{"$f":"$L$1","v":"D"},{"$f":"$I$2","v":1},{"$f":"$L$1","v":"D"},{"$f":"$I$2","v":1},{"$f":"$L$1","v":"D"},{"$f":"$I$2","v":1},{"$f":"$L$1","v":"D"},{"$f":"$I$2","v":1},{"$f":"$L$1","v":"D"},{"$f":"$I$2","v":1},{"$f":"$L$1","v":"D"},{"$f":"$I$2","v":1},{"$f":"$L$1","v":"D"},{"$f":"$I$2","v":1},{"$f":"$L$1","v":"D"},{"$f":"$I$2","v":1},null,null,null,null,null,null,null,null,null,null,null,"<250",null,null,"<450","<750",">=750"]
[null,"ZONA CLIMATICA PROVINCIA",{"$f":"IF(C5=\"\",\"\",VLOOKUP(C$5,E$5:H$56,2,FALSE))","v":""},null,"Burgos","E",{"$f":"$I$2","v":1},861,{"$f":"$L$1","v":"D"},{"$f":"$I$2","v":1},"D",{"$f":"$I$2","v":1},"D",{"$f":"$I$2","v":1},"D",{"$f":"$I$2","v":1},"D",{"$f":"$I$2","v":1},"D",{"$f":"$I$2","v":1},"D",{"$f":"$I$2","v":1},"D",{"$f":"$I$2","v":1},"D",{"$f":"$I$2","v":1},{"$f":"$L$1","v":"D"},{"$f":"$I$2","v":1},{"$f":"$L$1","v":"D"},{"$f":"$I$2","v":1},{"$f":"$L$1","v":"D"},{"$f":"$I$2","v":1},{"$f":"$M$1","v":"E"},{"$f":"$I$2","v":1},{"$f":"$M$1","v":"E"},{"$f":"$I$2","v":1},{"$f":"$M$1","v":"E"},{"$f":"$I$2","v":1},{"$f":"$M$1","v":"E"},{"$f":"$I$2","v":1},{"$f":"$M$1","v":"E"},{"$f":"$I$2","v":1},{"$f":"$M$1","v":"E"},{"$f":"$I$2","v":1},{"$f":"$M$1","v":"E"},{"$f":"$I$2","v":1},{"$f":"$M$1","v":"E"},{"$f":"$I$2","v":1},{"$f":"$M$1","v":"E"},{"$f":"$I$2","v":1},{"$f":"$M$1","v":"E"},{"$f":"$I$2","v":1},{"$f":"$M$1","v":"E"},{"$f":"$I$2","v":1},{"$f":"$M$1","v":"E"},{"$f":"$I$2","v":1},{"$f":"$M$1","v":"E"},{"$f":"$I$2","v":1},{"$f":"$M$1","v":"E"},{"$f":"$I$2","v":1}]
[null,"ZONA CLIMATICA PROVINCIA",{"$f":"IF(C5=\"\",\"\",VLOOKUP(C$5,E$5:H$56,3,FALSE))","v":""},null,"Cáceres",{"$f":"$K$1","v":"C"},{"$f":"$L$2","v":4},385,{"$f":"$K$1","v":"C"},{"$f":"$L$2","v":4},{"$f":"$K$1","v":"C"},{"$f":"$L$2","v":4},{"$f":"$K$1","v":"C"},{"$f":"$L$2","v":4},{"$f":"$K$1","v":"C"},{"$f":"$L$2","v":4},{"$f":"$K$1","v":"C"},{"$f":"$L$2","v":4},{"$f":"$K$1","v":"C"},{"$f":"$L$2","v":4},{"$f":"$K$1","v":"C"},{"$f":"$L$2","v":4},{"$f":"$K$1","v":"C"},{"$f":"$L$2","v":4},{"$f":"$K$1","v":"C"},{"$f":"$L$2","v":4},{"$f":"$K$1","v":"C"},{"$f":"$L$2","v":4},{"$f":"$K$1","v":"C"},{"$f":"$L$2","v":4},{"$f":"$K$1","v":"C"},{"$f":"$L$2","v":4},{"$f":"$L$1","v":"D"},{"$f":"$K$2","v":3},{"$f":"$L$1","v":"D"},3,{"$f":"$L$1","v":"D"},3,{"$f":"$L$1","v":"D"},3,{"$f":"$L$1","v":"D"},3,{"$f":"$L$1","v":"D"},3,{"$f":"$L$1","v":"D"},3,{"$f":"$L$1","v":"D"},3,{"$f":"$L$1","v":"D"},3,{"$f":"$M$1","v":"E"},{"$f":"$I$2","v":1},{"$f":"$M$1","v":"E"},{"$f":"$I$2","v":1},{"$f":"$M$1","v":"E"},{"$f":"$I$2","v":1},{"$f":"$M$1","v":"E"},{"$f":"$I$2","v":1},{"$f":"$M$1","v":"E"},{"$f":"$I$2","v":1},null,null,null,null,null,null,null,null,null,null,null,null,null,null,null,"<600",">=600"]
[null,null,null,null,"Cádiz",{"$f":"$I$1","v":"A"},{"$f":"$K$2","v":3},0,{"$f":"$I$1","v":"A"},{"$f":"$K$2","v":3},{"$f":"$I$1","v":"A"},{"$f":"$K$2","v":3},{"$f":"$I$1","v":"A"},{"$f":"$K$2","v":3},{"$f":"$J$1","v":"B"},{"$f":"$K$2","v":3},"B",{"$f":"$K$2","v":3},"B",{"$f":"$K$2","v":3},"B",{"$f":"$K$2","v":3},"B",{"$f":"$K$2","v":3},"B",{"$f":"$K$2","v":3},{"$f":"$K$1","v":"C"},{"$f":"$K$2","v":3},{"$f":"$K$1","v":"C"},{"$f":"$K$2","v":3},{"$f":"$K$1","v":"C"},{"$f":"$K$2","v":3},{"$f":"$K$1","v":"C"},{"$f":"$J$2","v":2},"C",2,"C",2,"C",2,"C",2,{"$f":"$L$1","v":"D"},{"$f":"$J$2","v":2},{"$f":"$L$1","v":"D"},{"$f":"$J$2","v":2},{"$f":"$L$1","v":"D"},{"$f":"$J$2","v":2},{"$f":"$L$1","v":"D"},{"$f":"$J$2","v":2},{"$f":"$L$1","v":"D"},{"$f":"$J$2","v":2},{"$f":"$L$1","v":"D"},{"$f":"$J$2","v":2},{"$f":"$L$1","v":"D"},{"$f":"$J$2","v":2},{"$f":"$L$1","v":"D"},{"$f":"$J$2","v":2},{"$f":"$L$1","v":"D"},{"$f":"$J$2","v":2},null,null,null,null,null,null,null,null,null,"<600",null,null,null,"<1050",null,null,">=1050"]
[null,null,null,null,"Castellón",{"$f":"$J$1","v":"B"},{"$f":"$K$2","v":3},18,{"$f":"$J$1","v":"B"},{"$f":"$K$2","v":3},{"$f":"$K$1","v":"C"},{"$f":"$K$2","v":3},{"$f":"$K$1","v":"C"},{"$f":"$K$2","v":3},{"$f":"$K$1","v":"C"},{"$f":"$K$2","v":3},{"$f":"$K$1","v":"C"},{"$f":"$K$2","v":3},{"$f":"$K$1","v":"C"},{"$f":"$K$2","v":3},{"$f":"$K$1","v":"C"},{"$f":"$K$2","v":3},{"$f":"$K$1","v":"C"},{"$f":"$K$2","v":3},{"$f":"$K$1","v":"C"},{"$f":"$K$2","v":3},{"$f":"$K$1","v":"C"},{"$f":"$K$2","v":3},{"$f":"$L$1","v":"D"},{"$f":"$K$2","v":3},{"$f":"$L$1","v":"D"},{"$f":"$K$2","v":3},{"$f":"$L$1","v":"D"},2,{"$f":"$L$1","v":"D"},2,{"$f":"$L$1","v":"D"},2,{"$f":"$L$1","v":"D"},2,{"$f":"$L$1","v":"D"},2,{"$f":"$L$1","v":"D"},{"$f":"$J$2","v":2},{"$f":"$L$1","v":"D"},{"$f":"$J$2","v":2},{"$f":"$L$1","v":"D"},{"$f":"$J$2","v":2},{"$f":"$M$1","v":"E"},{"$f":"$I$2","v":1},{"$f":"$M$1","v":"E"},{"$f":"$I$2","v":1},{"$f":"$M$1","v":"E"},{"$f":"$I$2","v":1},{"$f":"$M$1","v":"E"},{"$f":"$I$2","v":1},{"$f":"$M$1","v":"E"},{"$f":"$I$2","v":1},{"$f":"$M$1","v":"E"},{"$f":"$I$2","v":1},null,null,null,null,null,null,null,null,null,null,null,null,"<150",null,null,"<650"]
[null,null,null,null,"Ceuta",{"$f":"$J$1","v":"B"},{"$f":"$K$2","v":3},0,{"$f":"$J$1","v":"B"},{"$f":"$K$2","v":3},{"$f":"$J$1","v":"B"},{"$f":"$K$2","v":3},{"$f":"$J$1","v":"B"},{"$f":"$K$2","v":3},{"$f":"$J$1","v":"B"},{"$f":"$K$2","v":3},{"$f":"$J$1","v":"B"},{"$f":"$K$2","v":3},{"$f":"$J$1","v":"B"},{"$f":"$K$2","v":3},{"$f":"$J$1","v":"B"},{"$f":"$K$2","v":3},{"$f":"$J$1","v":"B"},{"$f":"$K$2","v":3},{"$f":"$J$1","v":"B"},{"$f":"$K$2","v":3},"B",{"$f":"$K$2","v":3},"B",{"$f":"$K$2","v":3},"B",{"$f":"$K$2","v":3},"B",{"$f":"$K$2","v":3},"B",{"$f":"$K$2","v":3},"B",{"$f":"$K$2","v":3},"B",{"$f":"$K$2","v":3},"B",{"$f":"$K$2","v":3},"B",{"$f":"$K$2","v":3},"B",{"$f":"$K$2","v":3},"B",3,"B",3,"B",3,"B",3,"B",3,"B",3,"B",3,null,null,null,null,null,null,"<50",null,null,null,"<500",null,null,"<600","<1000",null,">=1000"]
[null,null,null,null,"CiudadReal",{"$f":"$L$1","v":"D"},{"$f":"$K$2","v":3},630,{"$f":"$K$1","v":"C"},{"$f":"$L$2","v":4},{"$f":"$K$1","v":"C"},{"$f":"$L$2","v":4},{"$f":"$K$1","v":"C"},{"$f":"$L$2","v":4},{"$f":"$K$1","v":"C"},{"$f":"$L$2","v":4},{"$f":"$K$1","v":"C"},{"$f":"$L$2","v":4},{"$f":"$K$1","v":"C"},{"$f":"$L$2","v":4},{"$f":"$K$1","v":"C"},{"$f":"$L$2","v":4},{"$f":"$K$1","v":"C"},{"$f":"$L$2","v":4},{"$f":"$K$1","v":"C"},{"$f":"$L$2","v":4},{"$f":"$K$1","v":"C"},{"$f":"$K$2","v":3},{"$f":"$L$1","v":"D"},{"$f":"$K$2","v":3},{"$f":"$L$1","v":"D"},{"$f":"$K$2","v":3},{"$f":"$L$1","v":"D"},{"$f":"$K$2","v":3},{"$f":"$L$1","v":"D"},{"$f":"$K$2","v":3},{"$f":"$L$1","v":"D"},{"$f":"$K$2","v":3},{"$f":"$L$1","v":"D"},{"$f":"$K$2","v":3},{"$f":"$L$1","v":"D"},{"$f":"$K$2","v":3},{"$f":"$L$1","v":"D"},{"$f":"$K$2","v":3},{"$f":"$L$1","v":"D"},3,{"$f":"$L$1","v":"D"},3,{"$f":"$L$1","v":"D"},3,{"$f":"$L$1","v":"D"},3,{"$f":"$L$1","v":"D"},3,{"$f":"$L$1","v":"D"},3,{"$f":"$L$1","v":"D"},3,{"$f":"$L$1","v":"D"},3]
[null,null,null,null,"Córdoba",{"$f":"$J$1","v":"B"},{"$f":"$L$2","v":4},113,{"$f":"$J$1","v":"B"},{"$f":"$L$2","v":4},{"$f":"$J$1","v":"B"},{"$f":"$L$2","v":4},{"$f":"$J$1","v":"B"},{"$f":"$L$2","v":4},{"$f":"$K$1","v":"C"},{"$f":"$L$2","v":4},{"$f":"$K$1","v":"C"},{"$f":"$L$2","v":4},{"$f":"$K$1","v":"C"},{"$f":"$L$2","v":4},{"$f":"$K$1","v":"C"},{"$f":"$L$2","v":4},{"$f":"$K$1","v":"C"},{"$f":"$L$2","v":4},{"$f":"$K$1","v":"C"},{"$f":"$L$2","v":4},{"$f":"$K$1","v":"C"},{"$f":"$L$2","v":4},{"$f":"$K$1","v":"C"},{"$f":"$L$2","v":4},{"$f":"$L$1","v":"D"},{"$f":"$K$2","v":3},{"$f":"$L$1","v":"D"},{"$f":"$K$2","v":3},{"$f":"$L$1","v":"D"},{"$f":"$K$2","v":3},{"$f":"$L$1","v":"D"},{"$f":"$K$2","v":3},{"$f":"$L$1","v":"D"},{"$f":"$K$2","v":3},{"$f":"$L$1","v":"D"},{"$f":"$K$2","v":3},{"$f":"$L$1","v":"D"},{"$f":"$K$2","v":3},{"$f":"$L$1","v":"D"},3,{"$f":"$L$1","v":"D"},3,{"$f":"$L$1","v":"D"},3,{"$f":"$L$1","v":"D"},3,{"$f":"$L$1","v":"D"},3,{"$f":"$L$1","v":"D"},3,{"$f":"$L$1","v":"D"},3,{"$f":"$L$1","v":"D"},3,null,null,null,null,null,null,null,null,null,"<450","<500",null,null,">=500"]
[null,"DESNIVEL",{"$f":"ROUNDUP((C7-C6)/100,0)","v":{"$error":"#VALUE!"}},null,"LaCoruña",{"$f":"$K$1","v":"C"},{"$f":"$I$2","v":1},0,{"$f":"$K$1","v":"C"},{"$f":"$I$2","v":1},{"$f":"$K$1","v":"C"},{"$f":"$I$2","v":1},{"$f":"$K$1","v":"C"},{"$f":"$I$2","v":1},{"$f":"$K$1","v":"C"},{"$f":"$I$2","v":1},{"$f":"$L$1","v":"D"},{"$f":"$I$2","v":1},{"$f":"$L$1","v":"D"},{"$f":"$I$2","v":1},{"$f":"$L$1","v":"D"},{"$f":"$I$2","v":1},{"$f":"$L$1","v":"D"},{"$f":"$I$2","v":1},{"$f":"$L$1","v":"D"},{"$f":"$I$2","v":1},{"$f":"$L$1","v":"D"},{"$f":"$I$2","v":1},{"$f":"$L$1","v":"D"},{"$f":"$I$2","v":1},{"$f":"$L$1","v":"D"},{"$f":"$I$2","v":1},{"$f":"$L$1","v":"D"},{"$f":"$I$2","v":1},{"$f":"$L$1","v":"D"},{"$f":"$I$2","v":1},{"$f":"$L$1","v":"D"},{"$f":"$I$2","v":1},{"$f":"$L$1","v":"D"},{"$f":"$I$2","v":1},{"$f":"$L$1","v":"D"},{"$f":"$I$2","v":1},{"$f":"$L$1","v":"D"},{"$f":"$I$2","v":1},{"$f":"$L$1","v":"D"},{"$f":"$I$2","v":1},{"$f":"$L$1","v":"D"},{"$f":"$I$2","v":1},{"$f":"$L$1","v":"D"},{"$f":"$I$2","v":1},{"$f":"$L$1","v":"D"},{"$f":"$I$2","v":1},{"$f":"$L$1","v":"D"},{"$f":"$I$2","v":1},{"$f":"$L$1","v":"D"},{"$f":"$I$2","v":1},{"$f":"$L$1","v":"D"},{"$f":"$I$2","v":1},{"$f":"$L$1","v":"D"},{"$f":"$I$2","v":1},null,null,null,null,null,"<150",null,null,null,"<550",null,null,null,">=550"]
[null,"CORRECCION ZONA CLIMATICA",{"$f":"3+IF(C19>10,5,IF(C19>8,4,IF(C19>6,3,IF(C19>4,2,IF(C19>2,1,IF(C19>0,0,0))))))","v":{"$error":"#VALUE!"}},null,"Cuenca",{"$f":"$L$1","v":"D"},{"$f":"$J$2","v":2},975,{"$f":"$L$1","v":"D"},{"$f":"$K$2","v":3},{"$f":"$L$1","v":"D"},3,{"$f":"$L$1","v":"D"},3,{"$f":"$L$1","v":"D"},3,{"$f":"$L$1","v":"D"},3,{"$f":"$L$1","v":"D"},3,{"$f":"$L$1","v":"D"},3,{"$f":"$L$1","v":"D"},3,{"$f":"$L$1","v":"D"},3,{"$f":"$L$1","v":"D"},3,{"$f":"$L$1","v":"D"},3,{"$f":"$L$1","v":"D"},3,{"$f":"$L$1","v":"D"},3,{"$f":"$L$1","v":"D"},3,{"$f":"$L$1","v":"D"},3,{"$f":"$L$1","v":"D"},3,{"$f":"$L$1","v":"D"},{"$f":"$J$2","v":2},{"$f":"$L$1","v":"D"},2,{"$f":"$L$1","v":"D"},2,{"$f":"$L$1","v":"D"},2,{"$f":"$L$1","v":"D"},2,{"$f":"$M$1","v":"E"},{"$f":"$I$2","v":1},"E",{"$f":"$I$2","v":1},"E",{"$f":"$I$2","v":1},"E",{"$f":"$I$2","v":1},"E",{"$f":"$I$2","v":1}]
[null,null,null,null,"Gerona",{"$f":"$L$1","v":"D"},{"$f":"$J$2","v":2},143,{"$f":"$K$1","v":"C"},{"$f":"$J$2","v":2},{"$f":"$K$1","v":"C"},{"$f":"$J$2","v":2},{"$f":"$L$1","v":"D"},{"$f":"$J$2","v":2},{"$f":"$L$1","v":"D"},{"$f":"$J$2","v":2},{"$f":"$L$1","v":"D"},{"$f":"$J$2","v":2},{"$f":"$L$1","v":"D"},{"$f":"$J$2","v":2},{"$f":"$L$1","v":"D"},{"$f":"$J$2","v":2},{"$f":"$L$1","v":"D"},{"$f":"$J$2","v":2},{"$f":"$L$1","v":"D"},{"$f":"$J$2","v":2},{"$f":"$L$1","v":"D"},{"$f":"$J$2","v":2},{"$f":"$L$1","v":"D"},{"$f":"$J$2","v":2},{"$f":"$L$1","v":"D"},{"$f":"$J$2","v":2},{"$f":"$M$1","v":"E"},{"$f":"$I$2","v":1},{"$f":"$M$1","v":"E"},{"$f":"$I$2","v":1},{"$f":"$M$1","v":"E"},{"$f":"$I$2","v":1},{"$f":"$M$1","v":"E"},{"$f":"$I$2","v":1},{"$f":"$M$1","v":"E"},{"$f":"$I$2","v":1},{"$f":"$M$1","v":"E"},{"$f":"$I$2","v":1},{"$f":"$M$1","v":"E"},{"$f":"$I$2","v":1},{"$f":"$M$1","v":"E"},{"$f":"$I$2","v":1},{"$f":"$M$1","v":"E"},{"$f":"$I$2","v":1},{"$f":"$M$1","v":"E"},{"$f":"$I$2","v":1},{"$f":"$M$1","v":"E"},{"$f":"$I$2","v":1},{"$f":"$M$1","v":"E"},{"$f":"$I$2","v":1},{"$f":"$M$1","v":"E"},{"$f":"$I$2","v":1},{"$f":"$M$1","v":"E"},{"$f":"$I$2","v":1},null,null,null,null,null,null,null,null,null,null,null,null,"<200",null,null,">=200"]
[null,null,null,null,"Granada",{"$f":"$K$1","v":"C"},{"$f":"$K$2","v":3},754,{"$f":"$I$1","v":"A"},{"$f":"$L$2","v":4},{"$f":"$J$1","v":"B"},{"$f":"$L$2","v":4},{"$f":"$J$1","v":"B"},{"$f":"$L$2","v":4},{"$f":"$J$1","v":"B"},{"$f":"$L$2","v":4},{"$f":"$J$1","v":"B"},{"$f":"$L$2","v":4},{"$f":"$J$1","v":"B"},{"$f":"$L$2","v":4},{"$f":"$J$1","v":"B"},{"$f":"$L$2","v":4},{"$f":"$K$1","v":"C"},{"$f":"$L$2","v":4},"C",4,"C",4,"C",4,"C",4,{"$f":"$K$1","v":"C"},{"$f":"$K$2","v":3},"C",3,"C",3,"C",3,{"$f":"$L$1","v":"D"},{"$f":"$K$2","v":3},{"$f":"$L$1","v":"D"},3,{"$f":"$L$1","v":"D"},3,{"$f":"$L$1","v":"D"},3,{"$f":"$L$1","v":"D"},3,{"$f":"$L$1","v":"D"},3,{"$f":"$L$1","v":"D"},3,{"$f":"$L$1","v":"D"},3,{"$f":"$L$1","v":"D"},3,{"$f":"$M$1","v":"E"},{"$f":"$I$2","v":1},null,null,null,null,null,null,null,null,null,null,null,null,null,"<800","<1050",null,">=1050"]
[null,null,null,null,"Guadalajara",{"$f":"$L$1","v":"D"},{"$f":"$K$2","v":3},708,{"$f":"$L$1","v":"D"},{"$f":"$K$2","v":3},{"$f":"$L$1","v":"D"},{"$f":"$K$2","v":3},{"$f":"$L$1","v":"D"},{"$f":"$K$2","v":3},{"$f":"$L$1","v":"D"},{"$f":"$K$2","v":3},{"$f":"$L$1","v":"D"},{"$f":"$K$2","v":3},{"$f":"$L$1","v":"D"},{"$f":"$K$2","v":3},{"$f":"$L$1","v":"D"},{"$f":"$K$2","v":3},{"$f":"$L$1","v":"D"},{"$f":"$K$2","v":3},{"$f":"$L$1","v":"D"},{"$f":"$K$2","v":3},{"$f":"$L$1","v":"D"},{"$f":"$K$2","v":3},{"$f":"$L$1","v":"D"},{"$f":"$K$2","v":3},{"$f":"$L$1","v":"D"},{"$f":"$K$2","v":3},{"$f":"$L$1","v":"D"},{"$f":"$K$2","v":3},{"$f":"$L$1","v":"D"},{"$f":"$K$2","v":3},{"$f":"$L$1","v":"D"},{"$f":"$K$2","v":3},{"$f":"$L$1","v":"D"},{"$f":"$K$2","v":3},{"$f":"$L$1","v":"D"},{"$f":"$K$2","v":3},{"$f":"$L$1","v":"D"},{"$f":"$K$2","v":3},{"$f":"$L$1","v":"D"},{"$f":"$K$2","v":3},{"$f":"$L$1","v":"D"},{"$f":"$J$2","v":2},{"$f":"$M$1","v":"E"},{"$f":"$I$2","v":1},{"$f":"$M$1","v":"E"},{"$f":"$I$2","v":1},{"$f":"$M$1","v":"E"},{"$f":"$I$2","v":1},{"$f":"$M$1","v":"E"},{"$f":"$I$2","v":1},{"$f":"$M$1","v":"E"},{"$f":"$I$2","v":1},{"$f":"$M$1","v":"E"},{"$f":"$I$2","v":1},null,null,null,null,null,null,null,null,null,null,null,"<100",null,null,"<600",null,">=600"]
[null,null,null,null,"Huelva",{"$f":"$I$1","v":"A"},{"$f":"$L$2","v":4},50,{"$f":"$I$1","v":"A"},{"$f":"$L$2","v":4},{"$f":"$J$1","v":"B"},{"$f":"$L$2","v":4},{"$f":"$J$1","v":"B"},{"$f":"$L$2","v":4},{"$f":"$J$1","v":"B"},{"$f":"$K$2","v":3},"B",{"$f":"$K$2","v":3},"B",{"$f":"$K$2","v":3},"B",{"$f":"$K$2","v":3},{"$f":"$K$1","v":"C"},{"$f":"$K$2","v":3},"C",{"$f":"$K$2","v":3},"C",{"$f":"$K$2","v":3},"C",{"$f":"$K$2","v":3},"C",{"$f":"$K$2","v":3},"C",{"$f":"$K$2","v":3},"C",{"$f":"$K$2","v":3},"C",{"$f":"$K$2","v":3},"C",{"$f":"$K$2","v":3},{"$f":"$L$1","v":"D"},{"$f":"$K$2","v":3},{"$f":"$L$1","v":"D"},{"$f":"$K$2","v":3},{"$f":"$L$1","v":"D"},{"$f":"$K$2","v":3},{"$f":"$L$1","v":"D"},{"$f":"$K$2","v":3},{"$f":"$L$1","v":"D"},3,{"$f":"$L$1","v":"D"},3,{"$f":"$L$1","v":"D"},3,{"$f":"$L$1","v":"D"},3,{"$f":"$L$1","v":"D"},3,{"$f":"$L$1","v":"D"},3,null,null,null,null,null,null,null,null,null,null,null,null,null,"<950","<1000",null,">=1000"]
[null,null,null,null,"Huesca",{"$f":"$L$1","v":"D"},{"$f":"$J$2","v":2},432,{"$f":"$K$1","v":"C"},{"$f":"$K$2","v":3},"C",3,"C",3,"C",3,{"$f":"$L$1","v":"D"},{"$f":"$K$2","v":3},{"$f":"$L$1","v":"D"},{"$f":"$K$2","v":3},{"$f":"$L$1","v":"D"},{"$f":"$K$2","v":3},{"$f":"$L$1","v":"D"},{"$f":"$K$2","v":3},{"$f":"$L$1","v":"D"},{"$f":"$J$2","v":2},"D",2,"D",2,"D",2,"D",2,"D",2,{"$f":"$M$1","v":"E"},{"$f":"$I$2","v":1},{"$f":"$M$1","v":"E"},{"$f":"$I$2","v":1},{"$f":"$M$1","v":"E"},{"$f":"$I$2","v":1},{"$f":"$M$1","v":"E"},{"$f":"$I$2","v":1},{"$f":"$M$1","v":"E"},{"$f":"$I$2","v":1},{"$f":"$M$1","v":"E"},{"$f":"$I$2","v":1},{"$f":"$M$1","v":"E"},{"$f":"$I$2","v":1},{"$f":"$M$1","v":"E"},{"$f":"$I$2","v":1},{"$f":"$M$1","v":"E"},{"$f":"$I$2","v":1},{"$f":"$M$1","v":"E"},{"$f":"$I$2","v":1},{"$f":"$M$1","v":"E"},{"$f":"$I$2","v":1},{"$f":"$M$1","v":"E"},{"$f":"$I$2","v":1},null,null,null,null,null,null,null,null,null,null,null,null,null,null,null,"<400",">=400"]
[null,null,null,null,"Jaén",{"$f":"$K$1","v":"C"},{"$f":"$L$2","v":4},436,{"$f":"$J$1","v":"B"},{"$f":"$L$2","v":4},{"$f":"$J$1","v":"B"},{"$f":"$L$2","v":4},{"$f":"$J$1","v":"B"},{"$f":"$L$2","v":4},{"$f":"$J$1","v":"B"},{"$f":"$L$2","v":4},{"$f":"$J$1","v":"B"},{"$f":"$L$2","v":4},{"$f":"$J$1","v":"B"},{"$f":"$L$2","v":4},{"$f":"$J$1","v":"B"},{"$f":"$L$2","v":4},{"$f":"$K$1","v":"C"},{"$f":"$L$2","v":4},"C",4,"C",4,"C",4,"C",4,"C",4,"C",4,"C",4,{"$f":"$L$1","v":"D"},{"$f":"$K$2","v":3},"D",3,"D",3,"D",3,"D",3,"D",3,"D",3,"D",3,"D",3,{"$f":"$M$1","v":"E"},{"$f":"$I$2","v":1},{"$f":"$M$1","v":"E"},{"$f":"$I$2","v":1},null,null,null,null,null,null,null,null,null,null,"<200",null,null,"<400","<700",null,">=700"]
[null,null,null,null,"León",{"$f":"$M$1","v":"E"},{"$f":"$I$2","v":1},346,{"$f":"$M$1","v":"E"},{"$f":"$I$2","v":1},{"$f":"$M$1","v":"E"},{"$f":"$I$2","v":1},{"$f":"$M$1","v":"E"},{"$f":"$I$2","v":1},{"$f":"$M$1","v":"E"},{"$f":"$I$2","v":1},{"$f":"$M$1","v":"E"},{"$f":"$I$2","v":1},{"$f":"$M$1","v":"E"},{"$f":"$I$2","v":1},{"$f":"$M$1","v":"E"},{"$f":"$I$2","v":1},{"$f":"$M$1","v":"E"},{"$f":"$I$2","v":1},{"$f":"$M$1","v":"E"},{"$f":"$I$2","v":1},{"$f":"$M$1","v":"E"},{"$f":"$I$2","v":1},{"$f":"$M$1","v":"E"},{"$f":"$I$2","v":1},{"$f":"$M$1","v":"E"},{"$f":"$I$2","v":1},{"$f":"$M$1","v":"E"},{"$f":"$I$2","v":1},{"$f":"$M$1","v":"E"},{"$f":"$I$2","v":1},{"$f":"$M$1","v":"E"},{"$f":"$I$2","v":1},{"$f":"$M$1","v":"E"},{"$f":"$I$2","v":1},{"$f":"$M$1","v":"E"},{"$f":"$I$2","v":1},{"$f":"$M$1","v":"E"},{"$f":"$I$2","v":1},{"$f":"$M$1","v":"E"},{"$f":"$I$2","v":1},{"$f":"$M$1","v":"E"},{"$f":"$I$2","v":1},{"$f":"$M$1","v":"E"},{"$f":"$I$2","v":1},{"$f":"$M$1","v":"E"},{"$f":"$I$2","v":1},{"$f":"$M$1","v":"E"},{"$f":"$I$2","v":1},{"$f":"$M$1","v":"E"},{"$f":"$I$2","v":1},{"$f":"$M$1","v":"E"},{"$f":"$I$2","v":1},{"$f":"$M$1","v":"E"},{"$f":"$I$2","v":1},null,null,"<350","<750",null,null,null,"<1000",null,null,null,">=1000"]
[null,null,null,null,"Lérida",{"$f":"$L$1","v":"D"},{"$f":"$K$2","v":3},131,{"$f":"$K$1","v":"C"},{"$f":"$K$2","v":3},{"$f":"$K$1","v":"C"},{"$f":"$K$2","v":3},{"$f":"$L$1","v":"D"},{"$f":"$K$2","v":3},{"$f":"$L$1","v":"D"},3,{"$f":"$L$1","v":"D"},3,{"$f":"$L$1","v":"D"},3,{"$f":"$L$1","v":"D"},3,{"$f":"$L$1","v":"D"},3,{"$f":"$L$1","v":"D"},3,{"$f":"$L$1","v":"D"},3,{"$f":"$L$1","v":"D"},3,{"$f":"$L$1","v":"D"},3,{"$f":"$M$1","v":"E"},{"$f":"$I$2","v":1},{"$f":"$M$1","v":"E"},{"$f":"$I$2","v":1},{"$f":"$M$1","v":"E"},{"$f":"$I$2","v":1},{"$f":"$M$1","v":"E"},{"$f":"$I$2","v":1},{"$f":"$M$1","v":"E"},{"$f":"$I$2","v":1},{"$f":"$M$1","v":"E"},{"$f":"$I$2","v":1},{"$f":"$M$1","v":"E"},{"$f":"$I$2","v":1},{"$f":"$M$1","v":"E"},{"$f":"$I$2","v":1},{"$f":"$M$1","v":"E"},{"$f":"$I$2","v":1},{"$f":"$M$1","v":"E"},{"$f":"$I$2","v":1},{"$f":"$M$1","v":"E"},{"$f":"$I$2","v":1},{"$f":"$M$1","v":"E"},{"$f":"$I$2","v":1},{"$f":"$M$1","v":"E"},{"$f":"$I$2","v":1},{"$f":"$M$1","v":"E"},{"$f":"$I$2","v":1},null,null,null,null,null,null,null,null,null,null,null,null,null,null,null,null,"<1250"]
[null,null,null,null,"Logroño ",{"$f":"$L$1","v":"D"},{"$f":"$J$2","v":2},379,{"$f":"$K$1","v":"C"},{"$f":"$J$2","v":2},{"$f":"$K$1","v":"C"},2,{"$f":"$K$1","v":"C"},2,{"$f":"$K$1","v":"C"},2,{"$f":"$L$1","v":"D"},{"$f":"$J$2","v":2},{"$f":"$L$1","v":"D"},2,{"$f":"$L$1","v":"D"},2,{"$f":"$L$1","v":"D"},2,{"$f":"$L$1","v":"D"},2,{"$f":"$L$1","v":"D"},2,{"$f":"$L$1","v":"D"},2,{"$f":"$L$1","v":"D"},2,{"$f":"$L$1","v":"D"},2,{"$f":"$L$1","v":"D"},2,{"$f":"$M$1","v":"E"},{"$f":"$I$2","v":1},{"$f":"$M$1","v":"E"},{"$f":"$I$2","v":1},{"$f":"$M$1","v":"E"},{"$f":"$I$2","v":1},{"$f":"$M$1","v":"E"},{"$f":"$I$2","v":1},{"$f":"$M$1","v":"E"},{"$f":"$I$2","v":1},{"$f":"$M$1","v":"E"},{"$f":"$I$2","v":1},{"$f":"$M$1","v":"E"},{"$f":"$I$2","v":1},{"$f":"$M$1","v":"E"},{"$f":"$I$2","v":1},{"$f":"$M$1","v":"E"},{"$f":"$I$2","v":1},{"$f":"$M$1","v":"E"},{"$f":"$I$2","v":1},{"$f":"$M$1","v":"E"},{"$f":"$I$2","v":1},{"$f":"$M$1","v":"E"},{"$f":"$I$2","v":1},null,null,null,null,null,null,null,null,null,null,"<100",null,null,"<600",null,null,">=600"]
[null,null,null,null,"Lugo",{"$f":"$L$1","v":"D"},{"$f":"$I$2","v":1},412,{"$f":"$L$1","v":"D"},{"$f":"$I$2","v":1},"D",1,"D",1,"D",1,"D",1,"D",1,"D",1,"D",1,"D",1,"D",1,{"$f":"$M$1","v":"E"},{"$f":"$I$2","v":1},"E",1,"E",1,"E",1,"E",1,"E",1,"E",1,"E",1,"E",1,"E",1,"E",1,"E",1,"E",1,"E",1,"E",1,"E",1]
[null,null,null,null,"Madrid",{"$f":"$L$1","v":"D"},{"$f":"$K$2","v":3},589,{"$f":"$K$1","v":"C"},{"$f":"$K$2","v":3},{"$f":"$K$1","v":"C"},{"$f":"$K$2","v":3},{"$f":"$K$1","v":"C"},{"$f":"$K$2","v":3},{"$f":"$K$1","v":"C"},{"$f":"$K$2","v":3},{"$f":"$K$1","v":"C"},{"$f":"$K$2","v":3},{"$f":"$K$1","v":"C"},{"$f":"$K$2","v":3},{"$f":"$K$1","v":"C"},{"$f":"$K$2","v":3},{"$f":"$K$1","v":"C"},{"$f":"$K$2","v":3},{"$f":"$K$1","v":"C"},{"$f":"$K$2","v":3},{"$f":"$K$1","v":"C"},{"$f":"$K$2","v":3},{"$f":"$L$1","v":"D"},{"$f":"$K$2","v":3},{"$f":"$L$1","v":"D"},3,{"$f":"$L$1","v":"D"},3,{"$f":"$L$1","v":"D"},3,{"$f":"$L$1","v":"D"},3,{"$f":"$L$1","v":"D"},3,{"$f":"$L$1","v":"D"},3,{"$f":"$L$1","v":"D"},3,{"$f":"$L$1","v":"D"},3,{"$f":"$L$1","v":"D"},{"$f":"$J$2","v":2},{"$f":"$M$1","v":"E"},{"$f":"$I$2","v":1},{"$f":"$M$1","v":"E"},{"$f":"$I$2","v":1},{"$f":"$M$1","v":"E"},{"$f":"$I$2","v":1},{"$f":"$M$1","v":"E"},{"$f":"$I$2","v":1},{"$f":"$M$1","v":"E"},{"$f":"$I$2","v":1},{"$f":"$M$1","v":"E"},{"$f":"$I$2","v":1},null,null,null,null,null,null,null,null,null,null,null,null,null,null,null,"<500",">=500"]
[null,null,null,null,"Málaga",{"$f":"$I$1","v":"A"},{"$f":"$K$2","v":3},0,{"$f":"$J$1","v":"B"},{"$f":"$K$2","v":3},"B",{"$f":"$K$2","v":3},"B",{"$f":"$K$2","v":3},"B",{"$f":"$K$2","v":3},"B",{"$f":"$K$2","v":3},"B",{"$f":"$K$2","v":3},{"$f":"$K$1","v":"C"},{"$f":"$K$2","v":3},{"$f":"$K$1","v":"C"},{"$f":"$K$2","v":3},{"$f":"$K$1","v":"C"},{"$f":"$K$2","v":3},{"$f":"$K$1","v":"C"},{"$f":"$K$2","v":3},{"$f":"$K$1","v":"C"},3,"C",3,"C",3,"C",3,{"$f":"$L$1","v":"D"},3,{"$f":"$L$1","v":"D"},3,{"$f":"$L$1","v":"D"},3,{"$f":"$L$1","v":"D"},3,{"$f":"$L$1","v":"D"},3,{"$f":"$L$1","v":"D"},{"$f":"$K$2","v":3},{"$f":"$L$1","v":"D"},3,{"$f":"$L$1","v":"D"},3,{"$f":"$L$1","v":"D"},3,"D",3,"D",3,"D",3,null,null,null,null,null,null,null,null,null,null,"<500",null,null,"<950","<1000",null,">=1000"]
[null,null,null,null,"Melilla",{"$f":"$I$1","v":"A"},{"$f":"$K$2","v":3},130,{"$f":"$I$1","v":"A"},{"$f":"$K$2","v":3},"A",{"$f":"$K$2","v":3},"A",{"$f":"$K$2","v":3},"A",{"$f":"$K$2","v":3},"A",{"$f":"$K$2","v":3},"A",{"$f":"$K$2","v":3},"A",{"$f":"$K$2","v":3},"A",{"$f":"$K$2","v":3},"A",{"$f":"$K$2","v":3},"A",{"$f":"$K$2","v":3},"A",3,"A",3,"A",3,"A",3,"A",3,"A",3,"A",3,"A",3,"A",3,"A",3,"A",3,"A",3,"A",3,"A",3,"A",3,"A",3,null,null,null,null,null,null,"<300",null,null,null,"<700",null,null,">=700"]
[null,null,null,null,"Murcia",{"$f":"$J$1","v":"B"},{"$f":"$K$2","v":3},25,{"$f":"$J$1","v":"B"},{"$f":"$K$2","v":3},{"$f":"$J$1","v":"B"},{"$f":"$K$2","v":3},{"$f":"$K$1","v":"C"},{"$f":"$K$2","v":3},{"$f":"$K$1","v":"C"},{"$f":"$K$2","v":3},{"$f":"$K$1","v":"C"},{"$f":"$K$2","v":3},{"$f":"$K$1","v":"C"},{"$f":"$K$2","v":3},{"$f":"$K$1","v":"C"},{"$f":"$K$2","v":3},{"$f":"$K$1","v":"C"},{"$f":"$K$2","v":3},{"$f":"$K$1","v":"C"},{"$f":"$K$2","v":3},{"$f":"$K$1","v":"C"},{"$f":"$K$2","v":3},{"$f":"$K$1","v":"C"},3,{"$f":"$L$1","v":"D"},3,"D",3,"D",3,"D",3,"D",3,"D",3,"D",3,"D",3,"D",3,"D",3,"D",3,"D",3,"D",3,"D",3,"D",3]
[null,null,null,null,"Orense",{"$f":"$L$1","v":"D"},{"$f":"$J$2","v":2},327,{"$f":"$K$1","v":"C"},{"$f":"$K$2","v":3},{"$f":"$K$1","v":"C"},{"$f":"$K$2","v":3},{"$f":"$K$1","v":"C"},{"$f":"$K$2","v":3},{"$f":"$K$1","v":"C"},{"$f":"$J$2","v":2},{"$f":"$K$1","v":"C"},{"$f":"$J$2","v":2},{"$f":"$K$1","v":"C"},{"$f":"$J$2","v":2},{"$f":"$L$1","v":"D"},{"$f":"$J$2","v":2},"D",2,"D",2,"D",2,"D",2,"D",2,"D",2,"D",2,"D",2,"D",2,{"$f":"$M$1","v":"E"},{"$f":"$I$2","v":1},"E",1,"E",1,"E",1,"E",1,"E",1,"E",1,"E",1,"E",1,"E",1,null,null,null,null,null,null,null,null,null,null,null,"<100",null,null,"<300","<600",">=600"]
[null,null,null,null,"Oviedo",{"$f":"$L$1","v":"D"},{"$f":"$I$2","v":1},214,{"$f":"$K$1","v":"C"},{"$f":"$I$2","v":1},{"$f":"$L$1","v":"D"},{"$f":"$I$2","v":1},{"$f":"$L$1","v":"D"},{"$f":"$I$2","v":1},{"$f":"$L$1","v":"D"},{"$f":"$I$2","v":1},{"$f":"$L$1","v":"D"},{"$f":"$I$2","v":1},{"$f":"$L$1","v":"D"},{"$f":"$I$2","v":1},{"$f":"$L$1","v":"D"},{"$f":"$I$2","v":1},{"$f":"$L$1","v":"D"},{"$f":"$I$2","v":1},{"$f":"$L$1","v":"D"},{"$f":"$I$2","v":1},{"$f":"$L$1","v":"D"},{"$f":"$I$2","v":1},{"$f":"$L$1","v":"D"},{"$f":"$I$2","v":1},{"$f":"$M$1","v":"E"},{"$f":"$I$2","v":1},{"$f":"$M$1","v":"E"},{"$f":"$I$2","v":1},{"$f":"$M$1","v":"E"},{"$f":"$I$2","v":1},{"$f":"$M$1","v":"E"},{"$f":"$I$2","v":1},{"$f":"$M$1","v":"E"},{"$f":"$I$2","v":1},{"$f":"$M$1","v":"E"},{"$f":"$I$2","v":1},{"$f":"$M$1","v":"E"},{"$f":"$I$2","v":1},{"$f":"$M$1","v":"E"},{"$f":"$I$2","v":1},{"$f":"$M$1","v":"E"},{"$f":"$I$2","v":1},{"$f":"$M$1","v":"E"},{"$f":"$I$2","v":1},{"$f":"$M$1","v":"E"},{"$f":"$I$2","v":1},{"$f":"$M$1","v":"E"},{"$f":"$I$2","v":1},{"$f":"$M$1","v":"E"},{"$f":"$I$2","v":1},{"$f":"$M$1","v":"E"},{"$f":"$I$2","v":1},{"$f":"$M$1","v":"E"},{"$f":"$I$2","v":1},null,null,null,null,null,null,null,null,null,null,"<150","<300",null,null,"<800",null,">=800"]
[null,null,null,null,"Palencia",{"$f":"$L$1","v":"D"},{"$f":"$I$2","v":1},722,{"$f":"$L$1","v":"D"},{"$f":"$I$2","v":1},{"$f":"$L$1","v":"D"},{"$f":"$I$2","v":1},{"$f":"$L$1","v":"D"},{"$f":"$I$2","v":1},{"$f":"$L$1","v":"D"},{"$f":"$I$2","v":1},{"$f":"$L$1","v":"D"},{"$f":"$I$2","v":1},{"$f":"$L$1","v":"D"},{"$f":"$I$2","v":1},{"$f":"$L$1","v":"D"},{"$f":"$I$2","v":1},{"$f":"$L$1","v":"D"},{"$f":"$I$2","v":1},{"$f":"$L$1","v":"D"},{"$f":"$I$2","v":1},{"$f":"$L$1","v":"D"},{"$f":"$I$2","v":1},{"$f":"$L$1","v":"D"},{"$f":"$I$2","v":1},{"$f":"$L$1","v":"D"},{"$f":"$I$2","v":1},"D",{"$f":"$I$2","v":1},"D",{"$f":"$I$2","v":1},"D",{"$f":"$I$2","v":1},"D",{"$f":"$I$2","v":1},{"$f":"$M$1","v":"E"},{"$f":"$I$2","v":1},{"$f":"$M$1","v":"E"},{"$f":"$I$2","v":1},{"$f":"$M$1","v":"E"},{"$f":"$I$2","v":1},{"$f":"$M$1","v":"E"},{"$f":"$I$2","v":1},{"$f":"$M$1","v":"E"},{"$f":"$I$2","v":1},{"$f":"$M$1","v":"E"},{"$f":"$I$2","v":1},{"$f":"$M$1","v":"E"},{"$f":"$I$2","v":1},{"$f":"$M$1","v":"E"},{"$f":"$I$2","v":1},{"$f":"$M$1","v":"E"},{"$f":"$I$2","v":1},{"$f":"$M$1","v":"E"},{"$f":"$I$2","v":1}]
[null,null,null,null,"LasPalmasdeGranCanaria","Alfa",{"$f":"$K$2","v":3},114,{"$f":"$F$59","v":"Alfa"},{"$f":"$K$2","v":3},{"$f":"$F$59","v":"Alfa"},{"$f":"$K$2","v":3},{"$f":"$F$59","v":"Alfa"},{"$f":"$K$2","v":3},{"$f":"$F$59","v":"Alfa"},{"$f":"$K$2","v":3},{"$f":"$F$59","v":"Alfa"},{"$f":"$K$2","v":3},{"$f":"$F$59","v":"Alfa"},{"$f":"$K$2","v":3},{"$f":"$F$59","v":"Alfa"},{"$f":"$K$2","v":3},{"$f":"$I$1","v":"A"},{"$f":"$J$2","v":2},"A",2,"A",2,"A",2,"A",2,"A",2,"A",2,"A",2,{"$f":"$J$1","v":"B"},{"$f":"$J$2","v":2},{"$f":"$J$1","v":"B"},2,{"$f":"$J$1","v":"B"},2,{"$f":"$J$1","v":"B"},2,{"$f":"$J$1","v":"B"},2,{"$f":"$K$1","v":"C"},{"$f":"$J$2","v":2},"C",{"$f":"$J$2","v":2},"C",{"$f":"$J$2","v":2},"C",{"$f":"$J$2","v":2},"C",{"$f":"$J$2","v":2},"C",{"$f":"$J$2","v":2},null,null,null,null,null,null,null,null,null,null,null,null,null,null,null,"<800",">=800"]
[null,null,null,null,"PalmadeMallorca",{"$f":"$J$1","v":"B"},{"$f":"$K$2","v":3},1,{"$f":"$J$1","v":"B"},{"$f":"$K$2","v":3},"B",3,"B",3,"B",3,"B",3,{"$f":"$K$1","v":"C"},{"$f":"$K$2","v":3},{"$f":"$K$1","v":"C"},3,{"$f":"$K$1","v":"C"},3,{"$f":"$K$1","v":"C"},3,{"$f":"$K$1","v":"C"},3,{"$f":"$K$1","v":"C"},3,"C",3,"C",3,"C",3,"C",3,"C",3,"C",3,"C",3,"C",3,"C",3,"C",3,"C",3,"C",3,"C",3,"C",3,"C",3]
[null,null,null,null,"Pamplona",{"$f":"$L$1","v":"D"},{"$f":"$I$2","v":1},456,{"$f":"$K$1","v":"C"},{"$f":"$J$2","v":2},{"$f":"$K$1","v":"C"},{"$f":"$J$2","v":2},{"$f":"$L$1","v":"D"},{"$f":"$J$2","v":2},"D",2,"D",2,"D",2,{"$f":"$L$1","v":"D"},{"$f":"$I$2","v":1},{"$f":"$L$1","v":"D"},{"$f":"$I$2","v":1},{"$f":"$L$1","v":"D"},{"$f":"$I$2","v":1},{"$f":"$L$1","v":"D"},{"$f":"$I$2","v":1},{"$f":"$L$1","v":"D"},{"$f":"$I$2","v":1},{"$f":"$L$1","v":"D"},{"$f":"$I$2","v":1},{"$f":"$M$1","v":"E"},{"$f":"$I$2","v":1},{"$f":"$M$1","v":"E"},{"$f":"$I$2","v":1},{"$f":"$M$1","v":"E"},{"$f":"$I$2","v":1},{"$f":"$M$1","v":"E"},{"$f":"$I$2","v":1},{"$f":"$M$1","v":"E"},{"$f":"$I$2","v":1},{"$f":"$M$1","v":"E"},{"$f":"$I$2","v":1},{"$f":"$M$1","v":"E"},{"$f":"$I$2","v":1},{"$f":"$M$1","v":"E"},{"$f":"$I$2","v":1},{"$f":"$M$1","v":"E"},{"$f":"$I$2","v":1},{"$f":"$M$1","v":"E"},{"$f":"$I$2","v":1},{"$f":"$M$1","v":"E"},{"$f":"$I$2","v":1},{"$f":"$M$1","v":"E"},{"$f":"$I$2","v":1},{"$f":"$M$1","v":"E"},{"$f":"$I$2","v":1},{"$f":"$M$1","v":"E"},{"$f":"$I$2","v":1}]
[null,null,null,null,"Pontevedra",{"$f":"$K$1","v":"C"},{"$f":"$I$2","v":1},77,{"$f":"$K$1","v":"C"},{"$f":"$I$2","v":1},{"$f":"$K$1","v":"C"},1,{"$f":"$K$1","v":"C"},1,{"$f":"$K$1","v":"C"},1,{"$f":"$K$1","v":"C"},1,{"$f":"$K$1","v":"C"},1,{"$f":"$K$1","v":"C"},1,{"$f":"$L$1","v":"D"},{"$f":"$I$2","v":1},{"$f":"$L$1","v":"D"},{"$f":"$I$2","v":1},{"$f":"$L$1","v":"D"},{"$f":"$I$2","v":1},{"$f":"$L$1","v":"D"},{"$f":"$I$2","v":1},{"$f":"$L$1","v":"D"},{"$f":"$I$2","v":1},{"$f":"$L$1","v":"D"},{"$f":"$I$2","v":1},{"$f":"$L$1","v":"D"},{"$f":"$I$2","v":1},{"$f":"$L$1","v":"D"},{"$f":"$I$2","v":1},{"$f":"$L$1","v":"D"},{"$f":"$I$2","v":1},{"$f":"$L$1","v":"D"},{"$f":"$I$2","v":1},{"$f":"$L$1","v":"D"},{"$f":"$I$2","v":1},{"$f":"$L$1","v":"D"},{"$f":"$I$2","v":1},{"$f":"$L$1","v":"D"},{"$f":"$I$2","v":1},"D",{"$f":"$I$2","v":1},"D",{"$f":"$I$2","v":1},"D",{"$f":"$I$2","v":1},"D",{"$f":"$I$2","v":1},"D",{"$f":"$I$2","v":1},"D",{"$f":"$I$2","v":1},null,null,null,null,null,null,null,null,null,null,null,null,"<350",null,null,">=350"]
[null,null,null,null,"Salamanca",{"$f":"$L$1","v":"D"},{"$f":"$J$2","v":2},770,{"$f":"$L$1","v":"D"},{"$f":"$J$2","v":2},"D",2,"D",2,"D",2,"D",2,"D",2,"D",2,"D",2,"D",2,"D",2,"D",2,"D",2,"D",2,"D",2,"D",2,"D",2,{"$f":"$M$1","v":"E"},{"$f":"$I$2","v":1},{"$f":"$M$1","v":"E"},{"$f":"$I$2","v":1},{"$f":"$M$1","v":"E"},{"$f":"$I$2","v":1},{"$f":"$M$1","v":"E"},{"$f":"$I$2","v":1},{"$f":"$M$1","v":"E"},{"$f":"$I$2","v":1},{"$f":"$M$1","v":"E"},{"$f":"$I$2","v":1},{"$f":"$M$1","v":"E"},{"$f":"$I$2","v":1},{"$f":"$M$1","v":"E"},{"$f":"$I$2","v":1},{"$f":"$M$1","v":"E"},{"$f":"$I$2","v":1},{"$f":"$M$1","v":"E"},{"$f":"$I$2","v":1},null,null,null,null,null,null,null,null,null,null,null,null,null,null,"<800",null,">=800"]
[null,null,null,null,"SanSebastián",{"$f":"$L$1","v":"D"},{"$f":"$I$2","v":1},5,{"$f":"$L$1","v":"D"},{"$f":"$I$2","v":1},{"$f":"$L$1","v":"D"},{"$f":"$I$2","v":1},{"$f":"$L$1","v":"D"},{"$f":"$I$2","v":1},{"$f":"$L$1","v":"D"},{"$f":"$I$2","v":1},{"$f":"$L$1","v":"D"},{"$f":"$I$2","v":1},{"$f":"$L$1","v":"D"},{"$f":"$I$2","v":1},{"$f":"$L$1","v":"D"},{"$f":"$I$2","v":1},{"$f":"$L$1","v":"D"},{"$f":"$I$2","v":1},{"$f":"$M$1","v":"E"},{"$f":"$I$2","v":1},{"$f":"$M$1","v":"E"},{"$f":"$I$2","v":1},{"$f":"$M$1","v":"E"},{"$f":"$I$2","v":1},{"$f":"$M$1","v":"E"},{"$f":"$I$2","v":1},{"$f":"$M$1","v":"E"},{"$f":"$I$2","v":1},{"$f":"$M$1","v":"E"},{"$f":"$I$2","v":1},{"$f":"$M$1","v":"E"},{"$f":"$I$2","v":1},{"$f":"$M$1","v":"E"},{"$f":"$I$2","v":1},{"$f":"$M$1","v":"E"},{"$f":"$I$2","v":1},{"$f":"$M$1","v":"E"},{"$f":"$I$2","v":1},{"$f":"$M$1","v":"E"},{"$f":"$I$2","v":1},{"$f":"$M$1","v":"E"},{"$f":"$I$2","v":1},{"$f":"$M$1","v":"E"},{"$f":"$I$2","v":1},{"$f":"$M$1","v":"E"},{"$f":"$I$2","v":1},{"$f":"$M$1","v":"E"},{"$f":"$I$2","v":1},{"$f":"$M$1","v":"E"},{"$f":"$I$2","v":1},{"$f":"$M$1","v":"E"},{"$f":"$I$2","v":1},{"$f":"$M$1","v":"E"},{"$f":"$I$2","v":1}]
[null,null,null,null,"SantaCruzDeTenerife","Alfa",{"$f":"$K$2","v":3},0,{"$f":"$F$60","v":"Alfa"},{"$f":"$K$2","v":3},{"$f":"$F$60","v":"Alfa"},{"$f":"$K$2","v":3},{"$f":"$F$60","v":"Alfa"},{"$f":"$K$2","v":3},{"$f":"$F$60","v":"Alfa"},{"$f":"$K$2","v":3},{"$f":"$F$60","v":"Alfa"},{"$f":"$K$2","v":3},{"$f":"$F$60","v":"Alfa"},{"$f":"$K$2","v":3},{"$f":"$F$60","v":"Alfa"},{"$f":"$K$2","v":3},{"$f":"$I$1","v":"A"},{"$f":"$J$2","v":2},"A",2,"A",2,"A",2,"A",2,"A",2,"A",2,"A",2,{"$f":"$J$1","v":"B"},{"$f":"$J$2","v":2},{"$f":"$J$1","v":"B"},2,{"$f":"$J$1","v":"B"},2,{"$f":"$J$1","v":"B"},2,{"$f":"$J$1","v":"B"},2,{"$f":"$K$1","v":"C"},{"$f":"$J$2","v":2},"C",{"$f":"$J$2","v":2},"C",{"$f":"$J$2","v":2},"C",{"$f":"$J$2","v":2},"C",{"$f":"$J$2","v":2},"C",{"$f":"$J$2","v":2}]
[null,null,null,null,"Santander",{"$f":"$K$1","v":"C"},{"$f":"$I$2","v":1},1,{"$f":"$K$1","v":"C"},{"$f":"$I$2","v":1},{"$f":"$K$1","v":"C"},{"$f":"$I$2","v":1},{"$f":"$K$1","v":"C"},{"$f":"$I$2","v":1},{"$f":"$L$1","v":"D"},{"$f":"$I$2","v":1},{"$f":"$L$1","v":"D"},{"$f":"$I$2","v":1},{"$f":"$L$1","v":"D"},{"$f":"$I$2","v":1},{"$f":"$L$1","v":"D"},{"$f":"$I$2","v":1},{"$f":"$L$1","v":"D"},{"$f":"$I$2","v":1},{"$f":"$L$1","v":"D"},{"$f":"$I$2","v":1},{"$f":"$L$1","v":"D"},{"$f":"$I$2","v":1},{"$f":"$L$1","v":"D"},{"$f":"$I$2","v":1},{"$f":"$L$1","v":"D"},{"$f":"$I$2","v":1},{"$f":"$L$1","v":"D"},{"$f":"$I$2","v":1},{"$f":"$M$1","v":"E"},{"$f":"$I$2","v":1},{"$f":"$M$1","v":"E"},{"$f":"$I$2","v":1},{"$f":"$M$1","v":"E"},{"$f":"$I$2","v":1},{"$f":"$M$1","v":"E"},{"$f":"$I$2","v":1},{"$f":"$M$1","v":"E"},{"$f":"$I$2","v":1},{"$f":"$M$1","v":"E"},{"$f":"$I$2","v":1},{"$f":"$M$1","v":"E"},{"$f":"$I$2","v":1},{"$f":"$M$1","v":"E"},{"$f":"$I$2","v":1},{"$f":"$M$1","v":"E"},{"$f":"$I$2","v":1},{"$f":"$M$1","v":"E"},{"$f":"$I$2","v":1},{"$f":"$M$1","v":"E"},{"$f":"$I$2","v":1},{"$f":"$M$1","v":"E"},{"$f":"$I$2","v":1},{"$f":"$M$1","v":"E"},{"$f":"$I$2","v":1},null,null,null,null,null,null,null,null,null,null,null,null,null,null,"<1000",null,">=1000"]
[null,null,null,null,"Segovia",{"$f":"$L$1","v":"D"},{"$f":"$J$2","v":2},1013,{"$f":"$L$1","v":"D"},{"$f":"$J$2","v":2},{"$f":"$L$1","v":"D"},{"$f":"$J$2","v":2},{"$f":"$L$1","v":"D"},{"$f":"$J$2","v":2},{"$f":"$L$1","v":"D"},{"$f":"$J$2","v":2},{"$f":"$L$1","v":"D"},{"$f":"$J$2","v":2},{"$f":"$L$1","v":"D"},{"$f":"$J$2","v":2},{"$f":"$L$1","v":"D"},{"$f":"$J$2","v":2},{"$f":"$L$1","v":"D"},{"$f":"$J$2","v":2},{"$f":"$L$1","v":"D"},{"$f":"$J$2","v":2},{"$f":"$L$1","v":"D"},{"$f":"$J$2","v":2},{"$f":"$L$1","v":"D"},{"$f":"$J$2","v":2},{"$f":"$L$1","v":"D"},{"$f":"$J$2","v":2},{"$f":"$L$1","v":"D"},{"$f":"$J$2","v":2},{"$f":"$L$1","v":"D"},{"$f":"$J$2","v":2},{"$f":"$L$1","v":"D"},{"$f":"$J$2","v":2},{"$f":"$L$1","v":"D"},{"$f":"$J$2","v":2},{"$f":"$L$1","v":"D"},{"$f":"$J$2","v":2},{"$f":"$L$1","v":"D"},{"$f":"$J$2","v":2},{"$f":"$L$1","v":"D"},{"$f":"$J$2","v":2},{"$f":"$L$1","v":"D"},{"$f":"$J$2","v":2},{"$f":"$M$1","v":"E"},{"$f":"$I$2","v":1},{"$f":"$M$1","v":"E"},{"$f":"$I$2","v":1},{"$f":"$M$1","v":"E"},{"$f":"$I$2","v":1},{"$f":"$M$1","v":"E"},{"$f":"$I$2","v":1},{"$f":"$M$1","v":"E"},{"$f":"$I$2","v":1},{"$f":"$M$1","v":"E"},{"$f":"$I$2","v":1},null,null,null,null,null,"<200",null,null,null,">=200"]
[null,null,null,null,"Sevilla",{"$f":"$J$1","v":"B"},{"$f":"$L$2","v":4},9,{"$f":"$J$1","v":"B"},{"$f":"$L$2","v":4},{"$f":"$J$1","v":"B"},{"$f":"$L$2","v":4},{"$f":"$J$1","v":"B"},{"$f":"$L$2","v":4},{"$f":"$J$1","v":"B"},{"$f":"$L$2","v":4},{"$f":"$K$1","v":"C"},{"$f":"$L$2","v":4},{"$f":"$K$1","v":"C"},{"$f":"$L$2","v":4},{"$f":"$K$1","v":"C"},{"$f":"$L$2","v":4},{"$f":"$K$1","v":"C"},{"$f":"$L$2","v":4},{"$f":"$K$1","v":"C"},{"$f":"$L$2","v":4},{"$f":"$K$1","v":"C"},{"$f":"$L$2","v":4},{"$f":"$K$1","v":"C"},{"$f":"$L$2","v":4},{"$f":"$K$1","v":"C"},{"$f":"$L$2","v":4},{"$f":"$K$1","v":"C"},{"$f":"$L$2","v":4},{"$f":"$K$1","v":"C"},{"$f":"$L$2","v":4},{"$f":"$K$1","v":"C"},{"$f":"$L$2","v":4},{"$f":"$K$1","v":"C"},{"$f":"$L$2","v":4},{"$f":"$K$1","v":"C"},{"$f":"$L$2","v":4},{"$f":"$K$1","v":"C"},{"$f":"$L$2","v":4},{"$f":"$K$1","v":"C"},{"$f":"$L$2","v":4},{"$f":"$K$1","v":"C"},{"$f":"$L$2","v":4},{"$f":"$K$1","v":"C"},{"$f":"$L$2","v":4},{"$f":"$K$1","v":"C"},{"$f":"$L$2","v":4},{"$f":"$K$1","v":"C"},{"$f":"$L$2","v":4},{"$f":"$K$1","v":"C"},{"$f":"$L$2","v":4},{"$f":"$K$1","v":"C"},{"$f":"$L$2","v":4},{"$f":"$K$1","v":"C"},{"$f":"$L$2","v":4},null,null,null,null,null,null,null,null,null,null,null,null,null,null,"<750","<800",">=800"]
[null,null,null,null,"Soria",{"$f":"$M$1","v":"E"},{"$f":"$I$2","v":1},984,{"$f":"$L$1","v":"D"},{"$f":"$J$2","v":2},{"$f":"$L$1","v":"D"},{"$f":"$J$2","v":2},{"$f":"$L$1","v":"D"},{"$f":"$J$2","v":2},{"$f":"$L$1","v":"D"},{"$f":"$J$2","v":2},{"$f":"$L$1","v":"D"},{"$f":"$J$2","v":2},{"$f":"$L$1","v":"D"},{"$f":"$J$2","v":2},{"$f":"$L$1","v":"D"},{"$f":"$J$2","v":2},{"$f":"$L$1","v":"D"},{"$f":"$J$2","v":2},{"$f":"$L$1","v":"D"},{"$f":"$J$2","v":2},{"$f":"$L$1","v":"D"},{"$f":"$J$2","v":2},{"$f":"$L$1","v":"D"},{"$f":"$J$2","v":2},{"$f":"$L$1","v":"D"},{"$f":"$J$2","v":2},{"$f":"$L$1","v":"D"},{"$f":"$J$2","v":2},{"$f":"$L$1","v":"D"},{"$f":"$J$2","v":2},{"$f":"$L$1","v":"D"},{"$f":"$J$2","v":2},{"$f":"$L$1","v":"D"},{"$f":"$I$2","v":1},{"$f":"$M$1","v":"E"},{"$f":"$I$2","v":1},{"$f":"$M$1","v":"E"},{"$f":"$I$2","v":1},{"$f":"$M$1","v":"E"},{"$f":"$I$2","v":1},{"$f":"$M$1","v":"E"},{"$f":"$I$2","v":1},{"$f":"$M$1","v":"E"},{"$f":"$I$2","v":1},{"$f":"$M$1","v":"E"},{"$f":"$I$2","v":1},{"$f":"$M$1","v":"E"},{"$f":"$I$2","v":1},{"$f":"$M$1","v":"E"},{"$f":"$I$2","v":1},{"$f":"$M$1","v":"E"},{"$f":"$I$2","v":1},{"$f":"$M$1","v":"E"},{"$f":"$I$2","v":1},null,null,null,null,null,null,"<50",null,null,null,"<500",null,null,">=500"]
[null,null,null,null,"Tarragona",{"$f":"$J$1","v":"B"},{"$f":"$K$2","v":3},1,{"$f":"$J$1","v":"B"},{"$f":"$K$2","v":3},{"$f":"$K$1","v":"C"},{"$f":"$K$2","v":3},"C",{"$f":"$K$2","v":3},"C",{"$f":"$K$2","v":3},"C",{"$f":"$K$2","v":3},"C",{"$f":"$K$2","v":3},"C",{"$f":"$K$2","v":3},"C",{"$f":"$K$2","v":3},"C",{"$f":"$K$2","v":3},"C",{"$f":"$K$2","v":3},"D",{"$f":"$K$2","v":3},"D",3,"D",3,"D",3,"D",3,"D",3,{"$f":"$L$1","v":"D"},3,{"$f":"$L$1","v":"D"},3,{"$f":"$L$1","v":"D"},3,{"$f":"$L$1","v":"D"},3,{"$f":"$L$1","v":"D"},3,"D",3,"D",3,"D",3,"D",3,"D",3,null,null,null,null,null,null,null,null,null,null,"<450","<500",null,null,"<1000",null,">=1000"]
[null,null,null,null,"Teruel",{"$f":"$L$1","v":"D"},{"$f":"$J$2","v":2},995,"C",{"$f":"$K$2","v":3},"C",{"$f":"$K$2","v":3},"C",{"$f":"$K$2","v":3},"C",{"$f":"$K$2","v":3},"C",{"$f":"$K$2","v":3},"C",{"$f":"$K$2","v":3},"C",{"$f":"$K$2","v":3},"C",{"$f":"$K$2","v":3},"C",{"$f":"$K$2","v":3},"C",{"$f":"$J$2","v":2},"D",{"$f":"$J$2","v":2},"D",{"$f":"$J$2","v":2},"D",{"$f":"$J$2","v":2},"D",{"$f":"$J$2","v":2},"D",{"$f":"$J$2","v":2},"D",{"$f":"$J$2","v":2},{"$f":"$L$1","v":"D"},{"$f":"$J$2","v":2},{"$f":"$L$1","v":"D"},{"$f":"$J$2","v":2},{"$f":"$L$1","v":"D"},{"$f":"$J$2","v":2},{"$f":"$L$1","v":"D"},{"$f":"$J$2","v":2},{"$f":"$M$1","v":"E"},{"$f":"$I$2","v":1},{"$f":"$M$1","v":"E"},{"$f":"$I$2","v":1},{"$f":"$M$1","v":"E"},{"$f":"$I$2","v":1},{"$f":"$M$1","v":"E"},{"$f":"$I$2","v":1},{"$f":"$M$1","v":"E"},{"$f":"$I$2","v":1},{"$f":"$M$1","v":"E"},{"$f":"$I$2","v":1},null,null,null,null,null,null,null,null,null,"<500",null,null,null,">=500"]
[null,null,null,null,"Toledo",{"$f":"$K$1","v":"C"},{"$f":"$L$2","v":4},445,"C",{"$f":"$L$2","v":4},"C",{"$f":"$L$2","v":4},"C",{"$f":"$L$2","v":4},"C",{"$f":"$L$2","v":4},"C",{"$f":"$L$2","v":4},"C",{"$f":"$L$2","v":4},"C",{"$f":"$L$2","v":4},"C",{"$f":"$L$2","v":4},"C",{"$f":"$L$2","v":4},"C",{"$f":"$L$2","v":4},"D",{"$f":"$K$2","v":3},"D",3,"D",3,"D",3,"D",3,"D",3,{"$f":"$L$1","v":"D"},3,{"$f":"$L$1","v":"D"},3,{"$f":"$L$1","v":"D"},3,{"$f":"$L$1","v":"D"},3,{"$f":"$L$1","v":"D"},3,"D",3,"D",3,"D",3,"D",3,"D",3,null,null,null,null,null,null,"<50",null,null,null,"<500",null,null,null,"<950",null,">=950"]
[null,null,null,null,"Valencia",{"$f":"$J$1","v":"B"},{"$f":"$K$2","v":3},8,{"$f":"$J$1","v":"B"},{"$f":"$K$2","v":3},"C",{"$f":"$K$2","v":3},"C",{"$f":"$K$2","v":3},"C",{"$f":"$K$2","v":3},"C",{"$f":"$K$2","v":3},"C",{"$f":"$K$2","v":3},"C",{"$f":"$K$2","v":3},"C",{"$f":"$K$2","v":3},"C",{"$f":"$K$2","v":3},"C",{"$f":"$K$2","v":3},"D",{"$f":"$J$2","v":2},"D",{"$f":"$J$2","v":2},"D",{"$f":"$J$2","v":2},"D",{"$f":"$J$2","v":2},"D",{"$f":"$J$2","v":2},"D",{"$f":"$J$2","v":2},{"$f":"$L$1","v":"D"},{"$f":"$J$2","v":2},{"$f":"$L$1","v":"D"},{"$f":"$J$2","v":2},{"$f":"$L$1","v":"D"},{"$f":"$J$2","v":2},{"$f":"$M$1","v":"E"},{"$f":"$I$2","v":1},{"$f":"$M$1","v":"E"},{"$f":"$I$2","v":1},{"$f":"$M$1","v":"E"},{"$f":"$I$2","v":1},{"$f":"$M$1","v":"E"},{"$f":"$I$2","v":1},{"$f":"$M$1","v":"E"},{"$f":"$I$2","v":1},{"$f":"$M$1","v":"E"},{"$f":"$I$2","v":1},{"$f":"$M$1","v":"E"},{"$f":"$I$2","v":1},null,null,null,null,null,null,null,null,null,null,null,null,null,null,"<800",null,">=800"]
[null,null,null,null,"Valladolid",{"$f":"$L$1","v":"D"},{"$f":"$J$2","v":2},704,{"$f":"$L$1","v":"D"},{"$f":"$J$2","v":2},{"$f":"$L$1","v":"D"},{"$f":"$J$2","v":2},{"$f":"$L$1","v":"D"},{"$f":"$J$2","v":2},{"$f":"$L$1","v":"D"},{"$f":"$J$2","v":2},{"$f":"$L$1","v":"D"},{"$f":"$J$2","v":2},{"$f":"$L$1","v":"D"},{"$f":"$J$2","v":2},{"$f":"$L$1","v":"D"},{"$f":"$J$2","v":2},{"$f":"$L$1","v":"D"},{"$f":"$J$2","v":2},{"$f":"$L$1","v":"D"},{"$f":"$J$2","v":2},{"$f":"$L$1","v":"D"},{"$f":"$J$2","v":2},"D",{"$f":"$J$2","v":2},"D",{"$f":"$J$2","v":2},"D",{"$f":"$J$2","v":2},"D",{"$f":"$J$2","v":2},"D",{"$f":"$J$2","v":2},"D",{"$f":"$J$2","v":2},{"$f":"$M$1","v":"E"},{"$f":"$I$2","v":1},{"$f":"$M$1","v":"E"},{"$f":"$I$2","v":1},{"$f":"$M$1","v":"E"},{"$f":"$I$2","v":1},{"$f":"$M$1","v":"E"},{"$f":"$I$2","v":1},{"$f":"$M$1","v":"E"},{"$f":"$I$2","v":1},{"$f":"$M$1","v":"E"},{"$f":"$I$2","v":1},{"$f":"$M$1","v":"E"},{"$f":"$I$2","v":1},{"$f":"$M$1","v":"E"},{"$f":"$I$2","v":1},{"$f":"$M$1","v":"E"},{"$f":"$I$2","v":1},{"$f":"$M$1","v":"E"},{"$f":"$I$2","v":1}]
[null,null,null,null,"Vitoria",{"$f":"$L$1","v":"D"},{"$f":"$I$2","v":1},512,{"$f":"$L$1","v":"D"},{"$f":"$I$2","v":1},{"$f":"$L$1","v":"D"},1,{"$f":"$L$1","v":"D"},1,{"$f":"$L$1","v":"D"},1,{"$f":"$L$1","v":"D"},1,{"$f":"$L$1","v":"D"},1,{"$f":"$L$1","v":"D"},1,{"$f":"$L$1","v":"D"},1,{"$f":"$L$1","v":"D"},1,{"$f":"$L$1","v":"D"},1,{"$f":"$M$1","v":"E"},{"$f":"$I$2","v":1},{"$f":"$M$1","v":"E"},{"$f":"$I$2","v":1},{"$f":"$M$1","v":"E"},{"$f":"$I$2","v":1},{"$f":"$M$1","v":"E"},{"$f":"$I$2","v":1},{"$f":"$M$1","v":"E"},{"$f":"$I$2","v":1},{"$f":"$M$1","v":"E"},{"$f":"$I$2","v":1},{"$f":"$M$1","v":"E"},{"$f":"$I$2","v":1},{"$f":"$M$1","v":"E"},{"$f":"$I$2","v":1},{"$f":"$M$1","v":"E"},{"$f":"$I$2","v":1},{"$f":"$M$1","v":"E"},{"$f":"$I$2","v":1},{"$f":"$M$1","v":"E"},{"$f":"$I$2","v":1},{"$f":"$M$1","v":"E"},{"$f":"$I$2","v":1},{"$f":"$M$1","v":"E"},{"$f":"$I$2","v":1},{"$f":"$M$1","v":"E"},{"$f":"$I$2","v":1},{"$f":"$M$1","v":"E"},{"$f":"$I$2","v":1},{"$f":"$M$1","v":"E"},{"$f":"$I$2","v":1},null,null,null,null,null,null,null,null,null,null,null,null,null,null,"<800",null,">=800"]
[null,null,null,null,"Zamora",{"$f":"$L$1","v":"D"},{"$f":"$J$2","v":2},617,{"$f":"$L$1","v":"D"},{"$f":"$J$2","v":2},{"$f":"$L$1","v":"D"},{"$f":"$J$2","v":2},{"$f":"$L$1","v":"D"},{"$f":"$J$2","v":2},{"$f":"$L$1","v":"D"},{"$f":"$J$2","v":2},{"$f":"$L$1","v":"D"},{"$f":"$J$2","v":2},{"$f":"$L$1","v":"D"},{"$f":"$J$2","v":2},{"$f":"$L$1","v":"D"},{"$f":"$J$2","v":2},{"$f":"$L$1","v":"D"},{"$f":"$J$2","v":2},{"$f":"$L$1","v":"D"},{"$f":"$J$2","v":2},{"$f":"$L$1","v":"D"},{"$f":"$J$2","v":2},{"$f":"$L$1","v":"D"},{"$f":"$J$2","v":2},{"$f":"$L$1","v":"D"},{"$f":"$J$2","v":2},{"$f":"$L$1","v":"D"},{"$f":"$J$2","v":2},{"$f":"$L$1","v":"D"},{"$f":"$J$2","v":2},{"$f":"$L$1","v":"D"},{"$f":"$J$2","v":2},{"$f":"$L$1","v":"D"},{"$f":"$J$2","v":2},{"$f":"$M$1","v":"E"},{"$f":"$I$2","v":1},{"$f":"$M$1","v":"E"},{"$f":"$I$2","v":1},{"$f":"$M$1","v":"E"},{"$f":"$I$2","v":1},{"$f":"$M$1","v":"E"},{"$f":"$I$2","v":1},{"$f":"$M$1","v":"E"},{"$f":"$I$2","v":1},{"$f":"$M$1","v":"E"},{"$f":"$I$2","v":1},{"$f":"$M$1","v":"E"},{"$f":"$I$2","v":1},{"$f":"$M$1","v":"E"},{"$f":"$I$2","v":1},{"$f":"$M$1","v":"E"},{"$f":"$I$2","v":1},{"$f":"$M$1","v":"E"},{"$f":"$I$2","v":1},null,null,null,null,null,null,null,null,null,null,"<200",null,null,"<650",null,null,">=650"]
[null,null,null,null,"Zaragoza",{"$f":"$L$1","v":"D"},{"$f":"$K$2","v":3},207,{"$f":"$K$1","v":"C"},{"$f":"$K$2","v":3},"C",3,"C",3,"C",3,{"$f":"$L$1","v":"D"},{"$f":"$K$2","v":3},{"$f":"$L$1","v":"D"},3,{"$f":"$L$1","v":"D"},3,{"$f":"$L$1","v":"D"},3,{"$f":"$L$1","v":"D"},3,{"$f":"$L$1","v":"D"},3,{"$f":"$L$1","v":"D"},3,{"$f":"$L$1","v":"D"},3,{"$f":"$L$1","v":"D"},3,{"$f":"$M$1","v":"E"},{"$f":"$I$2","v":1},{"$f":"$M$1","v":"E"},{"$f":"$I$2","v":1},{"$f":"$M$1","v":"E"},{"$f":"$I$2","v":1},{"$f":"$M$1","v":"E"},{"$f":"$I$2","v":1},{"$f":"$M$1","v":"E"},{"$f":"$I$2","v":1},{"$f":"$M$1","v":"E"},{"$f":"$I$2","v":1},{"$f":"$M$1","v":"E"},{"$f":"$I$2","v":1},{"$f":"$M$1","v":"E"},{"$f":"$I$2","v":1},{"$f":"$M$1","v":"E"},{"$f":"$I$2","v":1},{"$f":"$M$1","v":"E"},{"$f":"$I$2","v":1},{"$f":"$M$1","v":"E"},{"$f":"$I$2","v":1},{"$f":"$M$1","v":"E"},{"$f":"$I$2","v":1},{"$f":"$M$1","v":"E"},{"$f":"$I$2","v":1}]
[]
[null,null,null,null,"CAPITAL ","Z.C. INVIERNO","Z.C. VERANO ","ALTITUD","0-50",null,"50-100",null,"100-150",null,"150-200",null,"200-250",null,"250-300",null,"300-350",null,"350-400",null,"400-450",null,"450-500",null,"500-550",null,"550-600",null,"600-650",null,"650-700",null,"700-750",null,"750-800",null,"800-850",null,"850-900",null,"900-950",null,"950-1000",null,"1000-1050",null,"1100-1150",null,"1150-1200",null,"1200-1250",null,"1250-1300",null,">=1300"]
[null,null,null,null,"Palmas de Gran  Canaria, Las","Alfa",{"$f":"$K$2","v":3},114,{"$f":"$F$59","v":"Alfa"},{"$f":"$K$2","v":3},{"$f":"$F$59","v":"Alfa"},{"$f":"$K$2","v":3},{"$f":"$F$59","v":"Alfa"},{"$f":"$K$2","v":3},{"$f":"$F$59","v":"Alfa"},{"$f":"$K$2","v":3},{"$f":"$F$59","v":"Alfa"},{"$f":"$K$2","v":3},{"$f":"$F$59","v":"Alfa"},{"$f":"$K$2","v":3},{"$f":"$F$59","v":"Alfa"},{"$f":"$K$2","v":3},{"$f":"$I$1","v":"A"},{"$f":"$J$2","v":2},"A",2,"A",2,"A",2,"A",2,"A",2,"A",2,"A",2,{"$f":"$J$1","v":"B"},{"$f":"$J$2","v":2},{"$f":"$J$1","v":"B"},2,{"$f":"$J$1","v":"B"},2,{"$f":"$J$1","v":"B"},2,{"$f":"$J$1","v":"B"},2,{"$f":"$K$1","v":"C"},{"$f":"$J$2","v":2},"C",{"$f":"$J$2","v":2},"C",{"$f":"$J$2","v":2},"C",{"$f":"$J$2","v":2},"C",{"$f":"$J$2","v":2},"C",{"$f":"$J$2","v":2}]
[null,null,null,null,"Santa Cruz de Tenerife",{"$f":"$F$59","v":"Alfa"},{"$f":"$K$2","v":3},0,{"$f":"$F$59","v":"Alfa"},{"$f":"$K$2","v":3},{"$f":"$F$59","v":"Alfa"},{"$f":"$K$2","v":3},{"$f":"$F$59","v":"Alfa"},{"$f":"$K$2","v":3},{"$f":"$F$59","v":"Alfa"},{"$f":"$K$2","v":3},{"$f":"$F$59","v":"Alfa"},{"$f":"$K$2","v":3},{"$f":"$F$59","v":"Alfa"},{"$f":"$K$2","v":3},{"$f":"$F$59","v":"Alfa"},{"$f":"$K$2","v":3},"A",2,"A",2,"A",2,"A",2,"A",2,"A",2,"A",2,"A",2,{"$f":"$J$1","v":"B"},2,{"$f":"$J$1","v":"B"},2,{"$f":"$J$1","v":"B"},2,{"$f":"$J$1","v":"B"},2,{"$f":"$J$1","v":"B"},2,"C",{"$f":"$J$2","v":2},"C",{"$f":"$J$2","v":2},"C",{"$f":"$J$2","v":2},"C",{"$f":"$J$2","v":2},"C",{"$f":"$J$2","v":2},"C",{"$f":"$J$2","v":2}]

{"sheet":"DG ","index":10,"n_rows":394,"n_cols":14,"rows_kept":394,"cut":false,"hidden":false,"merged":[[86,5,88,5],[91,3,91,4],[37,3,37,4],[51,3,51,4],[65,3,65,4],[77,3,77,4],[4,3,4,4],[2,2,2,3],[2,4,2,5],[2,6,2,7],[1,2,1,7]]}
[]
[null,null,"VERDE Edificios 2020 (Residencial privado) \nNueva Edificación, Rehabilitación, Edificio Existente y Mixto"]
[null,null,null,null,"DATOS GENERALES"]
[]
[null,null,null,"Datos de edificio"]
[]
[]
[null,null,null,null,"Nombre del edificio"]
[]
[null,null,null,null,"Localidad"]
[]
[null,null,null,null,"Comunidad Autónoma"]
[]
[null,null,null,null,"Capital de Provincia"]
[]
[null,null,null,null,"Altura sobre el nivel del mar"]
[]
[null,null,null,null,"Zona climática de la localidad",{"$f":"CONCATENATE('zona clima'!C10,'zona clima'!C11)","v":""}]
[null,null,null,null,null,null,null,null,null,null,null,"Residencial colectivo"]
[null,null,null,null,"Superficie construida total (m2)*",null,null,null,null,null,null,"Unifamiliar"]
[null,null,null,null,"*Descontando plantas bajo rasante y aparcamientos",null,null,null,null,null,null,"Urbanizaciones"]
[null,null,null,null,null,null,null,null,null,null,null,"Vivienda en un edificio"]
[null,null,null,null,"Superficie útil de los espacios habitables del edificio (m2)*",null,null,null,null,null,null,"Edificios administrativos"]
[null,null,null,null,null,null,null,null,null,null,null,"Equipamiento público"]
[null,null,null,null,"Número de viviendas",null,null,null,null,null,null,"Edificios docentes"]
[null,null,null,null,null,null,null,null,null,null,null,"Edificios comerciales"]
[null,null,null,null,"Perfil de uso",null,null,null,null,null,null,"Alojamiento y hospedaje"]
[null,null,null,null,null,null,null,null,null,null,null,"Servicios de restauración"]
[null,null,null,null,"Tipo de actuación",null,null,null,null,null,null,"Industria ligera o logística"]
[null,null,null,null,null,null,null,null,null,null,null,"Local o parte de un edificio"]
[null,null,null,null,"Superficie de ampliación (equiparable a nueva edificación):"]
[]
[null,null,null,null,"Superficie rehabilitada"]
[]
[null,null,null,null,"Superficie de edificio existente sobre el que no se interviene:"]
[]
[null,null,null,null,null,null,null,null,null,null,null,"Nueva edificación"]
[null,null,null,"Ajustes de la herramienta",null,null,null,null,null,null,null,"Rehabilitación"]
[null,null,null,null,null,null,null,null,null,null,null,"Edificio existente"]
[null,null,null,null,null,null,null,null,null,null,null,"Mixto"]
[null,null,null,null,"¿El edificio dispone de plazas de aparcamiento?"]
[]
[null,null,null,null,"Superficie libre de parcela"]
[]
[null,null,null,null,"Superficie ajardinada",null,null,null,null,null,null,"Sí"]
[null,null,null,null,null,null,null,null,null,null,null,"No"]
[null,null,null,null,"¿El edificio dispone de sustancias refrigerantes en su instalación de climatización?",null,null,null,null,null,null,"No aplica"]
[null,null,null,null,null,null,null,null,null,null,null,"No"]
[null,null,null,null,"¿El edificio se sitúa en una isla?",null,null,null,null,null,null,"No aplica"]
[]
[]
[null,null,null,"Datos del promotor y equipo de proyecto"]
[]
[]
[null,null,null,null,"Promotor"]
[]
[null,null,null,null,"Contacto promotor"]
[]
[null,null,null,null,"Equipo redactor"]
[]
[null,null,null,null,"Fecha de proyecto"]
[]
[null,null,null,null,"Fecha de construcción"]
[]
[]
[null,null,null,"Datos del  Evaluador Acreditado"]
[]
[]
[null,null,null,null,"Nombre"]
[]
[null,null,null,null,"Apellidos"]
[]
[null,null,null,null,"Email "]
[]
[null,null,null,null,"Teléfono de contacto"]
[]
[]
[null,null,null,"Datos de la certificación"]
[]
[]
[null,null,null,null,"Código de la certifiacción"]
[null,null,null,null,null,null,null,null,null,null,null,"Comercial","Obra construida"]
[null,null,null,null,"Fase de la certificación",null,null,null,null,null,null,null,"Proyecto de ejecución"]
[null,null,null,null,null,null,null,null,null,null,null,null,"Obra construida"]
[null,null,null,null,"Fecha de entrega de la evaluación"]
[]
[null,null,null,null,"Dirección postal de entrega de la certificación"]
[]
[]
[]
[]
[null,null,null,"Documentos Justificativos",null,null,null,null,null,null,null,null,null,"a"]
[null,null,null,null,null,null,null,null,null,null,null,null,null,"r"]
[]
[null,null,null,null,"DG 01"]
[]
[null,null,null,null,"DG 02"]
[]
[null,null,null,null,"DG 03"]
[]
[null,null,null,null,"DG 04"]
[]
[null,null,null,null,"DG 05"]
[]
[null,null,null,null,"DG 06"]
[]
[null,null,null,null,"DG 07"]
[]
[null,null,null,null,"DG 08"]
[]
[]
[]
[]
[]
[]
[]
[]
[]
[]
[]
[]
[]
[]
[]
[]
[]
[]
[]
[]
[]
[]
[]
[]
[]
[]
[]
[]
[]
[]
[]
[]
[]
[]
[]
[]
[]
[]
[]
[]
[]
[]
[]
[]
[]
[]
[]
[]
[]
[]
[]
[]
[]
[]
[]
[]
[]
[]
[]
[]
[]
[]
[]
[]
[]
[]
[]
[]
[]
[]
[]
[]
[]
[]
[]
[]
[]
[]
[]
[]
[]
[]
[]
[]
[]
[]
[]
[]
[]
[]
[]
[]
[]
[]
[]
[]
[]
[]
[]
[]
[]
[]
[]
[]
[]
[]
[]
[]
[]
[]
[]
[]
[]
[]
[]
[]
[]
[]
[]
[]
[]
[]
[]
[]
[]
[]
[]
[]
[]
[]
[]
[]
[]
[]
[]
[]
[]
[]
[]
[]
[]
[]
[]
[]
[]
[]
[]
[]
[]
[]
[]
[]
[]
[]
[]
[]
[]
[]
[]
[]
[]
[]
[]
[]
[]
[]
[]
[]
[]
[]
[]
[]
[]
[]
[]
[]
[]
[]
[]
[]
[]
[]
[]
[]
[]
[]
[]
[]
[]
[]
[]
[]
[]
[]
[]
[]
[]
[]
[]
[]
[]
[]
[]
[]
[]
[]
[]
[]
[]
[]
[]
[]
[]
[]
[]
[]
[]
[]
[]
[]
[]
[]
[]
[]
[]
[]
[]
[]
[]
[]
[]
[]
[]
[]
[]
[]
[]
[]
[]
[]
[]
[]
[]
[]
[]
[]
[]
[]
[]
[]
[]
[]
[]
[]
[]
[]
[]
[]
[]
[]
[]
[]
[]
[]
[]
[]
[]
[]
[]
[]
[]
[]
[]
[]
[]
[]
[]
[]
[]
[]
[]
[]
[]
[]
[null,null,null,null,null,null,null,"a"]

{"sheet":"CA","index":11,"n_rows":138,"n_cols":9,"rows_kept":138,"cut":false,"hidden":false,"merged":[[27,4,27,5],[27,6,27,7],[1,2,1,10],[3,3,3,9],[4,4,4,5],[4,6,4,7],[6,3,6,5],[4,2,4,3],[27,2,27,3],[29,3,29,5],[44,4,44,5],[44,6,44,7],[46,3,46,5],[73,4,73,5],[73,6,73,7],[44,2,44,3],[73,2,73,3],[109,3,109,5],[75,3,75,5],[88,4,88,5],[88,6,88,7],[90,3,90,5],[107,4,107,5],[107,6,107,7],[88,2,88,3],[107,2,107,3]]}
[]
[null,null,"VERDE Edificios 2020 Residencial privado\nNueva Edificación, Rehabilitación, Edificio Existente y Mixto"]
[null,null,null,null,null,"CRITERIOS APLICABLES"]
[null,null,null,"NOTA: Cuando la celda de marcado aparece en blanco, el criterio no aplica por la tipología del edificio o el tipo de actuación indicados en la pestaña de Datos Generales."]
[null,null,{"$f":"'Matriz VERDE-GBCe'!U6","v":"PE"},null,{"$f":"'Matriz VERDE-GBCe'!V6","v":"Parcela y emplazamiento"},null,{"$f":"SUM(G9:G25)","v":0.15998599213404449}]
[]
[null,null,null,"Criterios"]
[]
[null,null,null,null,{"$f":"'Matriz VERDE-GBCe'!V7","v":"PE 01"},{"$f":"VLOOKUP(E9,'Matriz VERDE-GBCe'!$V$6:W$55,2,FALSE)","v":"Proximidad al transporte publico."},{"$f":"VLOOKUP(E9,'Matriz VERDE-GBCe'!$V$6:AX$59,3,FALSE)","v":1.5004579494639301E-2},1,1]
[]
[null,null,null,null,{"$f":"'Matriz VERDE-GBCe'!V8","v":"PE 02"},{"$f":"VLOOKUP(E11,'Matriz VERDE-GBCe'!$V$6:W$55,2,FALSE)","v":"Proximidad a equipamiento y servicios."},{"$f":"VLOOKUP(E11,'Matriz VERDE-GBCe'!$V$6:AX$59,3,FALSE)","v":1.4142556974300955E-2},1,1]
[]
[null,null,null,null,{"$f":"'Matriz VERDE-GBCe'!V9","v":"PE 03"},{"$f":"VLOOKUP(E13,'Matriz VERDE-GBCe'!$V$6:W$55,2,FALSE)","v":"Facilidades para la bicicleta."},{"$f":"VLOOKUP(E13,'Matriz VERDE-GBCe'!$V$6:AX$59,3,FALSE)","v":1.7105759387964013E-2},1,1]
[]
[null,null,null,null,{"$f":"'Matriz VERDE-GBCe'!V10","v":"PE 04"},{"$f":"VLOOKUP(E15,'Matriz VERDE-GBCe'!$V$6:W$55,2,FALSE)","v":"Capacidad de carga de vehículos eléctricos."},{"$f":"VLOOKUP(E15,'Matriz VERDE-GBCe'!$V$6:AX$59,3,FALSE)","v":1.6809439146597709E-2},1,1]
[]
[null,null,null,null,{"$f":"'Matriz VERDE-GBCe'!V11","v":"PE 05"},{"$f":"VLOOKUP(E17,'Matriz VERDE-GBCe'!$V$6:W$55,2,FALSE)","v":"Clasificación de RSU."},{"$f":"VLOOKUP(E17,'Matriz VERDE-GBCe'!$V$6:AX$59,3,FALSE)","v":1.1852809654652225E-2},1,1]
[]
[null,null,null,null,{"$f":"'Matriz VERDE-GBCe'!V12","v":"PE 06"},{"$f":"VLOOKUP(E19,'Matriz VERDE-GBCe'!$V$6:W$55,2,FALSE)","v":"Gestión y Restauración del hábitat."},{"$f":"VLOOKUP(E19,'Matriz VERDE-GBCe'!$V$6:AX$59,3,FALSE)","v":2.3948063143149616E-2},1,1]
[]
[null,null,null,null,{"$f":"'Matriz VERDE-GBCe'!V13","v":"PE 07"},{"$f":"VLOOKUP(E21,'Matriz VERDE-GBCe'!$V$6:W$55,2,FALSE)","v":"Uso de plantas para crear sombras."},{"$f":"VLOOKUP(E21,'Matriz VERDE-GBCe'!$V$6:AX$59,3,FALSE)","v":1.9018371854964713E-2},1,1]
[]
[null,null,null,null,{"$f":"'Matriz VERDE-GBCe'!V14","v":"PE 08"},{"$f":"VLOOKUP(E23,'Matriz VERDE-GBCe'!$V$6:W$55,2,FALSE)","v":"Efecto isla de calor."},{"$f":"VLOOKUP(E23,'Matriz VERDE-GBCe'!$V$6:AX$59,3,FALSE)","v":2.1442810193416303E-2},1,1]
[null,null,null,null,null,null,"+"]
[null,null,null,null,{"$f":"'Matriz VERDE-GBCe'!V15","v":"PE 09"},{"$f":"VLOOKUP(E25,'Matriz VERDE-GBCe'!$V$6:W$55,2,FALSE)","v":"Contaminación lumínica."},{"$f":"VLOOKUP(E25,'Matriz VERDE-GBCe'!$V$6:AX$59,3,FALSE)","v":2.0661602284359679E-2},1,1]
[]
[]
[null,null,{"$f":"'Matriz VERDE-GBCe'!U16","v":"EA"},null,{"$f":"'Matriz VERDE-GBCe'!V16","v":"Energía y atmósfera"},null,{"$f":"SUM(G32:G42)","v":0.18471526318625081}]
[]
[null,null,null,"Criterios"]
[]
[null,null,null,null,{"$f":"'Matriz VERDE-GBCe'!V17","v":"EA 00"},{"$f":"VLOOKUP(E32,'Matriz VERDE-GBCe'!$V$6:W$55,2,FALSE)","v":"Demanda de calefacción y refrigeración"},{"$f":"VLOOKUP(E32,'Matriz VERDE-GBCe'!$V$6:AX$55,3,FALSE)","v":0},1,1]
[]
[null,null,null,null,{"$f":"'Matriz VERDE-GBCe'!V18","v":"EA 01"},{"$f":"VLOOKUP(E34,'Matriz VERDE-GBCe'!$V$6:W$55,2,FALSE)","v":"Consumo de energía primaria"},{"$f":"VLOOKUP(E34,'Matriz VERDE-GBCe'!$V$6:AX$55,3,FALSE)","v":7.9144442648564212E-2},1,1]
[]
[null,null,null,null,{"$f":"'Matriz VERDE-GBCe'!V19","v":"EA 02"},{"$f":"VLOOKUP(E36,'Matriz VERDE-GBCe'!$V$6:W$55,2,FALSE)","v":"Generación distribuida"},{"$f":"VLOOKUP(E36,'Matriz VERDE-GBCe'!$V$6:AX$55,3,FALSE)","v":5.0913205107483449E-2},1,1]
[]
[null,null,null,null,{"$f":"'Matriz VERDE-GBCe'!V20","v":"EA 03"},{"$f":"VLOOKUP(E38,'Matriz VERDE-GBCe'!$V$6:W$55,2,FALSE)","v":"Consumo en zonas comunes"},{"$f":"VLOOKUP(E38,'Matriz VERDE-GBCe'!$V$6:AX$55,3,FALSE)","v":2.6668821722967515E-2},1,1]
[]
[null,null,null,null,{"$f":"'Matriz VERDE-GBCe'!V21","v":"EA 05"},{"$f":"VLOOKUP(E40,'Matriz VERDE-GBCe'!$V$6:W$55,2,FALSE)","v":"Emisión de NOx en calderas de combustión."},{"$f":"VLOOKUP(E40,'Matriz VERDE-GBCe'!$V$6:AX$55,3,FALSE)","v":0},1,1]
[]
[null,null,null,null,{"$f":"'Matriz VERDE-GBCe'!V22","v":"EA 04"},{"$f":"VLOOKUP(E42,'Matriz VERDE-GBCe'!$V$6:W$55,2,FALSE)","v":"Elección responsable de refrigerantes"},{"$f":"VLOOKUP(E42,'Matriz VERDE-GBCe'!$V$6:AX$55,3,FALSE)","v":2.7988793707235605E-2},1,1]
[]
[]
[null,null,{"$f":"'Matriz VERDE-GBCe'!U23","v":"RN"},null,{"$f":"'Matriz VERDE-GBCe'!V23","v":"Recursos naturales"},null,{"$f":"SUM(G49:G71)","v":0.26345563277840633}]
[]
[null,null,null,"Criterios"]
[]
[null,null,null,null,{"$f":"'Matriz VERDE-GBCe'!V24","v":"RN 01"},{"$f":"VLOOKUP(E49,'Matriz VERDE-GBCe'!$V$6:W$59,2,FALSE)","v":"Consumo de agua en aparatos sanitarios"},{"$f":"VLOOKUP(E49,'Matriz VERDE-GBCe'!$V$6:AX$55,3,FALSE)","v":2.2466461936318089E-2},1,1]
[]
[null,null,null,null,{"$f":"'Matriz VERDE-GBCe'!V25","v":"RN 02"},{"$f":"VLOOKUP(E51,'Matriz VERDE-GBCe'!$V$6:W$59,2,FALSE)","v":"Necesidades de riego en jardines."},{"$f":"VLOOKUP(E51,'Matriz VERDE-GBCe'!$V$6:AX$55,3,FALSE)","v":2.2897473196487259E-2},1,1]
[]
[null,null,null,null,{"$f":"'Matriz VERDE-GBCe'!V26","v":"RN 03"},{"$f":"VLOOKUP(E53,'Matriz VERDE-GBCe'!$V$6:W$59,2,FALSE)","v":"Consumos de agua singulares."},{"$f":"VLOOKUP(E53,'Matriz VERDE-GBCe'!$V$6:AX$55,3,FALSE)","v":1.9018371854964713E-2},1,1]
[]
[null,null,null,null,{"$f":"'Matriz VERDE-GBCe'!V27","v":"RN 04"},{"$f":"VLOOKUP(E55,'Matriz VERDE-GBCe'!$V$6:W$59,2,FALSE)","v":"Uso de agua no potable."},{"$f":"VLOOKUP(E55,'Matriz VERDE-GBCe'!$V$6:AX$55,3,FALSE)","v":2.1873821453585476E-2},1,1]
[]
[null,null,null,null,{"$f":"'Matriz VERDE-GBCe'!V28","v":"RN 05"},{"$f":"VLOOKUP(E57,'Matriz VERDE-GBCe'!$V$6:W$59,2,FALSE)","v":"Uso de materiales reciclados."},{"$f":"VLOOKUP(E57,'Matriz VERDE-GBCe'!$V$6:AX$55,3,FALSE)","v":1.9018371854964713E-2},1,1]
[]
[null,null,null,null,{"$f":"'Matriz VERDE-GBCe'!V29","v":"RN 06"},{"$f":"VLOOKUP(E59,'Matriz VERDE-GBCe'!$V$6:W$55,2,FALSE)","v":"Elección responsable de materiales"},{"$f":"VLOOKUP(E59,'Matriz VERDE-GBCe'!$V$6:AX$55,3,FALSE)","v":1.9718765152739615E-2},1,1]
[]
[null,null,null,null,{"$f":"'Matriz VERDE-GBCe'!V30","v":"RN 07"},{"$f":"VLOOKUP(E61,'Matriz VERDE-GBCe'!$V$6:W$59,2,FALSE)","v":"Uso de materiales de producción local."},{"$f":"VLOOKUP(E61,'Matriz VERDE-GBCe'!$V$6:AX$55,3,FALSE)","v":2.0715478691880826E-2},1,1]
[]
[null,null,null,null,{"$f":"'Matriz VERDE-GBCe'!V31","v":"RN 08"},{"$f":"VLOOKUP(E63,'Matriz VERDE-GBCe'!$V$6:W$59,2,FALSE)","v":"El edificio como banco de materiales"},{"$f":"VLOOKUP(E63,'Matriz VERDE-GBCe'!$V$6:AX$55,3,FALSE)","v":2.2708905770163244E-2},1,1]
[]
[null,null,null,null,{"$f":"'Matriz VERDE-GBCe'!V32","v":"RN 09"},{"$f":"VLOOKUP(E65,'Matriz VERDE-GBCe'!$V$6:W$59,2,FALSE)","v":"Gestión de los residuos de la construcción."},{"$f":"VLOOKUP(E65,'Matriz VERDE-GBCe'!$V$6:AX$55,3,FALSE)","v":1.6432304293949682E-2},1,1]
[]
[null,null,null,null,{"$f":"'Matriz VERDE-GBCe'!V33","v":"RN 10"},{"$f":"VLOOKUP(E67,'Matriz VERDE-GBCe'!$V$6:W$59,2,FALSE)","v":"Nivel de intervención en rehabilitaciones"},{"$f":"VLOOKUP(E67,'Matriz VERDE-GBCe'!$V$6:AX$59,3,FALSE)","v":0},1,1]
[]
[null,null,null,null,{"$f":"'Matriz VERDE-GBCe'!V34","v":"RN 11"},{"$f":"VLOOKUP(E69,'Matriz VERDE-GBCe'!$V$6:W$59,2,FALSE)","v":"Impacto de los materiales de la construcción."},{"$f":"VLOOKUP(E69,'Matriz VERDE-GBCe'!$V$6:AX$55,3,FALSE)","v":5.7566941436345026E-2},1,1]
[]
[null,null,null,null,{"$f":"'Matriz VERDE-GBCe'!V35","v":"RN 12"},{"$f":"VLOOKUP(E71,'Matriz VERDE-GBCe'!$V$6:W$59,2,FALSE)","v":"Ecoetiquetado de producto."},{"$f":"VLOOKUP(E71,'Matriz VERDE-GBCe'!$V$6:AX$55,3,FALSE)","v":2.1038737137007706E-2},1,1]
[]
[]
[null,null,{"$f":"'Matriz VERDE-GBCe'!U36","v":"AI"},null,{"$f":"'Matriz VERDE-GBCe'!V36","v":"Ambiente Interior."},null,{"$f":"SUM(G78:G86)","v":7.8551802165831588E-2}]
[]
[null,null,null,"Criterios"]
[]
[null,null,null,null,{"$f":"'Matriz VERDE-GBCe'!V37","v":"AI 01"},{"$f":"VLOOKUP(E78,'Matriz VERDE-GBCe'!$V$6:W$59,2,FALSE)","v":"Limitación de las emisiones de COVs"},{"$f":"VLOOKUP(E78,'Matriz VERDE-GBCe'!$V$6:AX$55,3,FALSE)","v":1.9961208986584777E-2},1,1]
[]
[null,null,null,null,{"$f":"'Matriz VERDE-GBCe'!V38","v":"AI 02"},{"$f":"VLOOKUP(E80,'Matriz VERDE-GBCe'!$V$6:W$59,2,FALSE)","v":"Control de la calidad del aire"},{"$f":"VLOOKUP(E80,'Matriz VERDE-GBCe'!$V$6:AX$55,3,FALSE)","v":1.9530197726415604E-2},1,1]
[]
[null,null,null,null,{"$f":"'Matriz VERDE-GBCe'!V39","v":"AI 03"},{"$f":"VLOOKUP(E82,'Matriz VERDE-GBCe'!$V$6:W$59,2,FALSE)","v":"Iluminación natural."},{"$f":"VLOOKUP(E82,'Matriz VERDE-GBCe'!$V$6:AX$55,3,FALSE)","v":1.9530197726415604E-2},1,1]
[]
[null,null,null,null,{"$f":"'Matriz VERDE-GBCe'!V40","v":"AI 04"},{"$f":"VLOOKUP(E84,'Matriz VERDE-GBCe'!$V$6:W$59,2,FALSE)","v":"Iluminación artificial"},{"$f":"VLOOKUP(E84,'Matriz VERDE-GBCe'!$V$6:AX$55,3,FALSE)","v":0},1,1]
[null,null,null,null,{"$f":"'Matriz VERDE-GBCe'!V42","v":"Aspectos sociales"}]
[null,null,null,null,{"$f":"'Matriz VERDE-GBCe'!V41","v":"AI 05"},{"$f":"VLOOKUP(E86,'Matriz VERDE-GBCe'!$V$6:W$59,2,FALSE)","v":"Protección frente al ruido."},{"$f":"VLOOKUP(E86,'Matriz VERDE-GBCe'!$V$6:AX$55,3,FALSE)","v":1.9530197726415604E-2},1,1]
[]
[]
[null,null,{"$f":"'Matriz VERDE-GBCe'!U52","v":"CE"},null,{"$f":"'Matriz VERDE-GBCe'!V52","v":"Calidad de la edificación"},null,{"$f":"SUM(G93:G105)","v":0.13786972684661389}]
[]
[null,null,null,"Criterios"]
[]
[null,null,null,null,{"$f":"'Matriz VERDE-GBCe'!V53","v":"CE 01"},{"$f":"VLOOKUP(E93,'Matriz VERDE-GBCe'!$V$6:W$59,2,FALSE)","v":"Diseño pasivo"},{"$f":"VLOOKUP(E93,'Matriz VERDE-GBCe'!$V$6:AX$55,3,FALSE)","v":2.9766715155433436E-2},1,1]
[]
[null,null,null,null,{"$f":"'Matriz VERDE-GBCe'!V54","v":"CE 02"},{"$f":"VLOOKUP(E95,'Matriz VERDE-GBCe'!$V$6:W$59,2,FALSE)","v":"Control parcial de los sistemas de clima"},{"$f":"VLOOKUP(E95,'Matriz VERDE-GBCe'!$V$6:AX$55,3,FALSE)","v":0},1,1]
[]
[null,null,null,null,{"$f":"'Matriz VERDE-GBCe'!V55","v":"CE 03"},{"$f":"VLOOKUP(E97,'Matriz VERDE-GBCe'!$V$6:W$59,2,FALSE)","v":"Control local de la iluminación"},{"$f":"VLOOKUP(E97,'Matriz VERDE-GBCe'!$V$6:AX$55,3,FALSE)","v":0},1,1]
[]
[null,null,null,null,{"$f":"'Matriz VERDE-GBCe'!V56","v":"CE 04"},{"$f":"VLOOKUP(E99,'Matriz VERDE-GBCe'!$V$6:W$59,2,FALSE)","v":"Calidad en la construcción"},{"$f":"VLOOKUP(E99,'Matriz VERDE-GBCe'!$V$6:AX$59,3,FALSE)","v":3.6501266095576745E-2},1,1]
[]
[null,null,null,null,{"$f":"'Matriz VERDE-GBCe'!V57","v":"CE 05"},{"$f":"VLOOKUP(E101,'Matriz VERDE-GBCe'!$V$6:W$59,2,FALSE)","v":"Puesta en marcha sistemática"},{"$f":"VLOOKUP(E101,'Matriz VERDE-GBCe'!$V$6:AX$59,3,FALSE)","v":3.7902052691126557E-2},1,1]
[]
[null,null,null,null,{"$f":"'Matriz VERDE-GBCe'!V58","v":"CE 06"},{"$f":"VLOOKUP(E103,'Matriz VERDE-GBCe'!$V$6:W$59,2,FALSE)","v":"Custodia de la documentación del proyecto"},{"$f":"VLOOKUP(E103,'Matriz VERDE-GBCe'!$V$6:AX$59,3,FALSE)","v":3.3699692904477128E-2},1,1]
[]
[null,null,null,null,{"$f":"'Matriz VERDE-GBCe'!V59","v":"CE 07"},{"$f":"VLOOKUP(E105,'Matriz VERDE-GBCe'!$V$6:W$59,2,FALSE)","v":"Certificaciones voluntarias de edificios"},{"$f":"VLOOKUP(E105,'Matriz VERDE-GBCe'!$V$6:AX$59,3,FALSE)","v":0},1,1]
[]
[]
[null,null,{"$f":"'Matriz VERDE-GBCe'!U42","v":"AS"},null,{"$f":"'Matriz VERDE-GBCe'!V42","v":"Aspectos sociales"},null,{"$f":"SUM(G112:G128)","v":0.17542158288885298}]
[]
[null,null,null,"Criterios"]
[]
[null,null,null,null,{"$f":"'Matriz VERDE-GBCe'!V43","v":"AS 01"},{"$f":"VLOOKUP(E112,'Matriz VERDE-GBCe'!$V$6:W$59,2,FALSE)","v":"Espacios para todas las personas"},{"$f":"VLOOKUP(E112,'Matriz VERDE-GBCe'!$V$6:AX$59,3,FALSE)","v":1.9180001077528153E-2},1,1]
[]
[null,null,null,null,{"$f":"'Matriz VERDE-GBCe'!V44","v":"AS 02"},{"$f":"VLOOKUP(E114,'Matriz VERDE-GBCe'!$V$6:W$59,2,FALSE)","v":"Espacios para la comunicación"},{"$f":"VLOOKUP(E114,'Matriz VERDE-GBCe'!$V$6:AX$55,3,FALSE)","v":1.8479607779753247E-2},1,1]
[]
[null,null,null,null,{"$f":"'Matriz VERDE-GBCe'!V45","v":"AS 03"},{"$f":"VLOOKUP(E116,'Matriz VERDE-GBCe'!$V$6:W$59,2,FALSE)","v":"Derecho al sol"},{"$f":"VLOOKUP(E116,'Matriz VERDE-GBCe'!$V$6:AX$55,3,FALSE)","v":1.7429017833090893E-2},1,1]
[]
[null,null,null,null,{"$f":"'Matriz VERDE-GBCe'!V46","v":"AS 04"},{"$f":"VLOOKUP(E118,'Matriz VERDE-GBCe'!$V$6:W$59,2,FALSE)","v":"Derecho a la intimidad"},{"$f":"VLOOKUP(E118,'Matriz VERDE-GBCe'!$V$6:AX$55,3,FALSE)","v":1.6809439146597705E-2},1,1]
[]
[null,null,null,null,{"$f":"'Matriz VERDE-GBCe'!V47","v":"AS 05"},{"$f":"VLOOKUP(E120,'Matriz VERDE-GBCe'!$V$6:W$59,2,FALSE)","v":"Contacto visual con el exterior"},{"$f":"VLOOKUP(E120,'Matriz VERDE-GBCe'!$V$6:AX$55,3,FALSE)","v":1.7860029093260062E-2},1,1]
[]
[null,null,null,null,{"$f":"'Matriz VERDE-GBCe'!V48","v":"AS 06"},{"$f":"VLOOKUP(E122,'Matriz VERDE-GBCe'!$V$6:W$59,2,FALSE)","v":"Espacios abiertos privados"},{"$f":"VLOOKUP(E122,'Matriz VERDE-GBCe'!$V$6:AX$55,3,FALSE)","v":1.8210225742147514E-2},1,1]
[]
[null,null,null,null,{"$f":"'Matriz VERDE-GBCe'!V49","v":"AS 07"},{"$f":"VLOOKUP(E124,'Matriz VERDE-GBCe'!$V$6:W$59,2,FALSE)","v":"Diseño inclusivo"},{"$f":"VLOOKUP(E124,'Matriz VERDE-GBCe'!$V$6:AX$55,3,FALSE)","v":2.0742416895641401E-2},1,1]
[]
[null,null,null,null,{"$f":"'Matriz VERDE-GBCe'!V50","v":"AS 08"},{"$f":"VLOOKUP(E126,'Matriz VERDE-GBCe'!$V$6:W$59,2,FALSE)","v":"Conexión con la naturaleza"},{"$f":"VLOOKUP(E126,'Matriz VERDE-GBCe'!$V$6:AX$55,3,FALSE)","v":2.7342276816981845E-2},1,1]
[]
[null,null,null,null,{"$f":"'Matriz VERDE-GBCe'!V51","v":"AS 09"},{"$f":"VLOOKUP(E128,'Matriz VERDE-GBCe'!$V$6:W$59,2,FALSE)","v":"El edificio como herramienta de comunicación"},{"$f":"VLOOKUP(E128,'Matriz VERDE-GBCe'!$V$6:AX$55,3,FALSE)","v":1.9368568503852164E-2},1,1]
[]
[]
[]
[]
[]
[]
[null,null,null,null,null,null,{"$f":"G5+G28+G45+G74+G89+G108","v":1}]
[null,null,null,null,null,null,{"$f":"SUM(G5:G132)/2","v":0.99999999999999989}]
[null,null,null,null,null,null,1]
[null,null,null,null,null,null,0]

{"sheet":"PRE","index":12,"n_rows":839,"n_cols":41,"rows_kept":839,"cut":false,"hidden":false,"merged":[[810,2,810,11],[786,3,786,4],[788,3,788,4],[790,3,790,4],[792,3,792,4],[794,3,794,4],[796,3,796,4],[798,3,798,4],[801,3,801,4],[806,2,806,11],[756,1,756,2],[756,3,756,11],[756,12,756,13],[759,4,759,11],[761,18,762,18],[764,18,765,18],[767,18,768,18],[770,18,771,18],[773,18,774,18],[766,3,766,14],[767,3,767,14],[769,3,769,14],[763,3,763,14],[764,3,764,14],[756,14,756,15],[770,3,770,14],[719,18,720,18],[722,18,723,18],[733,3,734,14],[744,3,744,14],[730,18,731,18],[733,18,734,18],[741,18,742,18],[744,18,745,18],[716,3,716,14],[724,3,724,5],[735,3,735,5],[741,3,741,14],[739,4,739,11],[730,3,730,14],[719,3,719,14],[722,3,722,14],[710,18,711,18],[713,18,714,18],[710,3,710,14],[707,3,707,14],[700,4,700,11],[704,3,704,14],[693,3,693,14],[694,3,694,14],[716,18,717,18],[713,3,713,14],[702,3,702,5],[674,18,675,18],[677,18,678,18],[682,18,683,18],[685,18,686,18],[688,18,689,18],[691,18,692,18],[694,18,695,18],[704,18,705,18],[707,18,708,18],[625,18,626,18],[628,18,629,18],[631,18,632,18],[634,18,635,18],[645,1,645,2],[672,4,672,11],[691,5,691,12],[691,13,691,14],[654,18,655,18],[657,18,658,18],[660,18,661,18],[663,18,664,18],[666,18,667,18],[654,5,655,14],[682,5,682,14],[685,5,685,14],[674,3,674,14],[677,3,677,14],[633,3,633,14],[645,3,645,11],[651,3,651,11],[652,3,652,11],[657,5,659,14],[688,5,688,14],[590,18,591,18],[593,18,594,18],[596,18,597,18],[623,4,623,11],[605,18,606,18],[608,18,609,18],[611,18,612,18],[614,18,615,18],[617,18,618,18],[595,3,595,14],[593,3,594,14],[614,3,614,14],[603,4,603,11],[617,3,617,14],[526,18,527,18],[529,18,530,18],[532,18,533,18],[539,4,539,11],[543,18,544,18],[546,18,547,18],[588,4,588,11],[555,18,556,18],[558,18,559,18],[566,18,567,18],[569,18,570,18],[579,18,580,18],[582,18,583,18],[577,3,577,7],[552,4,552,11],[575,4,575,9],[557,3,557,14],[569,3,569,14],[564,4,564,11],[568,3,568,11],[571,3,571,5],[560,3,560,5],[582,3,582,14],[558,3,558,14],[492,18,493,18],[495,18,496,18],[506,1,506,2],[510,4,510,11],[512,18,513,18],[515,18,516,18],[521,4,521,11],[523,18,524,18],[451,18,452,18],[454,18,455,18],[457,18,458,18],[463,4,463,11],[468,18,469,18],[471,18,472,18],[474,18,475,18],[486,18,487,18],[489,18,490,18],[456,3,456,14],[454,3,454,14],[453,3,453,14],[457,3,457,14],[451,3,451,14],[480,4,480,11],[459,3,459,5],[1,19,1,20],[1,1,1,18],[2,9,2,14],[4,1,4,2],[9,18,10,18],[17,18,18,18],[27,18,28,18],[43,3,43,14],[56,4,56,11],[40,3,40,14],[17,3,17,14],[11,3,11,5],[19,3,19,5],[27,3,28,14],[23,4,23,11],[25,3,25,14],[26,3,26,14],[30,3,31,14],[49,3,49,14],[50,3,50,14],[4,3,4,13],[4,14,4,15],[9,3,9,14],[15,4,15,11],[448,3,448,14],[449,3,449,14],[436,3,436,14],[437,3,437,14],[440,3,441,14],[30,18,31,18],[44,18,45,18],[47,18,48,18],[50,18,51,18],[60,18,61,18],[63,18,64,18],[66,18,67,18],[76,18,77,18],[62,3,62,14],[76,3,76,14],[79,18,80,18],[84,4,84,11],[85,4,85,11],[89,18,90,18],[92,18,93,18],[95,18,96,18],[105,18,106,18],[108,18,109,18],[116,18,117,18],[450,3,450,14],[439,3,439,14],[446,4,446,11],[442,3,442,5],[434,3,434,14],[418,3,418,14],[400,3,400,5],[408,3,408,14],[352,4,352,11],[354,3,354,14],[372,3,372,14],[375,3,375,14],[381,3,381,14],[378,3,378,14],[383,3,383,5],[392,3,393,14],[406,3,406,14],[391,3,391,14],[394,3,394,14],[415,3,416,14],[398,3,398,14],[409,3,409,14],[432,4,432,11],[429,3,429,11],[328,3,328,14],[367,3,367,5],[348,3,348,5],[346,3,346,14],[177,3,178,14],[297,3,297,14],[186,3,186,14],[255,3,255,14],[137,3,138,14],[139,3,139,14],[362,3,362,5],[357,3,357,14],[331,3,331,14],[334,3,334,14],[337,3,337,14],[340,3,340,14],[343,3,343,14],[257,3,257,14],[258,3,258,14],[230,3,230,14],[232,3,232,14],[233,3,233,14],[191,3,191,14],[302,3,302,14],[127,23,127,16383],[282,3,282,14],[283,3,283,14],[193,3,193,14],[167,3,167,14],[166,3,166,14],[133,3,133,14],[280,3,280,14],[241,3,241,14],[243,3,243,14],[244,3,244,14],[266,3,266,14],[225,3,225,11],[174,3,175,14],[199,3,199,14],[202,3,202,14],[192,3,192,14],[246,3,246,14],[247,3,247,14],[260,3,260,5],[239,4,239,11],[235,3,235,5],[228,4,228,11],[196,3,196,14],[299,3,299,14],[214,3,214,14],[36,4,36,11],[38,3,38,14],[150,3,150,14],[78,3,78,14],[79,3,79,14],[65,3,65,14],[47,3,47,14],[66,3,66,14],[72,4,72,11],[107,3,107,14],[108,3,108,14],[60,3,60,14],[105,3,105,14],[92,3,92,14],[114,4,114,11],[188,3,188,14],[189,3,189,14],[164,4,164,11],[171,3,172,14],[143,3,144,14],[59,3,59,14],[194,5,194,14],[97,3,97,5],[91,3,91,14],[136,3,136,14],[184,4,184,11],[286,3,286,14],[274,3,274,5],[249,3,249,5],[268,3,268,14],[269,3,269,14],[271,3,271,14],[272,3,272,14],[278,4,278,11],[253,4,253,11],[127,3,127,11],[197,5,197,14],[200,5,200,14],[209,5,209,11],[203,5,203,14],[32,3,32,5],[52,3,52,5],[68,3,68,5],[7,4,7,11],[160,3,160,5],[180,3,180,5],[127,14,127,15],[135,3,135,14],[142,3,142,14],[153,3,153,14],[154,3,155,14],[134,3,134,14],[168,3,169,14],[101,4,101,11],[89,3,89,14],[81,3,81,5],[110,3,110,5],[118,3,118,5],[95,3,95,14],[44,3,44,14],[58,3,58,14],[63,3,63,14],[116,3,117,14],[140,3,141,14],[465,3,465,14],[470,3,470,14],[471,3,471,14],[473,3,473,14],[515,3,515,14],[534,3,534,5],[506,3,506,11],[528,3,528,14],[512,3,512,14],[474,3,474,14],[491,3,491,14],[514,3,514,14],[506,14,506,15],[476,3,476,5],[466,3,466,14],[467,3,467,14],[468,3,468,14],[746,3,746,5],[728,4,728,11],[772,3,772,14],[773,3,773,14],[484,3,484,14],[488,3,488,14],[482,3,482,9],[542,3,542,12],[545,3,545,14],[489,3,490,14],[517,3,517,5],[554,3,554,11],[555,3,555,14],[532,3,532,14],[541,3,541,12],[529,3,529,14],[566,3,566,14],[495,3,495,14],[546,3,547,14],[548,3,548,5],[631,3,631,14],[680,3,680,14],[660,3,660,14],[668,3,668,5],[810,15,810,16],[808,15,808,16],[761,3,761,14],[581,3,581,11],[645,14,645,15],[596,3,596,14],[598,3,598,5],[605,3,605,14],[607,3,607,12],[608,3,608,14],[611,3,611,14],[610,3,610,14],[584,3,584,5],[696,3,696,5],[625,3,625,14],[627,3,627,14],[628,3,628,14],[630,3,630,14],[619,3,619,5],[649,4,649,11],[663,3,663,14],[666,3,666,14],[775,3,775,5],[808,2,808,11],[579,3,579,14],[592,3,592,14],[494,3,494,14],[492,3,493,14],[525,3,525,12],[486,3,486,14],[497,3,497,5],[485,3,485,14],[543,3,544,14],[526,3,526,14],[523,3,523,14],[589,3,589,11],[590,3,590,14],[634,3,634,14],[636,3,636,5],[127,1,127,2],[137,18,138,18],[140,18,141,18],[143,18,144,18],[148,18,149,18],[151,18,152,18],[154,18,155,18],[157,18,158,18],[168,18,169,18],[151,3,152,14],[148,3,149,14],[157,3,158,14],[146,3,146,14],[147,3,147,14],[131,4,131,11],[171,18,172,18],[174,18,175,18],[177,18,178,18],[186,18,187,18],[189,18,190,18],[194,18,195,18],[197,18,198,18],[200,18,201,18],[203,18,204,18],[211,18,212,18],[214,18,215,18],[225,1,225,2],[230,18,231,18],[233,18,234,18],[241,18,242,18],[244,18,245,18],[205,3,205,5],[211,3,211,14],[216,3,216,5],[225,14,225,15],[247,18,248,18],[255,18,256,18],[258,18,259,18],[266,18,267,18],[264,4,264,11],[269,18,270,18],[272,18,273,18],[280,18,281,18],[283,18,284,18],[286,18,287,18],[297,18,298,18],[300,18,301,18],[303,18,304,18],[311,18,312,18],[326,4,326,11],[311,3,311,14],[313,3,313,14],[314,3,314,14],[317,3,317,14],[305,3,305,5],[322,3,322,5],[316,3,316,14],[320,3,320,14],[309,4,309,11],[303,3,303,14],[314,18,315,18],[317,18,318,18],[320,18,321,18],[295,4,295,11],[300,3,300,14],[291,3,291,5],[288,3,288,14],[289,3,289,14],[429,1,429,2],[360,18,361,18],[366,4,366,11],[369,18,370,18],[372,18,373,18],[375,18,376,18],[378,18,379,18],[381,18,382,18],[387,4,387,11],[389,18,390,18],[412,3,412,14],[404,4,404,11],[420,3,420,5],[417,3,417,14],[429,14,429,15],[360,3,361,14],[389,3,390,14],[369,3,369,14],[397,3,397,14],[395,3,395,14],[357,18,358,18],[434,18,435,18],[437,18,438,18],[440,18,441,18],[392,18,393,18],[395,18,396,18],[398,18,399,18],[406,18,407,18],[409,18,410,18],[412,18,413,18],[415,18,416,18],[418,18,419,18],[289,18,290,18],[328,18,329,18],[331,18,332,18],[334,18,335,18],[337,18,338,18],[340,18,341,18],[343,18,344,18],[346,18,347,18],[354,18,355,18]]}
[]
[null,"VERDE Edificios 2020 (Residencial privado)\n Nueva Edificación, Rehabilitación, Edificio Existente y Mixto",null,null,null,null,null,null,null,null,null,null,null,null,null,null,null,null,null,null,null,null,null,null,"SEGURO","SÍ"]
[null,null,null,null,null,null,null,null,null,"PRE-EVALUACIÓN",null,null,null,null,null,null,null,null,null,null,null,null,null,null,"PROBABLE","NO"]
[null,null,null,null,null,null,null,null,null,null,null,null,null,null,null,null,null,null,null,null,null,null,null,null,"DUDOSO"]
[null,{"$f":"'Matriz VERDE-GBCe'!U6","v":"PE"},null,{"$f":"'Matriz VERDE-GBCe'!V6","v":"Parcela y emplazamiento"},null,null,null,null,null,null,null,null,null,null,"Valoración total",null,{"$f":"'Matriz VERDE-GBCe'!X6","v":0.15998599213404449},null,null,null,null,null,null,null,"NO CUMPLE"]
[null,null,null,null,null,null,null,null,null,null,null,null,null,null,null,null,null,null,null,null,null,null,null,null,"NO APLICA"]
[]
[null,null,null,{"$f":"'Matriz VERDE-GBCe'!V7","v":"PE 01"},{"$f":"VLOOKUP($D8,'Matriz VERDE-GBCe'!$V$6:$AH$55,2,FALSE)","v":"Proximidad al transporte publico."},null,null,null,null,null,null,null,null,null,{"$f":"VLOOKUP($D8,'Matriz VERDE-GBCe'!$V$6:$AH$55,3,FALSE)","v":1.5004579494639301E-2},null,null,null,null,null,null,null,null,null,"Target","SEGURO",null,"PROBABLE",null,"DUDOSO",null,"NO CUMPLE",null,"NO APLICA"]
[]
[null,null,null,"Se cumple con el número de líneas determinado en el radio correspondiente",null,null,null,null,null,null,null,null,null,null,null,null,null,null,null,null,null,null,null,null,1,{"$f":"+IF($Q10=\"seguro\",$Y10,0)","v":0},null,{"$f":"+IF($Q10=\"probable\",$Y10,0)","v":0},null,{"$f":"+IF($Q10=\"dudoso\",$Y10,0)","v":0},null,{"$f":"+IF($Q10=\"NO CUMPLE\",$Y10,0)","v":0},null,{"$f":"+IF($Q10=\"no aplica\",2,0)","v":0}]
[]
[null,null,null,"Valoración obtenida:",null,null,null,"SEGURO",null,"PROBABLE",null,"DUDOSO",null,null,null,null,null,null,null,null,null,null,null,{"$f":"Z12+AB12+AD12+AF12","v":0},{"$f":"SUM(Y9:Y10)","v":1},{"$f":"IF($O8=\"\",0,SUM(Z9:Z10)*$O8/$Y12)","v":0},null,{"$f":"IF($O8=\"\",0,SUM(AB9:AB10)*$O8/$Y12)","v":0},null,{"$f":"IF($O8=\"\",0,SUM(AD9:AD10)*$O8/$Y12)","v":0},null,{"$f":"IF($O8=\"\",0,SUM(AF9:AF10)*$O8/$Y12)","v":0}]
[null,null,null,null,null,null,null,{"$f":"Z12","v":0},null,{"$f":"AB12","v":0},null,{"$f":"AD12","v":0}]
[]
[]
[null,null,null,{"$f":"'Matriz VERDE-GBCe'!V8","v":"PE 02"},{"$f":"VLOOKUP($D16,'Matriz VERDE-GBCe'!$V$6:$AH$55,2,FALSE)","v":"Proximidad a equipamiento y servicios."},null,null,null,null,null,null,null,null,null,{"$f":"VLOOKUP($D16,'Matriz VERDE-GBCe'!$V$6:$AH$55,3,FALSE)","v":1.4142556974300955E-2},null,null,null,null,null,null,null,null,null,"Target","SEGURO",null,"PROBABLE",null,"DUDOSO",null,"NO CUMPLE",null,"NO APLICA"]
[]
[null,null,null,"Se cumple con el número de equipamientos determinados en el radio correspondiente",null,null,null,null,null,null,null,null,null,null,null,null,null,null,null,null,null,null,null,null,1,{"$f":"+IF($Q18=\"seguro\",$Y18,0)","v":0},null,{"$f":"+IF($Q18=\"probable\",$Y18,0)","v":0},null,{"$f":"+IF($Q18=\"dudoso\",$Y18,0)","v":0},null,{"$f":"+IF($Q18=\"NO CUMPLE\",$Y18,0)","v":0},null,{"$f":"+IF($Q18=\"no aplica\",2,0)","v":0}]
[]
[null,null,null,"Valoración obtenida:",null,null,null,"SEGURO",null,"PROBABLE",null,"DUDOSO",null,null,null,null,null,null,null,null,null,null,null,{"$f":"Z20+AB20+AD20+AF20","v":0},{"$f":"SUM(Y18:Y18)","v":1},{"$f":"IF($O16=\"\",0,SUM(Z17:Z18)*$O16/$Y20)","v":0},null,{"$f":"IF($O16=\"\",0,SUM(AB17:AB18)*$O16/$Y20)","v":0},null,{"$f":"IF($O16=\"\",0,SUM(AD17:AD18)*$O16/$Y20)","v":0},null,{"$f":"IF($O16=\"\",0,SUM(AF17:AF18)*$O16/$Y20)","v":0}]
[null,null,null,null,null,null,null,{"$f":"Z20","v":0},null,{"$f":"AB20","v":0},null,{"$f":"AD20","v":0}]
[]
[]
[null,null,null,{"$f":"'Matriz VERDE-GBCe'!V9","v":"PE 03"},{"$f":"VLOOKUP($D24,'Matriz VERDE-GBCe'!$V$6:$AH$55,2,FALSE)","v":"Facilidades para la bicicleta."},null,null,null,null,null,null,null,null,null,{"$f":"VLOOKUP($D24,'Matriz VERDE-GBCe'!$V$6:$AH$55,3,FALSE)","v":1.7105759387964013E-2}]
[]
[null,null,null,{"$f":"IF('DG '!F29=\"\",\"\",'DG '!F29)","v":""},null,null,null,null,null,null,null,null,null,null,null,null,null,null,null,null,null,null,null,null,"Target","SEGURO",null,"PROBABLE",null,"DUDOSO",null,"NO CUMPLE",null,"NO APLICA"]
[]
[null,null,null,"Se cumple con el número de aparcabicis determinado y las medidas de seguridad para los elementos y el emplazamiento de los mismos",null,null,null,null,null,null,null,null,null,null,null,null,null,null,null,null,null,null,null,null,{"$f":"IF(D26=\"Unifamiliar\",0,1)","v":1},{"$f":"+IF($Q28=\"seguro\",$Y28,0)","v":0},null,{"$f":"+IF($Q28=\"probable\",$Y28,0)","v":0},null,{"$f":"+IF($Q28=\"dudoso\",$Y28,0)","v":0},null,{"$f":"+IF($Q28=\"NO CUMPLE\",$Y28,0)","v":0},null,{"$f":"+IF($Q28=\"no aplica\",2,0)","v":0}]
[]
[]
[null,null,null,"No se dispone espacio libre en la parcela o espacio de aparcamiento pero existe un aparcamiento para bicicletas en vía pública a menos de 300 m",null,null,null,null,null,null,null,null,null,null,null,null,null,null,null,null,null,null,null,null,{"$f":"IF(D26=\"Nueva Edificación\",0,0.5)","v":0.5},{"$f":"+IF($Q31=\"seguro\",$Y31,0)","v":0},null,{"$f":"+IF($Q31=\"probable\",$Y31,0)","v":0},null,{"$f":"+IF($Q31=\"dudoso\",$Y31,0)","v":0},null,{"$f":"+IF($Q31=\"NO CUMPLE\",$Y31,0)","v":0}]
[]
[null,null,null,"Valoración obtenida:",null,null,null,"SEGURO",null,"PROBABLE",null,"DUDOSO",null,null,null,null,null,null,null,null,null,null,null,{"$f":"Z33+AB33+AD33+AF33","v":0},{"$f":"SUM(Y28:Y28)","v":1},{"$f":"IF($O24=\"\",0,MAX(Z27:Z32)*$O24)","v":0},null,{"$f":"IF($O24=\"\",0,MAX(AB27:AB32)*$O24)","v":0},null,{"$f":"IF($O24=\"\",0,MAX(AD27:AD32)*$O24)","v":0},null,{"$f":"IF($O24=\"\",0,MAX(AF27:AF32)*$O24)","v":0}]
[null,null,null,null,null,null,null,{"$f":"Z33","v":0},null,{"$f":"AB33","v":0},null,{"$f":"AD33","v":0}]
[]
[]
[null,null,null,{"$f":"'Matriz VERDE-GBCe'!V10","v":"PE 04"},{"$f":"VLOOKUP($D37,'Matriz VERDE-GBCe'!$V$6:$AH$55,2,FALSE)","v":"Capacidad de carga de vehículos eléctricos."},null,null,null,null,null,null,null,null,null,{"$f":"VLOOKUP($D37,'Matriz VERDE-GBCe'!$V$6:$AH$55,3,FALSE)","v":1.6809439146597709E-2}]
[]
[null,null,null,{"$f":"IF('DG '!F27=0,\"\",'DG '!F27)","v":""}]
[]
[null,null,null,{"$f":"IF('DG '!F29=0,\"\",'DG '!F29)","v":""},null,null,null,null,null,null,null,null,null,null,null,null,null,null,null,null,null,null,null,null,"Target","SEGURO",null,"PROBABLE",null,"DUDOSO",null,"NO CUMPLE",null,"NO APLICA"]
[]
[null,null,null,"NOTA: Este criterio se evalúa por fórmulas lineales, la puntuación puede variar en la evaluación final. Ver la guía."]
[]
[null,null,null,"¿Todas las plazas de aparcamiento sin carga cuentan con una preinstalación de carga para vehículos?"]
[]
[]
[null,null,null,"El porcentaje de plazas con carga para vehículos eléctricos es igula o superior al 35% con,al menos, 2 plazas.",null,null,null,null,null,null,null,null,null,null,null,null,null,null,null,null,null,null,null,null,0.5,{"$f":"+IF($Q48=\"seguro\",$Y48,0)","v":0},null,{"$f":"+IF($Q48=\"probable\",$Y48,0)","v":0},null,{"$f":"+IF($Q48=\"dudoso\",$Y48,0)","v":0},null,{"$f":"+IF($Q48=\"NO CUMPLE\",$Y48,0)","v":0},null,{"$f":"+IF($Q48=\"no aplica\",2,0)","v":0}]
[]
[]
[null,null,null,"El porcentaje de plazas con carga para vehículos eléctricos es igula o superior al 50% con,al menos, 2 plazas.",null,null,null,null,null,null,null,null,null,null,null,null,null,null,null,null,null,null,null,null,0.5,{"$f":"+IF($Q51=\"seguro\",$Y51,0)","v":0},null,{"$f":"+IF($Q51=\"probable\",$Y51,0)","v":0},null,{"$f":"+IF($Q51=\"dudoso\",$Y51,0)","v":0},null,{"$f":"+IF($Q51=\"NO CUMPLE\",$Y51,0)","v":0},null,{"$f":"+IF($Q51=\"no aplica\",2,0)","v":0}]
[]
[null,null,null,"Valoración obtenida:",null,null,null,"SEGURO",null,"PROBABLE",null,"DUDOSO",null,null,null,null," ",null,null,null,null,null,null,{"$f":"Z53+AB53+AD53+AF53","v":0},{"$f":"SUM(Y48:Y51)","v":1},{"$f":"IF($O37=\"\",0,SUM(Z44:Z51)*$O37)","v":0},null,{"$f":"IF($O37=\"\",0,SUM(AB44:AB51)*$O37)","v":0},null,{"$f":"IF($O37=\"\",0,SUM(AD44:AD51)*$O37)","v":0},null,{"$f":"IF($O37=\"\",0,SUM(AF44:AF51)*$O37)","v":0}]
[null,null,null,null,null,null,null,{"$f":"IF(Q45=\"Seguro\",Z53,0)","v":0},{"$f":"IF(R45=\"Seguro\",AA53,0)","v":0},{"$f":"IF(Q45=\"Seguro\",AB53,0)","v":0},{"$f":"IF(R45=\"Seguro\",AC53,0)","v":0},{"$f":"IF(Q45=\"Seguro\",AD53,0)","v":0}]
[null,null,null,null,null,null,null,null,null,null,null,null,null,null,null,null," "]
[]
[null,null,null,{"$f":"'Matriz VERDE-GBCe'!V11","v":"PE 05"},{"$f":"VLOOKUP($D57,'Matriz VERDE-GBCe'!$V$6:$AH$55,2,FALSE)","v":"Clasificación de RSU."},null,null,null,null,null,null,null,null,null,{"$f":"VLOOKUP($D57,'Matriz VERDE-GBCe'!$V$6:$AH$55,3,FALSE)","v":1.1852809654652225E-2},null,null,null,null,null,null,null,{"$f":"IF('DG '!F27=\"Unifamiliar\",\"Uni\",IF('DG '!F27=\"Residencial colectivo\",\"Res\",\"\"))","v":""},null,"Target","SEGURO",null,"PROBABLE",null,"DUDOSO",null,"NO CUMPLE",null,"NO APLICA",null,{"$f":"IF(#REF!=\"\",\"\",IF(#REF!=\"rehabilitación\",\"RH\",\"NE\"))","v":{"$error":"#REF!"}},{"$f":"IF(#REF!=\"unifamiliar\",\"Uni\", \"Res\")","v":{"$error":"#REF!"}}]
[]
[null,null,null,{"$f":"IF('DG '!F27=0,\"\",'DG '!F27)","v":""}]
[]
[null,null,null,"Se cumplen las condiciones del almacén contenedores de residuos",null,null,null,null,null,null,null,null,null,null,null,null,null,null,null,null,null,null,null,null,{"$f":"IF(D59=\"Unifamiliar\",0,0.5)","v":0.5},{"$f":"+IF($Q61=\"seguro\",$Y61,0)","v":0},null,{"$f":"+IF($Q61=\"probable\",$Y61,0)","v":0},null,{"$f":"+IF($Q61=\"dudoso\",$Y61,0)","v":0},null,{"$f":"+IF($Q61=\"NO CUMPLE\",$Y61,0)","v":0},null,{"$f":"+IF($Q61=\"no aplica\",2,0)","v":0},null,null,{"$f":"IF(AK57=\"uni\",0.35,IF(AJ57=\"ne\",0.3,IF(AJ57=\"rh\",0.4,0)))","v":{"$error":"#REF!"}}]
[]
[null,null,null,null,null,null,null,null,null,null,null,null,null,null,null,null,null,null,null,null,null,null,null,null,null,null,null,null,null,null,null,null,null,null,null,null,{"$f":"IF(AK57=\"uni\",0.35,IF(AJ57=\"ne\",0.2,IF(AJ57=\"rh\",0.2,0)))","v":{"$error":"#REF!"}}]
[null,null,null,"Existe un sistema de revalorización de los residuos producidos en la parcela",null,null,null,null,null,null,null,null,null,null,null,null,null,null,null,null,null,null,null,null,{"$f":"IF(D59=\"Unifamiliar\",1,0.25)","v":0.25},{"$f":"+IF($Q64=\"seguro\",$Y64,0)","v":0},null,{"$f":"+IF($Q64=\"probable\",$Y64,0)","v":0},null,{"$f":"+IF($Q64=\"dudoso\",$Y64,0)","v":0},null,{"$f":"+IF($Q64=\"NO CUMPLE\",$Y64,0)","v":0},null,{"$f":"+IF($Q64=\"no aplica\",2,0)","v":0},null,null,{"$f":"IF(AK57=\"uni\",0,IF(AJ57=\"ne\",0.3,IF(AJ57=\"rh\",0.2,0)))","v":{"$error":"#REF!"}}]
[]
[]
[null,null,null,"Se cumplen otras medidas de reducción, clasificación o gestión de residuos",null,null,null,null,null,null,null,null,null,null,null,null,null,null,null,null,null,null,null,null,{"$f":"IF(D59=\"Unifamiliar\",0,0.25)","v":0.25},{"$f":"+IF($Q67=\"seguro\",$Y67,0)","v":0},null,{"$f":"+IF($Q67=\"probable\",$Y67,0)","v":0},null,{"$f":"+IF($Q67=\"dudoso\",$Y67,0)","v":0},null,{"$f":"+IF($Q67=\"NO CUMPLE\",$Y67,0)","v":0},null,{"$f":"+IF($Q67=\"no aplica\",2,0)","v":0}]
[]
[null,null,null,"Valoración obtenida:",null,null,null,"SEGURO",null,"PROBABLE",null,"DUDOSO",null,null,null,null,null,null,null,null,null,null,null,{"$f":"Z69+AB69+AD69+AF69","v":0},{"$f":"SUM(Y61:Y67)","v":1},{"$f":"IF($O57=\"\",0,SUM(Z61:Z67)*$O57/Y69)","v":0},null,{"$f":"IF($O57=\"\",0,SUM(AB61:AB67)*$O57/$Y69)","v":0},null,{"$f":"IF($O57=\"\",0,SUM(AD61:AD67)*$O57/$Y69)","v":0},null,{"$f":"IF($O57=\"\",0,SUM(AF61:AF67)*$O57/$Y69)","v":0}]
[null,null,null,null,null,null,null,{"$f":"Z69","v":0},null,{"$f":"AB69","v":0},null,{"$f":"AD69","v":0}]
[]
[]
[null,null,null,{"$f":"'Matriz VERDE-GBCe'!V12","v":"PE 06"},{"$f":"VLOOKUP($D73,'Matriz VERDE-GBCe'!$V$6:$AH$55,2,FALSE)","v":"Gestión y Restauración del hábitat."},null,null,null,null,null,null,null,null,null,{"$f":"VLOOKUP($D73,'Matriz VERDE-GBCe'!$V$6:$AH$55,3,FALSE)","v":2.3948063143149616E-2},null,null,null,null,null,null,null,null,null,"Target","SEGURO",null,"PROBABLE",null,"DUDOSO",null,"NO CUMPLE",null,"NO APLICA"]
[]
[null,null,null,"NOTA: Este criterio se evalúa por fórmulas lineales, la puntuación puede variar en la evaluación final. Ver la guía."]
[]
[null,null,null,"El porcentaje de superficie ajardinada ocupado por plantas autóctonas es superior al 50 %",null,null,null,null,null,null,null,null,null,null,null,null,null,null,null,null,null,null,null,null,0.5,{"$f":"+IF($Q77=\"seguro\",$Y77,0)","v":0},null,{"$f":"+IF($Q77=\"probable\",$Y77,0)","v":0},null,{"$f":"+IF($Q77=\"dudoso\",$Y77,0)","v":0},null,{"$f":"+IF($Q77=\"NO CUMPLE\",$Y77,0)","v":0},null,{"$f":"+IF($Q77=\"no aplica\",2,0)","v":0}]
[]
[]
[null,null,null,"El porcentaje de superficie ajardinada ocupado por plantas autóctonas es superior al 75%",null,null,null,null,null,null,null,null,null,null,null,null,null,null,null,null,null,null,null,null,0.5,{"$f":"+IF($Q80=\"seguro\",$Y80,0)","v":0},null,{"$f":"+IF($Q80=\"probable\",$Y80,0)","v":0},null,{"$f":"+IF($Q80=\"dudoso\",$Y80,0)","v":0},null,{"$f":"+IF($Q80=\"NO CUMPLE\",$Y80,0)","v":0},null,{"$f":"+IF($Q80=\"no aplica\",2,0)","v":0}]
[]
[null,null,null,"Valoración obtenida:",null,null,null,"SEGURO",null,"PROBABLE",null,"DUDOSO",null,null,null,null,null,null,null,null,null,null,null,{"$f":"Z82+AB82+AD82+AF82","v":0},{"$f":"SUM(Y76:Y80)","v":1},{"$f":"IF($O73=\"\",0,MAX(Z77:Z80)*$O73/$Y82)","v":0},null,{"$f":"IF($O73=\"\",0,MAX(AB77:AB80)*$O73/$Y82)","v":0},null,{"$f":"IF($O73=\"\",0,MAX(AD77:AD80)*$O73/$Y82)","v":0},null,{"$f":"IF($O73=\"\",0,MAX(AF77:AF80)*$O73/$Y82)","v":0}]
[null,null,null,null,null,null,null,{"$f":"Z82","v":0},null,{"$f":"AB82","v":0},null,{"$f":"AD82","v":0}]
[]
[]
[null,null,null,{"$f":"'Matriz VERDE-GBCe'!V13","v":"PE 07"},{"$f":"VLOOKUP($D86,'Matriz VERDE-GBCe'!$V$6:$AH$55,2,FALSE)","v":"Uso de plantas para crear sombras."},null,null,null,null,null,null,null,null,null,{"$f":"VLOOKUP($D86,'Matriz VERDE-GBCe'!$V$6:$AH$55,3,FALSE)","v":1.9018371854964713E-2},null,null,null,null,null,null,null,null,null,"Target","SEGURO",null,"PROBABLE",null,"DUDOSO",null,"NO CUMPLE",null,"NO APLICA"]
[]
[null,null,null,"NOTA: Este criterio se evalúa por fórmulas lineales, la puntuación puede variar en la evaluación final. Ver la guía."]
[]
[null,null,null,"Se cumplen los requisitos de sombreamiento para la fachada oeste",null,null,null,null,null,null,null,null,null,null,null,null,null,null,null,null,null,null,null,null,0.4,{"$f":"+IF($Q90=\"seguro\",$Y90,0)","v":0},null,{"$f":"+IF($Q90=\"probable\",$Y90,0)","v":0},null,{"$f":"+IF($Q90=\"dudoso\",$Y90,0)","v":0},null,{"$f":"+IF($Q90=\"NO CUMPLE\",$Y90,0)","v":0},null,{"$f":"+IF($Q90=\"no aplica\",2,0)","v":0}]
[]
[]
[null,null,null,"Se cumplen los requisitos de sombreamiento de la fachada este",null,null,null,null,null,null,null,null,null,null,null,null,null,null,null,null,null,null,null,null,0.3,{"$f":"+IF($Q93=\"seguro\",$Y93,0)","v":0},null,{"$f":"+IF($Q93=\"probable\",$Y93,0)","v":0},null,{"$f":"+IF($Q93=\"dudoso\",$Y93,0)","v":0},null,{"$f":"+IF($Q93=\"NO CUMPLE\",$Y93,0)","v":0},null,{"$f":"+IF($Q93=\"no aplica\",2,0)","v":0}]
[]
[]
[null,null,null,"Se cumplen los requisitos de sombreamiento de la fachada sur",null,null,null,null,null,null,null,null,null,null,null,null,null,null,null,null,null,null,null,null,0.3,{"$f":"+IF($Q96=\"seguro\",$Y96,0)","v":0},null,{"$f":"+IF($Q96=\"probable\",$Y96,0)","v":0},null,{"$f":"+IF($Q96=\"dudoso\",$Y96,0)","v":0},null,{"$f":"+IF($Q96=\"NO CUMPLE\",$Y96,0)","v":0}]
[]
[null,null,null,"Valoración obtenida:",null,null,null,"SEGURO",null,"PROBABLE",null,"DUDOSO",null,null,null,null,null,null,null,null,null,null,null,{"$f":"Z98+AB98+AD98+AF98","v":0},{"$f":"SUM(Y90:Y96)","v":1},{"$f":"IF($O86=\"\",0,SUM(Z90:Z96)*$O86/$Y98)","v":0},null,{"$f":"IF($O86=\"\",0,SUM(AB90:AB96)*$O86/$Y98)","v":0},null,{"$f":"IF($O86=\"\",0,SUM(AD90:AD96)*$O86/$Y98)","v":0},null,{"$f":"IF($O86=\"\",0,SUM(AF90:AF96)*$O86/$Y98)","v":0}]
[null,null,null,null,null,null,null,{"$f":"Z98","v":0},null,{"$f":"AB98","v":0},null,{"$f":"AD98","v":0}]
[]
[]
[null,null,null,{"$f":"'Matriz VERDE-GBCe'!V14","v":"PE 08"},{"$f":"VLOOKUP($D102,'Matriz VERDE-GBCe'!$V$6:$AH$55,2,FALSE)","v":"Efecto isla de calor."},null,null,null,null,null,null,null,null,null,{"$f":"VLOOKUP($D102,'Matriz VERDE-GBCe'!$V$6:$AH$55,3,FALSE)","v":2.1442810193416303E-2},null,null,null,null,null,null,null,null,null,"Target","SEGURO",null,"PROBABLE",null,"DUDOSO",null,"NO CUMPLE",null,"NO APLICA"]
[]
[null,null,null,"NOTA: Este criterio se evalúa por fórmulas lineales, la puntuación puede variar en la evaluación final. Ver la guía."]
[]
[null,null,null,"El porcentaje de superficie libre de parcela más cubierta que evita la isla de calor es superior al 70%",null,null,null,null,null,null,null,null,null,null,null,null,null,null,null,null,null,null,null,null,0.7,{"$f":"+IF($Q106=\"seguro\",$Y106,0)","v":0},null,{"$f":"+IF($Q106=\"probable\",$Y106,0)","v":0},null,{"$f":"+IF($Q106=\"dudoso\",$Y106,0)","v":0},null,{"$f":"+IF($Q106=\"NO CUMPLE\",$Y106,0)","v":0},null,{"$f":"+IF($Q106=\"no aplica\",2,0)","v":0}]
[]
[]
[null,null,null,"El porcentaje de superficie de fachadas este, sur y oeste que evita la isla de calor es superior al 70%",null,null,null,null,null,null,null,null,null,null,null,null,null,null,null,null,null,null,null,null,0.3,{"$f":"+IF($Q109=\"seguro\",$Y109,0)","v":0},null,{"$f":"+IF($Q109=\"probable\",$Y109,0)","v":0},null,{"$f":"+IF($Q109=\"dudoso\",$Y109,0)","v":0},null,{"$f":"+IF($Q109=\"NO CUMPLE\",$Y109,0)","v":0},null,{"$f":"+IF($Q109=\"no aplica\",2,0)","v":0}]
[]
[null,null,null,"Valoración obtenida:",null,null,null,"SEGURO",null,"PROBABLE",null,"DUDOSO",null,null,null,null,null,null,null,null,null,null,null,{"$f":"Z111+AB111+AD111+AF111","v":0},{"$f":"SUM(Y106:Y109)","v":1},{"$f":"IF($O102=\"\",0,SUM(Z106:Z109)*$O102/$Y111)","v":0},null,{"$f":"IF($O102=\"\",0,SUM(AB106:AB109)*$O102/$Y111)","v":0},null,{"$f":"IF($O102=\"\",0,SUM(AD106:AD109)*$O102/$Y111)","v":0},null,{"$f":"IF($O102=\"\",0,SUM(AF106:AF109)*$O102/$Y111)","v":0}]
[null,null,null,null,null,null,null,{"$f":"Z111","v":0},null,{"$f":"AB111","v":0},null,{"$f":"AD111","v":0}]
[]
[]
[null,null,null,{"$f":"'Matriz VERDE-GBCe'!V15","v":"PE 09"},{"$f":"VLOOKUP($D115,'Matriz VERDE-GBCe'!$V$6:$AH$55,2,FALSE)","v":"Contaminación lumínica."},null,null,null,null,null,null,null,null,null,{"$f":"VLOOKUP($D115,'Matriz VERDE-GBCe'!$V$6:$AH$55,3,FALSE)","v":2.0661602284359679E-2},null,null,null,null,null,null,null,null,null,"Target","SEGURO",null,"PROBABLE",null,"DUDOSO",null,"NO CUMPLE",null,"NO APLICA"]
[]
[null,null,null,"El FHS mayor de las luminarias instaladas reduce en más de un 55 % el de la zona de protección lumínica del proyecto",null,null,null,null,null,null,null,null,null,null,null,null,null,null,null,null,null,null,null,null,1,{"$f":"+IF($Q117=\"seguro\",$Y117,0)","v":0},null,{"$f":"+IF($Q117=\"probable\",$Y117,0)","v":0},null,{"$f":"+IF($Q117=\"dudoso\",$Y117,0)","v":0},null,{"$f":"+IF($Q117=\"NO CUMPLE\",$Y117,0)","v":0},null,{"$f":"+IF($Q117=\"no aplica\",2,0)","v":0}]
[]
[null,null,null,"Valoración obtenida:",null,null,null,"SEGURO",null,"PROBABLE",null,"DUDOSO",null,null,null,null,null,null,null,null,null,null,null,{"$f":"Z119+AB119+AD119+AF119","v":0},{"$f":"SUM(Y117:Y117)","v":1},{"$f":"IF($O115=\"\",0,SUM(Z117:Z117)*$O115/$Y119)","v":0},null,{"$f":"IF($O115=\"\",0,SUM(AB117:AB117)*$O115/$Y119)","v":0},null,{"$f":"IF($O115=\"\",0,SUM(AD117:AD117)*$O115/$Y119)","v":0},null,{"$f":"IF($O115=\"\",0,SUM(AF117:AF117)*$O115/$Y119)","v":0}]
[null,null,null,null,null,null,null,{"$f":"Z119","v":0},null,{"$f":"AB119","v":0},null,{"$f":"AD119","v":0}]
[]
[null,null,null,null,null,"SEGURO",null,"PROBABLE",null,"DUDOSO",null,"NO CUMPLE"]
[]
[null,null,null,"SUBTOTAL",null,{"$f":"H13+H21+H34+H54+H70+H83+H99+H112+H120","v":0},{"$f":"I13+I21+I34+I54+I70+I83+I99+I112+I120","v":0},{"$f":"J13+J21+J34+J54+J70+J83+J99+J112+J120","v":0},{"$f":"K13+K21+K34+K54+K70+K83+K99+K112+K120","v":0},{"$f":"L13+L21+L34+L54+L70+L83+L99+L112+L120","v":0},null,{"$f":"$AF12+$AF20+$AF33+$AF69+$AF82+$AF98+$AF111+$AF119+AF53","v":0},null,null,null,null,null,null,null,null,null,null,null,{"$f":"F124+H124+J124+L124","v":0}]
[]
[]
[]
[null,{"$f":"'Matriz VERDE-GBCe'!U16","v":"EA"},null,{"$f":"'Matriz VERDE-GBCe'!V16","v":"Energía y atmósfera"},null,null,null,null,null,null,null,null,null,null,"Valoración total",null,{"$f":"'Matriz VERDE-GBCe'!X16","v":0.18471526318625081}]
[]
[]
[]
[null,null,null,{"$f":"'Matriz VERDE-GBCe'!V18","v":"EA 01"},{"$f":"VLOOKUP($D132,'Matriz VERDE-GBCe'!$V$6:$AH$55,2,FALSE)","v":"Consumo de energía primaria"},null,null,null,null,null,null,null,null,null,{"$f":"VLOOKUP($D132,'Matriz VERDE-GBCe'!$V$6:$AH$55,3,FALSE)","v":7.9144442648564212E-2},null,null,null,null,null,null,null,{"$f":"IF(D134=\"Nueva Edificación\",\"NE\",\"RH\")","v":"RH"}]
[]
[null,null,null,{"$f":"IF('DG '!F29=0,\"\",'DG '!F29)","v":""},null,null,null,null,null,null,null,null,null,null,null,null,null,null,null,null,null,null,null,null,"Target","SEGURO",null,"PROBABLE",null,"DUDOSO",null,"NO CUMPLE",null,"NO APLICA"]
[]
[null,null,null,"Consumo límite de enrgía primaria no renovable",null,null,null,null,null,null,null,null,null,null,null,null,null,null,null,null,null,null,null,null,0.1,{"$f":"+IF($Q138=\"seguro\",$Y136,0)","v":0},null,{"$f":"+IF($Q138=\"probable\",$Y136,0)","v":0},null,{"$f":"+IF($Q138=\"dudoso\",$Y136,0)","v":0},null,{"$f":"+IF($Q138=\"NO CUMPLE\",$Y136,0)","v":0},null,{"$f":"+IF($Q136=\"no aplica\",2,0)","v":0}]
[]
[null,null,null,{"$f":"IF($W132=\"NE\",\"El consumo de energía primaria no renovable previsto en el proyecto reduce en mas de un 30 % al consumo energía primaria no renovable límite fijado por el DB HE 0\",\"El consumo de energía primaria no renovable previsto en el proyecto reduce en mas de un 15 % al consumo energía primaria no renovable límite fijado por el DB HE 0\")","v":"El consumo de energía primaria no renovable previsto en el proyecto reduce en mas de un 15 % al consumo energía primaria no renovable límite fijado por el DB HE 0"}]
[null,null,null,null,null,null,null,null,null,null,null,null,null,null,null,null,null,null,null,null,null,null,null,null,0.3,{"$f":"+IF($Q141=\"seguro\",$Y139,0)","v":0},null,{"$f":"+IF($Q141=\"probable\",$Y139,0)","v":0},null,{"$f":"+IF($Q141=\"dudoso\",$Y139,0)","v":0},null,{"$f":"+IF($Q141=\"NO CUMPLE\",$Y139,0)","v":0},null,{"$f":"+IF($Q139=\"no aplica\",2,0)","v":0}]
[]
[null,null,null,{"$f":"IF($W132=\"NE\",\"El consumo de energía primaria no renovable previsto en el proyecto reduce en mas de un 60 % al consumo energía primaria no renovable límite fijado por el DB HE 0\",\"El consumo de energía primaria no renovable previsto en el proyecto reduce en mas de un 30 % al consumo energía primaria no renovable límite fijado por el DB HE 0\")","v":"El consumo de energía primaria no renovable previsto en el proyecto reduce en mas de un 30 % al consumo energía primaria no renovable límite fijado por el DB HE 0"}]
[null,null,null,null,null,null,null,null,null,null,null,null,null,null,null,null,null,null,null,null,null,null,null,null,0.6,{"$f":"+IF($Q144=\"seguro\",$Y142,0)","v":0},null,{"$f":"+IF($Q144=\"probable\",$Y142,0)","v":0},null,{"$f":"+IF($Q144=\"dudoso\",$Y142,0)","v":0},null,{"$f":"+IF($Q144=\"NO CUMPLE\",$Y142,0)","v":0},null,{"$f":"+IF($Q142=\"no aplica\",2,0)","v":0}]
[]
[null,null,null,{"$f":"IF($W132=\"NE\",\"El consumo de energía primaria no renovable previsto en el proyecto reduce en mas de un 90 % al consumo energía primaria no renovable límite fijado por el DB HE 0\",\"El consumo de energía primaria no renovable previsto en el proyecto reduce en mas de un 45 % al consumo energía primaria no renovable límite fijado por el DB HE 0\")","v":"El consumo de energía primaria no renovable previsto en el proyecto reduce en mas de un 45 % al consumo energía primaria no renovable límite fijado por el DB HE 0"}]
[null,null,null,null,null,null,null,null,null,null,null,null,null,null,null,null,null,null,null,null,null,null,null,null,{"$f":"SUM(Y136:Y144)","v":1},{"$f":"IF($O132=\"\",0,SUM(Z135:Z144)*$O132*0.5)","v":0},null,{"$f":"IF($O132=\"\",0,SUM(AB135:AB144)*$O132*0.5)","v":0},null,{"$f":"IF($O132=\"\",0,SUM(AD136:AD144)*$O132*0.5)","v":0},null,{"$f":"IF($O132=\"\",0,SUM(AF136:AF144)*$O132*0.5)","v":0}]
[]
[null,null,null,"Consumo límite de enrgía primaria total",null,null,null,null,null,null,null,null,null,null,null,null,null,null,null,null,null,null,null,null,"Target","SEGURO",null,"PROBABLE",null,"DUDOSO",null,"NO CUMPLE",null,"NO APLICA"]
[]
[null,null,null,"El consumo de energía primaria total previsto en el proyecto reduce en mas de un 5 % al consumo energía primaria total límite fijado por el DB HE 0",null,null,null,null,null,null,null,null,null,null,null,null,null,null,null,null,null,null,null,null,0.1,{"$f":"+IF($Q149=\"seguro\",$Y149,0)","v":0},null,{"$f":"+IF($Q149=\"probable\",$Y149,0)","v":0},null,{"$f":"+IF($Q149=\"dudoso\",$Y149,0)","v":0},null,{"$f":"+IF($Q149=\"NO CUMPLE\",$Y149,0)","v":0},null,{"$f":"+IF($Q149=\"no aplica\",2,0)","v":0}]
[]
[]
[null,null,null,"El consumo de energía primaria total previsto en el proyecto reduce en mas de un 15 % al consumo energía primaria total límite fijado por el DB HE 0",null,null,null,null,null,null,null,null,null,null,null,null,null,null,null,null,null,null,null,null,0.3,{"$f":"+IF($Q152=\"seguro\",$Y152,0)","v":0},null,{"$f":"+IF($Q152=\"probable\",$Y152,0)","v":0},null,{"$f":"+IF($Q152=\"dudoso\",$Y152,0)","v":0},null,{"$f":"+IF($Q152=\"NO CUMPLE\",$Y152,0)","v":0},null,{"$f":"+IF($Q152=\"no aplica\",2,0)","v":0}]
[]
[]
[null,null,null,"El consumo de energía primaria total previsto en el proyecto reduce en mas de un 25 % al consumo energía primaria total límite fijado por el DB HE 0",null,null,null,null,null,null,null,null,null,null,null,null,null,null,null,null,null,null,null,null,0.6,{"$f":"+IF($Q155=\"seguro\",$Y155,0)","v":0},null,{"$f":"+IF($Q155=\"probable\",$Y155,0)","v":0},null,{"$f":"+IF($Q155=\"dudoso\",$Y155,0)","v":0},null,{"$f":"+IF($Q155=\"NO CUMPLE\",$Y155,0)","v":0},null,{"$f":"+IF($Q155=\"no aplica\",2,0)","v":0}]
[]
[]
[null,null,null,"El consumo de energía primaria total de calefacción y/o refrigeración es inferior a 15kWh/m2, se aporta ensayo Blower door cumpliendo las especificaciones ddel criterio",null,null,null,null,null,null,null,null,null,null,null,null,null,null,null,null,null,null,null,null,{"$f":"SUM(Y149:Y156)","v":1},{"$f":"IF($O132=\"\",0,SUM(Z148:Z157)*$O132*0.5)","v":0},null,{"$f":"IF($O132=\"\",0,SUM(AB148:AB157)*$O132*0.5)","v":0},null,{"$f":"IF($O132=\"\",0,SUM(AD148:AD157)*$O132*0.5)","v":0},null,{"$f":"IF($O132=\"\",0,SUM(AF148:AF157)*$O132*0.5)","v":0}]
[]
[null,null,null,null,null,null,null,null,null,null,null,null,null,null,null,null,null,null,null,null,null,null,null,null,{"$f":"Z160+AB160+AD160+AF160","v":0},{"$f":"Z145+Z158","v":0},null,{"$f":"AB145+AB158","v":0},null,{"$f":"AD158+AD145","v":0},null,{"$f":"AF145+AF158","v":0}]
[null,null,null,"Valoración obtenida:",null,null,null,"SEGURO",null,"PROBABLE",null,"DUDOSO",null,null,null,null,null,null,null,null,null,null,null,null,null,{"$f":"+IF($Q158=\"seguro\",$Z160,IF(Q158=\"\",(Z145+Z158)*0.9,Z160))","v":0},null,{"$f":"+IF($Q158=\"Probable\",$AB160,IF(Q158=\"\",(AB145+AB158)*0.9,AB160))","v":0},null,{"$f":"+IF($Q158=\"Dudoso\",$AD160,IF(Q158=\"\",(AD145+AD158)*0.9,AD160))","v":0},null,{"$f":"+IF($Q158=\"seguro\",$AF160,IF(Q158=\"\",(AF145+AF158)*0.9,AF160))","v":0}]
[null,null,null,null,null,null,null,{"$f":"Z160","v":0},null,{"$f":"AB160","v":0},null,{"$f":"AD160","v":0}]
[]
[]
[null,null,null,{"$f":"'Matriz VERDE-GBCe'!V19","v":"EA 02"},{"$f":"VLOOKUP($D165,'Matriz VERDE-GBCe'!$V$6:$AH$55,2,FALSE)","v":"Generación distribuida"},null,null,null,null,null,null,null,null,null,{"$f":"VLOOKUP($D165,'Matriz VERDE-GBCe'!$V$6:$AH$55,3,FALSE)","v":5.0913205107483449E-2},null,null,null,null,null,null,null,{"$f":"IF(OR(D167=\"Nueva Edificación\",D167=\"Rehabilitación\"),\"NE\",\"EE\")","v":"EE"}]
[]
[null,null,null,{"$f":"IF('DG '!F29=0,\"\",'DG '!F29)","v":""},null,null,null,null,null,null,null,null,null,null,null,null,null,null,null,null,null,null,null,null,"Target","SEGURO",null,"PROBABLE",null,"DUDOSO",null,"NO CUMPLE",null,"NO APLICA"]
[]
[null,null,null,{"$f":"IF(W165=\"NE\",\"La producción de energía renovable en la parcela es mas de un 30 % respecto de los límites fijados en el criterio\", \"La producción de energía renovable en la parcela, es mas de un 70 % respecto del estudio de potencial de renovables del edificio\")","v":"La producción de energía renovable en la parcela, es mas de un 70 % respecto del estudio de potencial de renovables del edificio"},null,null,null,null,null,null,null,null,null,null,null,null,null,null,null,null,null,null,null,null,0.1,{"$f":"+IF($Q169=\"seguro\",$Y169,0)","v":0},null,{"$f":"+IF($Q169=\"probable\",$Y169,0)","v":0},null,{"$f":"+IF($Q169=\"dudoso\",$Y169,0)","v":0},null,{"$f":"+IF($Q169=\"NO CUMPLE\",$Y169,0)","v":0},null,{"$f":"+IF($Q169=\"no aplica\",2,0)","v":0}]
[]
[]
[null,null,null,{"$f":"IF(W165=\"NE\",\"La producción de energía renovable en la parcela es mas de un 60 % respecto de los límites fijados en el criterio\", \"La producción de energía renovable en la parcela, es mas de un 80 % respecto del estudio de potencial de renovables del edificio\")","v":"La producción de energía renovable en la parcela, es mas de un 80 % respecto del estudio de potencial de renovables del edificio"},null,null,null,null,null,null,null,null,null,null,null,null,null,null,null,null,null,null,null,null,0.3,{"$f":"+IF($Q172=\"seguro\",$Y172,0)","v":0},null,{"$f":"+IF($Q172=\"probable\",$Y172,0)","v":0},null,{"$f":"+IF($Q172=\"dudoso\",$Y172,0)","v":0},null,{"$f":"+IF($Q172=\"NO CUMPLE\",$Y172,0)","v":0},null,{"$f":"+IF($Q172=\"no aplica\",2,0)","v":0}]
[]
[]
[null,null,null,{"$f":"IF(W165=\"NE\",\"La producción de energía renovable en la parcela es mas de un 90 % respecto de los límites fijados en el criterio\", \"La producción de energía renovable en la parcela, es mas de un 90 % respecto del estudio de potencial de renovables del edificio\")","v":"La producción de energía renovable en la parcela, es mas de un 90 % respecto del estudio de potencial de renovables del edificio"},null,null,null,null,null,null,null,null,null,null,null,null,null,null,null,null,null,null,null,null,0.6,{"$f":"+IF($Q175=\"seguro\",$Y175,0)","v":0},null,{"$f":"+IF($Q175=\"probable\",$Y175,0)","v":0},null,{"$f":"+IF($Q175=\"dudoso\",$Y175,0)","v":0},null,{"$f":"+IF($Q175=\"NO CUMPLE\",$Y175,0)","v":0},null,{"$f":"+IF($Q175=\"no aplica\",2,0)","v":0}]
[]
[]
[null,null,null,"Se prevée que la generación de energía renovable en la parcela sea superior al consumo de energía primaria total del edificio",null,null,null,null,null,null,null,null,null,null,null,null,null,null,null,null,null,null,null,null,{"$f":"SUM(Y169:Y176)","v":1},{"$f":"IF($O165=\"\",0,IF(W165=\"NE\",(SUM(Z169:Z176)*$O165*0.8),(SUM(Z169:Z176)*$O165)))","v":0},null,{"$f":"IF($O165=\"\",0,SUM(AB169:AB176)*$O165*0.8)","v":0},null,{"$f":"IF($O165=\"\",0,SUM(AD169:AD176)*$O165*0.8)","v":0},null,{"$f":"IF($O165=\"\",0,SUM(AF169:AF176)*$O165*0.8)","v":0}]
[]
[null,null,null,null,null,null,null,null,null,null,null,null,null,null,null,null,null,null,null,null,null,null,null,null,null,{"$f":"+IF(AND($Q178=\"seguro\",W165=\"NE\"),$O165*0.2,0)","v":0},null,{"$f":"+IF($Q178=\"probable\",$O165*0.2,0)","v":0},null,{"$f":"+IF($Q178=\"provable\",$O165*0.2,0)","v":0},null,{"$f":"+IF($Q178=\"no cumple\",$O165*0.2,0)","v":0}]
[null,null,null,"Valoración obtenida:",null,null,null,"SEGURO",null,"PROBABLE",null,"DUDOSO",null,null,null,null,null,null,null,null,null,null,null,null,{"$f":"Z181+AB181+AD181+AF181","v":0},{"$f":"IF((Z178+Z180)>O165,O165,(Z178+Z180))","v":0},null,{"$f":"AB178+AB180","v":0},null,{"$f":"AD178+AD180","v":0},null,{"$f":"AF178+AF180","v":0}]
[null,null,null,null,null,null,null,{"$f":"Z181","v":0},null,{"$f":"AB181","v":0},null,{"$f":"AD181","v":0}]
[]
[]
[null,null,null,{"$f":"'Matriz VERDE-GBCe'!V20","v":"EA 03"},{"$f":"VLOOKUP($D185,'Matriz VERDE-GBCe'!$V$6:$AH$55,2,FALSE)","v":"Consumo en zonas comunes"},null,null,null,null,null,null,null,null,null,{"$f":"VLOOKUP($D185,'Matriz VERDE-GBCe'!$V$6:$AH$55,3,FALSE)","v":2.6668821722967515E-2},null,null,null,null,null,null,null,null,null,"Target","SEGURO",null,"PROBABLE",null,"DUDOSO",null,"NO CUMPLE",null,"NO APLICA"]
[]
[null,null,null,"El ascensor cuenta con una clasificación, al menos B, según la norma UNE 25745-2",null,null,null,null,null,null,null,null,null,null,null,null,null,null,null,null,null,null,null,null,0.5,{"$f":"+IF($Q187=\"seguro\",$Y187,0)","v":0},null,{"$f":"+IF($Q187=\"probable\",$Y187,0)","v":0},null,{"$f":"+IF($Q187=\"dudoso\",$Y187,0)","v":0},null,{"$f":"+IF($Q187=\"NO CUMPLE\",$Y187,0)","v":0},null,{"$f":"+IF($Q187=\"no aplica\",2,0)","v":0}]
[]
[]
[null,null,null,"El VEEI de las zonas comunes es igual o inferior a 3",null,null,null,null,null,null,null,null,null,null,null,null,null,null,null,null,null,null,null,null,0.3,{"$f":"+IF($Q190=\"seguro\",$Y190,0)","v":0},null,{"$f":"+IF($Q190=\"probable\",$Y190,0)","v":0},null,{"$f":"+IF($Q190=\"dudoso\",$Y190,0)","v":0},null,{"$f":"+IF($Q190=\"NO CUMPLE\",$Y190,0)","v":0},null,{"$f":"+IF($Q190=\"no aplica\",2,0)","v":0}]
[]
[]
[null,null,null,"La iluminación de zonas comunes cuenta con los siguientes dispositivos de ahorro:"]
[]
[null,null,null,null,null,"Detector de presencia combinado con sonda de iluminación",null,null,null,null,null,null,null,null,null,null,null,null,null,null,null,null,null,null,{"$f":"IF(Q195=\"\",0,0.2)","v":0},{"$f":"+IF($Q195=\"seguro\",$Y195,0)","v":0},null,{"$f":"+IF($Q195=\"probable\",$Y195,0)","v":0},null,{"$f":"+IF($Q195=\"dudoso\",$Y195,0)","v":0},null,{"$f":"+IF($Q195=\"NO CUMPLE\",$Y195,0)","v":0},null,{"$f":"+IF($Q195=\"no aplica\",2,0)","v":0}]
[]
[]
[null,null,null,null,null,"Detector de presencia",null,null,null,null,null,null,null,null,null,null,null,null,null,null,null,null,null,null,{"$f":"IF(Q195=\"\",0.15,0)","v":0.15},{"$f":"+IF(Z195=0,IF($Q198=\"seguro\",$Y198,0),0)","v":0},null,{"$f":"+IF(AB195=0,IF($Q198=\"probable\",$Y198,0),0)","v":0},null,{"$f":"+IF(AD195=0,IF($Q198=\"dudoso\",$Y198,0),0)","v":0},null,{"$f":"+IF(AF195=0,IF($Q198=\"no cumple\",$Y198,0),0)","v":0},null,{"$f":"+IF($Q198=\"no aplica\",2,0)","v":0}]
[]
[]
[null,null,null,null,null,"Sonda de iluminación",null,null,null,null,null,null,null,null,null,null,null,null,null,null,null,null,null,null,{"$f":"IF(AND(Q195=\"\",Q198=\"\"),0.1,0)","v":0.1},{"$f":"+IF(AND(Z195=0,Z198=0),IF($Q201=\"seguro\",$Y201,0),0)","v":0},null,{"$f":"+IF(AND(AB195=0,AB198=0),IF($Q201=\"probable\",$Y201,0),0)","v":0},null,{"$f":"+IF(AND(AD195=0,AD198=0),IF($Q201=\"dudoso\",$Y201,0),0)","v":0},null,{"$f":"+IF(AND(AF195=0,AF198=0),IF($Q201=\"no cumple\",$Y201,0),0)","v":0},null,{"$f":"+IF($Q201=\"no aplica\",2,0)","v":0}]
[]
[]
[null,null,null,null,null,"Temporizador",null,null,null,null,null,null,null,null,null,null,null,null,null,null,null,null,null,null,{"$f":"IF(Q195=\"\",0.05,0)","v":0.05},{"$f":"+IF(AND(Z195=0,Z198=0),IF($Q204=\"seguro\",$Y204,0),0)","v":0},null,{"$f":"+IF(AND(AB195=0,AB198=0),IF($Q204=\"probable\",$Y204,0),0)","v":0},null,{"$f":"+IF(AND(AD195=0,AD198=0),IF($Q204=\"dudoso\",$Y204,0),0)","v":0},null,{"$f":"+IF(AND(AF195=0,AF198=0),IF($Q204=\"no cumple\",$Y204,0),0)","v":0},null,{"$f":"+IF($Q204=\"no aplica\",2,0)","v":0}]
[]
[null,null,null,"Valoración obtenida:",null,null,null,"SEGURO",null,"PROBABLE",null,"DUDOSO",null,null,null,null,null,null,null,null,null,null,null,{"$f":"Z206+AB206+AD206+AF206","v":0},{"$f":"SUM(Y186:Y197)","v":0.8},{"$f":"IF($O185=\"\",0,SUM(Z186:Z204)*$O185)","v":0},null,{"$f":"IF($O185=\"\",0,SUM(AB186:AB204)*$O185)","v":0},null,{"$f":"IF($O185=\"\",0,SUM(AD186:AD204)*$O185)","v":0},null,{"$f":"IF($O185=\"\",0,SUM(AF186:AF204)*$O185)","v":0}]
[null,null,null,null,null,null,null,{"$f":"Z206","v":0},null,{"$f":"AB206","v":0},null,{"$f":"AD206","v":0}]
[]
[]
[null,null,null,{"$f":"'Matriz VERDE-GBCe'!V22","v":"EA 04"},null,{"$f":"VLOOKUP($D210,'Matriz VERDE-GBCe'!$V$6:$AH$55,2,FALSE)","v":"Elección responsable de refrigerantes"},null,null,null,null,null,null,null,null,{"$f":"VLOOKUP($D210,'Matriz VERDE-GBCe'!$V$6:$AH$55,3,FALSE)","v":2.7988793707235605E-2},null,null,null,null,null,null,null,null,null,"Target","SEGURO",null,"PROBABLE",null,"DUDOSO",null,"NO CUMPLE",null,"NO APLICA"]
[]
[null,null,null,"Todos los refrigerantes empleados tienen un potencial de calentamiento entre 700 y 450",null,null,null,null,null,null,null,null,null,null,null,null,null,null,null,null,null,null,null,null,0.5,{"$f":"+IF($Q212=\"seguro\",$Y212,0)","v":0},null,{"$f":"+IF($Q212=\"probable\",$Y212,0)","v":0},null,{"$f":"+IF($Q212=\"dudoso\",$Y212,0)","v":0},null,{"$f":"+IF($Q212=\"NO CUMPLE\",$Y212,0)","v":0},null,{"$f":"+IF($Q212=\"no aplica\",2,0)","v":0}]
[]
[]
[null,null,null,"Todos los refrigerantes empleados tienen un potencial de calentamiento entre 450 y 150 o inferior",null,null,null,null,null,null,null,null,null,null,null,null,null,null,null,null,null,null,null,null,0.5,{"$f":"+IF($Q215=\"seguro\",$Y215,0)","v":0},null,{"$f":"+IF($Q215=\"probable\",$Y215,0)","v":0},null,{"$f":"+IF($Q215=\"dudoso\",$Y215,0)","v":0},null,{"$f":"+IF($Q215=\"NO CUMPLE\",$Y215,0)","v":0},null,{"$f":"+IF($Q215=\"no aplica\",2,0)","v":0}]
[]
[null,null,null,"Valoración obtenida:",null,null,null,"SEGURO",null,"PROBABLE",null,"DUDOSO",null,null,null,null,null,null,null,null,null,null,null,{"$f":"Z217+AB217+AD217+AF217","v":0},{"$f":"SUM(Y212:Y215)","v":1},{"$f":"IF($O210=\"\",0,SUM(Z212:Z215)*$O210)","v":0},null,{"$f":"IF($O210=\"\",0,SUM(AB212:AB215)*$O210)","v":0},null,{"$f":"IF($O210=\"\",0,SUM(AD212:AD215)*$O210)","v":0},null,{"$f":"IF($O210=\"\",0,SUM(AF212:AF215)*$O210)","v":0}]
[null,null,null,null,null,null,null,{"$f":"Z217","v":0},null,{"$f":"AB217","v":0},null,{"$f":"AD217","v":0}]
[]
[null,null,null,null,null,"SEGURO",null,"PROBABLE",null,"DUDOSO",null,"NO CUMPLE"]
[]
[null,null,null,"SUBTOTAL",null,{"$f":"H162+H182+H207+H218","v":0},null,{"$f":"J162+J182+J207+J218","v":0},null,{"$f":"+L162+L182+L207+L218","v":0},null,{"$f":"$AF160+$AF181+$AF206+$AF217","v":0},null,null,null,null,null,null,null,null,null,null,null,{"$f":"F222+H222+J222+L222","v":0}]
[]
[]
[]
[null,{"$f":"'Matriz VERDE-GBCe'!U23","v":"RN"},null,{"$f":"'Matriz VERDE-GBCe'!V23","v":"Recursos naturales"},null,null,null,null,null,null,null,null,null,null,"Valoración total",null,{"$f":"'Matriz VERDE-GBCe'!X23","v":0.26345563277840633}]
[]
[]
[null,null,null,{"$f":"'Matriz VERDE-GBCe'!V24","v":"RN 01"},{"$f":"VLOOKUP($D229,'Matriz VERDE-GBCe'!$V$6:$AH$55,2,FALSE)","v":"Consumo de agua en aparatos sanitarios"},null,null,null,null,null,null,null,null,null,{"$f":"VLOOKUP($D229,'Matriz VERDE-GBCe'!$V$6:$AH$55,3,FALSE)","v":2.2466461936318089E-2},null,null,null,null,null,null,null,null,null,"Target","SEGURO",null,"PROBABLE",null,"DUDOSO",null,"NO CUMPLE",null,"NO APLICA"]
[]
[null,null,null,"El consumo de agua en sanitarios se reduce en un 20%",null,null,null,null,null,null,null,null,null,null,null,null,null,null,null,null,null,null,null,null,0.5,{"$f":"+IF($Q231=\"seguro\",$Y231,0)","v":0},null,{"$f":"+IF($Q231=\"probable\",$Y231,0)","v":0},null,{"$f":"+IF($Q231=\"dudoso\",$Y231,0)","v":0},null,{"$f":"+IF($Q231=\"NO CUMPLE\",$Y231,0)","v":0},null,{"$f":"+IF($Q231=\"no aplica\",2,0)","v":0}]
[]
[]
[null,null,null,"El consumo de agua en sanitarios se reduce en un 30%",null,null,null,null,null,null,null,null,null,null,null,null,null,null,null,null,null,null,null,null,0.5,{"$f":"+IF($Q234=\"seguro\",$Y234,0)","v":0},null,{"$f":"+IF($Q234=\"probable\",$Y234,0)","v":0},null,{"$f":"+IF($Q234=\"dudoso\",$Y234,0)","v":0},null,{"$f":"+IF($Q234=\"NO CUMPLE\",$Y234,0)","v":0},null,{"$f":"+IF($Q234=\"no aplica\",2,0)","v":0}]
[]
[null,null,null,"Valoración obtenida:",null,null,null,"SEGURO",null,"PROBABLE",null,"DUDOSO",null,null,null,null,null,null,null,null,null,null,null,{"$f":"Z236+AB236+AD236+AF236","v":0},{"$f":"SUM(Y231:Y234)","v":1},{"$f":"IF($O229=\"\",0,SUM(Z231:Z234)*$O229/$Y236)","v":0},null,{"$f":"IF($O229=\"\",0,SUM(AB231:AB234)*$O229/$Y236)","v":0},null,{"$f":"IF($O229=\"\",0,SUM(AD231:AD234)*$O229/$Y236)","v":0},null,{"$f":"IF($O229=\"\",0,SUM(AF231:AF234)*$O229/$Y236)","v":0}]
[null,null,null,null,null,null,null,{"$f":"Z236","v":0},null,{"$f":"AB236","v":0},null,{"$f":"AD236","v":0}]
[]
[]
[null,null,null,{"$f":"'Matriz VERDE-GBCe'!V25","v":"RN 02"},{"$f":"VLOOKUP($D240,'Matriz VERDE-GBCe'!$V$6:$AH$55,2,FALSE)","v":"Necesidades de riego en jardines."},null,null,null,null,null,null,null,null,null,{"$f":"VLOOKUP($D240,'Matriz VERDE-GBCe'!$V$6:$AH$55,3,FALSE)","v":2.2897473196487259E-2},null,null,null,null,null,null,null,null,null,"Target","SEGURO",null,"PROBABLE",null,"DUDOSO",null,"NO CUMPLE",null,"NO APLICA"]
[]
[null,null,null,"Las necesidades de riego en jardines se reducen en un 40 %",null,null,null,null,null,null,null,null,null,null,null,null,null,null,null,null,null,null,null,null,0.35,{"$f":"+IF($Q242=\"seguro\",$Y242,0)","v":0},null,{"$f":"+IF($Q242=\"probable\",$Y242,0)","v":0},null,{"$f":"+IF($Q242=\"dudoso\",$Y242,0)","v":0},null,{"$f":"+IF($Q242=\"NO CUMPLE\",$Y242,0)","v":0},null,{"$f":"+IF($Q242=\"no aplica\",2,0)","v":0}]
[]
[]
[null,null,null,"Las necesidades de riego en jardines se reducen en un 60 %",null,null,null,null,null,null,null,null,null,null,null,null,null,null,null,null,null,null,null,null,0.35,{"$f":"+IF($Q245=\"seguro\",$Y245,0)","v":0},null,{"$f":"+IF($Q245=\"probable\",$Y245,0)","v":0},null,{"$f":"+IF($Q245=\"dudoso\",$Y245,0)","v":0},null,{"$f":"+IF($Q245=\"NO CUMPLE\",$Y245,0)","v":0},null,{"$f":"+IF($Q245=\"no aplica\",2,0)","v":0}]
[]
[]
[null,null,null,"Las necesidades de riego en jardines se reducen en un  80 %",null,null,null,null,null,null,null,null,null,null,null,null,null,null,null,null,null,null,null,null,0.3,{"$f":"+IF($Q248=\"seguro\",$Y248,0)","v":0},null,{"$f":"+IF($Q248=\"probable\",$Y248,0)","v":0},null,{"$f":"+IF($Q248=\"dudoso\",$Y248,0)","v":0},null,{"$f":"+IF($Q248=\"NO CUMPLE\",$Y248,0)","v":0},null,{"$f":"+IF($Q248=\"no aplica\",2,0)","v":0}]
[]
[null,null,null,"Valoración obtenida:",null,null,null,"SEGURO",null,"PROBABLE",null,"DUDOSO",null,null,null,null,null,null,null,null,null,null,null,{"$f":"Z250+AB250+AD250+AF250","v":0},{"$f":"SUM(Y241:Y248)","v":1},{"$f":"IF($O240=\"\",0,SUM(Z241:Z248)*$O240/$Y250)","v":0},null,{"$f":"IF($O240=\"\",0,SUM(AB242:AB248)*$O240/$Y250)","v":0},null,{"$f":"IF($O240=\"\",0,SUM(AD242:AD248)*$O240/$Y250)","v":0},null,{"$f":"IF($O240=\"\",0,SUM(AF242:AF248)*$O240/$Y250)","v":0}]
[null,null,null,null,null,null,null,{"$f":"Z250","v":0},null,{"$f":"AB250","v":0},null,{"$f":"AD250","v":0}]
[]
[]
[null,null,null,{"$f":"'Matriz VERDE-GBCe'!V26","v":"RN 03"},{"$f":"VLOOKUP($D254,'Matriz VERDE-GBCe'!$V$6:$AH$55,2,FALSE)","v":"Consumos de agua singulares."},null,null,null,null,null,null,null,null,null,{"$f":"VLOOKUP($D254,'Matriz VERDE-GBCe'!$V$6:$AH$55,3,FALSE)","v":1.9018371854964713E-2},null,null,null,null,null,null,null,null,null,"Target","SEGURO",null,"PROBABLE",null,"DUDOSO",null,"NO CUMPLE",null,"NO APLICA"]
[]
[null,null,null,"Se reutiliza el 80 % de las aguas grises producidas",null,null,null,null,null,null,null,null,null,null,null,null,null,null,null,null,null,null,null,null,0.6,{"$f":"+IF($Q256=\"seguro\",$Y256,0)","v":0},null,{"$f":"+IF($Q256=\"probable\",$Y256,0)","v":0},null,{"$f":"+IF($Q256=\"dudoso\",$Y256,0)","v":0},null,{"$f":"+IF($Q256=\"NO CUMPLE\",$Y256,0)","v":0},null,{"$f":"+IF($Q256=\"no aplica\",2,0)","v":0}]
[]
[]
[null,null,null,"Se han instalado aparatos sanitarios eficientes en zonas comunes",null,null,null,null,null,null,null,null,null,null,null,null,null,null,null,null,null,null,null,null,0.4,{"$f":"+IF($Q259=\"seguro\",$Y259,0)","v":0},null,{"$f":"+IF($Q259=\"probable\",$Y259,0)","v":0},null,{"$f":"+IF($Q259=\"dudoso\",$Y259,0)","v":0},null,{"$f":"+IF($Q259=\"NO CUMPLE\",$Y259,0)","v":0},null,{"$f":"+IF($Q259=\"no aplica\",2,0)","v":0}]
[]
[null,null,null,"Valoración obtenida:",null,null,null,"SEGURO",null,"PROBABLE",null,"DUDOSO",null,null,null,null,null,null,null,null,null,null,null,{"$f":"Z261+AB261+AD261+AF261","v":0},{"$f":"SUM(Y256:Y259)","v":1},{"$f":"IF($O254=\"\",0,SUM(Z256:Z259)*$O254/$Y261)","v":0},null,{"$f":"IF($O254=\"\",0,SUM(AB256:AB259)*$O254/$Y261)","v":0},null,{"$f":"IF($O254=\"\",0,SUM(AD256:AD259)*$O254/$Y261)","v":0},null,{"$f":"IF($O254=\"\",0,SUM(AF256:AF259)*$O254/$Y261)","v":0}]
[null,null,null,null,null,null,null,{"$f":"Z261","v":0},null,{"$f":"AB261","v":0},null,{"$f":"AD261","v":0}]
[]
[]
[null,null,null,{"$f":"'Matriz VERDE-GBCe'!V27","v":"RN 04"},{"$f":"VLOOKUP($D265,'Matriz VERDE-GBCe'!$V$6:$AH$55,2,FALSE)","v":"Uso de agua no potable."},null,null,null,null,null,null,null,null,null,{"$f":"VLOOKUP($D265,'Matriz VERDE-GBCe'!$V$6:$AH$55,3,FALSE)","v":2.1873821453585476E-2},null,null,null,null,null,null,null,null,null,"Target","SEGURO",null,"PROBABLE",null,"DUDOSO",null,"NO CUMPLE",null,"NO APLICA"]
[]
[null,null,null,"Las aguas recuperadas cubren el 30 % de las necesidades",null,null,null,null,null,null,null,null,null,null,null,null,null,null,null,null,null,null,null,null,0.35,{"$f":"+IF($Q267=\"seguro\",$Y267,0)","v":0},null,{"$f":"+IF($Q267=\"probable\",$Y267,0)","v":0},null,{"$f":"+IF($Q267=\"dudoso\",$Y267,0)","v":0},null,{"$f":"+IF($Q267=\"NO CUMPLE\",$Y267,0)","v":0},null,{"$f":"+IF($Q267=\"no aplica\",2,0)","v":0}]
[]
[]
[null,null,null,"Las aguas recuperadas cubren el 60 % de las necesidades",null,null,null,null,null,null,null,null,null,null,null,null,null,null,null,null,null,null,null,null,0.35,{"$f":"+IF($Q270=\"seguro\",$Y270,0)","v":0},null,{"$f":"+IF($Q270=\"probable\",$Y270,0)","v":0},null,{"$f":"+IF($Q270=\"dudoso\",$Y270,0)","v":0},null,{"$f":"+IF($Q270=\"NO CUMPLE\",$Y270,0)","v":0},null,{"$f":"+IF($Q270=\"no aplica\",2,0)","v":0}]
[]
[]
[null,null,null,"Las aguas recuperadas cubren el 90 % de las necesidades",null,null,null,null,null,null,null,null,null,null,null,null,null,null,null,null,null,null,null,null,0.3,{"$f":"+IF($Q273=\"seguro\",$Y273,0)","v":0},null,{"$f":"+IF($Q273=\"probable\",$Y273,0)","v":0},null,{"$f":"+IF($Q273=\"dudoso\",$Y273,0)","v":0},null,{"$f":"+IF($Q273=\"NO CUMPLE\",$Y273,0)","v":0},null,{"$f":"+IF($Q273=\"no aplica\",2,0)","v":0}]
[]
[null,null,null,"Valoración obtenida:",null,null,null,"SEGURO",null,"PROBABLE",null,"DUDOSO",null,null,null,null,null,null,null,null,null,null,null,{"$f":"Z275+AB275+AD275+AF275","v":0},{"$f":"SUM(Y266:Y273)","v":1},{"$f":"IF($O265=\"\",0,SUM(Z266:Z273)*$O265/$Y275)","v":0},null,{"$f":"IF($O265=\"\",0,SUM(AB267:AB273)*$O265/$Y275)","v":0},null,{"$f":"IF($O265=\"\",0,SUM(AD267:AD273)*$O265/$Y275)","v":0},null,{"$f":"IF($O265=\"\",0,SUM(AF267:AF273)*$O265/$Y275)","v":0}]
[null,null,null,null,null,null,null,{"$f":"Z275","v":0},null,{"$f":"AB275","v":0},null,{"$f":"AD275","v":0}]
[]
[]
[null,null,null,{"$f":"'Matriz VERDE-GBCe'!V28","v":"RN 05"},{"$f":"VLOOKUP($D279,'Matriz VERDE-GBCe'!$V$6:$AH$55,2,FALSE)","v":"Uso de materiales reciclados."},null,null,null,null,null,null,null,null,null,{"$f":"VLOOKUP($D279,'Matriz VERDE-GBCe'!$V$6:$AH$55,3,FALSE)","v":1.9018371854964713E-2},null,null,null,null,null,null,null,null,null,"Target","SEGURO",null,"PROBABLE",null,"DUDOSO",null,"NO CUMPLE",null,"NO APLICA"]
[]
[null,null,null,"Se ha instalado un 70 % de los elementos cerámicos, áridos, étreos y hormigones reciclados",null,null,null,null,null,null,null,null,null,null,null,null,null,null,null,null,null,null,null,null,0.25,{"$f":"+IF($Q281=\"seguro\",$Y281,0)","v":0},null,{"$f":"+IF($Q281=\"probable\",$Y281,0)","v":0},null,{"$f":"+IF($Q281=\"dudoso\",$Y281,0)","v":0},null,{"$f":"+IF($Q281=\"NO CUMPLE\",$Y281,0)","v":0},null,{"$f":"+IF($Q281=\"no aplica\",2,0)","v":0}]
[]
[]
[null,null,null,"Se ha instalado un 90 % de los elementos cerámicos, áridos, étreos y hormigones reciclados",null,null,null,null,null,null,null,null,null,null,null,null,null,null,null,null,null,null,null,null,0.5,{"$f":"+IF($Q284=\"seguro\",$Y284,0)","v":0},null,{"$f":"+IF(AND($Q284=\"probable\",AB281=0),$Y284/2,IF($Q284=\"probable\",Y284,0))","v":0},null,{"$f":"+IF(AND($Q284=\"dudoso\",AD281=0),$Y284/2,IF($Q284=\"dudoso\",Y284,0))","v":0},null,{"$f":"+IF(AND($Q284=\"No cumple\",AF281=0),$Y284/2,IF($Q284=\"No cumple\",Y284,0))","v":0},null,{"$f":"+IF(AND($Q284=\"No aplica\",AH281=0),$Y284/2,IF($Q284=\"No aplica\",Y284,0))","v":0}]
[]
[]
[null,null,null,"Se ha instalado un 20 % de resto de materiales reciclados",null,null,null,null,null,null,null,null,null,null,null,null,null,null,null,null,null,null,null,null,0.25,{"$f":"+IF($Q287=\"seguro\",$Y287,0)","v":0},null,{"$f":"+IF($Q287=\"probable\",$Y287,0)","v":0},null,{"$f":"+IF($Q287=\"dudoso\",$Y287,0)","v":0},null,{"$f":"+IF($Q287=\"NO CUMPLE\",$Y287,0)","v":0},null,{"$f":"+IF($Q287=\"no aplica\",2,0)","v":0}]
[]
[]
[null,null,null,"Se ha instalado un 30 % de resto de materiales reciclados",null,null,null,null,null,null,null,null,null,null,null,null,null,null,null,null,null,null,null,null,0.5,{"$f":"+IF($Q290=\"seguro\",$Y290,0)","v":0},null,{"$f":"+IF(AND($Q290=\"probable\",AB287=0),$Y290/2,IF($Q290=\"probable\",Y290,0))","v":0},null,{"$f":"+IF(AND($Q290=\"dudoso\",AD287=0),$Y290/2,IF($Q290=\"dudoso\",Y290,0))","v":0},null,{"$f":"+IF(AND($Q290=\"No cumple\",AF287=0),$Y290/2,IF($Q290=\"No cumple\",Y290,0))","v":0},null,{"$f":"+IF(AND($Q290=\"No cumple\",AH287=0),$Y290/2,IF($Q290=\"No cumple\",AA290,0))","v":0}]
[]
[null,null,null,"Valoración obtenida:",null,null,null,"SEGURO",null,"PROBABLE",null,"DUDOSO",null,null,null,null,null,null,null,null,null,null,null,{"$f":"Z292+AB292+AD292+AF292","v":0},{"$f":"MAX(Y280:Y284)+MAX(Y286:Y290)","v":1},{"$f":"IF($O279=\"\",0,(MAX(Z280:Z284)+MAX(Z286:Z290))*$O279/$Y292)","v":0},null,{"$f":"IF($O279=\"\",0,(MAX(AB280:AB284)+MAX(AB286:AB290))*$O279/$Y292)","v":0},null,{"$f":"IF($O279=\"\",0,(MAX(AD280:AD284)+MAX(AD286:AD290))*$O279/$Y292)","v":0},null,{"$f":"IF($O279=\"\",0,(MAX(AF280:AF284)+MAX(AF286:AF290))*$O279/$Y292)","v":0}]
[null,null,null,null,null,null,null,{"$f":"Z292","v":0},null,{"$f":"AB292","v":0},null,{"$f":"AD292","v":0}]
[]
[]
[null,null,null,{"$f":"'Matriz VERDE-GBCe'!V29","v":"RN 06"},{"$f":"VLOOKUP($D296,'Matriz VERDE-GBCe'!$V$6:$AH$55,2,FALSE)","v":"Elección responsable de materiales"},null,null,null,null,null,null,null,null,null,{"$f":"VLOOKUP($D296,'Matriz VERDE-GBCe'!$V$6:$AH$55,3,FALSE)","v":1.9718765152739615E-2},null,null,null,null,null,null,null,null,null,"Target","SEGURO",null,"PROBABLE",null,"DUDOSO",null,"NO CUMPLE",null,"NO APLICA"]
[]
[null,null,null,"Al menos el 30 % de la maderas tienen certificado de origen en cadena de custodia",null,null,null,null,null,null,null,null,null,null,null,null,null,null,null,null,null,null,null,null,0.3,{"$f":"+IF($Q298=\"seguro\",$Y298,0)","v":0},null,{"$f":"+IF($Q298=\"probable\",$Y298,0)","v":0},null,{"$f":"+IF($Q298=\"dudoso\",$Y298,0)","v":0},null,{"$f":"+IF($Q298=\"NO CUMPLE\",$Y298,0)","v":0},null,{"$f":"+IF($Q298=\"no aplica\",2,0)","v":0}]
[]
[]
[null,null,null,"Al menos el 50 % de la maderas tienen certificado de origen en cadena de custodia",null,null,null,null,null,null,null,null,null,null,null,null,null,null,null,null,null,null,null,null,0.7,{"$f":"+IF($Q301=\"seguro\",$Y301,0)","v":0},null,{"$f":"+IF($Q301=\"probable\",$Y301,0)","v":0},null,{"$f":"+IF($Q301=\"dudoso\",$Y301,0)","v":0},null,{"$f":"+IF($Q301=\"NO CUMPLE\",$Y301,0)","v":0},null,{"$f":"+IF($Q301=\"no aplica\",2,0)","v":0}]
[]
[]
[null,null,null,"Al menos el 10 % de los materiales disponen de un documento de procedencia de materias primas",null,null,null,null,null,null,null,null,null,null,null,null,null,null,null,null,null,null,null,null,0.3,{"$f":"+IF($Q304=\"seguro\",$Y304,0)","v":0},null,{"$f":"+IF($Q304=\"probable\",$Y304,0)","v":0},null,{"$f":"+IF($Q304=\"dudoso\",$Y304,0)","v":0},null,{"$f":"+IF($Q304=\"NO CUMPLE\",$Y304,0)","v":0},null,{"$f":"+IF($Q304=\"no aplica\",2,0)","v":0}]
[]
[null,null,null,"Valoración obtenida:",null,null,null,"SEGURO",null,"PROBABLE",null,"DUDOSO",null,null,null,null,null,null,null,null,null,null,null,{"$f":"Z306+AB306+AD306+AF306","v":0},{"$f":"MAX(Y298:Y301)+Y304","v":1},{"$f":"IF($O296=\"\",0,(MAX(Z297:Z301)+Z304)*O296/$Y306)","v":0},null,{"$f":"IF($O296=\"\",0,(MAX(AB297:AB301)+AB304)*O296/$Y306)","v":0},null,{"$f":"IF($O296=\"\",0,(MAX(AD297:AD301)+AD304)*O296/$Y306)","v":0},null,{"$f":"IF($O296=\"\",0,(MAX(AF297:AF301)+AF304)*O296/$Y306)","v":0}]
[null,null,null,null,null,null,null,{"$f":"Z306","v":0},null,{"$f":"AB306","v":0},null,{"$f":"AD306","v":0}]
[]
[]
[null,null,null,{"$f":"'Matriz VERDE-GBCe'!V30","v":"RN 07"},{"$f":"VLOOKUP($D310,'Matriz VERDE-GBCe'!$V$6:$AH$55,2,FALSE)","v":"Uso de materiales de producción local."},null,null,null,null,null,null,null,null,null,{"$f":"VLOOKUP($D310,'Matriz VERDE-GBCe'!$V$6:$AH$55,3,FALSE)","v":2.0715478691880826E-2},null,null,null,null,null,null,null,null,null,"Target","SEGURO",null,"PROBABLE",null,"DUDOSO",null,"NO CUMPLE",null,"NO APLICA"]
[]
[null,null,null,"El 60% de los elementos cerámicos, áridos, pétreos y hormigones reciclados son de origen local",null,null,null,null,null,null,null,null,null,null,null,null,null,null,null,null,null,null,null,null,0.2,{"$f":"+IF($Q312=\"seguro\",$Y312,0)","v":0},null,{"$f":"+IF($Q312=\"probable\",$Y312,0)","v":0},null,{"$f":"+IF($Q312=\"dudoso\",$Y312,0)","v":0},null,{"$f":"+IF($Q312=\"NO CUMPLE\",$Y312,0)","v":0},null,{"$f":"+IF($Q312=\"no aplica\",2,0)","v":0}]
[]
[]
[null,null,null,"El 80% de los elementos cerámicos, áridos, pétreos y hormigones reciclados son de origen local",null,null,null,null,null,null,null,null,null,null,null,null,null,null,null,null,null,null,null,null,0.2,{"$f":"+IF($Q315=\"seguro\",$Y315,0)","v":0},null,{"$f":"+IF($Q315=\"probable\",$Y315,0)","v":0},null,{"$f":"+IF($Q315=\"dudoso\",$Y315,0)","v":0},null,{"$f":"+IF($Q315=\"NO CUMPLE\",$Y315,0)","v":0},null,{"$f":"+IF($Q315=\"no aplica\",2,0)","v":0}]
[]
[]
[null,null,null,"El  60% de resto de materiales son de origen local",null,null,null,null,null,null,null,null,null,null,null,null,null,null,null,null,null,null,null,null,0.3,{"$f":"+IF($Q318=\"seguro\",$Y318,0)","v":0},null,{"$f":"+IF($Q318=\"probable\",$Y318,0)","v":0},null,{"$f":"+IF($Q318=\"dudoso\",$Y318,0)","v":0},null,{"$f":"+IF($Q318=\"NO CUMPLE\",$Y318,0)","v":0},null,{"$f":"+IF($Q318=\"no aplica\",2,0)","v":0}]
[]
[]
[null,null,null,"El  80% de resto de materiales son de origen local",null,null,null,null,null,null,null,null,null,null,null,null,null,null,null,null,null,null,null,null,0.3,{"$f":"+IF($Q321=\"seguro\",$Y321,0)","v":0},null,{"$f":"+IF($Q321=\"probable\",$Y321,0)","v":0},null,{"$f":"+IF($Q321=\"dudoso\",$Y321,0)","v":0},null,{"$f":"+IF($Q321=\"NO CUMPLE\",$Y321,0)","v":0},null,{"$f":"+IF($Q321=\"no aplica\",2,0)","v":0}]
[]
[null,null,null,"Valoración obtenida:",null,null,null,"SEGURO",null,"PROBABLE",null,"DUDOSO",null,null,null,null,null,null,null,null,null,null,null,{"$f":"Z323+AB323+AD323+AF323","v":0},{"$f":"SUM(Y312:Y321)","v":1},{"$f":"IF($O310=\"\",0,(SUM(Z311:Z322))*$O310/$Y323)","v":0},null,{"$f":"IF($O310=\"\",0,(SUM(AB312:AB322))*$O310/$Y323)","v":0},null,{"$f":"IF($O310=\"\",0,(SUM(AD311:AD322))*$O310/$Y323)","v":0},null,{"$f":"IF($O310=\"\",0,(SUM(AF311:AF322))*$O310/$Y323)","v":0}]
[null,null,null,null,null,null,null,{"$f":"Z323","v":0},null,{"$f":"AB323","v":0},null,{"$f":"AD323","v":0}]
[]
[]
[null,null,null,{"$f":"'Matriz VERDE-GBCe'!V31","v":"RN 08"},{"$f":"VLOOKUP($D327,'Matriz VERDE-GBCe'!$V$6:$AH$55,2,FALSE)","v":"El edificio como banco de materiales"},null,null,null,null,null,null,null,null,null,{"$f":"VLOOKUP($D327,'Matriz VERDE-GBCe'!$V$6:$AH$55,3,FALSE)","v":2.2708905770163244E-2},null,null,null,null,null,null,null,null,null,"Target","SEGURO",null,"PROBABLE",null,"DUDOSO",null,"NO CUMPLE",null,"NO APLICA"]
[]
[null,null,null,"El 50% de los favorecen el reciclaje al final de su ciclo de vida del edificio",null,null,null,null,null,null,null,null,null,null,null,null,null,null,null,null,null,null,null,null,0.2,{"$f":"+IF($Q329=\"seguro\",$Y329,0)","v":0},null,{"$f":"+IF($Q329=\"probable\",$Y329,0)","v":0},null,{"$f":"+IF($Q329=\"dudoso\",$Y329,0)","v":0},null,{"$f":"+IF($Q329=\"NO CUMPLE\",$Y329,0)","v":0},null,{"$f":"+IF($Q329=\"no aplica\",2,0)","v":0}]
[]
[]
[null,null,null,"El 60% de los favorecen el reciclaje al final de su ciclo de vida del edificio",null,null,null,null,null,null,null,null,null,null,null,null,null,null,null,null,null,null,null,null,0.2,{"$f":"+IF($Q332=\"seguro\",$Y332,0)","v":0},null,{"$f":"+IF($Q332=\"probable\",$Y332,0)","v":0},null,{"$f":"+IF($Q332=\"dudoso\",$Y332,0)","v":0},null,{"$f":"+IF($Q332=\"NO CUMPLE\",$Y332,0)","v":0},null,{"$f":"+IF($Q332=\"no aplica\",2,0)","v":0}]
[]
[]
[null,null,null,"EL 60% de los elementos de los cerramientos exteriores garantizan su recuperación al fin de vida del edificio",null,null,null,null,null,null,null,null,null,null,null,null,null,null,null,null,null,null,null,null,0.1,{"$f":"+IF($Q335=\"seguro\",$Y335,0)","v":0},null,{"$f":"+IF($Q335=\"probable\",$Y335,0)","v":0},null,{"$f":"+IF($Q335=\"dudoso\",$Y335,0)","v":0},null,{"$f":"+IF($Q335=\"NO CUMPLE\",$Y335,0)","v":0},null,{"$f":"+IF($Q335=\"no aplica\",2,0)","v":0}]
[]
[]
[null,null,null,"EL 60% de los elementos de la cubierta garantizan su recuperación al fin de vida del edificio",null,null,null,null,null,null,null,null,null,null,null,null,null,null,null,null,null,null,null,null,0.1,{"$f":"+IF($Q338=\"seguro\",$Y338,0)","v":0},null,{"$f":"+IF($Q338=\"probable\",$Y338,0)","v":0},null,{"$f":"+IF($Q338=\"dudoso\",$Y338,0)","v":0},null,{"$f":"+IF($Q338=\"NO CUMPLE\",$Y338,0)","v":0},null,{"$f":"+IF($Q338=\"no aplica\",2,0)","v":0}]
[]
[]
[null,null,null,"EL 60% de los elementos de la extructura garantizan su recuperación al fin de vida del edificio",null,null,null,null,null,null,null,null,null,null,null,null,null,null,null,null,null,null,null,null,0.1,{"$f":"+IF($Q341=\"seguro\",$Y341,0)","v":0},null,{"$f":"+IF($Q341=\"probable\",$Y341,0)","v":0},null,{"$f":"+IF($Q341=\"dudoso\",$Y341,0)","v":0},null,{"$f":"+IF($Q341=\"NO CUMPLE\",$Y341,0)","v":0},null,{"$f":"+IF($Q341=\"no aplica\",2,0)","v":0}]
[]
[]
[null,null,null,"EL 60% de los elementos de lal divisiones interiores garantizan su recuperación al fin de vida del edificio",null,null,null,null,null,null,null,null,null,null,null,null,null,null,null,null,null,null,null,null,0.1,{"$f":"+IF($Q344=\"seguro\",$Y344,0)","v":0},null,{"$f":"+IF($Q344=\"probable\",$Y344,0)","v":0},null,{"$f":"+IF($Q344=\"dudoso\",$Y344,0)","v":0},null,{"$f":"+IF($Q344=\"NO CUMPLE\",$Y344,0)","v":0},null,{"$f":"+IF($Q344=\"no aplica\",2,0)","v":0}]
[]
[]
[null,null,null,"Existe un estudio del posible uso de los materiales después de su desmontaje al final de la vida del edificio",null,null,null,null,null,null,null,null,null,null,null,null,null,null,null,null,null,null,null,null,0.2,{"$f":"+IF($Q347=\"seguro\",$Y347,0)","v":0},null,{"$f":"+IF($Q347=\"probable\",$Y347,0)","v":0},null,{"$f":"+IF($Q347=\"dudoso\",$Y347,0)","v":0},null,{"$f":"+IF($Q347=\"NO CUMPLE\",$Y347,0)","v":0},null,{"$f":"+IF($Q347=\"no aplica\",2,0)","v":0}]
[]
[null,null,null,"Valoración obtenida:",null,null,null,"SEGURO",null,"PROBABLE",null,"DUDOSO",null,null,null,null,null,null,null,null,null,null,null,{"$f":"Z349+AB349+AD349+AF349","v":0},{"$f":"Y329+Y332++Y335+Y338+Y341+Y344+Y347","v":1},{"$f":"IF($O327=\"\",0,(SUM(Z328:Z347))*$O327/$Y349)","v":0},null,{"$f":"IF($O327=\"\",0,(SUM(AB328:AB347))*$O327/$Y349)","v":0},null,{"$f":"IF($O327=\"\",0,(+SUM(AD329:AD347))*$O327/$Y349)","v":0},null,{"$f":"IF($O327=\"\",0,(+SUM(AF328:AF347))*$O327/$Y349)","v":0}]
[null,null,null,null,null,null,null,{"$f":"Z349","v":0},null,{"$f":"AB349","v":0},null,{"$f":"AD349","v":0}]
[]
[]
[null,null,null,{"$f":"'Matriz VERDE-GBCe'!V32","v":"RN 09"},{"$f":"VLOOKUP($D353,'Matriz VERDE-GBCe'!$V$6:$AH$55,2,FALSE)","v":"Gestión de los residuos de la construcción."},null,null,null,null,null,null,null,null,null,{"$f":"VLOOKUP($D353,'Matriz VERDE-GBCe'!$V$6:$AH$55,3,FALSE)","v":1.6432304293949682E-2},null,null,null,null,null,null,null,null,null,"Target","SEGURO",null,"PROBABLE",null,"DUDOSO",null,"NO CUMPLE",null,"NO APLICA"]
[]
[null,null,null,"Se garantiza la revalorización del 65% de los residuos de la construcción",null,null,null,null,null,null,null,null,null,null,null,null,null,null,null,null,null,null,null,null,0.25,{"$f":"+IF($Q355=\"seguro\",$Y355,0)","v":0},null,{"$f":"+IF($Q355=\"probable\",$Y355,0)","v":0},null,{"$f":"+IF($Q355=\"dudoso\",$Y355,0)","v":0},null,{"$f":"+IF($Q355=\"NO CUMPLE\",$Y355,0)","v":0},null,{"$f":"+IF($Q355=\"no aplica\",2,0)","v":0}]
[]
[]
[null,null,null,"Se garantiza la revalorización del 75% de los residuos de la construcción",null,null,null,null,null,null,null,null,null,null,null,null,null,null,null,null,null,null,null,null,0.25,{"$f":"+IF($Q358=\"seguro\",$Y358,0)","v":0},null,{"$f":"+IF($Q358=\"probable\",$Y358,0)","v":0},null,{"$f":"+IF($Q358=\"dudoso\",$Y358,0)","v":0},null,{"$f":"+IF($Q358=\"NO CUMPLE\",$Y358,0)","v":0},null,{"$f":"+IF($Q358=\"no aplica\",2,0)","v":0}]
[]
[]
[null,null,null,"Se ha realizadoo unanálisis de posibles alternativas en la utilización de sistemas o materiales para minimizar los residuos de obra",null,null,null,null,null,null,null,null,null,null,null,null,null,null,null,null,null,null,null,null,0.5,{"$f":"+IF($Q361=\"seguro\",$Y361,0)","v":0},null,{"$f":"+IF($Q361=\"probable\",$Y361,0)","v":0},null,{"$f":"+IF($Q361=\"dudoso\",$Y361,0)","v":0},null,{"$f":"+IF($Q361=\"NO CUMPLE\",$Y361,0)","v":0},null,{"$f":"+IF($Q361=\"no aplica\",2,0)","v":0}]
[]
[null,null,null,"Valoración obtenida:",null,null,null,"SEGURO",null,"PROBABLE",null,"DUDOSO",null,null,null,null,null,null,null,null,null,null,null,{"$f":"Z363+AB363+AD363+AF363","v":0},{"$f":"SUM(Y354:Y362)","v":1},{"$f":"IF($O353=\"\",0,(Z355+Z358+Z361)*$O353/$Y363)","v":0},null,{"$f":"IF($O353=\"\",0,(AB355+AB358+AB361)*$O353/$Y363)","v":0},null,0,null,0]
[null,null,null,null,null,null,null,{"$f":"Z363","v":0},null,{"$f":"AB363","v":0},null,{"$f":"AD363","v":0}]
[]
[]
[null,null,null,{"$f":"'Matriz VERDE-GBCe'!V33","v":"RN 10"},{"$f":"VLOOKUP($D367,'Matriz VERDE-GBCe'!$V$6:$AH$55,2,FALSE)","v":"Nivel de intervención en rehabilitaciones"},null,null,null,null,null,null,null,null,null,{"$f":"VLOOKUP($D367,'Matriz VERDE-GBCe'!$V$6:$AH$55,3,FALSE)","v":0}]
[null,null,null,{"$f":"IF('DG '!F29=0,\"\",'DG '!F29)","v":""},null,null,null,null,null,null,null,null,null,null,null,null,null,null,null,null,null,null,null,null,"Target","SEGURO",null,"PROBABLE",null,"DUDOSO",null,"NO CUMPLE",null,"NO APLICA"]
[]
[null,null,null,"Se conservan mas del 80% de los elementos de los cerramientos exteriores verticales.",null,null,null,null,null,null,null,null,null,null,null,null,null,null,null,null,null,null,null,null,0.2,{"$f":"+IF($Q370=\"seguro\",$Y370,0)","v":0},null,{"$f":"+IF($Q370=\"probable\",$Y370,0)","v":0},null,{"$f":"+IF($Q370=\"dudoso\",$Y370,0)","v":0},null,{"$f":"+IF($Q370=\"NO CUMPLE\",$Y370,0)","v":0},null,{"$f":"+IF($Q370=\"no aplica\",2,0)","v":0}]
[]
[]
[null,null,null,"Se conservan mas del 80% de la cubierta.",null,null,null,null,null,null,null,null,null,null,null,null,null,null,null,null,null,null,null,null,0.2,{"$f":"+IF($Q373=\"seguro\",$Y373,0)","v":0},null,{"$f":"+IF($Q373=\"probable\",$Y373,0)","v":0},null,{"$f":"+IF($Q373=\"dudoso\",$Y373,0)","v":0},null,{"$f":"+IF($Q373=\"NO CUMPLE\",$Y373,0)","v":0},null,{"$f":"+IF($Q373=\"no aplica\",2,0)","v":0}]
[]
[]
[null,null,null,"Se conservan mas del 80% de los elementos de la estructura.",null,null,null,null,null,null,null,null,null,null,null,null,null,null,null,null,null,null,null,null,0.2,{"$f":"+IF($Q376=\"seguro\",$Y376,0)","v":0},null,{"$f":"+IF($Q376=\"probable\",$Y376,0)","v":0},null,{"$f":"+IF($Q376=\"dudoso\",$Y376,0)","v":0},null,{"$f":"+IF($Q376=\"NO CUMPLE\",$Y376,0)","v":0},null,{"$f":"+IF($Q376=\"no aplica\",2,0)","v":0}]
[]
[]
[null,null,null,"Se conservan mas del 80% de los elementos de las particiones interiores.",null,null,null,null,null,null,null,null,null,null,null,null,null,null,null,null,null,null,null,null,0.2,{"$f":"+IF($Q379=\"seguro\",$Y379,0)","v":0},null,{"$f":"+IF($Q379=\"probable\",$Y379,0)","v":0},null,{"$f":"+IF($Q379=\"dudoso\",$Y379,0)","v":0},null,{"$f":"+IF($Q379=\"NO CUMPLE\",$Y379,0)","v":0},null,{"$f":"+IF($Q379=\"no aplica\",2,0)","v":0}]
[]
[]
[null,null,null,"Se conservan mas del 80% de los elementos de las cajas de escalera y huecos de ascensores.",null,null,null,null,null,null,null,null,null,null,null,null,null,null,null,null,null,null,null,null,0.2,{"$f":"+IF($Q382=\"seguro\",$Y382,0)","v":0},null,{"$f":"+IF($Q382=\"probable\",$Y382,0)","v":0},null,{"$f":"+IF($Q382=\"dudoso\",$Y382,0)","v":0},null,{"$f":"+IF($Q382=\"NO CUMPLE\",$Y382,0)","v":0},null,{"$f":"+IF($Q382=\"no aplica\",2,0)","v":0}]
[]
[null,null,null,"Valoración obtenida:",null,null,null,"SEGURO",null,"PROBABLE",null,"DUDOSO",null,null,null,null,null,null,null,null,null,null,null,{"$f":"Z384+AB384+AD384+AF384","v":0},{"$f":"SUM(Y370:Y382)","v":1},{"$f":"IF($O367=\"\",0,SUM(Z370:Z382)*$O367/$Y384)","v":0},null,{"$f":"IF($O367=\"\",0,SUM(AB370:AB382)*$O367/$Y384)","v":0},null,{"$f":"IF($O367=\"\",0,SUM(AD370:AD382)*$O367/$Y384)","v":0},null,{"$f":"IF($O367=\"\",0,SUM(AF370:AF382)*$O367/$Y384)","v":0}]
[null,null,null,null,null,null,null,{"$f":"IF(D368=\"Rehabilitación\",Z384,0)","v":0},null,{"$f":"IF(D368=\"Rehabilitación\",AB384,0)","v":0},null,{"$f":"IF(D368=\"Rehabilitación\",AD384,0)","v":0}]
[]
[]
[null,null,null,{"$f":"'Matriz VERDE-GBCe'!V34","v":"RN 11"},{"$f":"VLOOKUP($D388,'Matriz VERDE-GBCe'!$V$6:$AH$55,2,FALSE)","v":"Impacto de los materiales de la construcción."},null,null,null,null,null,null,null,null,null,{"$f":"VLOOKUP($D388,'Matriz VERDE-GBCe'!$V$6:$AH$55,3,FALSE)","v":5.7566941436345026E-2},null,null,null,null,null,null,null,null,null,"Target","SEGURO",null,"PROBABLE",null,"DUDOSO",null,"NO CUMPLE",null,"NO APLICA"]
[]
[null,null,null,"Existe un ACV parcial en las etapas A1, A2, A3 según la EN 15978 que contempla los indicadores GWP (kg CO2 eq) y ADP (MJ).",null,null,null,null,null,null,null,null,null,null,null,null,null,null,null,null,null,null,null,null,0.5,{"$f":"+IF($Q390=\"seguro\",$Y390,0)","v":0},null,{"$f":"+IF($Q390=\"probable\",$Y390,0)","v":0},null,{"$f":"+IF($Q390=\"dudoso\",$Y390,0)","v":0},null,{"$f":"+IF($Q390=\"NO CUMPLE\",$Y390,0)","v":0},null,{"$f":"+IF($Q390=\"no aplica\",2,0)","v":0}]
[]
[]
[null,null,null,"Existe un ACV completo en las etapas A1, A2, A3, A4, A5, B4, C3 y C4 según la EN 15978 que contempla los indicadores GWP(kg CO2 eq) y ADP (MJ).",null,null,null,null,null,null,null,null,null,null,null,null,null,null,null,null,null,null,null,null,0.3,{"$f":"+IF($Q393=\"seguro\",$Y393,0)","v":0},null,{"$f":"+IF($Q393=\"probable\",$Y393,0)","v":0},null,{"$f":"+IF($Q393=\"dudoso\",$Y393,0)","v":0},null,{"$f":"+IF($Q393=\"NO CUMPLE\",$Y393,0)","v":0},null,{"$f":"+IF($Q393=\"no aplica\",2,0)","v":0}]
[]
[]
[null,null,null,"El ACV que demuestra una reducción del 15% en los indicadores GWP (kg CO2 eq) y/o ADP (MJ).",null,null,null,null,null,null,null,null,null,null,null,null,null,null,null,null,null,null,null,null,0.1,{"$f":"+IF($Q396=\"seguro\",$Y396,0)","v":0},null,{"$f":"+IF($Q396=\"probable\",$Y396,0)","v":0},null,{"$f":"+IF($Q396=\"dudoso\",$Y396,0)","v":0},null,{"$f":"+IF($Q396=\"NO CUMPLE\",$Y396,0)","v":0},null,{"$f":"+IF($Q396=\"no aplica\",2,0)","v":0}]
[]
[]
[null,null,null,"Existe un ACV parcial o completo que contempla todos los indicadores establecidos en la norma EN 15978 \n",null,null,null,null,null,null,null,null,null,null,null,null,null,null,null,null,null,null,null,null,0.1,{"$f":"+IF($Q399=\"seguro\",$Y399,0)","v":0},null,{"$f":"+IF($Q399=\"probable\",$Y399,0)","v":0},null,{"$f":"+IF($Q399=\"dudoso\",$Y399,0)","v":0},null,{"$f":"+IF($Q399=\"NO CUMPLE\",$Y399,0)","v":0},null,{"$f":"+IF($Q399=\"no aplica\",2,0)","v":0}]
[]
[null,null,null,"Valoración obtenida:",null,null,null,"SEGURO",null,"PROBABLE",null,"DUDOSO",null,null,null,null,null,null,null,null,null,null,null,{"$f":"Z401+AB401+AD401+AF401","v":0},{"$f":"SUM(Y390:Y399)","v":1},{"$f":"IF($O388=\"\",0,SUM(Z390:Z399)*$O388/$Y401)","v":0},null,{"$f":"IF($O388=\"\",0,SUM(AB390:AB399)*$O388/$Y401)","v":0},null,{"$f":"IF($O388=\"\",0,SUM(AD390:AD399)*$O388/$Y401)","v":0},null,{"$f":"IF($O388=\"\",0,SUM(AF390:AF399)*$O388/$Y401)","v":0}]
[null,null,null,null,null,null,null,{"$f":"Z401","v":0},null,{"$f":"AB401","v":0},null,{"$f":"AD401","v":0}]
[]
[]
[null,null,null,{"$f":"'Matriz VERDE-GBCe'!V35","v":"RN 12"},{"$f":"VLOOKUP($D405,'Matriz VERDE-GBCe'!$V$6:$AH$55,2,FALSE)","v":"Ecoetiquetado de producto."},null,null,null,null,null,null,null,null,null,{"$f":"VLOOKUP($D405,'Matriz VERDE-GBCe'!$V$6:$AH$55,3,FALSE)","v":2.1038737137007706E-2},null,null,null,null,null,null,null,null,null,"Target","SEGURO",null,"PROBABLE",null,"DUDOSO",null,"NO CUMPLE",null,"NO APLICA"]
[]
[null,null,null,"El porcentaje en masa de los materiales con ecoetiqueta tipo I está por encima del 15%",null,null,null,null,null,null,null,null,null,null,null,null,null,null,null,null,null,null,null,null,0.2,{"$f":"+IF($Q407=\"seguro\",$Y407,0)","v":0},null,{"$f":"+IF($Q407=\"probable\",$Y407,0)","v":0},null,{"$f":"+IF($Q407=\"dudoso\",$Y407,0)","v":0},null,{"$f":"+IF($Q407=\"NO CUMPLE\",$Y407,0)","v":0},null,{"$f":"+IF($Q407=\"no aplica\",2,0)","v":0}]
[]
[]
[null,null,null,"El porcentaje en masa de los elementos cerámicos, áridos, pétreos y hormigones con DAP está por encima del 90%",null,null,null,null,null,null,null,null,null,null,null,null,null,null,null,null,null,null,null,null,0.3,{"$f":"+IF($Q410=\"seguro\",$Y410,0)","v":0},null,{"$f":"+IF($Q410=\"probable\",$Y410,0)","v":0},null,{"$f":"+IF($Q410=\"dudoso\",$Y410,0)","v":0},null,{"$f":"+IF($Q410=\"NO CUMPLE\",$Y410,0)","v":0},null,{"$f":"+IF($Q410=\"no aplica\",2,0)","v":0}]
[]
[]
[null,null,null,"El porcentaje en masa del resto de materiales con DAP está por encima del 30%",null,null,null,null,null,null,null,null,null,null,null,null,null,null,null,null,null,null,null,null,0.5,{"$f":"+IF($Q413=\"seguro\",$Y413,0)","v":0},null,{"$f":"+IF($Q413=\"probable\",$Y413,0)","v":0},null,{"$f":"+IF($Q413=\"dudoso\",$Y413,0)","v":0},null,{"$f":"+IF($Q413=\"NO CUMPLE\",$Y413,0)","v":0},null,{"$f":"+IF($Q413=\"no aplica\",2,0)","v":0}]
[]
[]
[null,null,null,"Entre los materiales con DAPs se encuentran, al menos, las siguientes familias: elementos estructurales, aislamientos y revestimientos.",null,null,null,null,null,null,null,null,null,null,null,null,null,null,null,null,null,null,null,null,0.2,{"$f":"+IF($Q416=\"seguro\",$Y416,0)","v":0},null,{"$f":"+IF($Q416=\"probable\",$Y416,0)","v":0},null,{"$f":"+IF($Q416=\"dudoso\",$Y416,0)","v":0},null,{"$f":"+IF($Q416=\"NO CUMPLE\",$Y416,0)","v":0},null,{"$f":"+IF($Q416=\"no aplica\",2,0)","v":0}]
[]
[]
[null,null,null,"El 50% de las DAPs cuentan con un ACV en todas las fases del ciclo de vida",null,null,null,null,null,null,null,null,null,null,null,null,null,null,null,null,null,null,null,null,0.2,{"$f":"+IF($Q419=\"seguro\",$Y419,0)","v":0},null,{"$f":"+IF($Q419=\"probable\",$Y419,0)","v":0},null,{"$f":"+IF($Q419=\"dudoso\",$Y419,0)","v":0},null,{"$f":"+IF($Q419=\"NO CUMPLE\",$Y419,0)","v":0},null,{"$f":"+IF($Q419=\"no aplica\",2,0)","v":0}]
[]
[null,null,null,"Valoración obtenida:",null,null,null,"SEGURO",null,"PROBABLE",null,"DUDOSO",null,null,null,null,null,null,null,null,null,null,null,{"$f":"Z421+AB421+AD421","v":0},{"$f":"IF((SUM(Y406:Y415))=1,1,SUM(Y407:Y419))","v":1},{"$f":"IF((SUM(Z406:Z415))=1,O405,SUM(Z406:Z420)*O405)","v":0},null,{"$f":"IF(Z421=O405,0,IF((SUM(AB406:AB415))=1,O405,SUM(AB406:AB420)*O405))","v":0},null,{"$f":"IF(OR(SUM(AB406:AB413)=O405,SUM(Z406:Z413)=O405,Z421=O405,(Z421+AB421=O405)),0,IF((SUM(AD406:AD415))=1,O405,SUM(AD407:AD420)*O405))","v":0},null,{"$f":"IF(OR(Z421=O405,AB421=O405,AD421=O405,(Z421+AB421+AD421=O405)),0,IF((SUM(AF406:AF415))=1,O405,SUM(AF407:AF419)*O405))","v":0}]
[null,null,null,null,null,null,null,{"$f":"Z421","v":0},null,{"$f":"AB421","v":0},null,{"$f":"AD421","v":0}]
[]
[null,null,null,null,null,"SEGURO",null,"PROBABLE",null,"DUDOSO",null,"NO CUMPLE"]
[]
[null,null,null,"SUBTOTAL",null,{"$f":"H237+H251+H262+H276+H293+H307+H324+H350+H364+H402+H422+H385","v":0},null,{"$f":"J237+J251+J262+J276+J293+J307+J324+J350+J364+J402+J422+J385","v":0},null,{"$f":"L237+L251+L262+L276+L293+L307+L324+L350+L364+L402+L422+L385","v":0},null,{"$f":"$AF236+$AF250+$AF261+$AF275+$AF292+$AF306+$AF323+$AF349+$AF363+$AF401+$AF421+AF384","v":0},null,null,null,null,null,null,null,null,null,null,null,{"$f":"F426+H426+J426+L426","v":0}]
[]
[]
[]
[null,{"$f":"'Matriz VERDE-GBCe'!U36","v":"AI"},null,{"$f":"'Matriz VERDE-GBCe'!V36","v":"Ambiente Interior."},null,null,null,null,null,null,null,null,null,null,"Valoración total",null,{"$f":"'Matriz VERDE-GBCe'!X36","v":7.8551802165831588E-2}]
[]
[]
[null,null,null,{"$f":"'Matriz VERDE-GBCe'!V37","v":"AI 01"},{"$f":"VLOOKUP($D433,'Matriz VERDE-GBCe'!$V$6:$AH$55,2,FALSE)","v":"Limitación de las emisiones de COVs"},null,null,null,null,null,null,null,null,null,{"$f":"VLOOKUP($D433,'Matriz VERDE-GBCe'!$V$6:$AH$55,3,FALSE)","v":1.9961208986584777E-2},null,null,null,null,null,null,null,null,null,"Target","SEGURO",null,"PROBABLE",null,"DUDOSO",null,"NO CUMPLE",null,"NO APLICA"]
[]
[null,null,null,"Se ha realizado un ensayo tal y cómo se describe en la guía, también en cuanto a sus resultados",null,null,null,null,null,null,null,null,null,null,null,null,null,null,null,null,null,null,null,null,1,{"$f":"+IF($Q435=\"seguro\",$Y435,0)","v":0},null,{"$f":"+IF($Q435=\"probable\",$Y435,0)","v":0},null,{"$f":"+IF($Q435=\"dudoso\",$Y435,0)","v":0},null,{"$f":"+IF($Q435=\"NO CUMPLE\",$Y435,0)","v":0},null,{"$f":"+IF($Q435=\"no aplica\",2,0)","v":0}]
[]
[]
[null,null,null,"Las pinturas, barnices, adhesivos, sellantes y derivados de la madera, tienen emisiones de COVs nulas",null,null,null,null,null,null,null,null,null,null,null,null,null,null,null,null,null,null,null,null,0.6,{"$f":"+IF($Q438=\"seguro\",$Y438,0)","v":0},null,{"$f":"+IF($Q438=\"probable\",$Y438,0)","v":0},null,{"$f":"+IF($Q438=\"dudoso\",$Y438,0)","v":0},null,{"$f":"+IF($Q438=\"NO CUMPLE\",$Y438,0)","v":0},null,{"$f":"+IF($Q438=\"no aplica\",2,0)","v":0}]
[]
[]
[null,null,null,"Las pinturas, barnices, adhesivos, sellantes y derivados de la madera, tienen emisiones de COVs por debajo de las indicadas en la guía",null,null,null,null,null,null,null,null,null,null,null,null,null,null,null,null,null,null,null,null,0.4,{"$f":"+IF($Q441=\"seguro\",$Y441,0)","v":0},null,{"$f":"+IF($Q441=\"probable\",$Y441,0)","v":0},null,{"$f":"+IF($Q441=\"dudoso\",$Y441,0)","v":0},null,{"$f":"+IF($Q441=\"NO CUMPLE\",$Y441,0)","v":0},null,{"$f":"+IF($Q441=\"no aplica\",2,0)","v":0}]
[]
[null,null,null,"Valoración obtenida:",null,null,null,"SEGURO",null,"PROBABLE",null,"DUDOSO",null,null,null,null,null,null,null,null,null,null,null,{"$f":"Z443+AB443+AD443+AF443","v":0},{"$f":"IF(Y435=1,1,SUM(Y438:Y441))","v":1},{"$f":"IF($O433=\"\",0,IF(Z435=1,$O433/Y443,SUM(Z438:Z441)*$O433/Y443))","v":0},null,{"$f":"IF($O433=\"\",0,IF(AB435=1,$O433/Y443,SUM(AB438:AB441)*$O433/Y443))","v":0},null,{"$f":"IF($O433=\"\",0,IF(AD435=1,$O433/Y443,SUM(AD438:AD441)*$O433/Y443))","v":0},null,{"$f":"IF($O433=\"\",0,IF(AF435=1,$O433/Y443,SUM(AF438:AF441)*$O433/Y443))","v":0}]
[null,null,null,null,null,null,null,{"$f":"Z443","v":0},null,{"$f":"AB443","v":0},null,{"$f":"AD443","v":0}]
[]
[]
[null,null,null,{"$f":"'Matriz VERDE-GBCe'!V38","v":"AI 02"},{"$f":"VLOOKUP($D447,'Matriz VERDE-GBCe'!$V$6:$AH$55,2,FALSE)","v":"Control de la calidad del aire"},null,null,null,null,null,null,null,null,null,{"$f":"VLOOKUP($D447,'Matriz VERDE-GBCe'!$V$6:$AH$55,3,FALSE)","v":1.9530197726415604E-2}]
[]
[]
[null,null,null,{"$f":"IF('DG '!F29=0,\"\",'DG '!F29)","v":""},null,null,null,null,null,null,null,null,null,null,null,null,null,null,null,null,null,null,null,null,"Target","SEGURO",null,"PROBABLE",null,"DUDOSO",null,"NO CUMPLE",null,"NO APLICA"]
[]
[null,null,null,{"$f":"IF(OR(D450=\"Rehabilitación\", D450=\"Edificio existente\"),\"El porcentaje de las viviendas que cuentan con una ventilación natural oscila entre el  60 y el 70%\", \"El porcentaje de las viviendas que cuentan con una ventilación natural oscila entre el 70 y el 80%\")","v":"El porcentaje de las viviendas que cuentan con una ventilación natural oscila entre el 70 y el 80%"},null,null,null,null,null,null,null,null,null,null,null,null,null,null,null,null,null,null,null,null,0.35,{"$f":"+IF($Q452=\"seguro\",$Y452,0)","v":0},null,{"$f":"+IF($Q452=\"probable\",$Y452,0)","v":0},null,{"$f":"+IF($Q452=\"dudoso\",$Y452,0)","v":0},null,{"$f":"+IF($Q452=\"NO CUMPLE\",$Y452,0)","v":0},null,{"$f":"+IF($Q452=\"no aplica\",2,0)","v":0}]
[]
[]
[null,null,null,{"$f":"IF(OR(D450=\"Rehabilitación\", D450=\"Edificio existente\"),\"El porcentaje de las viviendas que cuentan con una ventilación natural oscila entre el 70 y el 80%\", \"El porcentaje de las viviendas que cuentan con una ventilación natural oscila entre el  80 y el 90%\")","v":"El porcentaje de las viviendas que cuentan con una ventilación natural oscila entre el  80 y el 90%"},null,null,null,null,null,null,null,null,null,null,null,null,null,null,null,null,null,null,null,null,0.35,{"$f":"+IF($Q455=\"seguro\",$Y455,0)","v":0},null,{"$f":"+IF($Q455=\"probable\",$Y455,0)","v":0},null,{"$f":"+IF($Q455=\"dudoso\",$Y455,0)","v":0},null,{"$f":"+IF($Q455=\"NO CUMPLE\",$Y455,0)","v":0},null,{"$f":"+IF($Q455=\"no aplica\",2,0)","v":0}]
[]
[]
[null,null,null,{"$f":"IF(OR(D450=\"Rehabilitación\", D450=\"Edificio existente\"), \"El porcentaje de las viviendas que cuentan con una ventilación natural oscila entre el 80 y el 90%\", \"El porcentaje de las viviendas que cuentan con una ventilación natural oscila entre el 90 y el 100%\")","v":"El porcentaje de las viviendas que cuentan con una ventilación natural oscila entre el 90 y el 100%"},null,null,null,null,null,null,null,null,null,null,null,null,null,null,null,null,null,null,null,null,0.3,{"$f":"+IF($Q458=\"seguro\",$Y458,0)","v":0},null,{"$f":"+IF($Q458=\"probable\",$Y458,0)","v":0},null,{"$f":"+IF($Q458=\"dudoso\",$Y458,0)","v":0},null,{"$f":"+IF($Q458=\"NO CUMPLE\",$Y458,0)","v":0},null,{"$f":"+IF($Q458=\"no aplica\",2,0)","v":0}]
[]
[null,null,null,"Valoración obtenida:",null,null,null,"SEGURO",null,"PROBABLE",null,"DUDOSO",null,null,null,null,null,null,null,null,null,null,null,{"$f":"Z460+AB460+AD460+AF460","v":0},{"$f":"SUM(Y451:Y458)","v":1},{"$f":"IF($O447=\"\",0,SUM(Z451:Z458)*$O447/$Y460)","v":0},null,{"$f":"IF($O447=\"\",0,SUM(AB452:AB458)*$O447/$Y460)","v":0},null,{"$f":"IF($O447=\"\",0,SUM(AD452:AD458)*$O447/$Y460)","v":0},null,{"$f":"IF($O447=\"\",0,SUM(AF452:AF458)*$O447/$Y460)","v":0}]
[null,null,null,null,null,null,null,{"$f":"Z460","v":0},null,{"$f":"AB460","v":0},null,{"$f":"AD460","v":0}]
[]
[]
[null,null,null,{"$f":"'Matriz VERDE-GBCe'!V39","v":"AI 03"},{"$f":"VLOOKUP($D464,'Matriz VERDE-GBCe'!$V$6:$AH$55,2,FALSE)","v":"Iluminación natural."},null,null,null,null,null,null,null,null,null,{"$f":"VLOOKUP($D464,'Matriz VERDE-GBCe'!$V$6:$AH$55,3,FALSE)","v":1.9530197726415604E-2}]
[]
[]
[null,null,null,{"$f":"IF('DG '!F29=0,\"\",'DG '!F29)","v":""},null,null,null,null,null,null,null,null,null,null,null,null,null,null,null,null,null,null,null,null,"Target","SEGURO",null,"PROBABLE",null,"DUDOSO",null,"NO CUMPLE",null,"NO APLICA"]
[]
[null,null,null,{"$f":"IF(OR(D467=\"Rehabilitación\", D467=\"Edificio existente\"), \"El porcentaje de las viviendas que alcanza un DF del 2 % en los salones oscila entre el 60 y el 70%\", \"El porcentaje de las viviendas que alcanza un DF del 2 % en los salones oscila entre el 70 y el 80%\")","v":"El porcentaje de las viviendas que alcanza un DF del 2 % en los salones oscila entre el 70 y el 80%"},null,null,null,null,null,null,null,null,null,null,null,null,null,null,null,null,null,null,null,null,0.35,{"$f":"+IF($Q469=\"seguro\",$Y469,0)","v":0},null,{"$f":"+IF($Q469=\"probable\",$Y469,0)","v":0},null,{"$f":"+IF($Q469=\"dudoso\",$Y469,0)","v":0},null,{"$f":"+IF($Q469=\"NO CUMPLE\",$Y469,0)","v":0},null,{"$f":"+IF($Q469=\"no aplica\",2,0)","v":0}]
[]
[]
[null,null,null,{"$f":"IF(OR(D467=\"Rehabilitación\", D467=\"Edificio existente\"), \"El porcentaje de las viviendas que alcanza un DF del 2 % en los salones oscila entre el 70 y el 80%\", \"El porcentaje de las viviendas queque alcanza un DF del 2 % en los salones oscila entre el 80 y el 90%\")","v":"El porcentaje de las viviendas queque alcanza un DF del 2 % en los salones oscila entre el 80 y el 90%"},null,null,null,null,null,null,null,null,null,null,null,null,null,null,null,null,null,null,null,null,0.35,{"$f":"+IF($Q472=\"seguro\",$Y472,0)","v":0},null,{"$f":"+IF($Q472=\"probable\",$Y472,0)","v":0},null,{"$f":"+IF($Q472=\"dudoso\",$Y472,0)","v":0},null,{"$f":"+IF($Q472=\"NO CUMPLE\",$Y472,0)","v":0},null,{"$f":"+IF($Q472=\"no aplica\",2,0)","v":0}]
[]
[]
[null,null,null,{"$f":"IF(OR(D467=\"Rehabilitación\", D467=\"Edificio existente\"), \"El porcentaje de las viviendas que alcanza un DF del 2 % en los salones oscila entre el 80 y el 90%\", \"El porcentaje de las viviendas queque alcanza un DF del 2 % en los salones oscila entre el 90 y el 100%\")","v":"El porcentaje de las viviendas queque alcanza un DF del 2 % en los salones oscila entre el 90 y el 100%"},null,null,null,null,null,null,null,null,null,null,null,null,null,null,null,null,null,null,null,null,0.3,{"$f":"+IF($Q475=\"seguro\",$Y475,0)","v":0},null,{"$f":"+IF($Q475=\"probable\",$Y475,0)","v":0},null,{"$f":"+IF($Q475=\"dudoso\",$Y475,0)","v":0},null,{"$f":"+IF($Q475=\"NO CUMPLE\",$Y475,0)","v":0},null,{"$f":"+IF($Q475=\"no aplica\",2,0)","v":0}]
[]
[null,null,null,"Valoración obtenida:",null,null,null,"SEGURO",null,"PROBABLE",null,"DUDOSO",null,null,null,null,null,null,null,null,null,null,null,{"$f":"Z477+AB477+AD477+AF477","v":0},{"$f":"SUM(Y468:Y475)","v":1},{"$f":"IF($O464=\"\",0,SUM(Z468:Z475)*$O464/$Y477)","v":0},null,{"$f":"IF($O464=\"\",0,SUM(AB469:AB475)*$O464/$Y477)","v":0},null,{"$f":"IF($O464=\"\",0,SUM(AD469:AD475)*$O464/$Y477)","v":0},null,{"$f":"IF($O464=\"\",0,SUM(AF469:AF475)*$O464/$Y477)","v":0}]
[null,null,null,null,null,null,null,{"$f":"Z477","v":0},null,{"$f":"AB477","v":0},null,{"$f":"AD477","v":0}]
[]
[]
[null,null,null,{"$f":"'Matriz VERDE-GBCe'!V41","v":"AI 05"},{"$f":"VLOOKUP($D481,'Matriz VERDE-GBCe'!$V$6:$AH$55,2,FALSE)","v":"Protección frente al ruido."},null,null,null,null,null,null,null,null,null,{"$f":"VLOOKUP($D481,'Matriz VERDE-GBCe'!$V$6:$AH$55,3,FALSE)","v":1.9530197726415604E-2}]
[]
[null,null,null,{"$f":"IF('DG '!F27=0,\"\",'DG '!F27)","v":""}]
[]
[null,null,null,"¿El edificio está exento de cumplir con el CTE HR?",null,null,null,null,null,null,null,null,null,null,null,null,null,null,null,null,null,null,null,null,"Target","SEGURO",null,"PROBABLE",null,"DUDOSO",null,"NO CUMPLE",null,"NO APLICA"]
[]
[null,null,null,{"$f":"IF(Q485=\"Sí\",\"La protección de las viviendas frente al ruido procedente del exterior cumple la exigencia normativa\",\"La protección de las viviendas frente al ruido procedente del exterior supera en 4 dB(A) la exigencia normativa\")","v":"La protección de las viviendas frente al ruido procedente del exterior supera en 4 dB(A) la exigencia normativa"},null,null,null,null,null,null,null,null,null,null,null,null,null,null,null,null,null,null,0.5,1,{"$f":"IF(OR(D483=\"Unifamiliar\",D483=\"Urbanización\"),X487,W487)","v":0.5},{"$f":"+IF($Q487=\"seguro\",$Y487,0)","v":0},null,{"$f":"+IF($Q487=\"probable\",$Y487,0)","v":0},null,{"$f":"+IF($Q487=\"dudoso\",$Y487,0)","v":0},null,{"$f":"+IF($Q487=\"NO CUMPLE\",$Y487,0)","v":0},null,{"$f":"+IF($Q487=\"no aplica\",2,0)","v":0}]
[]
[]
[null,null,null,{"$f":"IF(OR(D483=\"Unifamiliar\",D483=\"Urbanización\"),\"\",IF(Q485=\"Sí\",\"La protección de las viviendas frente al ruido generado en recintos de instalaciones cumple las exigencias normativas o bien no hay ninguna vivienda contigua a un cuarto de instalaciones en el que se genere ruido\",\"La protección de las viviendas frente al ruido generado en recintos de instalaciones mejora las exigencias normativas en 4 dB o bien no hay ninguna vivienda contigua a un cuarto de instalaciones en el que se genere ruido\"))","v":"La protección de las viviendas frente al ruido generado en recintos de instalaciones mejora las exigencias normativas en 4 dB o bien no hay ninguna vivienda contigua a un cuarto de instalaciones en el que se genere ruido"},null,null,null,null,null,null,null,null,null,null,null,null,null,null,null,null,null,null,0.2,0,{"$f":"IF(OR(D483=\"Unifamiliar\",D483=\"Urbanización\"),X490,W490)","v":0.2},{"$f":"+IF($Q490=\"seguro\",$Y490,0)","v":0},null,{"$f":"+IF($Q490=\"probable\",$Y490,0)","v":0},null,{"$f":"+IF($Q490=\"dudoso\",$Y490,0)","v":0},null,{"$f":"+IF($Q490=\"NO CUMPLE\",$Y490,0)","v":0},null,{"$f":"+IF($Q490=\"no aplica\",2,0)","v":0}]
[]
[]
[null,null,null,{"$f":"IF(OR(D483=\"Unifamiliar\",D483=\"Urbanización\"),\"\",IF(Q485=\"Sí\",\"La protección de las viviendas frente al ruido generado en recintos no procedentes de la misma unidad funcional de uso cumple las exigencias normativas.\",\"La protección de las viviendas frente al ruido generado en recintos no procedentes de la misma unidad funcional de uso mejora las exigencias normativas en 4 dB.\"))","v":"La protección de las viviendas frente al ruido generado en recintos no procedentes de la misma unidad funcional de uso mejora las exigencias normativas en 4 dB."},null,null,null,null,null,null,null,null,null,null,null,null,null,null,null,null,null,null,0.3,0,{"$f":"IF(OR(D483=\"Unifamiliar\",D483=\"Urbanización\"),X493,W493)","v":0.3},{"$f":"+IF($Q493=\"seguro\",$Y493,0)","v":0},null,{"$f":"+IF($Q493=\"probable\",$Y493,0)","v":0},null,{"$f":"+IF($Q493=\"dudoso\",$Y493,0)","v":0},null,{"$f":"+IF($Q493=\"NO CUMPLE\",$Y493,0)","v":0},null,{"$f":"+IF($Q493=\"no aplica\",2,0)","v":0}]
[]
[]
[null,null,null,"Se han comprobado las condiciones acústicas en la obra terminada",null,null,null,null,null,null,null,null,null,null,null,null,null,null,null,null,null,null,null,1,null,{"$f":"+IF(($Q496=\"seguro\"),$O481*0.1,0)","v":0},null,{"$f":"+IF(($Q496=\"probable\"),$O481*0.1,0)","v":0},null,{"$f":"+IF(($Q496=\"dudoso\"),$O481*0.1,0)","v":0},null,{"$f":"+IF(($Q496=\"No cumple\"),$O481*0.1,0)","v":0},null,{"$f":"+IF($Q496=\"no aplica\",2,0)","v":0}]
[]
[null,null,null,"Valoración obtenida:",null,null,null,"SEGURO",null,"PROBABLE",null,"DUDOSO",null,null,null,null,null,null,null,null,null,null,null,{"$f":"SUM(X487:X497)","v":2},{"$f":"SUM(Y487:Y493)+Y496","v":1},{"$f":"IF($Q496=\"\",0,(SUM(Z487:Z494)*0.9)*O481)+Z496","v":0},null,{"$f":"IF($Q496=\"\",0,(SUM(AB487:AB494)*0.9)*O481)+AB496","v":0},null,{"$f":"IF($Q496=\"\",0,(SUM(AD487:AD494)*0.9)*O481)+AD496","v":0},null,{"$f":"IF($Q496=\"\",0,(SUM(AF487:AF494)*0.9)*O481)+AF496","v":0}]
[null,null,null,null,null,null,null,{"$f":"Z498","v":0},null,{"$f":"AB498","v":0},null,{"$f":"AD498","v":0}]
[null,null,null,null,null,null,null,null,null,null,null,null,null,null,null,null,null,null,null,null,null,null,null,{"$f":"Z498+AB498+AD498+AF498","v":0}]
[null,null,null,null,null,"SEGURO",null,"PROBABLE",null,"DUDOSO",null,"NO CUMPLE"]
[]
[null,null,null,"SUBTOTAL ",null,{"$f":"H444+H461+H478+H499","v":0},null,{"$f":"J444+J461+J478+J499","v":0},null,{"$f":"L444+L461+L478+L499","v":0},null,{"$f":"$AF443+$AF460+$AF477+$AF498","v":0},null,null,null,null,null,null,null,null,null,null,null,{"$f":"F503+H503+J503+L503","v":0}]
[]
[]
[]
[null,{"$f":"'Matriz VERDE-GBCe'!U42","v":"AS"},null,{"$f":"'Matriz VERDE-GBCe'!V42","v":"Aspectos sociales"},null,null,null,null,null,null,null,null,null,null,"Valoración total",null,{"$f":"'Matriz VERDE-GBCe'!X42","v":0.17542158288885298}]
[]
[]
[]
[null,null,null,{"$f":"'Matriz VERDE-GBCe'!V43","v":"AS 01"},{"$f":"VLOOKUP($D511,'Matriz VERDE-GBCe'!$V$6:$AH$60,2,FALSE)","v":"Espacios para todas las personas"},null,null,null,null,null,null,null,null,null,{"$f":"VLOOKUP($D511,'Matriz VERDE-GBCe'!$V$6:$AH$60,3,FALSE)","v":1.9180001077528153E-2},null,null,null,null,null,null,null,null,null,"Target","SEGURO",null,"PROBABLE",null,"DUDOSO",null,"NO CUMPLE",null,"NO APLICA"]
[]
[null,null,null,"Las estancias de los edificios cumplen con los tamaños mínimos que exige el criterio",null,null,null,null,null,null,null,null,null,null,null,null,null,null,null,null,null,null,null,null,0.4,{"$f":"+IF($Q513=\"seguro\",$Y513,0)","v":0},null,{"$f":"+IF($Q513=\"probable\",$Y513,0)","v":0},null,{"$f":"+IF($Q513=\"dudoso\",$Y513,0)","v":0},null,{"$f":"+IF($Q513=\"NO CUMPLE\",$Y513,0)","v":0},null,{"$f":"+IF($Q513=\"no aplica\",2,0)","v":0}]
[]
[]
[null,null,null,"Se han implementado en el edificio cuatro o más medidas para favorecer la conviviencia",null,null,null,null,null,null,null,null,null,null,null,null,null,null,null,null,null,null,null,null,0.6,{"$f":"+IF($Q516=\"seguro\",$Y516,0)","v":0},null,{"$f":"+IF($Q516=\"probable\",$Y516,0)","v":0},null,{"$f":"+IF($Q516=\"dudoso\",$Y516,0)","v":0},null,{"$f":"+IF($Q516=\"NO CUMPLE\",$Y516,0)","v":0},null,{"$f":"+IF($Q516=\"no aplica\",2,0)","v":0}]
[]
[null,null,null,"Valoración obtenida:",null,null,null,"SEGURO",null,"PROBABLE",null,"DUDOSO",null,null,null,null,null,null,null,null,null,null,null,{"$f":"Z518+AB518+AD518+AF518","v":0},{"$f":"SUM(Y513:Y516)","v":1},{"$f":"IF($O511=\"\",0,SUM(Z513:Z516)*$O511)","v":0},null,{"$f":"IF($O511=\"\",0,SUM(AB513:AB516)*$O511)","v":0},null,{"$f":"IF($O511=\"\",0,SUM(AD513:AD516)*$O511)","v":0},null,{"$f":"IF($O511=\"\",0,SUM(AF513:AF516)*$O511)","v":0}]
[null,null,null,null,null,null,null,{"$f":"Z518","v":0},null,{"$f":"AB518","v":0},null,{"$f":"AD518","v":0}]
[]
[]
[null,null,null,{"$f":"'Matriz VERDE-GBCe'!V44","v":"AS 02"},{"$f":"VLOOKUP($D522,'Matriz VERDE-GBCe'!$V$6:$AH$60,2,FALSE)","v":"Espacios para la comunicación"},null,null,null,null,null,null,null,null,null,{"$f":"VLOOKUP($D522,'Matriz VERDE-GBCe'!$V$6:$AH$60,3,FALSE)","v":1.8479607779753247E-2},null,null,null,null,null,null,null,null,null,"Target","SEGURO",null,"PROBABLE",null,"DUDOSO",null,"NO CUMPLE",null,"NO APLICA"]
[]
[null,null,null,"Existen espacios de reunión capaces de albergar a un número suficiente de personas",null,null,null,null,null,null,null,null,null,null,null,null,null,null,null,null,null,null,null,null,0.25,{"$f":"+IF($Q524=\"seguro\",$Y524,0)","v":0},null,{"$f":"+IF($Q524=\"probable\",$Y524,0)","v":0},null,{"$f":"+IF($Q524=\"dudoso\",$Y524,0)","v":0},null,{"$f":"+IF($Q524=\"NO CUMPLE\",$Y524,0)","v":0},null,{"$f":"+IF($Q524=\"no aplica\",2,0)","v":0}]
[]
[]
[null,null,null,"Existen espacios espacios en los que se puede desarrollar actividades culturales, deportivas, de ocio o de otro tipo.",null,null,null,null,null,null,null,null,null,null,null,null,null,null,null,null,null,null,null,null,0.25,{"$f":"+IF($Q527=\"seguro\",$Y527,0)","v":0},null,{"$f":"+IF($Q527=\"probable\",$Y527,0)","v":0},null,{"$f":"+IF($Q527=\"dudoso\",$Y527,0)","v":0},null,{"$f":"+IF($Q527=\"NO CUMPLE\",$Y527,0)","v":0},null,{"$f":"+IF($Q527=\"no aplica\",2,0)","v":0}]
[]
[]
[null,null,null,"Existen espacios que inviten al esparcimiento, descanso y desconexion",null,null,null,null,null,null,null,null,null,null,null,null,null,null,null,null,null,null,null,null,0.25,{"$f":"+IF($Q530=\"seguro\",$Y530,0)","v":0},null,{"$f":"+IF($Q530=\"probable\",$Y530,0)","v":0},null,{"$f":"+IF($Q530=\"dudoso\",$Y530,0)","v":0},null,{"$f":"+IF($Q530=\"NO CUMPLE\",$Y530,0)","v":0},null,{"$f":"+IF($Q530=\"no aplica\",2,0)","v":0}]
[]
[]
[null,null,null,"Se han diseñado otras medidas que favorecen la relación y comunicación entre los ocupantes del edificio",null,null,null,null,null,null,null,null,null,null,null,null,null,null,null,null,null,null,null,null,0.25,{"$f":"+IF($Q533=\"seguro\",$Y533,0)","v":0},null,{"$f":"+IF($Q533=\"probable\",$Y533,0)","v":0},null,{"$f":"+IF($Q533=\"dudoso\",$Y533,0)","v":0},null,{"$f":"+IF($Q533=\"NO CUMPLE\",$Y533,0)","v":0},null,{"$f":"+IF($Q533=\"no aplica\",2,0)","v":0}]
[]
[null,null,null,"Valoración obtenida:",null,null,null,"SEGURO",null,"PROBABLE",null,"DUDOSO",null,null,null,null,null,null,null,null,null,null,null,{"$f":"Z535+AB535+AD535+AF535","v":0},{"$f":"SUM(Y524:Y533)","v":1},{"$f":"IF($O522=\"\",0,SUM(Z524:Z533)*$O522/$Y535)","v":0},null,{"$f":"IF($O522=\"\",0,SUM(AB524:AB533)*$O522/$Y535)","v":0},null,{"$f":"IF($O522=\"\",0,SUM(AD524:AD533)*$O522/$Y535)","v":0},null,{"$f":"IF($O522=\"\",0,SUM(AF524:AF533)*$O522/$Y535)","v":0}]
[null,null,null,null,null,null,null,{"$f":"Z535","v":0},null,{"$f":"AB535","v":0},null,{"$f":"AD535","v":0}]
[]
[]
[]
[null,null,null,{"$f":"'Matriz VERDE-GBCe'!V45","v":"AS 03"},{"$f":"VLOOKUP($D540,'Matriz VERDE-GBCe'!$V$6:$AH$60,2,FALSE)","v":"Derecho al sol"},null,null,null,null,null,null,null,null,null,{"$f":"VLOOKUP($D540,'Matriz VERDE-GBCe'!$V$6:$AH$60,3,FALSE)","v":1.7429017833090893E-2}]
[]
[null,null,null,{"$f":"IF('DG '!F27=0,\"\",'DG '!F27)","v":""},null,null,null,null,null,null,null,null,null,null,{"$f":"IF('DG '!F29=\"\",\"\",'DG '!F29)","v":""},null,null,null,null,null,null,null,null,null,"Target","SEGURO",null,"PROBABLE",null,"DUDOSO",null,"NO CUMPLE",null,"NO APLICA"]
[]
[null,null,null,{"$f":"IF(OR(D542=\"unifamiliar\",D542=\"urbanizaciones\"),\"Cada vivienda disfruta, en al menos dos estancias principales, de dos horas de sol directo el día 22 de diciembre  entre las 9:00 y las 15:00 horas solares\",IF(OR(O542=\"Rehabilitación\",O542=\"Edificio existente\"),\"El % de viviendas que tienen el salón soleado durante, al menos, dos horas entre las 11:00 y las 16:00 horas solares del día 22 de diciembre, oscila entre el 25% y el 50%\",\"El % de viviendas que tienen el salón soleado durante, al menos, dos horas entre las 11:00 y las 16:00 horas solares del día 22 de diciembre, oscila entre el 50% y el 75%\"))","v":"El % de viviendas que tienen el salón soleado durante, al menos, dos horas entre las 11:00 y las 16:00 horas solares del día 22 de diciembre, oscila entre el 50% y el 75%"},null,null,null,null,null,null,null,null,null,null,null,null,null,null,null,null,null,null,null,null,{"$f":"IF(OR(D542=\"Unifamiliar\",D542=\"Urbanizaciones\",D542=\"Vivienda en un edificio\"),1,0.5)","v":0.5},{"$f":"+IF($Q544=\"seguro\",$Y544,0)","v":0},null,{"$f":"+IF($Q544=\"probable\",$Y544,0)","v":0},null,{"$f":"+IF($Q544=\"dudoso\",$Y544,0)","v":0},null,{"$f":"+IF($Q544=\"NO CUMPLE\",$Y544,0)","v":0},null,{"$f":"+IF($Q544=\"no aplica\",2,0)","v":0}]
[]
[]
[null,null,null,{"$f":"IF((D542=\"Vivienda en un edificio\"),\"La estancia principal disfruta de dos horas de sol directo el día 22 de diciembre  entre las 9:00 y las 15:00 horas solares\",IF(OR(O542=\"Rehabilitación\",O542=\"Edificio existente\"),\"El % de viviendas que tienen el salón soleado durante, al menos, dos horas entre las 09:00 y las 15:00 horas solares del día 22 de diciembre, oscila entre el 50% y el 75%\",\"El % de viviendas que tienen el salón soleado durante, al menos, dos horas entre las 9:00 y las 15:00 horas solares del día 22 de diciembre, oscila entre el 75% y el 100%\"))","v":"El % de viviendas que tienen el salón soleado durante, al menos, dos horas entre las 9:00 y las 15:00 horas solares del día 22 de diciembre, oscila entre el 75% y el 100%"},null,null,null,null,null,null,null,null,null,null,null,null,null,null,null,null,null,null,null,null,{"$f":"IF(OR(D542=\"Unifamiliar\",D542=\"Urbanizaciones\",D542=\"Vivienda en un edificio\"),0,0.5)","v":0.5},{"$f":"+IF($Q547=\"seguro\",$Y547,0)","v":0},null,{"$f":"+IF($Q547=\"probable\",$Y547,0)","v":0},null,{"$f":"+IF($Q547=\"dudoso\",$Y547,0)","v":0},null,{"$f":"+IF($Q547=\"NO CUMPLE\",$Y547,0)","v":0},null,{"$f":"+IF($Q547=\"no aplica\",2,0)","v":0}]
[]
[null,null,null,"Valoración obtenida:",null,null,null,"SEGURO",null,"PROBABLE",null,"DUDOSO",null,null,null,null,null,null,null,null,null,null,null,{"$f":"Z549+AB549+AD549+AF549","v":0},{"$f":"SUM(Y543:Y548)","v":1},{"$f":"IF($O540=\"\",0,SUM(Z544:Z548)*$O540/$Y549)","v":0},null,{"$f":"IF($O540=\"\",0,SUM(AB544:AB548)*$O540/$Y549)","v":0},null,{"$f":"IF($O540=\"\",0,SUM(AD544:AD548)*$O540/$Y549)","v":0},null,{"$f":"IF($O540=\"\",0,SUM(AF544:AF548)*$O540/$Y549)","v":0}]
[null,null,null,null,null,null,null,{"$f":"Z549","v":0},null,{"$f":"AB549","v":0},null,{"$f":"AD549","v":0}]
[]
[]
[null,null,null,{"$f":"'Matriz VERDE-GBCe'!V46","v":"AS 04"},{"$f":"VLOOKUP($D553,'Matriz VERDE-GBCe'!$V$6:$AH$60,2,FALSE)","v":"Derecho a la intimidad"},null,null,null,null,null,null,null,null,null,{"$f":"VLOOKUP($D553,'Matriz VERDE-GBCe'!$V$6:$AH$60,3,FALSE)","v":1.6809439146597705E-2},null,null,null,null,null,null,null,null,null,"Target","SEGURO",null,"PROBABLE",null,"DUDOSO",null,"NO CUMPLE",null,"NO APLICA"]
[]
[]
[null,null,null,"Más del 70% de las viviendas disfrutan de intimidad en sus espacios interiores",null,null,null,null,null,null,null,null,null,null,null,null,null,null,null,null,null,null,null,null,0.5,{"$f":"+IF($Q556=\"seguro\",$Y556,0)","v":0},null,{"$f":"+IF($Q556=\"probable\",$Y556,0)","v":0},null,{"$f":"+IF($Q556=\"dudoso\",$Y556,0)","v":0},null,{"$f":"+IF($Q556=\"NO CUMPLE\",$Y556,0)","v":0},null,{"$f":"+IF($Q556=\"no aplica\",2,0)","v":0}]
[]
[]
[null,null,null,"Todas las viviendas disfrutan de intimidad en sus espacios interiores",null,null,null,null,null,null,null,null,null,null,null,null,null,null,null,null,null,null,null,null,0.5,{"$f":"+IF($Q559=\"seguro\",$Y559,0)","v":0},null,{"$f":"+IF($Q559=\"probable\",$Y559,0)","v":0},null,{"$f":"+IF($Q559=\"dudoso\",$Y559,0)","v":0},null,{"$f":"+IF($Q559=\"NO CUMPLE\",$Y559,0)","v":0},null,{"$f":"+IF($Q559=\"no aplica\",2,0)","v":0}]
[]
[null,null,null,"Valoración obtenida:",null,null,null,"SEGURO",null,"PROBABLE",null,"DUDOSO",null,null,null,null,null,null,null,null,null,null,null,{"$f":"Z561+AB561+AD561+AF561","v":0},{"$f":"SUM(Y556:Y560)","v":1},{"$f":"IF($O553=\"\",0,SUM(Z555:Z559)*$O553/Y561)","v":0},null,{"$f":"IF($O553=\"\",0,SUM(AB555:AB559)*$O553/Y561)","v":0},null,{"$f":"IF($O553=\"\",0,SUM(AD555:AD559)*$O553/Y561)","v":0},null,{"$f":"IF($O553=\"\",0,SUM(AF555:AF559)*$O553/Y561)","v":0}]
[null,null,null,null,null,null,null,{"$f":"Z561","v":0},null,{"$f":"AB561","v":0},null,{"$f":"AD561","v":0}]
[]
[]
[null,null,null,{"$f":"'Matriz VERDE-GBCe'!V47","v":"AS 05"},{"$f":"VLOOKUP($D565,'Matriz VERDE-GBCe'!$V$6:$AH$60,2,FALSE)","v":"Contacto visual con el exterior"},null,null,null,null,null,null,null,null,null,{"$f":"VLOOKUP($D565,'Matriz VERDE-GBCe'!$V$6:$AH$60,3,FALSE)","v":1.7860029093260062E-2},null,null,null,null,null,null,null,null,null,"Target","SEGURO",null,"PROBABLE",null,"DUDOSO",null,"NO CUMPLE",null,"NO APLICA"]
[]
[null,null,null,"Más del 85% las viviendas tienen acceso visual al exterior, con las especificaciones del criterio",null,null,null,null,null,null,null,null,null,null,null,null,null,null,null,null,null,null,null,null,0.5,{"$f":"+IF($Q567=\"seguro\",$Y567,0)","v":0},null,{"$f":"+IF($Q567=\"probable\",$Y567,0)","v":0},null,{"$f":"+IF($Q567=\"dudoso\",$Y567,0)","v":0},null,{"$f":"+IF($Q567=\"NO CUMPLE\",$Y567,0)","v":0},null,{"$f":"+IF($Q567=\"no aplica\",2,0)","v":0}]
[]
[]
[null,null,null,"Todas las viviendas tienen acceso visual al exterior, con las especificaciones del criterio",null,null,null,null,null,null,null,null,null,null,null,null,null,null,null,null,null,null,null,null,0.5,{"$f":"+IF($Q570=\"seguro\",$Y570,0)","v":0},null,{"$f":"+IF($Q570=\"probable\",$Y570,0)","v":0},null,{"$f":"+IF($Q570=\"dudoso\",$Y570,0)","v":0},null,{"$f":"+IF($Q570=\"NO CUMPLE\",$Y570,0)","v":0},null,{"$f":"+IF($Q570=\"no aplica\",2,0)","v":0}]
[]
[null,null,null,"Valoración obtenida:",null,null,null,"SEGURO",null,"PROBABLE",null,"DUDOSO",null,null,null,null,null,null,null,null,null,null,null,{"$f":"Z572+AB572+AD572+AF572","v":0},{"$f":"SUM(Y566:Y570)","v":1},{"$f":"IF($O565=\"\",0,SUM(Z566:Z570)*$O565/Y572)","v":0},null,{"$f":"IF($O565=\"\",0,SUM(AB566:AB570)*$O565/Y572)","v":0},null,{"$f":"IF($O565=\"\",0,SUM(AD566:AD570)*$O565/Y572)","v":0},null,{"$f":"IF($O565=\"\",0,SUM(AF566:AF570)*$O565/Y572)","v":0}]
[null,null,null,null,null,null,null,{"$f":"Z572","v":0},null,{"$f":"AB572","v":0},null,{"$f":"AD572","v":0}]
[]
[]
[null,null,null,{"$f":"'Matriz VERDE-GBCe'!V48","v":"AS 06"},{"$f":"VLOOKUP($D576,'Matriz VERDE-GBCe'!$V$6:$AH$60,2,FALSE)","v":"Espacios abiertos privados"},null,null,null,null,null,null,null,null,null,{"$f":"VLOOKUP($D576,'Matriz VERDE-GBCe'!$V$6:$AH$60,3,FALSE)","v":1.8210225742147514E-2},null,null,null,null,null,null,null,null,null,"Target","SEGURO",null,"PROBABLE",null,"DUDOSO",null,"NO CUMPLE",null,"NO APLICA"]
[]
[null,null,null,{"$f":"IF('DG '!F27=0,\"\",'DG '!F27)","v":""}]
[]
[null,null,null,{"$f":"IF(D578=\"Residencial colectivo\",\"Mas del 70%  de viviendas que disfrutan de un espacio abierto privado, según las especificaciones del criterio\",\"Cada vivienda o la vivienda disfruta de un espacio abierto privado,según las especificaciones del criterio\")","v":"Cada vivienda o la vivienda disfruta de un espacio abierto privado,según las especificaciones del criterio"},null,null,null,null,null,null,null,null,null,null,null,null,null,null,null,null,null,null,null,null,{"$f":"IF(D578=\"Residencial colectivo\",0.5,1)","v":1},{"$f":"+IF($Q580=\"seguro\",$Y580,0)","v":0},null,{"$f":"+IF($Q580=\"probable\",$Y580,0)","v":0},null,{"$f":"+IF($Q580=\"dudoso\",$Y580,0)","v":0},null,{"$f":"+IF($Q580=\"NO CUMPLE\",$Y580,0)","v":0},null,{"$f":"+IF($Q580=\"no aplica\",2,0)","v":0}]
[]
[]
[null,null,null,{"$f":"IF(D578=\"Residencial colectivo\",\"Todas las viviendas disfrutan de un espacio abierto privado,según las especificaciones del criterio\",\"\")","v":""},null,null,null,null,null,null,null,null,null,null,null,null,null,null,null,null,null,null,null,null,0.5,{"$f":"+IF($Q583=\"seguro\",$Y583,0)","v":0},null,{"$f":"+IF($Q583=\"probable\",$Y583,0)","v":0},null,{"$f":"+IF($Q583=\"dudoso\",$Y583,0)","v":0},null,{"$f":"+IF($Q583=\"NO CUMPLE\",$Y583,0)","v":0},null,{"$f":"+IF($Q583=\"no aplica\",2,0)","v":0}]
[]
[null,null,null,"Valoración obtenida:",null,null,null,"SEGURO",null,"PROBABLE",null,"DUDOSO",null,null,null,null,null,null,null,null,null,null,null,{"$f":"Z585+AB585+AD585+AF585","v":0},{"$f":"SUM(Y577:Y583)","v":1.5},{"$f":"IF($O576=\"\",0,SUM(Z580:Z583)*$O576/Y585)","v":0},null,{"$f":"IF($O576=\"\",0,SUM(AB580:AB583)*$O576/Y585)","v":0},null,{"$f":"IF($O576=\"\",0,SUM(AD580:AD583)*$O576/Y585)","v":0},null,{"$f":"IF($O576=\"\",0,SUM(AF580:AF583)*$O576/Y585)","v":0}]
[null,null,null,null,null,null,null,{"$f":"Z585","v":0},null,{"$f":"AB585","v":0},null,{"$f":"AD585","v":0}]
[]
[]
[null,null,null,{"$f":"'Matriz VERDE-GBCe'!V49","v":"AS 07"},{"$f":"VLOOKUP($D589,'Matriz VERDE-GBCe'!$V$6:$AH$60,2,FALSE)","v":"Diseño inclusivo"},null,null,null,null,null,null,null,null,null,{"$f":"VLOOKUP($D589,'Matriz VERDE-GBCe'!$V$6:$AH$60,3,FALSE)","v":2.0742416895641401E-2},null,null,null,null,null,null,null,null,null,"Target","SEGURO",null,"PROBABLE",null,"DUDOSO",null,"NO CUMPLE",null,"NO APLICA"]
[]
[null,null,null,"El edificio cuenta con una señaletica específica para personas con discapacidad cognitiva",null,null,null,null,null,null,null,null,null,null,null,null,null,null,null,null,null,null,null,null,0.3,{"$f":"+IF($Q591=\"seguro\",$Y591,0)","v":0},null,{"$f":"+IF($Q591=\"probable\",$Y591,0)","v":0},null,{"$f":"+IF($Q591=\"dudoso\",$Y591,0)","v":0},null,{"$f":"+IF($Q591=\"NO CUMPLE\",$Y591,0)","v":0},null,{"$f":"+IF($Q591=\"no aplica\",2,0)","v":0}]
[]
[]
[null,null,null,"EL edifico prevé el libre acceso mediante itinerarios accesibles a personas con movilidad reducida a todas las viviendas accesibles del edificio.",null,null,null,null,null,null,null,null,null,null,null,null,null,null,null,null,null,null,null,null,0.5,{"$f":"+IF($Q594=\"seguro\",$Y594,0)","v":0},null,{"$f":"+IF($Q594=\"probable\",$Y594,0)","v":0},null,{"$f":"+IF($Q594=\"dudoso\",$Y594,0)","v":0},null,{"$f":"+IF($Q594=\"NO CUMPLE\",$Y594,0)","v":0},null,{"$f":"+IF($Q594=\"no aplica\",2,0)","v":0}]
[]
[]
[null,null,null,"El edificio contempla alguna mejora sustancial en la accesibilidad",null,null,null,null,null,null,null,null,null,null,null,null,null,null,null,null,null,null,null,null,0.2,{"$f":"+IF($Q597=\"seguro\",$Y597,0)","v":0},null,{"$f":"+IF($Q597=\"probable\",$Y597,0)","v":0},null,{"$f":"+IF($Q597=\"dudoso\",$Y597,0)","v":0},null,{"$f":"+IF($Q597=\"NO CUMPLE\",$Y597,0)","v":0},null,{"$f":"+IF($Q597=\"no aplica\",2,0)","v":0}]
[]
[null,null,null,"Valoración obtenida:",null,null,null,"SEGURO",null,"PROBABLE",null,"DUDOSO",null,null,null,null,null,null,null,null,null,null,null,{"$f":"Z599+AB599+AD599+AF599","v":0},{"$f":"SUM(Y590:Y597)","v":1},{"$f":"IF($O589=\"\",0,SUM(Z590:Z597)*$O589/$Y599)","v":0},null,{"$f":"IF($O589=\"\",0,SUM(AB590:AB597)*$O589/$Y599)","v":0},null,{"$f":"IF($O589=\"\",0,SUM(AD590:AD597)*$O589/$Y599)","v":0},null,{"$f":"IF($O589=\"\",0,SUM(AF590:AF597)*$O589/$Y599)","v":0}]
[null,null,null,null,null,null,null,{"$f":"Z599","v":0},null,{"$f":"AB599","v":0},null,{"$f":"AD599","v":0}]
[]
[]
[]
[null,null,null,{"$f":"'Matriz VERDE-GBCe'!V50","v":"AS 08"},{"$f":"VLOOKUP($D604,'Matriz VERDE-GBCe'!$V$6:$AH$60,2,FALSE)","v":"Conexión con la naturaleza"},null,null,null,null,null,null,null,null,null,{"$f":"VLOOKUP($D604,'Matriz VERDE-GBCe'!$V$6:$AH$60,3,FALSE)","v":2.7342276816981845E-2},null,null,null,null,null,null,null,null,null,"Target","SEGURO",null,"PROBABLE",null,"DUDOSO",null,"NO CUMPLE",null,"NO APLICA"]
[]
[null,null,null,"Existen espacios abiertos ajardinados que cumplen las especificaciones del criterio ",null,null,null,null,null,null,null,null,null,null,null,null,null,null,null,null,null,null,null,null,0.25,{"$f":"+IF($Q606=\"seguro\",$Y606,0)","v":0},null,{"$f":"+IF($Q606=\"probable\",$Y606,0)","v":0},null,{"$f":"+IF($Q606=\"dudoso\",$Y606,0)","v":0},null,{"$f":"+IF($Q606=\"NO CUMPLE\",$Y606,0)","v":0},null,{"$f":"+IF($Q606=\"no aplica\",2,0)","v":0}]
[]
[]
[null,null,null,"Todas las viviendas tienen contacto visual con espacios vegetados cumpliendo con las especificaciones del criterio ",null,null,null,null,null,null,null,null,null,null,null,null,null,null,null,null,null,null,null,null,0.25,{"$f":"+IF($Q609=\"seguro\",$Y609,0)","v":0},null,{"$f":"+IF($Q609=\"probable\",$Y609,0)","v":0},null,{"$f":"+IF($Q609=\"dudoso\",$Y609,0)","v":0},null,{"$f":"+IF($Q609=\"NO CUMPLE\",$Y609,0)","v":0},null,{"$f":"+IF($Q609=\"no aplica\",2,0)","v":0}]
[]
[]
[null,null,null,"El edificio cuenta con zonas pródigas en plantas en zonas comunes y espacios que puedan dar servicio a avifauna",null,null,null,null,null,null,null,null,null,null,null,null,null,null,null,null,null,null,null,null,0.7,{"$f":"+IF($Q612=\"seguro\",$Y612,0)","v":0},null,{"$f":"+IF($Q612=\"probable\",$Y612,0)","v":0},null,{"$f":"+IF($Q612=\"dudoso\",$Y612,0)","v":0},null,{"$f":"+IF($Q612=\"NO CUMPLE\",$Y612,0)","v":0},null,{"$f":"+IF($Q612=\"no aplica\",2,0)","v":0}]
[]
[]
[null,null,null,"El edificio cuenta con estructuras de plantas con flores que atraigan insectos polinizadores y que sirvan de soporte para estos.",null,null,null,null,null,null,null,null,null,null,null,null,null,null,null,null,null,null,null,null,0.3,{"$f":"+IF($Q615=\"seguro\",$Y615,0)","v":0},null,{"$f":"+IF($Q615=\"probable\",$Y615,0)","v":0},null,{"$f":"+IF($Q615=\"dudoso\",$Y615,0)","v":0},null,{"$f":"+IF($Q615=\"NO CUMPLE\",$Y615,0)","v":0},null,{"$f":"+IF($Q615=\"no aplica\",2,0)","v":0}]
[]
[]
[null,null,null,"El edificio cuenta con elementos que facilitan la conviviencia con perros",null,null,null,null,null,null,null,null,null,null,null,null,null,null,null,null,null,null,null,null,0.15,{"$f":"+IF($Q618=\"seguro\",$Y618,0)","v":0},null,{"$f":"+IF($Q618=\"probable\",$Y618,0)","v":0},null,{"$f":"+IF($Q618=\"dudoso\",$Y618,0)","v":0},null,{"$f":"+IF($Q618=\"NO CUMPLE\",$Y618,0)","v":0},null,{"$f":"+IF($Q618=\"no aplica\",2,0)","v":0}]
[]
[null,null,null,"Valoración obtenida:",null,null,null,"SEGURO",null,"PROBABLE",null,"DUDOSO",null,null,null,null,null,null,null,null,null,null,null,{"$f":"Z620+AB620+AD620+AF620","v":0},{"$f":"SUM(Y606:Y611)+((Y612+Y615)*0.35)+Y618","v":1},{"$f":"IF($O604=\"\",0,(SUM(Z606:Z609)+((Z612+Z615)*0.35)+Z618)*$O604/$Y620)","v":0},null,{"$f":"IF($O604=\"\",0,(SUM(AB606:AB609)+((AB612+AB615)*0.35)+AB618)*$O604/$Y620)","v":0},null,{"$f":"IF($O604=\"\",0,(SUM(AD606:AD609)+((AD612+AD615)*0.35)+AD618)*$O604/$Y620)","v":0},null,{"$f":"IF($O604=\"\",0,(SUM(AF606:AF609)+((AF612+AF615)*0.35)+AF618)*$O604/$Y620)","v":0}]
[null,null,null,null,null,null,null,{"$f":"Z620","v":0},null,{"$f":"AB620","v":0},null,{"$f":"AD620","v":0}]
[]
[]
[null,null,null,{"$f":"'Matriz VERDE-GBCe'!V51","v":"AS 09"},{"$f":"VLOOKUP($D624,'Matriz VERDE-GBCe'!$V$6:$AH$60,2,FALSE)","v":"El edificio como herramienta de comunicación"},null,null,null,null,null,null,null,null,null,{"$f":"VLOOKUP($D624,'Matriz VERDE-GBCe'!$V$6:$AH$60,3,FALSE)","v":1.9368568503852164E-2},null,null,null,null,null,null,null,null,null,"Target","SEGURO",null,"PROBABLE",null,"DUDOSO",null,"NO CUMPLE",null,"NO APLICA"]
[]
[null,null,null,"Se ha elaborado un plan de comunicación",null,null,null,null,null,null,null,null,null,null,null,null,null,null,null,null,null,null,null,null,0.25,{"$f":"+IF($Q626=\"seguro\",$Y626,0)","v":0},null,{"$f":"+IF($Q626=\"probable\",$Y626,0)","v":0},null,{"$f":"+IF($Q626=\"dudoso\",$Y626,0)","v":0},null,{"$f":"+IF($Q626=\"NO CUMPLE\",$Y626,0)","v":0},null,{"$f":"+IF($Q626=\"no aplica\",2,0)","v":0}]
[]
[]
[null,null,null,"Hay un compromiso de hacer los datos de consumo generales del edificio público",null,null,null,null,null,null,null,null,null,null,null,null,null,null,null,null,null,null,null,null,0.25,{"$f":"+IF($Q629=\"seguro\",$Y629,0)","v":0},null,{"$f":"+IF($Q629=\"probable\",$Y629,0)","v":0},null,{"$f":"+IF($Q629=\"dudoso\",$Y629,0)","v":0},null,{"$f":"+IF($Q629=\"NO CUMPLE\",$Y629,0)","v":0},null,{"$f":"+IF($Q629=\"no aplica\",2,0)","v":0}]
[]
[]
[null,null,null,"Hay un compromiso de facilitar información sobre el funcionamiento del edificio a entidades educacionales",null,null,null,null,null,null,null,null,null,null,null,null,null,null,null,null,null,null,null,null,0.25,{"$f":"+IF($Q632=\"seguro\",$Y632,0)","v":0},null,{"$f":"+IF($Q632=\"probable\",$Y632,0)","v":0},null,{"$f":"+IF($Q632=\"dudoso\",$Y632,0)","v":0},null,{"$f":"+IF($Q632=\"NO CUMPLE\",$Y632,0)","v":0},null,{"$f":"+IF($Q632=\"no aplica\",2,0)","v":0}]
[]
[]
[null,null,null,"Hay un compromiso incentivar la comunicación del funcionamiento del edificio en foros representativos",null,null,null,null,null,null,null,null,null,null,null,null,null,null,null,null,null,null,null,null,0.25,{"$f":"+IF($Q635=\"seguro\",$Y635,0)","v":0},null,{"$f":"+IF($Q635=\"probable\",$Y635,0)","v":0},null,{"$f":"+IF($Q635=\"dudoso\",$Y635,0)","v":0},null,{"$f":"+IF($Q635=\"NO CUMPLE\",$Y635,0)","v":0},null,{"$f":"+IF($Q635=\"no aplica\",2,0)","v":0}]
[]
[null,null,null,"Valoración obtenida:",null,null,null,"SEGURO",null,"PROBABLE",null,"DUDOSO",null,null,null,null,null,null,null,null,null,null,null,{"$f":"Z637+AB637+AD637+AF637","v":0},{"$f":"SUM(Y626:Y635)","v":1},{"$f":"IF($O624=\"\",0,SUM(Z626:Z635)*$O624/$Y637)","v":0},null,{"$f":"IF($O624=\"\",0,SUM(AB626:AB635)*$O624/$Y637)","v":0},null,{"$f":"IF($O624=\"\",0,SUM(AD626:AD635)*$O624/$Y637)","v":0},null,{"$f":"IF($O624=\"\",0,SUM(AF626:AF635)*$O624/$Y637)","v":0}]
[null,null,null,null,null,null,null,{"$f":"Z637","v":0},null,{"$f":"AB637","v":0},null,{"$f":"AD637","v":0}]
[]
[null,null,null,null,null,"SEGURO",null,"PROBABLE",null,"DUDOSO",null,"NO CUMPLE"]
[]
[null,null,null,"SUBTOTAL",null,{"$f":"H519+H536+H550+H562+H573+H586+H600+H621+H638","v":0},null,{"$f":"J519+J536+J550+J562+J573+J586+J600+J621+J638","v":0},null,{"$f":"L519+L536+L550+L562+L573+L586+L600+L621+L638","v":0},null,{"$f":"AF518+AF535+AF549+AF561+AF572+AF585+AF599+AF620+AF637","v":0},null,null,null,null,null,null,null,null,null,null,null,{"$f":"F642+H642+J642+L642","v":0}]
[]
[]
[]
[null,"CE",null,{"$f":"'Matriz VERDE-GBCe'!V52","v":"Calidad de la edificación"},null,null,null,null,null,null,null,null,null,null,"Valoración total",null,{"$f":"'Matriz VERDE-GBCe'!X52","v":0.13786972684661389}]
[]
[]
[]
[null,null,null,{"$f":"'Matriz VERDE-GBCe'!V53","v":"CE 01"},{"$f":"VLOOKUP($D650,'Matriz VERDE-GBCe'!$V$6:$AH$55,2,FALSE)","v":"Diseño pasivo"},null,null,null,null,null,null,null,null,null,{"$f":"VLOOKUP($D650,'Matriz VERDE-GBCe'!$V$6:$AH$55,3,FALSE)","v":2.9766715155433436E-2},null,null,null,null,null,null,null,null,null,"Target","SEGURO",null,"PROBABLE",null,"DUDOSO",null,"NO CUMPLE",null,"NO APLICA"]
[]
[]
[null,null,null,"Coeficiente global de transmisión a través de la envolvente"]
[]
[null,null,null,null,null,"El coeficiente global de transmisión de calor a través de la envolvente (K) del proyecto reduce en mas de un 15 % el valor limite fijado por el DB HE 1",null,null,null,null,null,null,null,null,null,null,null,null,null,null,null,null,null,null,0.125,{"$f":"+IF($Q655=\"seguro\",$Y655,0)","v":0},null,{"$f":"+IF($Q655=\"probable\",$Y655,0)","v":0},null,{"$f":"+IF($Q655=\"dudoso\",$Y655,0)","v":0},null,{"$f":"+IF($Q655=\"NO CUMPLE\",$Y655,0)","v":0},null,{"$f":"+IF($Q655=\"no aplica\",2,0)","v":0}]
[]
[]
[null,null,null,null,null,"El coeficiente global de transmisión de calor a través de la envolvente (K) del proyecto reduce en mas de un 30 % el valor limite fijado por el DB HE 1",null,null,null,null,null,null,null,null,null,null,null,null,null,null,null,null,null,null,0.125,{"$f":"+IF($Q658=\"seguro\",$Y658,0)","v":0},null,{"$f":"+IF($Q658=\"probable\",$Y658,0)","v":0},null,{"$f":"+IF($Q658=\"dudoso\",$Y658,0)","v":0},null,{"$f":"+IF($Q658=\"NO CUMPLE\",$Y658,0)","v":0},null,{"$f":"+IF($Q658=\"no aplica\",2,0)","v":0}]
[]
[]
[null,null,null,"EL parámetro de control solar de la envolvente mejora los límites fijados por el  DB HE 1",null,null,null,null,null,null,null,null,null,null,null,null,null,null,null,null,null,null,null,null,0.25,{"$f":"+IF($Q661=\"seguro\",$Y661,0)","v":0},null,{"$f":"+IF($Q661=\"probable\",$Y661,0)","v":0},null,{"$f":"+IF($Q661=\"dudoso\",$Y661,0)","v":0},null,{"$f":"+IF($Q661=\"NO CUMPLE\",$Y661,0)","v":0},null,{"$f":"+IF($Q661=\"no aplica\",2,0)","v":0}]
[]
[]
[null,null,null,"El número de renovaciones hora a una presión de 50 Pa, n50 [h-1] se reduce en un 50%",null,null,null,null,null,null,null,null,null,null,null,null,null,null,null,null,null,null,null,null,0.25,{"$f":"+IF($Q664=\"seguro\",$Y664,0)","v":0},null,{"$f":"+IF($Q664=\"probable\",$Y664,0)","v":0},null,{"$f":"+IF($Q664=\"dudoso\",$Y664,0)","v":0},null,{"$f":"+IF($Q664=\"NO CUMPLE\",$Y664,0)","v":0},null,{"$f":"+IF($Q664=\"no aplica\",2,0)","v":0}]
[]
[]
[null,null,null,"Se cumple con los valores límites del factor de temperatura interior FRsi",null,null,null,null,null,null,null,null,null,null,null,null,null,null,null,null,null,null,null,null,0.25,{"$f":"+IF($Q667=\"seguro\",$Y667,0)","v":0},null,{"$f":"+IF($Q667=\"probable\",$Y667,0)","v":0},null,{"$f":"+IF($Q667=\"dudoso\",$Y667,0)","v":0},null,{"$f":"+IF($Q667=\"NO CUMPLE\",$Y667,0)","v":0},null,{"$f":"+IF($Q667=\"no aplica\",2,0)","v":0}]
[]
[null,null,null,"Valoración obtenida:",null,null,null,"SEGURO",null,"PROBABLE",null,"DUDOSO",null,null,null,null,null,null,null,null,null,null,null,{"$f":"Z669+AB669+AD669+AF669","v":0},{"$f":"SUM(Y652:Y667)","v":1},{"$f":"IF(O650=\"\",0,SUM(Z654:Z667)*O650)","v":0},null,{"$f":"IF(O650=\"\",0,SUM(AB654:AB667)*O650)","v":0},null,{"$f":"IF(O650=\"\",0,SUM(AD654:AD667)*O650)","v":0},null,{"$f":"IF(O650=\"\",0,SUM(AF654:AF667)*O650)","v":0}]
[null,null,null,null,null,null,null,{"$f":"Z669","v":0},null,{"$f":"AB669","v":0},null,{"$f":"AD669","v":0}]
[]
[]
[null,null,null,{"$f":"'Matriz VERDE-GBCe'!V56","v":"CE 04"},{"$f":"VLOOKUP($D673,'Matriz VERDE-GBCe'!$V$6:$AH$60,2,FALSE)","v":"Calidad en la construcción"},null,null,null,null,null,null,null,null,null,{"$f":"VLOOKUP($D673,'Matriz VERDE-GBCe'!$V$6:$AH$60,3,FALSE)","v":3.6501266095576745E-2},null,null,null,null,null,null,null,null,null,"Target","SEGURO",null,"PROBABLE",null,"DUDOSO",null,"NO CUMPLE",null,"NO APLICA"]
[]
[null,null,null,"Se ha realizado e implementado un Plan de Control de Calidad",null,null,null,null,null,null,null,null,null,null,null,null,null,null,null,null,null,null,null,null,0.3,{"$f":"+IF($Q675=\"seguro\",$Y675,0)","v":0},null,{"$f":"+IF($Q675=\"probable\",$Y675,0)","v":0},null,{"$f":"+IF($Q675=\"dudoso\",$Y675,0)","v":0},null,{"$f":"+IF($Q675=\"NO CUMPLE\",$Y675,0)","v":0},null,{"$f":"+IF($Q675=\"no aplica\",2,0)","v":0}]
[]
[]
[null,null,null,"Se ha realizado e implementado un Plan de gestión ambiental",null,null,null,null,null,null,null,null,null,null,null,null,null,null,null,null,null,null,null,null,0.2,{"$f":"+IF($Q678=\"seguro\",$Y678,0)","v":0},null,{"$f":"+IF($Q678=\"probable\",$Y678,0)","v":0},null,{"$f":"+IF($Q678=\"dudoso\",$Y678,0)","v":0},null,{"$f":"+IF($Q678=\"NO CUMPLE\",$Y678,0)","v":0}]
[]
[]
[null,null,null,"Se ha realizado alguna de las siguientes mediciones o pruebas de control de calidad"]
[]
[null,null,null,null,null,"Se ha realizado un Blower Door",null,null,null,null,null,null,null,null,null,null,null,null,null,null,null,null,null,null,0.2,{"$f":"+IF($Q683=\"seguro\",$Y683,0)","v":0},null,{"$f":"IF(SUM(Z683:Z692)>=0.4,0,IF($Q683=\"probable\",$Y683,0))","v":0},null,{"$f":"IF(OR(SUM(Z683:Z692)>=0.4,SUM(AB683:AB692)>=0.4,(SUM(Z683:Z692)+SUM(AB683:AB692))>=0.4),0,IF($Q683=\"dudoso\",$Y683,0))","v":0},null,{"$f":"+IF($Q683=\"NO CUMPLE\",$Y683,0)","v":0},null,{"$f":"+IF($Q683=\"no aplica\",2,0)","v":0}]
[]
[]
[null,null,null,null,null,"Se ha medido el asilamiento acústico al finalizar la obra",null,null,null,null,null,null,null,null,null,null,null,null,null,null,null,null,null,null,0.1,{"$f":"+IF($Q686=\"seguro\",$Y686,0)","v":0},null,{"$f":"IF(SUM(Z683:Z692)>=0.4,0,IF($Q686=\"probable\",$Y686,0))","v":0},null,{"$f":"IF(OR(SUM(Z683:Z692)>=0.4,SUM(AB683:AB692)>=0.4,(SUM(Z683:Z692)+SUM(AB683:AB692))>=0.4),0,IF($Q686=\"dudoso\",$Y686,0))","v":0},null,{"$f":"+IF($Q686=\"NO CUMPLE\",$Y686,0)","v":0},null,{"$f":"+IF($Q686=\"no aplica\",2,0)","v":0}]
[]
[]
[null,null,null,null,null,"Se han realizado pruebas de estanqueidad en cubiertas y carpinterías.",null,null,null,null,null,null,null,null,null,null,null,null,null,null,null,null,null,null,0.1,{"$f":"+IF($Q689=\"seguro\",$Y689,0)","v":0},null,{"$f":"IF(SUM(Z683:Z692)>=0.4,0,IF($Q689=\"probable\",$Y689,0))","v":0},null,{"$f":"IF(OR(SUM(Z683:Z692)>=0.4,SUM(AB683:AB692)>=0.4,(SUM(Z683:Z692)+SUM(AB683:AB692))>=0.4),0,IF($Q689=\"dudoso\",$Y689,0))","v":0},null,{"$f":"+IF($Q689=\"NO CUMPLE\",$Y689,0)","v":0},null,{"$f":"+IF($Q689=\"no aplica\",2,0)","v":0}]
[]
[]
[null,null,null,null,null,"Se han tomado otras mediciones relevantes para el edificio",null,null,null,null,null,null,null,null,null,null,null,null,null,null,null,null,null,null,0.1,{"$f":"+IF($Q692=\"seguro\",$Y692,0)","v":0},null,{"$f":"IF(SUM(Z683:Z692)>=0.4,0,IF($Q692=\"probable\",$Y692,0))","v":0},null,{"$f":"IF(OR(SUM(Z683:Z692)>=0.4,SUM(AB683:AB692)>=0.4,(SUM(Z683:Z692)+SUM(AB683:AB692))>=0.4),0,IF($Q692=\"dudoso\",$Y692,0))","v":0},null,{"$f":"+IF($Q692=\"NO CUMPLE\",$Y692,0)","v":0},null,{"$f":"+IF($Q692=\"no aplica\",2,0)","v":0}]
[]
[]
[null,null,null,"Se ha recopilado la documentación relativa a la Garantía calidad productos",null,null,null,null,null,null,null,null,null,null,null,null,null,null,null,null,null,null,null,null,0.1,{"$f":"+IF($Q695=\"seguro\",$Y695,0)","v":0},null,{"$f":"+IF($Q695=\"probable\",$Y695,0)","v":0},null,{"$f":"+IF($Q695=\"dudoso\",$Y695,0)","v":0},null,{"$f":"+IF($Q695=\"NO CUMPLE\",$Y695,0)","v":0},null,{"$f":"+IF($Q695=\"no aplica\",2,0)","v":0}]
[]
[null,null,null,"Valoración obtenida:",null,null,null,"SEGURO",null,"PROBABLE",null,"DUDOSO",null,null,null,null,null,null,null,null,null,null,null,{"$f":"Z697+AB697+AD697+AF697","v":0},{"$f":"IF(SUM(Y682:Y692)>0.4,0.4+Y675+Y678+Y695,(SUM(Y675:Y695)))","v":0.99999999999999989},{"$f":"IF($O673=\"\",0,IF(SUM(Z681:Z692)>0.4,(0.4+Z675+Z678+Z695)*$O673,SUM(Z675:Z695)*O673))","v":0},null,{"$f":"IF($O673=\"\",0,IF(SUM(AB681:AB692)>0.4,(0.4+AB675+AB678+AB695)*$O673,SUM(AB675:AB695)*O673))","v":0},null,{"$f":"IF($O673=\"\",0,IF(SUM(AD681:AD692)>0.4,(0.4+AD675+AD678+AD695)*$O673,SUM(AD675:AD695)*O673))","v":0},null,{"$f":"IF($O673=\"\",0,IF(SUM(AF681:AF692)>0.4,(0.4+AF675+AF678+AF695)*$O673,SUM(AF675:AF695)*O673))","v":0}]
[null,null,null,null,null,null,null,{"$f":"Z697","v":0},null,{"$f":"AB697","v":0},null,{"$f":"AD697","v":0}]
[]
[]
[null,null,null,{"$f":"'Matriz VERDE-GBCe'!V57","v":"CE 05"},{"$f":"VLOOKUP($D701,'Matriz VERDE-GBCe'!$V$6:$AH$60,2,FALSE)","v":"Puesta en marcha sistemática"},null,null,null,null,null,null,null,null,null,{"$f":"VLOOKUP($D701,'Matriz VERDE-GBCe'!$V$6:$AH$60,3,FALSE)","v":3.7902052691126557E-2},null,null,null,null,null,null,null,null,null,"Target","SEGURO",null,"PROBABLE",null,"DUDOSO",null,"NO CUMPLE",null,"NO APLICA"]
[]
[null,null,null,{"$f":"IF('DG '!F29=0,\"\",'DG '!F29)","v":""}]
[]
[null,null,null,"Se ha implementado un plan de monitorización de los consumos adecuado para el edificio",null,null,null,null,null,null,null,null,null,null,null,null,null,null,null,null,null,null,null,"c",{"$f":"IF(D703=\"Edificio existente\",0.33,0.15)","v":0.15},{"$f":"+IF($Q705=\"seguro\",$Y705,0)","v":0},null,{"$f":"+IF($Q705=\"probable\",$Y705,0)","v":0},null,{"$f":"+IF($Q705=\"dudoso\",$Y705,0)","v":0},null,{"$f":"+IF($Q705=\"NO CUMPLE\",$Y705,0)","v":0},null,{"$f":"+IF($Q705=\"no aplica\",2,0)","v":0}]
[]
[]
[null,null,null,"Se ha elaborado un plan de puesta en marcha adecuado para el edificio.",null,null,null,null,null,null,null,null,null,null,null,null,null,null,null,null,null,null,null,null,{"$f":"IF(D703=\"Edificio existente\",0,0.1)","v":0.1},{"$f":"+IF($Q708=\"seguro\",$Y708,0)","v":0},null,{"$f":"+IF($Q708=\"probable\",$Y708,0)","v":0},null,{"$f":"+IF($Q708=\"dudoso\",$Y708,0)","v":0},null,{"$f":"+IF($Q708=\"NO CUMPLE\",$Y708,0)","v":0},null,{"$f":"+IF($Q708=\"no aplica\",2,0)","v":0}]
[]
[]
[null,null,null,"Todos los componentes técnicos esenciales han sido sometidos a una prueba de funcionamiento preliminar",null,null,null,null,null,null,null,null,null,null,null,null,null,null,null,null,null,null,null,null,{"$f":"IF(D703=\"Edificio existente\",0,0.1)","v":0.1},{"$f":"+IF($Q711=\"seguro\",$Y711,0)","v":0},null,{"$f":"+IF($Q711=\"probable\",$Y711,0)","v":0},null,{"$f":"+IF($Q711=\"dudoso\",$Y711,0)","v":0},null,{"$f":"+IF($Q711=\"NO CUMPLE\",$Y711,0)","v":0},null,{"$f":"+IF($Q711=\"no aplica\",2,0)","v":0}]
[]
[]
[null,null,null,"Todos los sistemas técnicos esenciales han sido sometidos a su puesta en marcha y el operador ha recibido formación necesaria",null,null,null,null,null,null,null,null,null,null,null,null,null,null,null,null,null,null,null,"c",{"$f":"IF(D703=\"Edificio existente\",0.33,0.15)","v":0.15},{"$f":"+IF($Q714=\"seguro\",$Y714,0)","v":0},null,{"$f":"+IF($Q714=\"probable\",$Y714,0)","v":0},null,{"$f":"+IF($Q714=\"dudoso\",$Y714,0)","v":0},null,{"$f":"+IF($Q714=\"NO CUMPLE\",$Y714,0)","v":0},null,{"$f":"+IF($Q714=\"no aplica\",2,0)","v":0}]
[]
[]
[null,null,null,"Se documenta todo el proceso de puesta en marcha en un informe.",null,null,null,null,null,null,null,null,null,null,null,null,null,null,null,null,null,null,null,null,{"$f":"IF(D703=\"Edificio existente\",0,0.2)","v":0.2},{"$f":"+IF($Q717=\"seguro\",$Y717,0)","v":0},null,{"$f":"+IF($Q717=\"probable\",$Y717,0)","v":0},null,{"$f":"+IF($Q717=\"dudoso\",$Y717,0)","v":0},null,{"$f":"+IF($Q717=\"NO CUMPLE\",$Y717,0)","v":0},null,{"$f":"+IF($Q717=\"no aplica\",2,0)","v":0}]
[]
[]
[null,null,null,"Se ha elaborado un manual de funcionamiento integral de las instalaciones del edificio",null,null,null,null,null,null,null,null,null,null,null,null,null,null,null,null,null,null,null,"c",{"$f":"IF(D703=\"Edificio existente\",0.34,0.2)","v":0.2},{"$f":"+IF($Q720=\"seguro\",$Y720,0)","v":0},null,{"$f":"+IF($Q720=\"probable\",$Y720,0)","v":0},null,{"$f":"+IF($Q720=\"dudoso\",$Y720,0)","v":0},null,{"$f":"+IF($Q720=\"NO CUMPLE\",$Y720,0)","v":0},null,{"$f":"+IF($Q720=\"no aplica\",2,0)","v":0}]
[]
[]
[null,null,null,"Se ha realizado una Gestión de la puesta en marcha conforme a las especificaciones del criterio",null,null,null,null,null,null,null,null,null,null,null,null,null,null,null,null,null,null,null,null,{"$f":"IF(D703=\"Edificio existente\",0,0.1)","v":0.1},{"$f":"+IF($Q723=\"seguro\",$Y723,0)","v":0},null,{"$f":"+IF($Q723=\"probable\",$Y723,0)","v":0},null,{"$f":"+IF($Q723=\"dudoso\",$Y723,0)","v":0},null,{"$f":"+IF($Q723=\"NO CUMPLE\",$Y723,0)","v":0},null,{"$f":"+IF($Q723=\"no aplica\",2,0)","v":0}]
[]
[null,null,null,"Valoración obtenida:",null,null,null,"SEGURO",null,"PROBABLE",null,"DUDOSO"]
[null,null,null,null,null,null,null,{"$f":"Z726","v":0},null,{"$f":"AB726","v":0},null,{"$f":"AD726","v":0},null,null,null,null,null,null,null,null,null,null,null,null,{"$f":"SUM(Y705:Y723)","v":0.99999999999999989},{"$f":"IF($O701=\"\",0,SUM(Z705:Z723)*$O701)","v":0},null,{"$f":"IF($O701=\"\",0,SUM(AB705:AB723)*$O701)","v":0},null,{"$f":"IF($O701=\"\",0,SUM(AD705:AD723)*$O701)","v":0},null,{"$f":"IF($O701=\"\",0,SUM(AF705:AF723)*$O701)","v":0}]
[]
[]
[null,null,null,{"$f":"'Matriz VERDE-GBCe'!V58","v":"CE 06"},{"$f":"VLOOKUP($D729,'Matriz VERDE-GBCe'!$V$6:$AH$60,2,FALSE)","v":"Custodia de la documentación del proyecto"},null,null,null,null,null,null,null,null,null,{"$f":"VLOOKUP($D729,'Matriz VERDE-GBCe'!$V$6:$AH$60,3,FALSE)","v":3.3699692904477128E-2},null,null,null,null,null,null,null,null,null,"Target","SEGURO",null,"PROBABLE",null,"DUDOSO",null,"NO CUMPLE",null,"NO APLICA"]
[]
[null,null,null,"El protocolo de custodia de la documentación del proyecto incluye a propietarios, equipo de proyecto y promotores.",null,null,null,null,null,null,null,null,null,null,null,null,null,null,null,null,null,null,null,null,0.4,{"$f":"+IF($Q731=\"seguro\",$Y731,0)","v":0},null,{"$f":"+IF($Q731=\"probable\",$Y731,0)","v":0},null,{"$f":"+IF($Q731=\"dudoso\",$Y731,0)","v":0},null,{"$f":"+IF($Q731=\"NO CUMPLE\",$Y731,0)","v":0},null,{"$f":"+IF($Q731=\"no aplica\",2,0)","v":0}]
[]
[]
[null,null,null,"Se aportan los pliegos de licitación o contrato que defina todos los requisitos establecidos en el criterio para diseño del proyecto BIM",null,null,null,null,null,null,null,null,null,null,null,null,null,null,null,null,null,null,null,null,0.6,{"$f":"+IF($Q734=\"seguro\",$Y734,0)","v":0},null,{"$f":"+IF($Q734=\"probable\",$Y734,0)","v":0},null,{"$f":"+IF($Q734=\"dudoso\",$Y734,0)","v":0},null,{"$f":"+IF($Q734=\"NO CUMPLE\",$Y734,0)","v":0},null,{"$f":"+IF($Q734=\"no aplica\",2,0)","v":0}]
[]
[null,null,null,"Valoración obtenida:",null,null,null,"SEGURO",null,"PROBABLE",null,"DUDOSO"]
[null,null,null,null,null,null,null,{"$f":"Z737","v":0},null,{"$f":"AB737","v":0},null,{"$f":"AD737","v":0},null,null,null,null,null,null,null,null,null,null,null,null,{"$f":"SUM(Y731:Y734)","v":1},{"$f":"IF($O729=\"\",0,SUM(Z731:Z734)*$O729)","v":0},null,{"$f":"IF($O729=\"\",0,SUM(AB731:AB734)*$O729)","v":0},null,{"$f":"IF($O729=\"\",0,SUM(AD731:AD734)*$O729)","v":0},null,{"$f":"IF($O729=\"\",0,SUM(AF731:AF734)*$O729)","v":0}]
[]
[]
[null,null,null,{"$f":"'Matriz VERDE-GBCe'!V59","v":"CE 07"},{"$f":"VLOOKUP($D740,'Matriz VERDE-GBCe'!$V$6:$AH$60,2,FALSE)","v":"Certificaciones voluntarias de edificios"},null,null,null,null,null,null,null,null,null,{"$f":"VLOOKUP($D740,'Matriz VERDE-GBCe'!$V$6:$AH$60,3,FALSE)","v":0},null,null,null,null,null,null,null,null,null,"Target","SEGURO",null,"PROBABLE",null,"DUDOSO",null,"NO CUMPLE",null,"NO APLICA"]
[]
[null,null,null,"El edificio cuenta con otra certificación voluntaria que valora la sostenibilidad en la edificación.",null,null,null,null,null,null,null,null,null,null,null,null,null,null,null,null,null,null,null,null,0.5,{"$f":"+IF($Q742=\"seguro\",$Y742,0)","v":0},null,{"$f":"+IF($Q742=\"probable\",$Y742,0)","v":0},null,{"$f":"+IF($Q742=\"dudoso\",$Y742,0)","v":0},null,{"$f":"+IF($Q742=\"NO CUMPLE\",$Y742,0)","v":0},null,{"$f":"+IF($Q742=\"no aplica\",2,0)","v":0}]
[]
[]
[null,null,null,"La certificación voluntaria es VERDE",null,null,null,null,null,null,null,null,null,null,null,null,null,null,null,null,null,null,null,null,0.5,{"$f":"+IF($Q745=\"seguro\",$Y745,0)","v":0},null,{"$f":"+IF($Q745=\"probable\",$Y745,0)","v":0},null,{"$f":"+IF($Q745=\"dudoso\",$Y745,0)","v":0},null,{"$f":"+IF($Q745=\"NO CUMPLE\",$Y745,0)","v":0},null,{"$f":"+IF($Q745=\"no aplica\",2,0)","v":0}]
[]
[null,null,null,"Valoración obtenida:",null,null,null,"SEGURO",null,"PROBABLE",null,"DUDOSO"]
[null,null,null,null,null,null,null,{"$f":"Z748","v":0},null,{"$f":"AB748","v":0},null,{"$f":"AD748","v":0},null,null,null,null,null,null,null,null,null,null,null,null,{"$f":"SUM(Y742:Y745)","v":1},{"$f":"IF($O740=\"\",0,SUM(Z742:Z745)*$O740)","v":0},null,{"$f":"IF($O740=\"\",0,SUM(AB742:AB745)*$O740)","v":0},null,{"$f":"IF($O740=\"\",0,SUM(AD742:AD745)*$O740)","v":0},null,{"$f":"IF($O740=\"\",0,SUM(AF742:AF745)*$O740)","v":0}]
[]
[]
[null,null,null,null,null,"SEGURO",null,"PROBABLE",null,"DUDOSO",null,"NO CUMPLE"]
[]
[null,null,null,"SUBTOTAL",null,{"$f":"H670+H698+H726+H737+H748","v":0},null,{"$f":"J670+J698+J726+J737+J748","v":0},null,{"$f":"L670+L698+L726+L737+L748","v":0},null,{"$f":"AF669+AF697+AF726+AF737+AF748","v":0}]
[]
[]
[]
[null,"IN",null,"Innovación"]
[]
[]
[null,null,null,"IN 01","Criterio 1",null,null,null,null,null,null,null,null,null,0.05,null,null,null,null,null,null,null,null,null,"Target","SEGURO",null,"PROBABLE",null,"DUDOSO",null,"COMPLICADO",null,"NO APLICA"]
[]
[null,null,null,"medida de innovación aprobada por GCBe",null,null,null,null,null,null,null,null,null,null,null,null,null,null,null,null,null,null,null,null,1,{"$f":"+IF($Q762=\"seguro\",$Y762,0)","v":0},null,{"$f":"+IF($Q762=\"probable\",$Y762,0)","v":0},null,{"$f":"+IF($Q762=\"dudoso\",$Y762,0)","v":0},null,{"$f":"+IF($Q762=\"NO CUMPLE\",$Y762,0)","v":0},null,{"$f":"+IF($Q762=\"no aplica\",2,0)","v":0}]
[]
[]
[null,null,null,"medida de innovación aprobada por GCBe",null,null,null,null,null,null,null,null,null,null,null,null,null,null,null,null,null,null,null,null,1,{"$f":"+IF($Q765=\"seguro\",$Y765,0)","v":0},null,{"$f":"+IF($Q765=\"probable\",$Y765,0)","v":0},null,{"$f":"+IF($Q765=\"dudoso\",$Y765,0)","v":0},null,{"$f":"+IF($Q765=\"NO CUMPLE\",$Y765,0)","v":0},null,{"$f":"+IF($Q765=\"no aplica\",2,0)","v":0}]
[]
[]
[null,null,null,"medida de innovación aprobada por GCBe",null,null,null,null,null,null,null,null,null,null,null,null,null,null,null,null,null,null,null,null,1,{"$f":"+IF($Q768=\"seguro\",$Y768,0)","v":0},null,{"$f":"+IF($Q768=\"probable\",$Y768,0)","v":0},null,{"$f":"+IF($Q768=\"dudoso\",$Y768,0)","v":0},null,{"$f":"+IF($Q768=\"NO CUMPLE\",$Y768,0)","v":0},null,{"$f":"+IF($Q768=\"no aplica\",2,0)","v":0}]
[]
[]
[null,null,null,"medida de innovación aprobada por GCBe",null,null,null,null,null,null,null,null,null,null,null,null,null,null,null,null,null,null,null,null,1,{"$f":"+IF($Q771=\"seguro\",$Y771,0)","v":0},null,{"$f":"+IF($Q771=\"probable\",$Y771,0)","v":0},null,{"$f":"+IF($Q771=\"dudoso\",$Y771,0)","v":0},null,{"$f":"+IF($Q771=\"NO CUMPLE\",$Y771,0)","v":0},null,{"$f":"+IF($Q771=\"no aplica\",2,0)","v":0}]
[]
[]
[null,null,null,"medida de innovación aprobada por GCBe",null,null,null,null,null,null,null,null,null,null,null,null,null,null,null,null,null,null,null,null,1,{"$f":"+IF($Q774=\"seguro\",$Y774,0)","v":0},null,{"$f":"+IF($Q774=\"probable\",$Y774,0)","v":0},null,{"$f":"+IF($Q774=\"dudoso\",$Y774,0)","v":0},null,{"$f":"+IF($Q774=\"NO CUMPLE\",$Y774,0)","v":0},null,{"$f":"+IF($Q774=\"no aplica\",2,0)","v":0}]
[]
[null,null,null,"Valoración obtenida:",null,null,null,"SEGURO",null,"PROBABLE",null,"DUDOSO",null,null,null,null,null,null,null,null,null,null,null,null,{"$f":"SUM(Y762:Y774)","v":5},{"$f":"IF($O760=\"\",0,SUM(Z762:Z774)*$O760/$Y776)","v":0},null,{"$f":"IF($O760=\"\",0,SUM(AB762:AB774)*$O760/$Y776)","v":0},null,{"$f":"IF($O760=\"\",0,SUM(AD762:AD774)*$O760/$Y776)","v":0},null,{"$f":"IF($O760=\"\",0,SUM(AF762:AF774)*$O760/$Y776)","v":0}]
[null,null,null,null,null,null,null,{"$f":"Z776","v":0},null,{"$f":"AB776","v":0},null,{"$f":"AD776","v":0}]
[]
[null,null,null,null,null,"SEGURO",null,"PROBABLE",null,"DUDOSO",null,"NO CUMPLE"]
[]
[null,null,null,"SUBTOTAL",null,{"$f":"$Z776","v":0},null,{"$f":"$AB776","v":0},null,{"$f":"$AD776","v":0},null,{"$f":"$AF776","v":0}]
[]
[]
[]
[null,null,null,null,null,"SEGURO",null,"PROBABLE",null,"DUDOSO",null,"NO CUMPLE"]
[]
[null,null,null,"PE",null,{"$f":"F124","v":0},null,{"$f":"H124","v":0},null,{"$f":"J124","v":0},null,{"$f":"L124","v":0},null,null,null,null,null,null,null,null,null,null,null,{"$f":"F787+H787+J787+L787","v":0}]
[]
[null,null,null,"EA",null,{"$f":"F222","v":0},null,{"$f":"H222","v":0},null,{"$f":"J222","v":0},null,{"$f":"L222","v":0},null,null,null,null,null,null,null,null,null,null,null,{"$f":"F789+H789+J789+L789","v":0}]
[]
[null,null,null,"RN",null,{"$f":"F426","v":0},null,{"$f":"H426","v":0},null,{"$f":"J426","v":0},null,{"$f":"L426","v":0},null,null,null,null,null,null,null,null,null,null,null,{"$f":"F791+H791+J791+L791","v":0}]
[]
[null,null,null,"AI",null,{"$f":"F503","v":0},null,{"$f":"H503","v":0},null,{"$f":"J503","v":0},null,{"$f":"L503","v":0},null,null,null,null,null,null,null,null,null,null,null,{"$f":"F793+H793+J793+L793","v":0}]
[]
[null,null,null,"AS",null,{"$f":"F642","v":0},null,{"$f":"H642","v":0},null,{"$f":"J642","v":0},null,{"$f":"L642","v":0},null,null,null,null,null,null,null,null,null,null,null,{"$f":"F795+H795+J795+L795","v":0}]
[]
[null,null,null,"CE",null,{"$f":"F753","v":0},null,{"$f":"H753","v":0},null,{"$f":"J753","v":0},null,{"$f":"L753","v":0},null,null,null,null,null,null,null,null,null,null,null,{"$f":"F797+H797+J797+L797","v":0}]
[]
[null,null,null,"IN",null,{"$f":"F781","v":0},null,{"$f":"H781","v":0},null,{"$f":"J781","v":0},null,{"$f":"L781","v":0},null,null,null,null,null,null,null,null,null,null,null,{"$f":"F799+H799+J799+L799","v":0}]
[]
[]
[null,null,null,"TOTAL",null,{"$f":"SUM(F787:F801)","v":0},null,{"$f":"SUM(H787:H801)","v":0},null,{"$f":"SUM(J787:J801)","v":0},null,0,null,null,null,null,null,null,null,null,null,null,null,{"$f":"F802+H802+J802+L802","v":0},"S","S+P","S+P+D"]
[]
[]
[]
[null,null,null,null,null,null,null,null,null,null,null,null,null,null,null,null,null,null,null,null,null,null,null,null,{"$f":"F802","v":0},{"$f":"F802+H802","v":0},{"$f":"F802+H802+J802","v":0}," hoja"]
[null,null,"  Los criterios seguros darían un resultado de ",null,null,null,null,null,null,null,null,null,{"$f":"F802","v":0},null,{"$f":"CONCATENATE(Y808,Y809)","v":"0 hojas"}]
[null,null,null,null,null,null,null,null,null,null,null,null,null,null,null,null,null,null,null,null,null,null,null,null,{"$f":"IF(Y806>80%,5,IF(Y806>60%,4,IF(Y806>50%,3,IF(Y806>40%,2,IF(Y806>30%,1,0)))))","v":0},{"$f":"IF(Z806>80%,5,IF(Z806>60%,4,IF(Z806>50%,3,IF(Z806>40%,2,IF(Z806>30%,1,0)))))","v":0},{"$f":"IF(AA806>80%,5,IF(AA806>60%,4,IF(AA806>50%,3,IF(AA806>40%,2,IF(AA806>30%,1,0)))))","v":0}," hojas"]
[null,null,"  Los criterios seguros más los probables darían un resultado de ",null,null,null,null,null,null,null,null,null,{"$f":"F802+H802","v":0},null,{"$f":"CONCATENATE(Z808,Z809)","v":"0 hojas"},null,null,null,null,null,null,null,null,null,{"$f":"IF(Y808=1,AB806,AB808)","v":" hojas"},{"$f":"IF(Z808=1,AB806,AB808)","v":" hojas"},{"$f":"IF(AA808=1,AB806,AB808)","v":" hojas"}]
[]
[null,null,"  Los criterios seguros más los probables más los dudosos darían un resultado de ",null,null,null,null,null,null,null,null,null,{"$f":"F802+H802+J802","v":0},null,{"$f":"CONCATENATE(AA808,AA809)","v":"0 hojas"}]
[]
[]
[]
[null,null,null,null,null,null,null,null,null,null,null,null,null,null,null,null,null,null,null,null,null,null,null,null,"Seguro","Probable","Dudoso","No cumple",null,null,null,null,null,null,"Seguro","Seguro+P","S+P+D","2 hojas","3 hojas","4 hojas","5 hojas"]
[null,null,null,null,null,null,null,null,null,null,null,null,null,null,null,null,null,null,null,null,null,null,null,"PE",{"$f":"F124","v":0},{"$f":"H124","v":0},{"$f":"J124","v":0},{"$f":"L124","v":0},null,null,null,null,null,"PE",{"$f":"Y816","v":0},{"$f":"Y816+Z816","v":0},{"$f":"Y816+Z816+AA816","v":0},0.3,0.35,0.45,0.6]
[null,null,null,null,null,null,null,null,null,null,null,null,null,null,null,null,null,null,null,null,null,null,null,"EA",{"$f":"F222","v":0},{"$f":"H222","v":0},{"$f":"J222","v":0},{"$f":"L222","v":0},null,null,null,null,null,"EA",{"$f":"Y817","v":0},{"$f":"Y817+Z817","v":0},{"$f":"Y817+Z817+AA817","v":0},0.3,0.35,0.45,0.6]
[null,null,null,null,null,null,null,null,null,null,null,null,null,null,null,null,null,null,null,null,null,null,null,"RN",{"$f":"F426","v":0},{"$f":"H426","v":0},{"$f":"J426","v":0},{"$f":"L426","v":0},null,null,null,null,null,"RN",0,0,0,0.3,0.35,0.45,0.6]
[null,null,null,null,null,null,null,null,null,null,null,null,null,null,null,null,null,null,null,null,null,null,null,"AI",{"$f":"F503","v":0},{"$f":"H503","v":0},{"$f":"J503","v":0},{"$f":"L503","v":0},null,null,null,null,null,"AI",0,0,0,0.3,0.35,0.45,0.6]
[null,null,null,null,null,null,null,null,null,null,null,null,null,null,null,null,null,null,null,null,null,null,null,"AS",{"$f":"F642","v":0},{"$f":"H642","v":0},{"$f":"J642","v":0},{"$f":"L642","v":0},null,null,null,null,null,"AS",0,0,0,0.3,0.35,0.45,0.6]
[null,null,null,null,null,null,null,null,null,null,null,null,null,null,null,null,null,null,null,null,null,null,null,"CE",{"$f":"F753","v":0},{"$f":"H753","v":0},{"$f":"J753","v":0},{"$f":"L753","v":0},null,null,null,null,null,"CE",0,0,0,0.3,0.35,0.45,0.6]
[null,null,null,null,null,null,null,null,null,null,null,null,null,null,null,null,null,null,null,null,null,null,null,"IN",{"$f":"F781","v":0},{"$f":"H781","v":0},{"$f":"J781","v":0},{"$f":"L781","v":0},null,null,null,null,null,"IN",0,0,0,0.3,0.35,0.45,0.6]
[]
[]
[]
[]
[null,null,null,null,null,null,null,null,null,null,null,null,null,null,null,null,null,null,null,null,null,null,null,null,"S","S+P","S+P+D"]
[null,null,null,null,null,null,null,null,null,null,null,null,null,null,null,null,null,null,null,null,null,null,null,null,"S","S+P","S+P+D"]
[null,null,null,null,null,null,null,null,null,null,null,null,null,null,null,null,null,null,null,null,null,null,null,null,{"$f":"F802","v":0},{"$f":"H802","v":0},{"$f":"J802","v":0}]
[null,null,null,null,null,null,null,null,null,null,null,null,null,null,null,null,null,null,null,null,null,null,null,null,{"$f":"F802","v":0},{"$f":"H802","v":0}]
[null,null,null,null,null,null,null,null,null,null,null,null,null,null,null,null,null,null,null,null,null,null,null,null,{"$f":"F802","v":0}]
[]
[]
[]
[null,null,null,null,null,null,null,null,null,null,null,null,null,null,null,null,null,null,null,null,null,null,"5 hojas","4 hojas","3 hojas%","2 hojas","1 hojas"]
[null,null,null,null,null,null,null,null,null,null,null,null,null,null,null,null,null,null,null,null,null,5,0.6,0.6,0.6,0.6,0.6]
[null,null,null,null,null,null,null,null,null,null,null,null,null,null,null,null,null,null,null,null,null,4,0.45,0.45,0.45,0.45,0.45]
[null,null,null,null,null,null,null,null,null,null,null,null,null,null,null,null,null,null,null,null,null,3,0.35,0.35,0.35,0.35,0.35]
[null,null,null,null,null,null,null,null,null,null,null,null,null,null,null,null,null,null,null,null,null,2,0.3,0.3,0.3,0.3,0.3]

{"sheet":"PE","index":13,"n_rows":312,"n_cols":25,"rows_kept":312,"cut":false,"hidden":false,"merged":[[292,5,292,6],[294,5,294,6],[296,4,296,5],[300,6,300,9],[101,5,101,6],[266,5,266,6],[268,5,268,6],[272,4,272,5],[288,4,288,5],[288,6,288,7],[290,5,290,6],[256,4,256,5],[256,6,256,7],[258,5,258,6],[260,5,260,6],[174,5,175,5],[262,5,262,6],[264,5,264,6],[217,5,217,6],[219,5,219,6],[221,4,221,5],[227,4,227,5],[235,5,236,5],[244,4,244,5],[215,5,215,6],[185,4,185,5],[185,6,185,7],[187,5,187,6],[189,5,189,6],[191,5,191,6],[193,5,193,6],[195,4,195,5],[209,4,209,5],[209,6,209,7],[211,5,211,6],[213,5,213,6],[123,4,123,5],[129,4,129,5],[168,4,168,5],[143,4,143,5],[147,4,147,5],[149,5,150,5],[154,4,154,5],[158,5,158,6],[160,5,160,6],[162,5,162,6],[164,5,164,6],[166,5,166,6],[154,6,154,7],[156,5,156,6],[119,5,119,6],[105,5,105,6],[93,5,93,6],[119,14,119,20],[121,5,121,6],[101,13,101,17],[63,5,64,5],[66,5,67,5],[69,5,70,5],[137,5,137,6],[117,5,117,6],[75,5,76,5],[78,5,79,5],[83,4,83,5],[83,6,83,7],[85,5,85,6],[87,5,87,6],[89,5,89,6],[91,5,91,6],[95,4,95,5],[115,4,115,5],[115,6,115,7],[172,13,172,15],[1,2,1,3],[1,4,1,5],[1,6,1,7],[12,5,12,6],[16,4,16,5],[16,6,16,7],[72,5,73,5],[18,5,18,6],[20,5,20,6],[22,4,22,5],[42,4,42,5],[42,6,42,7],[44,5,44,6],[46,4,46,5],[60,5,61,5]]}
[]
[null,null,{"$f":"'Matriz VERDE-GBCe'!U6","v":"PE"},null,{"$f":"'Matriz VERDE-GBCe'!V6","v":"Parcela y emplazamiento"},null,null,null,null,null,null,null,null,null,null,null,null,null,null,null,null,null,null,null,"EJEMPLO 1"]
[]
[]
[null,null,null,null,{"$f":"'Matriz VERDE-GBCe'!V7","v":"PE 01"},{"$f":"VLOOKUP($E5,'Matriz VERDE-GBCe'!$V$7:$AH$55,2,FALSE)","v":"Proximidad al transporte publico."},{"$f":"VLOOKUP($E5,'Matriz VERDE-GBCe'!$V$7:$AH$55,3,FALSE)","v":1.5004579494639301E-2},null,null,null,null,null,null,null,null,"w"]
[]
[null,null,null,null,null,{"$f":"IF('DG '!F27='DG '!L21,\"Comprueba las particularidades de este criterio para urbanizaciones en GEA.\",\"\")","v":""},null,null,null,null,null,null,null,null,null,null,null,null,null,"SE ADJUNTA",null,"SÍ","NO"]
[null,null,null,null,null,null,null,null,null,null,null,null,null,null,null,null,null,null,null,"NO SE ADJUNTA",null,"NO"]
[null,null,null,null,null,"Número de habitantes del municipio",null,null,null,null,null,null,10000,null,null,null,null,null,null,"NO APLICA",null,null,null,null,10000]
[]
[null,null,null,null,null,"Densidad del entorno de la parcela en viv./ha",null,null,null,null,null,null,1.5,null,null,null,null,null,null,null,null,null,null,null,150]
[]
[null,null,null,null,null,{"$f":"CONCATENATE(N13,O13,P13,Q13,R13)","v":"Se cumple con el requisito de 2 líneas de transporte público en las paradas situadas en un radio de 1000 m"},null,null,null,null,null,null,"Sí","Se cumple con el requisito de ",{"$f":"IF(AND($I$11>100,$I$9>100000),6,IF(OR(AND($I$11>100,AND($I$9<100000,$I$9>20000)),AND($I$11<100,$I$9>20000)),4,2))","v":2}," líneas de transporte público en las paradas situadas en un radio de ",{"$f":"IF(AND($I$11>100,$I$9>100000),300,IF(OR(AND($I$11>100,AND($I$9<100000,$I$9>20000)),AND($I$11<100,$I$9>20000)),600,1000))","v":1000}," m",null,null,null,null,null,null,"SÍ"]
[]
[null,null,null,null,"NOTAS"]
[]
[null,null,null,null,"DOCUMENTOS JUSTIFICATIVOS",null,null,null,null,null,null,null,null,"Valoración del criterio:"]
[]
[null,null,null,null,"PE 01.01","Plano de situación del edificio en formato que permita la comprobación de las medidas con herramientas de libre acceso, indicando el círculo del diámetro adecuado para el caso de estudio y la situación de las paradas de transporte público.",null,null,null,null,null,null,null,{"$f":"IF(G13=\"sí\",G5,0)","v":0}]
[]
[null,null,null,null,"PE 01.02",{"$f":"IF(#REF!=#REF!,CONCATENATE(PE!N21,PE!O21,PE!P21),CONCATENATE(PE!N21,PE!O21,PE!Q21))","v":{"$error":"#REF!"}},null,null,null,null,null,null,null,"Información de los tipos de transporte público y líneas de cada uno de ellos con los horarios de servicio en las paradas incluidas en el diámetro aplicable al caso de estudio ","vigentes a fecha de"," visado del proyecto.","puesta en servicio del edificio."]
[]
[null,null,null,null,"VALORACIÓN DEL CRITERIO",null,{"$f":"IF($I13=\"SÍ\",$G5,0)","v":0}]
[]
[]
[]
[null,null,null,null,{"$f":"'Matriz VERDE-GBCe'!V8","v":"PE 02"},{"$f":"VLOOKUP($E27,'Matriz VERDE-GBCe'!$V$7:$AH$55,2,FALSE)","v":"Proximidad a equipamiento y servicios."},{"$f":"VLOOKUP($E27,'Matriz VERDE-GBCe'!$V$7:$AH$55,3,FALSE)","v":1.4142556974300955E-2}]
[]
[null,null,null,null,null,{"$f":"IF('DG '!F27='DG '!L21,\"Comprueba las particularidades de este criterio para urbanizaciones en GEA.\",IF('DG '!F27='DG '!L20,\"Comprueba las particularidades de este criterio para unifamiliares en GEA.\",\"\"))","v":""}]
[]
[null,null,null,null,null,"Número de habitantes del municipio",{"$f":"I9","v":0},null,null,null,null,null,null,{"$f":"IF(AND($G$33>100,$G$31>100000),\"A\",IF(OR(AND($G$33>100,AND($G$31<100000,$G$31>20000)),AND($G$33<100,$G$31>20000)),\"B\",\"C\"))","v":"C"},"A","B","C"]
[]
[null,null,null,null,null,"Densidad del entorno de la parcela en viv./ha",{"$f":"I11","v":0},null,null,null,null,null,null,null,{"$f":"IF(OR($I$35<3,$I$37<3,$I$39<2),0,$G$27)","v":0},{"$f":"IF(OR($I$35<3,$I$37<2,$I$39<1),0,$G$27)","v":0},{"$f":"IF(OR($I$35<2,$I$37<1),0,$G$27)","v":0}]
[]
[null,null,null,null,null,"Número de equipamientos de PRIORIDAD 1",null,null,null,null,null,null,5,null,null,null,null,null,null,null,null,null,null,null,5]
[]
[null,null,null,null,null,"Número de equipamientos de PRIORIDAD 2",null,null,null,null,null,null,3,null,null,null,null,null,null,null,null,null,null,null,3]
[]
[null,null,null,null,null,"Número de equipamientos de PRIORIDAD 3",null,null,null,null,null,null,0,null,null,null,null,null,null,null,null,null,null,null,0]
[]
[null,null,null,null,"NOTAS"]
[]
[null,null,null,null,"DOCUMENTOS JUSTIFICATIVOS"]
[]
[null,null,null,null,"PE 02.01",{"$f":"CONCATENATE(N45,O45,P45)","v":{"$error":"#REF!"}},null,null,null,null,null,null,null,"Plano de situación del edificio en formato que permita la comprobación de las medidas con herramientas de libre acceso, indicando el círculo de diámetro ",{"$f":"IF(#REF!=\"unifamiliar\",1000,800)","v":{"$error":"#REF!"}}," y la situación de Los equipamientos indicando su prioridad y su función."]
[]
[null,null,null,null,"VALORACIÓN DEL CRITERIO",null,{"$f":"IF($N31=\"A\",$O33,IF($N31=\"B\",$P33,IF($N31=\"C\",$Q33,0)))","v":0}]
[]
[]
[]
[null,null,null,null,{"$f":"'Matriz VERDE-GBCe'!V9","v":"PE 03"},{"$f":"VLOOKUP($E51,'Matriz VERDE-GBCe'!$V$7:$AH$55,2,FALSE)","v":"Facilidades para la bicicleta."},{"$f":"VLOOKUP($E51,'Matriz VERDE-GBCe'!$V$7:$AH$55,3,FALSE)","v":1.7105759387964013E-2}]
[]
[null,null,null,null,null,{"$f":"IF('DG '!F29='DG '!L38,\"Comprueba las particularidades de este criterio para rehabilitaciones en GEA.\",IF('DG '!F29='DG '!L39,\"Comprueba las particularidades de este criterio para edificios existentes en GEA.\",IF('DG '!F29='DG '!L40,\"Comprueba las particularidades de este criterio para actuaciones mixtas en GEA.\",\"\")))","v":""}]
[]
[null,null,null,null,null,{"$f":"'DG '!F27","v":0}]
[]
[null,null,null,null,null,"Número de aparcabicis requerido",{"$f":"IF('DG '!F25=\"\",\"\",'DG '!F25)","v":""}]
[]
[null,null,null,null,null,"Número de aparcabicis del proyecto",null,null,null,null,null,null,75,null,null,null,null,null,null,null,null,null,null,null,75]
[]
[null,null,null,null,null,"El proyecto no tiene aparcabicis, pero hay uno público a menos de 300 m que cumple con las exigencias del criterio en cuanto a diseño y número de plazas."]
[]
[]
[null,null,null,null,null,"Se reserva una franja de 0,5 m de ancho entre el espacio ocupados por las bicis y los viales de circulación tanto peatonal, cómo de vehículos",null,null,null,null,null,null,null,null,null,null,null,null,null,null,null,null,null,null,"SÍ"]
[]
[]
[null,null,null,null,null,"Se ofrece un entorno cómodo para los ciclistas con espacio suficiente para realizar las maniobras necesarias",null,null,null,null,null,null,null,null,null,null,null,null,null,null,null,null,null,null,"SÍ"]
[]
[]
[null,null,null,null,null,"La instalación cumple con las normativas de accesibilidad de peatones y personas con movilidad reducida.",null,null,null,null,null,null,null,null,null,null,null,null,null,null,null,null,null,null,"SÍ"]
[]
[]
[null,null,null,null,null,"Los paracabaicis están anclados a una estructura permanente y permiten el anclaje de la bicicleta en dos puntos, al menos una rueda y un bastidor.",null,null,null,null,null,null,null,null,null,null,null,null,null,null,null,null,null,null,"SÍ"]
[]
[]
[null,null,null,null,null,"El espacio de aparcamiento está debidamente iluminado y ofrece sensación de seguridad.",null,null,null,null,null,null,null,null,null,null,null,null,null,null,null,null,null,null,"SÍ"]
[]
[]
[null,null,null,null,null,"El aparcabicis previene robos o actos de vandalismo, en caso de desanclar el elemento de aparcamiento del suelo, las bicicletas no podrán ser separadas de él sin romper el candado.",null,null,null,null,null,null,null,null,null,null,null,null,null,null,null,null,null,null,"SÍ"]
[]
[]
[null,null,null,null,"NOTAS"]
[]
[null,null,null,null,"DOCUMENTOS JUSTIFICATIVOS"]
[]
[null,null,null,null,"PE 03.01","Plano con la situación de los aparcabicis y la justificación de que se cumplen las distancias de seguridad"]
[]
[null,null,null,null,"PE 03.02","Detalle o ficha técnica de los aparcabicis seleccionados"]
[]
[null,null,null,null,"PE 03.03","Copia de las facturas de los aparcabicis (pudiendo ocultar el precio)"]
[]
[null,null,null,null,"PE 03.04","Fotografías de obra construida de los aparcabicis y su relación con el entorno"]
[]
[null,null,null,null,"PE 03.05","Memoria de cálculos justificativos del número de aparcabicis en función de los ocupantes del edificio"]
[]
[null,null,null,null,"VALORACIÓN DEL CRITERIO",null,{"$f":"IF(AND(OR('DG '!F29='DG '!L38,'DG '!F29='DG '!L39,'DG '!F29='DG '!L40),PE!I61=\"sí\"),PE!G51/2,IF(OR($I59<$G57,COUNTIF($I64:$I79,\"Sí\")<6),0,$G51))","v":0}]
[]
[]
[]
[null,null,null,null,{"$f":"'Matriz VERDE-GBCe'!V10","v":"PE 04"},{"$f":"VLOOKUP($E100,'Matriz VERDE-GBCe'!$V$7:$AH$55,2,FALSE)","v":"Capacidad de carga de vehículos eléctricos."},{"$f":"VLOOKUP($E100,'Matriz VERDE-GBCe'!$V$7:$AH$55,3,FALSE)","v":1.6809439146597709E-2}]
[]
[null,null,null,null,null,{"$f":"IF(OR('DG '!F27='DG '!L20,'DG '!F27='DG '!L21,'DG '!F29='DG '!L39),\"Comprueba las particularidades de este criterio para la tipología y la actuación a evaluar en GEA\",\"\")","v":""}]
[]
[null,null,null,null,null,{"$f":"IF('DG '!F27='DG '!L20,\"¿Se cuenta en la parcela con, al menos, un punto de carga para vehículos eléctricos?\",IF('DG '!F27='DG '!L21,\"¿Se cuenta con un punto de carga para vehículos eléctricos por cada vivienda?\",\"¿El edificio cuenta con aparcamiento privado?\"))","v":"¿El edificio cuenta con aparcamiento privado?"},null,null,null,null,null,null,null,{"$f":"IF(OR('DG '!F27= 'DG '!L20,'DG '!F27= 'DG '!L21),1,0)","v":0}]
[]
[null,null,null,null,null,{"$f":"IF(OR('DG '!F27= 'DG '!L20,'DG '!F27= 'DG '!L21,'DG '!F29='DG '!L39),\"\",\"¿Todas las plazas de aparcamiento sin carga cuentan con una preinstalación de carga para vehículos eléctricos?\")","v":"¿Todas las plazas de aparcamiento sin carga cuentan con una preinstalación de carga para vehículos eléctricos?"},null,null,null,null,null,null,{"$f":"IF(OR(I104=\"No\",I104=\"\"),0,I110/I108)","v":0},{"$f":"IF(('DG '!F29= 'DG '!L39),1,0)","v":0},"Edificio existente"]
[]
[null,null,null,null,null,{"$f":"IF(OR('DG '!F27= 'DG '!L20,'DG '!F27= 'DG '!L21),\"\",\"Número de plazas de aparcamiento.\")","v":"Número de plazas de aparcamiento."},null,null,null,null,null,null,null,{"$f":"IF(OR(I104=\"No\",I104=\"\"),0,G100)","v":0},"unifamiliar y urbanización"]
[]
[null,null,null,null,null,{"$f":"IF(OR('DG '!F27='DG '!L20,'DG '!F27='DG '!L21),\"\",\"Número de plazas con carga para vehículos eléctricos.\")","v":"Número de plazas con carga para vehículos eléctricos."}]
[]
[null,null,null,null,null,"Porcentaje de plazas con carga para vehículos eléctricos",{"$f":"IF(N106=0,M112,M106)","v":0},null,null,null,null,null,{"$f":"IF(OR(I104=\"No\",I106=\"No\",I104=\"\",I106=\"\"),0,(I110/I108))","v":0},{"$f":"IFERROR(IF(G112<=0.2,0,IF(G112>0.5,G$100,((G112-0.2)/0.3)*G$100)),0)","v":0}]
[]
[null,null,null,null,"NOTAS"]
[]
[null,null,null,null,"DOCUMENTOS JUSTIFICATIVOS",null,null,null,null,null,null,null,null,{"$f":"IF(OR(I104=\"No\",I106=\"No\",I104=\"\",I106=\"\"),0,N112)","v":0}]
[]
[null,null,null,null,"PE 04.01","Extracto de la memoria del proyecto y planos de aparcamiento donde se indique el número de plazas de aparcamiento y cuántas de ellas tienen carga para vehículos eléctricos o preinstalación."]
[]
[null,null,null,null,"PE 04.02","Extracto de la memoria de instalaciones y planos de instalación eléctrica del proyecto en el que se justifique el cumplimiento de la (ITC) BT-52 del REBT."]
[]
[null,null,null,null,"PE 04.03","Justificación de que el edificio dispone de los requisitos de potencia necesarios para cubrir el consumo de los puntos de carga de vehículos a través del contrato con la compañía de suministro eléctrico. (nuevo pasar al GEA)"]
[]
[null,null,null,null,"VALORACIÓN DEL CRITERIO",null,{"$f":"IF(N104=1,N108,N112)","v":0}]
[]
[]
[]
[null,null,null,null,{"$f":"'Matriz VERDE-GBCe'!V11","v":"PE 05"},{"$f":"VLOOKUP($E128,'Matriz VERDE-GBCe'!$V$7:$AH$55,2,FALSE)","v":"Clasificación de RSU."},{"$f":"VLOOKUP($E128,'Matriz VERDE-GBCe'!$V$7:$AH$55,3,FALSE)","v":1.1852809654652225E-2}]
[]
[null,null,null,null,"Espacio para conenedores separadores de fracciones:"]
[]
[null,null,null,null,null,{"$f":"IF(OR('DG '!F29='DG '!L38,'DG '!F29='DG '!L39,'DG '!F29='DG '!L40,'DG '!F27='DG '!L20),\"Comprueba las particularidades de este criterio para la actuación a evaluar en GEA\",\"\")","v":""}]
[]
[null,null,null,null,null,"Superficie para almacén de contenedores exigida en el CTE",null,null,null,null,null,null,23,{"$f":"IF('DG '!F29=\"rehabilitación\",\"RH\",IF('DG '!F29=\"NUEVA EDIFICACIÓN\",\"NE\",\"\"))","v":""},{"$f":"IF('DG '!F27=\"unifamiliar\",\"Uni\", \"Res\")","v":"Res"},null,null,"NE",null,null,null,null,null,null,23]
[]
[null,null,null,null,null,"Superficie del almacén de contenedores del edificio",null,null,null,null,null,null,null,{"$f":"IF(AND(OR('DG '!F29='DG '!L38,'DG '!F29='DG '!L39,'DG '!F29='DG '!L40),I142=\"Sí\"),1,IF(AND(OR('DG '!F29='DG '!L38,'DG '!F29='DG '!L39,'DG '!F29='DG '!L40),I138=\"Sí\",I136>=('DG '!F23/20)*10),1,IF(AND(I136>=(I134+I134*0.15),I140=\"sí\"),1,0)))","v":0},{"$f":"IF(OR('DG '!F27=\"Unifamiliar\",N$136=0),0,0.5*G128)","v":0},null,null,null,null,null,null,null,null,null,30]
[]
[null,null,null,null,null,{"$f":"IF(OR('DG '!F29='DG '!L38,'DG '!F29='DG '!L39,'DG '!F29='DG '!L40),\"¿Se demuestra la imposibilidad de cumplir con los requisitos de superficie de la medida?\",\"\")","v":""}]
[]
[null,null,null,null,null,"El almacén de contenedores dispone de la señalética adecuada",null,null,null,null,null,null,null,null,null,null,null,null,null,null,null,null,null,null,"SÍ"]
[]
[null,null,null,null,null,{"$f":"IF(OR('DG '!F29='DG '!L38,'DG '!F29='DG '!L39,'DG '!F29='DG '!L40),\"¿Existe un punto de recogida selectiva a menos de 50 metros de la entrada principal?\",\"\")","v":""},null,null,"NO"]
[]
[null,null,null,null,"Sistema de revalorización de residuos en la parcela:"]
[]
[null,null,null,null,null,"Existe un sistema de revalorización de los residuos generados en el edificio",null,null,null,null,null,null,null,{"$f":"IF(I146=\"sí\",1,0)","v":0},{"$f":"IF(N$146=0,0,IF('DG '!F27=\"Unifamiliar\",PE!G128,0.25*G128))","v":0},null,null,null,null,null,null,null,null,null,"NO"]
[]
[null,null,null,null,"Otras medidas de mejora"]
[]
[null,null,null,null,null,"Se han diseñado medidas de mejora en el edificio que favorezcan la reducción, clasificación o recogida de resíduos.",null,null,null,null,null,null,null,{"$f":"IF(OR('DG '!F27=\"Unifamiliar\",I150=\"No\",I150=\"\"),0,1)","v":0},{"$f":"IF(N$150=0,0,(0.25*G128))","v":0},null,null,null,null,null,null,null,null,null,"NO"]
[]
[]
[null,null,null,null,"NOTAS"]
[]
[null,null,null,null,"DOCUMENTOS JUSTIFICATIVOS"]
[]
[null,null,null,null,"PE 05.01","Plano en formato que permita la comprobación de las medidas con herramientas de libre acceso, en el que se sitúe, para cada medida cumplida"]
[]
[null,null,null,null,"PE 05.02","Descripción y fichas técnicas del sistema de revalorización de residuos"]
[]
[null,null,null,null,"PE 05.03","Memoria justificativa de la medida adoptada para incentivar la reducción, separación o reciclado de RSU"]
[]
[null,null,null,null,"PE 05.04","Copia de las facturas de los sistemas implantados (pudiendo ocultar el precio)."]
[]
[null,null,null,null,"PE 05.05","Fotografías de obra construida que justifiquen el cumplimiento de las medidas. Deberán aparecer los espacios para contenedores o almacenaje con sus correspondientes carteles y, si hubiera, los sistemas de revalorización instalados, así como la señalética adecuada como espacio para contenedores de residuos."]
[]
[null,null,null,null,"PE 05.06","Plano en el que se sitúe el local destinado al almacenamiento de muebles y enseres hasta su traslado. (Solo para usos distintos del residencial privado)"]
[]
[null,null,null,null,"VALORACIÓN DEL CRITERIO",null,{"$f":"SUM($O136+$O146+$O150)","v":0}]
[]
[]
[]
[null,null,null,null,{"$f":"'Matriz VERDE-GBCe'!V12","v":"PE 06"},{"$f":"VLOOKUP($E173,'Matriz VERDE-GBCe'!$V$7:$AH$55,2,FALSE)","v":"Gestión y Restauración del hábitat."},{"$f":"VLOOKUP($E173,'Matriz VERDE-GBCe'!$V$7:$AH$55,3,FALSE)","v":2.3948063143149616E-2}]
[]
[null,null,null,null,null,"¿Alguna de las especies vegetales plantadas en la parcela o el edificio está recogida en el catálogo de especies invasoras del Ministerio para la Transición Ecológica?"]
[]
[]
[null,null,null,null,null,"Superficie ajardinada de la parcela y el edificio",null,null,null,null,null,null,null,null,null,null,null,null,null,null,null,null,null,null,1000]
[]
[null,null,null,null,null,"Superficie cubierta por plantas autóctonas",null,null,null,null,null,null,null,null,null,null,null,null,null,null,null,null,null,null,800]
[]
[null,null,null,null,null,"Porcentaje de la superficie ajardinada ocupada por plantas autóctonas",{"$f":"IF(OR(I178=0,I178=\"\"),0,I180/I178)","v":0}]
[]
[null,null,null,null,"NOTAS"]
[]
[null,null,null,null,"DOCUMENTOS JUSTIFICATIVOS"]
[]
[null,null,null,null,"PE 06.01","Plano de jardinería en el que se incluya el cuadro de cálculo indicando las especies utilizadas, la superficie ocupada por las mismas y si son autóctonas o adaptadas o no."]
[]
[null,null,null,null,"PE 06.02","Copia de las facturas (pudiendo ocultar el precio) donde se indique la o las especies plantadas y la superficie ocupadas por las mismas o las unidades entregadas"]
[]
[null,null,null,null,"PE 06.03","Fotografías de la superficie ajardinada donde se puedan apreciar las especies plantadas y la superficie ocupada por las mismas, serán necesarias fotografías generales y de detalle"]
[]
[null,null,null,null,"PE 06.04","Informe de Evaluador en el que se garantice que ninguna especie de las plantadas está recogida en el listado de especies invasoras del Ministerio de Transición Ecológica"]
[]
[null,null,null,null,"VALORACIÓN DEL CRITERIO",null,{"$f":"IF(OR(I175=\"Sí\",I175=\"\"),0,IF(G182<0.3,0,IF(G182>0.8,G173,G173*((G182-0.3)*100/50))))","v":0}]
[]
[]
[]
[null,null,null,null,{"$f":"'Matriz VERDE-GBCe'!V13","v":"PE 07"},{"$f":"VLOOKUP($E200,'Matriz VERDE-GBCe'!$V$7:$AH$55,2,FALSE)","v":"Uso de plantas para crear sombras."},{"$f":"VLOOKUP($E200,'Matriz VERDE-GBCe'!$V$7:$AH$55,3,FALSE)","v":1.9018371854964713E-2}]
[]
[null,null,null,null,null,"¿Existen elementos vegetales que sombreen las fachadas este y/u oeste?"]
[]
[null,null,null,null,null,"Porcentaje de fachada OESTE sombreada",null,null,null,null,null,null,null,{"$f":"IF(OR(I202=\"\",I202=\"no\"),0,IF(I204<0.2,0,IF(I204>=0.6,0.7*G200,G200*0.7*((I204-0.2)*100/40))))","v":0}]
[]
[null,null,null,null,null,"Porcentaje de fachada ESTE sombreada",null,null,null,null,null,null,null,{"$f":"IF(OR(I202=\"\",I202=\"no\"),0,IF(I206<0.2,0,IF(I206>0.6,0.3*G200,G200*0.3*((I206-0.2)*100/40))))","v":0}]
[]
[null,null,null,null,"NOTAS"]
[]
[null,null,null,null,"DOCUMENTOS JUSTIFICATIVOS"]
[]
[null,null,null,null,"PE 07.01","Plano de planta de la parcela donde se sitúen los árboles con potencial de sombreamiento para las fachadas este y oeste indicando las especies de que se trata."]
[]
[null,null,null,null,"PE 07.02","Plano de fachada este y oeste en el que se indique la superficie sombreada por los árboles."]
[]
[null,null,null,null,"PE 07.03","Memoria de sombreamiento donde se justifique el cumplimiento de los criterios establecidos.."]
[]
[null,null,null,null,"PE 07.04","Copia de las facturas (pudiendo ocultar el precio) donde se indique la o las especies plantadas y la superficie ocupadas por las mismas o las unidades entregadas."]
[]
[null,null,null,null,"PE 07.05","Fotografías de la superficie ajardinada donde se puedan apreciar las especies plantadas y la superficie ocupada por las mismas, serán necesarias fotografías generales y de detalle."]
[]
[null,null,null,null,"VALORACIÓN DEL CRITERIO",null,{"$f":"N206+N204","v":0}]
[]
[]
[]
[null,null,null,null,{"$f":"'Matriz VERDE-GBCe'!V14","v":"PE 08"},{"$f":"VLOOKUP($E226,'Matriz VERDE-GBCe'!$V$7:$AH$55,2,FALSE)","v":"Efecto isla de calor."},{"$f":"VLOOKUP($E226,'Matriz VERDE-GBCe'!$V$7:$AH$55,3,FALSE)","v":2.1442810193416303E-2}]
[]
[null,null,null,null,"Porcentaje de superficie libre de parcela y cubierta que evita la isla de calor"]
[]
[null,null,null,null,null,"Superficie libre de parcela"]
[]
[null,null,null,null,null,"Superficie de cubierta"]
[]
[null,null,null,null,null,"Superficie con pavimento permeable"]
[]
[null,null,null,null,null,"Superficies sombreadas por elementos con alta reflectividad, vegetales o paneles solares tanto fotovoltaicos como térmicos)"]
[]
[]
[null,null,null,null,null,"Superficies con un pavimento con alta reflectividad"]
[]
[null,null,null,null,null,"¿Se aportan documentos que justifiquen el IRS?"]
[]
[null,null,null,null,null,"Porcentaje de superficie libre de parcela más cubierta que evitan la isla de calor",{"$f":"IF(I230+I232=0,0,(I234+I236+I239)/(I230+I232))","v":0},null,null,null,null,null,null,{"$f":"IF(G243=\"\",\"\",IF(G243<0.4,0,IF(G243>0.7,0.7*G226,G226*0.7*((G243-0.4)*100/30))))","v":0},{"$f":"IF(OR(I241=\"No\",I241=\"\"),0.8*N243,N243)","v":0}]
[]
[null,null,null,null,"Porcentaje de superficie de fachadas este, sur y oeste que evita la isla de calor"]
[]
[null,null,null,null,null,"Superficies de fachada E-S-O"]
[]
[null,null,null,null,null,"Superficies de fachada E-S-O de colores claros, sombreadas o cubiertas por vegetación"]
[]
[null,null,null,null,null,"¿Se aportan documentos que justifiquen el IRS?"]
[]
[null,null,null,null,null,"Porcentaje de superficie de fachadas E-S-O que evitan la isla de calor",{"$f":"IF(OR(I247=0,I247=\"\"),0,I249/I247)","v":0},null,null,null,null,null,null,{"$f":"IF(G253=\"\",0,IF(G253<0.4,0,IF(G253>0.7,0.3*G226,G226*0.3*((G253-0.4)*100/30))))","v":0},{"$f":"IF(OR(I251=\"No\",I251=\"\"),0.8*N253,N253)","v":0}]
[]
[null,null,null,null,"NOTAS"]
[]
[null,null,null,null,"DOCUMENTOS JUSTIFICATIVOS"]
[]
[null,null,null,null,"PE 08.01","Plano de urbanización indicando el límite de las superficies en parcela y cubierta que estén ajardinadas, sombreadas, con un acabado permeable o con un IRS superior a 70."]
[]
[null,null,null,null,"PE 08.02","Memoria del cálculo del porcentaje de la superficie que evita la isla de calor en zona libre de parcela y cubierta."]
[]
[null,null,null,null,"PE 08.03","Detalle constructivo de las zonas ajardinadas donde se detalle el espesor de tierra previsto."]
[]
[null,null,null,null,"PE 08.04","Detalle constructivo de las zonas con pavimento permeable donde se detalle el espesor y composición de la base del pavimento."]
[]
[null,null,null,null,"PE 08.05","Memoria del cálculo del porcentaje de la superficie de fachadas este, sur y oeste que evita la isla de calor."]
[]
[null,null,null,null,"PE 08.06","Estudio de soleamiento tanto de la superficie libre de parcela y cubiertas, como de las fachadas este, sur y oeste."]
[]
[null,null,null,null,"PE 08.07","Justificación del IRS de los materiales de acabado"]
[]
[null,null,null,null,"VALORACIÓN DEL CRITERIO",null,{"$f":"IFERROR($O243+$O253,0)","v":0}]
[]
[]
[null,null,null,"<"]
[null,null,null,null,{"$f":"'Matriz VERDE-GBCe'!V15","v":"PE 09"},{"$f":"VLOOKUP($E277,'Matriz VERDE-GBCe'!$V$7:$AH$55,2,FALSE)","v":"Contaminación lumínica."},{"$f":"VLOOKUP($E277,'Matriz VERDE-GBCe'!$V$7:$AH$55,3,FALSE)","v":2.0661602284359679E-2},null,null,null,null,null,null,"E1","≤ 1%",0.01,0.01]
[null,null,null,null,null,null,null,null,null,null,null,null,null,"E2","≤ 5%",0.02,0.05]
[null,null,null,null,null,"Zona de protección lumínica de la parcela",null,null,null,null,null,null,"E2","E3","≤ 15%",0.03,0.15]
[null,null,null,null,null,null,null,null,null,null,null,null,null,"E4","≤ 25%",0.05,0.25]
[null,null,null,null,null,"FHS límite para el área de protección lumínica",{"$f":"IF(I279=\"\",\"\",VLOOKUP(I279,N277:O280,2,FALSE))","v":""}]
[]
[null,null,null,null,null,"FHS más alto de las luminarias instaladas en la parcela",null,null,null,null,null,null,3,null,null,null,{"$f":"VLOOKUP(I279,N277:Q280,4,FALSE)","v":{"$error":"#N/A"}}]
[null,null,null,null,null,null,null,null,null,null,null,null,null,null,null,0.05]
[null,null,null,null,null,"Porcentaje de mejora respecto a la exigencia normativa",{"$f":"IF(I283=\"\",0,1-(I283/Q283))","v":0}]
[]
[null,null,null,null,"NOTAS"]
[]
[null,null,null,null,"DOCUMENTOS JUSTIFICATIVOS"]
[]
[null,null,null,null,"PE 09.01","Plano de parcela con localización de la luminarias exteriores e indicación del tipo de luminaria."]
[]
[null,null,null,null,"PE 09.02","Curvas fotométricas de las luminarias empleadas o documento técnico donde aparezca el FHS."]
[]
[null,null,null,null,"PE 09.03","Identificación y justificación de la zona de protección lumínica."]
[]
[null,null,null,null,"VALORACIÓN DEL CRITERIO",null,{"$f":"IF(I279=\"\",0,IF(G285<0.2,0,IF(G285>0.6,G277,G277*((G285-0.2)*100/40))))","v":0}]
[]
[]
[]
[null,null,null,null,null,null,"VALORACIÓN ÁREA"]
[]
[null,null,null,null,null,null,"SUBTOTAL",null,{"$f":"IFERROR(G23+G47+G96+G124+G169+G196+G222+G273+G297,\"\")","v":0}]
[]
[null,null,null,null,null,null,"SOBRE",null,{"$f":"VLOOKUP(C$2,'Matriz VERDE-GBCe'!$U$4:$AH$55,4,FALSE)","v":0.15998599213404449}]
[]
[]
[]
[]
[]
[null,null,null,null,null,null,"SÍ",null,"x"]
[null,null,null,null,null,null,"NO"]

{"sheet":"EA","index":14,"n_rows":173,"n_cols":24,"rows_kept":173,"cut":false,"hidden":false,"merged":[[142,5,142,6],[144,5,144,6],[164,4,164,5],[168,6,168,9],[150,4,150,5],[158,6,158,7],[159,6,159,7],[160,4,160,5],[160,6,160,7],[162,5,162,6],[148,5,148,6],[146,5,146,6],[122,5,122,6],[124,5,124,6],[138,6,138,7],[140,4,140,5],[140,6,140,7],[1,15,1,19],[12,4,12,5],[86,15,86,16],[48,6,48,7],[50,4,50,5],[50,6,50,7],[52,5,52,6],[54,5,54,6],[56,5,56,6],[58,5,58,6],[60,5,60,6],[64,4,64,5],[72,4,72,5],[86,4,86,5],[62,5,62,6],[104,5,104,6],[106,4,106,5],[112,4,112,5],[116,4,116,5],[1,2,1,3],[1,4,1,5],[1,6,1,7],[102,5,102,6],[94,6,94,7],[96,4,96,5],[96,6,96,7],[98,5,98,6],[100,5,100,6],[22,4,22,5],[32,4,32,5],[44,4,44,6]]}
[]
[null,null,{"$f":"'Matriz VERDE-GBCe'!U16","v":"EA"},null,{"$f":"'Matriz VERDE-GBCe'!V16","v":"Energía y atmósfera"}]
[]
[]
[null,null,null,null,{"$f":"'Matriz VERDE-GBCe'!V18","v":"EA 01"},{"$f":"VLOOKUP($E5,'Matriz VERDE-GBCe'!$V$7:$AH$55,2,FALSE)","v":"Consumo de energía primaria"},{"$f":"VLOOKUP($E5,'Matriz VERDE-GBCe'!$V$7:$AH$55,3,FALSE)","v":7.9144442648564212E-2},null,null,null,null,null,null,null,{"$f":"IF('DG '!F29=\"\",\"\",IF(OR('DG '!F29=\"rehabilitación\",'DG '!F29=\"Edificio existente\"),\"RH\",\"NE\"))","v":""},{"$f":"IF(OR('DG '!F27=\"unifamiliar\",'DG '!F27=\"urbanizaciones\"),\"Uni\",IF('DG '!F27=\"\",\"\",\"Res\"))","v":""},null,null,null,null,"SE ADJUNTA",null,"SÍ","NO"]
[null,null,null,null,null,null,null,null,null,null,null,null,null,null,null,null,null,null,null,null,"NO SE ADJUNTA",null,"NO"]
[null,null,null,null,null,{"$f":"IF('DG '!F29='DG '!L40,\"Ponte en contacto con GBCe para fijar los datos a introducir.\",\"\")","v":""},null,null,null,null,null,null,null,null,"Opción para Mixtos en E7",null,null,null,null,null,"NO APLICA"]
[]
[null,null,null,null,null,"¿Se ha utilizado un método simplificado para la calificación energética del edificio?"]
[]
[null,null,null,null,null,"¿La demanda de calefacción y refrigeración cumple con los límites que fijaba el DB He 2017?"]
[]
[null,null,null,null,"NUEVA EDIFICACIÓN, REHABILITACIÓN Y EDIFICIO EXISTENTE"]
[]
[null,null,null,null,null,"Demanda de calefacción del edificio en kWh/m2"]
[]
[null,null,null,null,null,"Demanda de refrigeración del edificio en kWh/m2"]
[]
[null,null,null,null,null,"Emisiones de CO2 del edificio de referencia en kgCO2 eq./m2."]
[]
[null,null,null,null,null,"Emisiones de CO2 del proyecto en kgCO2 eq./m2.",null,null,null,null,null,null,null,null,"Alfa","A","B","C","D","E",null,null,"Energía primaría no renovable"]
[]
[null,null,null,null,"Consumo de energía primaria no renovable",null,null,null,null,null,null,null,null,null,20,25,28,32,38,43,"Obra nueva"]
[]
[null,null,null,null,null,"Consumo límite de energía primaría no renovable para el edificio en kWh/m2",{"$f":"Q29","v":""},null,null,null,null,null,null,null,"AA","A","B","C","D","E"]
[]
[null,null,null,null,null,"Consumo de energía primaría no renovable para el edificio en kWh/m2",null,null,null,null,null,null,null,null,40,50,55,65,70,80,"Reformas- mas del 25% de la superficie "]
[]
[null,null,null,null,null,"Porcentaje de reducción del consumo de enería primaria no renovable del proyecto",{"$f":"IF(OR(I27=\"\",I27>G25),0,IF(I27=0,1,1-(I27/G25)))","v":0},null,null,null,null,null,null,null,null,{"$f":"'zona clima'!C10","v":""},{"$f":"IF('DG '!F23=\"\",\"\",IF(P29=\"\",\"\",IF(O5=\"NE\",(HLOOKUP(P29,O21:T23,3)),(HLOOKUP(P29,O25:T27,3)))))","v":""},{"$f":"IF(G29=\"\",\"\",G29*0.5*G5)","v":0},null,{"$f":"IF(G29=\"\",\"\",IF(G29>=0.5,0.5*G5,(G29/0.5)*0.5*G5))","v":0},"Rehabilitación"]
[]
[null,null,null,null,null,"Valoración del indicador",{"$f":"IF(O5=\"\",0,IF(O5=\"NE\",R29,T29))","v":0}]
[]
[null,null,null,null,"Consumo de energía primaria Total"]
[]
[null,null,null,null,null,"Consumo límite de energía primaría total para el edificio en kWh/m2",{"$f":"Q43","v":""},null,null,null,null,null,null,null,"Alfa","A","B","C","D","E",null,null,"Energía primaria total"]
[]
[null,null,null,null,null,"Consumo de energía primaría total para el edificio en kWh/m2",null,null,null,null,null,null,null,null,40,50,56,64,76,86,"Obra nueva"]
[]
[null,null,null,null,null,"Porcentaje de reducción del consumo de enería primaria total del proyecto",{"$f":"IF(OR(I37=\"\",I37=0,I37>G35),0,1-(I37/G35))","v":0},null,null,null,null,null,null,null,"AA","A","B","C","D","E"]
[]
[null,null,null,null,null,"Valoración del indicador",{"$f":"R43","v":0},null,null,null,null,null,null,null,55,75,80,90,105,115,"Reformas- mas del 25% de la superficie "]
[]
[null,null,null,null,null,null,null,null,null,null,null,null,null,null,null,{"$f":"'zona clima'!C10","v":""},{"$f":"IF('DG '!F23=\"\",\"\",IF(P43=\"\",\"\",IF(O5=\"NE\",(HLOOKUP(P43,O35:T37,3)),(HLOOKUP(P43,O39:T41,3)))))","v":""},{"$f":"IFERROR(IF(G39=0,0,IF(G39>=0.3,0.5*G5,(G39/0.3*0.5*G5))),0)","v":0}]
[]
[null,null,null,null,"Consumo de energía primaria total para calefacción y/o refrigeración es igual o inferior 15 kWh/m2"]
[]
[null,null,null,null,null,"¿Se ha realizado el ensayo blower door y cumple con las especificaciones del criterio?",null,null,null,null,null,null,null,null,null,null,null,{"$f":"IF(I47=\"\",1,IF(AND(I37<=30,I47=\"No\"),0.9,1))","v":1}]
[]
[null,null,null,null,"NOTAS"]
[]
[null,null,null,null,"DOCUMENTOS JUSTIFICATIVOS"]
[]
[null,null,null,null,"EA 01.01","Archivos completos del programa de simulación empleado para realizar la justificación del criterio."]
[]
[null,null,null,null,"EA 01.02 ","Certificado de eficiencia energética junto con el justificante de registro en la comunidad autónoma correspondiente a la localidad en la que se encuentra el edificio"]
[]
[null,null,null,null,"EA 01.03","Informe de verificación de requisitos del CTE DB HE generado por la herramienta de calificación energética empleada o resultado de una simulación horaria realizada con un programa alternativo "]
[]
[null,null,null,null,"EA 01.03 SOLO RH-NO RESIDENCIALES","Archivos completos del programa de simulación empleado para el edificio de referencia según el documento reconocido Condiciones técnicas de los procedimientos para la evaluación de la eficiencia energética de los edificios de febrero del 2020"]
[]
[null,null,null,null,"EA 01.04","Esquemas de principio de las instalaciones del edificio, con mención expresa de todos y cada uno de los equipos, anexando las correspondientes fichas técnicas de los fabricantes"]
[]
[null,null,null,null,"EA 01.05","Ensayo blower door conforme a la norma UNE EN ISO 9972:2015 2019 del edificio en fase de uso que justifique que las renovaciones por hora no son superiores a 5 %."]
[]
[null,null,null,null,"VALORACIÓN DEL CRITERIO",null,{"$f":"IF(OR(I21=\"\",I11=\"No\",I11=\"\"),0,IF(OR(I9=\"No\",I9=\"\"),(G31+G41)*R47,(G31+G41)*R47*0.8))","v":0},null,null,null,null,null,null,"Con Mixtos revisar fórmula de valoración"]
[]
[]
[]
[null,null,null,null,{"$f":"'Matriz VERDE-GBCe'!V19","v":"EA 02"},{"$f":"VLOOKUP($E69,'Matriz VERDE-GBCe'!$V$7:$AH$55,2,FALSE)","v":"Generación distribuida"},{"$f":"VLOOKUP($E69,'Matriz VERDE-GBCe'!$V$7:$AH$55,3,FALSE)","v":5.0913205107483449E-2},null,null,null,null,null,null,"Mixtos en E59",null,null,"SÍ","NO"]
[]
[null,null,null,null,null,{"$f":"IF('DG '!F29='DG '!L40,\"Ponte en contacto con GBCe para fijar los datos a introducir.\",\"\")","v":""}]
[]
[null,null,null,null,"NUEVA EDIFICACIÓN Y REHABILITACIÓN",null,null,null,null,null,null,null,null,null,{"$f":"IF(G83=0,0,IF(G85=Q69,G69,IF(G83>=0.8,0.8*G69,(G83/0.8)*0.8*G69)))","v":0}]
[]
[null,null,null,null,null,"Consumo de Energía primaria total del edificio en kWh/m2 *",null,null,null,null,null,null,null,null,"Nueva edificación y rehabilitación"]
[]
[null,null,null,null,null,"Energía renovable mínima fijado por el DB HE 04 en kWh/m2 para el proyecto"]
[]
[null,null,null,null,null,"Energía primaria renovable generada en la parcela en kWh/m2"]
[]
[null,null,null,null,null,"Energía primaria renovable generada en la parcela en kWh/m2 a considerar",{"$f":"IF(I77>I79,0,I79-I77)","v":0}]
[]
[null,null,null,null,null,"Porcentaje de energía renovable producida en la parcela",{"$f":"IF(OR(I75=\"\",I77>I79),0,IF(I79>I75,1,(G81/I75)))","v":0}]
[]
[null,null,null,null,null,"¿es un edificio que genera más energía renovable que su consumo de energía primaría total?*",{"$f":"IF(OR(G81<I75:I75=0,I75=\"\"),R69,Q69)","v":"NO"}]
[]
[null,null,null,null,"EDIFICIOS EXISTENTES",null,null,null,null,null,null,null,null,null,{"$f":"IF(OR(G93=\"\",G93<=0.6),0,((G93-0.6)/0.4)*G69)","v":0},"Edificio existente"]
[]
[null,null,null,null,null,"Potencial de renovables en el edificio o parcela en kWh/m2 "]
[]
[null,null,null,null,null,"Energía primaria renovable generada en la parcela en kWh/m2"]
[]
[null,null,null,null,null,"Porcentaje de energía renovable producida en la parcela",{"$f":"IFERROR((I91/I89),0)","v":0}]
[]
[null,null,null,null,"NOTAS"]
[]
[null,null,null,null,"DOCUMENTOS JUSTIFICATIVOS"]
[]
[null,null,null,null,"EA 02.01","Archivos completos del programa de simulación empleado para realizar la justificación del criterio."]
[]
[null,null,null,null,"EA 02.02","Proyecto de las instalaciones de generación de energía renovable del edificio con mención expresa de todos y cada uno de los equipos, anexando las correspondientes fichas técnicas de los fabricantes, junto con los cálculos de la estimación de la generación de energías renovables."]
[]
[null,null,null,null,"EA 02.03","Justificación del cumplimiento del DB HE 0, DB HE 1, DB HE 4 y DB HE 5"]
[]
[null,null,null,null,"EA 02.04","Justificación del uso de la energía renovable, en caso de ser edificio positivo en energía."]
[]
[null,null,null,null,"VALORACIÓN DEL CRITERIO",null,{"$f":"IFERROR(IF(OR('DG '!F29='DG '!L37,'DG '!F29='DG '!L38),$O73,IF(('DG '!F29='DG '!L39),$O87,IF('DG '!F29='DG '!L40,((O73*'DG '!F31)+(O87*('DG '!F35+'DG '!F37)))/('DG '!F31+'DG '!F35+'DG '!F37),0))),0)","v":0},null,null,null,null,null,null,"Con Mixtos revisar fórmula de valoración"]
[]
[]
[]
[null,null,null,null,{"$f":"'Matriz VERDE-GBCe'!V20","v":"EA 03"},{"$f":"VLOOKUP($E111,'Matriz VERDE-GBCe'!$V$7:$AH$55,2,FALSE)","v":"Consumo en zonas comunes"},{"$f":"VLOOKUP($E111,'Matriz VERDE-GBCe'!$V$7:$AH$55,3,FALSE)","v":2.6668821722967515E-2}]
[]
[null,null,null,null,"Ascensores y montacargas:"]
[]
[null,null,null,null,null,"El ascensor cuenta con una clasificación, al menos B, según la norma UNE EN ISO 25745-2",null,null,null,null,null,null,null,{"$f":"IF($I115=\"sí\",$G111*0.5,0)","v":0}]
[]
[null,null,null,null,"Sistemas de iluminación eneficientes:"]
[]
[null,null,null,null,null,"VEEI de los sistemas de iluminación en zonas comunes"]
[]
[null,null,null,null,null,"Superficie útil total de las zonas comunes"]
[null,null,null,null,null,null,null,null,null,null,null,null,null,"SI"]
[null,null,null,null,null,"¿Existen detectores de presencia en combinación con sondas de iluminación en zonas comunes?"]
[]
[null,null,null,null,null,"Superficie cubierta por los detectores de presencia en combinación con sondas de iluminación",null,null,null,null,null,null,null,{"$f":"IF(I121=\"\",0,I125/I$121)","v":0},{"$f":"N125*0.2","v":0}]
[]
[null,null,null,null,null,"¿Existen detectores de presencia en zonas comunes?"]
[]
[null,null,null,null,null,"Superficie cubierta por los detectores de presencia ",null,null,null,null,null,null,null,{"$f":"IF(I121=\"\",0,I129/I$121)","v":0},{"$f":"IF(O125=0,N129*0.15,0)","v":0}]
[]
[null,null,null,null,null,"¿Existen sondas de iluminación en zonas comunes?"]
[]
[null,null,null,null,null,"Superficie cubierta por las sondas de iluminación",null,null,null,null,null,null,null,{"$f":"IF(I121=\"\",0,I133/I$121)","v":0},{"$f":"IF(AND(O125=0,O129=0),N133*0.1,0)","v":0}]
[]
[null,null,null,null,null,"¿Existen temporizadores en zonas comunes?"]
[]
[null,null,null,null,null,"Superficie cubierta por los temporizadores",null,null,null,null,null,null,null,{"$f":"IF(I121=\"\",0,I137/I$121)","v":0},{"$f":"IF(AND(O125=0,O129=0),N137*0.05,0)","v":0},{"$f":"SUM(O125:O137)","v":0},{"$f":"P137*G111","v":0}]
[]
[null,null,null,null,"NOTAS"]
[]
[null,null,null,null,"DOCUMENTOS JUSTIFICATIVOS"]
[]
[null,null,null,null,"EA 03.01","Clasificación del ascensor o elemento de elevación y transporte según la norma UNE EN ISO 25745 2."]
[]
[null,null,null,null,"EA 03.03","Cálculo del VEEI en zonas comunes"]
[]
[null,null,null,null,"EA 03.04","Ficha técnica del dispositivo de ahorro de iluminación instalado en las zonas comunes"]
[]
[null,null,null,null,"EA 03.05","Copia de las facturas (pudiendo ocultar el precio) donde se indique el ascensor o elemento de elevación y transporte instalado"]
[]
[null,null,null,null,"VALORACIÓN DEL CRITERIO",null,{"$f":"IF($I115=\"sí\",$G111*0.5,0)+IF(OR($I119>3,I119=\"\"),0,$G111*0.3)+$Q137","v":0}]
[]
[]
[]
[null,null,null,null,{"$f":"'Matriz VERDE-GBCe'!V22","v":"EA 04"},{"$f":"VLOOKUP($E155,'Matriz VERDE-GBCe'!$V$7:$AH$55,2,FALSE)","v":"Elección responsable de refrigerantes"},{"$f":"VLOOKUP($E155,'Matriz VERDE-GBCe'!$V$7:$AH$55,3,FALSE)","v":2.7988793707235605E-2}]
[]
[null,null,null,null,null,"Potencial de calentamiento global superior de los refrigerantes empleados"]
[]
[null,null,null,null,"NOTAS"]
[]
[null,null,null,null,"DOCUMENTOS JUSTIFICATIVOS"]
[]
[null,null,null,null,"PE 04.01","Documentación técnica del refrigerante empleado que justifique su potencial de calentamiento global (GWP)"]
[]
[null,null,null,null,"VALORACIÓN DEL CRITERIO",null,{"$f":"IF(OR($I157=\"\",I157>=700),0,IF($I157<150,G155,((700-I157)/550)*G155))","v":0}]
[]
[]
[]
[null,null,null,null,null,null,"VALORACIÓN ÁREA"]
[]
[null,null,null,null,null,null,"SUBTOTAL",null,{"$f":"G65+G107+G151+G165","v":0}]
[]
[null,null,null,null,null,null,"SOBRE",null,{"$f":"VLOOKUP(C$2,'Matriz VERDE-GBCe'!$U$7:$AH$55,4,FALSE)","v":0.18471526318625081}]

{"sheet":"RN","index":15,"n_rows":433,"n_cols":23,"rows_kept":433,"cut":false,"hidden":false,"merged":[[1,6,1,7],[6,4,6,5],[16,6,16,7],[18,4,18,5],[18,6,18,7],[44,5,44,6],[46,5,46,6],[48,5,48,6],[50,4,50,5],[60,5,61,5],[63,6,63,7],[67,5,67,6],[20,5,20,6],[22,5,22,6],[24,4,24,5],[40,6,40,7],[42,4,42,5],[42,6,42,7],[95,4,95,5],[95,6,95,7],[97,5,97,6],[99,5,99,6],[101,5,101,6],[103,5,103,6],[65,4,65,5],[65,6,65,7],[69,5,69,6],[71,4,71,5],[93,6,93,7],[129,5,129,6],[131,5,131,6],[133,5,133,6],[143,6,143,7],[145,4,145,5],[145,6,145,7],[105,4,105,5],[113,5,114,6],[115,5,116,6],[117,5,118,6],[119,5,119,6],[121,5,122,6],[169,6,169,7],[171,4,171,5],[171,6,171,7],[173,5,173,6],[175,5,175,6],[177,5,177,6],[147,5,147,6],[149,5,149,6],[151,5,151,6],[153,4,153,5],[159,5,160,5],[162,5,163,5],[200,5,200,6],[202,5,202,6],[204,5,204,6],[206,4,206,5],[212,5,212,6],[214,5,215,5],[179,5,179,6],[181,5,181,6],[183,4,183,5],[193,5,194,5],[196,6,196,7],[198,4,198,5],[198,6,198,7],[266,5,266,6],[241,5,241,6],[243,5,243,6],[245,5,245,6],[246,6,246,7],[247,4,247,5],[253,5,253,6],[228,5,229,6],[233,4,233,5],[235,5,235,6],[237,5,237,6],[239,5,239,6],[262,6,262,7],[264,4,264,5],[264,6,264,7],[304,4,304,5],[312,5,313,6],[315,5,316,6],[318,5,319,5],[321,5,322,5],[421,6,421,9],[392,4,392,5],[400,5,400,6],[349,4,349,5],[355,4,355,5],[361,4,362,5],[364,4,364,5],[380,6,380,7],[382,4,382,5],[382,6,382,7],[417,4,417,5],[404,5,404,6],[406,5,407,5],[409,6,409,7],[411,4,411,5],[411,6,411,7],[324,5,324,6],[327,4,327,5],[329,4,329,5],[335,4,335,5],[341,4,341,5],[343,4,343,5],[300,5,300,6],[298,5,298,6],[302,5,302,6],[0,4,0,5],[1,2,1,3],[1,4,1,5],[109,4,109,5],[111,5,111,6],[217,4,217,6],[282,4,282,5],[284,5,284,6],[290,5,290,6],[292,5,292,6],[296,4,296,5],[268,5,268,6],[270,5,270,6],[272,5,272,6],[274,5,274,6],[276,4,276,5],[255,5,255,6],[259,5,260,6]]}
[]
[null,null,{"$f":"'Matriz VERDE-GBCe'!U23","v":"RN"},null,{"$f":"'Matriz VERDE-GBCe'!V23","v":"Recursos naturales"}]
[null,null,null,null,null,null,null,null,null,null,null,null,null,"Coste"]
[]
[null,null,null,null,{"$f":"'Matriz VERDE-GBCe'!V24","v":"RN 01"},{"$f":"VLOOKUP($E5,'Matriz VERDE-GBCe'!$V$7:$AH$55,2,FALSE)","v":"Consumo de agua en aparatos sanitarios"},{"$f":"VLOOKUP($E5,'Matriz VERDE-GBCe'!$V$7:$AH$55,3,FALSE)","v":2.2466461936318089E-2},null,null,null,null,null,null,null,null,null,null,null,null,"SE ADJUNTA",null,"SÍ","NO"]
[null,null,null,null,null,null,null,null,null,null,null,null,null,null,null,null,null,null,null,"NO SE ADJUNTA",null,"NO"]
[null,null,null,null,null,null,null,null,null,null,null,null,null,null,null,null,null,null,null,"NO APLICA"]
[null,null,null,null,null,null,null,null,null,null,null,null,null,null,null,null,null,null,null,null,null,"NO"]
[null,null,null,null,null,"Ir a la hoja de cálculo del criterio"]
[null,null,null,null,null,null,null,null,null,null,null,null,null,null,null,null,null,null,null,null,null,"NO"]
[null,null,null,null,null,"Consumo de agua en sanitarios de referencia en l/persona día",{"$f":"'RN 01'!J51","v":0}]
[null,null,null,null,null,null,null,null,null,null,null,null,null,null,null,null,null,null,null,null,null,"NO"]
[null,null,null,null,null,"Consumo de agua en sanitarios del proyecto l/persona día",{"$f":"'RN 01'!J34","v":0}]
[null,null,null,null,null,null,null,null,null,null,null,null,null,null,null,null,null,null,null,null,null,"NO"]
[null,null,null,null,null,"Porcentaje de reducción del consumo de agua en aparatos sanitarios",{"$f":"'RN 01'!J55","v":""}]
[]
[null,null,null,null,"NOTAS"]
[]
[null,null,null,null,"DOCUMENTOS JUSTIFICATIVOS"]
[]
[null,null,null,null,"RN 01.01","Fichas técnicas con los caudales de los aparatos sanitarios aportados por el fabricante."]
[]
[null,null,null,null,"RN 01.02","Pestaña de ayuda RN 01"]
[]
[null,null,null,null,"VALORACIÓN DEL CRITERIO",null,{"$f":"IF($G15=\"\",0,IF($G15<0.1,0,IF($G15>0.3,$G5,(((($G15*100)-10)/20)*$G5))))","v":0}]
[]
[]
[]
[null,null,null,null,{"$f":"'Matriz VERDE-GBCe'!V25","v":"RN 02"},{"$f":"VLOOKUP($E29,'Matriz VERDE-GBCe'!$V$7:$AH$55,2,FALSE)","v":"Necesidades de riego en jardines."},{"$f":"VLOOKUP($E29,'Matriz VERDE-GBCe'!$V$7:$AH$55,3,FALSE)","v":2.2897473196487259E-2}]
[]
[null,null,null,null,null,"Ir a la hoja de cálculo del criterio"]
[]
[null,null,null,null,null,"¿Existen zonas ajardinadas con una superficie mayor a 20 m2?"]
[]
[null,null,null,null,null,"Necesidades de agua para riego de referencia (m3/año)",{"$f":"'RN 02'!S29","v":""}]
[]
[null,null,null,null,null,"Necesidades de agua para riego del proyecto (m3/año)",{"$f":"'RN 02'!G29","v":0}]
[]
[null,null,null,null,null,"Porcentaje de reducción de las necesidades de riego",{"$f":"'RN 02'!AA29","v":""}]
[]
[null,null,null,null,"NOTAS"]
[]
[null,null,null,null,"DOCUMENTOS JUSTIFICATIVOS"]
[]
[null,null,null,null,"RN 02.01","Plano de jardinería con indicación clara de las especies vegetales a plantar y su superficie de ocupación y sistema de riego empleado en cada zona. El plano deberá presentarse en formato que permita la comprobación de las medidas con herramientas de libre acceso."]
[]
[null,null,null,null,"RN 02.02","Herramienta de cálculo HACES RN 02"]
[]
[null,null,null,null,"RN 02.03","Memoria de la instalación de riego."]
[]
[null,null,null,null,"VALORACIÓN DEL CRITERIO",null,{"$f":"IF(OR($G39=\"\",I33=\"No\",I33=\"\"),0,IF($G39<0.2,0,IF($G39>0.8,$G29,(((($G39*100)-20)/60)*$G29))))","v":0}]
[]
[]
[]
[null,null,null,null,{"$f":"'Matriz VERDE-GBCe'!V26","v":"RN 03"},{"$f":"VLOOKUP($E55,'Matriz VERDE-GBCe'!$V$7:$AH$55,2,FALSE)","v":"Consumos de agua singulares."},{"$f":"VLOOKUP($E55,'Matriz VERDE-GBCe'!$V$7:$AH$55,3,FALSE)","v":1.9018371854964713E-2}]
[]
[null,null,null,null,null,"¿Existen elementos singulares consumidores de agua?"]
[]
[null,null,null,null,null,"¿Se consideran los aparatos sanitarios eficientes?"]
[]
[null,null,null,null,null,"¿Existe un sistema de recogida y reutilización de aguas grises que cubra el 80% de las aguas grises producidas?"]
[]
[]
[null,null,null,null,"NOTAS"]
[]
[null,null,null,null,"DOCUMENTOS JUSTIFICATIVOS"]
[]
[null,null,null,null,"RN 03.01","Fichas técnicas con los caudales de los aparatos sanitarios aportados por el fabricante."]
[]
[null,null,null,null,"RN 03.02","Memoria de proyecto del sistema de reciclado y reutilización de las aguas grises generadas por elementos singulares como piscinas, jacuzzis, etc."]
[]
[null,null,null,null,"VALORACIÓN DEL CRITERIO",null,{"$f":"IF($I57=\"no\",0,(IF($I59=\"sí\",$G55*0.4,0)+IF($I61=\"sí\",$G55*0.6,0)))","v":0}]
[]
[]
[]
[null,null,null,null,{"$f":"'Matriz VERDE-GBCe'!V27","v":"RN 04"},{"$f":"VLOOKUP($E76,'Matriz VERDE-GBCe'!$V$7:$AH$55,2,FALSE)","v":"Uso de agua no potable."},{"$f":"VLOOKUP($E76,'Matriz VERDE-GBCe'!$V$7:$AH$55,3,FALSE)","v":2.1873821453585476E-2}]
[]
[null,null,null,null,null,"Recuperación mensual de aguas grises del sistema (l)"]
[]
[null,null,null,null,null,"Volumen de acumulación de aguas grises (l)"]
[]
[null,null,null,null,null,"Volumen de agua no potable utilizada para baldeo u otros usos (l)"]
[]
[null,null,null,null,null,"Superficie de captación de aguas pluviales en m2"]
[]
[null,null,null,null,null,"Coeficiente de rendimiento de la superficie de captación (e)"]
[]
[null,null,null,null,null,"Rendimiento hidráulico del filtro (h)"]
[]
[null,null,null,null,null,"Volumen del aljibe de aguas pluviales (l)"]
[]
[null,null,null,null,null,"Porcentaje de necesidades de agua cubiertas con agua no potable",{"$f":"IFERROR('RN 04'!L33,0)","v":0}]
[]
[null,null,null,null,"NOTAS"]
[]
[null,null,null,null,"DOCUMENTOS JUSTIFICATIVOS"]
[]
[null,null,null,null,"RN 04.01","Proyecto del sistema de recogida, almacenamiento y distribución del aguas pluviales."]
[]
[null,null,null,null,"RN 04.02","Proyecto del sistema de recogida, almacenamiento y distribución de aguas grises"]
[]
[null,null,null,null,"RN 04.03","Memoria del cálculo realizado para obtención de los datos necesarios para evaluar el criterio siguiendo el método de evaluación descrito en la guía."]
[]
[null,null,null,null,"RN 04.04","Informe de puesta en marcha de las instalaciones de recogida, almacenamiento y distribución de aguas grises y/o pluviales."]
[]
[null,null,null,null,"VALORACIÓN DEL CRITERIO",null,{"$f":"IF($G92=0,0,IF(G92<0.2,0,IF(G92>=0.9,G76,(G92-0.2/0.7)*G76)))","v":0}]
[]
[]
[]
[null,null,null,null,"Materiales"]
[]
[null,null,null,null,null,"Completar los datos de este apartado antes de rellenar los criterios de materiales"]
[]
[null,null,null,null,null,"Vida útil de referencia en años"]
[]
[null,null,null,null,null,"Unidad Funcional Equivalente (UFE)",null,null,"masa",null,null,null,null,"masa",{"$f":"IF(I116=\"masa\",1,0.8)","v":1}]
[null,null,null,null,null,null,null,null,null,null,null,null,null,"coste"]
[null,null,null,null,null,{"$f":"IF(I116=\"coste\", \"Coste en € total de los materiales de la obra.\",\"Kilogramos totales de los materiales de la obra.\")","v":"Kilogramos totales de los materiales de la obra."}]
[]
[null,null,null,null,null,{"$f":"IF(I116=\"coste\", \"Coste en € total de los elementos cerámicos, áridos, pétreos y hormigones.\",\"Kilogramos totales de los elementos cerámicos, áridos, pétreos y hormigones.\")","v":"Kilogramos totales de los elementos cerámicos, áridos, pétreos y hormigones."}]
[]
[null,null,null,null,null,{"$f":"IF(I116=\"coste\", \"Coste en €  total de madera o derivados de madera materiales empleados en la obra como encofrados de hormigón o palets.\",\"Kilogramos totales de madera o derivados de madera materiales empleados en la obra como encofrados de hormigón o palets.\")","v":"Kilogramos totales de madera o derivados de madera materiales empleados en la obra como encofrados de hormigón o palets."}]
[]
[null,null,null,null,null,null,null,null,null,null,null,null,null,"coste"]
[]
[]
[]
[null,null,null,null,{"$f":"'Matriz VERDE-GBCe'!V28","v":"RN 05"},{"$f":"VLOOKUP($E128,'Matriz VERDE-GBCe'!$V$7:$Y$60,2,FALSE)","v":"Uso de materiales reciclados."},{"$f":"VLOOKUP($E128,'Matriz VERDE-GBCe'!$V$7:$Y$60,3,FALSE)","v":1.9018371854964713E-2}]
[]
[null,null,null,null,null,{"$f":"IF(I116=\"coste\", \"Coste en € total de los elementos cerámicos, áridos, pétreos y hormigones, sin incluir hormigones estruturales.\",\"Kilogramos totales de los elementos cerámicos, áridos, pétreos y hormigones, sin incluir hormigones estruturales.\")","v":"Kilogramos totales de los elementos cerámicos, áridos, pétreos y hormigones, sin incluir hormigones estruturales."}]
[]
[null,null,null,null,null,{"$f":"IF(I116=\"coste\", \"Contenido en € de reciclados PRE-CONSUMO entre los elementos cerámicos, áridos, pétreos y hormigones.\", \"Contenido en kg de reciclados PRE-CONSUMO entre los elementos cerámicos, áridos, pétreos y hormigones.\")","v":"Contenido en kg de reciclados PRE-CONSUMO entre los elementos cerámicos, áridos, pétreos y hormigones."}]
[]
[null,null,null,null,null,{"$f":"IF(I116=\"coste\", \"Contenido en € de reciclados POST-CONSUMO entre los elementos cerámicos, áridos, pétreos y hormigones.\", \"Contenido en kg de reciclados POST-CONSUMO entre los elementos cerámicos, áridos, pétreos y hormigones.\")","v":"Contenido en kg de reciclados POST-CONSUMO entre los elementos cerámicos, áridos, pétreos y hormigones."}]
[]
[null,null,null,null,null,{"$f":"CONCATENATE(\"Porcentaje en \",I116,\" de elementos cerámicos, áridos, pétreos y hormigones reciclados\")","v":"Porcentaje en masa de elementos cerámicos, áridos, pétreos y hormigones reciclados"},{"$f":"IF(OR(I$130=0,I$130=\"\"),\"\",((0.5*I132+I134)/I$130))","v":""},null,null,null,null,null,null,{"$f":"IF(OR(G136=\"\",G136<0.4),0,((G136-0.4)/0.6)*G$128*0.5)","v":0}]
[]
[null,null,null,null,null,{"$f":"IF(I116=\"coste\", \"Contenido en € de reciclados PRE-CONSUMO entre el resto de materiales.\", \"Contenido en kg de reciclados PRE-CONSUMO entre el resto de materiales.\")","v":"Contenido en kg de reciclados PRE-CONSUMO entre el resto de materiales."}]
[]
[null,null,null,null,null,{"$f":"IF(I116=\"coste\", \"Contenido en € de reciclados POST-CONSUMO entre el resto de materiales.\", \"Contenido en kg de reciclados POST-CONSUMO entre el resto de materiales.\")","v":"Contenido en kg de reciclados POST-CONSUMO entre el resto de materiales."}]
[]
[null,null,null,null,null,{"$f":"CONCATENATE(\"Porcentaje en \",I116,\" resto de materiales\")","v":"Porcentaje en masa resto de materiales"},{"$f":"IF(OR(I$118=0,I$118=\"\"),\"\",((0.5*I138+I140)/(I118-I120)))","v":""},null,null,null,null,null,null,{"$f":"IF(OR(G142=\"\",G142<0.1),0,IF(G142>=0.3,G128*0.5,((G142-0.1)/0.2)*G$128*0.5))","v":0}]
[]
[null,null,null,null,"NOTAS"]
[]
[null,null,null,null,"DOCUMENTOS JUSTIFICATIVOS"]
[]
[null,null,null,null,"RN 05.01","Documentos de presupuesto de contrata desglosado en materiales (descontando la mano de obra) donde se detallen los materiales reciclados postconsumo y preconsumo."]
[]
[null,null,null,null,"RN 05.02",{"$f":"CONCATENATE(N150,O150,P150)","v":"Memoria justificativa de la evaluación del criterio en la que se detallen los materiales reciclados, justificación del porcentaje de reciclado incorporado y su masa sobre el total."},null,null,null,null,null,null,null,"Memoria justificativa de la evaluación del criterio en la que se detallen los materiales reciclados, justificación del porcentaje de reciclado incorporado y su ",{"$f":"I116","v":"masa"}," sobre el total."]
[]
[null,null,null,null,"RN 05.03","Certificado del porcentaje del contenido de material reciclado distinguiendo entre preconsumo y postconsumo.. Estos certificados pueden otorgarse por el productor o por entidades externas como el Distintiu de la Generalitat u otros similares."]
[]
[null,null,null,null,"VALORACIÓN DEL CRITERIO",null,{"$f":"(N136+N142)*O116","v":0}]
[]
[]
[]
[null,null,null,null,{"$f":"'Matriz VERDE-GBCe'!V29","v":"RN 06"},{"$f":"VLOOKUP($E158,'Matriz VERDE-GBCe'!$V$7:$AH$55,2,FALSE)","v":"Elección responsable de materiales"},{"$f":"VLOOKUP($E158,'Matriz VERDE-GBCe'!$V$7:$AH$55,3,FALSE)","v":1.9718765152739615E-2}]
[]
[null,null,null,null,null,{"$f":"CONCATENATE(\"Cantidad en \",I116,\" de maderas o productos derivados de la madera con certificado de origen en cadena de custodia.\")","v":"Cantidad en masa de maderas o productos derivados de la madera con certificado de origen en cadena de custodia."},null,null,null,null,null,null,null,{"$f":"IF(G163=\"\",0,IF(G163<0.2,0,IF(G163>0.5,G158*0.7,((((G163*100)-20)/30))*G158*0.7)))","v":0}]
[]
[]
[null,null,null,null,null,{"$f":"CONCATENATE(\"Porcentaje en \",I$116,\" de maderas o productos derivados de la madera con certificado de origen en cadena de custodia.\")","v":"Porcentaje en masa de maderas o productos derivados de la madera con certificado de origen en cadena de custodia."},{"$f":"IF(OR(I122=0,I122=\"\"),\"\",(I160/I122))","v":""}]
[]
[]
[null,null,null,null,null,{"$f":"CONCATENATE(\"Contenido en \",I116,\" de materiales con documento reconocido de procedencia de materias primas.\")","v":"Contenido en masa de materiales con documento reconocido de procedencia de materias primas."},null,null,null,null,null,null,null,{"$f":"IF(G168=\"\",0,IF(G168<=0.05,0,IF(G168>=0.15,G158*0.3,((((G168*100)-5)/10))*G158*0.3)))","v":0}]
[]
[null,null,null,null,null,{"$f":"CONCATENATE(\"Porcentaje en \",I$116,\" de materiales con documento reconocido de procedencia de materias primas.\")","v":"Porcentaje en masa de materiales con documento reconocido de procedencia de materias primas."},{"$f":"IF(OR(I$118=0,I$118=\"\"),\"\",(I$166/(I$118-I122)))","v":""}]
[]
[null,null,null,null,"NOTAS"]
[]
[null,null,null,null,"DOCUMENTOS JUSTIFICATIVOS"]
[null,null,null,null,null,null,null,null,null,null,null,null,0.4]
[null,null,null,null,"RN 06.01","Pliego de condiciones dónde se especifique la necesidad de comprar maderas o productos derivados de la madera con CoC."]
[null,null,null,null,null,null,null,null,null,null,null,null,0.4]
[null,null,null,null,"RN 06.02","Documentos (habitualmente, facturas o albaranes) que recojan la declaración formal de cadena de custodia para cada producto de madera o derivado de madera certificadol así como los propios certificados CoC."]
[null,null,null,null,null,null,null,null,null,null,null,null,0.4]
[null,null,null,null,"RN 06.03","Pliego de condiciones donde se especifique la necesidad de comprar productos con documentación que avale la procedencia de las materias primas tal y cómo se especifica en el criterio."]
[null,null,null,null,null,null,null,null,null,null,null,null,0.4]
[null,null,null,null,"RN 06.04","Documento acreditativo de la procedencia de las materias primas empleadas según las indicaciones del criterio."]
[null,null,null,null,null,null,null,null,null,null,null,null,0.4]
[null,null,null,null,"RN 06.05",{"$f":"CONCATENATE(N182,O182,P182)","v":"Memoria justificativa de la evaluación del criterio en la que se detallen los materiales procedentes de recursos sostenibles, justificación de su procedencia y su masa sobre el total."},null,null,null,null,null,null,null,"Memoria justificativa de la evaluación del criterio en la que se detallen los materiales procedentes de recursos sostenibles, justificación de su procedencia y su ",{"$f":"I116","v":"masa"}," sobre el total."]
[]
[null,null,null,null,"VALORACIÓN DEL CRITERIO",null,{"$f":"(N160+N166)*O116","v":0}]
[]
[]
[]
[null,null,null,null,{"$f":"'Matriz VERDE-GBCe'!V30","v":"RN 07"},{"$f":"VLOOKUP($E188,'Matriz VERDE-GBCe'!$V$7:$AH$55,2,FALSE)","v":"Uso de materiales de producción local."},{"$f":"VLOOKUP($E188,'Matriz VERDE-GBCe'!$V$7:$AH$55,3,FALSE)","v":2.0715478691880826E-2},null,null,null,null,null,{"$f":"'DG '!F49","v":0}]
[]
[null,null,null,null,null,"Ir a la hoja de cálculo del criterio"]
[]
[null,null,null,null,null,"Porcentaje de elementos cerámicos, áridos, pétreos y hormigones locales",{"$f":"'RN 07'!J14","v":0},null,null,null,null,null,{"$f":"IF($G192<0.4,0,IF($G192>0.8,$G188*0.4,(((($G192*100)-40)/40))*$G188*0.4))","v":0}]
[]
[null,null,null,null,null,"Porcentaje de materiales locales, distintos de elementos cerámicos, áridos, pétreos y hormigones.",{"$f":"'RN 07'!J19","v":0},null,null,null,null,null,{"$f":"IF($G194<0.4,0,IF($G194>=0.8,$G188*0.6,(((($G194*100)-40)/40))*$G188*0.6))","v":0}]
[]
[]
[null,null,null,null,"NOTAS",null,null,null,null,null,null,null,{"$f":"IF($G194<0.2,0,IF($G194>=0.6,$G188*0.6,(((($G194*100)-20)/40))*$G188*0.6))","v":0},"Insular"]
[]
[null,null,null,null,"DOCUMENTOS JUSTIFICATIVOS"]
[]
[null,null,null,null,"RN 07.01","Pliego de condiciones donde se detallen las condiciones de aceptación y procedencia de los materiales de obra."]
[]
[null,null,null,null,"RN 07.02","Extracto del presupuesto de contrata material desglosado en materiales (descontando la mano de obra) donde se detalle la procedencia de los materiales a emplear."]
[]
[null,null,null,null,"RN 07.03","Factura o certificado de la procedencia de los materiales con la dirección de la planta de producción."]
[]
[null,null,null,null,"VALORACIÓN DEL CRITERIO",null,{"$f":"IF(M188=\"No\",(M192+M194)*O116,(M192+M197)*O116)","v":0}]
[]
[]
[]
[null,null,null,null,{"$f":"'Matriz VERDE-GBCe'!V31","v":"RN 08"},{"$f":"VLOOKUP($E211,'Matriz VERDE-GBCe'!$V$7:$AH$55,2,FALSE)","v":"El edificio como banco de materiales"},{"$f":"VLOOKUP($E211,'Matriz VERDE-GBCe'!$V$7:$AH$55,3,FALSE)","v":2.2708905770163244E-2}]
[]
[null,null,null,null,null,{"$f":"IF(I116=\"coste\", \"Contenido en € de elementos que favorecen el reciclaje al final de su ciclo de vida del edificio.\", \"Contenido en kg de elementos que favorecen el reciclaje al final de su ciclo de vida del edificio.\")","v":"Contenido en kg de elementos que favorecen el reciclaje al final de su ciclo de vida del edificio."},null,null,null,null,null,null,null,null,"Sí"]
[null,null,null,null,null,null,null,null,null,null,null,null,null,null,"No"]
[null,null,null,null,null,{"$f":"CONCATENATE(\"Porcentaje en \",I$116,\" de elementos que favorecen el reciclaje al final de su ciclo de vida del edificio\")","v":"Porcentaje en masa de elementos que favorecen el reciclaje al final de su ciclo de vida del edificio"},{"$f":"IF(OR(I$118=0,I$118=\"\"),\"\",(I$213/I$118))","v":""},null,null,null,null,null,{"$f":"IF(OR($G215<0.4,G215=\"\"),0,IF($G215>=0.6,$G211*0.4,(((($G215*100)-40)/20))*$G211*0.4))","v":0}]
[]
[]
[null,null,null,null,"Sistemas constructivos del edificio que favorecen la recuperación de sus elementos al final de su ciclo de vida"]
[]
[null,null,null,null,null,"Porcentaje de elementos de los cerramientos exteriores que garantizan su recuperabilidad",null,null,null,null,null,null,{"$f":"IF(OR(I220=\"\",I220<0.6),0,G211*0.1)","v":0}]
[]
[null,null,null,null,null,"Porcentaje de elementos de las cubiertas que garantizan su recuperación",null,null,null,null,null,null,{"$f":"IF(OR(I222=\"\",I222<0.6),0,G211*0.1)","v":0}]
[]
[null,null,null,null,null,"Porcentaje de elementos de la estructura que garantizan su recuperación",null,null,null,null,null,null,{"$f":"IF(OR(I224=\"\",I224<0.6),0,G211*0.1)","v":0}]
[]
[null,null,null,null,null,"Porcentaje de elementos de las divisiones interiores que garantizan su recuperación",null,null,null,null,null,null,{"$f":"IF(OR(I226=\"\",I226<0.6),0,G211*0.1)","v":0}]
[]
[]
[null,null,null,null,null,"¿Se ha realizado un estudio del posible uso de los materiales después de su desmontaje al final de la vida del edificio y cumple con las especificaciones del criterio?",null,null,null,null,null,null,{"$f":"IF(OR(I229=\"\",I229=NO),0,G211*0.2)","v":0}]
[]
[]
[null,null,null,null,"NOTAS"]
[]
[null,null,null,null,"DOCUMENTOS JUSTIFICATIVOS"]
[]
[null,null,null,null,"RN 08.01","Documentos de presupuesto de contrata desglosado en materiales (descontando la mano de obra), donde se detallen los materiales que favorecen su reciclado al final de vida del edificio."]
[]
[null,null,null,null,"RN 08.02","Declaraciones del fabricante o de una empresa de eliminación, o declaración del evaluador, en la que se especifique una fuente externa fiable, que indique que la recuperación de los materiales es  posible y se puede llevar a cabo con la tecnología disponible actualmente"]
[]
[null,null,null,null,"RN 08.03","Informe sobre la recuperación de los sistemas constructivos analizados en el criterio."]
[]
[null,null,null,null,"RN 08.04","Libro del edificio o anexo a este en el que aparezca descrito el procedimiento de recuperación de los elementos analizados al final del ciclo de vida del edificio."]
[]
[null,null,null,null,"RN 08.05","Estudio del posible uso de los materiales o elementos después de su desmontaje, con los certificados de los fabricantes."]
[]
[null,null,null,null,"RN 08.06","Memoria justificativa de la evaluación del criterio en la que se detallen los materiales que favorecen su reciclado y los sistemas constructivos que favorecen su recuperación al final de vida del edificio."]
[]
[null,null,null,null,"VALORACIÓN DEL CRITERIO",null,{"$f":"(M215+M220+M222+M224+M226+M229)*O116","v":0}]
[]
[]
[]
[null,null,null,null,{"$f":"'Matriz VERDE-GBCe'!V32","v":"RN 09"},{"$f":"VLOOKUP($E252,'Matriz VERDE-GBCe'!$V$7:$AH$55,2,FALSE)","v":"Gestión de los residuos de la construcción."},{"$f":"VLOOKUP($E252,'Matriz VERDE-GBCe'!$V$7:$AH$55,3,FALSE)","v":1.6432304293949682E-2}]
[]
[null,null,null,null,null,"Existe un Estudio de los Residuos de Construcción o Demolición que cumple con los requisitos del criterio",null,null,null,null,null,null,null,"SÍ"]
[null,null,null,null,null,null,null,null,null,null,null,null,null,"NO"]
[null,null,null,null,null,"Existe un Plan de Gestión de los Residuos de Construcción o Demolición que cumple con los requisitos del criterio"]
[]
[null,null,null,null,null,"Porcentaje de residuos de la construcción a los que se garantiza su revalorización",null,null,null,null,null,null,null,{"$f":"IF($I258=\"\",0,IF(OR(I254=\"NO\",I256=\"NO\"),0,IF($I258<0.5,0,IF($I258>0.75,$G252*0.5,(((($I258*100)-50)/25))*$G252*0.5))))","v":0}]
[]
[null,null,null,null,null,"Existe un análisis de las posibles alternativas en la utilización de los sistemas o materiales de construcción utilizados para minimizar la producción de residuos.",null,null,null,null,null,null,null,{"$f":"IF(OR(I260=NO,I260=\"\"),0,G252*0.5)","v":0}]
[]
[]
[null,null,null,null,"NOTAS"]
[null,null,null,null,null,null,null,null,null,null,null,null,0.4]
[null,null,null,null,"DOCUMENTOS JUSTIFICATIVOS"]
[null,null,null,null,null,null,null,null,null,null,null,null,0.4]
[null,null,null,null,"RN 09.01","Estudio de Gestión de Residuos de la Construcción."]
[null,null,null,null,null,null,null,null,null,null,null,null,0.4]
[null,null,null,null,"RN 09.02","Resumen del Estudio que demuestre el cumplimiento de las condiciones exigidas por el criterio."]
[]
[null,null,null,null,"RN 09.03","Plan de Gestión de Residuos de la Construcción."]
[]
[null,null,null,null,"RN 09.04","Resumen del Plan que demuestre el cumplimiento de las condiciones exigidas por el criterio."]
[]
[null,null,null,null,"RN 09.05","Informe final de obra incluyendo los certificados otorgados por el gestor autorizado de residuos que demuestre que se han revalorizado los materiales en las cantidades indicadas en el Plan de Gestión de Residuos."]
[]
[null,null,null,null,"VALORACIÓN DEL CRITERIO",null,{"$f":"(N258+N260)*O116","v":0}]
[]
[]
[]
[null,null,null,null,{"$f":"'Matriz VERDE-GBCe'!V33","v":"RN 10"},{"$f":"VLOOKUP($E281,'Matriz VERDE-GBCe'!$V$7:$AH$55,2,FALSE)","v":"Nivel de intervención en rehabilitaciones"},{"$f":"VLOOKUP($E281,'Matriz VERDE-GBCe'!$V$7:$AH$55,3,FALSE)","v":0}]
[]
[null,null,null,null,"Sistemas principales que se conservan en la rehabilitación"]
[]
[null,null,null,null,null,"Porcentaje de elementos de los cerramientos exteriores verticales que se conservan en la rehabilitación",null,null,null,null,null,null,null,{"$f":"IF(OR(I285=\"\",I285<0.6),0,G281*0.2)","v":0}]
[]
[null,null,null,null,null,"Porcentaje de elementos de las cubiertas que se conservan en la rehabilitación",null,null,null,null,null,null,null,{"$f":"IF(OR(I287=\"\",I287<0.6),0,G281*0.2)","v":0}]
[]
[null,null,null,null,null,"Porcentaje de elementos de la estructura que se conservan en la rehabilitación",null,null,null,null,null,null,null,{"$f":"IF(OR(I289=\"\",I289<0.6),0,G281*0.2)","v":0}]
[]
[null,null,null,null,null,"Porcentaje de elementos de las divisiones interiores verticales que se conservan en la rehabilitación",null,null,null,null,null,null,null,{"$f":"IF(OR(I291=\"\",I291<0.6),0,G281*0.2)","v":0}]
[]
[null,null,null,null,null,"Porcentaje de elementos de cajas de escaleras y huecos de ascensor que se conservan en la rehabilitación",null,null,null,null,null,null,null,{"$f":"IF(OR(I293=\"\",I293<0.6),0,G281*0.2)","v":0}]
[]
[null,null,null,null,"NOTAS"]
[]
[null,null,null,null,"DOCUMENTOS JUSTIFICATIVOS"]
[]
[null,null,null,null,"RN 10.01","Plano de cada uno de los elementos evaluados indicando claramente la superficie en la que se interviene e indicando su superficie, la superficie total del elemento y el porcentaje de intervención."]
[]
[null,null,null,null,"RN 10.02","Tabla en la que se refleje claramente las superficies parciales y totales de los elementos, así como las de las zonas intervenidas. En caso de elementos lineales, como pilares y vigas, el porcentaje será lineal. También se indicará con claridad dónde se sitúan las intervenciones a realizar."]
[]
[null,null,null,null,"RN 10.03","Justificación de aquellas intervenciones que queden excluidas del cómputo de este criterio tal y cómo se refleja en el apartado «Descripción de los indicadores»."]
[]
[null,null,null,null,"VALORACIÓN DEL CRITERIO",null,{"$f":"N285+N287+N289+N291+N293","v":0}]
[]
[]
[]
[null,null,null,null,{"$f":"'Matriz VERDE-GBCe'!V34","v":"RN 11"},{"$f":"VLOOKUP($E309,'Matriz VERDE-GBCe'!$V$7:$AH$55,2,FALSE)","v":"Impacto de los materiales de la construcción."},{"$f":"VLOOKUP($E309,'Matriz VERDE-GBCe'!$V$7:$AH$55,3,FALSE)","v":5.7566941436345026E-2}]
[]
[null,null,null,null,null,"Ir a la hoja de cálculo del criterio"]
[]
[null,null,null,null,null,"Existe un ACV parcial en las etapas A1, A2, A3 según la UNE-EN 15978:2012 que contempla los indicadores GWP (kg CO2 eq) y ADP (MJ).",null,null,null,null,null,null,null,{"$f":"IF(OR(I313=\"\",I313=\"NO\"),0,G309*0.5)","v":0}]
[]
[]
[null,null,null,null,null,"Existe un ACV completo en las etapas A1, A2, A3, A4, A5, B4, C3 y C4 según la UNE-EN 15978:2012 que contempla los indicadores GWP (kg CO2 eq) y ADP (MJ).",null,null,null,null,null,null,null,{"$f":"IF(OR(I316=\"\",I316=\"NO\"),0,G309*0.3)","v":0}]
[]
[]
[null,null,null,null,null,"Porcentaje de reducción del GWP (kg CO2 eq) en ACV parcial, fase de producto, respecto  del edificio de referencia.",{"$f":"IF(OR(I332=0,I338=\"\"),\"\",1-(I338/I332))","v":""},null,null,null,null,null,{"$f":"IF(G319=\"\",0,IF(G319<0.05,0,IF(G319>0.15,G309*0.1,((((G319*100)-5)/10))*G309*0.1)))","v":0},{"$f":"IF((M319+M322)>=G309*0.1,G309*0.1,(M319+M322))","v":0}]
[]
[]
[null,null,null,null,null,"Porcentaje de reducción del ADP (MJ) en ACV parcial, fase de producto, respecto   del edificio de referencia.",{"$f":"IF(OR(I334=0,I340=\"\"),\"\",1-(I340/I334))","v":""},null,null,null,null,null,{"$f":"IF(G322=\"\",0,IF(G322<0.05,0,IF(G322>0.15,G309*0.1,((((G322*100)-5)/10))*G309*0.1)))","v":0}]
[]
[]
[null,null,null,null,null,"Existe un ACV parcial o completo que contempla todos los indicadores establecidos en la norma UNE-EN 15978:2012 ",null,null,null,null,null,null,null,{"$f":"IF(OR(I325=\"\",I325=\"NO\"),0,G309*0.1)","v":0}]
[]
[]
[null,null,null,null,"Resumen de resultados del ACV parcial. Etapas A1, A2, A3:"]
[]
[null,null,null,null,"Edificio de referencia"]
[]
[null,null,null,null,null,"Potencial de calentamiento global GWP  (kg CO2 eq.)"]
[]
[null,null,null,null,null,"Agotamiento de recursos abióticos- APD combustibles fósiles (MJ)"]
[]
[null,null,null,null,"Edificio objeto"]
[]
[null,null,null,null,null,"Potencial de calentamiento global GWP  (kg CO2 eq.)"]
[]
[null,null,null,null,null,"Agotamiento de recursos abióticos- APD combustibles fósiles (MJ)"]
[]
[null,null,null,null,"Resultados del ACV completo. Etapas A1, A2, A3, A4, A5, B4, C3 y C4 :"]
[]
[null,null,null,null,"Etapa construcción A4 y A5"]
[]
[null,null,null,null,null,"Global Warming Potencial GWP  (kg CO2 eq.)"]
[]
[null,null,null,null,null,"Agotamiento de recursos abióticos- APD combustibles fósiles (MJ))"]
[]
[null,null,null,null,"Etapa uso B4"]
[]
[null,null,null,null,null,"Global Warming Potencial GWP  (kg CO2 eq.)"]
[]
[null,null,null,null,null,"Agotamiento de recursos abióticos- APD combustibles fósiles (MJ))"]
[]
[null,null,null,null,"Etapa fin de vida, C3 y C4"]
[]
[null,null,null,null,null,"Global Warming Potencial GWP  (kg CO2 eq.)"]
[]
[null,null,null,null,null,"Agotamiento de recursos abióticos- APD combustibles fósiles (MJ))"]
[]
[null,null,null,null,"Resultados del ACV parcial(A1, A2, A3)o completo (A1, A2, A3, A4, A5, B4, C3 y C4) contemplando todos los indicadores:"]
[]
[]
[null,null,null,null,"Edificio objeto"]
[]
[null,null,null,null,null,"Potencial de calentamiento globalGWP  (kg CO2 eq.)"]
[]
[null,null,null,null,null,"Agotamiento de recursos abióticos- APD combustibles fósiles (MJ)"]
[]
[null,null,null,null,null,"Agotamiento de recursos abióticos- APD elementos (kg Sb eq)"]
[]
[null,null,null,null,null,"Acidificación del suelo y el agua  AP (kg SO2 eq)"]
[]
[null,null,null,null,null,"Agotamiento de la capa de ozono ODP (kg CFC-11 eq)"]
[]
[null,null,null,null,null,"Eutrofización EP (kg (PO4)3- eq"]
[]
[null,null,null,null,null,"Formación de ozono fotoquímico POCP (kg etileno eq)"]
[]
[null,null,null,null,"NOTAS"]
[null,null,null,null,null,null,null,null,null,null,null,null,0.4]
[null,null,null,null,"DOCUMENTOS JUSTIFICATIVOS"]
[null,null,null,null,null,null,null,null,null,null,null,null,0.4]
[null,null,null,null,"RN 11.01","Descripción de los sistemas constructivos y fichas de cada uno de ellos"]
[null,null,null,null,null,null,null,null,null,null,null,null,0.4]
[null,null,null,null,"RN 11.02","Descripción del método de ACV empleado"]
[]
[null,null,null,null,"RN 11.03","Resultados del edificio objeto con descripción de las hipótesis y aproximaciones realizadas."]
[]
[null,null,null,null,"RN 11.04","Resultados del edificio de referencia con descripción de las hipótesis y aproximaciones realizadas."]
[]
[null,null,null,null,"VALORACIÓN DEL CRITERIO",null,{"$f":"N313+N316+N319+N325","v":0}]
[]
[]
[]
[null,null,null,null,{"$f":"'Matriz VERDE-GBCe'!V35","v":"RN 12"},{"$f":"VLOOKUP($E397,'Matriz VERDE-GBCe'!$V$7:$Y$60,2,FALSE)","v":"Ecoetiquetado de producto."},{"$f":"VLOOKUP($E397,'Matriz VERDE-GBCe'!$V$7:$Y$60,3,FALSE)","v":2.1038737137007706E-2}]
[]
[null,null,null,null,null,{"$f":"IF(I$118=\"Coste\",\"Porcentaje en coste de materiales con ecoetiqueta tipo I\",\"Porcentaje en masa de materiales con ecoetiqueta tipo I\")","v":"Porcentaje en masa de materiales con ecoetiqueta tipo I"},null,null,null,null,null,null,{"$f":"IF(I399=\"\",0,IF(I399<0.1,0,IF(I399>0.2,G397*0.2,((((I399*100)-10)/10))*G397*0.2)))","v":0}]
[]
[null,null,null,null,null,{"$f":"IF(I$118=\"Coste\",\"Porcentaje en coste de elementos cerámicos, áridos, pétreos y hormigones con ecoetiqueta tipo III, DAP\",\"Porcentaje en masa de elementos cerámicos, áridos, pétreos y hormigones con ecoetiqueta tipo III, DAP\")","v":"Porcentaje en masa de elementos cerámicos, áridos, pétreos y hormigones con ecoetiqueta tipo III, DAP"},null,null,null,null,null,null,{"$f":"IF(I401=\"\",0,IF(I401<0.7,0,IF(I401=1,G397*0.3,((((I401)-0.7)/0.3))*G$397*0.3)))","v":0}]
[]
[null,null,null,null,null,{"$f":"IF(I$118=\"Coste\",\"Porcentaje en coste de resto de materiales con ecoetiqueta tipo III, DAP\",\"Porcentaje en masa de  resto de materiales con ecoetiqueta tipo III, DAP\")","v":"Porcentaje en masa de  resto de materiales con ecoetiqueta tipo III, DAP"},null,null,null,null,null,null,{"$f":"IF(I403=\"\",0,IF(I403<0.2,0,IF(I403>0.4,G397*0.5,((((I403)-0.2)/0.4)*G$397*0.5))))","v":0}]
[]
[null,null,null,null,null,"Entre los materiales con DAPs se encuentran elementos estructurales, aislamientos y revestimientos.",null,null,null,null,null,null,{"$f":"IF(I405=\"SÍ\",G$397*0.2,0)","v":0}]
[]
[null,null,null,null,null,"Entre las DAP aportadas al menos 50% cuantan con un ACV en todas las fases del ciclo de vida o tienen en cuenta todos los indicadores de la norma UNE-EN 15804:2012",null,null,null,null,null,null,{"$f":"IF(I407=\"SÍ\",G$397*0.2,0)","v":0}]
[]
[]
[null,null,null,null,"NOTAS"]
[]
[null,null,null,null,"DOCUMENTOS JUSTIFICATIVOS"]
[]
[null,null,null,null,"RN 12.01","Eco etiquetas ya sean tipo I o tipo III de los materiales definidos en obra."]
[]
[null,null,null,null,"RN 12.02","Justificación del porcentaje en masa de los productos con ecoetiqueta Tipo I y Tipo III (DAP), distinguiendo entre los elementos cerámicos, áridos, petreos y hormigones y el resto."]
[]
[null,null,null,null,"VALORACIÓN DEL CRITERIO",null,{"$f":"IF(M399+M401+M403>=G397,G397*O116,IF(M399+M401+M403+M405>=G397,G397*O116,(M399+M401+M403+M405+M407)*O116))","v":0}]
[]
[]
[]
[null,null,null,null,null,null,"VALORACIÓN ÁREA"]
[]
[null,null,null,null,null,null,"SUBTOTAL",null,{"$f":"G25+G51+G72+G106+G154+G184+G207+G248+G277+G305+G393+G418","v":0}]
[]
[null,null,null,null,null,null,"SOBRE",null,{"$f":"VLOOKUP(C$2,'Matriz VERDE-GBCe'!$U$4:$AH$55,4,FALSE)","v":0.26345563277840633}]
[]
[]
[]
[]
[]
[null,null,null,null,null,null,"SÍ"]
[null,null,null,null,null,null,"NO"]

{"sheet":"RN 01","index":16,"n_rows":55,"n_cols":29,"rows_kept":55,"cut":false,"hidden":false,"merged":[[19,11,19,15],[22,3,22,7],[27,3,27,5],[29,3,29,5],[42,11,42,13],[33,3,34,7],[38,3,38,9],[25,11,25,13],[27,11,27,13],[29,11,29,13],[54,3,54,7],[1,3,1,17],[2,3,2,17],[4,7,4,10],[9,3,9,5],[9,11,9,13],[44,11,44,13],[44,3,44,5],[46,11,46,13],[46,3,46,5],[11,3,11,5],[11,11,11,13],[13,3,13,5],[13,11,13,13],[15,3,15,5],[25,3,25,5],[4,3,4,5],[17,3,17,7],[7,3,7,7],[48,3,49,7],[50,3,51,7],[31,3,32,7],[42,3,42,5],[19,3,19,7]]}
[]
[null,null,null,"Consumo de agua en aparatos sanitarios",null,null,null,null,null,null,null,null,null,null,null,null,null,null,null,null,null,"SÍ"]
[null,null,null,"VERDE Edificios 2020 Residencial Privado",null,null,null,null,null,null,null,null,null,null,null,null,null,null,null,null,null,"NO"]
[]
[null,null,null,"Tipo de actuación",null,null,null,{"$f":"'DG '!F29","v":0}]
[]
[]
[null,null,null,"Número de habitantes"]
[]
[null,null,null,{"$f":"CONCATENATE(U$10,V$10,AC$10)","v":"Nº vivs. 1 Dormitorios"},null,null,null,null,null,{"$f":"H10*V$12","v":0},null,{"$f":"CONCATENATE(U$10,Z$10,AC$10)","v":"Nº vivs. 5 Dormitorios"},null,null,null,null,null,{"$f":"P10*Z$12","v":0},null,null,"Nº vivs. ",1,2,3,4,5,6," ≥6"," Dormitorios"]
[]
[null,null,null,{"$f":"CONCATENATE(U$10,W$10,AC$10)","v":"Nº vivs. 2 Dormitorios"},null,null,null,null,null,{"$f":"H12*W$12","v":0},null,{"$f":"CONCATENATE(U$10,AA$10,AC$10)","v":"Nº vivs. 6 Dormitorios"},null,null,null,null,null,{"$f":"P12*AA$12","v":0},null,null,null,1.5,3,4,5,6,6,7]
[]
[null,null,null,{"$f":"CONCATENATE(U$10,X$10,AC$10)","v":"Nº vivs. 3 Dormitorios"},null,null,null,null,null,{"$f":"H14*X$12","v":0},null,{"$f":"CONCATENATE(U$10,AB$10,AC$10)","v":"Nº vivs.  ≥6 Dormitorios"},null,null,null,null,null,{"$f":"P14*AB$12","v":0}]
[]
[null,null,null,{"$f":"CONCATENATE(U$10,Y$10,AC$10)","v":"Nº vivs. 4 Dormitorios"},null,null,null,null,null,{"$f":"H16*Y$12","v":0}]
[]
[null,null,null,"Nº de habitantes del edificio",null,null,null,null,null,{"$f":"SUM($J10:$J16)+SUM($R10:$R14)","v":0}]
[]
[null,null,null,"¿Hay bañeras en el edificio?",null,null,null,null,null,"SÍ",null,"¿Hay duchas en el edificio?",null,null,null,null,null,"SÍ"]
[]
[]
[null,null,null,"Consumo del edificio objeto"]
[null,null,null,null,null,null,null,"Caudal",null,"Consumo (l/pers. Día)",null,null,null,null,null,"Caudal",null,"Consumo (l/pers. Día)",null,null,null,"consumo/uso","consumo/uso","uso/persona","uso/persona"]
[]
[null,null,null,"Grifería cocina",null,null,null,null,null,{"$f":"IF(OR(H26=\"\",H26=0),J43,V26*X26)","v":24},null,"Grifería bañera",null,null,null,null,null,{"$f":"IF(OR(P26=\"\",P26=0),R43,W26*Y26)","v":20},null,null,null,{"$f":"H26","v":0},{"$f":"P26","v":0},4,2]
[]
[null,null,null,"Grifería baño",null,null,null,null,null,{"$f":"IF(OR(H28=\"\",H28=0),J45,V28*X28)","v":18},null,"Grifería ducha",null,null,null,null,null,{"$f":"IF(OR(P28=\"\",P28=0),R45,W28*Y28)","v":24},null,null,null,{"$f":"H28","v":0},{"$f":"P28","v":0},3,3]
[]
[null,null,null,"Inodoros descarga larga",null,null,null,null,null,{"$f":"IF(OR(H30=\"\",H30=0),J47,V30*X30)","v":6},null,"Inodoros descarga corta",null,null,null,null,null,{"$f":"IF(OR(P30=\"\",P30=0),R47,W30*Y30)","v":12},null,null,null,{"$f":"H30","v":0},{"$f":"P30","v":0},1,4]
[]
[null,null,null,"CONSUMO TOTAL EN EL EDIFICIO POR PERSONA Y DÍA (l/p día)",null,null,null,null,null,{"$f":"SUM($J26:$J30)+SUM($R26:$R30)","v":104}]
[]
[null,null,null,"CONSUMO TOTAL EN EL EDIFICIO (l/día)",null,null,null,null,null,{"$f":"J32*J18","v":0}]
[]
[]
[]
[]
[null,null,null,"Consumo del edificio de referencia"]
[]
[null,null,null,null,null,null,null,"Caudal",null,"Consumo (l/pers. día)",null,null,null,null,null,"Caudal",null,"Consumo (l/pers. día)",null,null,null,"consumo/uso","consumo/uso","uso/persona","uso/persona","ReHabilitación"]
[]
[null,null,null,"Grifería cocina",null,null,null,6,null,{"$f":"V43*X43","v":24},null,"Grifería bañera",null,null,null,10,null,{"$f":"IF(J20=\"No\",0,(W43*Y43))","v":20},null,null,null,{"$f":"H43","v":6},{"$f":"P43","v":10},4,2]
[]
[null,null,null,"Grifería baño",null,null,null,6,null,{"$f":"V45*X45","v":18},null,"Grifería ducha",null,null,null,8,null,{"$f":"IF(R20=\"No\",0,W45*Y45)","v":24},null,null,null,{"$f":"H45","v":6},{"$f":"P45","v":8},3,3]
[]
[null,null,null,"Inodoros descarga larga",null,null,null,6,null,{"$f":"V47*X47","v":6},null,"Inodoros descarga corta",null,null,null,3,null,{"$f":"W47*Y47","v":12},null,null,null,{"$f":"H47","v":6},{"$f":"P47","v":3},1,4]
[]
[null,null,null,"CONSUMO TOTAL POR PERSONA Y DÍA (l/p día)",null,null,null,null,null,{"$f":"SUM($J43:$J47)+SUM($R43:$R47)","v":104}]
[]
[null,null,null,"CONSUMO TOTAL EN EL EDIFICIO (l/día)",null,null,null,null,null,{"$f":"J49*J18","v":0}]
[]
[]
[]
[null,null,null,"Porcentaje de ahorro",null,null,null,null,null,{"$f":"IF(J51=0,\"\",1-(J34/J51))","v":""}]

{"sheet":"BD","index":17,"n_rows":52,"n_cols":7,"rows_kept":52,"cut":false,"hidden":true,"merged":[]}
["Provincia","estación meteorológica"]
["Albacete","Albacete - Los Llanos / B. Aérea",null,null,null,"Tipo de riego","EA"]
["Alicante","Alicante",null,null,null,"Riego localizado subterráneo",0.95]
["Almería","Almería / Aeropuerto",null,null,null,"Riego localizado en superficie",0.9]
["Ávila","Ávila",null,null,null,"Difusores y microaspersores",0.8]
["Badajoz","Badajoz - Talavera la Real / B. Aérea",null,null,null,"Aspersores","0,7-0,8"]
["Barcelona","Barcelona / Aeropuerto","Barcelona / Montseny -Turo De L'Home",null,null,"Superficie","0,5-0,65"]
["Bilbao","Bilbao / Aeropuerto"]
["Burgos","Burgos / B. Aérea"]
["Cáceres","Cáceres"]
["Cádiz","Cádiz - Jerez de la Frontera / Aeropuerto","Cádiz - Tarifa"]
["Castellón","Castellón"]
["Ciudad Real","Ciudad Real"]
["Córdoba","Córdoba / Aeropuerto"]
["Cuenca","Cuenca"]
["Gerona","Girona / Aeropuerto"]
["Granada","Granada / Aeropuerto","Granada / B. Aérea"]
["Guadalajara","Guadalajara - Molina De Aragón"]
["Huelva","Huelva"]
["Huesca","Huesca - Monflorite / Aeropuerto"]
["Ibiza","Ibiza / Aeropuerto"]
["Jaén"]
["La Coruña","A Coruña","A Coruña - Santiago Compostela / Aeropuerto"]
["Las Palmas","La Palma / Aeropuerto"]
["León","León - Ponferrada","León - Virgen del Camino / B. Aérea"]
["Lérida","Lleida / Estación 2"]
["Logroño ","Logroño - Agoncillo / Aeropuerto"]
["Lugo","Lugo - Rozas / Aeródromo"]
["Madrid","Madrid","Madrid - Barajas / Aeropuerto"]
["Málaga","Málaga / Aeropuerto"]
["Murcia","Murcia - Alcantarilla / Aeropuerto","Murcia - San Javier / Aeropuerto"]
["Orense","Ourense"]
["Oviedo","Oviedo / Aeropuerto","Oviedo"]
["Palencia"]
["Palma de Mallorca","Palma de Mallorca","Palma de Mallorca / Aeropuerto"]
["Pamplona","Pamplona / Aeropuerto"]
["Pontevedra","Pontevedra - Mourente","Pontevedra - Vigo / Aeropuerto"]
["Salamanca","Salamanca - Matacán / B. Aérea"]
["San Sebastián","San Sebastián / Aeropuerto","San Sebastián / Igueldo"]
["Sta. Cruz de Tenerife","Santa Cruz De Tenerife","Tenerife / Aeropuerto Tenerife Sur"]
["Santander","Santander / Aeropuerto"]
["Segovia","Segovia"]
["Sevilla","Sevilla / Aeropuerto","Sevilla / Morón de la Frontera / B. Aérea","Sevilla - Tablada"]
["Soria","Soria"]
["Tarragona","Tarragona / Tortosa","Tarragona - Reus / Aeropuerto"]
["Teruel","Teruel"]
["Toledo","Toledo"]
["Valencia","Valencia","Valencia - Manises"]
["Valladolid","Valladolid","Valladolid / Aeropuerto"]
["Vitoria","Vitoria / Aeropuerto"]
["Zamora","Zamora"]
["Zaragoza","Zaragoza / Aeropuerto"]

{"sheet":"P","index":18,"n_rows":85,"n_cols":16,"rows_kept":85,"cut":false,"hidden":true,"merged":[[0,0,0,12]]}
["Precipitación (mm)"]
["Localidad","Ene","Feb","Mar","Abr","May","Jun","Jul","Ago","Sep","Oct","Nov","Dic"]
["ANDALUCIA",null,null,null,null,null,null,null,null,null,null,null,null,null,"Andalucía","Andalucía"]
["Almería",24,25,16,17,12,5,1,1,14,27,28,30,null,"Cataluña","Cataluña"]
["Cádiz",69,58,35,45,27,7,0,2,24,67,98,92,null,"Comunidad de Madrid","Madrid"]
[" Jerez de la Frontera",78,56,37,49,30,9,1,2,27,72,96,109,null,"Comunidad Valenciana","Valencia"]
["Tarifa",83,73,60,61,31,9,2,4,14,67,77,118,null,"Galicia","Galicia"]
["Jaén",55,50,44,54,43,18,2,9,26,55,62,75,null,"Castilla y León","León"]
["Córdoba",66,55,49,55,40,13,2,5,35,86,80,111,null,"País Vasco","Vasco"]
["Granada",42,38,32,36,28,11,2,4,19,40,54,56,null,"Canarias","Canarias"]
["Huelva",71,50,38,48,29,8,3,4,26,68,79,99,null,"Castilla la Mancha","Mancha"]
["Málaga",69,60,52,44,20,6,0,6,20,57,100,100,null,"Región de Murcia","Murcia"]
["Sevilla / Aeropuerto",66,50,36,54,30,10,2,5,27,68,91,99,null,"Aragón","Aragón"]
["Sevilla / Morón de la Frontera / B. Aérea",68,53,42,60,39,9,2,4,27,67,86,94,null,"Islas Baleares","Baleares"]
["Sevilla / Tablada",78,52,40,58,36,13,2,5,20,66,81,103,null,"Extremadura","Extremadura"]
["Barcelona",37,35,36,40,47,30,21,62,81,91,59,40,null,"Asturias","Asturias"]
["Fabra",50,43,44,53,58,30,24,41,75,91,66,46,null,"Navarra","Navarra"]
["Gerona",62,51,50,67,71,60,32,46,70,88,70,56,null,"Cantabria","Cantabria"]
["Lérida",26,15,21,39,42,27,12,18,41,43,30,24,null,"La Rioja","Rioja"]
["Tarragona",33,28,30,48,58,25,15,33,59,78,60,41,null,"Melilla","Melilla"]
["Tarragona / Reus",29,28,28,37,54,25,15,42,77,75,53,36,null,"Ceuta","Ceuta"]
["Colmenar Viejo",52,41,36,52,57,28,14,16,36,76,78,68]
["Madrid",33,34,25,45,50,21,12,10,22,60,58,51]
["Barajas",29,32,22,38,44,22,9,10,24,51,49,42]
["Cuatro Vientos",34,35,25,43,50,24,12,11,24,60,57,53]
["Getafe",30,32,24,38,39,19,9,9,22,50,48,45]
["Puerto Navacerrada",124,96,84,127,124,64,23,26,60,156,176,163]
["Torrejón De Ardoz",29,31,23,40,48,19,13,9,25,50,49,42]
["Alicante",23,22,23,29,28,12,4,7,56,47,36,25]
["Castellón",36,31,31,42,44,19,9,24,71,70,49,42]
["Valencia",37,36,33,38,39,22,8,20,70,77,47,48]
["Valencia - Manises",37,34,30,40,38,18,12,16,63,72,51,48]
["La Coruña",112,88,75,88,74,44,34,35,64,130,138,131]
["Lugo",114,87,80,102,81,52,34,36,68,137,144,134]
["Orense",89,66,59,72,64,36,20,22,57,112,103,112]
["Pontevedra",178,133,120,143,118,64,44,56,95,224,222,216]
["Santiago de Compostela",210,167,146,146,135,72,43,57,107,226,217,261]
["Vigo",208,162,141,157,127,62,44,45,102,231,246,262]
["Ávila",34,24,23,40,55,33,12,19,30,53,48,42]
["Burgos",44,35,34,61,63,41,23,23,38,60,60,63]
["Palencia",67,54,46,50,54,32,23,25,49,81,82,89]
["León",50,34,32,45,56,31,19,23,39,61,59,66]
["Virgen del Camino",58,46,29,50,58,39,28,24,39,56,58,70]
["Salamanca",30,25,21,38,47,29,11,12,32,46,40,42]
["Segovia",38,31,30,44,66,43,17,20,28,59,52,46]
["Soria",37,36,30,55,67,40,30,30,33,55,50,50]
["Valladolid",40,27,22,46,49,29,13,16,31,55,52,53]
["Valladolid / Aeropuerto",36,26,23,43,53,30,15,21,32,52,51,53]
["Zamora",32,25,22,39,43,23,12,13,28,50,45,46]
["Bilbao",120,86,90,107,78,60,50,76,73,111,147,122]
["San Sebastián / Aeropuerto",168,150,144,168,138,96,98,112,138,174,186,167]
["San Sebastián / Igueldo",141,110,113,138,120,90,86,117,111,159,169,151]
["Vitoria",75,63,63,73,70,43,38,39,41,71,91,82]
["Fuerteventura",14,16,12,5,1,0,0,0,2,8,13,26]
["Hierro",28,38,25,13,2,1,0,1,3,14,37,44]
["Lanzarote",16,18,12,5,2,0,0,0,2,10,15,29]
["Las Palmas de Gran Canaria",25,24,12,6,1,0,0,0,9,16,22,31]
["Santa Cruz De Tenerife",32,35,38,12,4,1,0,2,7,19,34,43]
["Tenerife / Norte",80,70,61,39,19,11,6,5,16,47,81,82]
["Tenerife / Aeropuerto Tenerife Sur",17,20,15,7,1,0,0,1,4,12,26,30]
["Tenerife / Izaña",47,67,58,18,7,0,0,5,13,37,54,60]
["Albacete",21,25,27,40,43,35,9,11,34,42,34,31]
["Ciudad Real",35,30,28,48,41,25,6,5,26,53,45,59]
["Cuenca",40,38,35,58,52,41,10,20,42,60,48,58]
["Guadalajara",35,32,25,50,53,25,12,5,28,68,42,46]
["Toledo",26,25,23,39,44,24,7,9,18,48,39,41]
["Murcia",27,27,30,25,28,18,3,8,32,36,32,29]
["Alcantarilla",26,28,31,25,28,18,2,10,29,34,33,25]
["San Javier",42,27,24,23,25,7,2,7,39,39,47,30]
["Huesca",31,28,30,53,52,33,22,29,48,60,47,44]
["Teruel",19,15,21,39,57,46,26,34,36,47,22,19]
["Zaragoza",21,22,19,39,44,26,17,17,30,36,30,21]
["Ibiza",37,36,27,31,27,11,5,18,57,58,53,52]
["Menorca / Mahón",52,54,38,45,37,14,3,20,61,78,88,61]
["Palma de Mallorca",42,37,28,39,36,11,6,22,52,69,59,48]
["Palma de Mallorca / Aeropuerto",37,32,26,34,32,12,5,17,50,62,55,48]
["Badajoz",50,42,30,49,36,14,4,5,24,61,65,69]
["Cáceres",54,48,36,52,50,20,6,7,30,77,89,77]
["Asturias / Aeropuerto",103,88,82,99,79,61,47,60,73,116,134,117]
["Oviedo",84,81,78,100,82,57,45,56,66,98,115,98]
["Pamplona",57,50,54,74,60,46,33,38,44,68,75,72]
["Santander",106,92,88,102,78,58,52,73,83,120,157,118]
["Logroño",28,23,26,46,47,44,30,21,26,37,40,38]
["Melilla",58,57,44,36,20,7,1,4,16,40,57,50]
["Ceuta",122,145,90,57,21,3,1,3,37,82,127,161]

{"sheet":"ETo","index":19,"n_rows":54,"n_cols":14,"rows_kept":54,"cut":false,"hidden":true,"merged":[]}
[null,"Evapotranspiración Potencial","Ene","Feb","Mar","Abr","May","Jun","Jul","Ago","Sep","Oct","Nov","Dic"]
[null,"Albacete",15.1,29.2,60.4,95.7,122.5,157.1,179.7,156,87.3,51.4,19.899999999999999,16.8]
[null,"Alicante",16.399999999999999,37.4,68.900000000000006,91.9,130.1,149.4,169.8,154.19999999999999,95.5,62.2,30.1,22.9]
[null,"Almería",27.9,37.200000000000003,72.599999999999994,98.5,140.9,132.5,177.9,182.5,100.5,65.8,31.1,31.2]
[null,"Ávila",11.2,21.5,52.5,78.3,116.2,143.9,161.5,142.9,77.099999999999994,42.7,15,9.6]
[null,"Badajoz",13.8,24.1,57,82.7,116.9,141,182.1,146,81.099999999999994,49,21.3,11.6]
[null,"Barcelona",18.600000000000001,27.7,53.2,76,107,135.9,155.19999999999999,130.1,75.400000000000006,47.4,22,16.600000000000001]
[null,"Bilbao",13.9,21.8,49.2,62.4,92.9,98,96.9,96.9,57.2,35.299999999999997,17.5,14.6]
[null,"Burgos",9.9,24.9,45.5,67.5,104.3,119.5,146.4,124.5,68,36,12.5,8.1999999999999993]
[null,"Cáceres",13.8,24.1,57,82.7,116.9,141,182.1,146,81.099999999999994,49,21.3,11.6]
[null,"Cádiz",25.7,34.6,84.3,102.1,156.69999999999999,182.4,196.3,185.5,115.4,74.900000000000006,34.6,22.4]
[null,"Castellón",15.4,26.6,54.1,75.7,115.1,133.30000000000001,148.5,129.4,75.8,45.8,19.8,12.1]
[null,"Ceuta",16.5,28.5,59.1,84.4,128.30000000000001,153.80000000000001,169.9,154.19999999999999,83.5,50.7,22,13.4]
[null,"CiudadReal",12.9,25.2,51.2,77.099999999999994,120.3,155.69999999999999,172.1,149.80000000000001,82,43.3,17.899999999999999,12.3]
[null,"Córdoba",17.3,28.5,56.3,82.3,128.1,157.69999999999999,182.7,162.6,94.5,55,21.7,14.3]
[null,"Cuenca",10.6,19,43.8,66.2,106.2,129.6,149.9,144.30000000000001,71.099999999999994,39.299999999999997,14.5,8.5]
[null,"Gerona",11.2,22,45.5,72,110.6,123.6,144,122.9,71.2,39.799999999999997,14.7,8.5]
[null,"Granada",16,26.5,54.7,74.400000000000006,111.2,140.9,168.1,148.5,85.9,48.3,20.2,12.7]
[null,"Guadalajara",16.100000000000001,23.5,53.9,74.7,109.2,139.19999999999999,164.9,143.4,80.8,43.6,18.5,11]
[null,"Huelva",19.2,28.2,53.6,80.7,125.4,145.30000000000001,161.69999999999999,146.5,89.5,53.4,24.1,14.8]
[null,"Huesca",15.2,26.5,60.1,83.2,118.5,139.9,162,137.30000000000001,77,48.4,20.100000000000001,13.9]
[null,"Ibiza",19,30.5,61.3,82.6,130,146.69999999999999,169.9,152,89.5,56.1,26,19.3]
[null,"Jaén",15.6,25.5,54.5,76.400000000000006,111.3,145,154,151,87,49.5,20.100000000000001,12.9]
[null,"LaCoruña",23.1,30.7,55.9,76.599999999999994,701,110.7,125.7,109,57.2,42.7,23.6,23.7]
[null,"LasPalmasdeGranCanaria",45.4,51.7,91.5,104.4,130.69999999999999,133.5,131.4,132.1,103.8,82.4,50.9,42.2]
[null,"León",8.1999999999999993,19.5,50.8,75.8,110.5,129,157.69999999999999,129.5,72.7,37.799999999999997,13.3,7.3]
[null,"Lérida",16.100000000000001,29,65.2,91.8,127.1,158.19999999999999,182.4,153.9,89.2,52.5,22.3,13.9]
[null,"Logroño ",14.8,22.9,54.4,71.900000000000006,109.6,122.4,149.1,128.9,70.900000000000006,37.299999999999997,15.7,12.4]
[null,"Lugo",10.3,18.3,41.1,63.6,87.6,98.7,105.3,92.1,56.7,34.9,11.9,8.4]
[null,"Madrid",13.3,24.5,55.7,83,120.6,149.1,171.4,153.19999999999999,85.2,45.7,16.7,10.5]
[null,"Málaga",27.1,36,66.099999999999994,84.3,135.4,155.9,169.1,153.5,90.5,59.6,29.3,23.3]
[null,"Melilla",16.5,28.5,59.1,84.4,128.30000000000001,153.80000000000001,169.9,154.19999999999999,83.5,50.7,22,13.4]
[null,"Murcia",16.5,28.5,59.1,84.4,128.30000000000001,153.80000000000001,169.9,154.19999999999999,83.5,50.7,22,13.4]
[null,"Orense",10.1,17.600000000000001,39.700000000000003,58.4,94.2,112.2,123.5,108.1,63.2,29.6,11.4,9.3000000000000007]
[null,"Oviedo",9.9,18.2,38.799999999999997,56.8,82.6,86.2,87.3,82,52.1,33.700000000000003,11.5,8.1999999999999993]
[null,"Palencia",9.4,20.8,48,75.7,114,134.9,160.1,134.9,71.7,37.1,14.2,8.6999999999999993]
[null,"PalmadeMallorca",18.399999999999999,30.3,59.7,82.4,128.5,145.6,169.1,150.6,88.2,55.4,25.2,18.7]
[null,"Pamplona",11.2,18.3,44.5,61.7,94.8,110.8,130,112.3,63.7,33.799999999999997,13.1,9.6999999999999993]
[null,"Pontevedra",19,28.5,57,77.900000000000006,105.3,129,146.9,111.7,87.4,45.1,15,14.9]
[null,"Salamanca",11,18.8,47.2,72.400000000000006,91.3,133.30000000000001,157.69999999999999,115.7,78.8,39.4,19,9.4]
[null,"SanSebastián",25.7,28.5,64.5,75.7,98.2,105.2,110.2,100,63.4,46,26.5,19.5]
[null,"SantaCruzDeTenerife",53.5,62.2,101.5,99.4,164.3,174.5,188.8,178.1,120.3,93.8,55.4,46.6]
[null,"Santander",17.5,23.1,48.1,61.1,86.4,94,101.9,93.6,48.3,38.299999999999997,18.5,16.600000000000001]
[null,"Segovia",21.1,25.3,53.8,71.900000000000006,105.6,117.9,142.5,132.4,76.400000000000006,43.5,21.9,16.600000000000001]
[null,"Sevilla",18.399999999999999,30.5,59,83.3,126.7,154.6,166.9,148.6,87,53.4,22.1,12.2]
[null,"Soria",14.4,22.2,48.5,71.5,106.1,131.1,149.1,131.6,69.900000000000006,39.299999999999997,15.9,7.8]
[null,"Tarragona",18.2,30.6,57.5,76.8,112,135.19999999999999,149.9,127,77,49.4,24.2,15.7]
[null,"Teruel",9.6,17.100000000000001,41.1,61.8,100.4,117.7,141.6,125.4,63,33.4,12,73]
[null,"Toledo",14.8,28.3,63.5,91.2,136.9,176.5,193.4,167.4,92.3,51.8,19.600000000000001,9.5]
[null,"Valencia",23.8,32.200000000000003,63.8,82.6,111.9,149.1,155.80000000000001,138.9,83.9,52.6,27,21.9]
[null,"Valladolid",11.2,21.5,52.5,78.3,116.2,143.9,161.5,142.9,77.099999999999994,42.7,15,9.6]
[null,"Vitoria",7.8,13.4,38.1,51.1,77.900000000000006,90.4,104.4,87.5,49.7,28.6,9.1999999999999993,7.8]
[null,"Zamora",16.3,26.7,60.5,80.900000000000006,122,142.30000000000001,173.6,138.1,94.2,43.3,16,12]
[null,"Zaragoza",20.399999999999999,32.6,71.400000000000006,97.4,143.4,170.4,194.5,164.7,94.9,54.2,22.4,15]

{"sheet":"JR","index":20,"n_rows":62,"n_cols":17,"rows_kept":62,"cut":false,"hidden":true,"merged":[[49,2,60,2],[49,8,60,8],[49,9,60,9],[9,2,9,4],[11,8,15,8],[18,8,18,9],[19,2,30,2],[19,8,30,8],[19,9,30,9],[33,8,33,9],[34,2,45,2],[34,8,45,8],[34,9,45,9],[48,8,48,9]]}
[]
[null,"NECESIDADES DE RIEGO JARDÍN DE REFERENCIA"]
[null,{"$f":"IF(C13+D13+E13=0,\"\",(L32*C13+L47*D13+L62*E13)/1000)","v":""}]
[]
[]
[]
[]
[]
[]
[null,null,"Tipos de vegetación"]
[null,"CAPITAL DE PROVINCIA",{"$f":"'RN 02'!E5","v":0},"ESTACIÓN METEOROLÓGICA",{"$f":"'RN 02'!S5","v":"Valencia"},null,null,null,"NECESIDADES DE RIEGO JARDÍN DE REFERENCIA"]
[null,"NOMBRE ESPECIE","pradera","tapizante","arbolado",null,null,null,{"$f":"(L32+L47+L62)/365","v":{"$error":"#VALUE!"}}]
[null,"Area (m2)",{"$f":"IF($C17=\"\",0,IF($C17=1,'RN 02'!$E$27*0.5,IF($C17=2,'RN 02'!$E$27*0.4,IF($C17=3,'RN 02'!$E$27*0.3,'RN 02'!$E$27*0.1))))","v":0},{"$f":"IF($C17=\"\",0,IF($C17=1,'RN 02'!$E$27*0.2,IF($C17=2,'RN 02'!$E$27*0.3,IF($C17=3,'RN 02'!$E$27*0.3,'RN 02'!$E$27*0.5))))","v":0},{"$f":"IF($C17=\"\",0,IF($C17=1,'RN 02'!$E$27*0.3,IF($C17=2,'RN 02'!$E$27*0.3,IF($C17=3,'RN 02'!$E$27*0.4,'RN 02'!$E$27*0.4))))","v":0}]
[null,"Ks",0.7,0.5,0.5]
[null,"Km",{"$f":"'RN 02'!E17","v":""},1,1]
[null,"Kj",{"$f":"C14*C15","v":{"$error":"#VALUE!"}},{"$f":"D14*D15","v":0.5},{"$f":"E14*E15","v":0.5}]
[null,"Zona de verano",{"$f":"'zona clima'!C11","v":""}]
[]
[null,null,"Kj","Eto (mm)","Etj (mm)","P (mm)","Pe (mm)","N (mm)","EA",null,"Nf (mm)","Nf (l/m2)"]
[null,"ENE",{"$f":"C16","v":{"$error":"#VALUE!"}},{"$f":"SUMIFS(ETo!B$2:B$54,ETo!$B$2:$B$54,'RN 02'!$E$5)","v":0},{"$f":"D20*C20","v":{"$error":"#VALUE!"}},{"$f":"SUMIFS(P!B$4:B$85,P!$A$4:$A$85,'RN 02'!$S$5)","v":37},{"$f":"IF(F20<75,(0.6*F20-10),(0.8*F20-25))","v":12.2},{"$f":"IF((E20-G20)<0,0,E20-G20)","v":{"$error":"#VALUE!"}},"Aspersores",0.75,{"$f":"$H20/$J$20","v":{"$error":"#VALUE!"}},{"$f":"K20","v":{"$error":"#VALUE!"}}]
[null,"FEB",null,{"$f":"SUMIFS(ETo!C$2:C$54,ETo!$B$2:$B$54,'RN 02'!$E$5)","v":0},{"$f":"D21*C20","v":{"$error":"#VALUE!"}},{"$f":"SUMIFS(P!C$4:C$85,P!$A$4:$A$85,#REF!)","v":0},{"$f":"IF(F21<75,0.6*F21-10,0.8*F21-25)","v":-10},{"$f":"IF((E21-G21)<0,0,E21-G21)","v":{"$error":"#VALUE!"}},null,null,{"$f":"$H21/$J$20","v":{"$error":"#VALUE!"}},{"$f":"K21","v":{"$error":"#VALUE!"}},null,null,null,"Riego localizado subterráneo",0.95]
[null,"MAR",null,{"$f":"SUMIFS(ETo!D$2:D$54,ETo!$B$2:$B$54,'RN 02'!$E$5)","v":0},{"$f":"D22*C20","v":{"$error":"#VALUE!"}},{"$f":"SUMIFS(P!D$4:D$85,P!$A$4:$A$85,'RN 02'!$S$5)","v":33},9.8000000000000007,{"$error":"#VALUE!"},null,null,{"$error":"#VALUE!"},{"$error":"#VALUE!"},null,null,null,"Riego localizado en superficie",0.9]
[null,"ABR",null,{"$f":"SUMIFS(ETo!E$2:E$54,ETo!$B$2:$B$54,'RN 02'!$E$5)","v":0},{"$f":"D23*C20","v":{"$error":"#VALUE!"}},{"$f":"SUMIFS(P!E$4:E$85,P!$A$4:$A$85,'RN 02'!$S$5)","v":38},12.8,{"$error":"#VALUE!"},null,null,{"$error":"#VALUE!"},{"$error":"#VALUE!"},null,null,null,"Difusores y microaspersores",0.8]
[null,"MAY",null,{"$f":"SUMIFS(ETo!F$2:F$54,ETo!$B$2:$B$54,'RN 02'!$E$5)","v":0},{"$f":"D24*C20","v":{"$error":"#VALUE!"}},{"$f":"SUMIFS(P!F$4:F$85,P!$A$4:$A$85,'RN 02'!$S$5)","v":39},13.399999999999999,{"$error":"#VALUE!"},null,null,{"$error":"#VALUE!"},{"$error":"#VALUE!"},null,null,null,"Aspersores",0.75]
[null,"JUN",null,{"$f":"SUMIFS(ETo!G$2:G$54,ETo!$B$2:$B$54,'RN 02'!$E$5)","v":0},{"$f":"D25*C20","v":{"$error":"#VALUE!"}},{"$f":"SUMIFS(P!G$4:G$85,P!$A$4:$A$85,'RN 02'!$S$5)","v":22},3.1999999999999993,{"$error":"#VALUE!"},null,null,{"$error":"#VALUE!"},{"$error":"#VALUE!"}]
[null,"JUL",null,{"$f":"SUMIFS(ETo!H$2:H$54,ETo!$B$2:$B$54,'RN 02'!$E$5)","v":0},{"$f":"D26*C20","v":{"$error":"#VALUE!"}},{"$f":"SUMIFS(P!H$4:H$85,P!$A$4:$A$85,'RN 02'!$S$5)","v":8},-5.2,{"$error":"#VALUE!"},null,null,{"$error":"#VALUE!"},{"$error":"#VALUE!"}]
[null,"AGO",null,{"$f":"SUMIFS(ETo!I$2:I$54,ETo!$B$2:$B$54,'RN 02'!$E$5)","v":0},{"$f":"D27*C20","v":{"$error":"#VALUE!"}},{"$f":"SUMIFS(P!I$4:I$85,P!$A$4:$A$85,'RN 02'!$S$5)","v":20},2,{"$error":"#VALUE!"},null,null,{"$error":"#VALUE!"},{"$error":"#VALUE!"}]
[null,"SEP",null,{"$f":"SUMIFS(ETo!J$2:J$54,ETo!$B$2:$B$54,'RN 02'!$E$5)","v":0},{"$f":"D28*C20","v":{"$error":"#VALUE!"}},{"$f":"SUMIFS(P!J$4:J$85,P!$A$4:$A$85,'RN 02'!$S$5)","v":70},32,{"$error":"#VALUE!"},null,null,{"$error":"#VALUE!"},{"$error":"#VALUE!"}]
[null,"OCT",null,{"$f":"SUMIFS(ETo!K$2:K$54,ETo!$B$2:$B$54,'RN 02'!$E$5)","v":0},{"$f":"D29*C20","v":{"$error":"#VALUE!"}},{"$f":"SUMIFS(P!K$4:K$85,P!$A$4:$A$85,'RN 02'!$S$5)","v":77},36.6,{"$error":"#VALUE!"},null,null,{"$error":"#VALUE!"},{"$error":"#VALUE!"}]
[null,"NOV",null,{"$f":"SUMIFS(ETo!L$2:L$54,ETo!$B$2:$B$54,'RN 02'!$E$5)","v":0},{"$f":"D30*C20","v":{"$error":"#VALUE!"}},{"$f":"SUMIFS(P!L$4:L$85,P!$A$4:$A$85,'RN 02'!$S$5)","v":47},18.2,{"$error":"#VALUE!"},null,null,{"$error":"#VALUE!"},{"$error":"#VALUE!"}]
[null,"DIC",null,{"$f":"SUMIFS(ETo!M$2:M$54,ETo!$B$2:$B$54,'RN 02'!$E$5)","v":0},{"$f":"D31*C20","v":{"$error":"#VALUE!"}},{"$f":"SUMIFS(P!M$4:M$85,P!$A$4:$A$85,'RN 02'!$S$5)","v":48},18.799999999999997,{"$error":"#VALUE!"},null,null,{"$error":"#VALUE!"},{"$error":"#VALUE!"}]
[null,null,null,null,null,null,null,null,null,null,{"$f":"SUM(K20:K31)","v":{"$error":"#VALUE!"}},{"$f":"SUM(L20:L31)","v":{"$error":"#VALUE!"}}]
[]
[null,null,"Kj","Eto (mm)","Etj (mm)","P (mm)","Pe (mm)","N (mm)","EA",null,"Nf (mm)","Nf (l/m2)"]
[null,"ENE",{"$f":"D16","v":0.5},{"$f":"SUMIFS(ETo!B$2:B$54,ETo!$B$2:$B$54,'RN 02'!$E$5)","v":0},{"$f":"D35*C35","v":0},{"$f":"SUMIFS(P!B$4:B$85,P!$A$4:$A$85,'RN 02'!$S$5)","v":37},{"$f":"IF(F35<75,(0.6*F35-10),(0.8*F35-25))","v":12.2},{"$f":"IF((E35-G35)<0,0,E35-G35)","v":0},"Riego localizado en superficie",0.9,{"$f":"$H35/$J$35","v":0},{"$f":"K35","v":0}]
[null,"FEB",null,{"$f":"SUMIFS(ETo!C$2:C$54,ETo!$B$2:$B$54,'RN 02'!$E$5)","v":0},{"$f":"D36*C35","v":0},{"$f":"SUMIFS(P!C$4:C$85,P!$A$4:$A$85,'RN 02'!$S$5)","v":36},{"$f":"IF(F36<75,0.6*F36-10,0.8*F36-25)","v":11.599999999999998},{"$f":"IF((E36-G36)<0,0,E36-G36)","v":0},null,null,{"$f":"$H36/$J$20","v":0},{"$f":"K36","v":0}]
[null,"MAR",null,{"$f":"SUMIFS(ETo!D$2:D$54,ETo!$B$2:$B$54,'RN 02'!$E$5)","v":0},{"$f":"D37*C35","v":0},{"$f":"SUMIFS(P!D$4:D$85,P!$A$4:$A$85,'RN 02'!$S$5)","v":33},9.8000000000000007,0,null,null,0,0]
[null,"ABR",null,{"$f":"SUMIFS(ETo!E$2:E$54,ETo!$B$2:$B$54,'RN 02'!$E$5)","v":0},{"$f":"D38*C35","v":0},{"$f":"SUMIFS(P!E$4:E$85,P!$A$4:$A$85,'RN 02'!$S$5)","v":38},12.8,0,null,null,0,0]
[null,"MAY",null,{"$f":"SUMIFS(ETo!F$2:F$54,ETo!$B$2:$B$54,'RN 02'!$E$5)","v":0},{"$f":"D39*C35","v":0},{"$f":"SUMIFS(P!F$4:F$85,P!$A$4:$A$85,'RN 02'!$S$5)","v":39},13.399999999999999,0,null,null,0,0]
[null,"JUN",null,{"$f":"SUMIFS(ETo!G$2:G$54,ETo!$B$2:$B$54,'RN 02'!$E$5)","v":0},{"$f":"D40*C35","v":0},{"$f":"SUMIFS(P!G$4:G$85,P!$A$4:$A$85,'RN 02'!$S$5)","v":22},3.1999999999999993,0,null,null,0,0]
[null,"JUL",null,{"$f":"SUMIFS(ETo!H$2:H$54,ETo!$B$2:$B$54,'RN 02'!$E$5)","v":0},{"$f":"D41*C35","v":0},{"$f":"SUMIFS(P!H$4:H$85,P!$A$4:$A$85,'RN 02'!$S$5)","v":8},-5.2,5.2,null,null,6.9333333333333336,6.9333333333333336]
[null,"AGO",null,{"$f":"SUMIFS(ETo!I$2:I$54,ETo!$B$2:$B$54,'RN 02'!$E$5)","v":0},{"$f":"D42*C35","v":0},{"$f":"SUMIFS(P!I$4:I$85,P!$A$4:$A$85,'RN 02'!$S$5)","v":20},2,0,null,null,0,0]
[null,"SEP",null,{"$f":"SUMIFS(ETo!J$2:J$54,ETo!$B$2:$B$54,'RN 02'!$E$5)","v":0},{"$f":"D43*C35","v":0},{"$f":"SUMIFS(P!J$4:J$85,P!$A$4:$A$85,'RN 02'!$S$5)","v":70},32,0,null,null,0,0]
[null,"OCT",null,{"$f":"SUMIFS(ETo!K$2:K$54,ETo!$B$2:$B$54,'RN 02'!$E$5)","v":0},{"$f":"D44*C35","v":0},{"$f":"SUMIFS(P!K$4:K$85,P!$A$4:$A$85,'RN 02'!$S$5)","v":77},36.6,0,null,null,0,0]
[null,"NOV",null,{"$f":"SUMIFS(ETo!L$2:L$54,ETo!$B$2:$B$54,'RN 02'!$E$5)","v":0},{"$f":"D45*C35","v":0},{"$f":"SUMIFS(P!L$4:L$85,P!$A$4:$A$85,'RN 02'!$S$5)","v":47},18.2,0,null,null,0,0]
[null,"DIC",null,{"$f":"SUMIFS(ETo!M$2:M$54,ETo!$B$2:$B$54,'RN 02'!$E$5)","v":0},{"$f":"D46*C35","v":0},{"$f":"SUMIFS(P!M$4:M$85,P!$A$4:$A$85,'RN 02'!$S$5)","v":48},18.799999999999997,0,null,null,0,0]
[null,null,null,null,null,null,null,null,null,null,{"$f":"SUM(K35:K46)","v":6.9333333333333336},{"$f":"SUM(L35:L46)","v":6.9333333333333336}]
[]
[null,null,"Kj","Eto (mm)","Etj (mm)","P (mm)","Pe (mm)","N (mm)","EA",null,"Nf (mm)","Nf (l/m2)"]
[null,"ENE",{"$f":"E16","v":0.5},{"$f":"SUMIFS(ETo!B$2:B$54,ETo!$B$2:$B$54,'RN 02'!$E$5)","v":0},{"$f":"D50*C50","v":0},{"$f":"SUMIFS(P!B$4:B$85,P!$A$4:$A$85,'RN 02'!$S$5)","v":37},{"$f":"IF(F50<75,(0.6*F50-10),(0.8*F50-25))","v":12.2},{"$f":"IF((E50-G50)<0,0,E50-G50)","v":0},"Riego localizado subterráneo",0.95,{"$f":"$H50/$J$50","v":0},{"$f":"K50","v":0}]
[null,"FEB",null,{"$f":"SUMIFS(ETo!C$2:C$54,ETo!$B$2:$B$54,'RN 02'!$E$5)","v":0},{"$f":"D51*C50","v":0},{"$f":"SUMIFS(P!C$4:C$85,P!$A$4:$A$85,'RN 02'!$S$5)","v":36},{"$f":"IF(F51<75,0.6*F51-10,0.8*F51-25)","v":11.599999999999998},{"$f":"IF((E51-G51)<0,0,E51-G51)","v":0},null,null,{"$f":"$H51/$J$20","v":0},{"$f":"K51","v":0}]
[null,"MAR",null,{"$f":"SUMIFS(ETo!D$2:D$54,ETo!$B$2:$B$54,'RN 02'!$E$5)","v":0},{"$f":"D52*C50","v":0},{"$f":"SUMIFS(P!D$4:D$85,P!$A$4:$A$85,'RN 02'!$S$5)","v":33},9.8000000000000007,0,null,null,0,0]
[null,"ABR",null,{"$f":"SUMIFS(ETo!E$2:E$54,ETo!$B$2:$B$54,'RN 02'!$E$5)","v":0},{"$f":"D53*C50","v":0},{"$f":"SUMIFS(P!E$4:E$85,P!$A$4:$A$85,'RN 02'!$S$5)","v":38},12.8,0,null,null,0,0]
[null,"MAY",null,{"$f":"SUMIFS(ETo!F$2:F$54,ETo!$B$2:$B$54,'RN 02'!$E$5)","v":0},{"$f":"D54*C50","v":0},{"$f":"SUMIFS(P!F$4:F$85,P!$A$4:$A$85,'RN 02'!$S$5)","v":39},13.399999999999999,0,null,null,0,0]
[null,"JUN",null,{"$f":"SUMIFS(ETo!G$2:G$54,ETo!$B$2:$B$54,'RN 02'!$E$5)","v":0},{"$f":"D55*C50","v":0},{"$f":"SUMIFS(P!G$4:G$85,P!$A$4:$A$85,'RN 02'!$S$5)","v":22},3.1999999999999993,0,null,null,0,0]
[null,"JUL",null,{"$f":"SUMIFS(ETo!H$2:H$54,ETo!$B$2:$B$54,'RN 02'!$E$5)","v":0},{"$f":"D56*C50","v":0},{"$f":"SUMIFS(P!H$4:H$85,P!$A$4:$A$85,'RN 02'!$S$5)","v":8},-5.2,5.2,null,null,6.9333333333333336,6.9333333333333336]
[null,"AGO",null,{"$f":"SUMIFS(ETo!I$2:I$54,ETo!$B$2:$B$54,'RN 02'!$E$5)","v":0},{"$f":"D57*C50","v":0},{"$f":"SUMIFS(P!I$4:I$85,P!$A$4:$A$85,'RN 02'!$S$5)","v":20},2,0,null,null,0,0]
[null,"SEP",null,{"$f":"SUMIFS(ETo!J$2:J$54,ETo!$B$2:$B$54,'RN 02'!$E$5)","v":0},{"$f":"D58*C50","v":0},{"$f":"SUMIFS(P!J$4:J$85,P!$A$4:$A$85,'RN 02'!$S$5)","v":70},32,0,null,null,0,0]
[null,"OCT",null,{"$f":"SUMIFS(ETo!K$2:K$54,ETo!$B$2:$B$54,'RN 02'!$E$5)","v":0},{"$f":"D59*C50","v":0},{"$f":"SUMIFS(P!K$4:K$85,P!$A$4:$A$85,'RN 02'!$S$5)","v":77},36.6,0,null,null,0,0]
[null,"NOV",null,{"$f":"SUMIFS(ETo!L$2:L$54,ETo!$B$2:$B$54,'RN 02'!$E$5)","v":0},{"$f":"D60*C50","v":0},{"$f":"SUMIFS(P!L$4:L$85,P!$A$4:$A$85,'RN 02'!$S$5)","v":47},18.2,0,null,null,0,0]
[null,"DIC",null,{"$f":"SUMIFS(ETo!M$2:M$54,ETo!$B$2:$B$54,'RN 02'!$E$5)","v":0},{"$f":"D61*C50","v":0},{"$f":"SUMIFS(P!M$4:M$85,P!$A$4:$A$85,'RN 02'!$S$5)","v":48},18.799999999999997,0,null,null,0,0]
[null,null,null,null,null,null,null,null,null,null,{"$f":"SUM(K50:K61)","v":6.9333333333333336},{"$f":"SUM(L50:L61)","v":6.9333333333333336}]

{"sheet":"Nf","index":21,"n_rows":339,"n_cols":37,"rows_kept":339,"cut":false,"hidden":true,"merged":[[314,4,336,4],[314,16,336,16],[258,4,280,4],[258,16,280,16],[284,4,284,17],[286,4,308,4],[286,16,308,16],[312,4,312,17],[256,4,256,17],[146,4,168,4],[146,16,168,16],[172,4,172,17],[174,4,196,4],[174,16,196,16],[200,4,200,17],[202,4,224,4],[202,16,224,16],[228,4,228,17],[230,4,252,4],[230,16,252,16],[144,4,144,17],[34,4,56,4],[34,16,56,16],[60,4,60,17],[62,4,84,4],[62,16,84,16],[88,4,88,17],[90,4,112,4],[90,16,112,16],[116,4,116,17],[118,4,140,4],[118,16,140,16],[32,4,32,17],[1,2,1,18],[2,2,2,18],[4,4,4,17],[6,4,28,4],[6,16,28,16]]}
[]
[null,null,"VERDE HACES Consumo de riego"]
[null,null,"VERDE Residencial v 1.W"]
[null,null,null,null,null,null,null,null,null,null,null,null,null,null,null,null,null,null,null,null,null,null,null,null,null,null,null,"Albacete",null,"ANDALUCIA"]
[null,null,null,null,{"$f":"IF('RN 02'!E7>0,'RN 02'!E7,\"\")","v":""}]
[null,null,null,null,"Kj",null,"Eto (mm)",null,"Etj (mm)",null,"P (mm)",null,"Pe (mm)",null,"N (mm)",null,null,"Nf (l/m2)"]
[null,null,null,"ENE",{"$f":"'RN 02'!E19","v":""},null,{"$f":"SUMIFS(ETo!C$2:C$54,ETo!$B$2:$B$54,'RN 02'!$E$5)","v":0},null,{"$f":"IF(E$7=\"\",\"\",G7*E$7)","v":""},null,{"$f":"SUMIFS(P!B$4:B$85,P!$A$4:$A$85,'RN 02'!$S$5)","v":37},null,{"$f":"IF(K7<75,(0.6*K7-10),(0.8*K7-25))","v":12.2},null,{"$f":"IF(I7=\"\",\"\",IF((I7-M7)<0,0,I7-M7))","v":""},null,{"$f":"VLOOKUP('RN 02'!E$21,$Z$11:$AA$19,2,FALSE)","v":{"$error":"#N/A"}},{"$f":"IF(O7=\"\",\"\",O7/$Q$7)","v":""},null,{"$f":"IF(R7=\"\",0,R7)","v":0},"ENE",{"$f":"T7+T35+T63+T91+T119+T147+T175+T203+T231+T259+T287+T315","v":0},null,{"$f":"SUMIFS(P!B$4:B$85,P!$A$4:$A$85,'RN 02'!$S$5)","v":37},{"$f":"SUMIFS(P!C$4:C$85,P!$A$4:$A$85,'RN 02'!$S$5)","v":36},{"$f":"SUMIFS(P!D$4:D$85,P!$A$4:$A$85,'RN 02'!$S$5)","v":33},{"$f":"SUMIFS(P!E$4:E$85,P!$A$4:$A$85,'RN 02'!$S$5)","v":38},{"$f":"SUMIFS(P!F$4:F$85,P!$A$4:$A$85,'RN 02'!$S$5)","v":39},{"$f":"SUMIFS(P!G$4:G$85,P!$A$4:$A$85,'RN 02'!$S$5)","v":22},{"$f":"SUMIFS(P!H$4:H$85,P!$A$4:$A$85,'RN 02'!$S$5)","v":8},{"$f":"SUMIFS(P!I$4:I$85,P!$A$4:$A$85,'RN 02'!$S$5)","v":20},{"$f":"SUMIFS(P!J$4:J$85,P!$A$4:$A$85,'RN 02'!$S$5)","v":70},{"$f":"SUMIFS(P!K$4:K$85,P!$A$4:$A$85,'RN 02'!$S$5)","v":77},{"$f":"SUMIFS(P!L$4:L$85,P!$A$4:$A$85,'RN 02'!$S$5)","v":47},{"$f":"SUMIFS(P!M$4:M$85,P!$A$4:$A$85,'RN 02'!$S$5)","v":48},"ENE",{"$f":"IFERROR(R7+R35+R63+R91+R119+R147+R175+R203+R231+R259+R287+R315,0)","v":0}]
[]
[null,null,null,"FEB",null,null,{"$f":"SUMIFS(ETo!D$2:D$54,ETo!$B$2:$B$54,'RN 02'!$E$5)","v":0},null,{"$f":"IF(E$7=\"\",\"\",G9*E$7)","v":""},null,{"$f":"SUMIFS(P!C$4:C$85,P!$A$4:$A$85,'RN 02'!$S$5)","v":36},null,{"$f":"IF(K9<75,(0.6*K9-10),(0.8*K9-25))","v":11.599999999999998},null,{"$f":"IF(I9=\"\",\"\",IF((I9-M9)<0,0,I9-M9))","v":""},null,null,{"$f":"IF(O9=\"\",\"\",O9/$Q$7)","v":""},null,{"$f":"IF(R9=\"\",0,R9)","v":0},"FEB",{"$f":"T9+T37+T65+T93+T121+T149+T177+T205+T233+T261+T289+T317","v":0},null,null,null,null,null,null,null,null,null,null,null,null,null,"FEB",{"$f":"IFERROR(R9+R37+R65+R93+R121+R149+R177+R205+R233+R261+R289+R317,0)","v":0}]
[]
[null,null,null,"MAR",null,null,{"$f":"SUMIFS(ETo!E$2:E$54,ETo!$B$2:$B$54,'RN 02'!$E$5)","v":0},null,{"$f":"IF(E$7=\"\",\"\",G11*E$7)","v":""},null,{"$f":"SUMIFS(P!D$4:D$85,P!$A$4:$A$85,'RN 02'!$S$5)","v":33},null,9.8000000000000007,null,{"$f":"IF(I11=\"\",\"\",IF((I11-M11)<0,0,I11-M11))","v":""},null,null,{"$f":"IF(O11=\"\",\"\",O11/$Q$7)","v":""},null,0,"MAR",0,null,null,null,"Riego localizado subterráneo",0.95,null,null,null,null,null,null,null,null,"MAR",{"$f":"IFERROR(R11+R39+R67+R95+R123+R151+R179+R207+R235+R263+R291+R319,0)","v":0}]
[]
[null,null,null,"ABR",null,null,{"$f":"SUMIFS(ETo!F$2:F$54,ETo!$B$2:$B$54,'RN 02'!$E$5)","v":0},null,{"$f":"IF(E$7=\"\",\"\",G13*E$7)","v":""},null,{"$f":"SUMIFS(P!E$4:E$85,P!$A$4:$A$85,'RN 02'!$S$5)","v":38},null,12.8,null,{"$f":"IF(I13=\"\",\"\",IF((I13-M13)<0,0,I13-M13))","v":""},null,null,{"$f":"IF(O13=\"\",\"\",O13/$Q$7)","v":""},null,0,"ABR",0,null,null,null,"Riego localizado en superficie",0.9,null,null,null,null,null,null,null,null,"ABR",{"$f":"IFERROR(R13+R41+R69+R97+R125+R153+R181+R209+R237+R265+R293+R321,0)","v":0}]
[]
[null,null,null,"MAY",null,null,{"$f":"SUMIFS(ETo!G$2:G$54,ETo!$B$2:$B$54,'RN 02'!$E$5)","v":0},null,{"$f":"IF(E$7=\"\",\"\",G15*E$7)","v":""},null,{"$f":"SUMIFS(P!F$4:F$85,P!$A$4:$A$85,'RN 02'!$S$5)","v":39},null,13.399999999999999,null,{"$f":"IF(I15=\"\",\"\",IF((I15-M15)<0,0,I15-M15))","v":""},null,null,{"$f":"IF(O15=\"\",\"\",O15/$Q$7)","v":""},null,0,"MAY",0,null,null,null,"Difusores y microaspersores",0.8,null,null,null,null,null,null,null,null,"MAY",{"$f":"IFERROR(R15+R43+R71+R99+R127+R155+R183+R211+R239+R267+R295+R323,0)","v":0}]
[]
[null,null,null,"JUN",null,null,{"$f":"SUMIFS(ETo!H$2:H$54,ETo!$B$2:$B$54,'RN 02'!$E$5)","v":0},null,{"$f":"IF(E$7=\"\",\"\",G17*E$7)","v":""},null,{"$f":"SUMIFS(P!G$4:G$85,P!$A$4:$A$85,'RN 02'!$S$5)","v":22},null,3.1999999999999993,null,{"$f":"IF(I17=\"\",\"\",IF((I17-M17)<0,0,I17-M17))","v":""},null,null,{"$f":"IF(O17=\"\",\"\",O17/$Q$7)","v":""},null,0,"JUN",0,null,null,null,"Aspersores",0.75,null,null,null,null,null,null,null,null,"JUN",{"$f":"IFERROR(R17+R45+R73+R101+R129+R157+R185+R213+R241+R269+R297+R325,0)","v":0}]
[]
[null,null,null,"JUL",null,null,{"$f":"SUMIFS(ETo!I$2:I$54,ETo!$B$2:$B$54,'RN 02'!$E$5)","v":0},null,{"$f":"IF(E$7=\"\",\"\",G19*E$7)","v":""},null,{"$f":"SUMIFS(P!H$4:H$85,P!$A$4:$A$85,'RN 02'!$S$5)","v":8},null,-5.2,null,{"$f":"IF(I19=\"\",\"\",IF((I19-M19)<0,0,I19-M19))","v":""},null,null,{"$f":"IF(O19=\"\",\"\",O19/$Q$7)","v":""},null,0,"JUL",0,null,null,null,"Superficie",0.55000000000000004,null,null,null,null,null,null,null,null,"JUL",{"$f":"IFERROR(R19+R47+R75+R103+R131+R159+R187+R215+R243+R271+R299+R327,0)","v":0}]
[]
[null,null,null,"AGO",null,null,{"$f":"SUMIFS(ETo!J$2:J$54,ETo!$B$2:$B$54,'RN 02'!$E$5)","v":0},null,{"$f":"IF(E$7=\"\",\"\",G21*E$7)","v":""},null,{"$f":"SUMIFS(P!I$4:I$85,P!$A$4:$A$85,'RN 02'!$S$5)","v":20},null,2,null,{"$f":"IF(I21=\"\",\"\",IF((I21-M21)<0,0,I21-M21))","v":""},null,null,{"$f":"IF(O21=\"\",\"\",O21/$Q$7)","v":""},null,0,"AGO",0,null,null,null,null,null,null,null,null,null,null,null,null,null,"AGO",{"$f":"IFERROR(R21+R49+R77+R105+R133+R161+R189+R217+R245+R273+R301+R329,0)","v":0}]
[]
[null,null,null,"SEP",null,null,{"$f":"SUMIFS(ETo!K$2:K$54,ETo!$B$2:$B$54,'RN 02'!$E$5)","v":0},null,{"$f":"IF(E$7=\"\",\"\",G23*E$7)","v":""},null,{"$f":"SUMIFS(P!J$4:J$85,P!$A$4:$A$85,'RN 02'!$S$5)","v":70},null,32,null,{"$f":"IF(I23=\"\",\"\",IF((I23-M23)<0,0,I23-M23))","v":""},null,null,{"$f":"IF(O23=\"\",\"\",O23/$Q$7)","v":""},null,0,"SEP",0,null,null,null,null,null,null,null,null,null,null,null,null,null,"SEP",{"$f":"IFERROR(R23+R51+R79+R107+R135+R163+R191+R219+R247+R275+R303+R331,0)","v":0}]
[]
[null,null,null,"OCT",null,null,{"$f":"SUMIFS(ETo!L$2:L$54,ETo!$B$2:$B$54,'RN 02'!$E$5)","v":0},null,{"$f":"IF(E$7=\"\",\"\",G25*E$7)","v":""},null,{"$f":"SUMIFS(P!K$4:K$85,P!$A$4:$A$85,'RN 02'!$S$5)","v":77},null,36.6,null,{"$f":"IF(I25=\"\",\"\",IF((I25-M25)<0,0,I25-M25))","v":""},null,null,{"$f":"IF(O25=\"\",\"\",O25/$Q$7)","v":""},null,0,"OCT",0,null,null,null,null,null,null,null,null,null,null,null,null,null,"OCT",{"$f":"IFERROR(R25+R53+R81+R109+R137+R165+R193+R221+R249+R277+R305+R333,0)","v":0}]
[]
[null,null,null,"NOV",null,null,{"$f":"SUMIFS(ETo!M$2:M$54,ETo!$B$2:$B$54,'RN 02'!$E$5)","v":0},null,{"$f":"IF(E$7=\"\",\"\",G27*E$7)","v":""},null,{"$f":"SUMIFS(P!L$4:L$85,P!$A$4:$A$85,'RN 02'!$S$5)","v":47},null,18.2,null,{"$f":"IF(I27=\"\",\"\",IF((I27-M27)<0,0,I27-M27))","v":""},null,null,{"$f":"IF(O27=\"\",\"\",O27/$Q$7)","v":""},null,0,"NOV",0,null,null,null,null,null,null,null,null,null,null,null,null,null,"NOV",{"$f":"IFERROR(R27+R55+R83+R111+R139+R167+R195+R223+R251+R279+R307+R335,0)","v":0}]
[]
[null,null,null,"DIC",null,null,{"$f":"SUMIFS(ETo!N$2:N$54,ETo!$B$2:$B$54,'RN 02'!$E$5)","v":0},null,{"$f":"IF(E$7=\"\",\"\",G29*E$7)","v":""},null,{"$f":"SUMIFS(P!M$4:M$85,P!$A$4:$A$85,'RN 02'!$S$5)","v":48},null,18.799999999999997,null,{"$f":"IF(I29=\"\",\"\",IF((I29-M29)<0,0,I29-M29))","v":""},null,null,{"$f":"IF(O29=\"\",\"\",O29/$Q$7)","v":""},null,0,"DIC",0,null,null,null,null,null,null,null,null,null,null,null,null,null,"DIC",{"$f":"IFERROR(R29+R57+R85+R113+R141+R169+R197+R225+R253+R281+R309+R337,0)","v":0}]
[]
[null,null,null,null,null,null,null,null,null,null,null,null,null,null,null,null,null,{"$f":"SUM(R7:R29)","v":0},null,0]
[]
[null,null,null,null,{"$f":"IF('RN 02'!G7>0,'RN 02'!G7,\"\")","v":""}]
[null,null,null,null,"Kj",null,"Eto (mm)",null,"Etj (mm)",null,"P (mm)",null,"Pe (mm)",null,"N (mm)",null,null,"Nf (mm)"]
[null,null,null,"ENE",{"$f":"'RN 02'!G19","v":""},null,{"$f":"SUMIFS(ETo!C$2:C$54,ETo!$B$2:$B$54,'RN 02'!$E$5)","v":0},null,{"$f":"IF(E$35=\"\",\"\",G35*E$35)","v":""},null,{"$f":"SUMIFS(P!B$4:B$85,P!$A$4:$A$85,'RN 02'!$S$5)","v":37},null,{"$f":"IF(K35<75,(0.6*K35-10),(0.8*K35-25))","v":12.2},null,{"$f":"IF(I35=\"\",\"\",IF((I35-M35)<0,0,I35-M35))","v":""},null,{"$f":"VLOOKUP('RN 02'!G$21,$Z$11:$AA$19,2,FALSE)","v":{"$error":"#N/A"}},{"$f":"IF(O35=\"\",\"\",O35/$Q$35)","v":""},null,{"$f":"IF(R35=\"\",0,R35)","v":0}]
[]
[null,null,null,"FEB",null,null,{"$f":"SUMIFS(ETo!D$2:D$54,ETo!$B$2:$B$54,'RN 02'!$E$5)","v":0},null,{"$f":"IF(E$35=\"\",\"\",G37*E$35)","v":""},null,{"$f":"SUMIFS(P!C$4:C$85,P!$A$4:$A$85,'RN 02'!$S$5)","v":36},null,{"$f":"IF(K37<75,0.6*K37-10,0.8*K37-25)","v":11.599999999999998},null,{"$f":"IF(I37=\"\",\"\",IF((I37-M37)<0,0,I37-M37))","v":""},null,null,{"$f":"IF(O37=\"\",\"\",O37/$Q$35)","v":""},null,0]
[]
[null,null,null,"MAR",null,null,{"$f":"SUMIFS(ETo!E$2:E$54,ETo!$B$2:$B$54,'RN 02'!$E$5)","v":0},null,{"$f":"IF(E$35=\"\",\"\",G39*E$35)","v":""},null,{"$f":"SUMIFS(P!D$4:D$85,P!$A$4:$A$85,'RN 02'!$S$5)","v":33},null,9.8000000000000007,null,{"$f":"IF(I39=\"\",\"\",IF((I39-M39)<0,0,I39-M39))","v":""},null,null,{"$f":"IF(O39=\"\",\"\",O39/$Q$35)","v":""},null,0,null,null,null,null,null,"Riego localizado subterráneo",0.95]
[]
[null,null,null,"ABR",null,null,{"$f":"SUMIFS(ETo!F$2:F$54,ETo!$B$2:$B$54,'RN 02'!$E$5)","v":0},null,{"$f":"IF(E$35=\"\",\"\",G41*E$35)","v":""},null,{"$f":"SUMIFS(P!E$4:E$85,P!$A$4:$A$85,'RN 02'!$S$5)","v":38},null,12.8,null,{"$f":"IF(I41=\"\",\"\",IF((I41-M41)<0,0,I41-M41))","v":""},null,null,{"$f":"IF(O41=\"\",\"\",O41/$Q$35)","v":""},null,0,null,null,null,null,null,"Riego localizado en superficie",0.9]
[]
[null,null,null,"MAY",null,null,{"$f":"SUMIFS(ETo!G$2:G$54,ETo!$B$2:$B$54,'RN 02'!$E$5)","v":0},null,{"$f":"IF(E$35=\"\",\"\",G43*E$35)","v":""},null,{"$f":"SUMIFS(P!F$4:F$85,P!$A$4:$A$85,'RN 02'!$S$5)","v":39},null,13.399999999999999,null,{"$f":"IF(I43=\"\",\"\",IF((I43-M43)<0,0,I43-M43))","v":""},null,null,{"$f":"IF(O43=\"\",\"\",O43/$Q$35)","v":""},null,0,null,null,null,null,null,"Difusores y microaspersores",0.8]
[]
[null,null,null,"JUN",null,null,{"$f":"SUMIFS(ETo!H$2:H$54,ETo!$B$2:$B$54,'RN 02'!$E$5)","v":0},null,{"$f":"IF(E$35=\"\",\"\",G45*E$35)","v":""},null,{"$f":"SUMIFS(P!G$4:G$85,P!$A$4:$A$85,'RN 02'!$S$5)","v":22},null,3.1999999999999993,null,{"$f":"IF(I45=\"\",\"\",IF((I45-M45)<0,0,I45-M45))","v":""},null,null,{"$f":"IF(O45=\"\",\"\",O45/$Q$35)","v":""},null,0,null,null,null,null,null,"Aspersores",0.75]
[]
[null,null,null,"JUL",null,null,{"$f":"SUMIFS(ETo!I$2:I$54,ETo!$B$2:$B$54,'RN 02'!$E$5)","v":0},null,{"$f":"IF(E$35=\"\",\"\",G47*E$35)","v":""},null,{"$f":"SUMIFS(P!H$4:H$85,P!$A$4:$A$85,'RN 02'!$S$5)","v":8},null,-5.2,null,{"$f":"IF(I47=\"\",\"\",IF((I47-M47)<0,0,I47-M47))","v":""},null,null,{"$f":"IF(O47=\"\",\"\",O47/$Q$35)","v":""},null,0,null,null,null,null,null,"Superficie",0.55000000000000004]
[]
[null,null,null,"AGO",null,null,{"$f":"SUMIFS(ETo!J$2:J$54,ETo!$B$2:$B$54,'RN 02'!$E$5)","v":0},null,{"$f":"IF(E$35=\"\",\"\",G49*E$35)","v":""},null,{"$f":"SUMIFS(P!I$4:I$85,P!$A$4:$A$85,'RN 02'!$S$5)","v":20},null,2,null,{"$f":"IF(I49=\"\",\"\",IF((I49-M49)<0,0,I49-M49))","v":""},null,null,{"$f":"IF(O49=\"\",\"\",O49/$Q$35)","v":""},null,0]
[]
[null,null,null,"SEP",null,null,{"$f":"SUMIFS(ETo!K$2:K$54,ETo!$B$2:$B$54,'RN 02'!$E$5)","v":0},null,{"$f":"IF(E$35=\"\",\"\",G51*E$35)","v":""},null,{"$f":"SUMIFS(P!J$4:J$85,P!$A$4:$A$85,'RN 02'!$S$5)","v":70},null,32,null,{"$f":"IF(I51=\"\",\"\",IF((I51-M51)<0,0,I51-M51))","v":""},null,null,{"$f":"IF(O51=\"\",\"\",O51/$Q$35)","v":""},null,0]
[]
[null,null,null,"OCT",null,null,{"$f":"SUMIFS(ETo!L$2:L$54,ETo!$B$2:$B$54,'RN 02'!$E$5)","v":0},null,{"$f":"IF(E$35=\"\",\"\",G53*E$35)","v":""},null,{"$f":"SUMIFS(P!K$4:K$85,P!$A$4:$A$85,'RN 02'!$S$5)","v":77},null,36.6,null,{"$f":"IF(I53=\"\",\"\",IF((I53-M53)<0,0,I53-M53))","v":""},null,null,{"$f":"IF(O53=\"\",\"\",O53/$Q$35)","v":""},null,0]
[]
[null,null,null,"NOV",null,null,{"$f":"SUMIFS(ETo!M$2:M$54,ETo!$B$2:$B$54,'RN 02'!$E$5)","v":0},null,{"$f":"IF(E$35=\"\",\"\",G55*E$35)","v":""},null,{"$f":"SUMIFS(P!L$4:L$85,P!$A$4:$A$85,'RN 02'!$S$5)","v":47},null,18.2,null,{"$f":"IF(I55=\"\",\"\",IF((I55-M55)<0,0,I55-M55))","v":""},null,null,{"$f":"IF(O55=\"\",\"\",O55/$Q$35)","v":""},null,0]
[]
[null,null,null,"DIC",null,null,{"$f":"SUMIFS(ETo!N$2:N$54,ETo!$B$2:$B$54,'RN 02'!$E$5)","v":0},null,{"$f":"IF(E$35=\"\",\"\",G57*E$35)","v":""},null,{"$f":"SUMIFS(P!M$4:M$85,P!$A$4:$A$85,'RN 02'!$S$5)","v":48},null,18.799999999999997,null,{"$f":"IF(I57=\"\",\"\",IF((I57-M57)<0,0,I57-M57))","v":""},null,null,{"$f":"IF(O57=\"\",\"\",O57/$Q$35)","v":""},null,0]
[]
[null,null,null,null,null,null,null,null,null,null,null,null,null,null,null,null,null,{"$f":"SUM(R35:R57)","v":0},null,0]
[]
[null,null,null,null,{"$f":"IF('RN 02'!I7>0,'RN 02'!I7,\"\")","v":""}]
[null,null,null,null,"Kj",null,"Eto (mm)",null,"Etj (mm)",null,"P (mm)",null,"Pe (mm)",null,"N (mm)",null,null,"Nf (mm)"]
[null,null,null,"ENE",{"$f":"'RN 02'!I19","v":""},null,{"$f":"SUMIFS(ETo!C$2:C$54,ETo!$B$2:$B$54,'RN 02'!$E$5)","v":0},null,{"$f":"IF(E$63=\"\",\"\",G63*E$63)","v":""},null,{"$f":"SUMIFS(P!B$4:B$85,P!$A$4:$A$85,'RN 02'!$S$5)","v":37},null,{"$f":"IF(K63<75,(0.6*K63-10),(0.8*K63-25))","v":12.2},null,{"$f":"IF(I63=\"\",\"\",IF((I63-M63)<0,0,I63-M63))","v":""},null,{"$f":"VLOOKUP('RN 02'!I$21,$Z$11:$AA$19,2,FALSE)","v":{"$error":"#N/A"}},{"$f":"IF(O63=\"\",\"\",O63/$Q$63)","v":""},null,{"$f":"IF(R63=\"\",0,R63)","v":0}]
[]
[null,null,null,"FEB",null,null,{"$f":"SUMIFS(ETo!D$2:D$54,ETo!$B$2:$B$54,'RN 02'!$E$5)","v":0},null,{"$f":"IF(E$63=\"\",\"\",G65*E$63)","v":""},null,{"$f":"SUMIFS(P!C$4:C$85,P!$A$4:$A$85,'RN 02'!$S$5)","v":36},null,{"$f":"IF(K65<75,0.6*K65-10,0.8*K65-25)","v":11.599999999999998},null,{"$f":"IF(I65=\"\",\"\",IF((I65-M65)<0,0,I65-M65))","v":""},null,null,{"$f":"IF(O65=\"\",\"\",O65/$Q$63)","v":""},null,0]
[]
[null,null,null,"MAR",null,null,{"$f":"SUMIFS(ETo!E$2:E$54,ETo!$B$2:$B$54,'RN 02'!$E$5)","v":0},null,{"$f":"IF(E$63=\"\",\"\",G67*E$63)","v":""},null,{"$f":"SUMIFS(P!D$4:D$85,P!$A$4:$A$85,'RN 02'!$S$5)","v":33},null,9.8000000000000007,null,{"$f":"IF(I67=\"\",\"\",IF((I67-M67)<0,0,I67-M67))","v":""},null,null,{"$f":"IF(O67=\"\",\"\",O67/$Q$63)","v":""},null,0,null,null,null,null,null,"Riego localizado subterráneo",0.95]
[]
[null,null,null,"ABR",null,null,{"$f":"SUMIFS(ETo!F$2:F$54,ETo!$B$2:$B$54,'RN 02'!$E$5)","v":0},null,{"$f":"IF(E$63=\"\",\"\",G69*E$63)","v":""},null,{"$f":"SUMIFS(P!E$4:E$85,P!$A$4:$A$85,'RN 02'!$S$5)","v":38},null,12.8,null,{"$f":"IF(I69=\"\",\"\",IF((I69-M69)<0,0,I69-M69))","v":""},null,null,{"$f":"IF(O69=\"\",\"\",O69/$Q$63)","v":""},null,0,null,null,null,null,null,"Riego localizado en superficie",0.9]
[]
[null,null,null,"MAY",null,null,{"$f":"SUMIFS(ETo!G$2:G$54,ETo!$B$2:$B$54,'RN 02'!$E$5)","v":0},null,{"$f":"IF(E$63=\"\",\"\",G71*E$63)","v":""},null,{"$f":"SUMIFS(P!F$4:F$85,P!$A$4:$A$85,'RN 02'!$S$5)","v":39},null,13.399999999999999,null,{"$f":"IF(I71=\"\",\"\",IF((I71-M71)<0,0,I71-M71))","v":""},null,null,{"$f":"IF(O71=\"\",\"\",O71/$Q$63)","v":""},null,0,null,null,null,null,null,"Difusores y microaspersores",0.8]
[]
[null,null,null,"JUN",null,null,{"$f":"SUMIFS(ETo!H$2:H$54,ETo!$B$2:$B$54,'RN 02'!$E$5)","v":0},null,{"$f":"IF(E$63=\"\",\"\",G73*E$63)","v":""},null,{"$f":"SUMIFS(P!G$4:G$85,P!$A$4:$A$85,'RN 02'!$S$5)","v":22},null,3.1999999999999993,null,{"$f":"IF(I73=\"\",\"\",IF((I73-M73)<0,0,I73-M73))","v":""},null,null,{"$f":"IF(O73=\"\",\"\",O73/$Q$63)","v":""},null,{"$f":"IF(R73=\"\",0,R73)","v":0},null,null,null,null,null,"Aspersores",0.75]
[]
[null,null,null,"JUL",null,null,{"$f":"SUMIFS(ETo!I$2:I$54,ETo!$B$2:$B$54,'RN 02'!$E$5)","v":0},null,{"$f":"IF(E$63=\"\",\"\",G75*E$63)","v":""},null,{"$f":"SUMIFS(P!H$4:H$85,P!$A$4:$A$85,'RN 02'!$S$5)","v":8},null,-5.2,null,{"$f":"IF(I75=\"\",\"\",IF((I75-M75)<0,0,I75-M75))","v":""},null,null,{"$f":"IF(O75=\"\",\"\",O75/$Q$63)","v":""},null,{"$f":"IF(R75=\"\",0,R75)","v":0},null,null,null,null,null,"Superficie",0.55000000000000004]
[]
[null,null,null,"AGO",null,null,{"$f":"SUMIFS(ETo!J$2:J$54,ETo!$B$2:$B$54,'RN 02'!$E$5)","v":0},null,{"$f":"IF(E$63=\"\",\"\",G77*E$63)","v":""},null,{"$f":"SUMIFS(P!I$4:I$85,P!$A$4:$A$85,'RN 02'!$S$5)","v":20},null,2,null,{"$f":"IF(I77=\"\",\"\",IF((I77-M77)<0,0,I77-M77))","v":""},null,null,{"$f":"IF(O77=\"\",\"\",O77/$Q$63)","v":""},null,{"$f":"IF(R77=\"\",0,R77)","v":0}]
[]
[null,null,null,"SEP",null,null,{"$f":"SUMIFS(ETo!K$2:K$54,ETo!$B$2:$B$54,'RN 02'!$E$5)","v":0},null,{"$f":"IF(E$63=\"\",\"\",G79*E$63)","v":""},null,{"$f":"SUMIFS(P!J$4:J$85,P!$A$4:$A$85,'RN 02'!$S$5)","v":70},null,32,null,{"$f":"IF(I79=\"\",\"\",IF((I79-M79)<0,0,I79-M79))","v":""},null,null,{"$f":"IF(O79=\"\",\"\",O79/$Q$63)","v":""},null,{"$f":"IF(R79=\"\",0,R79)","v":0}]
[]
[null,null,null,"OCT",null,null,{"$f":"SUMIFS(ETo!L$2:L$54,ETo!$B$2:$B$54,'RN 02'!$E$5)","v":0},null,{"$f":"IF(E$63=\"\",\"\",G81*E$63)","v":""},null,{"$f":"SUMIFS(P!K$4:K$85,P!$A$4:$A$85,'RN 02'!$S$5)","v":77},null,36.6,null,{"$f":"IF(I81=\"\",\"\",IF((I81-M81)<0,0,I81-M81))","v":""},null,null,{"$f":"IF(O81=\"\",\"\",O81/$Q$63)","v":""},null,{"$f":"IF(R81=\"\",0,R81)","v":0}]
[]
[null,null,null,"NOV",null,null,{"$f":"SUMIFS(ETo!M$2:M$54,ETo!$B$2:$B$54,'RN 02'!$E$5)","v":0},null,{"$f":"IF(E$63=\"\",\"\",G83*E$63)","v":""},null,{"$f":"SUMIFS(P!L$4:L$85,P!$A$4:$A$85,'RN 02'!$S$5)","v":47},null,18.2,null,{"$f":"IF(I83=\"\",\"\",IF((I83-M83)<0,0,I83-M83))","v":""},null,null,{"$f":"IF(O83=\"\",\"\",O83/$Q$63)","v":""},null,{"$f":"IF(R83=\"\",0,R83)","v":0}]
[]
[null,null,null,"DIC",null,null,{"$f":"SUMIFS(ETo!N$2:N$54,ETo!$B$2:$B$54,'RN 02'!$E$5)","v":0},null,{"$f":"IF(E$63=\"\",\"\",G85*E$63)","v":""},null,{"$f":"SUMIFS(P!M$4:M$85,P!$A$4:$A$85,'RN 02'!$S$5)","v":48},null,18.799999999999997,null,{"$f":"IF(I85=\"\",\"\",IF((I85-M85)<0,0,I85-M85))","v":""},null,null,{"$f":"IF(O85=\"\",\"\",O85/$Q$63)","v":""},null,{"$f":"IF(R85=\"\",0,R85)","v":0}]
[]
[null,null,null,null,null,null,null,null,null,null,null,null,null,null,null,null,null,{"$f":"SUM(R63:R85)","v":0},null,{"$f":"IF(R87=\"\",0,R87)","v":0}]
[]
[null,null,null,null,{"$f":"IF('RN 02'!K7>0,'RN 02'!K7,\"\")","v":""}]
[null,null,null,null,"Kj",null,"Eto (mm)",null,"Etj (mm)",null,"P (mm)",null,"Pe (mm)",null,"N (mm)",null,null,"Nf (mm)"]
[null,null,null,"ENE",{"$f":"'RN 02'!K19","v":""},null,{"$f":"SUMIFS(ETo!C$2:C$54,ETo!$B$2:$B$54,'RN 02'!$E$5)","v":0},null,{"$f":"IF(E$91=\"\",\"\",G91*E$91)","v":""},null,{"$f":"SUMIFS(P!B$4:B$85,P!$A$4:$A$85,'RN 02'!$S$5)","v":37},null,{"$f":"IF(K91<75,(0.6*K91-10),(0.8*K91-25))","v":12.2},null,{"$f":"IF(I91=\"\",\"\",IF((I91-M91)<0,0,I91-M91))","v":""},null,{"$f":"VLOOKUP('RN 02'!K$21,$Z$11:$AA$19,2,FALSE)","v":{"$error":"#N/A"}},{"$f":"IF(O91=\"\",\"\",O91/$Q$91)","v":""},null,{"$f":"IF(R91=\"\",0,R91)","v":0}]
[]
[null,null,null,"FEB",null,null,{"$f":"SUMIFS(ETo!D$2:D$54,ETo!$B$2:$B$54,'RN 02'!$E$5)","v":0},null,{"$f":"IF(E$91=\"\",\"\",G93*E$91)","v":""},null,{"$f":"SUMIFS(P!C$4:C$85,P!$A$4:$A$85,'RN 02'!$S$5)","v":36},null,{"$f":"IF(K93<75,0.6*K93-10,0.8*K93-25)","v":11.599999999999998},null,{"$f":"IF(I93=\"\",\"\",IF((I93-M93)<0,0,I93-M93))","v":""},null,null,{"$f":"IF(O93=\"\",\"\",O93/$Q$91)","v":""},null,{"$f":"IF(R93=\"\",0,R93)","v":0}]
[]
[null,null,null,"MAR",null,null,{"$f":"SUMIFS(ETo!E$2:E$54,ETo!$B$2:$B$54,'RN 02'!$E$5)","v":0},null,{"$f":"IF(E$91=\"\",\"\",G95*E$91)","v":""},null,{"$f":"SUMIFS(P!D$4:D$85,P!$A$4:$A$85,'RN 02'!$S$5)","v":33},null,9.8000000000000007,null,{"$f":"IF(I95=\"\",\"\",IF((I95-M95)<0,0,I95-M95))","v":""},null,null,{"$f":"IF(O95=\"\",\"\",O95/$Q$91)","v":""},null,{"$f":"IF(R95=\"\",0,R95)","v":0},null,null,null,null,null,"Riego localizado subterráneo",0.95]
[]
[null,null,null,"ABR",null,null,{"$f":"SUMIFS(ETo!F$2:F$54,ETo!$B$2:$B$54,'RN 02'!$E$5)","v":0},null,{"$f":"IF(E$91=\"\",\"\",G97*E$91)","v":""},null,{"$f":"SUMIFS(P!E$4:E$85,P!$A$4:$A$85,'RN 02'!$S$5)","v":38},null,12.8,null,{"$f":"IF(I97=\"\",\"\",IF((I97-M97)<0,0,I97-M97))","v":""},null,null,{"$f":"IF(O97=\"\",\"\",O97/$Q$91)","v":""},null,{"$f":"IF(R97=\"\",0,R97)","v":0},null,null,null,null,null,"Riego localizado en superficie",0.9]
[]
[null,null,null,"MAY",null,null,{"$f":"SUMIFS(ETo!G$2:G$54,ETo!$B$2:$B$54,'RN 02'!$E$5)","v":0},null,{"$f":"IF(E$91=\"\",\"\",G99*E$91)","v":""},null,{"$f":"SUMIFS(P!F$4:F$85,P!$A$4:$A$85,'RN 02'!$S$5)","v":39},null,13.399999999999999,null,{"$f":"IF(I99=\"\",\"\",IF((I99-M99)<0,0,I99-M99))","v":""},null,null,{"$f":"IF(O99=\"\",\"\",O99/$Q$91)","v":""},null,{"$f":"IF(R99=\"\",0,R99)","v":0},null,null,null,null,null,"Difusores y microaspersores",0.8]
[]
[null,null,null,"JUN",null,null,{"$f":"SUMIFS(ETo!H$2:H$54,ETo!$B$2:$B$54,'RN 02'!$E$5)","v":0},null,{"$f":"IF(E$91=\"\",\"\",G101*E$91)","v":""},null,{"$f":"SUMIFS(P!G$4:G$85,P!$A$4:$A$85,'RN 02'!$S$5)","v":22},null,3.1999999999999993,null,{"$f":"IF(I101=\"\",\"\",IF((I101-M101)<0,0,I101-M101))","v":""},null,null,{"$f":"IF(O101=\"\",\"\",O101/$Q$91)","v":""},null,{"$f":"IF(R101=\"\",0,R101)","v":0},null,null,null,null,null,"Aspersores",0.75]
[]
[null,null,null,"JUL",null,null,{"$f":"SUMIFS(ETo!I$2:I$54,ETo!$B$2:$B$54,'RN 02'!$E$5)","v":0},null,{"$f":"IF(E$91=\"\",\"\",G103*E$91)","v":""},null,{"$f":"SUMIFS(P!H$4:H$85,P!$A$4:$A$85,'RN 02'!$S$5)","v":8},null,-5.2,null,{"$f":"IF(I103=\"\",\"\",IF((I103-M103)<0,0,I103-M103))","v":""},null,null,{"$f":"IF(O103=\"\",\"\",O103/$Q$91)","v":""},null,{"$f":"IF(R103=\"\",0,R103)","v":0},null,null,null,null,null,"Superficie",0.55000000000000004]
[]
[null,null,null,"AGO",null,null,{"$f":"SUMIFS(ETo!J$2:J$54,ETo!$B$2:$B$54,'RN 02'!$E$5)","v":0},null,{"$f":"IF(E$91=\"\",\"\",G105*E$91)","v":""},null,{"$f":"SUMIFS(P!I$4:I$85,P!$A$4:$A$85,'RN 02'!$S$5)","v":20},null,2,null,{"$f":"IF(I105=\"\",\"\",IF((I105-M105)<0,0,I105-M105))","v":""},null,null,{"$f":"IF(O105=\"\",\"\",O105/$Q$91)","v":""},null,{"$f":"IF(R105=\"\",0,R105)","v":0}]
[]
[null,null,null,"SEP",null,null,{"$f":"SUMIFS(ETo!K$2:K$54,ETo!$B$2:$B$54,'RN 02'!$E$5)","v":0},null,{"$f":"IF(E$91=\"\",\"\",G107*E$91)","v":""},null,{"$f":"SUMIFS(P!J$4:J$85,P!$A$4:$A$85,'RN 02'!$S$5)","v":70},null,32,null,{"$f":"IF(I107=\"\",\"\",IF((I107-M107)<0,0,I107-M107))","v":""},null,null,{"$f":"IF(O107=\"\",\"\",O107/$Q$91)","v":""},null,{"$f":"IF(R107=\"\",0,R107)","v":0}]
[]
[null,null,null,"OCT",null,null,{"$f":"SUMIFS(ETo!L$2:L$54,ETo!$B$2:$B$54,'RN 02'!$E$5)","v":0},null,{"$f":"IF(E$91=\"\",\"\",G109*E$91)","v":""},null,{"$f":"SUMIFS(P!K$4:K$85,P!$A$4:$A$85,'RN 02'!$S$5)","v":77},null,36.6,null,{"$f":"IF(I109=\"\",\"\",IF((I109-M109)<0,0,I109-M109))","v":""},null,null,{"$f":"IF(O109=\"\",\"\",O109/$Q$91)","v":""},null,{"$f":"IF(R109=\"\",0,R109)","v":0}]
[]
[null,null,null,"NOV",null,null,{"$f":"SUMIFS(ETo!M$2:M$54,ETo!$B$2:$B$54,'RN 02'!$E$5)","v":0},null,{"$f":"IF(E$91=\"\",\"\",G111*E$91)","v":""},null,{"$f":"SUMIFS(P!L$4:L$85,P!$A$4:$A$85,'RN 02'!$S$5)","v":47},null,18.2,null,{"$f":"IF(I111=\"\",\"\",IF((I111-M111)<0,0,I111-M111))","v":""},null,null,{"$f":"IF(O111=\"\",\"\",O111/$Q$91)","v":""},null,{"$f":"IF(R111=\"\",0,R111)","v":0}]
[]
[null,null,null,"DIC",null,null,{"$f":"SUMIFS(ETo!N$2:N$54,ETo!$B$2:$B$54,'RN 02'!$E$5)","v":0},null,{"$f":"IF(E$91=\"\",\"\",G113*E$91)","v":""},null,{"$f":"SUMIFS(P!M$4:M$85,P!$A$4:$A$85,'RN 02'!$S$5)","v":48},null,18.799999999999997,null,{"$f":"IF(I113=\"\",\"\",IF((I113-M113)<0,0,I113-M113))","v":""},null,null,{"$f":"IF(O113=\"\",\"\",O113/$Q$91)","v":""},null,{"$f":"IF(R113=\"\",0,R113)","v":0}]
[]
[null,null,null,null,null,null,null,null,null,null,null,null,null,null,null,null,null,{"$f":"SUM(R91:R113)","v":0},null,{"$f":"IF(R115=\"\",0,R115)","v":0}]
[]
[null,null,null,null,{"$f":"IF('RN 02'!M7>0,'RN 02'!M7,\"\")","v":""}]
[null,null,null,null,"Kj",null,"Eto (mm)",null,"Etj (mm)",null,"P (mm)",null,"Pe (mm)",null,"N (mm)",null,null,"Nf (mm)"]
[null,null,null,"ENE",{"$f":"'RN 02'!M19","v":""},null,{"$f":"SUMIFS(ETo!C$2:C$54,ETo!$B$2:$B$54,'RN 02'!$E$5)","v":0},null,{"$f":"IF(E$119=\"\",\"\",G119*E$119)","v":""},null,{"$f":"SUMIFS(P!B$4:B$85,P!$A$4:$A$85,'RN 02'!$S$5)","v":37},null,{"$f":"IF(K119<75,0.6*K119-10,0.8*K119-25)","v":12.2},null,{"$f":"IF(I119=\"\",\"\",IF((I119-M119)<0,0,I119-M119))","v":""},null,{"$f":"VLOOKUP('RN 02'!M$21,$Z$11:$AA$19,2,FALSE)","v":{"$error":"#N/A"}},{"$f":"IF(O119=\"\",\"\",O119/$Q$119)","v":""},null,{"$f":"IF(R119=\"\",0,R119)","v":0}]
[]
[null,null,null,"FEB",null,null,{"$f":"SUMIFS(ETo!D$2:D$54,ETo!$B$2:$B$54,'RN 02'!$E$5)","v":0},null,{"$f":"IF(E$119=\"\",\"\",G121*E$119)","v":""},null,{"$f":"SUMIFS(P!C$4:C$85,P!$A$4:$A$85,'RN 02'!$S$5)","v":36},null,11.599999999999998,null,{"$f":"IF(I121=\"\",\"\",IF((I121-M121)<0,0,I121-M121))","v":""},null,null,{"$f":"IF(O121=\"\",\"\",O121/$Q$119)","v":""},null,{"$f":"IF(R121=\"\",0,R121)","v":0}]
[]
[null,null,null,"MAR",null,null,{"$f":"SUMIFS(ETo!E$2:E$54,ETo!$B$2:$B$54,'RN 02'!$E$5)","v":0},null,{"$f":"IF(E$119=\"\",\"\",G123*E$119)","v":""},null,{"$f":"SUMIFS(P!D$4:D$85,P!$A$4:$A$85,'RN 02'!$S$5)","v":33},null,9.8000000000000007,null,{"$f":"IF(I123=\"\",\"\",IF((I123-M123)<0,0,I123-M123))","v":""},null,null,{"$f":"IF(O123=\"\",\"\",O123/$Q$119)","v":""},null,{"$f":"IF(R123=\"\",0,R123)","v":0},null,null,null,null,null,"Riego localizado subterráneo",0.95]
[]
[null,null,null,"ABR",null,null,{"$f":"SUMIFS(ETo!F$2:F$54,ETo!$B$2:$B$54,'RN 02'!$E$5)","v":0},null,{"$f":"IF(E$119=\"\",\"\",G125*E$119)","v":""},null,{"$f":"SUMIFS(P!E$4:E$85,P!$A$4:$A$85,'RN 02'!$S$5)","v":38},null,12.8,null,{"$f":"IF(I125=\"\",\"\",IF((I125-M125)<0,0,I125-M125))","v":""},null,null,{"$f":"IF(O125=\"\",\"\",O125/$Q$119)","v":""},null,{"$f":"IF(R125=\"\",0,R125)","v":0},null,null,null,null,null,"Riego localizado en superficie",0.9]
[]
[null,null,null,"MAY",null,null,{"$f":"SUMIFS(ETo!G$2:G$54,ETo!$B$2:$B$54,'RN 02'!$E$5)","v":0},null,{"$f":"IF(E$119=\"\",\"\",G127*E$119)","v":""},null,{"$f":"SUMIFS(P!F$4:F$85,P!$A$4:$A$85,'RN 02'!$S$5)","v":39},null,13.399999999999999,null,{"$f":"IF(I127=\"\",\"\",IF((I127-M127)<0,0,I127-M127))","v":""},null,null,{"$f":"IF(O127=\"\",\"\",O127/$Q$119)","v":""},null,{"$f":"IF(R127=\"\",0,R127)","v":0},null,null,null,null,null,"Difusores y microaspersores",0.8]
[]
[null,null,null,"JUN",null,null,{"$f":"SUMIFS(ETo!H$2:H$54,ETo!$B$2:$B$54,'RN 02'!$E$5)","v":0},null,{"$f":"IF(E$119=\"\",\"\",G129*E$119)","v":""},null,{"$f":"SUMIFS(P!G$4:G$85,P!$A$4:$A$85,'RN 02'!$S$5)","v":22},null,3.1999999999999993,null,{"$f":"IF(I129=\"\",\"\",IF((I129-M129)<0,0,I129-M129))","v":""},null,null,{"$f":"IF(O129=\"\",\"\",O129/$Q$119)","v":""},null,{"$f":"IF(R129=\"\",0,R129)","v":0},null,null,null,null,null,"Aspersores",0.75]
[]
[null,null,null,"JUL",null,null,{"$f":"SUMIFS(ETo!I$2:I$54,ETo!$B$2:$B$54,'RN 02'!$E$5)","v":0},null,{"$f":"IF(E$119=\"\",\"\",G131*E$119)","v":""},null,{"$f":"SUMIFS(P!H$4:H$85,P!$A$4:$A$85,'RN 02'!$S$5)","v":8},null,-5.2,null,{"$f":"IF(I131=\"\",\"\",IF((I131-M131)<0,0,I131-M131))","v":""},null,null,{"$f":"IF(O131=\"\",\"\",O131/$Q$119)","v":""},null,{"$f":"IF(R131=\"\",0,R131)","v":0},null,null,null,null,null,"Superficie",0.55000000000000004]
[]
[null,null,null,"AGO",null,null,{"$f":"SUMIFS(ETo!J$2:J$54,ETo!$B$2:$B$54,'RN 02'!$E$5)","v":0},null,{"$f":"IF(E$119=\"\",\"\",G133*E$119)","v":""},null,{"$f":"SUMIFS(P!I$4:I$85,P!$A$4:$A$85,'RN 02'!$S$5)","v":20},null,2,null,{"$f":"IF(I133=\"\",\"\",IF((I133-M133)<0,0,I133-M133))","v":""},null,null,{"$f":"IF(O133=\"\",\"\",O133/$Q$119)","v":""},null,{"$f":"IF(R133=\"\",0,R133)","v":0}]
[]
[null,null,null,"SEP",null,null,{"$f":"SUMIFS(ETo!K$2:K$54,ETo!$B$2:$B$54,'RN 02'!$E$5)","v":0},null,{"$f":"IF(E$119=\"\",\"\",G135*E$119)","v":""},null,{"$f":"SUMIFS(P!J$4:J$85,P!$A$4:$A$85,'RN 02'!$S$5)","v":70},null,32,null,{"$f":"IF(I135=\"\",\"\",IF((I135-M135)<0,0,I135-M135))","v":""},null,null,{"$f":"IF(O135=\"\",\"\",O135/$Q$119)","v":""},null,{"$f":"IF(R135=\"\",0,R135)","v":0}]
[]
[null,null,null,"OCT",null,null,{"$f":"SUMIFS(ETo!L$2:L$54,ETo!$B$2:$B$54,'RN 02'!$E$5)","v":0},null,{"$f":"IF(E$119=\"\",\"\",G137*E$119)","v":""},null,{"$f":"SUMIFS(P!K$4:K$85,P!$A$4:$A$85,'RN 02'!$S$5)","v":77},null,36.6,null,{"$f":"IF(I137=\"\",\"\",IF((I137-M137)<0,0,I137-M137))","v":""},null,null,{"$f":"IF(O137=\"\",\"\",O137/$Q$119)","v":""},null,{"$f":"IF(R137=\"\",0,R137)","v":0}]
[]
[null,null,null,"NOV",null,null,{"$f":"SUMIFS(ETo!M$2:M$54,ETo!$B$2:$B$54,'RN 02'!$E$5)","v":0},null,{"$f":"IF(E$119=\"\",\"\",G139*E$119)","v":""},null,{"$f":"SUMIFS(P!L$4:L$85,P!$A$4:$A$85,'RN 02'!$S$5)","v":47},null,18.2,null,{"$f":"IF(I139=\"\",\"\",IF((I139-M139)<0,0,I139-M139))","v":""},null,null,{"$f":"IF(O139=\"\",\"\",O139/$Q$119)","v":""},null,{"$f":"IF(R139=\"\",0,R139)","v":0}]
[]
[null,null,null,"DIC",null,null,{"$f":"SUMIFS(ETo!N$2:N$54,ETo!$B$2:$B$54,'RN 02'!$E$5)","v":0},null,{"$f":"IF(E$119=\"\",\"\",G141*E$119)","v":""},null,{"$f":"SUMIFS(P!M$4:M$85,P!$A$4:$A$85,'RN 02'!$S$5)","v":48},null,{"$f":"IF(K141<75,0.6*K141-10,0.8*K141-25)","v":18.799999999999997},null,{"$f":"IF(I141=\"\",\"\",IF((I141-M141)<0,0,I141-M141))","v":""},null,null,{"$f":"IF(O141=\"\",\"\",O141/$Q$119)","v":""},null,{"$f":"IF(R141=\"\",0,R141)","v":0}]
[]
[null,null,null,null,null,null,null,null,null,null,null,null,null,null,null,null,null,{"$f":"SUM(R119:R141)","v":0},null,{"$f":"IF(R143=\"\",0,R143)","v":0}]
[]
[null,null,null,null,{"$f":"IF('RN 02'!O7>0,'RN 02'!O7,\"\")","v":""}]
[null,null,null,null,"Kj",null,"Eto (mm)",null,"Etj (mm)",null,"P (mm)",null,"Pe (mm)",null,"N (mm)",null,null,"Nf (mm)"]
[null,null,null,"ENE",{"$f":"'RN 02'!O19","v":""},null,{"$f":"SUMIFS(ETo!C$2:C$54,ETo!$B$2:$B$54,'RN 02'!$E$5)","v":0},null,{"$f":"IF(E$147=\"\",\"\",G147*E$147)","v":""},null,{"$f":"SUMIFS(P!B$4:B$85,P!$A$4:$A$85,'RN 02'!$S$5)","v":37},null,{"$f":"IF(K147<75,(0.6*K147-10),(0.8*K147-25))","v":12.2},null,{"$f":"IF(I147=\"\",\"\",IF((I147-M147)<0,0,I147-M147))","v":""},null,{"$f":"VLOOKUP('RN 02'!O$21,$Z$11:$AA$19,2,FALSE)","v":{"$error":"#N/A"}},{"$f":"IF(O147=\"\",\"\",O147/$Q$147)","v":""},null,{"$f":"IF(R147=\"\",0,R147)","v":0}]
[]
[null,null,null,"FEB",null,null,{"$f":"SUMIFS(ETo!D$2:D$54,ETo!$B$2:$B$54,'RN 02'!$E$5)","v":0},null,{"$f":"IF(E$147=\"\",\"\",G149*E$147)","v":""},null,{"$f":"SUMIFS(P!C$4:C$85,P!$A$4:$A$85,'RN 02'!$S$5)","v":36},null,{"$f":"IF(K149<75,0.6*K149-10,0.8*K149-25)","v":11.599999999999998},null,{"$f":"IF(I149=\"\",\"\",IF((I149-M149)<0,0,I149-M149))","v":""},null,null,{"$f":"IF(O149=\"\",\"\",O149/$Q$147)","v":""},null,{"$f":"IF(R149=\"\",0,R149)","v":0}]
[]
[null,null,null,"MAR",null,null,{"$f":"SUMIFS(ETo!E$2:E$54,ETo!$B$2:$B$54,'RN 02'!$E$5)","v":0},null,{"$f":"IF(E$147=\"\",\"\",G151*E$147)","v":""},null,{"$f":"SUMIFS(P!D$4:D$85,P!$A$4:$A$85,'RN 02'!$S$5)","v":33},null,9.8000000000000007,null,{"$f":"IF(I151=\"\",\"\",IF((I151-M151)<0,0,I151-M151))","v":""},null,null,{"$f":"IF(O151=\"\",\"\",O151/$Q$147)","v":""},null,{"$f":"IF(R151=\"\",0,R151)","v":0},null,null,null,null,null,"Riego localizado subterráneo",0.95]
[]
[null,null,null,"ABR",null,null,{"$f":"SUMIFS(ETo!F$2:F$54,ETo!$B$2:$B$54,'RN 02'!$E$5)","v":0},null,{"$f":"IF(E$147=\"\",\"\",G153*E$147)","v":""},null,{"$f":"SUMIFS(P!E$4:E$85,P!$A$4:$A$85,'RN 02'!$S$5)","v":38},null,12.8,null,{"$f":"IF(I153=\"\",\"\",IF((I153-M153)<0,0,I153-M153))","v":""},null,null,{"$f":"IF(O153=\"\",\"\",O153/$Q$147)","v":""},null,{"$f":"IF(R153=\"\",0,R153)","v":0},null,null,null,null,null,"Riego localizado en superficie",0.9]
[]
[null,null,null,"MAY",null,null,{"$f":"SUMIFS(ETo!G$2:G$54,ETo!$B$2:$B$54,'RN 02'!$E$5)","v":0},null,{"$f":"IF(E$147=\"\",\"\",G155*E$147)","v":""},null,{"$f":"SUMIFS(P!F$4:F$85,P!$A$4:$A$85,'RN 02'!$S$5)","v":39},null,13.399999999999999,null,{"$f":"IF(I155=\"\",\"\",IF((I155-M155)<0,0,I155-M155))","v":""},null,null,{"$f":"IF(O155=\"\",\"\",O155/$Q$147)","v":""},null,{"$f":"IF(R155=\"\",0,R155)","v":0},null,null,null,null,null,"Difusores y microaspersores",0.8]
[]
[null,null,null,"JUN",null,null,{"$f":"SUMIFS(ETo!H$2:H$54,ETo!$B$2:$B$54,'RN 02'!$E$5)","v":0},null,{"$f":"IF(E$147=\"\",\"\",G157*E$147)","v":""},null,{"$f":"SUMIFS(P!G$4:G$85,P!$A$4:$A$85,'RN 02'!$S$5)","v":22},null,3.1999999999999993,null,{"$f":"IF(I157=\"\",\"\",IF((I157-M157)<0,0,I157-M157))","v":""},null,null,{"$f":"IF(O157=\"\",\"\",O157/$Q$147)","v":""},null,{"$f":"IF(R157=\"\",0,R157)","v":0},null,null,null,null,null,"Aspersores",0.75]
[]
[null,null,null,"JUL",null,null,{"$f":"SUMIFS(ETo!I$2:I$54,ETo!$B$2:$B$54,'RN 02'!$E$5)","v":0},null,{"$f":"IF(E$147=\"\",\"\",G159*E$147)","v":""},null,{"$f":"SUMIFS(P!H$4:H$85,P!$A$4:$A$85,'RN 02'!$S$5)","v":8},null,-5.2,null,{"$f":"IF(I159=\"\",\"\",IF((I159-M159)<0,0,I159-M159))","v":""},null,null,{"$f":"IF(O159=\"\",\"\",O159/$Q$147)","v":""},null,{"$f":"IF(R159=\"\",0,R159)","v":0},null,null,null,null,null,"Superficie",0.55000000000000004]
[]
[null,null,null,"AGO",null,null,{"$f":"SUMIFS(ETo!J$2:J$54,ETo!$B$2:$B$54,'RN 02'!$E$5)","v":0},null,{"$f":"IF(E$147=\"\",\"\",G161*E$147)","v":""},null,{"$f":"SUMIFS(P!I$4:I$85,P!$A$4:$A$85,'RN 02'!$S$5)","v":20},null,2,null,{"$f":"IF(I161=\"\",\"\",IF((I161-M161)<0,0,I161-M161))","v":""},null,null,{"$f":"IF(O161=\"\",\"\",O161/$Q$147)","v":""},null,{"$f":"IF(R161=\"\",0,R161)","v":0}]
[]
[null,null,null,"SEP",null,null,{"$f":"SUMIFS(ETo!K$2:K$54,ETo!$B$2:$B$54,'RN 02'!$E$5)","v":0},null,{"$f":"IF(E$147=\"\",\"\",G163*E$147)","v":""},null,{"$f":"SUMIFS(P!J$4:J$85,P!$A$4:$A$85,'RN 02'!$S$5)","v":70},null,32,null,{"$f":"IF(I163=\"\",\"\",IF((I163-M163)<0,0,I163-M163))","v":""},null,null,{"$f":"IF(O163=\"\",\"\",O163/$Q$147)","v":""},null,{"$f":"IF(R163=\"\",0,R163)","v":0}]
[]
[null,null,null,"OCT",null,null,{"$f":"SUMIFS(ETo!L$2:L$54,ETo!$B$2:$B$54,'RN 02'!$E$5)","v":0},null,{"$f":"IF(E$147=\"\",\"\",G165*E$147)","v":""},null,{"$f":"SUMIFS(P!K$4:K$85,P!$A$4:$A$85,'RN 02'!$S$5)","v":77},null,36.6,null,{"$f":"IF(I165=\"\",\"\",IF((I165-M165)<0,0,I165-M165))","v":""},null,null,{"$f":"IF(O165=\"\",\"\",O165/$Q$147)","v":""},null,{"$f":"IF(R165=\"\",0,R165)","v":0}]
[]
[null,null,null,"NOV",null,null,{"$f":"SUMIFS(ETo!M$2:M$54,ETo!$B$2:$B$54,'RN 02'!$E$5)","v":0},null,{"$f":"IF(E$147=\"\",\"\",G167*E$147)","v":""},null,{"$f":"SUMIFS(P!L$4:L$85,P!$A$4:$A$85,'RN 02'!$S$5)","v":47},null,18.2,null,{"$f":"IF(I167=\"\",\"\",IF((I167-M167)<0,0,I167-M167))","v":""},null,null,{"$f":"IF(O167=\"\",\"\",O167/$Q$147)","v":""},null,{"$f":"IF(R167=\"\",0,R167)","v":0}]
[]
[null,null,null,"DIC",null,null,{"$f":"SUMIFS(ETo!N$2:N$54,ETo!$B$2:$B$54,'RN 02'!$E$5)","v":0},null,{"$f":"IF(E$147=\"\",\"\",G169*E$147)","v":""},null,{"$f":"SUMIFS(P!M$4:M$85,P!$A$4:$A$85,'RN 02'!$S$5)","v":48},null,18.799999999999997,null,{"$f":"IF(I169=\"\",\"\",IF((I169-M169)<0,0,I169-M169))","v":""},null,null,{"$f":"IF(O169=\"\",\"\",O169/$Q$147)","v":""},null,{"$f":"IF(R169=\"\",0,R169)","v":0}]
[]
[null,null,null,null,null,null,null,null,null,null,null,null,null,null,null,null,null,{"$f":"SUM(R147:R169)","v":0},null,{"$f":"IF(R171=\"\",0,R171)","v":0}]
[]
[null,null,null,null,{"$f":"IF('RN 02'!Q7>0,'RN 02'!Q7,\"\")","v":""}]
[null,null,null,null,"Kj",null,"Eto (mm)",null,"Etj (mm)",null,"P (mm)",null,"Pe (mm)",null,"N (mm)",null,null,"Nf (mm)"]
[null,null,null,"ENE",{"$f":"'RN 02'!Q19","v":""},null,{"$f":"SUMIFS(ETo!C$2:C$54,ETo!$B$2:$B$54,'RN 02'!$E$5)","v":0},null,{"$f":"IF(E$175=\"\",\"\",G175*E$175)","v":""},null,{"$f":"SUMIFS(P!B$4:B$85,P!$A$4:$A$85,'RN 02'!$S$5)","v":37},null,{"$f":"IF(K175<75,(0.6*K175-10),(0.8*K175-25))","v":12.2},null,{"$f":"IF(I175=\"\",\"\",IF((I175-M175)<0,0,I175-M175))","v":""},null,{"$f":"VLOOKUP('RN 02'!Q$21,$Z$11:$AA$19,2,FALSE)","v":{"$error":"#N/A"}},{"$f":"IF(O175=\"\",\"\",O175/$Q$175)","v":""},null,{"$f":"IF(R175=\"\",0,R175)","v":0}]
[]
[null,null,null,"FEB",null,null,{"$f":"SUMIFS(ETo!D$2:D$54,ETo!$B$2:$B$54,'RN 02'!$E$5)","v":0},null,{"$f":"IF(E$175=\"\",\"\",G177*E$175)","v":""},null,{"$f":"SUMIFS(P!C$4:C$85,P!$A$4:$A$85,'RN 02'!$S$5)","v":36},null,{"$f":"IF(K177<75,0.6*K177-10,0.8*K177-25)","v":11.599999999999998},null,{"$f":"IF(I177=\"\",\"\",IF((I177-M177)<0,0,I177-M177))","v":""},null,null,{"$f":"IF(O177=\"\",\"\",O177/$Q$175)","v":""},null,{"$f":"IF(R177=\"\",0,R177)","v":0}]
[]
[null,null,null,"MAR",null,null,{"$f":"SUMIFS(ETo!E$2:E$54,ETo!$B$2:$B$54,'RN 02'!$E$5)","v":0},null,{"$f":"IF(E$175=\"\",\"\",G179*E$175)","v":""},null,{"$f":"SUMIFS(P!D$4:D$85,P!$A$4:$A$85,'RN 02'!$S$5)","v":33},null,9.8000000000000007,null,{"$f":"IF(I179=\"\",\"\",IF((I179-M179)<0,0,I179-M179))","v":""},null,null,{"$f":"IF(O179=\"\",\"\",O179/$Q$175)","v":""},null,{"$f":"IF(R179=\"\",0,R179)","v":0},null,null,null,null,null,"Riego localizado subterráneo",0.95]
[]
[null,null,null,"ABR",null,null,{"$f":"SUMIFS(ETo!F$2:F$54,ETo!$B$2:$B$54,'RN 02'!$E$5)","v":0},null,{"$f":"IF(E$175=\"\",\"\",G181*E$175)","v":""},null,{"$f":"SUMIFS(P!E$4:E$85,P!$A$4:$A$85,'RN 02'!$S$5)","v":38},null,12.8,null,{"$f":"IF(I181=\"\",\"\",IF((I181-M181)<0,0,I181-M181))","v":""},null,null,{"$f":"IF(O181=\"\",\"\",O181/$Q$175)","v":""},null,{"$f":"IF(R181=\"\",0,R181)","v":0},null,null,null,null,null,"Riego localizado en superficie",0.9]
[]
[null,null,null,"MAY",null,null,{"$f":"SUMIFS(ETo!G$2:G$54,ETo!$B$2:$B$54,'RN 02'!$E$5)","v":0},null,{"$f":"IF(E$175=\"\",\"\",G183*E$175)","v":""},null,{"$f":"SUMIFS(P!F$4:F$85,P!$A$4:$A$85,'RN 02'!$S$5)","v":39},null,13.399999999999999,null,{"$f":"IF(I183=\"\",\"\",IF((I183-M183)<0,0,I183-M183))","v":""},null,null,{"$f":"IF(O183=\"\",\"\",O183/$Q$175)","v":""},null,{"$f":"IF(R183=\"\",0,R183)","v":0},null,null,null,null,null,"Difusores y microaspersores",0.8]
[]
[null,null,null,"JUN",null,null,{"$f":"SUMIFS(ETo!H$2:H$54,ETo!$B$2:$B$54,'RN 02'!$E$5)","v":0},null,{"$f":"IF(E$175=\"\",\"\",G185*E$175)","v":""},null,{"$f":"SUMIFS(P!G$4:G$85,P!$A$4:$A$85,'RN 02'!$S$5)","v":22},null,3.1999999999999993,null,{"$f":"IF(I185=\"\",\"\",IF((I185-M185)<0,0,I185-M185))","v":""},null,null,{"$f":"IF(O185=\"\",\"\",O185/$Q$175)","v":""},null,{"$f":"IF(R185=\"\",0,R185)","v":0},null,null,null,null,null,"Aspersores",0.75]
[]
[null,null,null,"JUL",null,null,{"$f":"SUMIFS(ETo!I$2:I$54,ETo!$B$2:$B$54,'RN 02'!$E$5)","v":0},null,{"$f":"IF(E$175=\"\",\"\",G187*E$175)","v":""},null,{"$f":"SUMIFS(P!H$4:H$85,P!$A$4:$A$85,'RN 02'!$S$5)","v":8},null,-5.2,null,{"$f":"IF(I187=\"\",\"\",IF((I187-M187)<0,0,I187-M187))","v":""},null,null,{"$f":"IF(O187=\"\",\"\",O187/$Q$175)","v":""},null,{"$f":"IF(R187=\"\",0,R187)","v":0},null,null,null,null,null,"Superficie",0.55000000000000004]
[]
[null,null,null,"AGO",null,null,{"$f":"SUMIFS(ETo!J$2:J$54,ETo!$B$2:$B$54,'RN 02'!$E$5)","v":0},null,{"$f":"IF(E$175=\"\",\"\",G189*E$175)","v":""},null,{"$f":"SUMIFS(P!I$4:I$85,P!$A$4:$A$85,'RN 02'!$S$5)","v":20},null,2,null,{"$f":"IF(I189=\"\",\"\",IF((I189-M189)<0,0,I189-M189))","v":""},null,null,{"$f":"IF(O189=\"\",\"\",O189/$Q$175)","v":""},null,{"$f":"IF(R189=\"\",0,R189)","v":0}]
[]
[null,null,null,"SEP",null,null,{"$f":"SUMIFS(ETo!K$2:K$54,ETo!$B$2:$B$54,'RN 02'!$E$5)","v":0},null,{"$f":"IF(E$175=\"\",\"\",G191*E$175)","v":""},null,{"$f":"SUMIFS(P!J$4:J$85,P!$A$4:$A$85,'RN 02'!$S$5)","v":70},null,32,null,{"$f":"IF(I191=\"\",\"\",IF((I191-M191)<0,0,I191-M191))","v":""},null,null,{"$f":"IF(O191=\"\",\"\",O191/$Q$175)","v":""},null,{"$f":"IF(R191=\"\",0,R191)","v":0}]
[]
[null,null,null,"OCT",null,null,{"$f":"SUMIFS(ETo!L$2:L$54,ETo!$B$2:$B$54,'RN 02'!$E$5)","v":0},null,{"$f":"IF(E$175=\"\",\"\",G193*E$175)","v":""},null,{"$f":"SUMIFS(P!K$4:K$85,P!$A$4:$A$85,'RN 02'!$S$5)","v":77},null,36.6,null,{"$f":"IF(I193=\"\",\"\",IF((I193-M193)<0,0,I193-M193))","v":""},null,null,{"$f":"IF(O193=\"\",\"\",O193/$Q$175)","v":""},null,{"$f":"IF(R193=\"\",0,R193)","v":0}]
[]
[null,null,null,"NOV",null,null,{"$f":"SUMIFS(ETo!M$2:M$54,ETo!$B$2:$B$54,'RN 02'!$E$5)","v":0},null,{"$f":"IF(E$175=\"\",\"\",G195*E$175)","v":""},null,{"$f":"SUMIFS(P!L$4:L$85,P!$A$4:$A$85,'RN 02'!$S$5)","v":47},null,18.2,null,{"$f":"IF(I195=\"\",\"\",IF((I195-M195)<0,0,I195-M195))","v":""},null,null,{"$f":"IF(O195=\"\",\"\",O195/$Q$175)","v":""},null,{"$f":"IF(R195=\"\",0,R195)","v":0}]
[]
[null,null,null,"DIC",null,null,{"$f":"SUMIFS(ETo!N$2:N$54,ETo!$B$2:$B$54,'RN 02'!$E$5)","v":0},null,{"$f":"IF(E$175=\"\",\"\",G197*E$175)","v":""},null,{"$f":"SUMIFS(P!M$4:M$85,P!$A$4:$A$85,'RN 02'!$S$5)","v":48},null,18.799999999999997,null,{"$f":"IF(I197=\"\",\"\",IF((I197-M197)<0,0,I197-M197))","v":""},null,null,{"$f":"IF(O197=\"\",\"\",O197/$Q$175)","v":""},null,{"$f":"IF(R197=\"\",0,R197)","v":0}]
[]
[null,null,null,null,null,null,null,null,null,null,null,null,null,null,null,null,null,{"$f":"SUM(R175:R197)","v":0},null,{"$f":"IF(R199=\"\",0,R199)","v":0}]
[]
[null,null,null,null,{"$f":"IF('RN 02'!S7>0,'RN 02'!S7,\"\")","v":""}]
[null,null,null,null,"Kj",null,"Eto (mm)",null,"Etj (mm)",null,"P (mm)",null,"Pe (mm)",null,"N (mm)",null,null,"Nf (mm)"]
[null,null,null,"ENE",{"$f":"'RN 02'!S19","v":""},null,{"$f":"SUMIFS(ETo!C$2:C$54,ETo!$B$2:$B$54,'RN 02'!$E$5)","v":0},null,{"$f":"IF(E$203=\"\",\"\",G203*E$203)","v":""},null,{"$f":"SUMIFS(P!B$4:B$85,P!$A$4:$A$85,'RN 02'!$S$5)","v":37},null,{"$f":"IF(K203<75,(0.6*K203-10),(0.8*K203-25))","v":12.2},null,{"$f":"IF(I203=\"\",\"\",IF((I203-M203)<0,0,I203-M203))","v":""},null,{"$f":"VLOOKUP('RN 02'!S$21,$Z$11:$AA$19,2,FALSE)","v":{"$error":"#N/A"}},{"$f":"IF(O203=\"\",\"\",O203/$Q$203)","v":""},null,{"$f":"IF(R203=\"\",0,R203)","v":0}]
[]
[null,null,null,"FEB",null,null,{"$f":"SUMIFS(ETo!D$2:D$54,ETo!$B$2:$B$54,'RN 02'!$E$5)","v":0},null,{"$f":"IF(E$203=\"\",\"\",G205*E$203)","v":""},null,{"$f":"SUMIFS(P!C$4:C$85,P!$A$4:$A$85,'RN 02'!$S$5)","v":36},null,{"$f":"IF(K205<75,0.6*K205-10,0.8*K205-25)","v":11.599999999999998},null,{"$f":"IF(I205=\"\",\"\",IF((I205-M205)<0,0,I205-M205))","v":""},null,null,{"$f":"IF(O205=\"\",\"\",O205/$Q$203)","v":""},null,{"$f":"IF(R205=\"\",0,R205)","v":0}]
[]
[null,null,null,"MAR",null,null,{"$f":"SUMIFS(ETo!E$2:E$54,ETo!$B$2:$B$54,'RN 02'!$E$5)","v":0},null,{"$f":"IF(E$203=\"\",\"\",G207*E$203)","v":""},null,{"$f":"SUMIFS(P!D$4:D$85,P!$A$4:$A$85,'RN 02'!$S$5)","v":33},null,9.8000000000000007,null,{"$f":"IF(I207=\"\",\"\",IF((I207-M207)<0,0,I207-M207))","v":""},null,null,{"$f":"IF(O207=\"\",\"\",O207/$Q$203)","v":""},null,{"$f":"IF(R207=\"\",0,R207)","v":0},null,null,null,null,null,"Riego localizado subterráneo",0.95]
[]
[null,null,null,"ABR",null,null,{"$f":"SUMIFS(ETo!F$2:F$54,ETo!$B$2:$B$54,'RN 02'!$E$5)","v":0},null,{"$f":"IF(E$203=\"\",\"\",G209*E$203)","v":""},null,{"$f":"SUMIFS(P!E$4:E$85,P!$A$4:$A$85,'RN 02'!$S$5)","v":38},null,12.8,null,{"$f":"IF(I209=\"\",\"\",IF((I209-M209)<0,0,I209-M209))","v":""},null,null,{"$f":"IF(O209=\"\",\"\",O209/$Q$203)","v":""},null,{"$f":"IF(R209=\"\",0,R209)","v":0},null,null,null,null,null,"Riego localizado en superficie",0.9]
[]
[null,null,null,"MAY",null,null,{"$f":"SUMIFS(ETo!G$2:G$54,ETo!$B$2:$B$54,'RN 02'!$E$5)","v":0},null,{"$f":"IF(E$203=\"\",\"\",G211*E$203)","v":""},null,{"$f":"SUMIFS(P!F$4:F$85,P!$A$4:$A$85,'RN 02'!$S$5)","v":39},null,13.399999999999999,null,{"$f":"IF(I211=\"\",\"\",IF((I211-M211)<0,0,I211-M211))","v":""},null,null,{"$f":"IF(O211=\"\",\"\",O211/$Q$203)","v":""},null,{"$f":"IF(R211=\"\",0,R211)","v":0},null,null,null,null,null,"Difusores y microaspersores",0.8]
[]
[null,null,null,"JUN",null,null,{"$f":"SUMIFS(ETo!H$2:H$54,ETo!$B$2:$B$54,'RN 02'!$E$5)","v":0},null,{"$f":"IF(E$203=\"\",\"\",G213*E$203)","v":""},null,{"$f":"SUMIFS(P!G$4:G$85,P!$A$4:$A$85,'RN 02'!$S$5)","v":22},null,3.1999999999999993,null,{"$f":"IF(I213=\"\",\"\",IF((I213-M213)<0,0,I213-M213))","v":""},null,null,{"$f":"IF(O213=\"\",\"\",O213/$Q$203)","v":""},null,{"$f":"IF(R213=\"\",0,R213)","v":0},null,null,null,null,null,"Aspersores",0.75]
[]
[null,null,null,"JUL",null,null,{"$f":"SUMIFS(ETo!I$2:I$54,ETo!$B$2:$B$54,'RN 02'!$E$5)","v":0},null,{"$f":"IF(E$203=\"\",\"\",G215*E$203)","v":""},null,{"$f":"SUMIFS(P!H$4:H$85,P!$A$4:$A$85,'RN 02'!$S$5)","v":8},null,-5.2,null,{"$f":"IF(I215=\"\",\"\",IF((I215-M215)<0,0,I215-M215))","v":""},null,null,{"$f":"IF(O215=\"\",\"\",O215/$Q$203)","v":""},null,{"$f":"IF(R215=\"\",0,R215)","v":0},null,null,null,null,null,"Superficie",0.55000000000000004]
[]
[null,null,null,"AGO",null,null,{"$f":"SUMIFS(ETo!J$2:J$54,ETo!$B$2:$B$54,'RN 02'!$E$5)","v":0},null,{"$f":"IF(E$203=\"\",\"\",G217*E$203)","v":""},null,{"$f":"SUMIFS(P!I$4:I$85,P!$A$4:$A$85,'RN 02'!$S$5)","v":20},null,2,null,{"$f":"IF(I217=\"\",\"\",IF((I217-M217)<0,0,I217-M217))","v":""},null,null,{"$f":"IF(O217=\"\",\"\",O217/$Q$203)","v":""},null,{"$f":"IF(R217=\"\",0,R217)","v":0}]
[]
[null,null,null,"SEP",null,null,{"$f":"SUMIFS(ETo!K$2:K$54,ETo!$B$2:$B$54,'RN 02'!$E$5)","v":0},null,{"$f":"IF(E$203=\"\",\"\",G219*E$203)","v":""},null,{"$f":"SUMIFS(P!J$4:J$85,P!$A$4:$A$85,'RN 02'!$S$5)","v":70},null,32,null,{"$f":"IF(I219=\"\",\"\",IF((I219-M219)<0,0,I219-M219))","v":""},null,null,{"$f":"IF(O219=\"\",\"\",O219/$Q$203)","v":""},null,{"$f":"IF(R219=\"\",0,R219)","v":0}]
[]
[null,null,null,"OCT",null,null,{"$f":"SUMIFS(ETo!L$2:L$54,ETo!$B$2:$B$54,'RN 02'!$E$5)","v":0},null,{"$f":"IF(E$203=\"\",\"\",G221*E$203)","v":""},null,{"$f":"SUMIFS(P!K$4:K$85,P!$A$4:$A$85,'RN 02'!$S$5)","v":77},null,36.6,null,{"$f":"IF(I221=\"\",\"\",IF((I221-M221)<0,0,I221-M221))","v":""},null,null,{"$f":"IF(O221=\"\",\"\",O221/$Q$203)","v":""},null,{"$f":"IF(R221=\"\",0,R221)","v":0}]
[]
[null,null,null,"NOV",null,null,{"$f":"SUMIFS(ETo!M$2:M$54,ETo!$B$2:$B$54,'RN 02'!$E$5)","v":0},null,{"$f":"IF(E$203=\"\",\"\",G223*E$203)","v":""},null,{"$f":"SUMIFS(P!L$4:L$85,P!$A$4:$A$85,'RN 02'!$S$5)","v":47},null,18.2,null,{"$f":"IF(I223=\"\",\"\",IF((I223-M223)<0,0,I223-M223))","v":""},null,null,{"$f":"IF(O223=\"\",\"\",O223/$Q$203)","v":""},null,{"$f":"IF(R223=\"\",0,R223)","v":0}]
[]
[null,null,null,"DIC",null,null,{"$f":"SUMIFS(ETo!N$2:N$54,ETo!$B$2:$B$54,'RN 02'!$E$5)","v":0},null,{"$f":"IF(E$203=\"\",\"\",G225*E$203)","v":""},null,{"$f":"SUMIFS(P!M$4:M$85,P!$A$4:$A$85,'RN 02'!$S$5)","v":48},null,18.799999999999997,null,{"$f":"IF(I225=\"\",\"\",IF((I225-M225)<0,0,I225-M225))","v":""},null,null,{"$f":"IF(O225=\"\",\"\",O225/$Q$203)","v":""},null,{"$f":"IF(R225=\"\",0,R225)","v":0}]
[]
[null,null,null,null,null,null,null,null,null,null,null,null,null,null,null,null,null,{"$f":"SUM(R203:R225)","v":0},null,{"$f":"IF(R227=\"\",0,R227)","v":0}]
[]
[null,null,null,null,{"$f":"IF('RN 02'!U7>0,'RN 02'!U7,\"\")","v":""}]
[null,null,null,null,"Kj",null,"Eto (mm)",null,"Etj (mm)",null,"P (mm)",null,"Pe (mm)",null,"N (mm)",null,null,"Nf (mm)"]
[null,null,null,"ENE",{"$f":"'RN 02'!U19","v":""},null,{"$f":"SUMIFS(ETo!C$2:C$54,ETo!$B$2:$B$54,'RN 02'!$E$5)","v":0},null,{"$f":"IF(E$231=\"\",\"\",G231*E$231)","v":""},null,{"$f":"SUMIFS(P!B$4:B$85,P!$A$4:$A$85,'RN 02'!$S$5)","v":37},null,{"$f":"IF(K231<75,(0.6*K231-10),(0.8*K231-25))","v":12.2},null,{"$f":"IF(I231=\"\",\"\",IF((I231-M231)<0,0,I231-M231))","v":""},null,{"$f":"VLOOKUP('RN 02'!U$21,$Z$11:$AA$19,2,FALSE)","v":{"$error":"#N/A"}},{"$f":"IF(O231=\"\",\"\",O231/$Q$231)","v":""},null,{"$f":"IF(R231=\"\",0,R231)","v":0}]
[]
[null,null,null,"FEB",null,null,{"$f":"SUMIFS(ETo!D$2:D$54,ETo!$B$2:$B$54,'RN 02'!$E$5)","v":0},null,{"$f":"IF(E$231=\"\",\"\",G233*E$231)","v":""},null,{"$f":"SUMIFS(P!C$4:C$85,P!$A$4:$A$85,'RN 02'!$S$5)","v":36},null,{"$f":"IF(K233<75,0.6*K233-10,0.8*K233-25)","v":11.599999999999998},null,{"$f":"IF(I233=\"\",\"\",IF((I233-M233)<0,0,I233-M233))","v":""},null,null,{"$f":"IF(O233=\"\",\"\",O233/$Q$231)","v":""},null,{"$f":"IF(R233=\"\",0,R233)","v":0}]
[]
[null,null,null,"MAR",null,null,{"$f":"SUMIFS(ETo!E$2:E$54,ETo!$B$2:$B$54,'RN 02'!$E$5)","v":0},null,{"$f":"IF(E$231=\"\",\"\",G235*E$231)","v":""},null,{"$f":"SUMIFS(P!D$4:D$85,P!$A$4:$A$85,'RN 02'!$S$5)","v":33},null,9.8000000000000007,null,{"$f":"IF(I235=\"\",\"\",IF((I235-M235)<0,0,I235-M235))","v":""},null,null,{"$f":"IF(O235=\"\",\"\",O235/$Q$231)","v":""},null,{"$f":"IF(R235=\"\",0,R235)","v":0},null,null,null,null,null,"Riego localizado subterráneo",0.95]
[]
[null,null,null,"ABR",null,null,{"$f":"SUMIFS(ETo!F$2:F$54,ETo!$B$2:$B$54,'RN 02'!$E$5)","v":0},null,{"$f":"IF(E$231=\"\",\"\",G237*E$231)","v":""},null,{"$f":"SUMIFS(P!E$4:E$85,P!$A$4:$A$85,'RN 02'!$S$5)","v":38},null,12.8,null,{"$f":"IF(I237=\"\",\"\",IF((I237-M237)<0,0,I237-M237))","v":""},null,null,{"$f":"IF(O237=\"\",\"\",O237/$Q$231)","v":""},null,{"$f":"IF(R237=\"\",0,R237)","v":0},null,null,null,null,null,"Riego localizado en superficie",0.9]
[]
[null,null,null,"MAY",null,null,{"$f":"SUMIFS(ETo!G$2:G$54,ETo!$B$2:$B$54,'RN 02'!$E$5)","v":0},null,{"$f":"IF(E$231=\"\",\"\",G239*E$231)","v":""},null,{"$f":"SUMIFS(P!F$4:F$85,P!$A$4:$A$85,'RN 02'!$S$5)","v":39},null,13.399999999999999,null,{"$f":"IF(I239=\"\",\"\",IF((I239-M239)<0,0,I239-M239))","v":""},null,null,{"$f":"IF(O239=\"\",\"\",O239/$Q$231)","v":""},null,{"$f":"IF(R239=\"\",0,R239)","v":0},null,null,null,null,null,"Difusores y microaspersores",0.8]
[]
[null,null,null,"JUN",null,null,{"$f":"SUMIFS(ETo!H$2:H$54,ETo!$B$2:$B$54,'RN 02'!$E$5)","v":0},null,{"$f":"IF(E$231=\"\",\"\",G241*E$231)","v":""},null,{"$f":"SUMIFS(P!G$4:G$85,P!$A$4:$A$85,'RN 02'!$S$5)","v":22},null,3.1999999999999993,null,{"$f":"IF(I241=\"\",\"\",IF((I241-M241)<0,0,I241-M241))","v":""},null,null,{"$f":"IF(O241=\"\",\"\",O241/$Q$231)","v":""},null,{"$f":"IF(R241=\"\",0,R241)","v":0},null,null,null,null,null,"Aspersores",0.75]
[]
[null,null,null,"JUL",null,null,{"$f":"SUMIFS(ETo!I$2:I$54,ETo!$B$2:$B$54,'RN 02'!$E$5)","v":0},null,{"$f":"IF(E$231=\"\",\"\",G243*E$231)","v":""},null,{"$f":"SUMIFS(P!H$4:H$85,P!$A$4:$A$85,'RN 02'!$S$5)","v":8},null,-5.2,null,{"$f":"IF(I243=\"\",\"\",IF((I243-M243)<0,0,I243-M243))","v":""},null,null,{"$f":"IF(O243=\"\",\"\",O243/$Q$231)","v":""},null,{"$f":"IF(R243=\"\",0,R243)","v":0},null,null,null,null,null,"Superficie",0.55000000000000004]
[]
[null,null,null,"AGO",null,null,{"$f":"SUMIFS(ETo!J$2:J$54,ETo!$B$2:$B$54,'RN 02'!$E$5)","v":0},null,{"$f":"IF(E$231=\"\",\"\",G245*E$231)","v":""},null,{"$f":"SUMIFS(P!I$4:I$85,P!$A$4:$A$85,'RN 02'!$S$5)","v":20},null,2,null,{"$f":"IF(I245=\"\",\"\",IF((I245-M245)<0,0,I245-M245))","v":""},null,null,{"$f":"IF(O245=\"\",\"\",O245/$Q$231)","v":""},null,{"$f":"IF(R245=\"\",0,R245)","v":0}]
[]
[null,null,null,"SEP",null,null,{"$f":"SUMIFS(ETo!K$2:K$54,ETo!$B$2:$B$54,'RN 02'!$E$5)","v":0},null,{"$f":"IF(E$231=\"\",\"\",G247*E$231)","v":""},null,{"$f":"SUMIFS(P!J$4:J$85,P!$A$4:$A$85,'RN 02'!$S$5)","v":70},null,32,null,{"$f":"IF(I247=\"\",\"\",IF((I247-M247)<0,0,I247-M247))","v":""},null,null,{"$f":"IF(O247=\"\",\"\",O247/$Q$231)","v":""},null,{"$f":"IF(R247=\"\",0,R247)","v":0}]
[]
[null,null,null,"OCT",null,null,{"$f":"SUMIFS(ETo!L$2:L$54,ETo!$B$2:$B$54,'RN 02'!$E$5)","v":0},null,{"$f":"IF(E$231=\"\",\"\",G249*E$231)","v":""},null,{"$f":"SUMIFS(P!K$4:K$85,P!$A$4:$A$85,'RN 02'!$S$5)","v":77},null,36.6,null,{"$f":"IF(I249=\"\",\"\",IF((I249-M249)<0,0,I249-M249))","v":""},null,null,{"$f":"IF(O249=\"\",\"\",O249/$Q$231)","v":""},null,{"$f":"IF(R249=\"\",0,R249)","v":0}]
[]
[null,null,null,"NOV",null,null,{"$f":"SUMIFS(ETo!M$2:M$54,ETo!$B$2:$B$54,'RN 02'!$E$5)","v":0},null,{"$f":"IF(E$231=\"\",\"\",G251*E$231)","v":""},null,{"$f":"SUMIFS(P!L$4:L$85,P!$A$4:$A$85,'RN 02'!$S$5)","v":47},null,18.2,null,{"$f":"IF(I251=\"\",\"\",IF((I251-M251)<0,0,I251-M251))","v":""},null,null,{"$f":"IF(O251=\"\",\"\",O251/$Q$231)","v":""},null,{"$f":"IF(R251=\"\",0,R251)","v":0}]
[]
[null,null,null,"DIC",null,null,{"$f":"SUMIFS(ETo!N$2:N$54,ETo!$B$2:$B$54,'RN 02'!$E$5)","v":0},null,{"$f":"IF(E$231=\"\",\"\",G253*E$231)","v":""},null,{"$f":"SUMIFS(P!M$4:M$85,P!$A$4:$A$85,'RN 02'!$S$5)","v":48},null,18.799999999999997,null,{"$f":"IF(I253=\"\",\"\",IF((I253-M253)<0,0,I253-M253))","v":""},null,null,{"$f":"IF(O253=\"\",\"\",O253/$Q$231)","v":""},null,{"$f":"IF(R253=\"\",0,R253)","v":0}]
[]
[null,null,null,null,null,null,null,null,null,null,null,null,null,null,null,null,null,{"$f":"SUM(R231:R253)","v":0},null,{"$f":"IF(R255=\"\",0,R255)","v":0}]
[]
[null,null,null,null,{"$f":"IF('RN 02'!W7>0,'RN 02'!W7,\"\")","v":""}]
[null,null,null,null,"Kj",null,"Eto (mm)",null,"Etj (mm)",null,"P (mm)",null,"Pe (mm)",null,"N (mm)",null,null,"Nf (mm)"]
[null,null,null,"ENE",{"$f":"'RN 02'!W19","v":""},null,{"$f":"SUMIFS(ETo!C$2:C$54,ETo!$B$2:$B$54,'RN 02'!$E$5)","v":0},null,{"$f":"IF(E$259=\"\",\"\",G259*E$259)","v":""},null,{"$f":"SUMIFS(P!B$4:B$85,P!$A$4:$A$85,'RN 02'!$S$5)","v":37},null,{"$f":"IF(K259<75,(0.6*K259-10),(0.8*K259-25))","v":12.2},null,{"$f":"IF(I259=\"\",\"\",IF((I259-M259)<0,0,I259-M259))","v":""},null,{"$f":"VLOOKUP('RN 02'!W$21,$Z$11:$AA$19,2,FALSE)","v":{"$error":"#N/A"}},{"$f":"IF(O259=\"\",\"\",O259/$Q$259)","v":""},null,{"$f":"IF(R259=\"\",0,R259)","v":0}]
[]
[null,null,null,"FEB",null,null,{"$f":"SUMIFS(ETo!D$2:D$54,ETo!$B$2:$B$54,'RN 02'!$E$5)","v":0},null,{"$f":"IF(E$259=\"\",\"\",G261*E$259)","v":""},null,{"$f":"SUMIFS(P!C$4:C$85,P!$A$4:$A$85,'RN 02'!$S$5)","v":36},null,{"$f":"IF(K261<75,0.6*K261-10,0.8*K261-25)","v":11.599999999999998},null,{"$f":"IF(I261=\"\",\"\",IF((I261-M261)<0,0,I261-M261))","v":""},null,null,{"$f":"IF(O261=\"\",\"\",O261/$Q$259)","v":""},null,{"$f":"IF(R261=\"\",0,R261)","v":0}]
[]
[null,null,null,"MAR",null,null,{"$f":"SUMIFS(ETo!E$2:E$54,ETo!$B$2:$B$54,'RN 02'!$E$5)","v":0},null,{"$f":"IF(E$259=\"\",\"\",G263*E$259)","v":""},null,{"$f":"SUMIFS(P!D$4:D$85,P!$A$4:$A$85,'RN 02'!$S$5)","v":33},null,9.8000000000000007,null,{"$f":"IF(I263=\"\",\"\",IF((I263-M263)<0,0,I263-M263))","v":""},null,null,{"$f":"IF(O263=\"\",\"\",O263/$Q$259)","v":""},null,{"$f":"IF(R263=\"\",0,R263)","v":0},null,null,null,null,null,"Riego localizado subterráneo",0.95]
[]
[null,null,null,"ABR",null,null,{"$f":"SUMIFS(ETo!F$2:F$54,ETo!$B$2:$B$54,'RN 02'!$E$5)","v":0},null,{"$f":"IF(E$259=\"\",\"\",G265*E$259)","v":""},null,{"$f":"SUMIFS(P!E$4:E$85,P!$A$4:$A$85,'RN 02'!$S$5)","v":38},null,12.8,null,{"$f":"IF(I265=\"\",\"\",IF((I265-M265)<0,0,I265-M265))","v":""},null,null,{"$f":"IF(O265=\"\",\"\",O265/$Q$259)","v":""},null,{"$f":"IF(R265=\"\",0,R265)","v":0},null,null,null,null,null,"Riego localizado en superficie",0.9]
[]
[null,null,null,"MAY",null,null,{"$f":"SUMIFS(ETo!G$2:G$54,ETo!$B$2:$B$54,'RN 02'!$E$5)","v":0},null,{"$f":"IF(E$259=\"\",\"\",G267*E$259)","v":""},null,{"$f":"SUMIFS(P!F$4:F$85,P!$A$4:$A$85,'RN 02'!$S$5)","v":39},null,13.399999999999999,null,{"$f":"IF(I267=\"\",\"\",IF((I267-M267)<0,0,I267-M267))","v":""},null,null,{"$f":"IF(O267=\"\",\"\",O267/$Q$259)","v":""},null,{"$f":"IF(R267=\"\",0,R267)","v":0},null,null,null,null,null,"Difusores y microaspersores",0.8]
[]
[null,null,null,"JUN",null,null,{"$f":"SUMIFS(ETo!H$2:H$54,ETo!$B$2:$B$54,'RN 02'!$E$5)","v":0},null,{"$f":"IF(E$259=\"\",\"\",G269*E$259)","v":""},null,{"$f":"SUMIFS(P!G$4:G$85,P!$A$4:$A$85,'RN 02'!$S$5)","v":22},null,3.1999999999999993,null,{"$f":"IF(I269=\"\",\"\",IF((I269-M269)<0,0,I269-M269))","v":""},null,null,{"$f":"IF(O269=\"\",\"\",O269/$Q$259)","v":""},null,{"$f":"IF(R269=\"\",0,R269)","v":0},null,null,null,null,null,"Aspersores",0.75]
[]
[null,null,null,"JUL",null,null,{"$f":"SUMIFS(ETo!I$2:I$54,ETo!$B$2:$B$54,'RN 02'!$E$5)","v":0},null,{"$f":"IF(E$259=\"\",\"\",G271*E$259)","v":""},null,{"$f":"SUMIFS(P!H$4:H$85,P!$A$4:$A$85,'RN 02'!$S$5)","v":8},null,-5.2,null,{"$f":"IF(I271=\"\",\"\",IF((I271-M271)<0,0,I271-M271))","v":""},null,null,{"$f":"IF(O271=\"\",\"\",O271/$Q$259)","v":""},null,{"$f":"IF(R271=\"\",0,R271)","v":0},null,null,null,null,null,"Superficie",0.55000000000000004]
[]
[null,null,null,"AGO",null,null,{"$f":"SUMIFS(ETo!J$2:J$54,ETo!$B$2:$B$54,'RN 02'!$E$5)","v":0},null,{"$f":"IF(E$259=\"\",\"\",G273*E$259)","v":""},null,{"$f":"SUMIFS(P!I$4:I$85,P!$A$4:$A$85,'RN 02'!$S$5)","v":20},null,2,null,{"$f":"IF(I273=\"\",\"\",IF((I273-M273)<0,0,I273-M273))","v":""},null,null,{"$f":"IF(O273=\"\",\"\",O273/$Q$259)","v":""},null,{"$f":"IF(R273=\"\",0,R273)","v":0}]
[]
[null,null,null,"SEP",null,null,{"$f":"SUMIFS(ETo!K$2:K$54,ETo!$B$2:$B$54,'RN 02'!$E$5)","v":0},null,{"$f":"IF(E$259=\"\",\"\",G275*E$259)","v":""},null,{"$f":"SUMIFS(P!J$4:J$85,P!$A$4:$A$85,'RN 02'!$S$5)","v":70},null,32,null,{"$f":"IF(I275=\"\",\"\",IF((I275-M275)<0,0,I275-M275))","v":""},null,null,{"$f":"IF(O275=\"\",\"\",O275/$Q$259)","v":""},null,{"$f":"IF(R275=\"\",0,R275)","v":0}]
[]
[null,null,null,"OCT",null,null,{"$f":"SUMIFS(ETo!L$2:L$54,ETo!$B$2:$B$54,'RN 02'!$E$5)","v":0},null,{"$f":"IF(E$259=\"\",\"\",G277*E$259)","v":""},null,{"$f":"SUMIFS(P!K$4:K$85,P!$A$4:$A$85,'RN 02'!$S$5)","v":77},null,36.6,null,{"$f":"IF(I277=\"\",\"\",IF((I277-M277)<0,0,I277-M277))","v":""},null,null,{"$f":"IF(O277=\"\",\"\",O277/$Q$259)","v":""},null,{"$f":"IF(R277=\"\",0,R277)","v":0}]
[]
[null,null,null,"NOV",null,null,{"$f":"SUMIFS(ETo!M$2:M$54,ETo!$B$2:$B$54,'RN 02'!$E$5)","v":0},null,{"$f":"IF(E$259=\"\",\"\",G279*E$259)","v":""},null,{"$f":"SUMIFS(P!L$4:L$85,P!$A$4:$A$85,'RN 02'!$S$5)","v":47},null,18.2,null,{"$f":"IF(I279=\"\",\"\",IF((I279-M279)<0,0,I279-M279))","v":""},null,null,{"$f":"IF(O279=\"\",\"\",O279/$Q$259)","v":""},null,{"$f":"IF(R279=\"\",0,R279)","v":0}]
[]
[null,null,null,"DIC",null,null,{"$f":"SUMIFS(ETo!N$2:N$54,ETo!$B$2:$B$54,'RN 02'!$E$5)","v":0},null,{"$f":"IF(E$259=\"\",\"\",G281*E$259)","v":""},null,{"$f":"SUMIFS(P!M$4:M$85,P!$A$4:$A$85,'RN 02'!$S$5)","v":48},null,18.799999999999997,null,{"$f":"IF(I281=\"\",\"\",IF((I281-M281)<0,0,I281-M281))","v":""},null,null,{"$f":"IF(O281=\"\",\"\",O281/$Q$259)","v":""},null,{"$f":"IF(R281=\"\",0,R281)","v":0}]
[]
[null,null,null,null,null,null,null,null,null,null,null,null,null,null,null,null,null,{"$f":"SUM(R259:R281)","v":0},null,{"$f":"IF(R283=\"\",0,R283)","v":0}]
[]
[null,null,null,null,{"$f":"IF('RN 02'!Y7>0,'RN 02'!Y7,\"\")","v":""}]
[null,null,null,null,"Kj",null,"Eto (mm)",null,"Etj (mm)",null,"P (mm)",null,"Pe (mm)",null,"N (mm)",null,null,"Nf (mm)"]
[null,null,null,"ENE",{"$f":"'RN 02'!Y19","v":""},null,{"$f":"SUMIFS(ETo!C$2:C$54,ETo!$B$2:$B$54,'RN 02'!$E$5)","v":0},null,{"$f":"IF(E$287=\"\",\"\",G287*E$287)","v":""},null,{"$f":"SUMIFS(P!B$4:B$85,P!$A$4:$A$85,'RN 02'!$S$5)","v":37},null,{"$f":"IF(K287<75,(0.6*K287-10),(0.8*K287-25))","v":12.2},null,{"$f":"IF(I287=\"\",\"\",IF((I287-M287)<0,0,I287-M287))","v":""},null,{"$f":"VLOOKUP('RN 02'!Y$21,$Z$11:$AA$19,2,FALSE)","v":{"$error":"#N/A"}},{"$f":"IF(O287=\"\",\"\",O287/$Q$287)","v":""},null,{"$f":"IF(R287=\"\",0,R287)","v":0}]
[]
[null,null,null,"FEB",null,null,{"$f":"SUMIFS(ETo!D$2:D$54,ETo!$B$2:$B$54,'RN 02'!$E$5)","v":0},null,{"$f":"IF(E$287=\"\",\"\",G289*E$287)","v":""},null,{"$f":"SUMIFS(P!C$4:C$85,P!$A$4:$A$85,'RN 02'!$S$5)","v":36},null,{"$f":"IF(K289<75,0.6*K289-10,0.8*K289-25)","v":11.599999999999998},null,{"$f":"IF(I289=\"\",\"\",IF((I289-M289)<0,0,I289-M289))","v":""},null,null,{"$f":"IF(O289=\"\",\"\",O289/$Q$287)","v":""},null,{"$f":"IF(R289=\"\",0,R289)","v":0}]
[]
[null,null,null,"MAR",null,null,{"$f":"SUMIFS(ETo!E$2:E$54,ETo!$B$2:$B$54,'RN 02'!$E$5)","v":0},null,{"$f":"IF(E$287=\"\",\"\",G291*E$287)","v":""},null,{"$f":"SUMIFS(P!D$4:D$85,P!$A$4:$A$85,'RN 02'!$S$5)","v":33},null,9.8000000000000007,null,{"$f":"IF(I291=\"\",\"\",IF((I291-M291)<0,0,I291-M291))","v":""},null,null,{"$f":"IF(O291=\"\",\"\",O291/$Q$287)","v":""},null,{"$f":"IF(R291=\"\",0,R291)","v":0},null,null,null,null,null,"Riego localizado subterráneo",0.95]
[]
[null,null,null,"ABR",null,null,{"$f":"SUMIFS(ETo!F$2:F$54,ETo!$B$2:$B$54,'RN 02'!$E$5)","v":0},null,{"$f":"IF(E$287=\"\",\"\",G293*E$287)","v":""},null,{"$f":"SUMIFS(P!E$4:E$85,P!$A$4:$A$85,'RN 02'!$S$5)","v":38},null,12.8,null,{"$f":"IF(I293=\"\",\"\",IF((I293-M293)<0,0,I293-M293))","v":""},null,null,{"$f":"IF(O293=\"\",\"\",O293/$Q$287)","v":""},null,{"$f":"IF(R293=\"\",0,R293)","v":0},null,null,null,null,null,"Riego localizado en superficie",0.9]
[]
[null,null,null,"MAY",null,null,{"$f":"SUMIFS(ETo!G$2:G$54,ETo!$B$2:$B$54,'RN 02'!$E$5)","v":0},null,{"$f":"IF(E$287=\"\",\"\",G295*E$287)","v":""},null,{"$f":"SUMIFS(P!F$4:F$85,P!$A$4:$A$85,'RN 02'!$S$5)","v":39},null,13.399999999999999,null,{"$f":"IF(I295=\"\",\"\",IF((I295-M295)<0,0,I295-M295))","v":""},null,null,{"$f":"IF(O295=\"\",\"\",O295/$Q$287)","v":""},null,{"$f":"IF(R295=\"\",0,R295)","v":0},null,null,null,null,null,"Difusores y microaspersores",0.8]
[]
[null,null,null,"JUN",null,null,{"$f":"SUMIFS(ETo!H$2:H$54,ETo!$B$2:$B$54,'RN 02'!$E$5)","v":0},null,{"$f":"IF(E$287=\"\",\"\",G297*E$287)","v":""},null,{"$f":"SUMIFS(P!G$4:G$85,P!$A$4:$A$85,'RN 02'!$S$5)","v":22},null,3.1999999999999993,null,{"$f":"IF(I297=\"\",\"\",IF((I297-M297)<0,0,I297-M297))","v":""},null,null,{"$f":"IF(O297=\"\",\"\",O297/$Q$287)","v":""},null,{"$f":"IF(R297=\"\",0,R297)","v":0},null,null,null,null,null,"Aspersores",0.75]
[]
[null,null,null,"JUL",null,null,{"$f":"SUMIFS(ETo!I$2:I$54,ETo!$B$2:$B$54,'RN 02'!$E$5)","v":0},null,{"$f":"IF(E$287=\"\",\"\",G299*E$287)","v":""},null,{"$f":"SUMIFS(P!H$4:H$85,P!$A$4:$A$85,'RN 02'!$S$5)","v":8},null,-5.2,null,{"$f":"IF(I299=\"\",\"\",IF((I299-M299)<0,0,I299-M299))","v":""},null,null,{"$f":"IF(O299=\"\",\"\",O299/$Q$287)","v":""},null,{"$f":"IF(R299=\"\",0,R299)","v":0},null,null,null,null,null,"Superficie",0.55000000000000004]
[]
[null,null,null,"AGO",null,null,{"$f":"SUMIFS(ETo!J$2:J$54,ETo!$B$2:$B$54,'RN 02'!$E$5)","v":0},null,{"$f":"IF(E$287=\"\",\"\",G301*E$287)","v":""},null,{"$f":"SUMIFS(P!I$4:I$85,P!$A$4:$A$85,'RN 02'!$S$5)","v":20},null,2,null,{"$f":"IF(I301=\"\",\"\",IF((I301-M301)<0,0,I301-M301))","v":""},null,null,{"$f":"IF(O301=\"\",\"\",O301/$Q$287)","v":""},null,{"$f":"IF(R301=\"\",0,R301)","v":0}]
[]
[null,null,null,"SEP",null,null,{"$f":"SUMIFS(ETo!K$2:K$54,ETo!$B$2:$B$54,'RN 02'!$E$5)","v":0},null,{"$f":"IF(E$287=\"\",\"\",G303*E$287)","v":""},null,{"$f":"SUMIFS(P!J$4:J$85,P!$A$4:$A$85,'RN 02'!$S$5)","v":70},null,32,null,{"$f":"IF(I303=\"\",\"\",IF((I303-M303)<0,0,I303-M303))","v":""},null,null,{"$f":"IF(O303=\"\",\"\",O303/$Q$287)","v":""},null,{"$f":"IF(R303=\"\",0,R303)","v":0}]
[]
[null,null,null,"OCT",null,null,{"$f":"SUMIFS(ETo!L$2:L$54,ETo!$B$2:$B$54,'RN 02'!$E$5)","v":0},null,{"$f":"IF(E$287=\"\",\"\",G305*E$287)","v":""},null,{"$f":"SUMIFS(P!K$4:K$85,P!$A$4:$A$85,'RN 02'!$S$5)","v":77},null,36.6,null,{"$f":"IF(I305=\"\",\"\",IF((I305-M305)<0,0,I305-M305))","v":""},null,null,{"$f":"IF(O305=\"\",\"\",O305/$Q$287)","v":""},null,{"$f":"IF(R305=\"\",0,R305)","v":0}]
[]
[null,null,null,"NOV",null,null,{"$f":"SUMIFS(ETo!M$2:M$54,ETo!$B$2:$B$54,'RN 02'!$E$5)","v":0},null,{"$f":"IF(E$287=\"\",\"\",G307*E$287)","v":""},null,{"$f":"SUMIFS(P!L$4:L$85,P!$A$4:$A$85,'RN 02'!$S$5)","v":47},null,18.2,null,{"$f":"IF(I307=\"\",\"\",IF((I307-M307)<0,0,I307-M307))","v":""},null,null,{"$f":"IF(O307=\"\",\"\",O307/$Q$287)","v":""},null,{"$f":"IF(R307=\"\",0,R307)","v":0}]
[]
[null,null,null,"DIC",null,null,{"$f":"SUMIFS(ETo!N$2:N$54,ETo!$B$2:$B$54,'RN 02'!$E$5)","v":0},null,{"$f":"IF(E$287=\"\",\"\",G309*E$287)","v":""},null,{"$f":"SUMIFS(P!M$4:M$85,P!$A$4:$A$85,'RN 02'!$S$5)","v":48},null,18.799999999999997,null,{"$f":"IF(I309=\"\",\"\",IF((I309-M309)<0,0,I309-M309))","v":""},null,null,{"$f":"IF(O309=\"\",\"\",O309/$Q$287)","v":""},null,{"$f":"IF(R309=\"\",0,R309)","v":0}]
[]
[null,null,null,null,null,null,null,null,null,null,null,null,null,null,null,null,null,{"$f":"SUM(R287:R309)","v":0},null,{"$f":"IF(R311=\"\",0,R311)","v":0}]
[]
[null,null,null,null,{"$f":"IF('RN 02'!AA7>0,'RN 02'!AA7,\"\")","v":""}]
[null,null,null,null,"Kj",null,"Eto (mm)",null,"Etj (mm)",null,"P (mm)",null,"Pe (mm)",null,"N (mm)",null,null,"Nf (mm)"]
[null,null,null,"ENE",{"$f":"'RN 02'!AA19","v":""},null,{"$f":"SUMIFS(ETo!C$2:C$54,ETo!$B$2:$B$54,'RN 02'!$E$5)","v":0},null,{"$f":"IF(E$315=\"\",\"\",G315*E$315)","v":""},null,{"$f":"SUMIFS(P!B$4:B$85,P!$A$4:$A$85,'RN 02'!$S$5)","v":37},null,{"$f":"IF(K315<75,(0.6*K315-10),(0.8*K315-25))","v":12.2},null,{"$f":"IF(I315=\"\",\"\",IF((I315-M315)<0,0,I315-M315))","v":""},null,{"$f":"VLOOKUP('RN 02'!AA$21,$Z$11:$AA$19,2,FALSE)","v":{"$error":"#N/A"}},{"$f":"IF(O315=\"\",\"\",O315/$Q$315)","v":""},null,{"$f":"IF(R315=\"\",0,R315)","v":0}]
[]
[null,null,null,"FEB",null,null,{"$f":"SUMIFS(ETo!D$2:D$54,ETo!$B$2:$B$54,'RN 02'!$E$5)","v":0},null,{"$f":"IF(E$315=\"\",\"\",G317*E$315)","v":""},null,{"$f":"SUMIFS(P!C$4:C$85,P!$A$4:$A$85,'RN 02'!$S$5)","v":36},null,{"$f":"IF(K317<75,0.6*K317-10,0.8*K317-25)","v":11.599999999999998},null,{"$f":"IF(I317=\"\",\"\",IF((I317-M317)<0,0,I317-M317))","v":""},null,null,{"$f":"IF(O317=\"\",\"\",O317/$Q$315)","v":""},null,{"$f":"IF(R317=\"\",0,R317)","v":0}]
[]
[null,null,null,"MAR",null,null,{"$f":"SUMIFS(ETo!E$2:E$54,ETo!$B$2:$B$54,'RN 02'!$E$5)","v":0},null,{"$f":"IF(E$315=\"\",\"\",G319*E$315)","v":""},null,{"$f":"SUMIFS(P!D$4:D$85,P!$A$4:$A$85,'RN 02'!$S$5)","v":33},null,9.8000000000000007,null,{"$f":"IF(I319=\"\",\"\",IF((I319-M319)<0,0,I319-M319))","v":""},null,null,{"$f":"IF(O319=\"\",\"\",O319/$Q$315)","v":""},null,{"$f":"IF(R319=\"\",0,R319)","v":0},null,null,null,null,null,"Riego localizado subterráneo",0.95]
[]
[null,null,null,"ABR",null,null,{"$f":"SUMIFS(ETo!F$2:F$54,ETo!$B$2:$B$54,'RN 02'!$E$5)","v":0},null,{"$f":"IF(E$315=\"\",\"\",G321*E$315)","v":""},null,{"$f":"SUMIFS(P!E$4:E$85,P!$A$4:$A$85,'RN 02'!$S$5)","v":38},null,12.8,null,{"$f":"IF(I321=\"\",\"\",IF((I321-M321)<0,0,I321-M321))","v":""},null,null,{"$f":"IF(O321=\"\",\"\",O321/$Q$315)","v":""},null,{"$f":"IF(R321=\"\",0,R321)","v":0},null,null,null,null,null,"Riego localizado en superficie",0.9]
[]
[null,null,null,"MAY",null,null,{"$f":"SUMIFS(ETo!G$2:G$54,ETo!$B$2:$B$54,'RN 02'!$E$5)","v":0},null,{"$f":"IF(E$315=\"\",\"\",G323*E$315)","v":""},null,{"$f":"SUMIFS(P!F$4:F$85,P!$A$4:$A$85,'RN 02'!$S$5)","v":39},null,13.399999999999999,null,{"$f":"IF(I323=\"\",\"\",IF((I323-M323)<0,0,I323-M323))","v":""},null,null,{"$f":"IF(O323=\"\",\"\",O323/$Q$315)","v":""},null,{"$f":"IF(R323=\"\",0,R323)","v":0},null,null,null,null,null,"Difusores y microaspersores",0.8]
[]
[null,null,null,"JUN",null,null,{"$f":"SUMIFS(ETo!H$2:H$54,ETo!$B$2:$B$54,'RN 02'!$E$5)","v":0},null,{"$f":"IF(E$315=\"\",\"\",G325*E$315)","v":""},null,{"$f":"SUMIFS(P!G$4:G$85,P!$A$4:$A$85,'RN 02'!$S$5)","v":22},null,3.1999999999999993,null,{"$f":"IF(I325=\"\",\"\",IF((I325-M325)<0,0,I325-M325))","v":""},null,null,{"$f":"IF(O325=\"\",\"\",O325/$Q$315)","v":""},null,{"$f":"IF(R325=\"\",0,R325)","v":0},null,null,null,null,null,"Aspersores",0.75]
[]
[null,null,null,"JUL",null,null,{"$f":"SUMIFS(ETo!I$2:I$54,ETo!$B$2:$B$54,'RN 02'!$E$5)","v":0},null,{"$f":"IF(E$315=\"\",\"\",G327*E$315)","v":""},null,{"$f":"SUMIFS(P!H$4:H$85,P!$A$4:$A$85,'RN 02'!$S$5)","v":8},null,-5.2,null,{"$f":"IF(I327=\"\",\"\",IF((I327-M327)<0,0,I327-M327))","v":""},null,null,{"$f":"IF(O327=\"\",\"\",O327/$Q$315)","v":""},null,{"$f":"IF(R327=\"\",0,R327)","v":0},null,null,null,null,null,"Superficie",0.55000000000000004]
[]
[null,null,null,"AGO",null,null,{"$f":"SUMIFS(ETo!J$2:J$54,ETo!$B$2:$B$54,'RN 02'!$E$5)","v":0},null,{"$f":"IF(E$315=\"\",\"\",G329*E$315)","v":""},null,{"$f":"SUMIFS(P!I$4:I$85,P!$A$4:$A$85,'RN 02'!$S$5)","v":20},null,2,null,{"$f":"IF(I329=\"\",\"\",IF((I329-M329)<0,0,I329-M329))","v":""},null,null,{"$f":"IF(O329=\"\",\"\",O329/$Q$315)","v":""},null,{"$f":"IF(R329=\"\",0,R329)","v":0}]
[]
[null,null,null,"SEP",null,null,{"$f":"SUMIFS(ETo!K$2:K$54,ETo!$B$2:$B$54,'RN 02'!$E$5)","v":0},null,{"$f":"IF(E$315=\"\",\"\",G331*E$315)","v":""},null,{"$f":"SUMIFS(P!J$4:J$85,P!$A$4:$A$85,'RN 02'!$S$5)","v":70},null,32,null,{"$f":"IF(I331=\"\",\"\",IF((I331-M331)<0,0,I331-M331))","v":""},null,null,{"$f":"IF(O331=\"\",\"\",O331/$Q$315)","v":""},null,0]
[]
[null,null,null,"OCT",null,null,{"$f":"SUMIFS(ETo!L$2:L$54,ETo!$B$2:$B$54,'RN 02'!$E$5)","v":0},null,{"$f":"IF(E$315=\"\",\"\",G333*E$315)","v":""},null,{"$f":"SUMIFS(P!K$4:K$85,P!$A$4:$A$85,'RN 02'!$S$5)","v":77},null,36.6,null,{"$f":"IF(I333=\"\",\"\",IF((I333-M333)<0,0,I333-M333))","v":""},null,null,{"$f":"IF(O333=\"\",\"\",O333/$Q$315)","v":""},null,0]
[]
[null,null,null,"NOV",null,null,{"$f":"SUMIFS(ETo!M$2:M$54,ETo!$B$2:$B$54,'RN 02'!$E$5)","v":0},null,{"$f":"IF(E$315=\"\",\"\",G335*E$315)","v":""},null,{"$f":"SUMIFS(P!L$4:L$85,P!$A$4:$A$85,'RN 02'!$S$5)","v":47},null,18.2,null,{"$f":"IF(I335=\"\",\"\",IF((I335-M335)<0,0,I335-M335))","v":""},null,null,{"$f":"IF(O335=\"\",\"\",O335/$Q$315)","v":""},null,0]
[]
[null,null,null,"DIC",null,null,{"$f":"SUMIFS(ETo!N$2:N$54,ETo!$B$2:$B$54,'RN 02'!$E$5)","v":0},null,{"$f":"IF(E$315=\"\",\"\",G337*E$315)","v":""},null,{"$f":"SUMIFS(P!M$4:M$85,P!$A$4:$A$85,'RN 02'!$S$5)","v":48},null,18.799999999999997,null,{"$f":"IF(I337=\"\",\"\",IF((I337-M337)<0,0,I337-M337))","v":""},null,null,{"$f":"IF(O337=\"\",\"\",O337/$Q$315)","v":""},null,0]
[]
[null,null,null,null,null,null,null,null,null,null,null,null,null,null,null,null,null,{"$f":"SUM(R315:R337)","v":0},null,0]

{"sheet":"RN 02","index":22,"n_rows":45,"n_cols":39,"rows_kept":45,"cut":false,"hidden":false,"merged":[[14,4,14,26],[1,3,1,27],[2,3,2,27],[4,4,4,12],[4,14,4,16],[4,18,4,26]]}
[]
[null,null,null,"Necesidades de riego en jardines"]
[null,null,null,"VERDE Edificios 2020 Residencial Privado"]
[null,null,null,"Tipos de vegetación"]
[null,null,null,"CAPITAL DE PROVINCIA",{"$f":"'DG '!F14","v":0},null,null,null,null,null,null,null,null,null,"ESTACIÓN METEOROLÓGICA",null,null,null,"Valencia"]
[]
[null,null,null,"NOMBRE ESPECIE"]
[]
[null,null,null,"Tipo de vegetación"]
[]
[null,null,null,"Area (m2)"]
[]
[null,null,null,"Ks"]
[]
[null,null,null,"Entorno"]
[]
[null,null,null,"Km",{"$f":"IF(E9=\"\",\"\",VLOOKUP(E9,$AG37:$AJ42,MATCH($E15,$AH37:$AJ37,0)+1,0))","v":""},null,{"$f":"IF(G9=\"\",\"\",VLOOKUP(G9,$AG37:$AJ42,MATCH($E15,$AH37:$AJ37,0)+1,0))","v":""},null,{"$f":"IF(I9=\"\",\"\",VLOOKUP(I9,$AG37:$AJ42,MATCH($E15,$AH37:$AJ37,0)+1,0))","v":""},null,{"$f":"IF(K9=\"\",\"\",VLOOKUP(K9,$AG37:$AJ42,MATCH($E15,$AH37:$AJ37,0)+1,0))","v":""},null,{"$f":"IF(M9=\"\",\"\",VLOOKUP(M9,$AG37:$AJ42,MATCH($E15,$AH37:$AJ37,0)+1,0))","v":""},null,{"$f":"IF(O9=\"\",\"\",VLOOKUP(O9,$AG37:$AJ42,MATCH($E15,$AH37:$AJ37,0)+1,0))","v":""},null,{"$f":"IF(Q9=\"\",\"\",VLOOKUP(Q9,$AG37:$AJ42,MATCH($E15,$AH37:$AJ37,0)+1,0))","v":""},null,{"$f":"IF(S9=\"\",\"\",VLOOKUP(S9,$AG37:$AJ42,MATCH($E15,$AH37:$AJ37,0)+1,0))","v":""},null,{"$f":"IF(U9=\"\",\"\",VLOOKUP(U9,$AG37:$AJ42,MATCH($E15,$AH37:$AJ37,0)+1,0))","v":""},null,{"$f":"IF(W9=\"\",\"\",VLOOKUP(W9,$AG37:$AJ42,MATCH($E15,$AH37:$AJ37,0)+1,0))","v":""},null,{"$f":"IF(Y9=\"\",\"\",VLOOKUP(Y9,$AG37:$AJ42,MATCH($E15,$AH37:$AJ37,0)+1,0))","v":""},null,{"$f":"IF(AA9=\"\",\"\",VLOOKUP(AA9,$AG37:$AJ42,MATCH($E15,$AH37:$AJ37,0)+1,0))","v":""}]
[]
[null,null,null,"Kj",{"$f":"IF(E17=\"\",\"\",E13*E17)","v":""},null,{"$f":"IF(G17=\"\",\"\",G13*G17)","v":""},null,{"$f":"IF(I17=\"\",\"\",I13*I17)","v":""},null,{"$f":"IF(K17=\"\",\"\",K13*K17)","v":""},null,{"$f":"IF(M17=\"\",\"\",M13*M17)","v":""},null,{"$f":"IF(O17=\"\",\"\",O13*O17)","v":""},null,{"$f":"IF(Q17=\"\",\"\",Q13*Q17)","v":""},null,{"$f":"IF(S17=\"\",\"\",S13*S17)","v":""},null,{"$f":"IF(U17=\"\",\"\",U13*U17)","v":""},null,{"$f":"IF(W17=\"\",\"\",W13*W17)","v":""},null,{"$f":"IF(Y17=\"\",\"\",Y13*Y17)","v":""},null,{"$f":"IF(AA17=\"\",\"\",AA13*AA17)","v":""}]
[]
[null,null,null,"Tipo de riego"]
[]
[null,null,null,"Nf (l/m2 año)",{"$f":"IF(Nf!R31>0,Nf!$R$31,0)","v":0},null,{"$f":"IF(Nf!$R$59>0,Nf!$R$59,0)","v":0},null,{"$f":"IF(Nf!$R$87>0,Nf!$R$87,0)","v":0},null,{"$f":"IF(Nf!$R$115>0,Nf!$R$115,0)","v":0},null,{"$f":"IF(Nf!$R$143>0,Nf!$R$143,0)","v":0},null,{"$f":"IF(Nf!$R$171>0,Nf!$R$171,0)","v":0},null,{"$f":"IF(Nf!$R$199>0,Nf!$R$199,0)","v":0},null,{"$f":"IF(Nf!$R$227>0,Nf!$R$227,0)","v":0},null,{"$f":"IF(Nf!$R$255>0,Nf!$R$255,0)","v":0},null,{"$f":"IF(Nf!$R$283>0,Nf!$R$283,0)","v":0},null,{"$f":"IF(Nf!$R$311>0,Nf!$R$311,0)","v":0},null,{"$f":"IF(Nf!AN31>0,Nf!$R$31,0)","v":0}]
[]
[null,null,null,"Totales (l/año)",{"$f":"IF(E23>0,IF(E23>0,E11*E23,\"\"),\"\")","v":""},null,{"$f":"IF(G23>0,IF(G23>0,G11*G23,\"\"),\"\")","v":""},null,{"$f":"IF(I23>0,IF(I23>0,I11*I23,\"\"),\"\")","v":""},null,{"$f":"IF(K23>0,IF(K23>0,K11*K23,\"\"),\"\")","v":""},null,{"$f":"IF(M23>0,IF(M23>0,M11*M23,\"\"),\"\")","v":""},null,{"$f":"IF(O23>0,IF(O23>0,O11*O23,\"\"),\"\")","v":""},null,{"$f":"IF(Q23>0,IF(Q23>0,Q11*Q23,\"\"),\"\")","v":""},null,{"$f":"IF(S23>0,IF(S23>0,S11*S23,\"\"),\"\")","v":""},null,{"$f":"IF(U23>0,IF(U23>0,U11*U23,\"\"),\"\")","v":""},null,{"$f":"IF(W23>0,IF(W23>0,W11*W23,\"\"),\"\")","v":""},null,{"$f":"IF(Y23>0,IF(Y23>0,Y11*Y23,\"\"),\"\")","v":""},null,{"$f":"IF(AA23>0,IF(AA23>0,AA11*AA23,\"\"),\"\")","v":""}]
[]
[null,null,null,"Superficie de jardín (m2)",{"$f":"SUM(E11:AA11)","v":0}]
[]
[null,null,null,"Necesidades de riego anuales (m3/m2 año)",null,null,{"$f":"SUM(E25:AA25)/1000","v":0},null,null,null,null,null,null,null,null,null,"Necesidades de riego anuales REFERENCIA (m3/m2 año)",null,{"$f":"JR!$B$3","v":""},null,null,null,null,null,"Porcentaje de ahorro",null,{"$f":"IF(S29=\"\",\"\",1-(G29/S29))","v":""}]
[]
[null,null,null,null,null,null,null,null,null,null,null,null,null,null,null,null,null,null,null,null,null,null,null,null,null,null,null,null,null,null,null,null,"Zona urbana compacta"]
[null,null,null,null,null,null,null,null,null,null,null,null,null,null,null,null,null,null,null,null,null,null,null,null,null,null,null,null,null,null,null,null,"Zona urbana de baja densidad"]
[null,null,null,null,null,null,null,null,null,null,null,null,null,null,null,null,null,null,null,null,null,null,null,null,null,null,null,null,null,null,null,null,"Zona rural, campo abierto"]
[]
[]
[]
[null,null,null,null,null,null,null,null,null,null,null,null,null,null,null,null,null,null,null,null,null,null,null,null,null,null,null,null,null,null,null,null,"Columna1","Zona urbana compacta","Zona urbana de baja densidad","Zona rural, campo abierto"]
[null,null,null,null,null,null,null,null,null,null,null,null,null,null,null,null,null,null,null,null,null,null,null,null,null,null,null,null,null,null,null,null,"Arboles",1.4,1,0.5]
[null,null,null,null,null,null,null,null,null,null,null,null,null,null,null,null,null,null,null,null,null,null,null,null,null,null,null,null,null,null,null,null,"Arbustos",1.3,1,0.5]
[null,null,null,null,null,null,null,null,null,null,null,null,null,null,null,null,null,null,null,null,null,null,null,null,null,null,null,null,null,null,null,null,"Tapizantes",1.2,1,0.5]
[null,null,null,null,null,null,null,null,null,null,null,null,null,null,null,null,null,null,null,null,null,null,null,null,null,null,null,null,null,null,null,null,"Plantación mixta",1.4,1,0.5,null,"tipo de riego","Ea"]
[null,null,null,null,null,null,null,null,null,null,null,null,null,null,null,null,null,null,null,null,null,null,null,null,null,null,null,null,null,null,null,null,"Césped",1.2,1,0.8,null,"Riego localizado subterráneo",0.95]
[null,null,null,null,null,null,null,null,null,null,null,null,null,null,null,null,null,null,null,null,null,null,null,null,null,null,null,null,null,null,null,null,null,null,null,null,null,"Riego localizado en superficie",0.9]
[null,null,null,null,null,null,null,null,null,null,null,null,null,null,null,null,null,null,null,null,null,null,null,null,null,null,null,null,null,null,null,null,null,null,null,null,null,"Difusores y microaspersores",0.8]
[null,null,null,null,null,null,null,null,null,null,null,null,null,null,null,null,null,null,null,null,null,null,null,null,null,null,null,null,null,null,null,null,null,null,null,null,null,"Aspersores",0.75]

{"sheet":"RN 04","index":23,"n_rows":33,"n_cols":16,"rows_kept":33,"cut":false,"hidden":true,"merged":[[1,2,1,14],[2,2,2,14],[3,3,3,13],[6,18,28,18]]}
[]
[null,null,"Utilización de aguas no potables"]
[null,null,"VERDE Edificios 2020 Residencial Privado"]
[]
[null,null,null,"Demanda mensual de agua no potable (l)",null,"Captación de aguas grises \n(l)",null,"Precipitación (litro/m2)",null,"Captación de aguas pluviales (l)",null,"Agua no potable aprovechada \n(l)",null,"Demanda sin cubrir \n(l)",null,"Potencial de captación de aguas pluviales (l)"]
[]
[null,null,"ENERO",{"$f":"(('RN 01'!$J$30+'RN 01'!$R$30)*31*'RN 01'!$J$18)+Nf!V7","v":0},null,{"$f":"RN!$I80","v":0},null,{"$f":"SUMIFS(P!B$4:B$103,P!$A$4:$A$103,'RN 02'!$S$5)","v":37},null,{"$f":"IF(P7>RN!I90,RN!I90,P7)","v":0},null,{"$f":"IF((F7+J7)>D7,D7,F7+J7)","v":0},null,{"$f":"IF(D7-L7<0,0,D7-L7)","v":0},null,{"$f":"RN!$I$84*RN!$I$86*$H7*RN!$I$88","v":0}]
[]
[null,null,"FEBRERO",{"$f":"(('RN 01'!$J$30+'RN 01'!$R$30)*31*'RN 01'!$J$18)+Nf!V9","v":0},null,{"$f":"RN!$I80","v":0},null,{"$f":"SUMIFS(P!C$4:C$103,P!$A$4:$A$103,'RN 02'!$S$5)","v":36},null,{"$f":"IF((J7+F7)>D7,IF(P9+J7-D7-F7>RN!$I$90,RN!$I$90,P9+J7-D7-F7),IF(P9>RN!$I$90,RN!$I$90,P9))","v":0},null,{"$f":"IF((F9+J9)>D9,D9,F9+J9)","v":0},null,{"$f":"IF(D9-L9<0,0,D9-L9)","v":0},null,{"$f":"RN!$I$84*RN!$I$86*$H9*RN!$I$88","v":0}]
[]
[null,null,"MARZO",{"$f":"(('RN 01'!$J$30+'RN 01'!$R$30)*31*'RN 01'!$J$18)+Nf!V11","v":0},null,{"$f":"RN!$I80","v":0},null,{"$f":"SUMIFS(P!D$4:D$103,P!$A$4:$A$103,'RN 02'!$S$5)","v":33},null,{"$f":"IF((J9+F9)>D9,IF(P11+J9-D9-F9>RN!$I$90,RN!$I$90,P11+J9-D9-F9),IF(P11>RN!$I$90,RN!$I$90,P11))","v":0},null,{"$f":"IF((F11+J11)>D11,D11,F11+J11)","v":0},null,{"$f":"IF(D11-L11<0,0,D11-L11)","v":0},null,{"$f":"RN!$I$84*RN!$I$86*$H11*RN!$I$88","v":0}]
[]
[null,null,"ABRIL",{"$f":"(('RN 01'!$J$30+'RN 01'!$R$30)*31*'RN 01'!$J$18)+Nf!V13","v":0},null,{"$f":"RN!$I80","v":0},null,{"$f":"SUMIFS(P!E$4:E$103,P!$A$4:$A$103,'RN 02'!$S$5)","v":38},null,{"$f":"IF((J11+F11)>D11,IF(P13+J11-D11-F11>RN!$I$90,RN!$I$90,P13+J11-D11-F11),IF(P13>RN!$I$90,RN!$I$90,P13))","v":0},null,{"$f":"IF((F13+J13)>D13,D13,F13+J13)","v":0},null,{"$f":"IF(D13-L13<0,0,D13-L13)","v":0},null,{"$f":"RN!$I$84*RN!$I$86*$H13*RN!$I$88","v":0}]
[]
[null,null,"MAYO",{"$f":"(('RN 01'!$J$30+'RN 01'!$R$30)*31*'RN 01'!$J$18)+Nf!V15","v":0},null,{"$f":"RN!$I80","v":0},null,{"$f":"SUMIFS(P!F$4:F$103,P!$A$4:$A$103,'RN 02'!$S$5)","v":39},null,{"$f":"IF((J13+F13)>D13,IF(P15+J13-D13-F13>RN!$I$90,RN!$I$90,P15+J13-D13-F13),IF(P15>RN!$I$90,RN!$I$90,P15))","v":0},null,{"$f":"IF((F15+J15)>D15,D15,F15+J15)","v":0},null,{"$f":"IF(D15-L15<0,0,D15-L15)","v":0},null,{"$f":"RN!$I$84*RN!$I$86*$H15*RN!$I$88","v":0}]
[]
[null,null,"JUNIO",{"$f":"(('RN 01'!$J$30+'RN 01'!$R$30)*31*'RN 01'!$J$18)+Nf!V17","v":0},null,{"$f":"RN!$I80","v":0},null,{"$f":"SUMIFS(P!G$4:G$103,P!$A$4:$A$103,'RN 02'!$S$5)","v":22},null,{"$f":"IF((J15+F15)>D15,IF(P17+J15-D15-F15>RN!$I$90,RN!$I$90,P17+J15-D15-F15),IF(P17>RN!$I$90,RN!$I$90,P17))","v":0},null,{"$f":"IF((F17+J17)>D17,D17,F17+J17)","v":0},null,{"$f":"IF(D17-L17<0,0,D17-L17)","v":0},null,{"$f":"RN!$I$84*RN!$I$86*$H17*RN!$I$88","v":0}]
[]
[null,null,"JULIO",{"$f":"(('RN 01'!$J$30+'RN 01'!$R$30)*31*'RN 01'!$J$18)+Nf!V19","v":0},null,{"$f":"RN!$I80","v":0},null,{"$f":"SUMIFS(P!H$4:H$103,P!$A$4:$A$103,'RN 02'!$S$5)","v":8},null,{"$f":"IF((J17+F17)>D17,IF(P19+J17-D17-F17>RN!$I$90,RN!$I$90,P19+J17-D17-F17),IF(P19>RN!$I$90,RN!$I$90,P19))","v":0},null,{"$f":"IF((F19+J19)>D19,D19,F19+J19)","v":0},null,{"$f":"IF(D19-L19<0,0,D19-L19)","v":0},null,{"$f":"RN!$I$84*RN!$I$86*$H19*RN!$I$88","v":0}]
[]
[null,null,"AGOSTO",{"$f":"(('RN 01'!$J$30+'RN 01'!$R$30)*31*'RN 01'!$J$18)+Nf!V21","v":0},null,{"$f":"RN!$I80","v":0},null,{"$f":"SUMIFS(P!I$4:I$103,P!$A$4:$A$103,'RN 02'!$S$5)","v":20},null,{"$f":"IF((J19+F19)>D19,IF(P21+J19-D19-F19>RN!$I$90,RN!$I$90,P21+J19-D19-F19),IF(P21>RN!$I$90,RN!$I$90,P21))","v":0},null,{"$f":"IF((F21+J21)>D21,D21,F21+J21)","v":0},null,{"$f":"IF(D21-L21<0,0,D21-L21)","v":0},null,{"$f":"RN!$I$84*RN!$I$86*$H21*RN!$I$88","v":0}]
[]
[null,null,"SEPTIEMBRE",{"$f":"(('RN 01'!$J$30+'RN 01'!$R$30)*31*'RN 01'!$J$18)+Nf!V23","v":0},null,{"$f":"RN!$I80","v":0},null,{"$f":"SUMIFS(P!J$4:J$103,P!$A$4:$A$103,'RN 02'!$S$5)","v":70},null,{"$f":"IF((J21+F21)>D21,IF(P23+J21-D21-F21>RN!$I$90,RN!$I$90,P23+J21-D21-F21),IF(P23>RN!$I$90,RN!$I$90,P23))","v":0},null,{"$f":"IF((F23+J23)>D23,D23,F23+J23)","v":0},null,{"$f":"IF(D23-L23<0,0,D23-L23)","v":0},null,{"$f":"RN!$I$84*RN!$I$86*$H23*RN!$I$88","v":0}]
[]
[null,null,"OCTUBRE",{"$f":"(('RN 01'!$J$30+'RN 01'!$R$30)*31*'RN 01'!$J$18)+Nf!V25","v":0},null,{"$f":"RN!$I80","v":0},null,{"$f":"SUMIFS(P!K$4:K$103,P!$A$4:$A$103,'RN 02'!$S$5)","v":77},null,{"$f":"IF((J23+F23)>D23,IF(P25+J23-D23-F23>RN!$I$90,RN!$I$90,P25+J23-D23-F23),IF(P25>RN!$I$90,RN!$I$90,P25))","v":0},null,{"$f":"IF((F25+J25)>D25,D25,F25+J25)","v":0},null,{"$f":"IF(D25-L25<0,0,D25-L25)","v":0},null,{"$f":"RN!$I$84*RN!$I$86*$H25*RN!$I$88","v":0}]
[]
[null,null,"NOVIEMBRE",{"$f":"(('RN 01'!$J$30+'RN 01'!$R$30)*31*'RN 01'!$J$18)+Nf!V27","v":0},null,{"$f":"RN!$I80","v":0},null,{"$f":"SUMIFS(P!L$4:L$103,P!$A$4:$A$103,'RN 02'!$S$5)","v":47},null,{"$f":"IF((J25+F25)>D25,IF(P27+J25-D25-F25>RN!$I$90,RN!$I$90,P27+J25-D25-F25),IF(P27>RN!$I$90,RN!$I$90,P27))","v":0},null,{"$f":"IF((F27+J27)>D27,D27,F27+J27)","v":0},null,{"$f":"IF(D27-L27<0,0,D27-L27)","v":0},null,{"$f":"RN!$I$84*RN!$I$86*$H27*RN!$I$88","v":0}]
[]
[null,null,"DICIEMBRE",{"$f":"(('RN 01'!$J$30+'RN 01'!$R$30)*31*'RN 01'!$J$18)+Nf!V29","v":0},null,{"$f":"RN!$I80","v":0},null,{"$f":"SUMIFS(P!M$4:M$103,P!$A$4:$A$103,'RN 02'!$S$5)","v":48},null,{"$f":"IF((J27+F27)>D27,IF(P29+J27-D27-F27>RN!$I$90,RN!$I$90,P29+J27-D27-F27),IF(P29>RN!$I$90,RN!$I$90,P29))","v":0},null,{"$f":"IF((F29+J29)>D29,D29,F29+J29)","v":0},null,{"$f":"IF(D29-L29<0,0,D29-L29)","v":0},null,{"$f":"RN!$I$84*RN!$I$86*$H29*RN!$I$88","v":0}]
[]
[null,null,"Totales",{"$f":"SUM(D7:D29)","v":0},null,{"$f":"SUM(F7:F29)","v":0},null,null,null,{"$f":"SUM(J7:J29)","v":0},null,{"$f":"SUM(L7:L29)+RN!I82","v":0},null,{"$f":"SUM(N7:N29)","v":0}]
[]
[null,null,"Porcentaje de necesidades de agua cubiertas con agua no potable",null,null,null,null,null,null,null,null,{"$f":"L31/D31","v":{"$error":"#DIV/0!"}}]

{"sheet":"RN 07","index":24,"n_rows":240,"n_cols":23,"rows_kept":240,"cut":false,"hidden":false,"merged":[[11,3,11,7],[13,3,13,7],[13,11,13,15],[15,3,16,7],[18,3,19,7],[18,11,18,15],[9,3,9,12],[1,3,1,15],[2,3,2,15],[4,3,4,5],[7,3,7,7],[7,8,7,12]]}
[]
[null,null,null,"Uso de materiales locales"]
[null,null,null,"VERDE Edificios 2020 Residencial Privado"]
[]
[null,null,null,"Unidad Funcional Equivalente",null,null,null,null,null,{"$f":"IF(RN!I116=\"\",\"masa\",RN!I116)","v":"masa"}]
[]
[]
[null,null,null,{"$f":"CONCATENATE(U8,V8,W8)","v":"Total en kg de elementos cerámicos, áridos, pétreos y hormigones."},null,null,null,null,null,null,null,null,null,null,null,{"$f":"RN!I120","v":0},null,null,null,null,"Total ",{"$f":"IF(J5=\"masa\", \"en kg\", \"en €\")","v":"en kg"}," de elementos cerámicos, áridos, pétreos y hormigones."]
[]
[null,null,null,{"$f":"CONCATENATE(U10,V10,W10)","v":"Total en kg de materiales, distintos de elementos cerámicos, áridos, pétreos y hormigones."},null,null,null,null,null,null,null,null,null,null,null,{"$f":"(RN!I118-RN!I120)","v":0},null,null,null,null,"Total ",{"$f":"IF(J5=\"masa\", \"en kg\", \"en €\")","v":"en kg"}," de materiales, distintos de elementos cerámicos, áridos, pétreos y hormigones."]
[]
[null,null,null,"Total de elementos cerámicos, áridos, pétreos y hormigones de origen local",null,null,null,null,null,{"$f":"SUM(U24:U240)","v":0}]
[]
[null,null,null,"Porcentajede elementos cerámicos, áridos, pétreos y hormigones de origen local",null,null,null,null,null,{"$f":"IFERROR(J12/P8,0)","v":0},null,{"$f":"IF(P8=0,\"No olvides rellenar las celdas de RN sobre materiales\",\"\")","v":"No olvides rellenar las celdas de RN sobre materiales"}]
[]
[null,null,null,"Total de materiales distintos de los elementos cerámicos, áridos, pétreos y hormigones, de origen local",null,null,null,null,null,{"$f":"SUM(V24:V240)","v":0}]
[]
[]
[null,null,null,"Porcentaje de materiales de origen local, distintos de elementos cerámicos, áridos, pétreos y hormigones.",null,null,null,null,null,{"$f":"IFERROR(J16/P10,0)","v":0},null,{"$f":"IF(P10=0,\"No olvides rellenar las celdas de RN sobre materiales\",\"\")","v":"No olvides rellenar las celdas de RN sobre materiales"},null,null,null,null,null,null,null,null,null,null,"Elementos cerámicos, áridos, pétreos y hormigones"]
[null,null,null,null,null,null,null,null,null,null,null,null,null,null,null,null,null,null,null,null,null,null,"Resto de materiales"]
[]
[null,null,null,"Código del material en las mediciones",null,"Descripción del material",null,"Familia de material",null,{"$f":"J5","v":"masa"},null,"Localización de la planta de producción.",null,"Distancia en Km a la obra",null,"Cantidad de material a considerar",null,null,"Cerámicos, áridos, pétreos y hormigonas","Resto"," local elementos cerámicos, áridos, pétreos y hormigones.","local resto"]
[]
[null,null,1,null,null,null,null,null,null,null,null,null,null,null,null,{"$f":"U24+V24","v":0},null,null,{"$f":"IFERROR(IF($H24=$W$19,$J24,0),0)","v":0},{"$f":"IFERROR(IF($H24=$W$20,$J24,0),0)","v":0},{"$f":"IF(N24<200,S24,IF(N24>400,0,S24*(1-(N24-200)/200)))","v":0},{"$f":"IF(N24<200,T24,IF(N24>400,0,T24*(1-(N24-200)/200)))","v":0}]
[]
[null,null,2,null,null,null,null,null,null,null,null,null,null,null,null,{"$f":"U26+V26","v":0},null,null,{"$f":"IFERROR(IF($H26=$W$19,$J26,0),0)","v":0},{"$f":"IFERROR(IF($H26=$W$20,$J26,0),0)","v":0},{"$f":"IF(N26<200,S26,IF(N26>400,0,S26*(1-(N26-200)/200)))","v":0},{"$f":"IF(N26<200,T26,IF(N26>400,0,T26*(1-(N26-200)/200)))","v":0}]
[]
[null,null,3,null,null,null,null,null,null,null,null,null,null,null,null,0,null,null,{"$f":"IFERROR(IF($H28=$W$19,$J28,0),0)","v":0},{"$f":"IFERROR(IF($H28=$W$20,$J28,0),0)","v":0},{"$f":"IF(N28<200,S28,IF(N28>400,0,S28*(1-(N28-200)/200)))","v":0},{"$f":"IF(N28<200,T28,IF(N28>400,0,T28*(1-(N28-200)/200)))","v":0}]
[]
[null,null,4,null,null,null,null,null,null,null,null,null,null,null,null,0,null,null,{"$f":"IFERROR(IF($H30=$W$19,$J30,0),0)","v":0},{"$f":"IFERROR(IF($H30=$W$20,$J30,0),0)","v":0},{"$f":"IF(N30<200,S30,IF(N30>400,0,S30*(1-(N30-200)/200)))","v":0},{"$f":"IF(N30<200,T30,IF(N30>400,0,T30*(1-(N30-200)/200)))","v":0}]
[]
[null,null,5,null,null,null,null,null,null,null,null,null,null,null,null,0,null,null,{"$f":"IFERROR(IF($H32=$W$19,$J32,0),0)","v":0},{"$f":"IFERROR(IF($H32=$W$20,$J32,0),0)","v":0},{"$f":"IF(N32<200,S32,IF(N32>400,0,S32*(1-(N32-200)/200)))","v":0},{"$f":"IF(N32<200,T32,IF(N32>400,0,T32*(1-(N32-200)/200)))","v":0}]
[]
[null,null,6,null,null,null,null,null,null,null,null,null,null,null,null,0,null,null,{"$f":"IFERROR(IF($H34=$W$19,$J34,0),0)","v":0},{"$f":"IFERROR(IF($H34=$W$20,$J34,0),0)","v":0},{"$f":"IF(N34<200,S34,IF(N34>400,0,S34*(1-(N34-200)/200)))","v":0},{"$f":"IF(N34<200,T34,IF(N34>400,0,T34*(1-(N34-200)/200)))","v":0}]
[]
[null,null,7,null,null,null,null,null,null,null,null,null,null,null,null,0,null,null,{"$f":"IFERROR(IF($H36=$W$19,$J36,0),0)","v":0},{"$f":"IFERROR(IF($H36=$W$20,$J36,0),0)","v":0},{"$f":"IF(N36<200,S36,IF(N36>400,0,S36*(1-(N36-200)/200)))","v":0},{"$f":"IF(N36<200,T36,IF(N36>400,0,T36*(1-(N36-200)/200)))","v":0}]
[]
[null,null,8,null,null,null,null,null,null,null,null,null,null,null,null,0,null,null,{"$f":"IFERROR(IF($H38=$W$19,$J38,0),0)","v":0},{"$f":"IFERROR(IF($H38=$W$20,$J38,0),0)","v":0},{"$f":"IF(N38<200,S38,IF(N38>400,0,S38*(1-(N38-200)/200)))","v":0},{"$f":"IF(N38<200,T38,IF(N38>400,0,T38*(1-(N38-200)/200)))","v":0}]
[]
[null,null,9,null,null,null,null,null,null,null,null,null,null,null,null,0,null,null,{"$f":"IFERROR(IF($H40=$W$19,$J40,0),0)","v":0},{"$f":"IFERROR(IF($H40=$W$20,$J40,0),0)","v":0},{"$f":"IF(N40<200,S40,IF(N40>400,0,S40*(1-(N40-200)/200)))","v":0},{"$f":"IF(N40<200,T40,IF(N40>400,0,T40*(1-(N40-200)/200)))","v":0}]
[]
[null,null,10,null,null,null,null,null,null,null,null,null,null,null,null,0,null,null,{"$f":"IFERROR(IF($H42=$W$19,$J42,0),0)","v":0},{"$f":"IFERROR(IF($H42=$W$20,$J42,0),0)","v":0},{"$f":"IF(N42<200,S42,IF(N42>400,0,S42*(1-(N42-200)/200)))","v":0},{"$f":"IF(N42<200,T42,IF(N42>400,0,T42*(1-(N42-200)/200)))","v":0}]
[]
[null,null,11,null,null,null,null,null,null,null,null,null,null,null,null,0,null,null,{"$f":"IFERROR(IF($H44=$W$19,$J44,0),0)","v":0},{"$f":"IFERROR(IF($H44=$W$20,$J44,0),0)","v":0},{"$f":"IF(N44<200,S44,IF(N44>400,0,S44*(1-(N44-200)/200)))","v":0},{"$f":"IF(N44<200,T44,IF(N44>400,0,T44*(1-(N44-200)/200)))","v":0}]
[]
[null,null,12,null,null,null,null,null,null,null,null,null,null,null,null,0,null,null,{"$f":"IFERROR(IF($H46=$W$19,$J46,0),0)","v":0},{"$f":"IFERROR(IF($H46=$W$20,$J46,0),0)","v":0},{"$f":"IF(N46<200,S46,IF(N46>400,0,S46*(1-(N46-200)/200)))","v":0},{"$f":"IF(N46<200,T46,IF(N46>400,0,T46*(1-(N46-200)/200)))","v":0}]
[]
[null,null,13,null,null,null,null,null,null,null,null,null,null,null,null,0,null,null,{"$f":"IFERROR(IF($H48=$W$19,$J48,0),0)","v":0},{"$f":"IFERROR(IF($H48=$W$20,$J48,0),0)","v":0},{"$f":"IF(N48<200,S48,IF(N48>400,0,S48*(1-(N48-200)/200)))","v":0},{"$f":"IF(N48<200,T48,IF(N48>400,0,T48*(1-(N48-200)/200)))","v":0}]
[]
[null,null,14,null,null,null,null,null,null,null,null,null,null,null,null,0,null,null,{"$f":"IFERROR(IF($H50=$W$19,$J50,0),0)","v":0},{"$f":"IFERROR(IF($H50=$W$20,$J50,0),0)","v":0},{"$f":"IF(N50<200,S50,IF(N50>400,0,S50*(1-(N50-200)/200)))","v":0},{"$f":"IF(N50<200,T50,IF(N50>400,0,T50*(1-(N50-200)/200)))","v":0}]
[]
[null,null,15,null,null,null,null,null,null,null,null,null,null,null,null,0,null,null,{"$f":"IFERROR(IF($H52=$W$19,$J52,0),0)","v":0},{"$f":"IFERROR(IF($H52=$W$20,$J52,0),0)","v":0},{"$f":"IF(N52<200,S52,IF(N52>400,0,S52*(1-(N52-200)/200)))","v":0},{"$f":"IF(N52<200,T52,IF(N52>400,0,T52*(1-(N52-200)/200)))","v":0}]
[]
[null,null,16,null,null,null,null,null,null,null,null,null,null,null,null,0,null,null,{"$f":"IFERROR(IF($H54=$W$19,$J54,0),0)","v":0},{"$f":"IFERROR(IF($H54=$W$20,$J54,0),0)","v":0},{"$f":"IF(N54<200,S54,IF(N54>400,0,S54*(1-(N54-200)/200)))","v":0},{"$f":"IF(N54<200,T54,IF(N54>400,0,T54*(1-(N54-200)/200)))","v":0}]
[]
[null,null,17,null,null,null,null,null,null,null,null,null,null,null,null,0,null,null,{"$f":"IFERROR(IF($H56=$W$19,$J56,0),0)","v":0},{"$f":"IFERROR(IF($H56=$W$20,$J56,0),0)","v":0},{"$f":"IF(N56<200,S56,IF(N56>400,0,S56*(1-(N56-200)/200)))","v":0},{"$f":"IF(N56<200,T56,IF(N56>400,0,T56*(1-(N56-200)/200)))","v":0}]
[]
[null,null,18,null,null,null,null,null,null,null,null,null,null,null,null,0,null,null,{"$f":"IFERROR(IF($H58=$W$19,$J58,0),0)","v":0},{"$f":"IFERROR(IF($H58=$W$20,$J58,0),0)","v":0},{"$f":"IF(N58<200,S58,IF(N58>400,0,S58*(1-(N58-200)/200)))","v":0},{"$f":"IF(N58<200,T58,IF(N58>400,0,T58*(1-(N58-200)/200)))","v":0}]
[]
[null,null,19,null,null,null,null,null,null,null,null,null,null,null,null,0,null,null,{"$f":"IFERROR(IF($H60=$W$19,$J60,0),0)","v":0},{"$f":"IFERROR(IF($H60=$W$20,$J60,0),0)","v":0},{"$f":"IF(N60<200,S60,IF(N60>400,0,S60*(1-(N60-200)/200)))","v":0},{"$f":"IF(N60<200,T60,IF(N60>400,0,T60*(1-(N60-200)/200)))","v":0}]
[]
[null,null,20,null,null,null,null,null,null,null,null,null,null,null,null,0,null,null,{"$f":"IFERROR(IF($H62=$W$19,$J62,0),0)","v":0},{"$f":"IFERROR(IF($H62=$W$20,$J62,0),0)","v":0},{"$f":"IF(N62<200,S62,IF(N62>400,0,S62*(1-(N62-200)/200)))","v":0},{"$f":"IF(N62<200,T62,IF(N62>400,0,T62*(1-(N62-200)/200)))","v":0}]
[]
[null,null,21,null,null,null,null,null,null,null,null,null,null,null,null,0,null,null,{"$f":"IFERROR(IF($H64=$W$19,$J64,0),0)","v":0},{"$f":"IFERROR(IF($H64=$W$20,$J64,0),0)","v":0},{"$f":"IF(N64<200,S64,IF(N64>400,0,S64*(1-(N64-200)/200)))","v":0},{"$f":"IF(N64<200,T64,IF(N64>400,0,T64*(1-(N64-200)/200)))","v":0}]
[]
[null,null,22,null,null,null,null,null,null,null,null,null,null,null,null,0,null,null,{"$f":"IFERROR(IF($H66=$W$19,$J66,0),0)","v":0},{"$f":"IFERROR(IF($H66=$W$20,$J66,0),0)","v":0},{"$f":"IF(N66<200,S66,IF(N66>400,0,S66*(1-(N66-200)/200)))","v":0},{"$f":"IF(N66<200,T66,IF(N66>400,0,T66*(1-(N66-200)/200)))","v":0}]
[]
[null,null,23,null,null,null,null,null,null,null,null,null,null,null,null,0,null,null,{"$f":"IFERROR(IF($H68=$W$19,$J68,0),0)","v":0},{"$f":"IFERROR(IF($H68=$W$20,$J68,0),0)","v":0},{"$f":"IF(N68<200,S68,IF(N68>400,0,S68*(1-(N68-200)/200)))","v":0},{"$f":"IF(N68<200,T68,IF(N68>400,0,T68*(1-(N68-200)/200)))","v":0}]
[]
[null,null,24,null,null,null,null,null,null,null,null,null,null,null,null,0,null,null,{"$f":"IFERROR(IF($H70=$W$19,$J70,0),0)","v":0},{"$f":"IFERROR(IF($H70=$W$20,$J70,0),0)","v":0},{"$f":"IF(N70<200,S70,IF(N70>400,0,S70*(1-(N70-200)/200)))","v":0},{"$f":"IF(N70<200,T70,IF(N70>400,0,T70*(1-(N70-200)/200)))","v":0}]
[]
[null,null,25,null,null,null,null,null,null,null,null,null,null,null,null,0,null,null,{"$f":"IFERROR(IF($H72=$W$19,$J72,0),0)","v":0},{"$f":"IFERROR(IF($H72=$W$20,$J72,0),0)","v":0},{"$f":"IF(N72<200,S72,IF(N72>400,0,S72*(1-(N72-200)/200)))","v":0},{"$f":"IF(N72<200,T72,IF(N72>400,0,T72*(1-(N72-200)/200)))","v":0}]
[]
[null,null,26,null,null,null,null,null,null,null,null,null,null,null,null,0,null,null,{"$f":"IFERROR(IF($H74=$W$19,$J74,0),0)","v":0},{"$f":"IFERROR(IF($H74=$W$20,$J74,0),0)","v":0},{"$f":"IF(N74<200,S74,IF(N74>400,0,S74*(1-(N74-200)/200)))","v":0},{"$f":"IF(N74<200,T74,IF(N74>400,0,T74*(1-(N74-200)/200)))","v":0}]
[]
[null,null,27,null,null,null,null,null,null,null,null,null,null,null,null,0,null,null,{"$f":"IFERROR(IF($H76=$W$19,$J76,0),0)","v":0},{"$f":"IFERROR(IF($H76=$W$20,$J76,0),0)","v":0},{"$f":"IF(N76<200,S76,IF(N76>400,0,S76*(1-(N76-200)/200)))","v":0},{"$f":"IF(N76<200,T76,IF(N76>400,0,T76*(1-(N76-200)/200)))","v":0}]
[]
[null,null,28,null,null,null,null,null,null,null,null,null,null,null,null,0,null,null,{"$f":"IFERROR(IF($H78=$W$19,$J78,0),0)","v":0},{"$f":"IFERROR(IF($H78=$W$20,$J78,0),0)","v":0},{"$f":"IF(N78<200,S78,IF(N78>400,0,S78*(1-(N78-200)/200)))","v":0},{"$f":"IF(N78<200,T78,IF(N78>400,0,T78*(1-(N78-200)/200)))","v":0}]
[]
[null,null,29,null,null,null,null,null,null,null,null,null,null,null,null,0,null,null,{"$f":"IFERROR(IF($H80=$W$19,$J80,0),0)","v":0},{"$f":"IFERROR(IF($H80=$W$20,$J80,0),0)","v":0},{"$f":"IF(N80<200,S80,IF(N80>400,0,S80*(1-(N80-200)/200)))","v":0},{"$f":"IF(N80<200,T80,IF(N80>400,0,T80*(1-(N80-200)/200)))","v":0}]
[]
[null,null,30,null,null,null,null,null,null,null,null,null,null,null,null,0,null,null,{"$f":"IFERROR(IF($H82=$W$19,$J82,0),0)","v":0},{"$f":"IFERROR(IF($H82=$W$20,$J82,0),0)","v":0},{"$f":"IF(N82<200,S82,IF(N82>400,0,S82*(1-(N82-200)/200)))","v":0},{"$f":"IF(N82<200,T82,IF(N82>400,0,T82*(1-(N82-200)/200)))","v":0}]
[]
[null,null,31,null,null,null,null,null,null,null,null,null,null,null,null,{"$f":"U84+V84","v":0},null,null,{"$f":"IFERROR(IF($H84=$W$19,$J84,0),0)","v":0},{"$f":"IFERROR(IF($H84=$W$20,$J84,0),0)","v":0},{"$f":"IF(N84<200,S84,IF(N84>400,0,S84*(1-(N84-200)/200)))","v":0},{"$f":"IF(N84<200,T84,IF(N84>400,0,T84*(1-(N84-200)/200)))","v":0}]
[]
[null,null,32,null,null,null,null,null,null,null,null,null,null,null,null,{"$f":"U86+V86","v":0},null,null,{"$f":"IFERROR(IF($H86=$W$19,$J86,0),0)","v":0},{"$f":"IFERROR(IF($H86=$W$20,$J86,0),0)","v":0},{"$f":"IF(N86<200,S86,IF(N86>400,0,S86*(1-(N86-200)/200)))","v":0},{"$f":"IF(N86<200,T86,IF(N86>400,0,T86*(1-(N86-200)/200)))","v":0}]
[]
[null,null,33,null,null,null,null,null,null,null,null,null,null,null,null,{"$f":"U88+V88","v":0},null,null,{"$f":"IFERROR(IF($H88=$W$19,$J88,0),0)","v":0},{"$f":"IFERROR(IF($H88=$W$20,$J88,0),0)","v":0},{"$f":"IF(N88<200,S88,IF(N88>400,0,S88*(1-(N88-200)/200)))","v":0},{"$f":"IF(N88<200,T88,IF(N88>400,0,T88*(1-(N88-200)/200)))","v":0}]
[]
[null,null,34,null,null,null,null,null,null,null,null,null,null,null,null,{"$f":"U90+V90","v":0},null,null,{"$f":"IFERROR(IF($H90=$W$19,$J90,0),0)","v":0},{"$f":"IFERROR(IF($H90=$W$20,$J90,0),0)","v":0},{"$f":"IF(N90<200,S90,IF(N90>400,0,S90*(1-(N90-200)/200)))","v":0},{"$f":"IF(N90<200,T90,IF(N90>400,0,T90*(1-(N90-200)/200)))","v":0}]
[]
[null,null,35,null,null,null,null,null,null,null,null,null,null,null,null,{"$f":"U92+V92","v":0},null,null,{"$f":"IFERROR(IF($H92=$W$19,$J92,0),0)","v":0},{"$f":"IFERROR(IF($H92=$W$20,$J92,0),0)","v":0},{"$f":"IF(N92<200,S92,IF(N92>400,0,S92*(1-(N92-200)/200)))","v":0},{"$f":"IF(N92<200,T92,IF(N92>400,0,T92*(1-(N92-200)/200)))","v":0}]
[]
[null,null,36,null,null,null,null,null,null,null,null,null,null,null,null,0,null,null,{"$f":"IFERROR(IF($H94=$W$19,$J94,0),0)","v":0},{"$f":"IFERROR(IF($H94=$W$20,$J94,0),0)","v":0},{"$f":"IF(N94<200,S94,IF(N94>400,0,S94*(1-(N94-200)/200)))","v":0},{"$f":"IF(N94<200,T94,IF(N94>400,0,T94*(1-(N94-200)/200)))","v":0}]
[]
[null,null,37,null,null,null,null,null,null,null,null,null,null,null,null,0,null,null,{"$f":"IFERROR(IF($H96=$W$19,$J96,0),0)","v":0},{"$f":"IFERROR(IF($H96=$W$20,$J96,0),0)","v":0},{"$f":"IF(N96<200,S96,IF(N96>400,0,S96*(1-(N96-200)/200)))","v":0},{"$f":"IF(N96<200,T96,IF(N96>400,0,T96*(1-(N96-200)/200)))","v":0}]
[]
[null,null,38,null,null,null,null,null,null,null,null,null,null,null,null,0,null,null,{"$f":"IFERROR(IF($H98=$W$19,$J98,0),0)","v":0},{"$f":"IFERROR(IF($H98=$W$20,$J98,0),0)","v":0},{"$f":"IF(N98<200,S98,IF(N98>400,0,S98*(1-(N98-200)/200)))","v":0},{"$f":"IF(N98<200,T98,IF(N98>400,0,T98*(1-(N98-200)/200)))","v":0}]
[]
[null,null,39,null,null,null,null,null,null,null,null,null,null,null,null,0,null,null,{"$f":"IFERROR(IF($H100=$W$19,$J100,0),0)","v":0},{"$f":"IFERROR(IF($H100=$W$20,$J100,0),0)","v":0},{"$f":"IF(N100<200,S100,IF(N100>400,0,S100*(1-(N100-200)/200)))","v":0},{"$f":"IF(N100<200,T100,IF(N100>400,0,T100*(1-(N100-200)/200)))","v":0}]
[]
[null,null,40,null,null,null,null,null,null,null,null,null,null,null,null,0,null,null,{"$f":"IFERROR(IF($H102=$W$19,$J102,0),0)","v":0},{"$f":"IFERROR(IF($H102=$W$20,$J102,0),0)","v":0},{"$f":"IF(N102<200,S102,IF(N102>400,0,S102*(1-(N102-200)/200)))","v":0},{"$f":"IF(N102<200,T102,IF(N102>400,0,T102*(1-(N102-200)/200)))","v":0}]
[]
[null,null,41,null,null,null,null,null,null,null,null,null,null,null,null,0,null,null,{"$f":"IFERROR(IF($H104=$W$19,$J104,0),0)","v":0},{"$f":"IFERROR(IF($H104=$W$20,$J104,0),0)","v":0},{"$f":"IF(N104<200,S104,IF(N104>400,0,S104*(1-(N104-200)/200)))","v":0},{"$f":"IF(N104<200,T104,IF(N104>400,0,T104*(1-(N104-200)/200)))","v":0}]
[]
[null,null,42,null,null,null,null,null,null,null,null,null,null,null,null,0,null,null,{"$f":"IFERROR(IF($H106=$W$19,$J106,0),0)","v":0},{"$f":"IFERROR(IF($H106=$W$20,$J106,0),0)","v":0},{"$f":"IF(N106<200,S106,IF(N106>400,0,S106*(1-(N106-200)/200)))","v":0},{"$f":"IF(N106<200,T106,IF(N106>400,0,T106*(1-(N106-200)/200)))","v":0}]
[]
[null,null,43,null,null,null,null,null,null,null,null,null,null,null,null,0,null,null,{"$f":"IFERROR(IF($H108=$W$19,$J108,0),0)","v":0},{"$f":"IFERROR(IF($H108=$W$20,$J108,0),0)","v":0},{"$f":"IF(N108<200,S108,IF(N108>400,0,S108*(1-(N108-200)/200)))","v":0},{"$f":"IF(N108<200,T108,IF(N108>400,0,T108*(1-(N108-200)/200)))","v":0}]
[]
[null,null,44,null,null,null,null,null,null,null,null,null,null,null,null,0,null,null,{"$f":"IFERROR(IF($H110=$W$19,$J110,0),0)","v":0},{"$f":"IFERROR(IF($H110=$W$20,$J110,0),0)","v":0},{"$f":"IF(N110<200,S110,IF(N110>400,0,S110*(1-(N110-200)/200)))","v":0},{"$f":"IF(N110<200,T110,IF(N110>400,0,T110*(1-(N110-200)/200)))","v":0}]
[]
[null,null,45,null,null,null,null,null,null,null,null,null,null,null,null,0,null,null,{"$f":"IFERROR(IF($H112=$W$19,$J112,0),0)","v":0},{"$f":"IFERROR(IF($H112=$W$20,$J112,0),0)","v":0},{"$f":"IF(N112<200,S112,IF(N112>400,0,S112*(1-(N112-200)/200)))","v":0},{"$f":"IF(N112<200,T112,IF(N112>400,0,T112*(1-(N112-200)/200)))","v":0}]
[]
[null,null,46,null,null,null,null,null,null,null,null,null,null,null,null,0,null,null,{"$f":"IFERROR(IF($H114=$W$19,$J114,0),0)","v":0},{"$f":"IFERROR(IF($H114=$W$20,$J114,0),0)","v":0},{"$f":"IF(N114<200,S114,IF(N114>400,0,S114*(1-(N114-200)/200)))","v":0},{"$f":"IF(N114<200,T114,IF(N114>400,0,T114*(1-(N114-200)/200)))","v":0}]
[]
[null,null,47,null,null,null,null,null,null,null,null,null,null,null,null,0,null,null,{"$f":"IFERROR(IF($H116=$W$19,$J116,0),0)","v":0},{"$f":"IFERROR(IF($H116=$W$20,$J116,0),0)","v":0},{"$f":"IF(N116<200,S116,IF(N116>400,0,S116*(1-(N116-200)/200)))","v":0},{"$f":"IF(N116<200,T116,IF(N116>400,0,T116*(1-(N116-200)/200)))","v":0}]
[]
[null,null,48,null,null,null,null,null,null,null,null,null,null,null,null,0,null,null,{"$f":"IFERROR(IF($H118=$W$19,$J118,0),0)","v":0},{"$f":"IFERROR(IF($H118=$W$20,$J118,0),0)","v":0},{"$f":"IF(N118<200,S118,IF(N118>400,0,S118*(1-(N118-200)/200)))","v":0},{"$f":"IF(N118<200,T118,IF(N118>400,0,T118*(1-(N118-200)/200)))","v":0}]
[]
[null,null,49,null,null,null,null,null,null,null,null,null,null,null,null,0,null,null,{"$f":"IFERROR(IF($H120=$W$19,$J120,0),0)","v":0},{"$f":"IFERROR(IF($H120=$W$20,$J120,0),0)","v":0},{"$f":"IF(N120<200,S120,IF(N120>400,0,S120*(1-(N120-200)/200)))","v":0},{"$f":"IF(N120<200,T120,IF(N120>400,0,T120*(1-(N120-200)/200)))","v":0}]
[]
[null,null,50,null,null,null,null,null,null,null,null,null,null,null,null,0,null,null,{"$f":"IFERROR(IF($H122=$W$19,$J122,0),0)","v":0},{"$f":"IFERROR(IF($H122=$W$20,$J122,0),0)","v":0},{"$f":"IF(N122<200,S122,IF(N122>400,0,S122*(1-(N122-200)/200)))","v":0},{"$f":"IF(N122<200,T122,IF(N122>400,0,T122*(1-(N122-200)/200)))","v":0}]
[]
[null,null,51,null,null,null,null,null,null,null,null,null,null,null,null,{"$f":"U124+V124","v":0},null,null,{"$f":"IFERROR(IF($H124=$W$19,$J124,0),0)","v":0},{"$f":"IFERROR(IF($H124=$W$20,$J124,0),0)","v":0},{"$f":"IF(N124<200,S124,IF(N124>400,0,S124*(1-(N124-200)/200)))","v":0},{"$f":"IF(N124<200,T124,IF(N124>400,0,T124*(1-(N124-200)/200)))","v":0}]
[]
[null,null,52,null,null,null,null,null,null,null,null,null,null,null,null,{"$f":"U126+V126","v":0},null,null,{"$f":"IFERROR(IF($H126=$W$19,$J126,0),0)","v":0},{"$f":"IFERROR(IF($H126=$W$20,$J126,0),0)","v":0},{"$f":"IF(N126<200,S126,IF(N126>400,0,S126*(1-(N126-200)/200)))","v":0},{"$f":"IF(N126<200,T126,IF(N126>400,0,T126*(1-(N126-200)/200)))","v":0}]
[]
[null,null,53,null,null,null,null,null,null,null,null,null,null,null,null,0,null,null,{"$f":"IFERROR(IF($H128=$W$19,$J128,0),0)","v":0},{"$f":"IFERROR(IF($H128=$W$20,$J128,0),0)","v":0},{"$f":"IF(N128<200,S128,IF(N128>400,0,S128*(1-(N128-200)/200)))","v":0},{"$f":"IF(N128<200,T128,IF(N128>400,0,T128*(1-(N128-200)/200)))","v":0}]
[]
[null,null,54,null,null,null,null,null,null,null,null,null,null,null,null,0,null,null,{"$f":"IFERROR(IF($H130=$W$19,$J130,0),0)","v":0},{"$f":"IFERROR(IF($H130=$W$20,$J130,0),0)","v":0},{"$f":"IF(N130<200,S130,IF(N130>400,0,S130*(1-(N130-200)/200)))","v":0},{"$f":"IF(N130<200,T130,IF(N130>400,0,T130*(1-(N130-200)/200)))","v":0}]
[]
[null,null,55,null,null,null,null,null,null,null,null,null,null,null,null,0,null,null,{"$f":"IFERROR(IF($H132=$W$19,$J132,0),0)","v":0},{"$f":"IFERROR(IF($H132=$W$20,$J132,0),0)","v":0},{"$f":"IF(N132<200,S132,IF(N132>400,0,S132*(1-(N132-200)/200)))","v":0},{"$f":"IF(N132<200,T132,IF(N132>400,0,T132*(1-(N132-200)/200)))","v":0}]
[]
[null,null,56,null,null,null,null,null,null,null,null,null,null,null,null,0,null,null,{"$f":"IFERROR(IF($H134=$W$19,$J134,0),0)","v":0},{"$f":"IFERROR(IF($H134=$W$20,$J134,0),0)","v":0},{"$f":"IF(N134<200,S134,IF(N134>400,0,S134*(1-(N134-200)/200)))","v":0},{"$f":"IF(N134<200,T134,IF(N134>400,0,T134*(1-(N134-200)/200)))","v":0}]
[]
[null,null,57,null,null,null,null,null,null,null,null,null,null,null,null,0,null,null,{"$f":"IFERROR(IF($H136=$W$19,$J136,0),0)","v":0},{"$f":"IFERROR(IF($H136=$W$20,$J136,0),0)","v":0},{"$f":"IF(N136<200,S136,IF(N136>400,0,S136*(1-(N136-200)/200)))","v":0},{"$f":"IF(N136<200,T136,IF(N136>400,0,T136*(1-(N136-200)/200)))","v":0}]
[]
[null,null,58,null,null,null,null,null,null,null,null,null,null,null,null,0,null,null,{"$f":"IFERROR(IF($H138=$W$19,$J138,0),0)","v":0},{"$f":"IFERROR(IF($H138=$W$20,$J138,0),0)","v":0},{"$f":"IF(N138<200,S138,IF(N138>400,0,S138*(1-(N138-200)/200)))","v":0},{"$f":"IF(N138<200,T138,IF(N138>400,0,T138*(1-(N138-200)/200)))","v":0}]
[]
[null,null,59,null,null,null,null,null,null,null,null,null,null,null,null,0,null,null,{"$f":"IFERROR(IF($H140=$W$19,$J140,0),0)","v":0},{"$f":"IFERROR(IF($H140=$W$20,$J140,0),0)","v":0},{"$f":"IF(N140<200,S140,IF(N140>400,0,S140*(1-(N140-200)/200)))","v":0},{"$f":"IF(N140<200,T140,IF(N140>400,0,T140*(1-(N140-200)/200)))","v":0}]
[]
[null,null,60,null,null,null,null,null,null,null,null,null,null,null,null,0,null,null,{"$f":"IFERROR(IF($H142=$W$19,$J142,0),0)","v":0},{"$f":"IFERROR(IF($H142=$W$20,$J142,0),0)","v":0},{"$f":"IF(N142<200,S142,IF(N142>400,0,S142*(1-(N142-200)/200)))","v":0},{"$f":"IF(N142<200,T142,IF(N142>400,0,T142*(1-(N142-200)/200)))","v":0}]
[]
[null,null,61,null,null,null,null,null,null,null,null,null,null,null,null,0,null,null,{"$f":"IFERROR(IF($H144=$W$19,$J144,0),0)","v":0},{"$f":"IFERROR(IF($H144=$W$20,$J144,0),0)","v":0},{"$f":"IF(N144<200,S144,IF(N144>400,0,S144*(1-(N144-200)/200)))","v":0},{"$f":"IF(N144<200,T144,IF(N144>400,0,T144*(1-(N144-200)/200)))","v":0}]
[]
[null,null,62,null,null,null,null,null,null,null,null,null,null,null,null,0,null,null,{"$f":"IFERROR(IF($H146=$W$19,$J146,0),0)","v":0},{"$f":"IFERROR(IF($H146=$W$20,$J146,0),0)","v":0},{"$f":"IF(N146<200,S146,IF(N146>400,0,S146*(1-(N146-200)/200)))","v":0},{"$f":"IF(N146<200,T146,IF(N146>400,0,T146*(1-(N146-200)/200)))","v":0}]
[]
[null,null,63,null,null,null,null,null,null,null,null,null,null,null,null,0,null,null,{"$f":"IFERROR(IF($H148=$W$19,$J148,0),0)","v":0},{"$f":"IFERROR(IF($H148=$W$20,$J148,0),0)","v":0},{"$f":"IF(N148<200,S148,IF(N148>400,0,S148*(1-(N148-200)/200)))","v":0},{"$f":"IF(N148<200,T148,IF(N148>400,0,T148*(1-(N148-200)/200)))","v":0}]
[]
[null,null,64,null,null,null,null,null,null,null,null,null,null,null,null,0,null,null,{"$f":"IFERROR(IF($H150=$W$19,$J150,0),0)","v":0},{"$f":"IFERROR(IF($H150=$W$20,$J150,0),0)","v":0},{"$f":"IF(N150<200,S150,IF(N150>400,0,S150*(1-(N150-200)/200)))","v":0},{"$f":"IF(N150<200,T150,IF(N150>400,0,T150*(1-(N150-200)/200)))","v":0}]
[]
[null,null,65,null,null,null,null,null,null,null,null,null,null,null,null,0,null,null,{"$f":"IFERROR(IF($H152=$W$19,$J152,0),0)","v":0},{"$f":"IFERROR(IF($H152=$W$20,$J152,0),0)","v":0},{"$f":"IF(N152<200,S152,IF(N152>400,0,S152*(1-(N152-200)/200)))","v":0},{"$f":"IF(N152<200,T152,IF(N152>400,0,T152*(1-(N152-200)/200)))","v":0}]
[]
[null,null,66,null,null,null,null,null,null,null,null,null,null,null,null,0,null,null,{"$f":"IFERROR(IF($H154=$W$19,$J154,0),0)","v":0},{"$f":"IFERROR(IF($H154=$W$20,$J154,0),0)","v":0},{"$f":"IF(N154<200,S154,IF(N154>400,0,S154*(1-(N154-200)/200)))","v":0},{"$f":"IF(N154<200,T154,IF(N154>400,0,T154*(1-(N154-200)/200)))","v":0}]
[]
[null,null,67,null,null,null,null,null,null,null,null,null,null,null,null,0,null,null,{"$f":"IFERROR(IF($H156=$W$19,$J156,0),0)","v":0},{"$f":"IFERROR(IF($H156=$W$20,$J156,0),0)","v":0},{"$f":"IF(N156<200,S156,IF(N156>400,0,S156*(1-(N156-200)/200)))","v":0},{"$f":"IF(N156<200,T156,IF(N156>400,0,T156*(1-(N156-200)/200)))","v":0}]
[]
[null,null,68,null,null,null,null,null,null,null,null,null,null,null,null,0,null,null,{"$f":"IFERROR(IF($H158=$W$19,$J158,0),0)","v":0},{"$f":"IFERROR(IF($H158=$W$20,$J158,0),0)","v":0},{"$f":"IF(N158<200,S158,IF(N158>400,0,S158*(1-(N158-200)/200)))","v":0},{"$f":"IF(N158<200,T158,IF(N158>400,0,T158*(1-(N158-200)/200)))","v":0}]
[]
[null,null,69,null,null,null,null,null,null,null,null,null,null,null,null,0,null,null,{"$f":"IFERROR(IF($H160=$W$19,$J160,0),0)","v":0},{"$f":"IFERROR(IF($H160=$W$20,$J160,0),0)","v":0},{"$f":"IF(N160<200,S160,IF(N160>400,0,S160*(1-(N160-200)/200)))","v":0},{"$f":"IF(N160<200,T160,IF(N160>400,0,T160*(1-(N160-200)/200)))","v":0}]
[]
[null,null,70,null,null,null,null,null,null,null,null,null,null,null,null,0,null,null,{"$f":"IFERROR(IF($H162=$W$19,$J162,0),0)","v":0},{"$f":"IFERROR(IF($H162=$W$20,$J162,0),0)","v":0},{"$f":"IF(N162<200,S162,IF(N162>400,0,S162*(1-(N162-200)/200)))","v":0},{"$f":"IF(N162<200,T162,IF(N162>400,0,T162*(1-(N162-200)/200)))","v":0}]
[]
[null,null,71,null,null,null,null,null,null,null,null,null,null,null,null,{"$f":"U164+V164","v":0},null,null,{"$f":"IFERROR(IF($H164=$W$19,$J164,0),0)","v":0},{"$f":"IFERROR(IF($H164=$W$20,$J164,0),0)","v":0},{"$f":"IF(N164<200,S164,IF(N164>400,0,S164*(1-(N164-200)/200)))","v":0},{"$f":"IF(N164<200,T164,IF(N164>400,0,T164*(1-(N164-200)/200)))","v":0}]
[]
[null,null,72,null,null,null,null,null,null,null,null,null,null,null,null,{"$f":"U166+V166","v":0},null,null,{"$f":"IFERROR(IF($H166=$W$19,$J166,0),0)","v":0},{"$f":"IFERROR(IF($H166=$W$20,$J166,0),0)","v":0},{"$f":"IF(N166<200,S166,IF(N166>400,0,S166*(1-(N166-200)/200)))","v":0},{"$f":"IF(N166<200,T166,IF(N166>400,0,T166*(1-(N166-200)/200)))","v":0}]
[]
[null,null,73,null,null,null,null,null,null,null,null,null,null,null,null,0,null,null,{"$f":"IFERROR(IF($H168=$W$19,$J168,0),0)","v":0},{"$f":"IFERROR(IF($H168=$W$20,$J168,0),0)","v":0},{"$f":"IF(N168<200,S168,IF(N168>400,0,S168*(1-(N168-200)/200)))","v":0},{"$f":"IF(N168<200,T168,IF(N168>400,0,T168*(1-(N168-200)/200)))","v":0}]
[]
[null,null,74,null,null,null,null,null,null,null,null,null,null,null,null,0,null,null,{"$f":"IFERROR(IF($H170=$W$19,$J170,0),0)","v":0},{"$f":"IFERROR(IF($H170=$W$20,$J170,0),0)","v":0},{"$f":"IF(N170<200,S170,IF(N170>400,0,S170*(1-(N170-200)/200)))","v":0},{"$f":"IF(N170<200,T170,IF(N170>400,0,T170*(1-(N170-200)/200)))","v":0}]
[]
[null,null,75,null,null,null,null,null,null,null,null,null,null,null,null,0,null,null,{"$f":"IFERROR(IF($H172=$W$19,$J172,0),0)","v":0},{"$f":"IFERROR(IF($H172=$W$20,$J172,0),0)","v":0},{"$f":"IF(N172<200,S172,IF(N172>400,0,S172*(1-(N172-200)/200)))","v":0},{"$f":"IF(N172<200,T172,IF(N172>400,0,T172*(1-(N172-200)/200)))","v":0}]
[]
[null,null,76,null,null,null,null,null,null,null,null,null,null,null,null,0,null,null,{"$f":"IFERROR(IF($H174=$W$19,$J174,0),0)","v":0},{"$f":"IFERROR(IF($H174=$W$20,$J174,0),0)","v":0},{"$f":"IF(N174<200,S174,IF(N174>400,0,S174*(1-(N174-200)/200)))","v":0},{"$f":"IF(N174<200,T174,IF(N174>400,0,T174*(1-(N174-200)/200)))","v":0}]
[]
[null,null,77,null,null,null,null,null,null,null,null,null,null,null,null,0,null,null,{"$f":"IFERROR(IF($H176=$W$19,$J176,0),0)","v":0},{"$f":"IFERROR(IF($H176=$W$20,$J176,0),0)","v":0},{"$f":"IF(N176<200,S176,IF(N176>400,0,S176*(1-(N176-200)/200)))","v":0},{"$f":"IF(N176<200,T176,IF(N176>400,0,T176*(1-(N176-200)/200)))","v":0}]
[]
[null,null,78,null,null,null,null,null,null,null,null,null,null,null,null,0,null,null,{"$f":"IFERROR(IF($H178=$W$19,$J178,0),0)","v":0},{"$f":"IFERROR(IF($H178=$W$20,$J178,0),0)","v":0},{"$f":"IF(N178<200,S178,IF(N178>400,0,S178*(1-(N178-200)/200)))","v":0},{"$f":"IF(N178<200,T178,IF(N178>400,0,T178*(1-(N178-200)/200)))","v":0}]
[]
[null,null,79,null,null,null,null,null,null,null,null,null,null,null,null,0,null,null,{"$f":"IFERROR(IF($H180=$W$19,$J180,0),0)","v":0},{"$f":"IFERROR(IF($H180=$W$20,$J180,0),0)","v":0},{"$f":"IF(N180<200,S180,IF(N180>400,0,S180*(1-(N180-200)/200)))","v":0},{"$f":"IF(N180<200,T180,IF(N180>400,0,T180*(1-(N180-200)/200)))","v":0}]
[]
[null,null,80,null,null,null,null,null,null,null,null,null,null,null,null,0,null,null,{"$f":"IFERROR(IF($H182=$W$19,$J182,0),0)","v":0},{"$f":"IFERROR(IF($H182=$W$20,$J182,0),0)","v":0},{"$f":"IF(N182<200,S182,IF(N182>400,0,S182*(1-(N182-200)/200)))","v":0},{"$f":"IF(N182<200,T182,IF(N182>400,0,T182*(1-(N182-200)/200)))","v":0}]
[]
[null,null,81,null,null,null,null,null,null,null,null,null,null,null,null,0,null,null,{"$f":"IFERROR(IF($H184=$W$19,$J184,0),0)","v":0},{"$f":"IFERROR(IF($H184=$W$20,$J184,0),0)","v":0},{"$f":"IF(N184<200,S184,IF(N184>400,0,S184*(1-(N184-200)/200)))","v":0},{"$f":"IF(N184<200,T184,IF(N184>400,0,T184*(1-(N184-200)/200)))","v":0}]
[]
[null,null,82,null,null,null,null,null,null,null,null,null,null,null,null,0,null,null,{"$f":"IFERROR(IF($H186=$W$19,$J186,0),0)","v":0},{"$f":"IFERROR(IF($H186=$W$20,$J186,0),0)","v":0},{"$f":"IF(N186<200,S186,IF(N186>400,0,S186*(1-(N186-200)/200)))","v":0},{"$f":"IF(N186<200,T186,IF(N186>400,0,T186*(1-(N186-200)/200)))","v":0}]
[]
[null,null,83,null,null,null,null,null,null,null,null,null,null,null,null,0,null,null,{"$f":"IFERROR(IF($H188=$W$19,$J188,0),0)","v":0},{"$f":"IFERROR(IF($H188=$W$20,$J188,0),0)","v":0},{"$f":"IF(N188<200,S188,IF(N188>400,0,S188*(1-(N188-200)/200)))","v":0},{"$f":"IF(N188<200,T188,IF(N188>400,0,T188*(1-(N188-200)/200)))","v":0}]
[]
[null,null,84,null,null,null,null,null,null,null,null,null,null,null,null,0,null,null,{"$f":"IFERROR(IF($H190=$W$19,$J190,0),0)","v":0},{"$f":"IFERROR(IF($H190=$W$20,$J190,0),0)","v":0},{"$f":"IF(N190<200,S190,IF(N190>400,0,S190*(1-(N190-200)/200)))","v":0},{"$f":"IF(N190<200,T190,IF(N190>400,0,T190*(1-(N190-200)/200)))","v":0}]
[]
[null,null,85,null,null,null,null,null,null,null,null,null,null,null,null,0,null,null,{"$f":"IFERROR(IF($H192=$W$19,$J192,0),0)","v":0},{"$f":"IFERROR(IF($H192=$W$20,$J192,0),0)","v":0},{"$f":"IF(N192<200,S192,IF(N192>400,0,S192*(1-(N192-200)/200)))","v":0},{"$f":"IF(N192<200,T192,IF(N192>400,0,T192*(1-(N192-200)/200)))","v":0}]
[]
[null,null,86,null,null,null,null,null,null,null,null,null,null,null,null,0,null,null,{"$f":"IFERROR(IF($H194=$W$19,$J194,0),0)","v":0},{"$f":"IFERROR(IF($H194=$W$20,$J194,0),0)","v":0},{"$f":"IF(N194<200,S194,IF(N194>400,0,S194*(1-(N194-200)/200)))","v":0},{"$f":"IF(N194<200,T194,IF(N194>400,0,T194*(1-(N194-200)/200)))","v":0}]
[]
[null,null,87,null,null,null,null,null,null,null,null,null,null,null,null,0,null,null,{"$f":"IFERROR(IF($H196=$W$19,$J196,0),0)","v":0},{"$f":"IFERROR(IF($H196=$W$20,$J196,0),0)","v":0},{"$f":"IF(N196<200,S196,IF(N196>400,0,S196*(1-(N196-200)/200)))","v":0},{"$f":"IF(N196<200,T196,IF(N196>400,0,T196*(1-(N196-200)/200)))","v":0}]
[]
[null,null,88,null,null,null,null,null,null,null,null,null,null,null,null,0,null,null,{"$f":"IFERROR(IF($H198=$W$19,$J198,0),0)","v":0},{"$f":"IFERROR(IF($H198=$W$20,$J198,0),0)","v":0},{"$f":"IF(N198<200,S198,IF(N198>400,0,S198*(1-(N198-200)/200)))","v":0},{"$f":"IF(N198<200,T198,IF(N198>400,0,T198*(1-(N198-200)/200)))","v":0}]
[]
[null,null,89,null,null,null,null,null,null,null,null,null,null,null,null,0,null,null,{"$f":"IFERROR(IF($H200=$W$19,$J200,0),0)","v":0},{"$f":"IFERROR(IF($H200=$W$20,$J200,0),0)","v":0},{"$f":"IF(N200<200,S200,IF(N200>400,0,S200*(1-(N200-200)/200)))","v":0},{"$f":"IF(N200<200,T200,IF(N200>400,0,T200*(1-(N200-200)/200)))","v":0}]
[]
[null,null,90,null,null,null,null,null,null,null,null,null,null,null,null,0,null,null,{"$f":"IFERROR(IF($H202=$W$19,$J202,0),0)","v":0},{"$f":"IFERROR(IF($H202=$W$20,$J202,0),0)","v":0},{"$f":"IF(N202<200,S202,IF(N202>400,0,S202*(1-(N202-200)/200)))","v":0},{"$f":"IF(N202<200,T202,IF(N202>400,0,T202*(1-(N202-200)/200)))","v":0}]
[]
[null,null,91,null,null,null,null,null,null,null,null,null,null,null,null,{"$f":"U204+V204","v":0},null,null,{"$f":"IFERROR(IF($H204=$W$19,$J204,0),0)","v":0},{"$f":"IFERROR(IF($H204=$W$20,$J204,0),0)","v":0},{"$f":"IF(N204<200,S204,IF(N204>400,0,S204*(1-(N204-200)/200)))","v":0},{"$f":"IF(N204<200,T204,IF(N204>400,0,T204*(1-(N204-200)/200)))","v":0}]
[]
[null,null,92,null,null,null,null,null,null,null,null,null,null,null,null,{"$f":"U206+V206","v":0},null,null,{"$f":"IFERROR(IF($H206=$W$19,$J206,0),0)","v":0},{"$f":"IFERROR(IF($H206=$W$20,$J206,0),0)","v":0},{"$f":"IF(N206<200,S206,IF(N206>400,0,S206*(1-(N206-200)/200)))","v":0},{"$f":"IF(N206<200,T206,IF(N206>400,0,T206*(1-(N206-200)/200)))","v":0}]
[]
[null,null,93,null,null,null,null,null,null,null,null,null,null,null,null,0,null,null,{"$f":"IFERROR(IF($H208=$W$19,$J208,0),0)","v":0},{"$f":"IFERROR(IF($H208=$W$20,$J208,0),0)","v":0},{"$f":"IF(N208<200,S208,IF(N208>400,0,S208*(1-(N208-200)/200)))","v":0},{"$f":"IF(N208<200,T208,IF(N208>400,0,T208*(1-(N208-200)/200)))","v":0}]
[]
[null,null,94,null,null,null,null,null,null,null,null,null,null,null,null,0,null,null,{"$f":"IFERROR(IF($H210=$W$19,$J210,0),0)","v":0},{"$f":"IFERROR(IF($H210=$W$20,$J210,0),0)","v":0},{"$f":"IF(N210<200,S210,IF(N210>400,0,S210*(1-(N210-200)/200)))","v":0},{"$f":"IF(N210<200,T210,IF(N210>400,0,T210*(1-(N210-200)/200)))","v":0}]
[]
[null,null,95,null,null,null,null,null,null,null,null,null,null,null,null,0,null,null,{"$f":"IFERROR(IF($H212=$W$19,$J212,0),0)","v":0},{"$f":"IFERROR(IF($H212=$W$20,$J212,0),0)","v":0},{"$f":"IF(N212<200,S212,IF(N212>400,0,S212*(1-(N212-200)/200)))","v":0},{"$f":"IF(N212<200,T212,IF(N212>400,0,T212*(1-(N212-200)/200)))","v":0}]
[]
[null,null,96,null,null,null,null,null,null,null,null,null,null,null,null,0,null,null,{"$f":"IFERROR(IF($H214=$W$19,$J214,0),0)","v":0},{"$f":"IFERROR(IF($H214=$W$20,$J214,0),0)","v":0},{"$f":"IF(N214<200,S214,IF(N214>400,0,S214*(1-(N214-200)/200)))","v":0},{"$f":"IF(N214<200,T214,IF(N214>400,0,T214*(1-(N214-200)/200)))","v":0}]
[]
[null,null,97,null,null,null,null,null,null,null,null,null,null,null,null,0,null,null,{"$f":"IFERROR(IF($H216=$W$19,$J216,0),0)","v":0},{"$f":"IFERROR(IF($H216=$W$20,$J216,0),0)","v":0},{"$f":"IF(N216<200,S216,IF(N216>400,0,S216*(1-(N216-200)/200)))","v":0},{"$f":"IF(N216<200,T216,IF(N216>400,0,T216*(1-(N216-200)/200)))","v":0}]
[]
[null,null,98,null,null,null,null,null,null,null,null,null,null,null,null,0,null,null,{"$f":"IFERROR(IF($H218=$W$19,$J218,0),0)","v":0},{"$f":"IFERROR(IF($H218=$W$20,$J218,0),0)","v":0},{"$f":"IF(N218<200,S218,IF(N218>400,0,S218*(1-(N218-200)/200)))","v":0},{"$f":"IF(N218<200,T218,IF(N218>400,0,T218*(1-(N218-200)/200)))","v":0}]
[]
[null,null,99,null,null,null,null,null,null,null,null,null,null,null,null,0,null,null,{"$f":"IFERROR(IF($H220=$W$19,$J220,0),0)","v":0},{"$f":"IFERROR(IF($H220=$W$20,$J220,0),0)","v":0},{"$f":"IF(N220<200,S220,IF(N220>400,0,S220*(1-(N220-200)/200)))","v":0},{"$f":"IF(N220<200,T220,IF(N220>400,0,T220*(1-(N220-200)/200)))","v":0}]
[]
[null,null,100,null,null,null,null,null,null,null,null,null,null,null,null,0,null,null,{"$f":"IFERROR(IF($H222=$W$19,$J222,0),0)","v":0},{"$f":"IFERROR(IF($H222=$W$20,$J222,0),0)","v":0},{"$f":"IF(N222<200,S222,IF(N222>400,0,S222*(1-(N222-200)/200)))","v":0},{"$f":"IF(N222<200,T222,IF(N222>400,0,T222*(1-(N222-200)/200)))","v":0}]
[]
[null,null,101,null,null,null,null,null,null,null,null,null,null,null,null,0,null,null,{"$f":"IFERROR(IF($H224=$W$19,$J224,0),0)","v":0},{"$f":"IFERROR(IF($H224=$W$20,$J224,0),0)","v":0},{"$f":"IF(N224<200,S224,IF(N224>400,0,S224*(1-(N224-200)/200)))","v":0},{"$f":"IF(N224<200,T224,IF(N224>400,0,T224*(1-(N224-200)/200)))","v":0}]
[]
[null,null,102,null,null,null,null,null,null,null,null,null,null,null,null,0,null,null,{"$f":"IFERROR(IF($H226=$W$19,$J226,0),0)","v":0},{"$f":"IFERROR(IF($H226=$W$20,$J226,0),0)","v":0},{"$f":"IF(N226<200,S226,IF(N226>400,0,S226*(1-(N226-200)/200)))","v":0},{"$f":"IF(N226<200,T226,IF(N226>400,0,T226*(1-(N226-200)/200)))","v":0}]
[]
[null,null,103,null,null,null,null,null,null,null,null,null,null,null,null,0,null,null,{"$f":"IFERROR(IF($H228=$W$19,$J228,0),0)","v":0},{"$f":"IFERROR(IF($H228=$W$20,$J228,0),0)","v":0},{"$f":"IF(N228<200,S228,IF(N228>400,0,S228*(1-(N228-200)/200)))","v":0},{"$f":"IF(N228<200,T228,IF(N228>400,0,T228*(1-(N228-200)/200)))","v":0}]
[]
[null,null,104,null,null,null,null,null,null,null,null,null,null,null,null,0,null,null,{"$f":"IFERROR(IF($H230=$W$19,$J230,0),0)","v":0},{"$f":"IFERROR(IF($H230=$W$20,$J230,0),0)","v":0},{"$f":"IF(N230<200,S230,IF(N230>400,0,S230*(1-(N230-200)/200)))","v":0},{"$f":"IF(N230<200,T230,IF(N230>400,0,T230*(1-(N230-200)/200)))","v":0}]
[]
[null,null,105,null,null,null,null,null,null,null,null,null,null,null,null,0,null,null,{"$f":"IFERROR(IF($H232=$W$19,$J232,0),0)","v":0},{"$f":"IFERROR(IF($H232=$W$20,$J232,0),0)","v":0},{"$f":"IF(N232<200,S232,IF(N232>400,0,S232*(1-(N232-200)/200)))","v":0},{"$f":"IF(N232<200,T232,IF(N232>400,0,T232*(1-(N232-200)/200)))","v":0}]
[]
[null,null,106,null,null,null,null,null,null,null,null,null,null,null,null,0,null,null,{"$f":"IFERROR(IF($H234=$W$19,$J234,0),0)","v":0},{"$f":"IFERROR(IF($H234=$W$20,$J234,0),0)","v":0},{"$f":"IF(N234<200,S234,IF(N234>400,0,S234*(1-(N234-200)/200)))","v":0},{"$f":"IF(N234<200,T234,IF(N234>400,0,T234*(1-(N234-200)/200)))","v":0}]
[]
[null,null,107,null,null,null,null,null,null,null,null,null,null,null,null,0,null,null,{"$f":"IFERROR(IF($H236=$W$19,$J236,0),0)","v":0},{"$f":"IFERROR(IF($H236=$W$20,$J236,0),0)","v":0},{"$f":"IF(N236<200,S236,IF(N236>400,0,S236*(1-(N236-200)/200)))","v":0},{"$f":"IF(N236<200,T236,IF(N236>400,0,T236*(1-(N236-200)/200)))","v":0}]
[]
[null,null,108,null,null,null,null,null,null,null,null,null,null,null,null,0,null,null,{"$f":"IFERROR(IF($H238=$W$19,$J238,0),0)","v":0},{"$f":"IFERROR(IF($H238=$W$20,$J238,0),0)","v":0},{"$f":"IF(N238<200,S238,IF(N238>400,0,S238*(1-(N238-200)/200)))","v":0},{"$f":"IF(N238<200,T238,IF(N238>400,0,T238*(1-(N238-200)/200)))","v":0}]
[]
[null,null,109,null,null,null,null,null,null,null,null,null,null,null,null,0,null,null,{"$f":"IFERROR(IF($H240=$W$19,$J240,0),0)","v":0},{"$f":"IFERROR(IF($H240=$W$20,$J240,0),0)","v":0},{"$f":"IF(N240<200,S240,IF(N240>400,0,S240*(1-(N240-200)/200)))","v":0},{"$f":"IF(N240<200,T240,IF(N240>400,0,T240*(1-(N240-200)/200)))","v":0}]

{"sheet":"DATOSMat","index":25,"n_rows":30,"n_cols":11,"rows_kept":30,"cut":false,"hidden":true,"merged":[[1,9,1,10]]}
[]
[null,null,null,null,null,null,"Materias primas","Energía","Emisiones","Rsiduos"]
[null,"ELEMENTO","MATERIAL",null,"ESPESOR AISLAMIENTO","Ud.","kg/Ud","MJ/Ud","kgCO2/Ud","kg/Ud","m3"]
[]
[null,"CUBIERTA","TOTAL","A",0.04,"m2",897.67599999999993,1469.4690000000001,168.62540999999999,7.44,2.7E-2]
[null,null,null,"B",0.05,null,897.78599999999994,1481.759,170.44540999999998,7.44,2.7E-2]
[null,null,null,"C",0.06,null,897.88599999999997,1494.039,172.25540999999998,7.44,2.7E-2]
[null,null,null,"D",7.0000000000000007E-2,null,897.99599999999998,1506.329,174.06540999999999,7.44,2.7E-2]
[null,null,null,"E",0.08,null,898.096,1518.6089999999999,175.88540999999998,7.44,2.7E-2]
[]
[null,"FORJADOS INTERIORES","TOTAL",null,0,"m2",440.71000000000004,1055.72,103.99000000000001,8.76,1.6300000000000002E-2]
[]
[null,"MEDIANERA","TOTAL",null,0.02,"m2",167.46599999999998,634.68999999999994,45.93,6.01,1.6E-2]
[]
[null,"MURO EXTERIOR","TOTAL","A",0.02,"m2",372.38000000000005,586.16,58.87,16.88,1.9899999999999998E-2]
[null,null,null,"B",0.03,null,372.44000000000005,592.30999999999995,59.78,16.88,2.01E-2]
[null,null,null,"C",0.04,null,372.49,598.44999999999993,60.684999999999995,16.884999999999998,2.0399999999999998E-2]
[null,null,null,"D",0.04,null,372.96000000000004,596.32999999999993,55.57,16.899999999999999,2.1099999999999997E-2]
[null,null,null,"E",0.06,null,372.54,604.58999999999992,61.589999999999996,16.889999999999997,2.0699999999999996E-2]
[]
[null,"PARTICIÓN INTERIOR","TOTAL",null,0,"m2",62.52,250.43,17.97,2.13,4.8999999999999998E-3]
[]
[null,"SUELO","TOTAL","A",0.04,null,598.33500000000004,400.36500000000001,69.330000000000013,4.3,4.3E-3]
[null,null,null,"B",4.4999999999999998E-2,null,598.39,406.51,70.240000000000009,4.3,4.3E-3]
[null,null,null,"C",4.4999999999999998E-2,null,598.49,418.78999999999996,72.050000000000011,4.3,4.3E-3]
[null,null,null,"D",0.05,null,598.6,431.08000000000004,73.86,4.3,4.3E-3]
[null,null,null,"E",0.08,null,598.69999999999993,443.36,75.680000000000007,4.3,4.3E-3]
[]
[null,"HUECOS","TIPO I",null,null,"m2",48.040000000000006,3911,529.88,9.6900000000000003E-4,1.578E-3]
[null,null,"TIPO II",null,null,"m2",66.540000000000006,1221.3600000000001,74.42,8.8800000000000001E-4,1.2639999999999999E-3]

{"sheet":"Mat Ref","index":26,"n_rows":95,"n_cols":22,"rows_kept":95,"cut":false,"hidden":true,"merged":[[40,12,40,22],[41,20,41,21],[2,1,2,8],[35,2,35,4],[36,2,36,4],[37,2,37,4],[41,9,41,10],[40,1,40,11]]}
[]
[]
[null,"Datos de materiales para el Edificio de Referencia "]
[]
[]
[null,null,null,"Zona climática",{"$f":"'zona clima'!C10","v":""}]
[]
[null,null,"Porcentaje de huecos en las diferentes fachadas"]
[]
[null,null,null,"N",{"$f":"#REF!","v":{"$error":"#REF!"}},null,{"$f":"IF(AND(E6=\"A\",E10=\"0-10%\"),\"TIPO I\",IF(AND(E6=\"A\",E10=\"11-20%\"),\"TIPO I\",IF(AND(E6=\"B\",E10=\"0-10%\"),\"TIPO I\",\"TIPO II\")))","v":{"$error":"#REF!"}}]
[]
[null,null,null,"E/O",{"$f":"#REF!","v":{"$error":"#REF!"}},null,{"$f":"IF(AND(E6=\"A\",E12=\"0-10%\"),\"TIPO I\",IF(AND(E6=\"A\",E12=\"11-20%\"),\"TIPO I\",IF(AND(E6=\"A\",E12=\"21-30%\"),\"TIPO I\",IF(AND(E6=\"A\",E12=\"31-40%\"),\"TIPO I\",IF(AND(E6=\"A\",E12=\"41-50%\"),\"TIPO I\",IF(AND(E6=\"B\",E12=\"0-10%\"),\"TIPO I\",IF(AND(E6=\"B\",E12=\"11-20%\"),\"TIPO I\",\"TIPO II\")))))))","v":{"$error":"#REF!"}},null,null,null,null,"                                              "]
[]
[null,null,null,"S",{"$f":"#REF!","v":{"$error":"#REF!"}},null,{"$f":"IF(E6=\"A\",\"TIPO I\",IF(E6=\"B\",\"TIPO I\",\"TIPO II\"))","v":"TIPO II"}]
[]
[null,null,null,"SE/SO",{"$f":"#REF!","v":{"$error":"#REF!"}},null,{"$f":"IF(D9=\"A\",\"TIPO I\",IF(D9=\"B\",\"TIPO I\",\"TIPO II\"))","v":"TIPO II"}]
[]
[null,null,null,null,null,null,null,null,null,null,null,null,null,null,null,23.59]
[null,null,"Elementos","Unidad",null,null,"kg materiales","MJ","kg CO2","Residuos kg","Residuos m3",null,null,null,null,9.9]
[null,null,null,null,null,null,null,null,null,null,null,null,null,null,null,17.29]
[null,null,"Cubierta","m2",{"$f":"#REF!","v":{"$error":"#REF!"}},null,{"$f":"IF(#REF!=\"Base del banco de precios BEDEC\",IF(E6=\"A\",E21*R46,IF(E6=\"B\",E21*R47,IF(E6=\"C\",E21*R48,IF(E6=\"D\",E21*R49,E21*R50)))),IF(E6=\"A\",E21*G46,IF(E6=\"B\",E21*G47,IF(E6=\"C\",E21*G48,IF(E6=\"D\",E21*G49,E21*G50)))))","v":{"$error":"#REF!"}},{"$f":"IF(#REF!=\"Base del banco de precios BEDEC\",IF(E6=\"A\",E21*S46,IF(E6=\"B\",E21*S47,IF(E6=\"C\",E21*S48,IF(E6=\"D\",E21*S49,E21*S50)))),IF(E6=\"A\",E21*H46,IF(E6=\"B\",E21*H47,IF(E6=\"C\",E21*H48,IF(E6=\"D\",E21*H49,E21*H50)))))","v":{"$error":"#REF!"}},{"$f":"IF(#REF!=\"Base del banco de precios BEDEC\",IF($E$6=\"A\",$E21*T46,IF($E$6=\"B\",$E21*T47,IF($E$6=\"C\",$E21*T48,IF($E$6=\"D\",$E21*T49,E21*T50)))),IF($E$6=\"A\",$E21*I46,IF($E$6=\"B\",$E21*I47,IF($E$6=\"C\",$E21*I48,IF($E$6=\"D\",$E21*I49,E21*I50)))))","v":{"$error":"#REF!"}},{"$f":"IF(#REF!=\"Base del banco de precios BEDEC\",IF($E$6=\"A\",$E21*U46,IF($E$6=\"B\",$E21*U47,IF($E$6=\"C\",$E21*U48,IF($E$6=\"D\",$E21*U49,E21*U50)))),IF($E$6=\"A\",$E21*J46,IF($E$6=\"B\",$E21*J47,IF($E$6=\"C\",$E21*J48,IF($E$6=\"D\",$E21*J49,E21*J50)))))","v":{"$error":"#REF!"}},{"$f":"IF(#REF!=\"Base del banco de precios BEDEC\",IF($E$6=\"A\",$E21*V46,IF($E$6=\"B\",$E21*V47,IF($E$6=\"C\",$E21*V48,IF($E$6=\"D\",$E21*V49,E21*V50)))),IF($E$6=\"A\",$E21*K46,IF($E$6=\"B\",$E21*K47,IF($E$6=\"C\",$E21*K48,IF($E$6=\"D\",$E21*K49,E21*K50)))))","v":{"$error":"#REF!"}}]
[null,null,"Forjados interiores","m2",{"$f":"#REF!","v":{"$error":"#REF!"}},null,{"$f":"IF(#REF!=\"Base del banco de precios BEDEC\",(R52*E22),(G52*E22))","v":{"$error":"#REF!"}},{"$f":"IF(#REF!=\"Base del banco de precios BEDEC\",(S52*E22),(H52*E22))","v":{"$error":"#REF!"}},{"$f":"IF(#REF!=\"Base del banco de precios BEDEC\",(T52*E22),(I52*E22))","v":{"$error":"#REF!"}},{"$f":"IF(#REF!=\"Base del banco de precios BEDEC\",(U52*E22),(J52*E22))","v":{"$error":"#REF!"}},{"$f":"IF(#REF!=\"Base del banco de precios BEDEC\",(V52*E22),(K52*E22))","v":{"$error":"#REF!"}}]
[null,null,"Medianera","m2",{"$f":"#REF!","v":{"$error":"#REF!"}},null,{"$f":"IF(#REF!=\"Base del banco de precios BEDEC\",(R54*E23),(G54*E23))","v":{"$error":"#REF!"}},{"$f":"IF(#REF!=\"Base del banco de precios BEDEC\",(S54*E23),(H54*E23))","v":{"$error":"#REF!"}},{"$f":"IF(#REF!=\"Base del banco de precios BEDEC\",(T54*E23),(I54*E23))","v":{"$error":"#REF!"}},{"$f":"IF(#REF!=\"Base del banco de precios BEDEC\",(U54*E23),(J54*E23))","v":{"$error":"#REF!"}},{"$f":"IF(#REF!=\"Base del banco de precios BEDEC\",(V54*E23),(K54*E23))","v":{"$error":"#REF!"}}]
[null,null,"Muro exterior","m2",{"$f":"#REF!","v":{"$error":"#REF!"}},null,{"$f":"IF(#REF!=\"Base del banco de precios BEDEC\",IF(E6=\"A\",E24*R57,IF(E6=\"B\",E24*R58,IF(E6=\"C\",E24*R59,IF(E6=\"D\",E24*R60,E24*R61)))),IF(E6=\"A\",E24*G57,IF(E6=\"B\",E24*G58,IF(E6=\"C\",E24*G59,IF(E6=\"D\",E24*G60,E24*G61)))))","v":{"$error":"#REF!"}},{"$f":"IF(#REF!=\"Base del banco de precios BEDEC\",IF(E6=\"A\",E24*S57,IF(E6=\"B\",E24*S58,IF(E6=\"C\",E24*S59,IF(E6=\"D\",E24*S60,E24*S61)))),IF(E6=\"A\",E24*H57,IF(E6=\"B\",E24*H58,IF(E6=\"C\",E24*H59,IF(E6=\"D\",E24*H60,E24*H61)))))","v":{"$error":"#REF!"}},{"$f":"IF(#REF!=\"Base del banco de precios BEDEC\",IF(E6=\"A\",E24*T57,IF(E6=\"B\",E24*T58,IF(E6=\"C\",E24*T59,IF(E6=\"D\",E24*T60,E24*T61)))),IF(E6=\"A\",E24*I57,IF(E6=\"B\",E24*I58,IF(E6=\"C\",E24*I59,IF(E6=\"D\",E24*I60,E24*I61)))))","v":{"$error":"#REF!"}},{"$f":"IF(#REF!=\"Base del banco de precios BEDEC\",IF(E6=\"A\",E24*U57,IF(E6=\"B\",E24*U58,IF(E6=\"C\",E24*U59,IF(E6=\"D\",E24*U60,E24*U61)))),IF(E6=\"A\",E24*J57,IF(E6=\"B\",E24*J58,IF(E6=\"C\",E24*J59,IF(E6=\"D\",E24*J60,E24*J61)))))","v":{"$error":"#REF!"}},{"$f":"IF(#REF!=\"Base del banco de precios BEDEC\",IF(E6=\"A\",E24*V57,IF(E6=\"B\",E24*V58,IF(E6=\"C\",E24*V59,IF(E6=\"D\",E24*V60,E24*V61)))),IF(E6=\"A\",E24*K57,IF(E6=\"B\",E24*K58,IF(E6=\"C\",E24*K59,IF(E6=\"D\",E24*K60,E24*K61)))))","v":{"$error":"#REF!"}}]
[null,null,"Partición interior","m2",{"$f":"#REF!","v":{"$error":"#REF!"}},null,{"$f":"IF(#REF!=\"Base del banco de precios BEDEC\",(R63*E25),(G63*E25))","v":{"$error":"#REF!"}},{"$f":"IF(#REF!=\"Base del banco de precios BEDEC\",(S63*E25),(H63*E25))","v":{"$error":"#REF!"}},{"$f":"IF(#REF!=\"Base del banco de precios BEDEC\",(T63*E25),(I63*E25))","v":{"$error":"#REF!"}},{"$f":"IF(#REF!=\"Base del banco de precios BEDEC\",(U63*E25),(J63*E25))","v":{"$error":"#REF!"}},{"$f":"IF(#REF!=\"Base del banco de precios BEDEC\",(V63*E25),(K63*E25))","v":{"$error":"#REF!"}}]
[null,null,"Suelo","m2",{"$f":"#REF!","v":{"$error":"#REF!"}},null,{"$f":"IF(#REF!=\"Base del banco de precios BEDEC\",IF(E6=\"A\",E26*R66,IF(E6=\"B\",E26*R67,IF(E6=\"C\",E26*R68,IF(E6=\"D\",E26*R69,E26*R70)))),IF(E6=\"A\",E26*G66,IF(E6=\"B\",E26*G67,IF(E6=\"C\",E26*G68,IF(E6=\"D\",E26*G69,E26*G70)))))","v":{"$error":"#REF!"}},{"$f":"IF(#REF!=\"Base del banco de precios BEDEC\",IF(E6=\"A\",E26*S66,IF(E6=\"B\",E26*S67,IF(E6=\"C\",E26*S68,IF(E6=\"D\",E26*S69,E26*S70)))),IF(E6=\"A\",E26*H66,IF(E6=\"B\",E26*H67,IF(E6=\"C\",E26*H68,IF(E6=\"D\",E26*H69,E26*H70)))))","v":{"$error":"#REF!"}},{"$f":"IF(#REF!=\"Base del banco de precios BEDEC\",IF(E6=\"A\",E26*T66,IF(E6=\"B\",E26*T67,IF(E6=\"C\",E26*T68,IF(E6=\"D\",E26*T69,E26*T70)))),IF(E6=\"A\",E26*I66,IF(E6=\"B\",E26*I67,IF(E6=\"C\",E26*I68,IF(E6=\"D\",E26*I69,E26*I70)))))","v":{"$error":"#REF!"}},{"$f":"IF(#REF!=\"Base del banco de precios BEDEC\",IF(E6=\"A\",E26*U66,IF(E6=\"B\",E26*U67,IF(E6=\"C\",E26*U68,IF(E6=\"D\",E26*U69,E26*U70)))),IF(E6=\"A\",E26*J66,IF(E6=\"B\",E26*J67,IF(E6=\"C\",E26*J68,IF(E6=\"D\",E26*J69,E26*J70)))))","v":{"$error":"#REF!"}},{"$f":"IF(#REF!=\"Base del banco de precios BEDEC\",IF(E6=\"A\",E26*V66,IF(E6=\"B\",E26*V67,IF(E6=\"C\",E26*V68,IF(E6=\"D\",E26*V69,E26*V70)))),IF(E6=\"A\",E26*K66,IF(E6=\"B\",E26*K67,IF(E6=\"C\",E26*K68,IF(E6=\"D\",E26*K69,E26*K70)))))","v":{"$error":"#REF!"}},null,null,null,null,{"$f":"SUM(P18:P25)","v":50.78}]
[null,null,"Huecos"]
[null,null,"N","m2",{"$f":"#REF!","v":{"$error":"#REF!"}},null,{"$f":"IF(#REF!=\"Base del banco de precios BEDEC\",IF(G10=\"TIPO I\",$E28*$R$72,IF(G10=\"TIPO II\",$E28*$R$73)),IF(G10=\"TIPO I\",$E28*$G$72,IF(G10=\"TIPO II\",$E28*$G$73)))","v":{"$error":"#REF!"}},{"$f":"IF(#REF!=\"Base del banco de precios BEDEC\",IF(G10=\"TIPO I\",E28*$S$72,IF(G10=\"TIPO II\",E28*$S$73)),IF(G10=\"TIPO I\",E28*$H$72,IF(G10=\"TIPO II\",E28*$H$73)))","v":{"$error":"#REF!"}},{"$f":"IF(#REF!=\"Base del banco de precios BEDEC\",IF(G10=\"TIPO I\",E28*$T$72,IF(G10=\"TIPO II\",E28*$T$73)),IF(G10=\"TIPO I\",E28*$I$72,IF(G10=\"TIPO II\",E28*$I$73)))","v":{"$error":"#REF!"}},{"$f":"IF(#REF!=\"Base del banco de precios BEDEC\",IF(G10=\"TIPO I\",E28*$U$72,IF(G10=\"TIPO II\",E28*$U$73)),IF(G10=\"TIPO I\",E28*$J$72,IF(G10=\"TIPO II\",E28*$J$73)))","v":{"$error":"#REF!"}},{"$f":"IF(#REF!=\"Base del banco de precios BEDEC\",IF(G10=\"TIPO I\",$E28*$V$72,IF(G10=\"TIPO II\",$E28*$V$73)),IF(G10=\"TIPO I\",$E28*$K$72,IF(G10=\"TIPO II\",$E28*$K$73)))","v":{"$error":"#REF!"}}]
[null,null,"E/O","m2",{"$f":"#REF!","v":{"$error":"#REF!"}},null,{"$f":"IF(#REF!=\"Base del banco de precios BEDEC\",IF(G12=\"TIPO I\",$E29*$R$72,IF(G12=\"TIPO II\",$E29*$R$73)),IF(G12=\"TIPO I\",$E29*$G$72,IF(G12=\"TIPO II\",$E29*$G$73)))","v":{"$error":"#REF!"}},{"$f":"IF(#REF!=\"Base del banco de precios BEDEC\",IF(G12=\"TIPO I\",E29*$S$72,IF(G12=\"TIPO II\",E29*$S$73)),IF(G12=\"TIPO I\",E29*$H$72,IF(G12=\"TIPO II\",E29*$H$73)))","v":{"$error":"#REF!"}},{"$f":"IF(#REF!=\"Base del banco de precios BEDEC\",IF(G12=\"TIPO I\",E29*$T$72,IF(G12=\"TIPO II\",E29*$T$73)),IF(G12=\"TIPO I\",E29*$I$72,IF(G12=\"TIPO II\",E29*$I$73)))","v":{"$error":"#REF!"}},{"$f":"IF(#REF!=\"Base del banco de precios BEDEC\",IF(G12=\"TIPO I\",E29*$U$72,IF(G12=\"TIPO II\",E29*$U$73)),IF(G12=\"TIPO I\",E29*$J$72,IF(G12=\"TIPO II\",E29*$J$73)))","v":{"$error":"#REF!"}},{"$f":"IF(#REF!=\"Base del banco de precios BEDEC\",IF(G12=\"TIPO I\",$E29*$V$72,IF(G12=\"TIPO II\",$E29*$V$73)),IF(G12=\"TIPO I\",$E29*$K$72,IF(G12=\"TIPO II\",$E29*$K$73)))","v":{"$error":"#REF!"}}]
[null,null,"S","m2",{"$f":"#REF!","v":{"$error":"#REF!"}},null,{"$f":"IF(#REF!=\"Base del banco de precios BEDEC\",IF(G14=\"TIPO I\",$E30*$R$72,IF(G14=\"TIPO II\",$E30*$R$73)),IF(G14=\"TIPO I\",$E30*$G$72,IF(G14=\"TIPO II\",$E30*$G$73)))","v":{"$error":"#REF!"}},{"$f":"IF(#REF!=\"Base del banco de precios BEDEC\",IF(G14=\"TIPO I\",E30*$S$72,IF(G14=\"TIPO II\",E30*$S$73)),IF(G14=\"TIPO I\",E30*$H$72,IF(G14=\"TIPO II\",E30*$H$73)))","v":{"$error":"#REF!"}},{"$f":"IF(#REF!=\"Base del banco de precios BEDEC\",IF(G14=\"TIPO I\",E30*$T$72,IF(G14=\"TIPO II\",E30*$T$73)),IF(G14=\"TIPO I\",E30*$I$72,IF(G14=\"TIPO II\",E30*$I$73)))","v":{"$error":"#REF!"}},{"$f":"IF(#REF!=\"Base del banco de precios BEDEC\",IF(G14=\"TIPO I\",E30*$U$72,IF(G14=\"TIPO II\",E30*$U$73)),IF(G14=\"TIPO I\",E30*$J$72,IF(G14=\"TIPO II\",E30*$J$73)))","v":{"$error":"#REF!"}},{"$f":"IF(#REF!=\"Base del banco de precios BEDEC\",IF(G14=\"TIPO I\",$E30*$V$72,IF(G14=\"TIPO II\",$E30*$V$73)),IF(G14=\"TIPO I\",$E30*$K$72,IF(G14=\"TIPO II\",$E30*$K$73)))","v":{"$error":"#REF!"}}]
[null,null,"SE/SO","m2",{"$f":"#REF!","v":{"$error":"#REF!"}},null,{"$f":"IF(#REF!=\"Base del banco de precios BEDEC\",IF(G16=\"TIPO I\",$E31*$R$72,IF(G16=\"TIPO II\",$E31*$R$73)),IF(G16=\"TIPO I\",$E31*$G$72,IF(G16=\"TIPO II\",$E31*$G$73)))","v":{"$error":"#REF!"}},{"$f":"IF(#REF!=\"Base del banco de precios BEDEC\",IF(G16=\"TIPO I\",E31*$S$72,IF(G16=\"TIPO II\",E31*$S$73)),IF(G16=\"TIPO I\",E31*$H$72,IF(G16=\"TIPO II\",E31*$H$73)))","v":{"$error":"#REF!"}},{"$f":"IF(#REF!=\"Base del banco de precios BEDEC\",IF(G16=\"TIPO I\",E31*$T$72,IF(G16=\"TIPO II\",E31*$T$73)),IF(G16=\"TIPO I\",E31*$I$72,IF(G16=\"TIPO II\",E31*$I$73)))","v":{"$error":"#REF!"}},{"$f":"IF(#REF!=\"Base del banco de precios BEDEC\",IF(G16=\"TIPO I\",E31*$U$72,IF(G16=\"TIPO II\",E31*$U$73)),IF(G16=\"TIPO I\",E31*$J$72,IF(G16=\"TIPO II\",E31*$J$73)))","v":{"$error":"#REF!"}},{"$f":"IF(#REF!=\"Base del banco de precios BEDEC\",IF(G16=\"TIPO I\",$E31*$V$72,IF(G16=\"TIPO II\",$E31*$V$73)),IF(G16=\"TIPO I\",$E31*$K$72,IF(G16=\"TIPO II\",$E31*$K$73)))","v":{"$error":"#REF!"}}]
[null,null,"Cimetación"]
[null,null,"muro de contención","m2",{"$f":"#REF!","v":{"$error":"#REF!"}},null,{"$f":"E33*DATOSMat!G74","v":{"$error":"#REF!"}},{"$f":"E33*DATOSMat!H74","v":{"$error":"#REF!"}},{"$f":"E33*DATOSMat!I74","v":{"$error":"#REF!"}},{"$f":"F33*DATOSMat!J74","v":0},{"$f":"G33*DATOSMat!K74","v":{"$error":"#REF!"}}]
[]
[]
[null,null,"Valores del edificio de referencia Totales",null,null,null,{"$f":"SUM(G20:G33)","v":{"$error":"#REF!"}},{"$f":"SUM(H20:H33)","v":{"$error":"#REF!"}},{"$f":"SUM(I20:I33)","v":{"$error":"#REF!"}},{"$f":"SUM(J20:J33)","v":{"$error":"#REF!"}},{"$f":"SUM(K20:K33)","v":{"$error":"#REF!"}}]
[]
[null,null,"Valores del edificio de referencia al m2",null,null,null,{"$f":"G36/#REF!","v":{"$error":"#REF!"}},{"$f":"H36/#REF!","v":{"$error":"#REF!"}},{"$f":"I36/#REF!","v":{"$error":"#REF!"}},{"$f":"J36/#REF!","v":{"$error":"#REF!"}},{"$f":"K36/#REF!","v":{"$error":"#REF!"}}]
[]
[]
[null,"CYPE",null,null,null,null,null,null,null,null,null,null,"BEDEC"]
[null,null,null,null,null,null,"Materias primas","Energía","Emisiones","Rsiduos",null,null,null,null,null,null,null,"Materias primas","Energía","Emisiones","Rsiduos"]
[null,"ELEMENTO","MATERIAL",null,"ESPESOR AISLAMIENTO","Ud.","kg/Ud","kWh/Ud","kgCO2/Ud","kg/Ud","m3",null,"ELEMENTO","MATERIAL",null,"ESPESOR AISLAMIENTO","Ud.","kg/Ud","kWh/Ud","kgCO2/Ud","kg/Ud","m3"]
[]
[null,"CUBIERTA","TOTAL","A",0.04,"m2",459.11699999999996,293.27,88.481999999999999,8.3049999999999997,6.731E-3,null,"CUBIERTA","TOTAL","A",0.04,"m2",897.67599999999993,378.6,145.58000000000001,5.6269999999999998,2.7E-2]
[null,null,null,"A",0.04,"m2",459.11699999999996,293.27,88.481999999999999,8.3049999999999997,6.731E-3,null,null,null,"A",0.04,"m2",897.67599999999993,364.95,138.33000000000001,5.617,2.7E-2]
[null,null,null,"B",0.05,null,459.642,295.45,89.037000000000006,8.3209999999999997,6.7580000000000001E-3,null,null,null,"B",0.05,null,897.78599999999994,405.9,160.15,5.7270000000000003,2.7E-2]
[null,null,null,"C",0.06,null,460.16700000000003,297.89999999999998,89.593000000000004,8.3719999999999999,6.842E-3,null,null,null,"C",0.06,null,897.88599999999997,394.66,154.12,5.7670000000000003,2.7E-2]
[null,null,null,"D",7.0000000000000007E-2,null,460.69200000000001,300.63,90.149000000000001,8.3879999999999999,6.8690000000000001E-3,null,null,null,"D",7.0000000000000007E-2,null,897.99599999999998,394.66,154.12,5.7670000000000003,2.7E-2]
[null,null,null,"E",0.08,null,461.21699999999998,303.33999999999997,90.704999999999998,8.4039999999999999,6.8959999999999994E-3,null,null,null,"E",0.08,null,898.096,472.73,194.14,5.9470000000000001,2.7E-2]
[]
[null,"FORJADOS INTERIORES","TOTAL",null,0,"m2",369.803,263.99,74.833999999999989,4.8289999999999997,3.7890000000000003E-3,null,"FORJADOS INTERIORES","TOTAL",null,0,"m2",440.71000000000004,238.06,86.11,3.8690000000000002,1.6300000000000002E-2]
[]
[null,"MEDIANERA","TOTAL",null,0.02,"m2",295.79399999999998,159.88,51.424999999999997,7.9009999999999998,3.3300000000000001E-3,null,"MEDIANERA","TOTAL",null,0.02,"m2",167.46599999999998,634.68999999999994,45.93,6.01,1.6E-2]
[]
[null,"MURO EXTERIOR","TOTAL","A",0.02,"m2",189.31399999999996,230.96,60.470999999999997,15.406000000000001,1.0588E-2,null,"MURO EXTERIOR","TOTAL","A",0.02,"m2",372.38000000000005,231.44,76.08,16.268000000000001,1.9899999999999998E-2]
[null,null,null,"A",0.02,"m2",189.31399999999996,230.96,60.470999999999997,15.406000000000001,1.0588E-2,null,null,null,"A",0.02,"m2",372.38000000000005,241.68,81.52,16.3,1.9899999999999998E-2]
[null,null,null,"B",0.03,null,189.62899999999996,238.96,61.738,15.422000000000001,1.0614E-2,null,null,null,"B",0.03,null,372.44000000000005,490.19,85.15,16.329999999999998,2.01E-2]
[null,null,null,"C",0.04,null,189.94399999999996,246.95,63.004999999999995,15.436999999999999,1.0639000000000001E-2,null,null,null,"C",0.04,null,372.49,273.76,98.57,16.54,2.0399999999999998E-2]
[null,null,null,"D",0.04,null,190.25899999999999,254.95,64.271999999999991,15.452,1.0664E-2,null,null,null,"D",0.04,null,372.96000000000004,299.69,112.35,16.510000000000002,2.1099999999999997E-2]
[null,null,null,"E",0.06,null,190.57399999999998,262.95,65.537999999999997,15.467000000000001,1.0689000000000001E-2,null,null,null,"E",0.06,null,372.54,306.52,115.97,16.59,2.0699999999999996E-2]
[]
[null,"PARTICIÓN INTERIOR","TOTAL",null,0,"m2",197.398,49.37,18.257000000000001,1.7230000000000001,1.897E-3,null,"PARTICIÓN INTERIOR","TOTAL",null,0,"m2",62.52,137.76,40.020000000000003,1.59,4.8999999999999998E-3]
[]
[null,"SUELO","TOTAL","A",0.04,null,384.78,200.97,60.605999999999995,4.0720000000000001,1.1214E-2,null,"SUELO","TOTAL","A",0.04,null,598.33500000000004,70.239999999999995,60.62,1.2250000000000001,4.3E-3]
[null,null,null,"A",0.04,null,384.78,200.97,60.605999999999995,4.0720000000000001,1.1214E-2,null,null,null,"A",0.04,null,598.33500000000004,70.239999999999995,60.62,1.2250000000000001,4.3E-3]
[null,null,null,"B",4.4999999999999998E-2,null,385.30499999999995,203.15,61.160999999999994,4.0880000000000001,1.1240999999999999E-2,null,null,null,"B",4.4999999999999998E-2,null,598.39,73.650000000000006,62.44,1.2350000000000001,4.3E-3]
[null,null,null,"C",4.4999999999999998E-2,null,385.82999999999993,205.6,61.716999999999999,4.1390000000000002,1.1325E-2,null,null,null,"C",4.4999999999999998E-2,null,598.49,107.78,80.569999999999993,1.3149999999999999,4.3E-3]
[null,null,null,"D",0.05,null,386.35499999999996,208.32,62.272999999999996,4.1550000000000002,1.1351999999999999E-2,null,null,null,"D",0.05,null,598.6,94.13,73.31,1.345,4.3E-3]
[null,null,null,"E",0.08,null,386.87999999999994,211.04,62.828999999999994,4.1710000000000003,1.1379E-2,null,null,null,"E",0.08,null,598.69999999999993,102.32,77.67,1.4650000000000001,4.3E-3]
[]
[null,"HUECOS","TIPO I",null,null,"m2",31.268000000000001,585.05999999999995,276.08199999999999,0.42499999999999999,4.7099999999999996E-4,null,"HUECOS","TIPO I",null,null,"m2",48.040000000000006,962.16,481.24,9.7300000000000002E-4,1.578E-3]
[null,null,"TIPO II",null,null,"m2",30.654,568.01,266.995,0.439,5.31E-4,null,null,"TIPO II",null,null,"m2",66.540000000000006,972.63,488.85,9.7300000000000002E-4,1.2639999999999999E-3]
[null,null,null,null,null,null,null,null,null,null,null,null,null,"TIPO III",null,null,"m2",66.540000000000006,964.37,492.95,9.7300000000000002E-4,1.2639999999999999E-3]
[null,null,null,null,null,null,null,null,null,null,null,null,null,"TIPO IV",null,null,"m2",66.540000000000006,533.74,238.41,9.7300000000000002E-4,1.2639999999999999E-3]
[null,null,null,null,null,null,null,null,null,null,null,null,null,"TIPO V",null,null,"m2",66.540000000000006,534.26,238.52,9.7300000000000002E-4,1.2639999999999999E-3]
[null,null,null,null,null,null,null,null,null,null,null,null,null,"TIPO VI",null,null,"m2",66.540000000000006,534.26,238.52,9.7300000000000002E-4,1.2639999999999999E-3]
[]
[]
[]
[]
[null,null,null,79.42]
[null,null,null,9.4700000000000006]
[]
[null,null,null,10.07]
[null,null,null,10.07]
[null,null,null,12.25]
[null,null,null,14.7]
[null,null,null,17.420000000000002]
[null,null,null,20.14]
[null,null,null,102.01]
[]
[]
[]
[null,null,null,{"$f":"SUM(D82:D83)+D90+SUM(D91:D93)","v":211.04000000000002}]

{"sheet":"RN 11","index":27,"n_rows":89,"n_cols":13,"rows_kept":89,"cut":false,"hidden":false,"merged":[[7,4,7,9],[26,3,26,12],[40,4,40,6],[41,4,41,6],[42,4,42,6],[35,4,35,6],[27,11,27,12],[30,4,30,6],[31,4,31,6],[32,4,32,6],[33,4,33,6],[20,4,20,6],[21,4,21,6],[22,4,22,6],[34,4,34,6],[20,3,22,3],[62,4,62,6],[63,4,63,6],[51,4,51,6],[54,4,54,6],[55,4,55,6],[56,4,56,6],[57,4,57,6],[61,4,61,6],[47,4,47,6],[48,4,48,6],[88,4,88,6],[72,4,72,6],[70,4,71,6],[64,4,64,6],[65,4,65,6],[66,4,66,6],[69,4,69,6],[84,4,84,6],[85,4,85,6],[86,4,86,6],[87,4,87,6],[67,4,67,6],[82,4,82,6],[79,4,79,6],[80,4,80,6],[81,4,81,6],[70,12,71,12],[75,4,75,6],[76,4,76,6],[77,4,77,6],[78,4,78,6],[70,7,71,7],[70,8,71,8],[70,9,71,9],[70,10,71,10],[70,11,71,11],[73,4,73,6],[2,3,2,13],[43,4,43,6],[52,4,52,6],[60,4,60,6],[27,3,27,5],[8,11,8,12],[58,4,58,6],[59,4,59,6],[49,4,49,6],[50,4,50,6],[36,4,36,6],[37,4,37,6],[38,4,38,6],[39,4,39,6],[45,4,45,6],[46,4,46,6]]}
[]
[]
[null,null,null,"DATOS DE LOS IMPACTOS PARA EL EDIFICIO DE REFERENCIA PARA LAS FASES  A1, A2, A3"]
[]
[]
[null,null,null,null,null,"Zona climática",{"$f":"'zona clima'!C10","v":""}]
[]
[null,null,null,null,"Introduce las superficies de cada uno de las partes de la envolvente"]
[null,null,null,null,null,null,null,null,"Materiales","ADP","GWP","Residuos"]
[null,null,null,null,"Elementos","Unidad","Superficies",null,"kg/ud","MJ/ud","kg CO2/ud"," kg","m3"]
[]
[null,null,null,null,"Cubierta","m2",null,null,{"$f":"I44*$G$12","v":0},{"$f":"J44*$G$12","v":0},{"$f":"K44*$G$12","v":0},{"$f":"L44*$G$12","v":0},{"$f":"M44*$G$12","v":0}]
[null,null,null,null,"Cerramientas exteriores","m2",null,null,{"$f":"I53*$G$13","v":0},{"$f":"J53*$G$13","v":0},{"$f":"K53*$G$13","v":0},{"$f":"L53*$G$13","v":0},{"$f":"M53*$G$13","v":0}]
[null,null,null,null,"Forjados interiores","m2",null,null,{"$f":"I61*$G$14","v":0},{"$f":"J61*$G$14","v":0},{"$f":"K61*$G$14","v":0},{"$f":"L61*$G$14","v":0},{"$f":"M61*$G$14","v":0}]
[null,null,null,null,"Suelos","m2",null,null,{"$f":"I68*$G$15","v":0},{"$f":"J68*$G$15","v":0},{"$f":"K68*$G$15","v":0},{"$f":"L68*$G$15","v":0},{"$f":"M68*$G$15","v":0}]
[null,null,null,null,"Particiones interiores","m2",null,null,{"$f":"I74*$G$16","v":0},{"$f":"J74*$G$16","v":0},{"$f":"K74*$G$16","v":0},{"$f":"L74*$G$16","v":0},{"$f":"M74*$G$16","v":0}]
[null,null,null,null,"Medianería","m2",null,null,{"$f":"I83*$G$17","v":0},{"$f":"J83*$G$17","v":0},{"$f":"K83*$G$17","v":0},{"$f":"L83*$G$17","v":0},{"$f":"M83*$G$17","v":0}]
[null,null,null,null,"Huecos","m2",null,null,{"$f":"I89*$G$18","v":0},{"$f":"J89*$G$18","v":0},{"$f":"K89*$G$18","v":0},{"$f":"L89*$G$18","v":0},{"$f":"M89*$G$18","v":0}]
[]
[]
[null,null,null,"Datos a introducir en RN11","Valores del edificio de referencia Totales",null,null,null,{"$f":"SUM(I10:I18)","v":0},{"$f":"SUM(J10:J18)","v":0},{"$f":"SUM(K10:K18)","v":0},{"$f":"SUM(L10:L18)","v":0},{"$f":"SUM(M10:M18)","v":0}]
[]
[null,null,null,null,"Valores del edificio de referencia por m2",null,null,null,{"$f":"IF(OR('DG '!$F$20=\"\",'DG '!$F$20=0),0,I21/'DG '!$F$20)","v":0},{"$f":"IF(OR('DG '!$F$20=\"\",'DG '!$F$20=0),0,J21/'DG '!$F$20)","v":0},{"$f":"IF(OR('DG '!$F$20=\"\",'DG '!$F$20=0),0,K21/'DG '!$F$20)","v":0},{"$f":"IF(OR('DG '!$F$20=\"\",'DG '!$F$20=0),0,L21/'DG '!$F$20)","v":0},{"$f":"IF(OR('DG '!$F$20=\"\",'DG '!$F$20=0),0,M21/'DG '!$F$20)","v":0}]
[]
[]
[]
[null,null,null,"DATOS DE LOS IMPACTOS DE LOS MATERIALES"]
[null,null,null,"Introduce los datos de cada uno de los materiales, la definición de cada uno de ellos se encuentra en el criterio RN 11",null,null,null,null,"Materias primas","ADP","GWP","Residuos"]
[null,null,null,"ELEMENTO","MATERIAL",null,null,"Ud.","kg/Ud","MJ/Ud","kgCO2/Ud","kg/Ud","m3"]
[]
[null,null,null,"CUBIERTA","Solado baldosa cerámica",null,null,"m2"]
[null,null,null,null,"Capa niveladora",null,null,"m2"]
[null,null,null,null,"Capa separadora",null,null,"m2"]
[null,null,null,null,"Impermeabilizante",null,null,"m2"]
[null,null,null,null,"Capa separadora",null,null,"m2"]
[null,null,null,null,"Impermeabilizante",null,null,"m2"]
[null,null,null,null,"Capa separadora",null,null,"m2"]
[null,null,null,null,"Aislamiento (mismo espesor que edificio objeto)",null,null,"m2"]
[null,null,null,null,"Capa separadora",null,null,"m2"]
[null,null,null,null,"Formación de pendientes",null,null,"m2"]
[null,null,null,null,"Forjado",null,null,"m2"]
[null,null,null,null,"Falso techo",null,null,"m2"]
[null,null,null,null,"Pintura",null,null,"m2"]
[null,null,null,null,"TOTAL",null,null,null,{"$f":"SUM(I31:I43)","v":0},{"$f":"SUM(J31:J43)","v":0},{"$f":"SUM(K31:K43)","v":0},{"$f":"SUM(L31:L43)","v":0},{"$f":"SUM(M31:M43)","v":0}]
[]
[null,null,null,"CERRAMIENTOS EXTERIORES","Mortero monocapa",null,null,"m2"]
[null,null,null,null,"Ladrillo cerámico perforado",null,null,"m2"]
[null,null,null,null,"Mortero de cemento",null,null,"m2"]
[null,null,null,null,"Aislamiento (mismo espesor que edificio objeto)",null,null,"m2"]
[null,null,null,null,"Ladrillo hueco",null,null,"m2"]
[null,null,null,null,"Placa de cartón yeso",null,null,"m2"]
[null,null,null,null,"Pintura",null,null,"m2"]
[null,null,null,null,"TOTAL",null,null,null,{"$f":"SUM(I46:I52)","v":0},{"$f":"SUM(J46:J52)","v":0},{"$f":"SUM(K46:K52)","v":0},{"$f":"SUM(L46:L52)","v":0},{"$f":"SUM(M46:M52)","v":0}]
[]
[null,null,null,"FORJADOS INTERIORES","Baldosa cerámica",null,null,"m2"]
[null,null,null,null,"Recrecido de mortero ",null,null,"m2"]
[null,null,null,null,"Lámina anti-impacto",null,null,"m2"]
[null,null,null,null,"Forjado",null,null,"m2"]
[null,null,null,null,"Falso techo",null,null,"m2"]
[null,null,null,null,"Pintura",null,null,"m2"]
[null,null,null,null,"TOTAL",null,null,null,{"$f":"SUM(I55:I60)","v":0},{"$f":"SUM(J55:J60)","v":0},{"$f":"SUM(K55:K60)","v":0},{"$f":"SUM(L55:L60)","v":0},{"$f":"SUM(M55:M60)","v":0}]
[]
[null,null,null,"SUELOS","Baldosa cerámica",null,null,"m2"]
[null,null,null,null,"Recrecido de mortero ",null,null,"m2"]
[null,null,null,null,"Lámina anti-impacto",null,null,"m2"]
[null,null,null,null,"Aislamiento (mismo espesor que edificio objeto)",null,null,"m2"]
[null,null,null,null,"Forjado",null,null,"m2"]
[null,null,null,null,"TOTAL",null,null,null,{"$f":"SUM(I63:I67)","v":0},{"$f":"SUM(J63:J67)","v":0},{"$f":"SUM(K63:K67)","v":0},{"$f":"SUM(L63:L67)","v":0},{"$f":"SUM(M63:M67)","v":0}]
[]
[null,null,null,"PARTICIONES INTERIORES","Pintura",null,null,"m2"]
[null,null,null,null,"Tabique de placas de yso laminado con aislante acústico",null,null,"m2"]
[]
[null,null,null,null,"Pintura",null,null,"m2"]
[null,null,null,null,"TOTAL",null,null,null,{"$f":"SUM(I70:I73)","v":0},{"$f":"SUM(J70:J73)","v":0},{"$f":"SUM(K70:K73)","v":0},{"$f":"SUM(L70:L73)","v":0},{"$f":"SUM(M70:M73)","v":0}]
[]
[null,null,null,"MEDIANERÍA","Pintura",null,null,"m2"]
[null,null,null,null,"Placas de yeso laminado",null,null,"m2"]
[null,null,null,null,"Ladrillo perforado",null,null,"m2"]
[null,null,null,null,"Aislamiento (mismo espesor que edificio objeto)",null,null,"m2"]
[null,null,null,null,"Ladrillo perforado",null,null,"m2"]
[null,null,null,null,"Placa de cartón yeso",null,null,"m2"]
[null,null,null,null,"Pintura",null,null,"m2"]
[null,null,null,null,"TOTAL",null,null,null,{"$f":"SUM(I76:I82)","v":0},{"$f":"SUM(J76:J82)","v":0},{"$f":"SUM(K76:K82)","v":0},{"$f":"SUM(L76:L82)","v":0},{"$f":"SUM(M76:M82)","v":0}]
[]
[null,null,null,"HUECOS","Zona alfa y A",null,null,"m2"]
[null,null,null,null,"Zona B  y C",null,null,"m2"]
[null,null,null,null,"Zona D",null,null,"m2"]
[null,null,null,null,"Zona E",null,null,"m2"]
[null,null,null,null,"TOTAL",null,null,null,{"$f":"SUM(I85:I88)","v":0},{"$f":"SUM(J85:J88)","v":0},{"$f":"SUM(K85:K88)","v":0},{"$f":"SUM(L85:L88)","v":0},{"$f":"SUM(M85:M88)","v":0}]

{"sheet":"AI ","index":28,"n_rows":141,"n_cols":23,"rows_kept":141,"cut":false,"hidden":false,"merged":[[38,5,39,5],[30,4,30,5],[1,2,1,3],[1,4,1,5],[1,6,1,7],[14,5,15,5],[17,5,18,5],[20,6,20,7],[22,4,22,5],[22,6,22,7],[24,5,24,6],[26,5,26,6],[28,5,28,6],[73,14,73,21],[41,6,41,7],[43,4,43,5],[43,6,43,7],[45,5,45,6],[47,5,47,6],[49,4,49,5],[63,6,63,7],[65,4,65,5],[65,6,65,7],[67,5,67,6],[69,4,69,5],[61,5,61,6],[111,5,112,5],[77,4,77,5],[81,15,81,17],[85,4,85,5],[89,5,90,5],[92,5,93,5],[95,5,96,5],[98,4,98,5],[100,5,101,5],[103,5,104,5],[106,5,107,5],[109,4,109,5],[124,4,124,5],[130,6,130,9],[114,6,114,7],[116,4,116,5],[116,6,116,7],[118,5,118,6],[120,5,120,6],[122,5,122,6]]}
[]
[null,null,{"$f":"'Matriz VERDE-GBCe'!U36","v":"AI"},null,{"$f":"'Matriz VERDE-GBCe'!V36","v":"Ambiente Interior."}]
[]
[]
[null,null,null,null,{"$f":"'Matriz VERDE-GBCe'!V37","v":"AI 01"},{"$f":"VLOOKUP($E5,'Matriz VERDE-GBCe'!$V$7:$Y$60,2,FALSE)","v":"Limitación de las emisiones de COVs"},{"$f":"VLOOKUP($E5,'Matriz VERDE-GBCe'!$V$7:$Y$60,3,FALSE)","v":1.9961208986584777E-2},null,null,null,null,null,null,null,null,null,null,null,null,null,"SE ADJUNTA",null,"SÍ"]
[null,null,null,null,null,null,null,null,null,null,null,null,null,null,null,null,null,null,null,null,"NO SE ADJUNTA",null,"NO"]
[null,null,null,null,null,"¿Se ha realizado un test de concentración de TCOVs?",null,null,null,null,null,null,null,null,null,null,null,null,null,null,"NO APLICA"]
[null,null,null,null,null,null,null,null,null,null,null,null,null,null,null,null,null,null,null,null,null,null,"NO"]
[null,null,null,null,null,"Concentración resultante del test en TCOVs:",null,null,null,null,null,null,null,{"$f":"IF(I9=\"\",0,IF(I9>3000,0,IF(I9=0,1,(100-(I9/30))/100)))","v":0}]
[null,null,null,null,null,null,null,null,null,null,null,null,null,null,null,null,null,null,null,null,null,null,"NO"]
[null,null,null,null,null,"Concentración resultante del test en formaldehidos:",null,null,null,null,null,null,null,{"$f":"IF(I11=\"\",0,IF(I11>120,0,IF(I11=0,1,(100-(I11/1.2))/100)))","v":0}]
[null,null,null,null,null,null,null,null,null,null,null,null,null,null,null,null,null,null,null,null,null,null,"NO"]
[null,null,null,null,null,"¿Se cumple con las condiciones mínimas requeridas?",null,null,{"$f":"IF(OR(I9=\"\",I11=\"\",I9>3000,I11>120),\"No\",\"Sí\")","v":"No"},null,null,null,null,{"$f":"IF(I13=\"no\",0,((N9+N11)/2)*G5)","v":0}]
[null,null,null,null,null,null,null,null,null,null,null,null,null,null,null,null,null,null,null,null,null,null,"NO"]
[null,null,null,null,null,"Todos los productos pertenecientes a las familias de pinturas y barnices, adhesivos y sellantes y derivados de la madera tienen emisiones nulas.",null,null,null,null,null,null,null,{"$f":"IF(I15=\"Sí\",0.6*G$5,0)","v":0}]
[]
[null,null,null,null,null,null,null,null,null,null,null,null,null,null,null,null,null,null,null,null,null,null,"NO"]
[null,null,null,null,null,"Todos los productos pertenecientes a las familias de pinturas y barnices, adhesivos y sellantes y derivados de la madera tienen emisiones dentro de los rango indicados en el criterio.",null,null,null,null,null,null,null,{"$f":"IF(I18=\"Sí\",0.4*G$5,0)","v":0}]
[]
[]
[null,null,null,null,"NOTAS"]
[]
[null,null,null,null,"DOCUMENTOS JUSTIFICATIVOS"]
[]
[null,null,null,null,"AI 01.01","Resultados y condiciones de las pruebas de nivel de COV en el edificio"]
[]
[null,null,null,null,"AI 01.02","Documentación técnica de las emisiones de COV de las pinturas, barnices, colas, etc.; los certificados de conformidad de los productos de derivados de madera de clase E1 utilizados en el edificio, y certificados de conformidad o documentación técnica de adhesivos y sellantes con clasificación EMICODE EC1PLUS y EC1 y GREENGUARD  Gold y Emissions dans l'air interieur A+"]
[]
[null,null,null,null,"AI 01.03","Mediciones del proyecto marcando todos los materiales de acabado interior susceptibles de emitir COV"]
[]
[null,null,null,null,"VALORACIÓN DEL CRITERIO",null,{"$f":"MAX($N13,$N15+$N18)","v":0}]
[]
[]
[]
[null,null,null,null,{"$f":"'Matriz VERDE-GBCe'!V38","v":"AI 02"},{"$f":"VLOOKUP($E35,'Matriz VERDE-GBCe'!$V$7:$AH$55,2,FALSE)","v":"Control de la calidad del aire"},{"$f":"VLOOKUP($E35,'Matriz VERDE-GBCe'!$V$7:$AH$55,3,FALSE)","v":1.9530197726415604E-2},null,null,null,null,null,null,{"$f":"EA!O5","v":""},{"$f":"EA!P5","v":""}]
[]
[null,null,null,null,null,"Ir a la hoja de cálculo del criterio"]
[]
[null,null,null,null,null,"Porcentaje de superficie de los espacios analizados que cumplen con ventilación natural eficiente",{"$f":"'AI 02'!U5","v":0}]
[]
[]
[null,null,null,null,"NOTAS"]
[]
[null,null,null,null,"DOCUMENTOS JUSTIFICATIVOS"]
[null,null,null,null,null,null,null,null,null,null,null,null,null,0.4]
[null,null,null,null,"AI 02.01","Tabla justificativa del cumplimiento de las medidas de ventilación natural, pestaña de ayuda CAI 02"]
[null,null,null,null,null,null,null,null,null,null,null,null,null,0.4]
[null,null,null,null,"AI 02.02","Plano donde figuren los recorridos evaluados, la superficie de huecos, la superficie útil y la altura libre, en el caso de ventilación unilateral, indicación sobre el plano anterior de las distancias entre entrada y salida de aire.\n"]
[]
[null,null,null,null,"VALORACIÓN DEL CRITERIO",null,{"$f":"IF($N35=\"rh\",IF($G39<0.6,0,IF($G39>0.9,$G35,(($G39-0.6)/0.3)*$G35)),IF($G39<0.7,0,(($G39-0.7)/0.3)*$G35))","v":0}]
[]
[]
[]
[null,null,null,null,{"$f":"'Matriz VERDE-GBCe'!V39","v":"AI 03"},{"$f":"VLOOKUP($E54,'Matriz VERDE-GBCe'!$V$7:$Y$60,2,FALSE)","v":"Iluminación natural."},{"$f":"VLOOKUP($E54,'Matriz VERDE-GBCe'!$V$7:$Y$60,3,FALSE)","v":1.9530197726415604E-2}]
[]
[null,null,null,null,null,"Ir a la hoja de cálculo del criterio"]
[]
[null,null,null,null,null,"¿Se ha empleado un sistema de cálculo alternativo al propuesto en GEA?",null,null,null,null,null,null,null,null,"RH"]
[]
[null,null,null,null,null,"Porcentaje de viviendas que alcanzan el DF requerido",{"$f":"'AI 03'!S1170","v":""},null,null,null,null,null,null,{"$f":"IF(OR(G60=\"\",$G60<0.7),0,(($G60-0.7)/0.3)*$G54)","v":0},{"$f":"IF(OR(G60=\"\",$G60<0.6),0,IF($G60>0.9,$G54,(($G60-0.6)/0.3)*$G54))","v":0}]
[]
[null,null,null,null,null,"En caso de sistema de cálculo alternativo, porcentaje de viviendas que alcanzan el DF requerido",null,null,null,null,null,null,null,{"$f":"IF(OR(I62=\"\",$I62<0.7),0,(($I62-0.7)/0.3)*$G54)","v":0},{"$f":"IF($I62<0.6,0,IF($I62>0.9,$G54,(($I62-0.6)/0.3)*$G54))","v":0}]
[]
[null,null,null,null,"NOTAS"]
[]
[null,null,null,null,"DOCUMENTOS JUSTIFICATIVOS"]
[]
[null,null,null,null,"AI 03.01","Memoria de cálculo para obtener el factor de luz diurna (DF)."]
[]
[null,null,null,null,"VALORACIÓN DEL CRITERIO",null,{"$f":"IF(N35=\"RH\",IF(I58=\"Sí\",O62,O60),IF(I58=\"Sí\",N62,N60))","v":0}]
[]
[]
[]
[null,null,null,null,{"$f":"'Matriz VERDE-GBCe'!V41","v":"AI 05"},{"$f":"VLOOKUP($E74,'Matriz VERDE-GBCe'!$V$7:$AH$55,2,FALSE)","v":"Protección frente al ruido."},{"$f":"VLOOKUP($E74,'Matriz VERDE-GBCe'!$V$7:$AH$55,3,FALSE)","v":1.9530197726415604E-2}]
[]
[null,null,null,null,null,"¿El edificio está exento de cumplir con el CTE HR?"]
[null,null,null,null,null,null,null,null,null,null,null,null,null,null,null,null,null,null,null,null,null,null,"NO"]
[null,null,null,null,"Protección al ruido procedentre del extrerior"]
[]
[null,null,null,null,null,"Ruido exterior o índice de ruido día (Ld) en dB",null,null,null,null,null,null,null,null,{"$f":"IF(I76=\"\",\"\",IF(I84=\"\",0,IF(I82=\"\",0,IF(I76=\"Sí\",IF(I84<I82,0,0.5*G74),IF(I84<(I82+4),0,0.5*G74)))))","v":""}]
[]
[null,null,null,null,null,"Aislamiento acústico exigido por normativa (dB)",null,null,null,null,null,null,null,null,{"$f":"IF(I76=\"\",\"\",IF(I84=\"\",0,IF(I82=\"\",0,IF(I76=\"Sí\",IF(I84<I82,0,G74),IF(I84<(I82+4),0,G74)))))","v":""},"Vivienda unifamiliar y urbanización"]
[]
[null,null,null,null,null,"Aislamiento acústico definido en proyecto"]
[null,null,null,null,null,null,null,null,null,null,null,null,null,null,null,null,null,null,null,null,null,null,"NO"]
[null,null,null,null,"Protección al ruido generado en recintos de instalaciones"]
[]
[null,null,null,null,null,"¿Hay viviendas colindantes a recintos de instalaciones?",null,null,null,null,null,null,null,null,{"$f":"IF(OR(I76=\"\",I88=\"\"),0,IF(I88=\"no\",0.1*G74,IF(I76=\"sí\",IF(AND(I90>=N90,I93>=N93,I96<=N96),0.1*G74,0),IF(AND(I90>=(N90+4),I93>=(N93+4),I96<=(N96-4)),0.1*G74,0))))","v":0}]
[]
[null,null,null,null,null,"Aislamiento acústico al ruido aéreo definido en proyecto en separaciones verticales entre recintos de instalaciones y viviendas  (DnT,A)",null,null,null,null,null,null,null,55]
[]
[]
[null,null,null,null,null,"Aislamiento acústico al ruido aéreo definido en proyecto en separaciones horizontales entre recintos de instalaciones y viviendas  (DnT,A)",null,null,null,null,null,null,null,55]
[]
[]
[null,null,null,null,null,"Aislamiento acústico al ruido de impacto definido en proyecto en separaciones horizontales y verticales entre recintos de instalaciones y viviendas  (LnT,W)",null,null,null,null,null,null,null,60]
[]
[null,null,null,null,null,null,null,null,null,null,null,null,null,null,null,null,null,null,null,null,null,null,"NO"]
[null,null,null,null,"Protección al ruido generado en recintos de distinta unidad funcional de uso"]
[]
[null,null,null,null,null,"Aislamiento acústico al ruido aéreo definido en proyecto en separaciones verticales entre zonas recintos de distinta unidad funcional de uso y viviendas  (DnT,A)",null,null,null,null,null,null,null,50,{"$f":"IF(I76=\"\",0,IF(I76=\"sí\",IF(AND(I101>=N101,I104>=N104,I107<=N107),0.2*G74,0),IF(AND(I101>=(N101+4),I104>=(N104+4),I107<=(N107-4)),0.2*G74,0)))","v":0}]
[]
[]
[null,null,null,null,null,"Aislamiento acústico al ruido aéreo definido en proyecto en separaciones horizontales entre zonas recintos de distinta unidad funcional de us y viviendas  (DnT,A)",null,null,null,null,null,null,null,50]
[]
[]
[null,null,null,null,null,"Aislamiento acústico al ruido de impacto definido en proyecto en separaciones horizontales y verticales entre zonas recintos de distinta unidad funcional de us y viviendas  (LnT,W)",null,null,null,null,null,null,null,65]
[]
[null,null,null,null,null,null,null,null,null,null,null,null,null,null,null,null,null,null,null,null,null,null,"NO"]
[null,null,null,null,"Comprobación del cumplimiento en obra construida"]
[]
[null,null,null,null,null,"Se ha realizado una comprobación del cumplimiento del criterio en obra construida.",null,null,null,null,null,null,null,null,{"$f":"IF(I112=\"sí\",1,0.9)","v":0.9}]
[]
[]
[null,null,null,null,"NOTAS"]
[null,null,null,null,null,null,null,null,null,null,null,null,null,0.4]
[null,null,null,null,"DOCUMENTOS JUSTIFICATIVOS"]
[null,null,null,null,null,null,null,null,null,null,null,null,null,0.4]
[null,null,null,null,"AI 05.01","Documento incluido en el proyecto de cumplimiento de las exigencia del CTE DB-HR, en el que aparezcan las caracteristicas acústicas de los elementos constructivos así como los valores estimados del D2m,nT,Atr para los diferentes grupos acústicamente equivalentes de recintos protegidos."]
[null,null,null,null,null,null,null,null,null,null,null,null,null,0.4]
[null,null,null,null,"AI 05.02","Memoria justificativa del cumplimiento de los valores establecidos por el criterio."]
[null,null,null,null,null,null,null,null,null,null,null,null,null,0.4]
[null,null,null,null,"AI 05.03","Comprobación in situ de las condiciones acústicas con la obra terminada."]
[]
[null,null,null,null,"VALORACIÓN DEL CRITERIO",null,{"$f":"IF(OR(O125=\"\",0),0,O125)","v":0},null,null,null,null,null,null,null,{"$f":"IF(OR('DG '!F27=\"Unifamiliar\",'DG '!F27=\"Urbanizaciones\"),(O82*O112),IF(I76=\"\",0,((O80+O88+O101)*O112)))","v":0}]
[]
[]
[]
[]
[]
[null,null,null,null,null,null,"VALORACIÓN ÁREA"]
[]
[null,null,null,null,null,null,"SUBTOTAL",null,{"$f":"G31+G50+G70+G125","v":0}]
[]
[null,null,null,null,null,null,"SOBRE",null,{"$f":"VLOOKUP(C$2,'Matriz VERDE-GBCe'!$U$4:$AH$55,4,FALSE)","v":7.8551802165831588E-2}]
[]
[]
[]
[]
[]
[null,null,null,null,null,null,"SÍ",null,"x"]

{"sheet":"AI 02","index":29,"n_rows":253,"n_cols":26,"rows_kept":253,"cut":false,"hidden":false,"merged":[[254,4,254,5],[252,6,252,7],[252,14,252,18],[1,3,1,21],[2,3,2,21],[252,4,252,5],[4,4,4,5],[4,6,4,7],[4,14,4,18]]}
[]
[null,null,null,"Ventilación natural"]
[null,null,null,"VERDE Edificios 2020 residencial Privado"]
[]
[null,null,null,null,"Superficie total",null,null,null,{"$f":"I253","v":0},null,null,null,null,null,"Porcentaje de cumplimiento",null,null,null,null,null,{"$f":"U253","v":0}]
[]
[]
[null,null,null,null,"Identificación de espacios",null,"Tipo de ventilación",null,"Superficie útil (m2)",null,"Altura libre (m)",null,"Superficie de apertura (m2)",null,"Recorrido (m)",null,"Profundidad (m)",null,"Cumple",null,"% de superficie (m2)"]
[]
[null,null,null,null,"Número de Viviendas tipo 1"]
[]
[null,null,null,1,null,null,null,null,null,null,null,null,null,null,null,null,null,null,{"$f":"IF(G12=\"\",\"\",IF(I12=\"\",\"\",IF(AND(O12=\"\",Q12=\"\"),\"\",IF((M12<(I12*0.05)),\"No\",IF(AND(G12=$Y$12,O12>5*K12),\"No\",IF(AND(G12=$Y$13,Q12>2*K12),\"No\",\"Sí\"))))))","v":""},null,{"$f":"IFERROR(IF(S12=\"Sí\",(I12/I$253),0),\"\")","v":0},null,null,null,"Cruzada"]
[null,null,null,null,null,null,null,null,null,null,null,null,null,null,null,null,null,null,null,null,null,null,null,null,"Unilateral"]
[null,null,null,2,null,null,null,null,null,null,null,null,null,null,null,null,null,null,{"$f":"IF(G14=\"\",\"\",IF(I14=\"\",\"\",IF(AND(O14=\"\",Q14=\"\"),\"\",IF((M14<(I14*0.05)),\"No\",IF(AND(G14=$Y$12,O14>5*K14),\"No\",IF(AND(G14=$Y$13,Q14>2*K14),\"No\",\"Sí\"))))))","v":""},null,{"$f":"IFERROR(IF(S14=\"Sí\",(I14/I$253),0),\"\")","v":0}]
[]
[null,null,null,3,null,null,null,null,null,null,null,null,null,null,null,null,null,null,"",null,{"$f":"IFERROR(IF(S16=\"Sí\",(I16/I$253),0),\"\")","v":0}]
[]
[null,null,null,4,null,null,null,null,null,null,null,null,null,null,null,null,null,null,"",null,{"$f":"IFERROR(IF(S18=\"Sí\",(I18/I$253),0),\"\")","v":0}]
[]
[null,null,null,5,null,null,null,null,null,null,null,null,null,null,null,null,null,null,"",null,{"$f":"IFERROR(IF(S20=\"Sí\",(I20/I$253),0),\"\")","v":0},null,null,null,"Superficies","Porcentajes"]
[]
[null,null,null,6,null,null,null,null,null,null,null,null,null,null,null,null,null,null,"",null,{"$f":"IFERROR(IF(S22=\"Sí\",(I22/I$253),0),\"\")","v":0}]
[]
[null,null,null,7,null,null,null,null,null,null,null,null,null,null,null,null,null,null,"",null,{"$f":"IFERROR(IF(S24=\"Sí\",(I24/I$253),0),\"\")","v":0}]
[]
[null,null,null,8,null,null,null,null,null,null,null,null,null,null,null,null,null,null,"",null,{"$f":"IFERROR(IF(S26=\"Sí\",(I26/I$253),0),\"\")","v":0},null,null,null,{"$f":"I10*(SUM(I12:I30))","v":0},{"$f":"I10*(SUM(U12:U30))","v":0}]
[]
[null,null,null,9,null,null,null,null,null,null,null,null,null,null,null,null,null,null,"",null,{"$f":"IFERROR(IF(S28=\"Sí\",(I28/I$253),0),\"\")","v":0}]
[]
[null,null,null,10,null,null,null,null,null,null,null,null,null,null,null,null,null,null,"",null,{"$f":"IFERROR(IF(S30=\"Sí\",(I30/I$253),0),\"\")","v":0}]
[]
[null,null,null,null,"Número de Viviendas tipo 2"]
[]
[null,null,null,11,null,null,null,null,null,null,null,null,null,null,null,null,null,null,{"$f":"IF(G34=\"\",\"\",IF(I34=\"\",\"\",IF(AND(O34=\"\",Q34=\"\"),\"\",IF((M34<(I34*0.05)),\"No\",IF(AND(G34=$Y$12,O34>5*K34),\"No\",IF(AND(G34=$Y$13,Q34>2*K34),\"No\",\"Sí\"))))))","v":""},null,{"$f":"IFERROR(IF(S34=\"Sí\",(I34/I$253),0),\"\")","v":0}]
[]
[null,null,null,12,null,null,null,null,null,null,null,null,null,null,null,null,null,null,{"$f":"IF(G36=\"\",\"\",IF(I36=\"\",\"\",IF(AND(O36=\"\",Q36=\"\"),\"\",IF((M36<(I36*0.05)),\"No\",IF(AND(G36=$Y$12,O36>5*K36),\"No\",IF(AND(G36=$Y$13,Q36>2*K36),\"No\",\"Sí\"))))))","v":""},null,{"$f":"IFERROR(IF(S36=\"Sí\",(I36/I$253),0),\"\")","v":0}]
[]
[null,null,null,13,null,null,null,null,null,null,null,null,null,null,null,null,null,null,"",null,{"$f":"IFERROR(IF(S38=\"Sí\",(I38/I$253),0),\"\")","v":0}]
[]
[null,null,null,14,null,null,null,null,null,null,null,null,null,null,null,null,null,null,"",null,{"$f":"IFERROR(IF(S40=\"Sí\",(I40/I$253),0),\"\")","v":0}]
[]
[null,null,null,15,null,null,null,null,null,null,null,null,null,null,null,null,null,null,"",null,{"$f":"IFERROR(IF(S42=\"Sí\",(I42/I$253),0),\"\")","v":0}]
[]
[null,null,null,16,null,null,null,null,null,null,null,null,null,null,null,null,null,null,"",null,{"$f":"IFERROR(IF(S44=\"Sí\",(I44/I$253),0),\"\")","v":0}]
[]
[null,null,null,17,null,null,null,null,null,null,null,null,null,null,null,null,null,null,"",null,{"$f":"IFERROR(IF(S46=\"Sí\",(I46/I$253),0),\"\")","v":0}]
[]
[null,null,null,18,null,null,null,null,null,null,null,null,null,null,null,null,null,null,"",null,{"$f":"IFERROR(IF(S48=\"Sí\",(I48/I$253),0),\"\")","v":0},null,null,null,{"$f":"I32*(SUM(I34:I52))","v":0},{"$f":"I32*(SUM(U34:U52))","v":0}]
[]
[null,null,null,19,null,null,null,null,null,null,null,null,null,null,null,null,null,null,"",null,{"$f":"IFERROR(IF(S50=\"Sí\",(I50/I$253),0),\"\")","v":0}]
[]
[null,null,null,20,null,null,null,null,null,null,null,null,null,null,null,null,null,null,"",null,{"$f":"IFERROR(IF(S52=\"Sí\",(I52/I$253),0),\"\")","v":0}]
[]
[null,null,null,null,"Número de Viviendas tipo 3"]
[]
[null,null,null,21,null,null,null,null,null,null,null,null,null,null,null,null,null,null,{"$f":"IF(G56=\"\",\"\",IF(I56=\"\",\"\",IF(AND(O56=\"\",Q56=\"\"),\"\",IF((M56<(I56*0.05)),\"No\",IF(AND(G56=$Y$12,O56>5*K56),\"No\",IF(AND(G56=$Y$13,Q56>2*K56),\"No\",\"Sí\"))))))","v":""},null,{"$f":"IFERROR(IF(S56=\"Sí\",(I56/I$253),0),\"\")","v":0}]
[]
[null,null,null,22,null,null,null,null,null,null,null,null,null,null,null,null,null,null,{"$f":"IF(G58=\"\",\"\",IF(I58=\"\",\"\",IF(AND(O58=\"\",Q58=\"\"),\"\",IF((M58<(I58*0.05)),\"No\",IF(AND(G58=$Y$12,O58>5*K58),\"No\",IF(AND(G58=$Y$13,Q58>2*K58),\"No\",\"Sí\"))))))","v":""},null,{"$f":"IFERROR(IF(S58=\"Sí\",(I58/I$253),0),\"\")","v":0}]
[]
[null,null,null,23,null,null,null,null,null,null,null,null,null,null,null,null,null,null,{"$f":"IF(G60=\"\",\"\",IF(I60=\"\",\"\",IF(AND(O60=\"\",Q60=\"\"),\"\",IF((M60<(I60*0.05)),\"No\",IF(AND(G60=$Y$12,O60>5*K60),\"No\",IF(AND(G60=$Y$13,Q60>2*K60),\"No\",\"Sí\"))))))","v":""},null,{"$f":"IFERROR(IF(S60=\"Sí\",(I60/I$253),0),\"\")","v":0}]
[]
[null,null,null,24,null,null,null,null,null,null,null,null,null,null,null,null,null,null,{"$f":"IF(G62=\"\",\"\",IF(I62=\"\",\"\",IF(AND(O62=\"\",Q62=\"\"),\"\",IF((M62<(I62*0.05)),\"No\",IF(AND(G62=$Y$12,O62>5*K62),\"No\",IF(AND(G62=$Y$13,Q62>2*K62),\"No\",\"Sí\"))))))","v":""},null,{"$f":"IFERROR(IF(S62=\"Sí\",(I62/I$253),0),\"\")","v":0}]
[]
[null,null,null,25,null,null,null,null,null,null,null,null,null,null,null,null,null,null,{"$f":"IF(G64=\"\",\"\",IF(I64=\"\",\"\",IF(AND(O64=\"\",Q64=\"\"),\"\",IF((M64<(I64*0.05)),\"No\",IF(AND(G64=$Y$12,O64>5*K64),\"No\",IF(AND(G64=$Y$13,Q64>2*K64),\"No\",\"Sí\"))))))","v":""},null,{"$f":"IFERROR(IF(S64=\"Sí\",(I64/I$253),0),\"\")","v":0}]
[]
[null,null,null,26,null,null,null,null,null,null,null,null,null,null,null,null,null,null,{"$f":"IF(G66=\"\",\"\",IF(I66=\"\",\"\",IF(AND(O66=\"\",Q66=\"\"),\"\",IF((M66<(I66*0.05)),\"No\",IF(AND(G66=$Y$12,O66>5*K66),\"No\",IF(AND(G66=$Y$13,Q66>2*K66),\"No\",\"Sí\"))))))","v":""},null,{"$f":"IFERROR(IF(S66=\"Sí\",(I66/I$253),0),\"\")","v":0}]
[]
[null,null,null,27,null,null,null,null,null,null,null,null,null,null,null,null,null,null,{"$f":"IF(G68=\"\",\"\",IF(I68=\"\",\"\",IF(AND(O68=\"\",Q68=\"\"),\"\",IF((M68<(I68*0.05)),\"No\",IF(AND(G68=$Y$12,O68>5*K68),\"No\",IF(AND(G68=$Y$13,Q68>2*K68),\"No\",\"Sí\"))))))","v":""},null,{"$f":"IFERROR(IF(S68=\"Sí\",(I68/I$253),0),\"\")","v":0}]
[]
[null,null,null,28,null,null,null,null,null,null,null,null,null,null,null,null,null,null,{"$f":"IF(G70=\"\",\"\",IF(I70=\"\",\"\",IF(AND(O70=\"\",Q70=\"\"),\"\",IF((M70<(I70*0.05)),\"No\",IF(AND(G70=$Y$12,O70>5*K70),\"No\",IF(AND(G70=$Y$13,Q70>2*K70),\"No\",\"Sí\"))))))","v":""},null,{"$f":"IFERROR(IF(S70=\"Sí\",(I70/I$253),0),\"\")","v":0},null,null,null,{"$f":"I54*(SUM(I56:I74))","v":0},{"$f":"I54*(SUM(U56:U74))","v":0}]
[]
[null,null,null,29,null,null,null,null,null,null,null,null,null,null,null,null,null,null,{"$f":"IF(G72=\"\",\"\",IF(I72=\"\",\"\",IF(AND(O72=\"\",Q72=\"\"),\"\",IF((M72<(I72*0.05)),\"No\",IF(AND(G72=$Y$12,O72>5*K72),\"No\",IF(AND(G72=$Y$13,Q72>2*K72),\"No\",\"Sí\"))))))","v":""},null,{"$f":"IFERROR(IF(S72=\"Sí\",(I72/I$253),0),\"\")","v":0}]
[]
[null,null,null,30,null,null,null,null,null,null,null,null,null,null,null,null,null,null,{"$f":"IF(G74=\"\",\"\",IF(I74=\"\",\"\",IF(AND(O74=\"\",Q74=\"\"),\"\",IF((M74<(I74*0.05)),\"No\",IF(AND(G74=$Y$12,O74>5*K74),\"No\",IF(AND(G74=$Y$13,Q74>2*K74),\"No\",\"Sí\"))))))","v":""},null,{"$f":"IFERROR(IF(S74=\"Sí\",(I74/I$253),0),\"\")","v":0}]
[]
[null,null,null,null,"Número de Viviendas tipo 4"]
[]
[null,null,null,31,null,null,null,null,null,null,null,null,null,null,null,null,null,null,{"$f":"IF(G78=\"\",\"\",IF(I78=\"\",\"\",IF(AND(O78=\"\",Q78=\"\"),\"\",IF((M78<(I78*0.05)),\"No\",IF(AND(G78=$Y$12,O78>5*K78),\"No\",IF(AND(G78=$Y$13,Q78>2*K78),\"No\",\"Sí\"))))))","v":""},null,{"$f":"IFERROR(IF(S78=\"Sí\",(I78/I$253),0),\"\")","v":0}]
[]
[null,null,null,32,null,null,null,null,null,null,null,null,null,null,null,null,null,null,{"$f":"IF(G80=\"\",\"\",IF(I80=\"\",\"\",IF(AND(O80=\"\",Q80=\"\"),\"\",IF((M80<(I80*0.05)),\"No\",IF(AND(G80=$Y$12,O80>5*K80),\"No\",IF(AND(G80=$Y$13,Q80>2*K80),\"No\",\"Sí\"))))))","v":""},null,{"$f":"IFERROR(IF(S80=\"Sí\",(I80/I$253),0),\"\")","v":0}]
[]
[null,null,null,33,null,null,null,null,null,null,null,null,null,null,null,null,null,null,{"$f":"IF(G82=\"\",\"\",IF(I82=\"\",\"\",IF(AND(O82=\"\",Q82=\"\"),\"\",IF((M82<(I82*0.05)),\"No\",IF(AND(G82=$Y$12,O82>5*K82),\"No\",IF(AND(G82=$Y$13,Q82>2*K82),\"No\",\"Sí\"))))))","v":""},null,{"$f":"IFERROR(IF(S82=\"Sí\",(I82/I$253),0),\"\")","v":0}]
[]
[null,null,null,34,null,null,null,null,null,null,null,null,null,null,null,null,null,null,{"$f":"IF(G84=\"\",\"\",IF(I84=\"\",\"\",IF(AND(O84=\"\",Q84=\"\"),\"\",IF((M84<(I84*0.05)),\"No\",IF(AND(G84=$Y$12,O84>5*K84),\"No\",IF(AND(G84=$Y$13,Q84>2*K84),\"No\",\"Sí\"))))))","v":""},null,{"$f":"IFERROR(IF(S84=\"Sí\",(I84/I$253),0),\"\")","v":0}]
[]
[null,null,null,35,null,null,null,null,null,null,null,null,null,null,null,null,null,null,{"$f":"IF(G86=\"\",\"\",IF(I86=\"\",\"\",IF(AND(O86=\"\",Q86=\"\"),\"\",IF((M86<(I86*0.05)),\"No\",IF(AND(G86=$Y$12,O86>5*K86),\"No\",IF(AND(G86=$Y$13,Q86>2*K86),\"No\",\"Sí\"))))))","v":""},null,{"$f":"IFERROR(IF(S86=\"Sí\",(I86/I$253),0),\"\")","v":0}]
[]
[null,null,null,36,null,null,null,null,null,null,null,null,null,null,null,null,null,null,{"$f":"IF(G88=\"\",\"\",IF(I88=\"\",\"\",IF(AND(O88=\"\",Q88=\"\"),\"\",IF((M88<(I88*0.05)),\"No\",IF(AND(G88=$Y$12,O88>5*K88),\"No\",IF(AND(G88=$Y$13,Q88>2*K88),\"No\",\"Sí\"))))))","v":""},null,{"$f":"IFERROR(IF(S88=\"Sí\",(I88/I$253),0),\"\")","v":0}]
[]
[null,null,null,37,null,null,null,null,null,null,null,null,null,null,null,null,null,null,{"$f":"IF(G90=\"\",\"\",IF(I90=\"\",\"\",IF(AND(O90=\"\",Q90=\"\"),\"\",IF((M90<(I90*0.05)),\"No\",IF(AND(G90=$Y$12,O90>5*K90),\"No\",IF(AND(G90=$Y$13,Q90>2*K90),\"No\",\"Sí\"))))))","v":""},null,{"$f":"IFERROR(IF(S90=\"Sí\",(I90/I$253),0),\"\")","v":0}]
[]
[null,null,null,38,null,null,null,null,null,null,null,null,null,null,null,null,null,null,{"$f":"IF(G92=\"\",\"\",IF(I92=\"\",\"\",IF(AND(O92=\"\",Q92=\"\"),\"\",IF((M92<(I92*0.05)),\"No\",IF(AND(G92=$Y$12,O92>5*K92),\"No\",IF(AND(G92=$Y$13,Q92>2*K92),\"No\",\"Sí\"))))))","v":""},null,{"$f":"IFERROR(IF(S92=\"Sí\",(I92/I$253),0),\"\")","v":0},null,null,null,{"$f":"I76*(SUM(I78:I96))","v":0},{"$f":"I76*(SUM(U78:U96))","v":0}]
[]
[null,null,null,39,null,null,null,null,null,null,null,null,null,null,null,null,null,null,{"$f":"IF(G94=\"\",\"\",IF(I94=\"\",\"\",IF(AND(O94=\"\",Q94=\"\"),\"\",IF((M94<(I94*0.05)),\"No\",IF(AND(G94=$Y$12,O94>5*K94),\"No\",IF(AND(G94=$Y$13,Q94>2*K94),\"No\",\"Sí\"))))))","v":""},null,{"$f":"IFERROR(IF(S94=\"Sí\",(I94/I$253),0),\"\")","v":0}]
[]
[null,null,null,40,null,null,null,null,null,null,null,null,null,null,null,null,null,null,{"$f":"IF(G96=\"\",\"\",IF(I96=\"\",\"\",IF(AND(O96=\"\",Q96=\"\"),\"\",IF((M96<(I96*0.05)),\"No\",IF(AND(G96=$Y$12,O96>5*K96),\"No\",IF(AND(G96=$Y$13,Q96>2*K96),\"No\",\"Sí\"))))))","v":""},null,{"$f":"IFERROR(IF(S96=\"Sí\",(I96/I$253),0),\"\")","v":0}]
[]
[null,null,null,null,"Número de Viviendas tipo 5"]
[]
[null,null,null,41,null,null,null,null,null,null,null,null,null,null,null,null,null,null,{"$f":"IF(G100=\"\",\"\",IF(I100=\"\",\"\",IF(AND(O100=\"\",Q100=\"\"),\"\",IF((M100<(I100*0.05)),\"No\",IF(AND(G100=$Y$12,O100>5*K100),\"No\",IF(AND(G100=$Y$13,Q100>2*K100),\"No\",\"Sí\"))))))","v":""},null,{"$f":"IFERROR(IF(S100=\"Sí\",(I100/I$253),0),\"\")","v":0}]
[]
[null,null,null,42,null,null,null,null,null,null,null,null,null,null,null,null,null,null,{"$f":"IF(G102=\"\",\"\",IF(I102=\"\",\"\",IF(AND(O102=\"\",Q102=\"\"),\"\",IF((M102<(I102*0.05)),\"No\",IF(AND(G102=$Y$12,O102>5*K102),\"No\",IF(AND(G102=$Y$13,Q102>2*K102),\"No\",\"Sí\"))))))","v":""},null,{"$f":"IFERROR(IF(S102=\"Sí\",(I102/I$253),0),\"\")","v":0}]
[]
[null,null,null,43,null,null,null,null,null,null,null,null,null,null,null,null,null,null,{"$f":"IF(G104=\"\",\"\",IF(I104=\"\",\"\",IF(AND(O104=\"\",Q104=\"\"),\"\",IF((M104<(I104*0.05)),\"No\",IF(AND(G104=$Y$12,O104>5*K104),\"No\",IF(AND(G104=$Y$13,Q104>2*K104),\"No\",\"Sí\"))))))","v":""},null,{"$f":"IFERROR(IF(S104=\"Sí\",(I104/I$253),0),\"\")","v":0}]
[]
[null,null,null,44,null,null,null,null,null,null,null,null,null,null,null,null,null,null,{"$f":"IF(G106=\"\",\"\",IF(I106=\"\",\"\",IF(AND(O106=\"\",Q106=\"\"),\"\",IF((M106<(I106*0.05)),\"No\",IF(AND(G106=$Y$12,O106>5*K106),\"No\",IF(AND(G106=$Y$13,Q106>2*K106),\"No\",\"Sí\"))))))","v":""},null,{"$f":"IFERROR(IF(S106=\"Sí\",(I106/I$253),0),\"\")","v":0}]
[]
[null,null,null,45,null,null,null,null,null,null,null,null,null,null,null,null,null,null,{"$f":"IF(G108=\"\",\"\",IF(I108=\"\",\"\",IF(AND(O108=\"\",Q108=\"\"),\"\",IF((M108<(I108*0.05)),\"No\",IF(AND(G108=$Y$12,O108>5*K108),\"No\",IF(AND(G108=$Y$13,Q108>2*K108),\"No\",\"Sí\"))))))","v":""},null,{"$f":"IFERROR(IF(S108=\"Sí\",(I108/I$253),0),\"\")","v":0}]
[]
[null,null,null,46,null,null,null,null,null,null,null,null,null,null,null,null,null,null,{"$f":"IF(G110=\"\",\"\",IF(I110=\"\",\"\",IF(AND(O110=\"\",Q110=\"\"),\"\",IF((M110<(I110*0.05)),\"No\",IF(AND(G110=$Y$12,O110>5*K110),\"No\",IF(AND(G110=$Y$13,Q110>2*K110),\"No\",\"Sí\"))))))","v":""},null,{"$f":"IFERROR(IF(S110=\"Sí\",(I110/I$253),0),\"\")","v":0}]
[]
[null,null,null,47,null,null,null,null,null,null,null,null,null,null,null,null,null,null,{"$f":"IF(G112=\"\",\"\",IF(I112=\"\",\"\",IF(AND(O112=\"\",Q112=\"\"),\"\",IF((M112<(I112*0.05)),\"No\",IF(AND(G112=$Y$12,O112>5*K112),\"No\",IF(AND(G112=$Y$13,Q112>2*K112),\"No\",\"Sí\"))))))","v":""},null,{"$f":"IFERROR(IF(S112=\"Sí\",(I112/I$253),0),\"\")","v":0}]
[]
[null,null,null,48,null,null,null,null,null,null,null,null,null,null,null,null,null,null,{"$f":"IF(G114=\"\",\"\",IF(I114=\"\",\"\",IF(AND(O114=\"\",Q114=\"\"),\"\",IF((M114<(I114*0.05)),\"No\",IF(AND(G114=$Y$12,O114>5*K114),\"No\",IF(AND(G114=$Y$13,Q114>2*K114),\"No\",\"Sí\"))))))","v":""},null,{"$f":"IFERROR(IF(S114=\"Sí\",(I114/I$253),0),\"\")","v":0},null,null,null,{"$f":"I98*(SUM(I100:I118))","v":0},{"$f":"I98*(SUM(U100:U118))","v":0}]
[]
[null,null,null,49,null,null,null,null,null,null,null,null,null,null,null,null,null,null,{"$f":"IF(G116=\"\",\"\",IF(I116=\"\",\"\",IF(AND(O116=\"\",Q116=\"\"),\"\",IF((M116<(I116*0.05)),\"No\",IF(AND(G116=$Y$12,O116>5*K116),\"No\",IF(AND(G116=$Y$13,Q116>2*K116),\"No\",\"Sí\"))))))","v":""},null,{"$f":"IFERROR(IF(S116=\"Sí\",(I116/I$253),0),\"\")","v":0}]
[]
[null,null,null,50,null,null,null,null,null,null,null,null,null,null,null,null,null,null,{"$f":"IF(G118=\"\",\"\",IF(I118=\"\",\"\",IF(AND(O118=\"\",Q118=\"\"),\"\",IF((M118<(I118*0.05)),\"No\",IF(AND(G118=$Y$12,O118>5*K118),\"No\",IF(AND(G118=$Y$13,Q118>2*K118),\"No\",\"Sí\"))))))","v":""},null,{"$f":"IFERROR(IF(S118=\"Sí\",(I118/I$253),0),\"\")","v":0}]
[]
[null,null,null,null,"Número de Viviendas tipo 6"]
[]
[null,null,null,51,null,null,null,null,null,null,null,null,null,null,null,null,null,null,{"$f":"IF(G122=\"\",\"\",IF(I122=\"\",\"\",IF(AND(O122=\"\",Q122=\"\"),\"\",IF((M122<(I122*0.05)),\"No\",IF(AND(G122=$Y$12,O122>5*K122),\"No\",IF(AND(G122=$Y$13,Q122>2*K122),\"No\",\"Sí\"))))))","v":""},null,{"$f":"IFERROR(IF(S122=\"Sí\",(I122/I$253),0),\"\")","v":0}]
[]
[null,null,null,52,null,null,null,null,null,null,null,null,null,null,null,null,null,null,{"$f":"IF(G124=\"\",\"\",IF(I124=\"\",\"\",IF(AND(O124=\"\",Q124=\"\"),\"\",IF((M124<(I124*0.05)),\"No\",IF(AND(G124=$Y$12,O124>5*K124),\"No\",IF(AND(G124=$Y$13,Q124>2*K124),\"No\",\"Sí\"))))))","v":""},null,{"$f":"IFERROR(IF(S124=\"Sí\",(I124/I$253),0),\"\")","v":0}]
[]
[null,null,null,53,null,null,null,null,null,null,null,null,null,null,null,null,null,null,{"$f":"IF(G126=\"\",\"\",IF(I126=\"\",\"\",IF(AND(O126=\"\",Q126=\"\"),\"\",IF((M126<(I126*0.05)),\"No\",IF(AND(G126=$Y$12,O126>5*K126),\"No\",IF(AND(G126=$Y$13,Q126>2*K126),\"No\",\"Sí\"))))))","v":""},null,{"$f":"IFERROR(IF(S126=\"Sí\",(I126/I$253),0),\"\")","v":0}]
[]
[null,null,null,54,null,null,null,null,null,null,null,null,null,null,null,null,null,null,{"$f":"IF(G128=\"\",\"\",IF(I128=\"\",\"\",IF(AND(O128=\"\",Q128=\"\"),\"\",IF((M128<(I128*0.05)),\"No\",IF(AND(G128=$Y$12,O128>5*K128),\"No\",IF(AND(G128=$Y$13,Q128>2*K128),\"No\",\"Sí\"))))))","v":""},null,{"$f":"IFERROR(IF(S128=\"Sí\",(I128/I$253),0),\"\")","v":0}]
[]
[null,null,null,55,null,null,null,null,null,null,null,null,null,null,null,null,null,null,{"$f":"IF(G130=\"\",\"\",IF(I130=\"\",\"\",IF(AND(O130=\"\",Q130=\"\"),\"\",IF((M130<(I130*0.05)),\"No\",IF(AND(G130=$Y$12,O130>5*K130),\"No\",IF(AND(G130=$Y$13,Q130>2*K130),\"No\",\"Sí\"))))))","v":""},null,{"$f":"IFERROR(IF(S130=\"Sí\",(I130/I$253),0),\"\")","v":0}]
[]
[null,null,null,56,null,null,null,null,null,null,null,null,null,null,null,null,null,null,{"$f":"IF(G132=\"\",\"\",IF(I132=\"\",\"\",IF(AND(O132=\"\",Q132=\"\"),\"\",IF((M132<(I132*0.05)),\"No\",IF(AND(G132=$Y$12,O132>5*K132),\"No\",IF(AND(G132=$Y$13,Q132>2*K132),\"No\",\"Sí\"))))))","v":""},null,{"$f":"IFERROR(IF(S132=\"Sí\",(I132/I$253),0),\"\")","v":0}]
[]
[null,null,null,57,null,null,null,null,null,null,null,null,null,null,null,null,null,null,{"$f":"IF(G134=\"\",\"\",IF(I134=\"\",\"\",IF(AND(O134=\"\",Q134=\"\"),\"\",IF((M134<(I134*0.05)),\"No\",IF(AND(G134=$Y$12,O134>5*K134),\"No\",IF(AND(G134=$Y$13,Q134>2*K134),\"No\",\"Sí\"))))))","v":""},null,{"$f":"IFERROR(IF(S134=\"Sí\",(I134/I$253),0),\"\")","v":0}]
[]
[null,null,null,58,null,null,null,null,null,null,null,null,null,null,null,null,null,null,{"$f":"IF(G136=\"\",\"\",IF(I136=\"\",\"\",IF(AND(O136=\"\",Q136=\"\"),\"\",IF((M136<(I136*0.05)),\"No\",IF(AND(G136=$Y$12,O136>5*K136),\"No\",IF(AND(G136=$Y$13,Q136>2*K136),\"No\",\"Sí\"))))))","v":""},null,{"$f":"IFERROR(IF(S136=\"Sí\",(I136/I$253),0),\"\")","v":0},null,null,null,{"$f":"I120*(SUM(I122:I140))","v":0},{"$f":"I120*(SUM(U122:U140))","v":0}]
[]
[null,null,null,59,null,null,null,null,null,null,null,null,null,null,null,null,null,null,{"$f":"IF(G138=\"\",\"\",IF(I138=\"\",\"\",IF(AND(O138=\"\",Q138=\"\"),\"\",IF((M138<(I138*0.05)),\"No\",IF(AND(G138=$Y$12,O138>5*K138),\"No\",IF(AND(G138=$Y$13,Q138>2*K138),\"No\",\"Sí\"))))))","v":""},null,{"$f":"IFERROR(IF(S138=\"Sí\",(I138/I$253),0),\"\")","v":0}]
[]
[null,null,null,60,null,null,null,null,null,null,null,null,null,null,null,null,null,null,{"$f":"IF(G140=\"\",\"\",IF(I140=\"\",\"\",IF(AND(O140=\"\",Q140=\"\"),\"\",IF((M140<(I140*0.05)),\"No\",IF(AND(G140=$Y$12,O140>5*K140),\"No\",IF(AND(G140=$Y$13,Q140>2*K140),\"No\",\"Sí\"))))))","v":""},null,{"$f":"IFERROR(IF(S140=\"Sí\",(I140/I$253),0),\"\")","v":0}]
[]
[null,null,null,null,"Número de Viviendas tipo 7"]
[]
[null,null,null,61,null,null,null,null,null,null,null,null,null,null,null,null,null,null,{"$f":"IF(G144=\"\",\"\",IF(I144=\"\",\"\",IF(AND(O144=\"\",Q144=\"\"),\"\",IF((M144<(I144*0.05)),\"No\",IF(AND(G144=$Y$12,O144>5*K144),\"No\",IF(AND(G144=$Y$13,Q144>2*K144),\"No\",\"Sí\"))))))","v":""},null,{"$f":"IFERROR(IF(S144=\"Sí\",(I144/I$253),0),\"\")","v":0}]
[]
[null,null,null,62,null,null,null,null,null,null,null,null,null,null,null,null,null,null,{"$f":"IF(G146=\"\",\"\",IF(I146=\"\",\"\",IF(AND(O146=\"\",Q146=\"\"),\"\",IF((M146<(I146*0.05)),\"No\",IF(AND(G146=$Y$12,O146>5*K146),\"No\",IF(AND(G146=$Y$13,Q146>2*K146),\"No\",\"Sí\"))))))","v":""},null,{"$f":"IFERROR(IF(S146=\"Sí\",(I146/I$253),0),\"\")","v":0}]
[]
[null,null,null,63,null,null,null,null,null,null,null,null,null,null,null,null,null,null,{"$f":"IF(G148=\"\",\"\",IF(I148=\"\",\"\",IF(AND(O148=\"\",Q148=\"\"),\"\",IF((M148<(I148*0.05)),\"No\",IF(AND(G148=$Y$12,O148>5*K148),\"No\",IF(AND(G148=$Y$13,Q148>2*K148),\"No\",\"Sí\"))))))","v":""},null,{"$f":"IFERROR(IF(S148=\"Sí\",(I148/I$253),0),\"\")","v":0}]
[]
[null,null,null,64,null,null,null,null,null,null,null,null,null,null,null,null,null,null,{"$f":"IF(G150=\"\",\"\",IF(I150=\"\",\"\",IF(AND(O150=\"\",Q150=\"\"),\"\",IF((M150<(I150*0.05)),\"No\",IF(AND(G150=$Y$12,O150>5*K150),\"No\",IF(AND(G150=$Y$13,Q150>2*K150),\"No\",\"Sí\"))))))","v":""},null,{"$f":"IFERROR(IF(S150=\"Sí\",(I150/I$253),0),\"\")","v":0}]
[]
[null,null,null,65,null,null,null,null,null,null,null,null,null,null,null,null,null,null,{"$f":"IF(G152=\"\",\"\",IF(I152=\"\",\"\",IF(AND(O152=\"\",Q152=\"\"),\"\",IF((M152<(I152*0.05)),\"No\",IF(AND(G152=$Y$12,O152>5*K152),\"No\",IF(AND(G152=$Y$13,Q152>2*K152),\"No\",\"Sí\"))))))","v":""},null,{"$f":"IFERROR(IF(S152=\"Sí\",(I152/I$253),0),\"\")","v":0}]
[]
[null,null,null,66,null,null,null,null,null,null,null,null,null,null,null,null,null,null,{"$f":"IF(G154=\"\",\"\",IF(I154=\"\",\"\",IF(AND(O154=\"\",Q154=\"\"),\"\",IF((M154<(I154*0.05)),\"No\",IF(AND(G154=$Y$12,O154>5*K154),\"No\",IF(AND(G154=$Y$13,Q154>2*K154),\"No\",\"Sí\"))))))","v":""},null,{"$f":"IFERROR(IF(S154=\"Sí\",(I154/I$253),0),\"\")","v":0}]
[]
[null,null,null,67,null,null,null,null,null,null,null,null,null,null,null,null,null,null,{"$f":"IF(G156=\"\",\"\",IF(I156=\"\",\"\",IF(AND(O156=\"\",Q156=\"\"),\"\",IF((M156<(I156*0.05)),\"No\",IF(AND(G156=$Y$12,O156>5*K156),\"No\",IF(AND(G156=$Y$13,Q156>2*K156),\"No\",\"Sí\"))))))","v":""},null,{"$f":"IFERROR(IF(S156=\"Sí\",(I156/I$253),0),\"\")","v":0}]
[]
[null,null,null,68,null,null,null,null,null,null,null,null,null,null,null,null,null,null,{"$f":"IF(G158=\"\",\"\",IF(I158=\"\",\"\",IF(AND(O158=\"\",Q158=\"\"),\"\",IF((M158<(I158*0.05)),\"No\",IF(AND(G158=$Y$12,O158>5*K158),\"No\",IF(AND(G158=$Y$13,Q158>2*K158),\"No\",\"Sí\"))))))","v":""},null,{"$f":"IFERROR(IF(S158=\"Sí\",(I158/I$253),0),\"\")","v":0},null,null,null,{"$f":"I142*(SUM(I144:I162))","v":0},{"$f":"I142*(SUM(U144:U162))","v":0}]
[]
[null,null,null,69,null,null,null,null,null,null,null,null,null,null,null,null,null,null,{"$f":"IF(G160=\"\",\"\",IF(I160=\"\",\"\",IF(AND(O160=\"\",Q160=\"\"),\"\",IF((M160<(I160*0.05)),\"No\",IF(AND(G160=$Y$12,O160>5*K160),\"No\",IF(AND(G160=$Y$13,Q160>2*K160),\"No\",\"Sí\"))))))","v":""},null,{"$f":"IFERROR(IF(S160=\"Sí\",(I160/I$253),0),\"\")","v":0}]
[]
[null,null,null,70,null,null,null,null,null,null,null,null,null,null,null,null,null,null,{"$f":"IF(G162=\"\",\"\",IF(I162=\"\",\"\",IF(AND(O162=\"\",Q162=\"\"),\"\",IF((M162<(I162*0.05)),\"No\",IF(AND(G162=$Y$12,O162>5*K162),\"No\",IF(AND(G162=$Y$13,Q162>2*K162),\"No\",\"Sí\"))))))","v":""},null,{"$f":"IFERROR(IF(S162=\"Sí\",(I162/I$253),0),\"\")","v":0}]
[]
[null,null,null,null,"Númro de Viviendas tipo 8"]
[]
[null,null,null,71,null,null,null,null,null,null,null,null,null,null,null,null,null,null,{"$f":"IF(G166=\"\",\"\",IF(I166=\"\",\"\",IF(AND(O166=\"\",Q166=\"\"),\"\",IF((M166<(I166*0.05)),\"No\",IF(AND(G166=$Y$12,O166>5*K166),\"No\",IF(AND(G166=$Y$13,Q166>2*K166),\"No\",\"Sí\"))))))","v":""},null,{"$f":"IFERROR(IF(S166=\"Sí\",(I166/I$253),0),\"\")","v":0}]
[]
[null,null,null,72,null,null,null,null,null,null,null,null,null,null,null,null,null,null,{"$f":"IF(G168=\"\",\"\",IF(I168=\"\",\"\",IF(AND(O168=\"\",Q168=\"\"),\"\",IF((M168<(I168*0.05)),\"No\",IF(AND(G168=$Y$12,O168>5*K168),\"No\",IF(AND(G168=$Y$13,Q168>2*K168),\"No\",\"Sí\"))))))","v":""},null,{"$f":"IFERROR(IF(S168=\"Sí\",(I168/I$253),0),\"\")","v":0}]
[]
[null,null,null,73,null,null,null,null,null,null,null,null,null,null,null,null,null,null,{"$f":"IF(G170=\"\",\"\",IF(I170=\"\",\"\",IF(AND(O170=\"\",Q170=\"\"),\"\",IF((M170<(I170*0.05)),\"No\",IF(AND(G170=$Y$12,O170>5*K170),\"No\",IF(AND(G170=$Y$13,Q170>2*K170),\"No\",\"Sí\"))))))","v":""},null,{"$f":"IFERROR(IF(S170=\"Sí\",(I170/I$253),0),\"\")","v":0}]
[]
[null,null,null,74,null,null,null,null,null,null,null,null,null,null,null,null,null,null,{"$f":"IF(G172=\"\",\"\",IF(I172=\"\",\"\",IF(AND(O172=\"\",Q172=\"\"),\"\",IF((M172<(I172*0.05)),\"No\",IF(AND(G172=$Y$12,O172>5*K172),\"No\",IF(AND(G172=$Y$13,Q172>2*K172),\"No\",\"Sí\"))))))","v":""},null,{"$f":"IFERROR(IF(S172=\"Sí\",(I172/I$253),0),\"\")","v":0}]
[]
[null,null,null,75,null,null,null,null,null,null,null,null,null,null,null,null,null,null,{"$f":"IF(G174=\"\",\"\",IF(I174=\"\",\"\",IF(AND(O174=\"\",Q174=\"\"),\"\",IF((M174<(I174*0.05)),\"No\",IF(AND(G174=$Y$12,O174>5*K174),\"No\",IF(AND(G174=$Y$13,Q174>2*K174),\"No\",\"Sí\"))))))","v":""},null,{"$f":"IFERROR(IF(S174=\"Sí\",(I174/I$253),0),\"\")","v":0}]
[]
[null,null,null,76,null,null,null,null,null,null,null,null,null,null,null,null,null,null,{"$f":"IF(G176=\"\",\"\",IF(I176=\"\",\"\",IF(AND(O176=\"\",Q176=\"\"),\"\",IF((M176<(I176*0.05)),\"No\",IF(AND(G176=$Y$12,O176>5*K176),\"No\",IF(AND(G176=$Y$13,Q176>2*K176),\"No\",\"Sí\"))))))","v":""},null,{"$f":"IFERROR(IF(S176=\"Sí\",(I176/I$253),0),\"\")","v":0}]
[]
[null,null,null,77,null,null,null,null,null,null,null,null,null,null,null,null,null,null,{"$f":"IF(G178=\"\",\"\",IF(I178=\"\",\"\",IF(AND(O178=\"\",Q178=\"\"),\"\",IF((M178<(I178*0.05)),\"No\",IF(AND(G178=$Y$12,O178>5*K178),\"No\",IF(AND(G178=$Y$13,Q178>2*K178),\"No\",\"Sí\"))))))","v":""},null,{"$f":"IFERROR(IF(S178=\"Sí\",(I178/I$253),0),\"\")","v":0}]
[]
[null,null,null,78,null,null,null,null,null,null,null,null,null,null,null,null,null,null,{"$f":"IF(G180=\"\",\"\",IF(I180=\"\",\"\",IF(AND(O180=\"\",Q180=\"\"),\"\",IF((M180<(I180*0.05)),\"No\",IF(AND(G180=$Y$12,O180>5*K180),\"No\",IF(AND(G180=$Y$13,Q180>2*K180),\"No\",\"Sí\"))))))","v":""},null,{"$f":"IFERROR(IF(S180=\"Sí\",(I180/I$253),0),\"\")","v":0},null,null,null,{"$f":"I164*(SUM(I166:I184))","v":0},{"$f":"I164*(SUM(U166:U184))","v":0}]
[]
[null,null,null,79,null,null,null,null,null,null,null,null,null,null,null,null,null,null,{"$f":"IF(G182=\"\",\"\",IF(I182=\"\",\"\",IF(AND(O182=\"\",Q182=\"\"),\"\",IF((M182<(I182*0.05)),\"No\",IF(AND(G182=$Y$12,O182>5*K182),\"No\",IF(AND(G182=$Y$13,Q182>2*K182),\"No\",\"Sí\"))))))","v":""},null,{"$f":"IFERROR(IF(S182=\"Sí\",(I182/I$253),0),\"\")","v":0}]
[]
[null,null,null,80,null,null,null,null,null,null,null,null,null,null,null,null,null,null,{"$f":"IF(G184=\"\",\"\",IF(I184=\"\",\"\",IF(AND(O184=\"\",Q184=\"\"),\"\",IF((M184<(I184*0.05)),\"No\",IF(AND(G184=$Y$12,O184>5*K184),\"No\",IF(AND(G184=$Y$13,Q184>2*K184),\"No\",\"Sí\"))))))","v":""},null,{"$f":"IFERROR(IF(S184=\"Sí\",(I184/I$253),0),\"\")","v":0}]
[]
[null,null,null,null,"Número de Viviendas tipo 9"]
[]
[null,null,null,81,null,null,null,null,null,null,null,null,null,null,null,null,null,null,{"$f":"IF(G188=\"\",\"\",IF(I188=\"\",\"\",IF(AND(O188=\"\",Q188=\"\"),\"\",IF((M188<(I188*0.05)),\"No\",IF(AND(G188=$Y$12,O188>5*K188),\"No\",IF(AND(G188=$Y$13,Q188>2*K188),\"No\",\"Sí\"))))))","v":""},null,{"$f":"IFERROR(IF(S188=\"Sí\",(I188/I$253),0),\"\")","v":0}]
[]
[null,null,null,82,null,null,null,null,null,null,null,null,null,null,null,null,null,null,{"$f":"IF(G190=\"\",\"\",IF(I190=\"\",\"\",IF(AND(O190=\"\",Q190=\"\"),\"\",IF((M190<(I190*0.05)),\"No\",IF(AND(G190=$Y$12,O190>5*K190),\"No\",IF(AND(G190=$Y$13,Q190>2*K190),\"No\",\"Sí\"))))))","v":""},null,{"$f":"IFERROR(IF(S190=\"Sí\",(I190/I$253),0),\"\")","v":0}]
[]
[null,null,null,83,null,null,null,null,null,null,null,null,null,null,null,null,null,null,{"$f":"IF(G192=\"\",\"\",IF(I192=\"\",\"\",IF(AND(O192=\"\",Q192=\"\"),\"\",IF((M192<(I192*0.05)),\"No\",IF(AND(G192=$Y$12,O192>5*K192),\"No\",IF(AND(G192=$Y$13,Q192>2*K192),\"No\",\"Sí\"))))))","v":""},null,{"$f":"IFERROR(IF(S192=\"Sí\",(I192/I$253),0),\"\")","v":0}]
[]
[null,null,null,84,null,null,null,null,null,null,null,null,null,null,null,null,null,null,{"$f":"IF(G194=\"\",\"\",IF(I194=\"\",\"\",IF(AND(O194=\"\",Q194=\"\"),\"\",IF((M194<(I194*0.05)),\"No\",IF(AND(G194=$Y$12,O194>5*K194),\"No\",IF(AND(G194=$Y$13,Q194>2*K194),\"No\",\"Sí\"))))))","v":""},null,{"$f":"IFERROR(IF(S194=\"Sí\",(I194/I$253),0),\"\")","v":0}]
[]
[null,null,null,85,null,null,null,null,null,null,null,null,null,null,null,null,null,null,{"$f":"IF(G196=\"\",\"\",IF(I196=\"\",\"\",IF(AND(O196=\"\",Q196=\"\"),\"\",IF((M196<(I196*0.05)),\"No\",IF(AND(G196=$Y$12,O196>5*K196),\"No\",IF(AND(G196=$Y$13,Q196>2*K196),\"No\",\"Sí\"))))))","v":""},null,{"$f":"IFERROR(IF(S196=\"Sí\",(I196/I$253),0),\"\")","v":0}]
[]
[null,null,null,86,null,null,null,null,null,null,null,null,null,null,null,null,null,null,{"$f":"IF(G198=\"\",\"\",IF(I198=\"\",\"\",IF(AND(O198=\"\",Q198=\"\"),\"\",IF((M198<(I198*0.05)),\"No\",IF(AND(G198=$Y$12,O198>5*K198),\"No\",IF(AND(G198=$Y$13,Q198>2*K198),\"No\",\"Sí\"))))))","v":""},null,{"$f":"IFERROR(IF(S198=\"Sí\",(I198/I$253),0),\"\")","v":0}]
[]
[null,null,null,87,null,null,null,null,null,null,null,null,null,null,null,null,null,null,{"$f":"IF(G200=\"\",\"\",IF(I200=\"\",\"\",IF(AND(O200=\"\",Q200=\"\"),\"\",IF((M200<(I200*0.05)),\"No\",IF(AND(G200=$Y$12,O200>5*K200),\"No\",IF(AND(G200=$Y$13,Q200>2*K200),\"No\",\"Sí\"))))))","v":""},null,{"$f":"IFERROR(IF(S200=\"Sí\",(I200/I$253),0),\"\")","v":0}]
[]
[null,null,null,88,null,null,null,null,null,null,null,null,null,null,null,null,null,null,{"$f":"IF(G202=\"\",\"\",IF(I202=\"\",\"\",IF(AND(O202=\"\",Q202=\"\"),\"\",IF((M202<(I202*0.05)),\"No\",IF(AND(G202=$Y$12,O202>5*K202),\"No\",IF(AND(G202=$Y$13,Q202>2*K202),\"No\",\"Sí\"))))))","v":""},null,{"$f":"IFERROR(IF(S202=\"Sí\",(I202/I$253),0),\"\")","v":0},null,null,null,{"$f":"I186*(SUM(I188:I206))","v":0},{"$f":"I186*(SUM(U188:U206))","v":0}]
[]
[null,null,null,89,null,null,null,null,null,null,null,null,null,null,null,null,null,null,{"$f":"IF(G204=\"\",\"\",IF(I204=\"\",\"\",IF(AND(O204=\"\",Q204=\"\"),\"\",IF((M204<(I204*0.05)),\"No\",IF(AND(G204=$Y$12,O204>5*K204),\"No\",IF(AND(G204=$Y$13,Q204>2*K204),\"No\",\"Sí\"))))))","v":""},null,{"$f":"IFERROR(IF(S204=\"Sí\",(I204/I$253),0),\"\")","v":0}]
[]
[null,null,null,90,null,null,null,null,null,null,null,null,null,null,null,null,null,null,{"$f":"IF(G206=\"\",\"\",IF(I206=\"\",\"\",IF(AND(O206=\"\",Q206=\"\"),\"\",IF((M206<(I206*0.05)),\"No\",IF(AND(G206=$Y$12,O206>5*K206),\"No\",IF(AND(G206=$Y$13,Q206>2*K206),\"No\",\"Sí\"))))))","v":""},null,{"$f":"IFERROR(IF(S206=\"Sí\",(I206/I$253),0),\"\")","v":0}]
[]
[null,null,null,null,"Número de Viviendas tipo 10"]
[]
[null,null,null,91,null,null,null,null,null,null,null,null,null,null,null,null,null,null,{"$f":"IF(G210=\"\",\"\",IF(I210=\"\",\"\",IF(AND(O210=\"\",Q210=\"\"),\"\",IF((M210<(I210*0.05)),\"No\",IF(AND(G210=$Y$12,O210>5*K210),\"No\",IF(AND(G210=$Y$13,Q210>2*K210),\"No\",\"Sí\"))))))","v":""},null,{"$f":"IFERROR(IF(S210=\"Sí\",(I210/I$253),0),\"\")","v":0}]
[]
[null,null,null,92,null,null,null,null,null,null,null,null,null,null,null,null,null,null,{"$f":"IF(G212=\"\",\"\",IF(I212=\"\",\"\",IF(AND(O212=\"\",Q212=\"\"),\"\",IF((M212<(I212*0.05)),\"No\",IF(AND(G212=$Y$12,O212>5*K212),\"No\",IF(AND(G212=$Y$13,Q212>2*K212),\"No\",\"Sí\"))))))","v":""},null,{"$f":"IFERROR(IF(S212=\"Sí\",(I212/I$253),0),\"\")","v":0}]
[]
[null,null,null,93,null,null,null,null,null,null,null,null,null,null,null,null,null,null,{"$f":"IF(G214=\"\",\"\",IF(I214=\"\",\"\",IF(AND(O214=\"\",Q214=\"\"),\"\",IF((M214<(I214*0.05)),\"No\",IF(AND(G214=$Y$12,O214>5*K214),\"No\",IF(AND(G214=$Y$13,Q214>2*K214),\"No\",\"Sí\"))))))","v":""},null,{"$f":"IFERROR(IF(S214=\"Sí\",(I214/I$253),0),\"\")","v":0}]
[]
[null,null,null,94,null,null,null,null,null,null,null,null,null,null,null,null,null,null,{"$f":"IF(G216=\"\",\"\",IF(I216=\"\",\"\",IF(AND(O216=\"\",Q216=\"\"),\"\",IF((M216<(I216*0.05)),\"No\",IF(AND(G216=$Y$12,O216>5*K216),\"No\",IF(AND(G216=$Y$13,Q216>2*K216),\"No\",\"Sí\"))))))","v":""},null,{"$f":"IFERROR(IF(S216=\"Sí\",(I216/I$253),0),\"\")","v":0}]
[]
[null,null,null,95,null,null,null,null,null,null,null,null,null,null,null,null,null,null,{"$f":"IF(G218=\"\",\"\",IF(I218=\"\",\"\",IF(AND(O218=\"\",Q218=\"\"),\"\",IF((M218<(I218*0.05)),\"No\",IF(AND(G218=$Y$12,O218>5*K218),\"No\",IF(AND(G218=$Y$13,Q218>2*K218),\"No\",\"Sí\"))))))","v":""},null,{"$f":"IFERROR(IF(S218=\"Sí\",(I218/I$253),0),\"\")","v":0}]
[]
[null,null,null,96,null,null,null,null,null,null,null,null,null,null,null,null,null,null,{"$f":"IF(G220=\"\",\"\",IF(I220=\"\",\"\",IF(AND(O220=\"\",Q220=\"\"),\"\",IF((M220<(I220*0.05)),\"No\",IF(AND(G220=$Y$12,O220>5*K220),\"No\",IF(AND(G220=$Y$13,Q220>2*K220),\"No\",\"Sí\"))))))","v":""},null,{"$f":"IFERROR(IF(S220=\"Sí\",(I220/I$253),0),\"\")","v":0}]
[]
[null,null,null,97,null,null,null,null,null,null,null,null,null,null,null,null,null,null,{"$f":"IF(G222=\"\",\"\",IF(I222=\"\",\"\",IF(AND(O222=\"\",Q222=\"\"),\"\",IF((M222<(I222*0.05)),\"No\",IF(AND(G222=$Y$12,O222>5*K222),\"No\",IF(AND(G222=$Y$13,Q222>2*K222),\"No\",\"Sí\"))))))","v":""},null,{"$f":"IFERROR(IF(S222=\"Sí\",(I222/I$253),0),\"\")","v":0}]
[]
[null,null,null,98,null,null,null,null,null,null,null,null,null,null,null,null,null,null,{"$f":"IF(G224=\"\",\"\",IF(I224=\"\",\"\",IF(AND(O224=\"\",Q224=\"\"),\"\",IF((M224<(I224*0.05)),\"No\",IF(AND(G224=$Y$12,O224>5*K224),\"No\",IF(AND(G224=$Y$13,Q224>2*K224),\"No\",\"Sí\"))))))","v":""},null,{"$f":"IFERROR(IF(S224=\"Sí\",(I224/I$253),0),\"\")","v":0},null,null,null,{"$f":"I208*(SUM(I210:I228))","v":0},{"$f":"I208*(SUM(U210:U228))","v":0}]
[]
[null,null,null,99,null,null,null,null,null,null,null,null,null,null,null,null,null,null,{"$f":"IF(G226=\"\",\"\",IF(I226=\"\",\"\",IF(AND(O226=\"\",Q226=\"\"),\"\",IF((M226<(I226*0.05)),\"No\",IF(AND(G226=$Y$12,O226>5*K226),\"No\",IF(AND(G226=$Y$13,Q226>2*K226),\"No\",\"Sí\"))))))","v":""},null,{"$f":"IFERROR(IF(S226=\"Sí\",(I226/I$253),0),\"\")","v":0}]
[]
[null,null,null,100,null,null,null,null,null,null,null,null,null,null,null,null,null,null,{"$f":"IF(G228=\"\",\"\",IF(I228=\"\",\"\",IF(AND(O228=\"\",Q228=\"\"),\"\",IF((M228<(I228*0.05)),\"No\",IF(AND(G228=$Y$12,O228>5*K228),\"No\",IF(AND(G228=$Y$13,Q228>2*K228),\"No\",\"Sí\"))))))","v":""},null,{"$f":"IFERROR(IF(S228=\"Sí\",(I228/I$253),0),\"\")","v":0}]
[]
[null,null,null,null,"Número de Viviendas tipo 11"]
[]
[null,null,null,101,null,null,null,null,null,null,null,null,null,null,null,null,null,null,{"$f":"IF(G232=\"\",\"\",IF(I232=\"\",\"\",IF(AND(O232=\"\",Q232=\"\"),\"\",IF((M232<(I232*0.05)),\"No\",IF(AND(G232=$Y$12,O232>5*K232),\"No\",IF(AND(G232=$Y$13,Q232>2*K232),\"No\",\"Sí\"))))))","v":""},null,{"$f":"IFERROR(IF(S232=\"Sí\",(I232/I$253),0),\"\")","v":0}]
[]
[null,null,null,102,null,null,null,null,null,null,null,null,null,null,null,null,null,null,{"$f":"IF(G234=\"\",\"\",IF(I234=\"\",\"\",IF(AND(O234=\"\",Q234=\"\"),\"\",IF((M234<(I234*0.05)),\"No\",IF(AND(G234=$Y$12,O234>5*K234),\"No\",IF(AND(G234=$Y$13,Q234>2*K234),\"No\",\"Sí\"))))))","v":""},null,{"$f":"IFERROR(IF(S234=\"Sí\",(I234/I$253),0),\"\")","v":0}]
[]
[null,null,null,103,null,null,null,null,null,null,null,null,null,null,null,null,null,null,{"$f":"IF(G236=\"\",\"\",IF(I236=\"\",\"\",IF(AND(O236=\"\",Q236=\"\"),\"\",IF((M236<(I236*0.05)),\"No\",IF(AND(G236=$Y$12,O236>5*K236),\"No\",IF(AND(G236=$Y$13,Q236>2*K236),\"No\",\"Sí\"))))))","v":""},null,{"$f":"IFERROR(IF(S236=\"Sí\",(I236/I$253),0),\"\")","v":0}]
[]
[null,null,null,104,null,null,null,null,null,null,null,null,null,null,null,null,null,null,{"$f":"IF(G238=\"\",\"\",IF(I238=\"\",\"\",IF(AND(O238=\"\",Q238=\"\"),\"\",IF((M238<(I238*0.05)),\"No\",IF(AND(G238=$Y$12,O238>5*K238),\"No\",IF(AND(G238=$Y$13,Q238>2*K238),\"No\",\"Sí\"))))))","v":""},null,{"$f":"IFERROR(IF(S238=\"Sí\",(I238/I$253),0),\"\")","v":0}]
[]
[null,null,null,105,null,null,null,null,null,null,null,null,null,null,null,null,null,null,{"$f":"IF(G240=\"\",\"\",IF(I240=\"\",\"\",IF(AND(O240=\"\",Q240=\"\"),\"\",IF((M240<(I240*0.05)),\"No\",IF(AND(G240=$Y$12,O240>5*K240),\"No\",IF(AND(G240=$Y$13,Q240>2*K240),\"No\",\"Sí\"))))))","v":""},null,{"$f":"IFERROR(IF(S240=\"Sí\",(I240/I$253),0),\"\")","v":0}]
[]
[null,null,null,106,null,null,null,null,null,null,null,null,null,null,null,null,null,null,{"$f":"IF(G242=\"\",\"\",IF(I242=\"\",\"\",IF(AND(O242=\"\",Q242=\"\"),\"\",IF((M242<(I242*0.05)),\"No\",IF(AND(G242=$Y$12,O242>5*K242),\"No\",IF(AND(G242=$Y$13,Q242>2*K242),\"No\",\"Sí\"))))))","v":""},null,{"$f":"IFERROR(IF(S242=\"Sí\",(I242/I$253),0),\"\")","v":0}]
[]
[null,null,null,107,null,null,null,null,null,null,null,null,null,null,null,null,null,null,{"$f":"IF(G244=\"\",\"\",IF(I244=\"\",\"\",IF(AND(O244=\"\",Q244=\"\"),\"\",IF((M244<(I244*0.05)),\"No\",IF(AND(G244=$Y$12,O244>5*K244),\"No\",IF(AND(G244=$Y$13,Q244>2*K244),\"No\",\"Sí\"))))))","v":""},null,{"$f":"IFERROR(IF(S244=\"Sí\",(I244/I$253),0),\"\")","v":0}]
[]
[null,null,null,108,null,null,null,null,null,null,null,null,null,null,null,null,null,null,{"$f":"IF(G246=\"\",\"\",IF(I246=\"\",\"\",IF(AND(O246=\"\",Q246=\"\"),\"\",IF((M246<(I246*0.05)),\"No\",IF(AND(G246=$Y$12,O246>5*K246),\"No\",IF(AND(G246=$Y$13,Q246>2*K246),\"No\",\"Sí\"))))))","v":""},null,{"$f":"IFERROR(IF(S246=\"Sí\",(I246/I$253),0),\"\")","v":0},null,null,null,{"$f":"I230*(SUM(I232:I250))","v":0},{"$f":"I230*(SUM(U232:U250))","v":0}]
[]
[null,null,null,109,null,null,null,null,null,null,null,null,null,null,null,null,null,null,{"$f":"IF(G248=\"\",\"\",IF(I248=\"\",\"\",IF(AND(O248=\"\",Q248=\"\"),\"\",IF((M248<(I248*0.05)),\"No\",IF(AND(G248=$Y$12,O248>5*K248),\"No\",IF(AND(G248=$Y$13,Q248>2*K248),\"No\",\"Sí\"))))))","v":""},null,{"$f":"IFERROR(IF(S248=\"Sí\",(I248/I$253),0),\"\")","v":0}]
[]
[null,null,null,110,null,null,null,null,null,null,null,null,null,null,null,null,null,null,{"$f":"IF(G250=\"\",\"\",IF(I250=\"\",\"\",IF(AND(O250=\"\",Q250=\"\"),\"\",IF((M250<(I250*0.05)),\"No\",IF(AND(G250=$Y$12,O250>5*K250),\"No\",IF(AND(G250=$Y$13,Q250>2*K250),\"No\",\"Sí\"))))))","v":""},null,{"$f":"IFERROR(IF(S250=\"Sí\",(I250/I$253),0),\"\")","v":0}]
[]
[]
[null,null,null,null,"Superficie total",null,null,null,{"$f":"SUM(Y24:Y250)","v":0},null,null,null,null,null,"Porcentaje de cumplimiento",null,null,null,null,null,{"$f":"SUM(Z24:Z250)","v":0}]

{"sheet":"AI 03","index":30,"n_rows":1170,"n_cols":45,"rows_kept":1170,"cut":false,"hidden":false,"merged":[[1,2,1,19],[2,2,2,19],[3,4,3,19],[4,4,4,19],[6,4,6,10],[6,12,6,19],[16,25,17,25],[18,23,18,24],[30,4,30,6],[38,12,38,14],[40,4,40,6],[8,4,8,19],[9,12,9,19],[10,4,10,19],[10,25,12,25],[12,4,12,19],[13,12,15,16],[13,25,15,25],[96,12,96,14],[98,4,98,6],[108,4,108,6],[126,4,126,6],[130,4,130,8],[133,4,133,6],[50,4,50,6],[68,4,68,6],[72,4,72,8],[75,4,75,6],[88,4,88,6],[188,4,188,8],[191,4,191,6],[204,4,204,6],[212,12,212,14],[214,4,214,6],[146,4,146,6],[154,12,154,14],[156,4,156,6],[166,4,166,6],[184,4,184,6],[270,12,270,14],[272,4,272,6],[282,4,282,6],[300,4,300,6],[304,4,304,8],[307,4,307,6],[224,4,224,6],[242,4,242,6],[246,4,246,8],[249,4,249,6],[262,4,262,6],[301,4,301,6],[362,4,362,8],[365,4,365,6],[378,4,378,6],[386,12,386,14],[388,4,388,6],[320,4,320,6],[328,12,328,14],[330,4,330,6],[340,4,340,6],[358,4,358,6],[444,12,444,14],[446,4,446,6],[456,4,456,6],[474,4,474,6],[478,4,478,8],[481,4,481,6],[398,4,398,6],[416,4,416,6],[420,4,420,8],[423,4,423,6],[436,4,436,6],[535,4,535,8],[538,4,538,6],[550,4,550,6],[558,12,558,14],[560,4,560,6],[493,4,493,6],[501,12,501,14],[503,4,503,6],[513,4,513,6],[531,4,531,6],[615,12,615,14],[617,4,617,6],[627,4,627,6],[645,4,645,6],[649,4,649,8],[652,4,652,6],[570,4,570,6],[588,4,588,6],[592,4,592,8],[595,4,595,6],[607,4,607,6],[706,4,706,8],[709,4,709,6],[721,4,721,6],[729,12,729,14],[731,4,731,6],[664,4,664,6],[672,12,672,14],[674,4,674,6],[684,4,684,6],[702,4,702,6],[786,12,786,14],[788,4,788,6],[798,4,798,6],[816,4,816,6],[820,4,820,8],[823,4,823,6],[741,4,741,6],[759,4,759,6],[763,4,763,8],[766,4,766,6],[778,4,778,6],[877,4,877,8],[880,4,880,6],[892,4,892,6],[900,12,900,14],[902,4,902,6],[835,4,835,6],[843,12,843,14],[845,4,845,6],[855,4,855,6],[873,4,873,6],[957,12,957,14],[959,4,959,6],[969,4,969,6],[987,4,987,6],[994,4,994,6],[912,4,912,6],[930,4,930,6],[937,4,937,6],[949,4,949,6],[1048,4,1048,8],[1051,4,1051,6],[1063,4,1063,6],[1071,12,1071,14],[1073,4,1073,6],[1006,4,1006,6],[1014,12,1014,14],[1016,4,1016,6],[1026,4,1026,6],[1044,4,1044,6],[1169,4,1169,16],[1171,4,1171,6],[1128,12,1128,14],[1130,4,1130,6],[1140,4,1140,6],[1158,4,1158,6],[1165,4,1165,6],[1083,4,1083,6],[1101,4,1101,6],[1108,4,1108,6],[1120,4,1120,6]]}
[]
[null,null,"Iluminación natural"]
[null,null,"VERDE Edificios 2020 residencial Privado",null,null,null,null,null,null,null,null,null,null,null,null,null,null,null,null,null,null,null,null,null,null,"Vidrio simple",0.87]
[null,null,null,null,"Identificación del punto de referencia:",null,null,null,null,null,null,null,null,null,null,null,null,null,null,null,null,null,null,null,null,"Vidrio doble climalit",0.8,null,null,"hw/D1"]
[null,null,null,null,null,null,null,null,null,null,null,null,null,null,null,null,null,null,null,null,null,null,null,null,null,"Vidrio doble bajo emisivo",0.72,null,null,null,0.1,0.2,0.3,0.4,0.5,0.6,0.8,1,1.2,1.4,1.6,2,3,4,5]
[null,null,null,null,null,null,null,null,null,null,null,null,null,null,null,null,null,null,null,null,null,null,null,null,null,"Vidrio control solar claro",0.28000000000000003,null,null,5,1.6,3.1,4.5999999999999996,6.1,7.4,8.6,10.5,12,13.4,14.5,15.4,16.3,17.8,18.3,18.8]
[null,null,null,null,"Ubicación del punto de refrencia en sección.",null,null,null,null,null,null,null,"Ubicación del punto de referencia en planta",null,null,null,null,null,null,null,null,null,null,null,null,null,null,null,null,4,1.5,3,4.5,5.9,7.3,8.4,10.3,11.5,12.9,13.6,14.3,15.5,16.600000000000001,16.899999999999999,17.100000000000001]
[null,null,null,null,null,null,null,null,null,null,null,null,null,null,null,null,null,null,null,null,null,null,null,null,null,null,null,null,null,3,1.5,2.9,4.4000000000000004,5.6,6.9,8,9.8000000000000007,10.9,12.3,12.6,13.4,14.6,15.5,15.6,15.9]
[null,null,null,null,"Datos requeridos para los cálculos de las componentes",null,null,null,null,null,null,null,null,null,null,null,null,null,null,null,null,null,null,null,null,null,null,null,null,2,1.3,2.5,3.9,5,6,7,8.4,9.4,10.4,10.9,11.4,12.1,12.5,12.6,12.8]
[null,null,null,null,null,null,null,null,null,null,null,null,"donde:   \nhw es la altura efectiva de la parte superior de la ventana sobre el plano de trabajo, en caso de obstrucciones exteriores, se tomará la distancia desde el borde superior de la ventana hasta en punto en el que comienza a verse el cielo (intersección entre el vidrio y el lado inferior del ángulo azul en la siguiente figura)\nHwp es la altura del plano de trabajo sobre el suelo, en nuestro caso 0,8 m   \nW1, W2 son las anchuras efectivas de la ventana a cada lado de una línea desde el punto de refrencia normal al plano de la ventana, al igual que en hw, se considerarán las obstrucciones exteriores.  \nD1 distancia del punto de referencia al plano de la ventana.\n",null,null,null,null,null,null,null,null,null,null,null,null,null,"Color","Reflectancia (R)",null,1.8,1.2,2.4,3.6,4.8,5.8,6.6,7.9,8.9,9.8000000000000007,10.3,10.6,11.3,11.6,11.8,11.9]
[null,null,null,null,null,null,null,null,null,null,null,null,null,null,null,null,null,null,null,null,null,null,null,null,null,"Techo","Blanco o muy claro",0.8,null,1.6,1.1000000000000001,2.2999999999999998,3.4,4.4000000000000004,4.9000000000000004,6.1,7.3,8.1,9,9.4,9.8000000000000007,10.3,10.6,10.8,10.8]
[null,null,null,null,null,null,null,null,null,null,null,null,null,null,null,null,null,null,null,null,null,null,null,null,null,null,"claro",0.5,null,1.4,1,2,3,4,4.8,5.5,6.5,7.4,8,8.4,8.8000000000000007,9.1,9.4,9.4,9.5]
[null,null,null,null,"Datos requeridos para el cálculo del ERC",null,null,null,null,null,null,null,null,null,null,null,null,null,null,null,null,null,null,null,null,null,"medio",0.3,null,1.2,0.9,1.8,2.6,3.4,4.0999999999999996,4.8,5.6,6.3,6.8,7.1,7.4,7.6,7.8,7.9,7.9]
[null,null,null,null,null,null,null,null,null,null,null,null,"Calcular hw considerando que el lado superior de la ventana está situado en la intersección del lado superior del ángulo definido por la obstrucción exterior (en amarillo en la figura)\n",null,null,null,null,null,null,null,null,null,null,null,null,"Paredes","claro",0.5,null,1,0.7,1.4,2.1,2.8,3.3,3.8,4.5,5,5.4,5.6,5.8,5.9,6,6.1,6.3]
[null,null,null,null,null,null,null,null,null,null,null,null,null,null,null,null,null,null,null,null,null,null,null,null,null,null,"medio",0.3,null,0.9,0.6,1.2,1.9,2.4,2.8,3.3,3.9,4.3,4.5999999999999996,4.8,4.9000000000000004,5,5.0999999999999996,5.0999999999999996,5.2]
[null,null,null,null,null,null,null,null,null,null,null,null,null,null,null,null,null,null,null,null,null,null,null,null,null,null,"oscuro",0.1,null,0.8,0.5,1,1.5,2,2.4,2.8,3.3,3.6,3.9,4,4.0999999999999996,4.0999999999999996,4.3,4.3,4.3]
[null,null,null,null,null,null,null,null,null,null,null,null,null,null,null,null,null,null,null,null,null,null,null,null,null,"Suelo","claro",0.3,null,0.7,0.4,0.9,1.2,1.6,1.9,2.1,2.6,2.9,3.1,3.1,3.3,3.3,3.4,3.4,3.5]
[null,null,null,null,null,null,null,null,null,null,null,null,null,null,null,null,null,null,null,null,null,null,null,null,null,null,"oscuro",0.1,null,0.6,0.3,0.7,0.9,1.2,1.5,1.7,2,2.2999999999999998,2.4,2.4,2.5,2.5,2.6,2.6,2.6]
[null,null,null,null,null,null,null,null,null,null,null,null,null,null,null,null,null,null,null,null,null,null,null,null,null,null,null,null,null,0.5,0.2,0.5,0.6,0.9,1,1.2,1.4,1.7,1.8,1.8,1.8,1.9,1.9,1.9,1.9]
[null,null,null,null,null,null,null,null,null,null,null,null,null,null,null,null,null,null,null,null,null,null,null,null,null,null,null,null,null,0.4,0.1,0.4,0.4,0.6,0.7,0.8,1,1.1000000000000001,1.2,1.2,1.2,1.2,1.2,1.2,1.2]
[null,null,null,null,null,null,null,null,null,null,null,null,null,null,null,null,null,null,null,null,null,null,null,"Sí",null,null,null,null,null,0.3,0.1,0.2,0.2,0.3,0.4,0.4,0.6,0.6,0.6,0.6,0.6,0.6,0.7,0.7,0.7]
[null,null,null,null,"Vivienda 1",null,null,null,"Multiplicador",null,null,null,null,null,"Superficie útil",null,null,null,null,null,null,{"$f":"K22","v":0},null,"No","Zona de trabajo administrativo",2,null,null,null,0.2,0,0.1,0.1,0.1,0.2,0.2,0.3,0.3,0.3,0.3,0.3,0.3,0.3,0.3,0.3]
[]
[]
[null,null,null,null,"¿Se cumplen las cuatro condiciones directas?"]
[]
[null,null,null,null,"¿Hay obstrucciones exteriores?",null,"Profundidad (m)",null,"Hw (m)",null,"Longitud (m)",null,"h(w)",null,"Superficie útil (m)",null,"Longitud de la ventana (m)"]
[]
[null,null,null,null,null,null,null,null,null,null,null,null,null,null,{"$f":"Q22","v":0}]
[]
[null,null,null,null,"Cumplimiento de las condiciones",null,null,null,{"$f":"IF(E29=\"\",\"\",IF(AND(E29=\"NO\",G29<2.5*I29,M29*Q29>0.2*O29,Q29>0.6*K29),\"Sí\",\"No\"))","v":""}]
[]
[]
[]
[null,null,null,null,"Cálculo de la componente SC"]
[]
[null,null,null,null,"hw para SC (m)",null,"W1",null,"W2",null,"D1",null,"Tipo de vidrio",null,null,null,"Transmitancia del vidrio"]
[]
[null,null,null,null,null,null,null,null,null,null,null,null,null,null,null,null,{"$f":"IFERROR(VLOOKUP(M39,$Z$3:$AA$6,2,FALSE),\"\")","v":""}]
[]
[null,null,null,null,"Componente SC",null,null,null,{"$f":"IFERROR(('Ayuda CAI 03'!E31+'Ayuda CAI 03'!G31)*Q39,\"\")","v":""}]
[]
[]
[]
[null,null,null,null,"Cálculo de la componente ERC"]
[]
[null,null,null,null,"hw para ERC (m)"]
[]
[]
[]
[null,null,null,null,"Componente ERC",null,null,null,{"$f":"IFERROR(IF(E49=\"\",0,('Ayuda CAI 03'!E41+'Ayuda CAI 03'!G41)*Q39),\"\")","v":0}]
[]
[]
[]
[null,null,null,null,"Cálculo de la componente IRC"]
[]
[null,null,null,null,"Área acristalada neta de ventanas",null,"Ángulo de cielo visible",null,"Altura del punto medio de las ventanas",null,"Longitud de paredes",null,"Altura de paredes",null,"Color de paredes",null,"Reflectancia de paredes"]
[]
[null,null,null,null,null,null,null,null,null,null,null,null,null,null,null,null,{"$f":"IFERROR(VLOOKUP(O59,AA$14:AB$16,2,FALSE),\"\")","v":""}]
[]
[null,null,null,null,"Superficie de techo",null,"Color de techo",null,"Reflectancia de techo",null,null,null,"Superficie de suelo",null,"Color de suelo",null,"Reflectancia de suelo"]
[]
[null,null,null,null,null,null,null,null,{"$f":"IFERROR(VLOOKUP(G63,AA$11:AB$13,2,FALSE),\"\")","v":""},null,null,null,null,null,null,null,{"$f":"IFERROR(VLOOKUP(O63,AA$17:AB$18,2,FALSE),\"\")","v":""}]
[]
[null,null,null,null,"Reflectancia media",null,"Reflectancia media superior",null,"Reflectancia media inferior"]
[]
[null,null,null,null,{"$f":"IFERROR(((((K59*M59)-E59)*Q59)+(E63*I63)+(M63*Q63))/(((K59*M59)-E59)+E63+M63),\"\")","v":""},null,{"$f":"IFERROR(((((K59*(M59-I59))-E59/2)*Q59)+(E63*I63))/(((K59*M59)-E59)+E63),\"\")","v":""},null,{"$f":"IFERROR(((((K59*I59)-E59/2)*Q59)+(M63*Q63))/((K59*E59)+M63),\"\")","v":""}]
[]
[null,null,null,null,"Componente IRC",null,null,null,{"$f":"IFERROR((Q39*E59*(((G59/2)-5)*I67+5*G67))/(((K59*M59)-E59)+E63+M63)*(1-E67),\"\")","v":""}]
[]
[]
[]
[null,null,null,null,"Cumplimiento del criterio",null,null,null,null,null,{"$f":"IFERROR(IF(I76=\"\",\"\",IF(I76>= 2,\"Sí\",\"No\")),\"\")","v":""},null,null,null,null,null,null,null,null,null,null,null,{"$f":"IF(K73=\"Sí\",K22,0)","v":0}]
[]
[]
[null,null,null,null,"Factor luz de día de la estancia",null,null,null,{"$f":"IFERROR(IF(I31=\"Sí\",\"> 2 %\",I41+I51+I69),\"\")","v":""},null,{"$f":"IF(K22=\"\",\"No olvides rellenar el multiplicador\",\"\")","v":"No olvides rellenar el multiplicador"}]
[]
[]
[]
[null,null,null,null,"Vivienda 2",null,null,null,"Multiplicador",null,null,null,null,null,"Superficie útil",null,null,null,null,null,null,{"$f":"K80","v":0}]
[]
[]
[null,null,null,null,"¿Se cumplen las cuatro condiciones directas?"]
[]
[null,null,null,null,"¿Hay obstrucciones exteriores?",null,"Profundidad (m)",null,"Hw (m)",null,"Longitud (m)",null,"h(w)",null,"Superficie útil (m)",null,"Longitud de la ventana (m)"]
[]
[null,null,null,null,null,null,null,null,null,null,null,null,null,null,{"$f":"Q80","v":0}]
[]
[null,null,null,null,"Cumplimiento de las condiciones",null,null,null,{"$f":"IF(E87=\"\",\"\",IF(AND(E87=\"NO\",G87<2.5*I87,M87*Q87>0.2*O87,Q87>0.6*K87),\"Sí\",\"No\"))","v":""}]
[]
[]
[]
[null,null,null,null,"Cálculo de la componente SC"]
[]
[null,null,null,null,"hw para SC (m)",null,"W1",null,"W2",null,"D1",null,"Tipo de vidrio",null,null,null,"Transmitancia del vidrio"]
[]
[null,null,null,null,null,null,null,null,null,null,null,null,null,null,null,null,{"$f":"IFERROR(VLOOKUP(M97,$Z$3:$AA$6,2,FALSE),\"\")","v":""}]
[]
[null,null,null,null,"Componente SC",null,null,null,{"$f":"IFERROR(('Ayuda CAI 03'!E88+'Ayuda CAI 03'!G88)*Q97,\"\")","v":""}]
[]
[]
[]
[null,null,null,null,"Cálculo de la componente ERC"]
[]
[null,null,null,null,"hw para ERC (m)"]
[]
[null,null,null,null,1]
[]
[null,null,null,null,"Componente ERC",null,null,null,{"$f":"IFERROR(IF(E107=\"\",0,('Ayuda CAI 03'!E98+'Ayuda CAI 03'!G98)*Q97),\"\")","v":""}]
[]
[]
[]
[null,null,null,null,"Cálculo de la componente IRC"]
[]
[null,null,null,null,"Área acristalada neta de ventanas",null,"Ángulo de cielo visible",null,"Altura del punto medio de las ventanas",null,"Longitud de paredes",null,"Altura de paredes",null,"Color de paredes",null,"Reflectancia de paredes"]
[]
[null,null,null,null,null,null,null,null,null,null,null,null,null,null,null,null,{"$f":"IFERROR(VLOOKUP(O117,AA$14:AB$16,2,FALSE),\"\")","v":""}]
[]
[null,null,null,null,"Superficie de techo",null,"Color de techo",null,"Reflectancia de techo",null,null,null,"Superficie de suelo",null,"Color de suelo",null,"Reflectancia de suelo"]
[]
[null,null,null,null,null,null,null,null,{"$f":"IFERROR(VLOOKUP(G121,AA$11:AB$13,2,FALSE),\"\")","v":""},null,null,null,null,null,null,null,{"$f":"IFERROR(VLOOKUP(O121,AA$17:AB$18,2,FALSE),\"\")","v":""}]
[]
[null,null,null,null,"Reflectancia media",null,"Reflectancia media superior",null,"Reflectancia media inferior"]
[]
[null,null,null,null,{"$f":"IFERROR(((((K117*M117)-E117)*Q117)+(E121*I121)+(M121*Q121))/(((K117*M117)-E117)+E121+M121),\"\")","v":""},null,{"$f":"IFERROR(((((K117*(M117-I117))-E117/2)*Q117)+(E121*I121))/(((K117*M117)-E117)+E121),\"\")","v":""},null,{"$f":"IFERROR(((((K117*I117)-E117/2)*Q117)+(M121*Q121))/((K117*E117)+M121),\"\")","v":""}]
[]
[null,null,null,null,"Componente IRC",null,null,null,{"$f":"IFERROR((Q97*E117*(((G117/2)-5)*I125+5*G125))/(((K117*M117)-E117)+E121+M121)*(1-E125),\"\")","v":""}]
[]
[]
[]
[null,null,null,null,"Cumplimiento del criterio",null,null,null,null,null,{"$f":"IFERROR(IF(I134=\"\",\"\",IF(I134>= 2,\"Sí\",\"No\")),\"\")","v":""},null,null,null,null,null,null,null,null,null,null,null,{"$f":"IF(K131=\"Sí\",K80,0)","v":0}]
[]
[]
[null,null,null,null,"Factor luz de día de la estancia",null,null,null,{"$f":"IFERROR(IF(I89=\"Sí\",\"> 2 %\",I99+I109+I127),\"\")","v":""},null,{"$f":"IF(K80=\"\",\"No olvides rellenar el multiplicador\",\"\")","v":"No olvides rellenar el multiplicador"}]
[]
[]
[]
[null,null,null,null,"Vivienda 3",null,null,null,"Multiplicador",null,null,null,null,null,"Superficie útil",null,null,null,null,null,null,{"$f":"K138","v":0}]
[]
[]
[null,null,null,null,"¿Se cumplen las cuatro condiciones directas?"]
[]
[null,null,null,null,"¿Hay obstrucciones exteriores?",null,"Profundidad (m)",null,"Hw (m)",null,"Longitud (m)",null,"h(w)",null,"Superficie útil (m)",null,"Longitud de la ventana (m)"]
[]
[null,null,null,null,null,null,null,null,null,null,null,null,null,null,{"$f":"Q138","v":0}]
[]
[null,null,null,null,"Cumplimiento de las condiciones",null,null,null,{"$f":"IF(E145=\"\",\"\",IF(AND(E145=\"NO\",G145<2.5*I145,M145*Q145>0.2*O145,Q145>0.6*K145),\"Sí\",\"No\"))","v":""}]
[]
[]
[]
[null,null,null,null,"Cálculo de la componente SC"]
[]
[null,null,null,null,"hw para SC (m)",null,"W1",null,"W2",null,"D1",null,"Tipo de vidrio",null,null,null,"Transmitancia del vidrio"]
[]
[null,null,null,null,null,null,null,null,null,null,null,null,null,null,null,null,{"$f":"IFERROR(VLOOKUP(M155,$Z$3:$AA$6,2,FALSE),\"\")","v":""}]
[]
[null,null,null,null,"Componente SC",null,null,null,{"$f":"IFERROR(('Ayuda CAI 03'!E145+'Ayuda CAI 03'!G145)*Q97,\"\")","v":""}]
[]
[]
[]
[null,null,null,null,"Cálculo de la componente ERC"]
[]
[null,null,null,null,"hw para ERC (m)"]
[]
[null,null,null,null,1.1000000000000001]
[]
[null,null,null,null,"Componente ERC",null,null,null,{"$f":"IFERROR(IF(E165=\"\",0,('Ayuda CAI 03'!E155+'Ayuda CAI 03'!G155)*Q155),\"\")","v":""}]
[]
[]
[]
[null,null,null,null,"Cálculo de la componente IRC"]
[]
[null,null,null,null,"Área acristalada neta de ventanas",null,"Ángulo de cielo visible",null,"Altura del punto medio de las ventanas",null,"Longitud de paredes",null,"Altura de paredes",null,"Color de paredes",null,"Reflectancia de paredes"]
[]
[null,null,null,null,null,null,null,null,null,null,null,null,null,null,null,null,{"$f":"IFERROR(VLOOKUP(O175,AA$14:AB$16,2,FALSE),\"\")","v":""}]
[]
[null,null,null,null,"Superficie de techo",null,"Color de techo",null,"Reflectancia de techo",null,null,null,"Superficie de suelo",null,"Color de suelo",null,"Reflectancia de suelo"]
[]
[null,null,null,null,null,null,null,null,{"$f":"IFERROR(VLOOKUP(G179,AA$11:AB$13,2,FALSE),\"\")","v":""},null,null,null,null,null,null,null,{"$f":"IFERROR(VLOOKUP(O179,AA$17:AB$18,2,FALSE),\"\")","v":""}]
[]
[null,null,null,null,"Reflectancia media",null,"Reflectancia media superior",null,"Reflectancia media inferior"]
[]
[null,null,null,null,{"$f":"IFERROR(((((K175*M175)-E175)*Q175)+(E179*I179)+(M179*Q179))/(((K175*M175)-E175)+E179+M179),\"\")","v":""},null,{"$f":"IFERROR(((((K175*(M175-I175))-E175/2)*Q175)+(E179*I179))/(((K175*M175)-E175)+E179),\"\")","v":""},null,{"$f":"IFERROR(((((K175*I175)-E175/2)*Q175)+(M179*Q179))/((K175*E175)+M179),\"\")","v":""}]
[]
[null,null,null,null,"Componente IRC",null,null,null,{"$f":"IFERROR((Q155*E175*(((G175/2)-5)*I183+5*G183))/(((K175*M175)-E175)+E179+M179)*(1-E183),\"\")","v":""}]
[]
[]
[]
[null,null,null,null,"Cumplimiento del criterio",null,null,null,null,null,{"$f":"IFERROR(IF(I192=\"\",\"\",IF(I192>= 2,\"Sí\",\"No\")),\"\")","v":""},null,null,null,null,null,null,null,null,null,null,null,{"$f":"IF(K189=\"Sí\",K138,0)","v":0}]
[]
[]
[null,null,null,null,"Factor luz de día de la estancia",null,null,null,{"$f":"IFERROR(IF(I147=\"Sí\",\"> 2 %\",I157+I167+I185),\"\")","v":""},null,{"$f":"IF(K138=\"\",\"No olvides rellenar el multiplicador\",\"\")","v":"No olvides rellenar el multiplicador"}]
[]
[]
[]
[null,null,null,null,"Vivienda 4",null,null,null,"Multiplicador",null,null,null,null,null,"Superficie útil",null,null,null,null,null,null,{"$f":"K196","v":0}]
[]
[]
[null,null,null,null,"¿Se cumplen las cuatro condiciones directas?"]
[]
[null,null,null,null,"¿Hay obstrucciones exteriores?",null,"Profundidad (m)",null,"Hw (m)",null,"Longitud (m)",null,"h(w)",null,"Superficie útil (m)",null,"Longitud de la ventana (m)"]
[]
[null,null,null,null,null,null,null,null,null,null,null,null,null,null,{"$f":"Q196","v":0}]
[]
[null,null,null,null,"Cumplimiento de las condiciones",null,null,null,{"$f":"IF(E203=\"\",\"\",IF(AND(E203=\"NO\",G203<2.5*I203,M203*Q203>0.2*O203,Q203>0.6*K203),\"Sí\",\"No\"))","v":""}]
[]
[]
[]
[null,null,null,null,"Cálculo de la componente SC"]
[]
[null,null,null,null,"hw para SC (m)",null,"W1",null,"W2",null,"D1",null,"Tipo de vidrio",null,null,null,"Transmitancia del vidrio"]
[]
[null,null,null,null,null,null,null,null,null,null,null,null,null,null,null,null,{"$f":"IFERROR(VLOOKUP(M213,$Z$3:$AA$6,2,FALSE),\"\")","v":""}]
[]
[null,null,null,null,"Componente SC",null,null,null,{"$f":"IFERROR(('Ayuda CAI 03'!E202+'Ayuda CAI 03'!G202)*Q213,\"\")","v":""}]
[]
[]
[]
[null,null,null,null,"Cálculo de la componente ERC"]
[]
[null,null,null,null,"hw para ERC (m)"]
[]
[]
[]
[null,null,null,null,"Componente ERC",null,null,null,{"$f":"IFERROR(IF(E223=\"\",0,('Ayuda CAI 03'!E212+'Ayuda CAI 03'!G212)*Q213),\"\")","v":0}]
[]
[]
[]
[null,null,null,null,"Cálculo de la componente IRC"]
[]
[null,null,null,null,"Área acristalada neta de ventanas",null,"Ángulo de cielo visible",null,"Altura del punto medio de las ventanas",null,"Longitud de paredes",null,"Altura de paredes",null,"Color de paredes",null,"Reflectancia de paredes"]
[]
[null,null,null,null,null,null,null,null,null,null,null,null,null,null,null,null,{"$f":"IFERROR(VLOOKUP(O233,AA$14:AB$16,2,FALSE),\"\")","v":""}]
[]
[null,null,null,null,"Superficie de techo",null,"Color de techo",null,"Reflectancia de techo",null,null,null,"Superficie de suelo",null,"Color de suelo",null,"Reflectancia de suelo"]
[]
[null,null,null,null,null,null,null,null,{"$f":"IFERROR(VLOOKUP(G237,AA$11:AB$13,2,FALSE),\"\")","v":""},null,null,null,null,null,null,null,{"$f":"IFERROR(VLOOKUP(O237,AA$17:AB$18,2,FALSE),\"\")","v":""}]
[]
[null,null,null,null,"Reflectancia media",null,"Reflectancia media superior",null,"Reflectancia media inferior"]
[]
[null,null,null,null,{"$f":"IFERROR(((((K233*M233)-E233)*Q233)+(E237*I237)+(M237*Q237))/(((K233*M233)-E233)+E237+M237),\"\")","v":""},null,{"$f":"IFERROR(((((K233*(M233-I233))-E233/2)*Q233)+(E237*I237))/(((K233*M233)-E233)+E237),\"\")","v":""},null,{"$f":"IFERROR(((((K233*I233)-E233/2)*Q233)+(M237*Q237))/((K233*E233)+M237),\"\")","v":""}]
[]
[null,null,null,null,"Componente IRC",null,null,null,{"$f":"IFERROR((Q213*E233*(((G233/2)-5)*I241+5*G241))/(((K233*M233)-E233)+E237+M237)*(1-E241),\"\")","v":""}]
[]
[]
[]
[null,null,null,null,"Cumplimiento del criterio",null,null,null,null,null,{"$f":"IFERROR(IF(I250=\"\",\"\",IF(I250>= 2,\"Sí\",\"No\")),\"\")","v":""},null,null,null,null,null,null,null,null,null,null,null,{"$f":"IF(K247=\"Sí\",K196,0)","v":0}]
[]
[]
[null,null,null,null,"Factor luz de día de la estancia",null,null,null,{"$f":"IFERROR(IF(I205=\"Sí\",\"> 2 %\",I215+I225+I243),\"\")","v":""},null,{"$f":"IF(K196=\"\",\"No olvides rellenar el multiplicador\",\"\")","v":"No olvides rellenar el multiplicador"}]
[]
[]
[]
[null,null,null,null,"Vivienda 5",null,null,null,"Multiplicador",null,null,null,null,null,"Superficie útil",null,null,null,null,null,null,{"$f":"K254","v":0}]
[]
[]
[null,null,null,null,"¿Se cumplen las cuatro condiciones directas?"]
[]
[null,null,null,null,"¿Hay obstrucciones exteriores?",null,"Profundidad (m)",null,"Hw (m)",null,"Longitud (m)",null,"h(w)",null,"Superficie útil (m)",null,"Longitud de la ventana (m)"]
[]
[null,null,null,null,null,null,null,null,null,null,null,null,null,null,{"$f":"Q254","v":0}]
[]
[null,null,null,null,"Cumplimiento de las condiciones",null,null,null,{"$f":"IF(E261=\"\",\"\",IF(AND(E261=\"NO\",G261<2.5*I261,M261*Q261>0.2*O261,Q261>0.6*K261),\"Sí\",\"No\"))","v":""}]
[]
[]
[]
[null,null,null,null,"Cálculo de la componente SC"]
[]
[null,null,null,null,"hw para SC (m)",null,"W1",null,"W2",null,"D1",null,"Tipo de vidrio",null,null,null,"Transmitancia del vidrio"]
[]
[null,null,null,null,null,null,null,null,null,null,null,null,null,null,null,null,{"$f":"IFERROR(VLOOKUP(M271,$Z$3:$AA$6,2,FALSE),\"\")","v":""}]
[]
[null,null,null,null,"Componente SC",null,null,null,{"$f":"IFERROR(('Ayuda CAI 03'!E259+'Ayuda CAI 03'!G259)*Q271,\"\")","v":""}]
[]
[]
[]
[null,null,null,null,"Cálculo de la componente ERC"]
[]
[null,null,null,null,"hw para ERC (m)"]
[]
[]
[]
[null,null,null,null,"Componente ERC",null,null,null,{"$f":"IFERROR(IF(E281=\"\",0,('Ayuda CAI 03'!E269+'Ayuda CAI 03'!G269)*Q271),\"\")","v":0}]
[]
[]
[]
[null,null,null,null,"Cálculo de la componente IRC"]
[]
[null,null,null,null,"Área acristalada neta de ventanas",null,"Ángulo de cielo visible",null,"Altura del punto medio de las ventanas",null,"Longitud de paredes",null,"Altura de paredes",null,"Color de paredes",null,"Reflectancia de paredes"]
[]
[null,null,null,null,null,null,null,null,null,null,null,null,null,null,null,null,{"$f":"IFERROR(VLOOKUP(O291,AA$14:AB$16,2,FALSE),\"\")","v":""}]
[]
[null,null,null,null,"Superficie de techo",null,"Color de techo",null,"Reflectancia de techo",null,null,null,"Superficie de suelo",null,"Color de suelo",null,"Reflectancia de suelo"]
[]
[null,null,null,null,null,null,null,null,{"$f":"IFERROR(VLOOKUP(G295,AA$11:AB$13,2,FALSE),\"\")","v":""},null,null,null,null,null,null,null,{"$f":"IFERROR(VLOOKUP(O295,AA$17:AB$18,2,FALSE),\"\")","v":""}]
[]
[null,null,null,null,"Reflectancia media",null,"Reflectancia media superior",null,"Reflectancia media inferior"]
[]
[null,null,null,null,{"$f":"IFERROR(((((K291*M291)-E291)*Q291)+(E295*I295)+(M295*Q295))/(((K291*M291)-E291)+E295+M295),\"\")","v":""},null,{"$f":"IFERROR(((((K291*(M291-I291))-E291/2)*Q291)+(E295*I295))/(((K291*M291)-E291)+E295),\"\")","v":""},null,{"$f":"IFERROR(((((K291*I291)-E291/2)*Q291)+(M295*Q295))/((K291*E291)+M295),\"\")","v":""}]
[]
[null,null,null,null,"Componente IRC",null,null,null,{"$f":"IFERROR((Q271*E291*(((G291/2)-5)*I299+5*G299))/(((K291*M291)-E291)+E295+M295)*(1-E299),\"\")","v":""}]
[]
[]
[]
[null,null,null,null,"Cumplimiento del criterio",null,null,null,null,null,{"$f":"IFERROR(IF(I308=\"\",\"\",IF(I308>= 2,\"Sí\",\"No\")),\"\")","v":""},null,null,null,null,null,null,null,null,null,null,null,{"$f":"IF(K305=\"Sí\",K254,0)","v":0}]
[]
[]
[null,null,null,null,"Factor luz de día de la estancia",null,null,null,{"$f":"IFERROR(IF(I263=\"Sí\",\"> 2 %\",I273+I283+I301),\"\")","v":""},null,{"$f":"IF(K254=\"\",\"No olvides rellenar el multiplicador\",\"\")","v":"No olvides rellenar el multiplicador"}]
[]
[]
[]
[null,null,null,null,"Vivienda 6",null,null,null,"Multiplicador",null,null,null,null,null,"Superficie útil",null,null,null,null,null,null,{"$f":"K312","v":0}]
[]
[]
[null,null,null,null,"¿Se cumplen las cuatro condiciones directas?"]
[]
[null,null,null,null,"¿Hay obstrucciones exteriores?",null,"Profundidad (m)",null,"Hw (m)",null,"Longitud (m)",null,"h(w)",null,"Superficie útil (m)",null,"Longitud de la ventana (m)"]
[]
[null,null,null,null,null,null,null,null,null,null,null,null,null,null,{"$f":"Q312","v":0}]
[]
[null,null,null,null,"Cumplimiento de las condiciones",null,null,null,{"$f":"IF(E319=\"\",\"\",IF(AND(E319=\"NO\",G319<2.5*I319,M319*Q319>0.2*O319,Q319>0.6*K319),\"Sí\",\"No\"))","v":""}]
[]
[]
[]
[null,null,null,null,"Cálculo de la componente SC"]
[]
[null,null,null,null,"hw para SC (m)",null,"W1",null,"W2",null,"D1",null,"Tipo de vidrio",null,null,null,"Transmitancia del vidrio"]
[]
[null,null,null,null,null,null,null,null,null,null,null,null,null,null,null,null,{"$f":"IFERROR(VLOOKUP(M329,$Z$3:$AA$6,2,FALSE),\"\")","v":""}]
[]
[null,null,null,null,"Componente SC",null,null,null,{"$f":"IFERROR(('Ayuda CAI 03'!E316+'Ayuda CAI 03'!G316)*Q329,\"\")","v":""}]
[]
[]
[]
[null,null,null,null,"Cálculo de la componente ERC"]
[]
[null,null,null,null,"hw para ERC (m)"]
[]
[]
[]
[null,null,null,null,"Componente ERC",null,null,null,{"$f":"IFERROR(IF(E339=\"\",0,('Ayuda CAI 03'!E326+'Ayuda CAI 03'!G326)*Q329),\"\")","v":0}]
[]
[]
[]
[null,null,null,null,"Cálculo de la componente IRC"]
[]
[null,null,null,null,"Área acristalada neta de ventanas",null,"Ángulo de cielo visible",null,"Altura del punto medio de las ventanas",null,"Longitud de paredes",null,"Altura de paredes",null,"Color de paredes",null,"Reflectancia de paredes"]
[]
[null,null,null,null,null,null,null,null,null,null,null,null,null,null,null,null,{"$f":"IFERROR(VLOOKUP(O349,AA$14:AB$16,2,FALSE),\"\")","v":""}]
[]
[null,null,null,null,"Superficie de techo",null,"Color de techo",null,"Reflectancia de techo",null,null,null,"Superficie de suelo",null,"Color de suelo",null,"Reflectancia de suelo"]
[]
[null,null,null,null,null,null,null,null,{"$f":"IFERROR(VLOOKUP(G353,AA$11:AB$13,2,FALSE),\"\")","v":""},null,null,null,null,null,null,null,{"$f":"IFERROR(VLOOKUP(O353,AA$17:AB$18,2,FALSE),\"\")","v":""}]
[]
[null,null,null,null,"Reflectancia media",null,"Reflectancia media superior",null,"Reflectancia media inferior"]
[]
[null,null,null,null,{"$f":"IFERROR(((((K349*M349)-E349)*Q349)+(E353*I353)+(M353*Q353))/(((K349*M349)-E349)+E353+M353),\"\")","v":""},null,{"$f":"IFERROR(((((K349*(M349-I349))-E349/2)*Q349)+(E353*I353))/(((K349*M349)-E349)+E353),\"\")","v":""},null,{"$f":"IFERROR(((((K349*I349)-E349/2)*Q349)+(M353*Q353))/((K349*E349)+M353),\"\")","v":""}]
[]
[null,null,null,null,"Componente IRC",null,null,null,{"$f":"IFERROR((Q329*E349*(((G349/2)-5)*I357+5*G357))/(((K349*M349)-E349)+E353+M353)*(1-E357),\"\")","v":""}]
[]
[]
[]
[null,null,null,null,"Cumplimiento del criterio",null,null,null,null,null,{"$f":"IFERROR(IF(I366=\"\",\"\",IF(I366>= 2,\"Sí\",\"No\")),\"\")","v":""},null,null,null,null,null,null,null,null,null,null,null,{"$f":"IF(K363=\"Sí\",K312,0)","v":0}]
[]
[]
[null,null,null,null,"Factor luz de día de la estancia",null,null,null,{"$f":"IFERROR(IF(I321=\"Sí\",\"> 2 %\",I331+I341+I359),\"\")","v":""},null,{"$f":"IF(K312=\"\",\"No olvides rellenar el multiplicador\",\"\")","v":"No olvides rellenar el multiplicador"}]
[]
[]
[]
[null,null,null,null,"Vivienda 7",null,null,null,"Multiplicador",null,null,null,null,null,"Superficie útil",null,null,null,null,null,null,{"$f":"K370","v":0}]
[]
[]
[null,null,null,null,"¿Se cumplen las cuatro condiciones directas?"]
[]
[null,null,null,null,"¿Hay obstrucciones exteriores?",null,"Profundidad (m)",null,"Hw (m)",null,"Longitud (m)",null,"h(w)",null,"Superficie útil (m)",null,"Longitud de la ventana (m)"]
[]
[null,null,null,null,null,null,null,null,null,null,null,null,null,null,{"$f":"Q370","v":0}]
[]
[null,null,null,null,"Cumplimiento de las condiciones",null,null,null,{"$f":"IF(E377=\"\",\"\",IF(AND(E377=\"NO\",G377<2.5*I377,M377*Q377>0.2*O377,Q377>0.6*K377),\"Sí\",\"No\"))","v":""}]
[]
[]
[]
[null,null,null,null,"Cálculo de la componente SC"]
[]
[null,null,null,null,"hw para SC (m)",null,"W1",null,"W2",null,"D1",null,"Tipo de vidrio",null,null,null,"Transmitancia del vidrio"]
[]
[null,null,null,null,null,null,null,null,null,null,null,null,null,null,null,null,{"$f":"IFERROR(VLOOKUP(M387,$Z$3:$AA$6,2,FALSE),\"\")","v":""}]
[]
[null,null,null,null,"Componente SC",null,null,null,{"$f":"IFERROR(('Ayuda CAI 03'!E373+'Ayuda CAI 03'!G373)*Q387,\"\")","v":""}]
[]
[]
[]
[null,null,null,null,"Cálculo de la componente ERC"]
[]
[null,null,null,null,"hw para ERC (m)"]
[]
[]
[]
[null,null,null,null,"Componente ERC",null,null,null,{"$f":"IFERROR(IF(E397=\"\",0,('Ayuda CAI 03'!E383+'Ayuda CAI 03'!G383)*Q387),\"\")","v":0}]
[]
[]
[]
[null,null,null,null,"Cálculo de la componente IRC"]
[]
[null,null,null,null,"Área acristalada neta de ventanas",null,"Ángulo de cielo visible",null,"Altura del punto medio de las ventanas",null,"Longitud de paredes",null,"Altura de paredes",null,"Color de paredes",null,"Reflectancia de paredes"]
[]
[null,null,null,null,null,null,null,null,null,null,null,null,null,null,null,null,{"$f":"IFERROR(VLOOKUP(O407,AA$14:AB$16,2,FALSE),\"\")","v":""}]
[]
[null,null,null,null,"Superficie de techo",null,"Color de techo",null,"Reflectancia de techo",null,null,null,"Superficie de suelo",null,"Color de suelo",null,"Reflectancia de suelo"]
[]
[null,null,null,null,null,null,null,null,{"$f":"IFERROR(VLOOKUP(G411,AA$11:AB$13,2,FALSE),\"\")","v":""},null,null,null,null,null,null,null,{"$f":"IFERROR(VLOOKUP(O411,AA$17:AB$18,2,FALSE),\"\")","v":""}]
[]
[null,null,null,null,"Reflectancia media",null,"Reflectancia media superior",null,"Reflectancia media inferior"]
[]
[null,null,null,null,{"$f":"IFERROR(((((K407*M407)-E407)*Q407)+(E411*I411)+(M411*Q411))/(((K407*M407)-E407)+E411+M411),\"\")","v":""},null,{"$f":"IFERROR(((((K407*(M407-I407))-E407/2)*Q407)+(E411*I411))/(((K407*M407)-E407)+E411),\"\")","v":""},null,{"$f":"IFERROR(((((K407*I407)-E407/2)*Q407)+(M411*Q411))/((K407*E407)+M411),\"\")","v":""}]
[]
[null,null,null,null,"Componente IRC",null,null,null,{"$f":"IFERROR((Q387*E407*(((G407/2)-5)*I415+5*G415))/(((K407*M407)-E407)+E411+M411)*(1-E415),\"\")","v":""}]
[]
[]
[]
[null,null,null,null,"Cumplimiento del criterio",null,null,null,null,null,{"$f":"IFERROR(IF(I424=\"\",\"\",IF(I424>= 2,\"Sí\",\"No\")),\"\")","v":""},null,null,null,null,null,null,null,null,null,null,null,{"$f":"IF(K421=\"Sí\",K370,0)","v":0}]
[]
[]
[null,null,null,null,"Factor luz de día de la estancia",null,null,null,{"$f":"IFERROR(IF(I379=\"Sí\",\"> 2 %\",I389+I399+I417),\"\")","v":""},null,{"$f":"IF(K370=\"\",\"No olvides rellenar el multiplicador\",\"\")","v":"No olvides rellenar el multiplicador"}]
[]
[]
[]
[null,null,null,null,"Vivienda 8",null,null,null,"Multiplicador",null,null,null,null,null,"Superficie útil",null,null,null,null,null,null,{"$f":"K428","v":0}]
[]
[]
[null,null,null,null,"¿Se cumplen las cuatro condiciones directas?"]
[]
[null,null,null,null,"¿Hay obstrucciones exteriores?",null,"Profundidad (m)",null,"Hw (m)",null,"Longitud (m)",null,"h(w)",null,"Superficie útil (m)",null,"Longitud de la ventana (m)"]
[]
[null,null,null,null,null,null,null,null,null,null,null,null,null,null,{"$f":"Q428","v":0}]
[]
[null,null,null,null,"Cumplimiento de las condiciones",null,null,null,{"$f":"IF(E435=\"\",\"\",IF(AND(E435=\"NO\",G435<2.5*I435,M435*Q435>0.2*O435,Q435>0.6*K435),\"Sí\",\"No\"))","v":""}]
[]
[]
[]
[null,null,null,null,"Cálculo de la componente SC"]
[]
[null,null,null,null,"hw para SC (m)",null,"W1",null,"W2",null,"D1",null,"Tipo de vidrio",null,null,null,"Transmitancia del vidrio"]
[]
[null,null,null,null,null,null,null,null,null,null,null,null,null,null,null,null,{"$f":"IFERROR(VLOOKUP(M445,$Z$3:$AA$6,2,FALSE),\"\")","v":""}]
[]
[null,null,null,null,"Componente SC",null,null,null,{"$f":"IFERROR(('Ayuda CAI 03'!E430+'Ayuda CAI 03'!G430)*Q445,\"\")","v":""}]
[]
[]
[]
[null,null,null,null,"Cálculo de la componente ERC"]
[]
[null,null,null,null,"hw para ERC (m)"]
[]
[]
[]
[null,null,null,null,"Componente ERC",null,null,null,{"$f":"IFERROR(IF(E455=\"\",0,('Ayuda CAI 03'!E440+'Ayuda CAI 03'!G440)*Q445),\"\")","v":0}]
[]
[]
[]
[null,null,null,null,"Cálculo de la componente IRC"]
[]
[null,null,null,null,"Área acristalada neta de ventanas",null,"Ángulo de cielo visible",null,"Altura del punto medio de las ventanas",null,"Longitud de paredes",null,"Altura de paredes",null,"Color de paredes",null,"Reflectancia de paredes"]
[]
[null,null,null,null,null,null,null,null,null,null,null,null,null,null,null,null,{"$f":"IFERROR(VLOOKUP(O465,AA$14:AB$16,2,FALSE),\"\")","v":""}]
[]
[null,null,null,null,"Superficie de techo",null,"Color de techo",null,"Reflectancia de techo",null,null,null,"Superficie de suelo",null,"Color de suelo",null,"Reflectancia de suelo"]
[]
[null,null,null,null,null,null,null,null,{"$f":"IFERROR(VLOOKUP(G469,AA$11:AB$13,2,FALSE),\"\")","v":""},null,null,null,null,null,null,null,{"$f":"IFERROR(VLOOKUP(O469,AA$17:AB$18,2,FALSE),\"\")","v":""}]
[]
[null,null,null,null,"Reflectancia media",null,"Reflectancia media superior",null,"Reflectancia media inferior"]
[]
[null,null,null,null,{"$f":"IFERROR(((((K465*M465)-E465)*Q465)+(E469*I469)+(M469*Q469))/(((K465*M465)-E465)+E469+M469),\"\")","v":""},null,{"$f":"IFERROR(((((K465*(M465-I465))-E465/2)*Q465)+(E469*I469))/(((K465*M465)-E465)+E469),\"\")","v":""},null,{"$f":"IFERROR(((((K465*I465)-E465/2)*Q465)+(M469*Q469))/((K465*E465)+M469),\"\")","v":""}]
[]
[null,null,null,null,"Componente IRC",null,null,null,{"$f":"IFERROR((Q445*E465*(((G465/2)-5)*I473+5*G473))/(((K465*M465)-E465)+E469+M469)*(1-E473),\"\")","v":""}]
[]
[]
[]
[null,null,null,null,"Cumplimiento del criterio",null,null,null,null,null,{"$f":"IFERROR(IF(I482=\"\",\"\",IF(I482>= 2,\"Sí\",\"No\")),\"\")","v":""},null,null,null,null,null,null,null,null,null,null,null,{"$f":"IF(K479=\"Sí\",K428,0)","v":0}]
[]
[]
[null,null,null,null,"Factor luz de día de la estancia",null,null,null,{"$f":"IFERROR(IF(I437=\"Sí\",\"> 2 %\",I447+I457+I475),\"\")","v":""},null,{"$f":"IF(K428=\"\",\"No olvides rellenar el multiplicador\",\"\")","v":"No olvides rellenar el multiplicador"}]
[]
[]
[null,null,null,null,"Vivienda 9",null,null,null,"Multiplicador",null,null,null,null,null,"Superficie útil",null,null,null,null,null,null,{"$f":"K485","v":0}]
[]
[]
[null,null,null,null,"¿Se cumplen las cuatro condiciones directas?"]
[]
[null,null,null,null,"¿Hay obstrucciones exteriores?",null,"Profundidad (m)",null,"Hw (m)",null,"Longitud (m)",null,"h(w)",null,"Superficie útil (m)",null,"Longitud de la ventana (m)"]
[]
[null,null,null,null,null,null,null,null,null,null,null,null,null,null,{"$f":"Q485","v":0}]
[]
[null,null,null,null,"Cumplimiento de las condiciones",null,null,null,{"$f":"IF(E492=\"\",\"\",IF(AND(E492=\"NO\",G492<2.5*I492,M492*Q492>0.2*O492,Q492>0.6*K492),\"Sí\",\"No\"))","v":""}]
[]
[]
[]
[null,null,null,null,"Cálculo de la componente SC"]
[]
[null,null,null,null,"hw para SC (m)",null,"W1",null,"W2",null,"D1",null,"Tipo de vidrio",null,null,null,"Transmitancia del vidrio"]
[]
[null,null,null,null,null,null,null,null,null,null,null,null,null,null,null,null,{"$f":"IFERROR(VLOOKUP(M502,$Z$3:$AA$6,2,FALSE),\"\")","v":""}]
[]
[null,null,null,null,"Componente SC",null,null,null,{"$f":"IFERROR(('Ayuda CAI 03'!E487+'Ayuda CAI 03'!G487)*Q502,\"\")","v":""}]
[]
[]
[]
[null,null,null,null,"Cálculo de la componente ERC"]
[]
[null,null,null,null,"hw para ERC (m)"]
[]
[]
[]
[null,null,null,null,"Componente ERC",null,null,null,{"$f":"IFERROR(IF(E512=\"\",0,('Ayuda CAI 03'!E497+'Ayuda CAI 03'!G497)*Q502),\"\")","v":0}]
[]
[]
[]
[null,null,null,null,"Cálculo de la componente IRC"]
[]
[null,null,null,null,"Área acristalada neta de ventanas",null,"Ángulo de cielo visible",null,"Altura del punto medio de las ventanas",null,"Longitud de paredes",null,"Altura de paredes",null,"Color de paredes",null,"Reflectancia de paredes"]
[]
[null,null,null,null,null,null,null,null,null,null,null,null,null,null,null,null,{"$f":"IFERROR(VLOOKUP(O522,AA$14:AB$16,2,FALSE),\"\")","v":""}]
[]
[null,null,null,null,"Superficie de techo",null,"Color de techo",null,"Reflectancia de techo",null,null,null,"Superficie de suelo",null,"Color de suelo",null,"Reflectancia de suelo"]
[]
[null,null,null,null,null,null,null,null,{"$f":"IFERROR(VLOOKUP(G526,AA$11:AB$13,2,FALSE),\"\")","v":""},null,null,null,null,null,null,null,{"$f":"IFERROR(VLOOKUP(O526,AA$17:AB$18,2,FALSE),\"\")","v":""}]
[]
[null,null,null,null,"Reflectancia media",null,"Reflectancia media superior",null,"Reflectancia media inferior"]
[]
[null,null,null,null,{"$f":"IFERROR(((((K522*M522)-E522)*Q522)+(E526*I526)+(M526*Q526))/(((K522*M522)-E522)+E526+M526),\"\")","v":""},null,{"$f":"IFERROR(((((K522*(M522-I522))-E522/2)*Q522)+(E526*I526))/(((K522*M522)-E522)+E526),\"\")","v":""},null,{"$f":"IFERROR(((((K522*I522)-E522/2)*Q522)+(M526*Q526))/((K522*E522)+M526),\"\")","v":""}]
[]
[null,null,null,null,"Componente IRC",null,null,null,{"$f":"IFERROR((Q502*E522*(((G522/2)-5)*I530+5*G530))/(((K522*M522)-E522)+E526+M526)*(1-E530),\"\")","v":""}]
[]
[]
[]
[null,null,null,null,"Cumplimiento del criterio",null,null,null,null,null,{"$f":"IFERROR(IF(I539=\"\",\"\",IF(I539>= 2,\"Sí\",\"No\")),\"\")","v":""},null,null,null,null,null,null,null,null,null,null,null,{"$f":"IF(K536=\"Sí\",K485,0)","v":0}]
[]
[]
[null,null,null,null,"Factor luz de día de la estancia",null,null,null,{"$f":"IFERROR(IF(I494=\"Sí\",\"> 2 %\",I504+I514+I532),\"\")","v":""},null,{"$f":"IF(K485=\"\",\"No olvides rellenar el multiplicador\",\"\")","v":"No olvides rellenar el multiplicador"}]
[]
[]
[null,null,null,null,"Vivienda 10",null,null,null,"Multiplicador",null,null,null,null,null,"Superficie útil",null,null,null,null,null,null,{"$f":"K542","v":0}]
[]
[]
[null,null,null,null,"¿Se cumplen las cuatro condiciones directas?"]
[]
[null,null,null,null,"¿Hay obstrucciones exteriores?",null,"Profundidad (m)",null,"Hw (m)",null,"Longitud (m)",null,"h(w)",null,"Superficie útil (m)",null,"Longitud de la ventana (m)"]
[]
[null,null,null,null,null,null,null,null,null,null,null,null,null,null,{"$f":"Q542","v":0}]
[]
[null,null,null,null,"Cumplimiento de las condiciones",null,null,null,{"$f":"IF(E549=\"\",\"\",IF(AND(E549=\"NO\",G549<2.5*I549,M549*Q549>0.2*O549,Q549>0.6*K549),\"Sí\",\"No\"))","v":""}]
[]
[]
[]
[null,null,null,null,"Cálculo de la componente SC"]
[]
[null,null,null,null,"hw para SC (m)",null,"W1",null,"W2",null,"D1",null,"Tipo de vidrio",null,null,null,"Transmitancia del vidrio"]
[]
[null,null,null,null,null,null,null,null,null,null,null,null,null,null,null,null,{"$f":"IFERROR(VLOOKUP(M559,$Z$3:$AA$6,2,FALSE),\"\")","v":""}]
[]
[null,null,null,null,"Componente SC",null,null,null,{"$f":"IFERROR(('Ayuda CAI 03'!E544+'Ayuda CAI 03'!G544)*Q559,\"\")","v":""}]
[]
[]
[]
[null,null,null,null,"Cálculo de la componente ERC"]
[]
[null,null,null,null,"hw para ERC (m)"]
[]
[]
[]
[null,null,null,null,"Componente ERC",null,null,null,{"$f":"IFERROR(IF(E569=\"\",0,('Ayuda CAI 03'!E554+'Ayuda CAI 03'!G554)*Q559),\"\")","v":0}]
[]
[]
[]
[null,null,null,null,"Cálculo de la componente IRC"]
[]
[null,null,null,null,"Área acristalada neta de ventanas",null,"Ángulo de cielo visible",null,"Altura del punto medio de las ventanas",null,"Longitud de paredes",null,"Altura de paredes",null,"Color de paredes",null,"Reflectancia de paredes"]
[]
[null,null,null,null,null,null,null,null,null,null,null,null,null,null,null,null,{"$f":"IFERROR(VLOOKUP(O579,AA$14:AB$16,2,FALSE),\"\")","v":""}]
[]
[null,null,null,null,"Superficie de techo",null,"Color de techo",null,"Reflectancia de techo",null,null,null,"Superficie de suelo",null,"Color de suelo",null,"Reflectancia de suelo"]
[]
[null,null,null,null,null,null,null,null,{"$f":"IFERROR(VLOOKUP(G583,AA$11:AB$13,2,FALSE),\"\")","v":""},null,null,null,null,null,null,null,{"$f":"IFERROR(VLOOKUP(O583,AA$17:AB$18,2,FALSE),\"\")","v":""}]
[]
[null,null,null,null,"Reflectancia media",null,"Reflectancia media superior",null,"Reflectancia media inferior"]
[]
[null,null,null,null,{"$f":"IFERROR(((((K579*M579)-E579)*Q579)+(E583*I583)+(M583*Q583))/(((K579*M579)-E579)+E583+M583),\"\")","v":""},null,{"$f":"IFERROR(((((K579*(M579-I579))-E579/2)*Q579)+(E583*I583))/(((K579*M579)-E579)+E583),\"\")","v":""},null,{"$f":"IFERROR(((((K579*I579)-E579/2)*Q579)+(M583*Q583))/((K579*E579)+M583),\"\")","v":""}]
[]
[null,null,null,null,"Componente IRC",null,null,null,{"$f":"IFERROR((Q559*E579*(((G579/2)-5)*I587+5*G587))/(((K579*M579)-E579)+E583+M583)*(1-E587),\"\")","v":""}]
[]
[]
[]
[null,null,null,null,"Cumplimiento del criterio",null,null,null,null,null,{"$f":"IFERROR(IF(I596=\"\",\"\",IF(I596>= 2,\"Sí\",\"No\")),\"\")","v":""},null,null,null,null,null,null,null,null,null,null,null,{"$f":"IF(K593=\"Sí\",K542,0)","v":0}]
[]
[]
[null,null,null,null,"Factor luz de día de la estancia",null,null,null,{"$f":"IFERROR(IF(I551=\"Sí\",\"> 2 %\",I561+I571+I589),\"\")","v":""},null,{"$f":"IF(K542=\"\",\"No olvides rellenar el multiplicador\",\"\")","v":"No olvides rellenar el multiplicador"}]
[]
[]
[null,null,null,null,"Vivienda 11",null,null,null,"Multiplicador",null,null,null,null,null,"Superficie útil",null,null,null,null,null,null,{"$f":"K599","v":0}]
[]
[]
[null,null,null,null,"¿Se cumplen las cuatro condiciones directas?"]
[]
[null,null,null,null,"¿Hay obstrucciones exteriores?",null,"Profundidad (m)",null,"Hw (m)",null,"Longitud (m)",null,"h(w)",null,"Superficie útil (m)",null,"Longitud de la ventana (m)"]
[]
[null,null,null,null,null,null,null,null,null,null,null,null,null,null,{"$f":"Q599","v":0}]
[]
[null,null,null,null,"Cumplimiento de las condiciones",null,null,null,{"$f":"IF(E606=\"\",\"\",IF(AND(E606=\"NO\",G606<2.5*I606,M606*Q606>0.2*O606,Q606>0.6*K606),\"Sí\",\"No\"))","v":""}]
[]
[]
[]
[null,null,null,null,"Cálculo de la componente SC"]
[]
[null,null,null,null,"hw para SC (m)",null,"W1",null,"W2",null,"D1",null,"Tipo de vidrio",null,null,null,"Transmitancia del vidrio"]
[]
[null,null,null,null,null,null,null,null,null,null,null,null,null,null,null,null,{"$f":"IFERROR(VLOOKUP(M616,$Z$3:$AA$6,2,FALSE),\"\")","v":""}]
[]
[null,null,null,null,"Componente SC",null,null,null,{"$f":"IFERROR(('Ayuda CAI 03'!E601+'Ayuda CAI 03'!G601)*Q616,\"\")","v":""}]
[]
[]
[]
[null,null,null,null,"Cálculo de la componente ERC"]
[]
[null,null,null,null,"hw para ERC (m)"]
[]
[]
[]
[null,null,null,null,"Componente ERC",null,null,null,{"$f":"IFERROR(IF(E626=\"\",0,('Ayuda CAI 03'!E611+'Ayuda CAI 03'!G611)*Q616),\"\")","v":0}]
[]
[]
[]
[null,null,null,null,"Cálculo de la componente IRC"]
[]
[null,null,null,null,"Área acristalada neta de ventanas",null,"Ángulo de cielo visible",null,"Altura del punto medio de las ventanas",null,"Longitud de paredes",null,"Altura de paredes",null,"Color de paredes",null,"Reflectancia de paredes"]
[]
[null,null,null,null,null,null,null,null,null,null,null,null,null,null,null,null,{"$f":"IFERROR(VLOOKUP(O636,AA$14:AB$16,2,FALSE),\"\")","v":""}]
[]
[null,null,null,null,"Superficie de techo",null,"Color de techo",null,"Reflectancia de techo",null,null,null,"Superficie de suelo",null,"Color de suelo",null,"Reflectancia de suelo"]
[]
[null,null,null,null,null,null,null,null,{"$f":"IFERROR(VLOOKUP(G640,AA$11:AB$13,2,FALSE),\"\")","v":""},null,null,null,null,null,null,null,{"$f":"IFERROR(VLOOKUP(O640,AA$17:AB$18,2,FALSE),\"\")","v":""}]
[]
[null,null,null,null,"Reflectancia media",null,"Reflectancia media superior",null,"Reflectancia media inferior"]
[]
[null,null,null,null,{"$f":"IFERROR(((((K636*M636)-E636)*Q636)+(E640*I640)+(M640*Q640))/(((K636*M636)-E636)+E640+M640),\"\")","v":""},null,{"$f":"IFERROR(((((K636*(M636-I636))-E636/2)*Q636)+(E640*I640))/(((K636*M636)-E636)+E640),\"\")","v":""},null,{"$f":"IFERROR(((((K636*I636)-E636/2)*Q636)+(M640*Q640))/((K636*E636)+M640),\"\")","v":""}]
[]
[null,null,null,null,"Componente IRC",null,null,null,{"$f":"IFERROR((Q616*E636*(((G636/2)-5)*I644+5*G644))/(((K636*M636)-E636)+E640+M640)*(1-E644),\"\")","v":""}]
[]
[]
[]
[null,null,null,null,"Cumplimiento del criterio",null,null,null,null,null,{"$f":"IFERROR(IF(I653=\"\",\"\",IF(I653>= 2,\"Sí\",\"No\")),\"\")","v":""},null,null,null,null,null,null,null,null,null,null,null,{"$f":"IF(K650=\"Sí\",K599,0)","v":0}]
[]
[]
[null,null,null,null,"Factor luz de día de la estancia",null,null,null,{"$f":"IFERROR(IF(I608=\"Sí\",\"> 2 %\",I618+I628+I646),\"\")","v":""},null,{"$f":"IF(K599=\"\",\"No olvides rellenar el multiplicador\",\"\")","v":"No olvides rellenar el multiplicador"}]
[]
[]
[null,null,null,null,"Vivienda 12",null,null,null,"Multiplicador",null,null,null,null,null,"Superficie útil",null,null,null,null,null,null,{"$f":"K656","v":0}]
[]
[]
[null,null,null,null,"¿Se cumplen las cuatro condiciones directas?"]
[]
[null,null,null,null,"¿Hay obstrucciones exteriores?",null,"Profundidad (m)",null,"Hw (m)",null,"Longitud (m)",null,"h(w)",null,"Superficie útil (m)",null,"Longitud de la ventana (m)"]
[]
[null,null,null,null,"No",null,5,null,2.2999999999999998,null,7,null,1.2,null,{"$f":"Q656","v":0},null,6]
[]
[null,null,null,null,"Cumplimiento de las condiciones",null,null,null,{"$f":"IF(E663=\"\",\"\",IF(AND(E663=\"NO\",G663<2.5*I663,M663*Q663>0.2*O663,Q663>0.6*K663),\"Sí\",\"No\"))","v":"Sí"}]
[]
[]
[]
[null,null,null,null,"Cálculo de la componente SC"]
[]
[null,null,null,null,"hw para SC (m)",null,"W1",null,"W2",null,"D1",null,"Tipo de vidrio",null,null,null,"Transmitancia del vidrio"]
[]
[null,null,null,null,null,null,null,null,null,null,null,null,"Vidrio doble climalit",null,null,null,{"$f":"IFERROR(VLOOKUP(M673,$Z$3:$AA$6,2,FALSE),\"\")","v":0.8}]
[]
[null,null,null,null,"Componente SC",null,null,null,{"$f":"IFERROR(('Ayuda CAI 03'!E658+'Ayuda CAI 03'!G658)*Q673,\"\")","v":0}]
[]
[]
[]
[null,null,null,null,"Cálculo de la componente ERC"]
[]
[null,null,null,null,"hw para ERC (m)"]
[]
[]
[]
[null,null,null,null,"Componente ERC",null,null,null,{"$f":"IFERROR(IF(E683=\"\",0,('Ayuda CAI 03'!E668+'Ayuda CAI 03'!G668)*Q673),\"\")","v":0}]
[]
[]
[]
[null,null,null,null,"Cálculo de la componente IRC"]
[]
[null,null,null,null,"Área acristalada neta de ventanas",null,"Ángulo de cielo visible",null,"Altura del punto medio de las ventanas",null,"Longitud de paredes",null,"Altura de paredes",null,"Color de paredes",null,"Reflectancia de paredes"]
[]
[null,null,null,null,null,null,null,null,null,null,null,null,null,null,"medio",null,{"$f":"IFERROR(VLOOKUP(O693,AA$14:AB$16,2,FALSE),\"\")","v":0.3}]
[]
[null,null,null,null,"Superficie de techo",null,"Color de techo",null,"Reflectancia de techo",null,null,null,"Superficie de suelo",null,"Color de suelo",null,"Reflectancia de suelo"]
[]
[null,null,null,null,null,null,"claro",null,{"$f":"IFERROR(VLOOKUP(G697,AA$11:AB$13,2,FALSE),\"\")","v":0.5},null,null,null,null,null,"oscuro",null,{"$f":"IFERROR(VLOOKUP(O697,AA$17:AB$18,2,FALSE),\"\")","v":0.1}]
[]
[null,null,null,null,"Reflectancia media",null,"Reflectancia media superior",null,"Reflectancia media inferior"]
[]
[null,null,null,null,{"$f":"IFERROR(((((K693*M693)-E693)*Q693)+(E697*I697)+(M697*Q697))/(((K693*M693)-E693)+E697+M697),\"\")","v":""},null,{"$f":"IFERROR(((((K693*(M693-I693))-E693/2)*Q693)+(E697*I697))/(((K693*M693)-E693)+E697),\"\")","v":""},null,{"$f":"IFERROR(((((K693*I693)-E693/2)*Q693)+(M697*Q697))/((K693*E693)+M697),\"\")","v":""}]
[]
[null,null,null,null,"Componente IRC",null,null,null,{"$f":"IFERROR((Q673*E693*(((G693/2)-5)*I701+5*G701))/(((K693*M693)-E693)+E697+M697)*(1-E701),\"\")","v":""}]
[]
[]
[]
[null,null,null,null,"Cumplimiento del criterio",null,null,null,null,null,{"$f":"IFERROR(IF(I710=\"\",\"\",IF(I710>= 2,\"Sí\",\"No\")),\"\")","v":"Sí"},null,null,null,null,null,null,null,null,null,null,null,{"$f":"IF(K707=\"Sí\",K656,0)","v":0}]
[]
[]
[null,null,null,null,"Factor luz de día de la estancia",null,null,null,{"$f":"IFERROR(IF(I665=\"Sí\",\"> 2 %\",I675+I685+I703),\"\")","v":"> 2 %"},null,{"$f":"IF(K656=\"\",\"No olvides rellenar el multiplicador\",\"\")","v":"No olvides rellenar el multiplicador"}]
[]
[]
[null,null,null,null,"Vivienda 13",null,null,null,"Multiplicador",null,null,null,null,null,"Superficie útil",null,35,null,null,null,null,{"$f":"K713","v":0}]
[]
[]
[null,null,null,null,"¿Se cumplen las cuatro condiciones directas?"]
[]
[null,null,null,null,"¿Hay obstrucciones exteriores?",null,"Profundidad (m)",null,"Hw (m)",null,"Longitud (m)",null,"h(w)",null,"Superficie útil (m)",null,"Longitud de la ventana (m)"]
[]
[null,null,null,null,"No",null,5,null,2.2999999999999998,null,7,null,1.2,null,{"$f":"Q713","v":35},null,6]
[]
[null,null,null,null,"Cumplimiento de las condiciones",null,null,null,{"$f":"IF(E720=\"\",\"\",IF(AND(E720=\"NO\",G720<2.5*I720,M720*Q720>0.2*O720,Q720>0.6*K720),\"Sí\",\"No\"))","v":"Sí"}]
[]
[]
[]
[null,null,null,null,"Cálculo de la componente SC"]
[]
[null,null,null,null,"hw para SC (m)",null,"W1",null,"W2",null,"D1",null,"Tipo de vidrio",null,null,null,"Transmitancia del vidrio"]
[]
[null,null,null,null,null,null,null,null,null,null,null,null,"Vidrio doble bajo emisivo",null,null,null,{"$f":"IFERROR(VLOOKUP(M730,$Z$3:$AA$6,2,FALSE),\"\")","v":0.72}]
[]
[null,null,null,null,"Componente SC",null,null,null,{"$f":"IFERROR(('Ayuda CAI 03'!E715+'Ayuda CAI 03'!G715)*Q730,\"\")","v":0}]
[]
[]
[]
[null,null,null,null,"Cálculo de la componente ERC"]
[]
[null,null,null,null,"hw para ERC (m)"]
[]
[]
[]
[null,null,null,null,"Componente ERC",null,null,null,{"$f":"IFERROR(IF(E740=\"\",0,('Ayuda CAI 03'!E725+'Ayuda CAI 03'!G725)*Q730),\"\")","v":0}]
[]
[]
[]
[null,null,null,null,"Cálculo de la componente IRC"]
[]
[null,null,null,null,"Área acristalada neta de ventanas",null,"Ángulo de cielo visible",null,"Altura del punto medio de las ventanas",null,"Longitud de paredes",null,"Altura de paredes",null,"Color de paredes",null,"Reflectancia de paredes"]
[]
[null,null,null,null,null,null,null,null,null,null,null,null,null,null,"claro",null,{"$f":"IFERROR(VLOOKUP(O750,AA$14:AB$16,2,FALSE),\"\")","v":0.5}]
[]
[null,null,null,null,"Superficie de techo",null,"Color de techo",null,"Reflectancia de techo",null,null,null,"Superficie de suelo",null,"Color de suelo",null,"Reflectancia de suelo"]
[]
[null,null,null,null,null,null,"claro",null,{"$f":"IFERROR(VLOOKUP(G754,AA$11:AB$13,2,FALSE),\"\")","v":0.5},null,null,null,null,null,"oscuro",null,{"$f":"IFERROR(VLOOKUP(O754,AA$17:AB$18,2,FALSE),\"\")","v":0.1}]
[]
[null,null,null,null,"Reflectancia media",null,"Reflectancia media superior",null,"Reflectancia media inferior"]
[]
[null,null,null,null,{"$f":"IFERROR(((((K750*M750)-E750)*Q750)+(E754*I754)+(M754*Q754))/(((K750*M750)-E750)+E754+M754),\"\")","v":""},null,{"$f":"IFERROR(((((K750*(M750-I750))-E750/2)*Q750)+(E754*I754))/(((K750*M750)-E750)+E754),\"\")","v":""},null,{"$f":"IFERROR(((((K750*I750)-E750/2)*Q750)+(M754*Q754))/((K750*E750)+M754),\"\")","v":""}]
[]
[null,null,null,null,"Componente IRC",null,null,null,{"$f":"IFERROR((Q730*E750*(((G750/2)-5)*I758+5*G758))/(((K750*M750)-E750)+E754+M754)*(1-E758),\"\")","v":""}]
[]
[]
[]
[null,null,null,null,"Cumplimiento del criterio",null,null,null,null,null,{"$f":"IFERROR(IF(I767=\"\",\"\",IF(I767>= 2,\"Sí\",\"No\")),\"\")","v":"Sí"},null,null,null,null,null,null,null,null,null,null,null,{"$f":"IF(K764=\"Sí\",K713,0)","v":0}]
[]
[]
[null,null,null,null,"Factor luz de día de la estancia",null,null,null,{"$f":"IFERROR(IF(I722=\"Sí\",\"> 2 %\",I732+I742+I760),\"\")","v":"> 2 %"},null,{"$f":"IF(K713=\"\",\"No olvides rellenar el multiplicador\",\"\")","v":"No olvides rellenar el multiplicador"}]
[]
[]
[null,null,null,null,"Vivienda 14",null,null,null,"Multiplicador",null,null,null,null,null,"Superficie útil",null,null,null,null,null,null,{"$f":"K770","v":0}]
[]
[]
[null,null,null,null,"¿Se cumplen las cuatro condiciones directas?"]
[]
[null,null,null,null,"¿Hay obstrucciones exteriores?",null,"Profundidad (m)",null,"Hw (m)",null,"Longitud (m)",null,"h(w)",null,"Superficie útil (m)",null,"Longitud de la ventana (m)"]
[]
[null,null,null,null,"No",null,5,null,2.2999999999999998,null,7,null,1.2,null,{"$f":"Q770","v":0},null,6]
[]
[null,null,null,null,"Cumplimiento de las condiciones",null,null,null,{"$f":"IF(E777=\"\",\"\",IF(AND(E777=\"NO\",G777<2.5*I777,M777*Q777>0.2*O777,Q777>0.6*K777),\"Sí\",\"No\"))","v":"Sí"}]
[]
[]
[]
[null,null,null,null,"Cálculo de la componente SC"]
[]
[null,null,null,null,"hw para SC (m)",null,"W1",null,"W2",null,"D1",null,"Tipo de vidrio",null,null,null,"Transmitancia del vidrio"]
[]
[null,null,null,null,null,null,null,null,null,null,null,null,"Vidrio simple",null,null,null,{"$f":"IFERROR(VLOOKUP(M787,$Z$3:$AA$6,2,FALSE),\"\")","v":0.87}]
[]
[null,null,null,null,"Componente SC",null,null,null,{"$f":"IFERROR(('Ayuda CAI 03'!E772+'Ayuda CAI 03'!G772)*Q787,\"\")","v":0}]
[]
[]
[]
[null,null,null,null,"Cálculo de la componente ERC"]
[]
[null,null,null,null,"hw para ERC (m)"]
[]
[]
[]
[null,null,null,null,"Componente ERC",null,null,null,{"$f":"IFERROR(IF(E797=\"\",0,('Ayuda CAI 03'!E782+'Ayuda CAI 03'!G782)*Q787),\"\")","v":0}]
[]
[]
[]
[null,null,null,null,"Cálculo de la componente IRC"]
[]
[null,null,null,null,"Área acristalada neta de ventanas",null,"Ángulo de cielo visible",null,"Altura del punto medio de las ventanas",null,"Longitud de paredes",null,"Altura de paredes",null,"Color de paredes",null,"Reflectancia de paredes"]
[]
[null,null,null,null,null,null,null,null,null,null,null,null,null,null,"medio",null,{"$f":"IFERROR(VLOOKUP(O807,AA$14:AB$16,2,FALSE),\"\")","v":0.3}]
[]
[null,null,null,null,"Superficie de techo",null,"Color de techo",null,"Reflectancia de techo",null,null,null,"Superficie de suelo",null,"Color de suelo",null,"Reflectancia de suelo"]
[]
[null,null,null,null,null,null,"claro",null,{"$f":"IFERROR(VLOOKUP(G811,AA$11:AB$13,2,FALSE),\"\")","v":0.5},null,null,null,null,null,"oscuro",null,{"$f":"IFERROR(VLOOKUP(O811,AA$17:AB$18,2,FALSE),\"\")","v":0.1}]
[]
[null,null,null,null,"Reflectancia media",null,"Reflectancia media superior",null,"Reflectancia media inferior"]
[]
[null,null,null,null,{"$f":"IFERROR(((((K807*M807)-E807)*Q807)+(E811*I811)+(M811*Q811))/(((K807*M807)-E807)+E811+M811),\"\")","v":""},null,{"$f":"IFERROR(((((K807*(M807-I807))-E807/2)*Q807)+(E811*I811))/(((K807*M807)-E807)+E811),\"\")","v":""},null,{"$f":"IFERROR(((((K807*I807)-E807/2)*Q807)+(M811*Q811))/((K807*E807)+M811),\"\")","v":""}]
[]
[null,null,null,null,"Componente IRC",null,null,null,{"$f":"IFERROR((Q787*E807*(((G807/2)-5)*I815+5*G815))/(((K807*M807)-E807)+E811+M811)*(1-E815),\"\")","v":""}]
[]
[]
[]
[null,null,null,null,"Cumplimiento del criterio",null,null,null,null,null,{"$f":"IFERROR(IF(I824=\"\",\"\",IF(I824>= 2,\"Sí\",\"No\")),\"\")","v":"Sí"},null,null,null,null,null,null,null,null,null,null,null,{"$f":"IF(K821=\"Sí\",K770,0)","v":0}]
[]
[]
[null,null,null,null,"Factor luz de día de la estancia",null,null,null,{"$f":"IFERROR(IF(I779=\"Sí\",\"> 2 %\",I789+I799+I817),\"\")","v":"> 2 %"},null,{"$f":"IF(K770=\"\",\"No olvides rellenar el multiplicador\",\"\")","v":"No olvides rellenar el multiplicador"}]
[]
[]
[null,null,null,null,"Vivienda 15",null,null,null,"Multiplicador",null,null,null,null,null,"Superficie útil",null,null,null,null,null,null,{"$f":"K827","v":0}]
[]
[]
[null,null,null,null,"¿Se cumplen las cuatro condiciones directas?"]
[]
[null,null,null,null,"¿Hay obstrucciones exteriores?",null,"Profundidad (m)",null,"Hw (m)",null,"Longitud (m)",null,"h(w)",null,"Superficie útil (m)",null,"Longitud de la ventana (m)"]
[]
[null,null,null,null,"No",null,5,null,2.2999999999999998,null,7,null,1.2,null,{"$f":"Q827","v":0},null,6]
[]
[null,null,null,null,"Cumplimiento de las condiciones",null,null,null,{"$f":"IF(E834=\"\",\"\",IF(AND(E834=\"NO\",G834<2.5*I834,M834*Q834>0.2*O834,Q834>0.6*K834),\"Sí\",\"No\"))","v":"Sí"}]
[]
[]
[]
[null,null,null,null,"Cálculo de la componente SC"]
[]
[null,null,null,null,"hw para SC (m)",null,"W1",null,"W2",null,"D1",null,"Tipo de vidrio",null,null,null,"Transmitancia del vidrio"]
[]
[null,null,null,null,null,null,null,null,null,null,null,null,"Vidrio doble climalit",null,null,null,{"$f":"IFERROR(VLOOKUP(M844,$Z$3:$AA$6,2,FALSE),\"\")","v":0.8}]
[]
[null,null,null,null,"Componente SC",null,null,null,{"$f":"IFERROR(('Ayuda CAI 03'!E829+'Ayuda CAI 03'!G829)*Q844,\"\")","v":0}]
[]
[]
[]
[null,null,null,null,"Cálculo de la componente ERC"]
[]
[null,null,null,null,"hw para ERC (m)"]
[]
[]
[]
[null,null,null,null,"Componente ERC",null,null,null,{"$f":"IFERROR(IF(E854=\"\",0,('Ayuda CAI 03'!E839+'Ayuda CAI 03'!G839)*Q844),\"\")","v":0}]
[]
[]
[]
[null,null,null,null,"Cálculo de la componente IRC"]
[]
[null,null,null,null,"Área acristalada neta de ventanas",null,"Ángulo de cielo visible",null,"Altura del punto medio de las ventanas",null,"Longitud de paredes",null,"Altura de paredes",null,"Color de paredes",null,"Reflectancia de paredes"]
[]
[null,null,null,null,null,null,null,null,null,null,null,null,null,null,"claro",null,{"$f":"IFERROR(VLOOKUP(O864,AA$14:AB$16,2,FALSE),\"\")","v":0.5}]
[]
[null,null,null,null,"Superficie de techo",null,"Color de techo",null,"Reflectancia de techo",null,null,null,"Superficie de suelo",null,"Color de suelo",null,"Reflectancia de suelo"]
[]
[null,null,null,null,null,null,"claro",null,{"$f":"IFERROR(VLOOKUP(G868,AA$11:AB$13,2,FALSE),\"\")","v":0.5},null,null,null,null,null,"oscuro",null,{"$f":"IFERROR(VLOOKUP(O868,AA$17:AB$18,2,FALSE),\"\")","v":0.1}]
[]
[null,null,null,null,"Reflectancia media",null,"Reflectancia media superior",null,"Reflectancia media inferior"]
[]
[null,null,null,null,{"$f":"IFERROR(((((K864*M864)-E864)*Q864)+(E868*I868)+(M868*Q868))/(((K864*M864)-E864)+E868+M868),\"\")","v":""},null,{"$f":"IFERROR(((((K864*(M864-I864))-E864/2)*Q864)+(E868*I868))/(((K864*M864)-E864)+E868),\"\")","v":""},null,{"$f":"IFERROR(((((K864*I864)-E864/2)*Q864)+(M868*Q868))/((K864*E864)+M868),\"\")","v":""}]
[]
[null,null,null,null,"Componente IRC",null,null,null,{"$f":"IFERROR((Q844*E864*(((G864/2)-5)*I872+5*G872))/(((K864*M864)-E864)+E868+M868)*(1-E872),\"\")","v":""}]
[]
[]
[]
[null,null,null,null,"Cumplimiento del criterio",null,null,null,null,null,{"$f":"IFERROR(IF(I881=\"\",\"\",IF(I881>= 2,\"Sí\",\"No\")),\"\")","v":"Sí"},null,null,null,null,null,null,null,null,null,null,null,{"$f":"IF(K878=\"Sí\",K827,0)","v":0}]
[]
[]
[null,null,null,null,"Factor luz de día de la estancia",null,null,null,{"$f":"IFERROR(IF(I836=\"Sí\",\"> 2 %\",I846+I856+I874),\"\")","v":"> 2 %"},null,{"$f":"IF(K827=\"\",\"No olvides rellenar el multiplicador\",\"\")","v":"No olvides rellenar el multiplicador"}]
[]
[]
[null,null,null,null,"Vivienda 16",null,null,null,"Multiplicador",null,null,null,null,null,"Superficie útil",null,null,null,null,null,null,{"$f":"K884","v":0}]
[]
[]
[null,null,null,null,"¿Se cumplen las cuatro condiciones directas?"]
[]
[null,null,null,null,"¿Hay obstrucciones exteriores?",null,"Profundidad (m)",null,"Hw (m)",null,"Longitud (m)",null,"h(w)",null,"Superficie útil (m)",null,"Longitud de la ventana (m)"]
[]
[null,null,null,null,"No",null,5,null,2.2999999999999998,null,7,null,1.2,null,{"$f":"Q884","v":0},null,6]
[]
[null,null,null,null,"Cumplimiento de las condiciones",null,null,null,{"$f":"IF(E891=\"\",\"\",IF(AND(E891=\"NO\",G891<2.5*I891,M891*Q891>0.2*O891,Q891>0.6*K891),\"Sí\",\"No\"))","v":"Sí"}]
[]
[]
[]
[null,null,null,null,"Cálculo de la componente SC"]
[]
[null,null,null,null,"hw para SC (m)",null,"W1",null,"W2",null,"D1",null,"Tipo de vidrio",null,null,null,"Transmitancia del vidrio"]
[]
[null,null,null,null,null,null,null,null,null,null,null,null,"Vidrio doble climalit",null,null,null,{"$f":"IFERROR(VLOOKUP(M901,$Z$3:$AA$6,2,FALSE),\"\")","v":0.8}]
[]
[null,null,null,null,"Componente SC",null,null,null,{"$f":"IFERROR(('Ayuda CAI 03'!E886+'Ayuda CAI 03'!G886)*Q901,\"\")","v":0}]
[]
[]
[]
[null,null,null,null,"Cálculo de la componente ERC"]
[]
[null,null,null,null,"hw para ERC (m)"]
[]
[]
[]
[null,null,null,null,"Componente ERC",null,null,null,{"$f":"IFERROR(IF(E911=\"\",0,('Ayuda CAI 03'!E896+'Ayuda CAI 03'!G896)*Q901),\"\")","v":0}]
[]
[]
[]
[null,null,null,null,"Cálculo de la componente IRC"]
[]
[null,null,null,null,"Área acristalada neta de ventanas",null,"Ángulo de cielo visible",null,"Altura del punto medio de las ventanas",null,"Longitud de paredes",null,"Altura de paredes",null,"Color de paredes",null,"Reflectancia de paredes"]
[]
[null,null,null,null,null,null,null,null,null,null,null,null,null,null,"claro",null,{"$f":"IFERROR(VLOOKUP(O921,AA$14:AB$16,2,FALSE),\"\")","v":0.5}]
[]
[null,null,null,null,"Superficie de techo",null,"Color de techo",null,"Reflectancia de techo",null,null,null,"Superficie de suelo",null,"Color de suelo",null,"Reflectancia de suelo"]
[]
[null,null,null,null,null,null,"claro",null,{"$f":"IFERROR(VLOOKUP(G925,AA$11:AB$13,2,FALSE),\"\")","v":0.5},null,null,null,null,null,"oscuro",null,{"$f":"IFERROR(VLOOKUP(O925,AA$17:AB$18,2,FALSE),\"\")","v":0.1}]
[]
[null,null,null,null,"Reflectancia media",null,"Reflectancia media superior",null,"Reflectancia media inferior"]
[]
[null,null,null,null,{"$f":"IFERROR(((((K921*M921)-E921)*Q921)+(E925*I925)+(M925*Q925))/(((K921*M921)-E921)+E925+M925),\"\")","v":""},null,{"$f":"IFERROR(((((K921*(M921-I921))-E921/2)*Q921)+(E925*I925))/(((K921*M921)-E921)+E925),\"\")","v":""},null,{"$f":"IFERROR(((((K921*I921)-E921/2)*Q921)+(M925*Q925))/((K921*E921)+M925),\"\")","v":""}]
[]
[null,null,null,null,"Componente IRC",null,null,null,{"$f":"IFERROR((Q901*E921*(((G921/2)-5)*I929+5*G929))/(((K921*M921)-E921)+E925+M925)*(1-E929),\"\")","v":""}]
[]
[]
[]
[null,null,null,null,"Cumplimiento del criterio",null,null,null,null,null,{"$f":"IFERROR(IF(I938=\"\",\"\",IF(I938>= 2,\"Sí\",\"No\")),\"\")","v":"Sí"},null,null,null,null,null,null,null,null,null,null,null,{"$f":"IF(K935=\"Sí\",K884,0)","v":0}]
[]
[]
[null,null,null,null,"Factor luz de día de la estancia",null,null,null,{"$f":"IFERROR(IF(I893=\"Sí\",\"> 2 %\",I903+I913+I931),\"\")","v":"> 2 %"},null,{"$f":"IF(K884=\"\",\"No olvides rellenar el multiplicador\",\"\")","v":"No olvides rellenar el multiplicador"}]
[]
[]
[null,null,null,null,"Vivienda 17",null,null,null,"Multiplicador",null,null,null,null,null,"Superficie útil",null,null,null,null,null,null,{"$f":"K941","v":0}]
[]
[]
[null,null,null,null,"¿Se cumplen las cuatro condiciones directas?"]
[]
[null,null,null,null,"¿Hay obstrucciones exteriores?",null,"Profundidad (m)",null,"Hw (m)",null,"Longitud (m)",null,"h(w)",null,"Superficie útil (m)",null,"Longitud de la ventana (m)"]
[]
[null,null,null,null,"No",null,5,null,2.2999999999999998,null,7,null,1.2,null,{"$f":"Q941","v":0},null,6]
[]
[null,null,null,null,"Cumplimiento de las condiciones",null,null,null,{"$f":"IF(E948=\"\",\"\",IF(AND(E948=\"NO\",G948<2.5*I948,M948*Q948>0.2*O948,Q948>0.6*K948),\"Sí\",\"No\"))","v":"Sí"}]
[]
[]
[]
[null,null,null,null,"Cálculo de la componente SC"]
[]
[null,null,null,null,"hw para SC (m)",null,"W1",null,"W2",null,"D1",null,"Tipo de vidrio",null,null,null,"Transmitancia del vidrio"]
[]
[null,null,null,null,null,null,null,null,null,null,null,null,"Vidrio doble bajo emisivo",null,null,null,{"$f":"IFERROR(VLOOKUP(M958,$Z$3:$AA$6,2,FALSE),\"\")","v":0.72}]
[]
[null,null,null,null,"Componente SC",null,null,null,{"$f":"IFERROR(('Ayuda CAI 03'!E943+'Ayuda CAI 03'!G943)*Q958,\"\")","v":0}]
[]
[]
[]
[null,null,null,null,"Cálculo de la componente ERC"]
[]
[null,null,null,null,"hw para ERC (m)"]
[]
[]
[]
[null,null,null,null,"Componente ERC",null,null,null,{"$f":"IFERROR(IF(E968=\"\",0,('Ayuda CAI 03'!E953+'Ayuda CAI 03'!G953)*Q958),\"\")","v":0}]
[]
[]
[]
[null,null,null,null,"Cálculo de la componente IRC"]
[]
[null,null,null,null,"Área acristalada neta de ventanas",null,"Ángulo de cielo visible",null,"Altura del punto medio de las ventanas",null,"Longitud de paredes",null,"Altura de paredes",null,"Color de paredes",null,"Reflectancia de paredes"]
[]
[null,null,null,null,null,null,null,null,null,null,null,null,null,null,"medio",null,{"$f":"IFERROR(VLOOKUP(O978,AA$14:AB$16,2,FALSE),\"\")","v":0.3}]
[]
[null,null,null,null,"Superficie de techo",null,"Color de techo",null,"Reflectancia de techo",null,null,null,"Superficie de suelo",null,"Color de suelo",null,"Reflectancia de suelo"]
[]
[null,null,null,null,null,null,"claro",null,{"$f":"IFERROR(VLOOKUP(G982,AA$11:AB$13,2,FALSE),\"\")","v":0.5},null,null,null,null,null,"oscuro",null,{"$f":"IFERROR(VLOOKUP(O982,AA$17:AB$18,2,FALSE),\"\")","v":0.1}]
[]
[null,null,null,null,"Reflectancia media",null,"Reflectancia media superior",null,"Reflectancia media inferior"]
[]
[null,null,null,null,{"$f":"IFERROR(((((K978*M978)-E978)*Q978)+(E982*I982)+(M982*Q982))/(((K978*M978)-E978)+E982+M982),\"\")","v":""},null,{"$f":"IFERROR(((((K978*(M978-I978))-E978/2)*Q978)+(E982*I982))/(((K978*M978)-E978)+E982),\"\")","v":""},null,{"$f":"IFERROR(((((K978*I978)-E978/2)*Q978)+(M982*Q982))/((K978*E978)+M982),\"\")","v":""}]
[]
[null,null,null,null,"Componente IRC",null,null,null,{"$f":"IFERROR((Q958*E978*(((G978/2)-5)*I986+5*G986))/(((K978*M978)-E978)+E982+M982)*(1-E986),\"\")","v":""}]
[]
[]
[]
[null,null,null,null,"Cumplimiento del criterio",null,null,null,null,null,{"$f":"IFERROR(IF(I995=\"\",\"\",IF(I995>= 2,\"Sí\",\"No\")),\"\")","v":"Sí"},null,null,null,null,null,null,null,null,null,null,null,{"$f":"IF(K992=\"Sí\",K941,0)","v":0}]
[]
[]
[null,null,null,null,"Factor luz de día de la estancia",null,null,null,{"$f":"IFERROR(IF(I950=\"Sí\",\"> 2 %\",I960+I970+I988),\"\")","v":"> 2 %"},null,{"$f":"IF(K941=\"\",\"No olvides rellenar el multiplicador\",\"\")","v":"No olvides rellenar el multiplicador"}]
[]
[]
[null,null,null,null,"Vivienda 18",null,null,null,"Multiplicador",null,null,null,null,null,"Superficie útil",null,null,null,null,null,null,{"$f":"K998","v":0}]
[]
[]
[null,null,null,null,"¿Se cumplen las cuatro condiciones directas?"]
[]
[null,null,null,null,"¿Hay obstrucciones exteriores?",null,"Profundidad (m)",null,"Hw (m)",null,"Longitud (m)",null,"h(w)",null,"Superficie útil (m)",null,"Longitud de la ventana (m)"]
[]
[null,null,null,null,"No",null,5,null,2.2999999999999998,null,7,null,1.2,null,{"$f":"Q998","v":0},null,6]
[]
[null,null,null,null,"Cumplimiento de las condiciones",null,null,null,{"$f":"IF(E1005=\"\",\"\",IF(AND(E1005=\"NO\",G1005<2.5*I1005,M1005*Q1005>0.2*O1005,Q1005>0.6*K1005),\"Sí\",\"No\"))","v":"Sí"}]
[]
[]
[]
[null,null,null,null,"Cálculo de la componente SC"]
[]
[null,null,null,null,"hw para SC (m)",null,"W1",null,"W2",null,"D1",null,"Tipo de vidrio",null,null,null,"Transmitancia del vidrio"]
[]
[null,null,null,null,null,null,null,null,null,null,null,null,"Vidrio doble bajo emisivo",null,null,null,{"$f":"IFERROR(VLOOKUP(M1015,$Z$3:$AA$6,2,FALSE),\"\")","v":0.72}]
[]
[null,null,null,null,"Componente SC",null,null,null,{"$f":"IFERROR(('Ayuda CAI 03'!E1000+'Ayuda CAI 03'!G1000)*Q1015,\"\")","v":0}]
[]
[]
[]
[null,null,null,null,"Cálculo de la componente ERC"]
[]
[null,null,null,null,"hw para ERC (m)"]
[]
[]
[]
[null,null,null,null,"Componente ERC",null,null,null,{"$f":"IFERROR(IF(E1025=\"\",0,('Ayuda CAI 03'!E1010+'Ayuda CAI 03'!G1010)*Q1015),\"\")","v":0}]
[]
[]
[]
[null,null,null,null,"Cálculo de la componente IRC"]
[]
[null,null,null,null,"Área acristalada neta de ventanas",null,"Ángulo de cielo visible",null,"Altura del punto medio de las ventanas",null,"Longitud de paredes",null,"Altura de paredes",null,"Color de paredes",null,"Reflectancia de paredes"]
[]
[null,null,null,null,null,null,null,null,null,null,null,null,null,null,"claro",null,{"$f":"IFERROR(VLOOKUP(O1035,AA$14:AB$16,2,FALSE),\"\")","v":0.5}]
[]
[null,null,null,null,"Superficie de techo",null,"Color de techo",null,"Reflectancia de techo",null,null,null,"Superficie de suelo",null,"Color de suelo",null,"Reflectancia de suelo"]
[]
[null,null,null,null,null,null,"claro",null,{"$f":"IFERROR(VLOOKUP(G1039,AA$11:AB$13,2,FALSE),\"\")","v":0.5},null,null,null,null,null,"oscuro",null,{"$f":"IFERROR(VLOOKUP(O1039,AA$17:AB$18,2,FALSE),\"\")","v":0.1}]
[]
[null,null,null,null,"Reflectancia media",null,"Reflectancia media superior",null,"Reflectancia media inferior"]
[]
[null,null,null,null,{"$f":"IFERROR(((((K1035*M1035)-E1035)*Q1035)+(E1039*I1039)+(M1039*Q1039))/(((K1035*M1035)-E1035)+E1039+M1039),\"\")","v":""},null,{"$f":"IFERROR(((((K1035*(M1035-I1035))-E1035/2)*Q1035)+(E1039*I1039))/(((K1035*M1035)-E1035)+E1039),\"\")","v":""},null,{"$f":"IFERROR(((((K1035*I1035)-E1035/2)*Q1035)+(M1039*Q1039))/((K1035*E1035)+M1039),\"\")","v":""}]
[]
[null,null,null,null,"Componente IRC",null,null,null,{"$f":"IFERROR((Q1015*E1035*(((G1035/2)-5)*I1043+5*G1043))/(((K1035*M1035)-E1035)+E1039+M1039)*(1-E1043),\"\")","v":""}]
[]
[]
[]
[null,null,null,null,"Cumplimiento del criterio",null,null,null,null,null,{"$f":"IFERROR(IF(I1052=\"\",\"\",IF(I1052>= 2,\"Sí\",\"No\")),\"\")","v":"Sí"},null,null,null,null,null,null,null,null,null,null,null,{"$f":"IF(K1049=\"Sí\",K998,0)","v":0}]
[]
[]
[null,null,null,null,"Factor luz de día de la estancia",null,null,null,{"$f":"IFERROR(IF(I1007=\"Sí\",\"> 2 %\",I1017+I1027+I1045),\"\")","v":"> 2 %"},null,{"$f":"IF(K998=\"\",\"No olvides rellenar el multiplicador\",\"\")","v":"No olvides rellenar el multiplicador"}]
[]
[]
[null,null,null,null,"Vivienda 19",null,null,null,"Multiplicador",null,null,null,null,null,"Superficie útil",null,null,null,null,null,null,{"$f":"K1055","v":0}]
[]
[]
[null,null,null,null,"¿Se cumplen las cuatro condiciones directas?"]
[]
[null,null,null,null,"¿Hay obstrucciones exteriores?",null,"Profundidad (m)",null,"Hw (m)",null,"Longitud (m)",null,"h(w)",null,"Superficie útil (m)",null,"Longitud de la ventana (m)"]
[]
[null,null,null,null,"No",null,5,null,2.2999999999999998,null,7,null,1.2,null,{"$f":"Q1055","v":0},null,6]
[]
[null,null,null,null,"Cumplimiento de las condiciones",null,null,null,{"$f":"IF(E1062=\"\",\"\",IF(AND(E1062=\"NO\",G1062<2.5*I1062,M1062*Q1062>0.2*O1062,Q1062>0.6*K1062),\"Sí\",\"No\"))","v":"Sí"}]
[]
[]
[]
[null,null,null,null,"Cálculo de la componente SC"]
[]
[null,null,null,null,"hw para SC (m)",null,"W1",null,"W2",null,"D1",null,"Tipo de vidrio",null,null,null,"Transmitancia del vidrio"]
[]
[null,null,null,null,2,null,1.5,null,1.5,null,5.4,null,"Vidrio doble bajo emisivo",null,null,null,{"$f":"IFERROR(VLOOKUP(M1072,$Z$3:$AA$6,2,FALSE),\"\")","v":0.72}]
[]
[null,null,null,null,"Componente SC",null,null,null,{"$f":"IFERROR(('Ayuda CAI 03'!E1057+'Ayuda CAI 03'!G1057)*Q1072,\"\")","v":0.57599999999999996}]
[]
[]
[]
[null,null,null,null,"Cálculo de la componente ERC"]
[]
[null,null,null,null,"hw para ERC (m)"]
[]
[]
[]
[null,null,null,null,"Componente ERC",null,null,null,{"$f":"IFERROR(IF(E1082=\"\",0,('Ayuda CAI 03'!E1067+'Ayuda CAI 03'!G1067)*Q1072),\"\")","v":0}]
[]
[]
[]
[null,null,null,null,"Cálculo de la componente IRC"]
[]
[null,null,null,null,"Área acristalada neta de ventanas",null,"Ángulo de cielo visible",null,"Altura del punto medio de las ventanas",null,"Longitud de paredes",null,"Altura de paredes",null,"Color de paredes",null,"Reflectancia de paredes"]
[]
[null,null,null,null,null,null,null,null,null,null,null,null,null,null,"medio",null,{"$f":"IFERROR(VLOOKUP(O1092,AA$14:AB$16,2,FALSE),\"\")","v":0.3}]
[]
[null,null,null,null,"Superficie de techo",null,"Color de techo",null,"Reflectancia de techo",null,null,null,"Superficie de suelo",null,"Color de suelo",null,"Reflectancia de suelo"]
[]
[null,null,null,null,null,null,"claro",null,{"$f":"IFERROR(VLOOKUP(G1096,AA$11:AB$13,2,FALSE),\"\")","v":0.5},null,null,null,null,null,"oscuro",null,{"$f":"IFERROR(VLOOKUP(O1096,AA$17:AB$18,2,FALSE),\"\")","v":0.1}]
[]
[null,null,null,null,"Reflectancia media",null,"Reflectancia media superior",null,"Reflectancia media inferior"]
[]
[null,null,null,null,{"$f":"IFERROR(((((K1092*M1092)-E1092)*Q1092)+(E1096*I1096)+(M1096*Q1096))/(((K1092*M1092)-E1092)+E1096+M1096),\"\")","v":""},null,{"$f":"IFERROR(((((K1092*(M1092-I1092))-E1092/2)*Q1092)+(E1096*I1096))/(((K1092*M1092)-E1092)+E1096),\"\")","v":""},null,{"$f":"IFERROR(((((K1092*I1092)-E1092/2)*Q1092)+(M1096*Q1096))/((K1092*E1092)+M1096),\"\")","v":""}]
[]
[null,null,null,null,"Componente IRC",null,null,null,{"$f":"IFERROR((Q1072*E1092*(((G1092/2)-5)*I1100+5*G1100))/(((K1092*M1092)-E1092)+E1096+M1096)*(1-E1100),\"\")","v":""}]
[]
[]
[]
[null,null,null,null,"Cumplimiento del criterio",null,null,null,null,null,{"$f":"IFERROR(IF(I1109=\"\",\"\",IF(I1109>= 2,\"Sí\",\"No\")),\"\")","v":"Sí"},null,null,null,null,null,null,null,null,null,null,null,{"$f":"IF(K1106=\"Sí\",K1055,0)","v":0}]
[]
[]
[null,null,null,null,"Factor luz de día de la estancia",null,null,null,{"$f":"IFERROR(IF(I1064=\"Sí\",\"> 2 %\",I1074+I1084+I1102),\"\")","v":"> 2 %"},null,{"$f":"IF(K1055=\"\",\"No olvides rellenar el multiplicador\",\"\")","v":"No olvides rellenar el multiplicador"}]
[]
[]
[null,null,null,null,"Vivienda 20",null,null,null,"Multiplicador",null,null,null,null,null,"Superficie útil",null,null,null,null,null,null,{"$f":"K1112","v":0}]
[]
[]
[null,null,null,null,"¿Se cumplen las cuatro condiciones directas?"]
[]
[null,null,null,null,"¿Hay obstrucciones exteriores?",null,"Profundidad (m)",null,"Hw (m)",null,"Longitud (m)",null,"h(w)",null,"Superficie útil (m)",null,"Longitud de la ventana (m)"]
[]
[null,null,null,null,"No",null,5,null,2.2999999999999998,null,7,null,1.2,null,{"$f":"Q1112","v":0},null,6]
[]
[null,null,null,null,"Cumplimiento de las condiciones",null,null,null,{"$f":"IF(E1119=\"\",\"\",IF(AND(E1119=\"NO\",G1119<2.5*I1119,M1119*Q1119>0.2*O1119,Q1119>0.6*K1119),\"Sí\",\"No\"))","v":"Sí"}]
[]
[]
[]
[null,null,null,null,"Cálculo de la componente SC"]
[]
[null,null,null,null,"hw para SC (m)",null,"W1",null,"W2",null,"D1",null,"Tipo de vidrio",null,null,null,"Transmitancia del vidrio"]
[]
[null,null,null,null,2,null,1.5,null,1.5,null,5.4,null,"Vidrio control solar claro",null,null,null,{"$f":"IFERROR(VLOOKUP(M1129,$Z$3:$AA$6,2,FALSE),\"\")","v":0.28000000000000003}]
[]
[null,null,null,null,"Componente SC",null,null,null,{"$f":"IFERROR(('Ayuda CAI 03'!E1114+'Ayuda CAI 03'!G1114)*Q1129,\"\")","v":0.22400000000000003}]
[]
[]
[]
[null,null,null,null,"Cálculo de la componente ERC"]
[]
[null,null,null,null,"hw para ERC (m)"]
[]
[]
[]
[null,null,null,null,"Componente ERC",null,null,null,{"$f":"IFERROR(IF(E1139=\"\",0,('Ayuda CAI 03'!E1124+'Ayuda CAI 03'!G1124)*Q1129),\"\")","v":0}]
[]
[]
[]
[null,null,null,null,"Cálculo de la componente IRC"]
[]
[null,null,null,null,"Área acristalada neta de ventanas",null,"Ángulo de cielo visible",null,"Altura del punto medio de las ventanas",null,"Longitud de paredes",null,"Altura de paredes",null,"Color de paredes",null,"Reflectancia de paredes"]
[]
[null,null,null,null,null,null,null,null,null,null,null,null,null,null,"claro",null,{"$f":"IFERROR(VLOOKUP(O1149,AA$14:AB$16,2,FALSE),\"\")","v":0.5}]
[]
[null,null,null,null,"Superficie de techo",null,"Color de techo",null,"Reflectancia de techo",null,null,null,"Superficie de suelo",null,"Color de suelo",null,"Reflectancia de suelo"]
[]
[null,null,null,null,null,null,"claro",null,{"$f":"IFERROR(VLOOKUP(G1153,AA$11:AB$13,2,FALSE),\"\")","v":0.5},null,null,null,null,null,"oscuro",null,{"$f":"IFERROR(VLOOKUP(O1153,AA$17:AB$18,2,FALSE),\"\")","v":0.1}]
[]
[null,null,null,null,"Reflectancia media",null,"Reflectancia media superior",null,"Reflectancia media inferior"]
[]
[null,null,null,null,{"$f":"IFERROR(((((K1149*M1149)-E1149)*Q1149)+(E1153*I1153)+(M1153*Q1153))/(((K1149*M1149)-E1149)+E1153+M1153),\"\")","v":""},null,{"$f":"IFERROR(((((K1149*(M1149-I1149))-E1149/2)*Q1149)+(E1153*I1153))/(((K1149*M1149)-E1149)+E1153),\"\")","v":""},null,{"$f":"IFERROR(((((K1149*I1149)-E1149/2)*Q1149)+(M1153*Q1153))/((K1149*E1149)+M1153),\"\")","v":""}]
[]
[null,null,null,null,"Componente IRC",null,null,null,{"$f":"IFERROR((Q1129*E1149*(((G1149/2)-5)*I1157+5*G1157))/(((K1149*M1149)-E1149)+E1153+M1153)*(1-E1157),\"\")","v":""}]
[]
[]
[]
[null,null,null,null,"Cumplimiento del criterio",null,null,null,null,null,{"$f":"IFERROR(IF(I1166=\"\",\"\",IF(I1166>= 2,\"Sí\",\"No\")),\"\")","v":"Sí"},null,null,null,null,null,null,null,null,null,null,null,{"$f":"IF(K1163=\"Sí\",K1112,0)","v":0}]
[]
[]
[null,null,null,null,"Factor luz de día de la estancia",null,null,null,{"$f":"IFERROR(IF(I1121=\"Sí\",\"> 2 %\",I1131+I1141+I1159),\"\")","v":"> 2 %"},null,{"$f":"IF(K1112=\"\",\"No olvides rellenar el multiplicador\",\"\")","v":"No olvides rellenar el multiplicador"}]
[]
[]
[]
[null,null,null,null,"Porcentaje de viviendas que cumplen con el criterio",null,null,null,null,null,null,null,null,null,null,null,null,null,{"$f":"IFERROR(SUM(W22:W1166)/SUM(V22:V1166),\"\")","v":""}]

{"sheet":"Ayuda CAI 03","index":31,"n_rows":1124,"n_cols":19,"rows_kept":1124,"cut":false,"hidden":true,"merged":[[876,1,876,9],[933,1,933,9],[990,1,990,9],[1047,1,1047,9],[1104,1,1104,9],[21,1,21,9],[534,1,534,9],[78,1,78,9],[135,1,135,9],[192,1,192,9],[249,1,249,9],[306,1,306,9],[363,1,363,9],[420,1,420,9],[477,1,477,9],[591,1,591,9],[648,1,648,9],[705,1,705,9],[762,1,762,9],[819,1,819,9]]}
[null,"hw/D1",1,2,3,4,5,6,7,8,9,10,11,12,13,14,15]
[null,null,0.1,0.2,0.3,0.4,0.5,0.6,0.8,1,1.2,1.4,1.6,2,3,4,5,null,0.1]
[1,5,1.6,3.1,4.5999999999999996,6.1,7.4,8.6,10.5,12,13.4,14.5,15.4,16.3,17.8,18.3,18.8,null,0.2]
[2,4,1.5,3,4.5,5.9,7.3,8.4,10.3,11.5,12.9,13.6,14.3,15.5,16.600000000000001,16.899999999999999,17.100000000000001,null,0.3]
[3,3,1.5,2.9,4.4000000000000004,5.6,6.9,8,9.8000000000000007,10.9,12.3,12.6,13.4,14.6,15.5,15.6,15.9,null,0.4]
[4,2,1.3,2.5,3.9,5,6,7,8.4,9.4,10.4,10.9,11.4,12.1,12.5,12.6,12.8,null,0.5]
[5,1.8,1.2,2.4,3.6,4.8,5.8,6.6,7.9,8.9,9.8000000000000007,10.3,10.6,11.3,11.6,11.8,11.9,null,0.6]
[6,1.6,1.1000000000000001,2.2999999999999998,3.4,4.4000000000000004,4.9000000000000004,6.1,7.3,8.1,9,9.4,9.8000000000000007,10.3,10.6,10.8,10.8,null,0.8]
[7,1.4,1,2,3,4,4.8,5.5,6.5,7.4,8,8.4,8.8000000000000007,9.1,9.4,9.4,9.5,null,1]
[8,1.2,0.9,1.8,2.6,3.4,4.0999999999999996,4.8,5.6,6.3,6.8,7.1,7.4,7.6,7.8,7.9,7.9,null,1.2]
[9,1,0.7,1.4,2.1,2.8,3.3,3.8,4.5,5,5.4,5.6,5.8,5.9,6,6.1,6.3,null,1.4]
[10,0.9,0.6,1.2,1.9,2.4,2.8,3.3,3.9,4.3,4.5999999999999996,4.8,4.9000000000000004,5,5.0999999999999996,5.0999999999999996,5.2,null,1.6]
[11,0.8,0.5,1,1.5,2,2.4,2.8,3.3,3.6,3.9,4,4.0999999999999996,4.0999999999999996,4.3,4.3,4.3,null,2]
[12,0.7,0.4,0.9,1.2,1.6,1.9,2.1,2.6,2.9,3.1,3.1,3.3,3.3,3.4,3.4,3.5,null,3]
[13,0.6,0.3,0.7,0.9,1.2,1.5,1.7,2,2.2999999999999998,2.4,2.4,2.5,2.5,2.6,2.6,2.6,null,4]
[14,0.5,0.2,0.5,0.6,0.9,1,1.2,1.4,1.7,1.8,1.8,1.8,1.9,1.9,1.9,1.9,null,5]
[15,0.4,0.1,0.4,0.4,0.6,0.7,0.8,1,1.1000000000000001,1.2,1.2,1.2,1.2,1.2,1.2,1.2]
[16,0.3,0.1,0.2,0.2,0.3,0.4,0.4,0.6,0.6,0.6,0.6,0.6,0.6,0.7,0.7,0.7]
[17,0.2,0,0.1,0.1,0.1,0.2,0.2,0.3,0.3,0.3,0.3,0.3,0.3,0.3,0.3,0.3]
[18,0.1,0,0,0.02,0,0,0.1,0.1,0.1,0.1,0.1,0.1,0.1,0.1,0.1,0.1]
[]
[null,"Espacio 1"]
[]
[null,"hw para SC (m)",null,"W1",null,"W2",null,"D1"]
[]
[null,{"$f":"'AI 03'!E39","v":0},null,{"$f":"'AI 03'!G39","v":0},null,{"$f":"'AI 03'!I39","v":0},null,{"$f":"'AI 03'!K39","v":0}]
[]
[null,"hw/D1",{"$f":"IF(H26=0,0,B26/H26)","v":0},"W1/D1",{"$f":"IF(H26=0,0,D26/H26)","v":0},"W2/D1",{"$f":"IF(H26=0,0,F26/H26)","v":0}]
[null,null,{"$f":"MIN(ABS(B$3:B$20-C28))","v":0.1},null,{"$f":"MIN(ABS(S$2:S$16-E28))","v":0.1},null,{"$f":"MIN(ABS(S$2:S$16-G28))","v":0.1}]
[null,null,{"$f":"IF((C28-C29)<0.1,18,IF((C28-C29)>5,1,(MATCH((C28-C29),B$3:B$20,-1))))","v":18},null,{"$f":"IF((E28-E29)<0.1,1,IF((E28-E29)>5,15,(MATCH((E28-E29),S$2:S$16,1))))","v":1},null,{"$f":"IF((G28-G29)<0.1,1,IF((G28-G29)>5,15,(MATCH((G28-G29),S$2:S$16,1))))","v":1}]
[null,null,null,null,{"$f":"INDEX(C$3:Q$20,C30,E30)","v":0},null,{"$f":"INDEX(C$3:Q$20,C30,G30)","v":0}]
[]
[]
[null,"hw para ERC (m)",null,"W1",null,"W2",null,"D1"]
[]
[null,{"$f":"'AI 03'!E49","v":0},null,{"$f":"D26","v":0},null,{"$f":"F26","v":0},null,{"$f":"H26","v":0}]
[]
[null,"hw/D1",{"$f":"IF(H36=0,0,B36/H36)","v":0},"W1/D1",{"$f":"IF(H36=0,0,D36/H36)","v":0},"W2/D1",{"$f":"IF(H36=0,0,F36/H36)","v":0}]
[null,null,{"$f":"MIN(ABS(B$3:B$20-C38))","v":0.1},null,{"$f":"MIN(ABS(S$2:S$16-E38))","v":0.1},null,{"$f":"MIN(ABS(S$2:S$16-G38))","v":0.1}]
[null,null,{"$f":"IF((C38-C39)<0.1,18,IF((C38-C39)>5,1,(MATCH((C38-C39),B$3:B$20,-1))))","v":18},null,{"$f":"IF((E38-E39)<0.1,1,IF((E38-E39)>5,15,(MATCH((E38-E39),S$2:S$16,1))))","v":1},null,{"$f":"IF((G38-G39)<0.1,1,IF((G38-G39)>5,15,(MATCH((G38-G39),S$2:S$16,1))))","v":1}]
[null,null,null,null,{"$f":"INDEX(C$3:Q$20,C40,E40)","v":0},null,{"$f":"INDEX(C$3:Q$20,C40,G40)","v":0}]
[]
[]
[]
[]
[]
[]
[]
[]
[]
[]
[]
[]
[]
[]
[]
[]
[]
[]
[]
[]
[]
[]
[]
[]
[]
[]
[]
[]
[]
[]
[]
[]
[]
[]
[]
[]
[]
[null,"Espacio 2"]
[]
[null,"hw para SC (m)",null,"W1",null,"W2",null,"D1"]
[]
[null,{"$f":"'AI 03'!E97","v":0},null,{"$f":"'AI 03'!G97","v":0},null,{"$f":"'AI 03'!I97","v":0},null,{"$f":"'AI 03'!K97","v":0}]
[]
[null,"hw/D1",{"$f":"IF(H83=0,0,B83/H83)","v":0},"W1/D1",{"$f":"IF(H83=0,0,D83/H83)","v":0},"W2/D1",{"$f":"IF(H83=0,0,F83/H83)","v":0}]
[null,null,{"$f":"MIN(ABS(B$3:B$20-C85))","v":0.1},null,{"$f":"MIN(ABS(S$2:S$16-E85))","v":0.1},null,{"$f":"MIN(ABS(S$2:S$16-G85))","v":0.1}]
[null,null,{"$f":"IF((C85-C86)<0.1,18,IF((C85-C86)>5,1,(MATCH((C85-C86),B$3:B$20,-1))))","v":18},null,{"$f":"IF((E85-E86)<0.1,1,IF((E85-E86)>5,15,(MATCH((E85-E86),S$2:S$16,1))))","v":1},null,{"$f":"IF((G85-G86)<0.1,1,IF((G85-G86)>5,15,(MATCH((G85-G86),S$2:S$16,1))))","v":1}]
[null,null,null,null,{"$f":"INDEX(C$3:Q$20,C87,E87)","v":0},null,{"$f":"INDEX(C$3:Q$20,C87,G87)","v":0}]
[]
[]
[null,"hw para ERC (m)",null,"W1",null,"W2",null,"D1"]
[]
[null,{"$f":"'AI 03'!E107","v":1},null,{"$f":"D83","v":0},null,{"$f":"F83","v":0},null,{"$f":"H83","v":0}]
[]
[null,"hw/D1",{"$f":"IF(H93=0,0,B93/H93)","v":0},"W1/D1",{"$f":"IF(H93=0,0,D93/H93)","v":0},"W2/D1",{"$f":"IF(H93=0,0,F93/H93)","v":0}]
[null,null,{"$f":"MIN(ABS(B$3:B$20-C95))","v":0.1},null,{"$f":"MIN(ABS(S$2:S$16-E95))","v":0.1},null,{"$f":"MIN(ABS(S$2:S$16-G95))","v":0.1}]
[null,null,{"$f":"IF((C95-C96)<0.1,18,IF((C95-C96)>5,1,(MATCH((C95-C96),B$3:B$20,-1))))","v":18},null,{"$f":"IF((E95-E96)<0.1,1,IF((E95-E96)>5,15,(MATCH((E95-E96),S$2:S$16,1))))","v":1},null,{"$f":"IF((G95-G96)<0.1,1,IF((G95-G96)>5,15,(MATCH((G95-G96),S$2:S$16,1))))","v":1}]
[null,null,null,null,{"$f":"INDEX(C$3:Q$20,C97,E97)","v":0},null,{"$f":"INDEX(C$3:Q$20,C97,G97)","v":0}]
[]
[]
[]
[]
[]
[]
[]
[]
[]
[]
[]
[]
[]
[]
[]
[]
[]
[]
[]
[]
[]
[]
[]
[]
[]
[]
[]
[]
[]
[]
[]
[]
[]
[]
[]
[]
[]
[null,"Espacio 3"]
[]
[null,"hw para SC (m)",null,"W1",null,"W2",null,"D1"]
[]
[null,{"$f":"'AI 03'!E155","v":0},null,{"$f":"'AI 03'!G155","v":0},null,{"$f":"'AI 03'!I155","v":0},null,{"$f":"'AI 03'!K155","v":0}]
[]
[null,"hw/D1",{"$f":"IF(H140=0,0,B140/H140)","v":0},"W1/D1",{"$f":"IF(H140=0,0,D140/H140)","v":0},"W2/D1",{"$f":"IF(H140=0,0,F140/H140)","v":0}]
[null,null,{"$f":"MIN(ABS(B$3:B$20-C142))","v":0.1},null,{"$f":"MIN(ABS(S$2:S$16-E142))","v":0.1},null,{"$f":"MIN(ABS(S$2:S$16-G142))","v":0.1}]
[null,null,{"$f":"IF((C142-C143)<0.1,18,IF((C142-C143)>5,1,(MATCH((C142-C143),B$3:B$20,-1))))","v":18},null,{"$f":"IF((E142-E143)<0.1,1,IF((E142-E143)>5,15,(MATCH((E142-E143),S$2:S$16,1))))","v":1},null,{"$f":"IF((G142-G143)<0.1,1,IF((G142-G143)>5,15,(MATCH((G142-G143),S$2:S$16,1))))","v":1}]
[null,null,null,null,{"$f":"INDEX(C$3:Q$20,C144,E144)","v":0},null,{"$f":"INDEX(C$3:Q$20,C144,G144)","v":0}]
[]
[]
[null,"hw para ERC (m)",null,"W1",null,"W2",null,"D1"]
[]
[null,{"$f":"'AI 03'!E165","v":1.1000000000000001},null,{"$f":"D140","v":0},null,{"$f":"F140","v":0},null,{"$f":"H140","v":0}]
[]
[null,"hw/D1",{"$f":"IF(H150=0,0,B150/H150)","v":0},"W1/D1",{"$f":"IF(H150=0,0,D150/H150)","v":0},"W2/D1",{"$f":"IF(H150=0,0,F150/H150)","v":0}]
[null,null,{"$f":"MIN(ABS(B$3:B$20-C152))","v":0.1},null,{"$f":"MIN(ABS(S$2:S$16-E152))","v":0.1},null,{"$f":"MIN(ABS(S$2:S$16-G152))","v":0.1}]
[null,null,{"$f":"IF((C152-C153)<0.1,18,IF((C152-C153)>5,1,(MATCH((C152-C153),B$3:B$20,-1))))","v":18},null,{"$f":"IF((E152-E153)<0.1,1,IF((E152-E153)>5,15,(MATCH((E152-E153),S$2:S$16,1))))","v":1},null,{"$f":"IF((G152-G153)<0.1,1,IF((G152-G153)>5,15,(MATCH((G152-G153),S$2:S$16,1))))","v":1}]
[null,null,null,null,{"$f":"INDEX(C$3:Q$20,C154,E154)","v":0},null,{"$f":"INDEX(C$3:Q$20,C154,G154)","v":0}]
[]
[]
[]
[]
[]
[]
[]
[]
[]
[]
[]
[]
[]
[]
[]
[]
[]
[]
[]
[]
[]
[]
[]
[]
[]
[]
[]
[]
[]
[]
[]
[]
[]
[]
[]
[]
[]
[null,"Espacio 4"]
[]
[null,"hw para SC (m)",null,"W1",null,"W2",null,"D1"]
[]
[null,{"$f":"'AI 03'!E213","v":0},null,{"$f":"'AI 03'!G213","v":0},null,{"$f":"'AI 03'!I213","v":0},null,{"$f":"'AI 03'!K213","v":0}]
[]
[null,"hw/D1",{"$f":"IF(H197=0,0,B197/H197)","v":0},"W1/D1",{"$f":"IF(H197=0,0,D197/H197)","v":0},"W2/D1",{"$f":"IF(H197=0,0,F197/H197)","v":0}]
[null,null,{"$f":"MIN(ABS(B$3:B$20-C199))","v":0.1},null,{"$f":"MIN(ABS(S$2:S$16-E199))","v":0.1},null,{"$f":"MIN(ABS(S$2:S$16-G199))","v":0.1}]
[null,null,{"$f":"IF((C199-C200)<0.1,18,IF((C199-C200)>5,1,(MATCH((C199-C200),B$3:B$20,-1))))","v":18},null,{"$f":"IF((E199-E200)<0.1,1,IF((E199-E200)>5,15,(MATCH((E199-E200),S$2:S$16,1))))","v":1},null,{"$f":"IF((G199-G200)<0.1,1,IF((G199-G200)>5,15,(MATCH((G199-G200),S$2:S$16,1))))","v":1}]
[null,null,null,null,{"$f":"INDEX(C$3:Q$20,C201,E201)","v":0},null,{"$f":"INDEX(C$3:Q$20,C201,G201)","v":0}]
[]
[]
[null,"hw para ERC (m)",null,"W1",null,"W2",null,"D1"]
[]
[null,{"$f":"'AI 03'!E223","v":0},null,{"$f":"D197","v":0},null,{"$f":"F197","v":0},null,{"$f":"H197","v":0}]
[]
[null,"hw/D1",{"$f":"IF(H207=0,0,B207/H207)","v":0},"W1/D1",{"$f":"IF(H207=0,0,D207/H207)","v":0},"W2/D1",{"$f":"IF(H207=0,0,F207/H207)","v":0}]
[null,null,{"$f":"MIN(ABS(B$3:B$20-C209))","v":0.1},null,{"$f":"MIN(ABS(S$2:S$16-E209))","v":0.1},null,{"$f":"MIN(ABS(S$2:S$16-G209))","v":0.1}]
[null,null,{"$f":"IF((C209-C210)<0.1,18,IF((C209-C210)>5,1,(MATCH((C209-C210),B$3:B$20,-1))))","v":18},null,{"$f":"IF((E209-E210)<0.1,1,IF((E209-E210)>5,15,(MATCH((E209-E210),S$2:S$16,1))))","v":1},null,{"$f":"IF((G209-G210)<0.1,1,IF((G209-G210)>5,15,(MATCH((G209-G210),S$2:S$16,1))))","v":1}]
[null,null,null,null,{"$f":"INDEX(C$3:Q$20,C211,E211)","v":0},null,{"$f":"INDEX(C$3:Q$20,C211,G211)","v":0}]
[]
[]
[]
[]
[]
[]
[]
[]
[]
[]
[]
[]
[]
[]
[]
[]
[]
[]
[]
[]
[]
[]
[]
[]
[]
[]
[]
[]
[]
[]
[]
[]
[]
[]
[]
[]
[]
[null,"Espacio 5"]
[]
[null,"hw para SC (m)",null,"W1",null,"W2",null,"D1"]
[]
[null,{"$f":"'AI 03'!E271","v":0},null,{"$f":"'AI 03'!G271","v":0},null,{"$f":"'AI 03'!I271","v":0},null,{"$f":"'AI 03'!K271","v":0}]
[]
[null,"hw/D1",{"$f":"IF(H254=0,0,B254/H254)","v":0},"W1/D1",{"$f":"IF(H254=0,0,D254/H254)","v":0},"W2/D1",{"$f":"IF(H254=0,0,F254/H254)","v":0}]
[null,null,{"$f":"MIN(ABS(B$3:B$20-C256))","v":0.1},null,{"$f":"MIN(ABS(S$2:S$16-E256))","v":0.1},null,{"$f":"MIN(ABS(S$2:S$16-G256))","v":0.1}]
[null,null,{"$f":"IF((C256-C257)<0.1,18,IF((C256-C257)>5,1,(MATCH((C256-C257),B$3:B$20,-1))))","v":18},null,{"$f":"IF((E256-E257)<0.1,1,IF((E256-E257)>5,15,(MATCH((E256-E257),S$2:S$16,1))))","v":1},null,{"$f":"IF((G256-G257)<0.1,1,IF((G256-G257)>5,15,(MATCH((G256-G257),S$2:S$16,1))))","v":1}]
[null,null,null,null,{"$f":"INDEX(C$3:Q$20,C258,E258)","v":0},null,{"$f":"INDEX(C$3:Q$20,C258,G258)","v":0}]
[]
[]
[null,"hw para ERC (m)",null,"W1",null,"W2",null,"D1"]
[]
[null,{"$f":"'AI 03'!E281","v":0},null,{"$f":"D254","v":0},null,{"$f":"F254","v":0},null,{"$f":"H254","v":0}]
[]
[null,"hw/D1",{"$f":"IF(H264=0,0,B264/H264)","v":0},"W1/D1",{"$f":"IF(H264=0,0,D264/H264)","v":0},"W2/D1",{"$f":"IF(H264=0,0,F264/H264)","v":0}]
[null,null,{"$f":"MIN(ABS(B$3:B$20-C266))","v":0.1},null,{"$f":"MIN(ABS(S$2:S$16-E266))","v":0.1},null,{"$f":"MIN(ABS(S$2:S$16-G266))","v":0.1}]
[null,null,{"$f":"IF((C266-C267)<0.1,18,IF((C266-C267)>5,1,(MATCH((C266-C267),B$3:B$20,-1))))","v":18},null,{"$f":"IF((E266-E267)<0.1,1,IF((E266-E267)>5,15,(MATCH((E266-E267),S$2:S$16,1))))","v":1},null,{"$f":"IF((G266-G267)<0.1,1,IF((G266-G267)>5,15,(MATCH((G266-G267),S$2:S$16,1))))","v":1}]
[null,null,null,null,{"$f":"INDEX(C$3:Q$20,C268,E268)","v":0},null,{"$f":"INDEX(C$3:Q$20,C268,G268)","v":0}]
[]
[]
[]
[]
[]
[]
[]
[]
[]
[]
[]
[]
[]
[]
[]
[]
[]
[]
[]
[]
[]
[]
[]
[]
[]
[]
[]
[]
[]
[]
[]
[]
[]
[]
[]
[]
[]
[null,"Espacio 6"]
[]
[null,"hw para SC (m)",null,"W1",null,"W2",null,"D1"]
[]
[null,{"$f":"'AI 03'!E329","v":0},null,{"$f":"'AI 03'!G329","v":0},null,{"$f":"'AI 03'!I329","v":0},null,{"$f":"'AI 03'!K329","v":0}]
[]
[null,"hw/D1",{"$f":"IF(H311=0,0,B311/H311)","v":0},"W1/D1",{"$f":"IF(H311=0,0,D311/H311)","v":0},"W2/D1",{"$f":"IF(H311=0,0,F311/H311)","v":0}]
[null,null,{"$f":"MIN(ABS(B$3:B$20-C313))","v":0.1},null,{"$f":"MIN(ABS(S$2:S$16-E313))","v":0.1},null,{"$f":"MIN(ABS(S$2:S$16-G313))","v":0.1}]
[null,null,{"$f":"IF((C313-C314)<0.1,18,IF((C313-C314)>5,1,(MATCH((C313-C314),B$3:B$20,-1))))","v":18},null,{"$f":"IF((E313-E314)<0.1,1,IF((E313-E314)>5,15,(MATCH((E313-E314),S$2:S$16,1))))","v":1},null,{"$f":"IF((G313-G314)<0.1,1,IF((G313-G314)>5,15,(MATCH((G313-G314),S$2:S$16,1))))","v":1}]
[null,null,null,null,{"$f":"INDEX(C$3:Q$20,C315,E315)","v":0},null,{"$f":"INDEX(C$3:Q$20,C315,G315)","v":0}]
[]
[]
[null,"hw para ERC (m)",null,"W1",null,"W2",null,"D1"]
[]
[null,{"$f":"'AI 03'!E339","v":0},null,{"$f":"D311","v":0},null,{"$f":"F311","v":0},null,{"$f":"H311","v":0}]
[]
[null,"hw/D1",{"$f":"IF(H321=0,0,B321/H321)","v":0},"W1/D1",{"$f":"IF(H321=0,0,D321/H321)","v":0},"W2/D1",{"$f":"IF(H321=0,0,F321/H321)","v":0}]
[null,null,{"$f":"MIN(ABS(B$3:B$20-C323))","v":0.1},null,{"$f":"MIN(ABS(S$2:S$16-E323))","v":0.1},null,{"$f":"MIN(ABS(S$2:S$16-G323))","v":0.1}]
[null,null,{"$f":"IF((C323-C324)<0.1,18,IF((C323-C324)>5,1,(MATCH((C323-C324),B$3:B$20,-1))))","v":18},null,{"$f":"IF((E323-E324)<0.1,1,IF((E323-E324)>5,15,(MATCH((E323-E324),S$2:S$16,1))))","v":1},null,{"$f":"IF((G323-G324)<0.1,1,IF((G323-G324)>5,15,(MATCH((G323-G324),S$2:S$16,1))))","v":1}]
[null,null,null,null,{"$f":"INDEX(C$3:Q$20,C325,E325)","v":0},null,{"$f":"INDEX(C$3:Q$20,C325,G325)","v":0}]
[]
[]
[]
[]
[]
[]
[]
[]
[]
[]
[]
[]
[]
[]
[]
[]
[]
[]
[]
[]
[]
[]
[]
[]
[]
[]
[]
[]
[]
[]
[]
[]
[]
[]
[]
[]
[]
[null,"Espacio 7"]
[]
[null,"hw para SC (m)",null,"W1",null,"W2",null,"D1"]
[]
[null,{"$f":"'AI 03'!E387","v":0},null,{"$f":"'AI 03'!G387","v":0},null,{"$f":"'AI 03'!I387","v":0},null,{"$f":"'AI 03'!K387","v":0}]
[]
[null,"hw/D1",{"$f":"IF(H368=0,0,B368/H368)","v":0},"W1/D1",{"$f":"IF(H368=0,0,D368/H368)","v":0},"W2/D1",{"$f":"IF(H368=0,0,F368/H368)","v":0}]
[null,null,{"$f":"MIN(ABS(B$3:B$20-C370))","v":0.1},null,{"$f":"MIN(ABS(S$2:S$16-E370))","v":0.1},null,{"$f":"MIN(ABS(S$2:S$16-G370))","v":0.1}]
[null,null,{"$f":"IF((C370-C371)<0.1,18,IF((C370-C371)>5,1,(MATCH((C370-C371),B$3:B$20,-1))))","v":18},null,{"$f":"IF((E370-E371)<0.1,1,IF((E370-E371)>5,15,(MATCH((E370-E371),S$2:S$16,1))))","v":1},null,{"$f":"IF((G370-G371)<0.1,1,IF((G370-G371)>5,15,(MATCH((G370-G371),S$2:S$16,1))))","v":1}]
[null,null,null,null,{"$f":"INDEX(C$3:Q$20,C372,E372)","v":0},null,{"$f":"INDEX(C$3:Q$20,C372,G372)","v":0}]
[]
[]
[null,"hw para ERC (m)",null,"W1",null,"W2",null,"D1"]
[]
[null,{"$f":"'AI 03'!E397","v":0},null,{"$f":"D368","v":0},null,{"$f":"F368","v":0},null,{"$f":"H368","v":0}]
[]
[null,"hw/D1",{"$f":"IF(H378=0,0,B378/H378)","v":0},"W1/D1",{"$f":"IF(H378=0,0,D378/H378)","v":0},"W2/D1",{"$f":"IF(H378=0,0,F378/H378)","v":0}]
[null,null,{"$f":"MIN(ABS(B$3:B$20-C380))","v":0.1},null,{"$f":"MIN(ABS(S$2:S$16-E380))","v":0.1},null,{"$f":"MIN(ABS(S$2:S$16-G380))","v":0.1}]
[null,null,{"$f":"IF((C380-C381)<0.1,18,IF((C380-C381)>5,1,(MATCH((C380-C381),B$3:B$20,-1))))","v":18},null,{"$f":"IF((E380-E381)<0.1,1,IF((E380-E381)>5,15,(MATCH((E380-E381),S$2:S$16,1))))","v":1},null,{"$f":"IF((G380-G381)<0.1,1,IF((G380-G381)>5,15,(MATCH((G380-G381),S$2:S$16,1))))","v":1}]
[null,null,null,null,{"$f":"INDEX(C$3:Q$20,C382,E382)","v":0},null,{"$f":"INDEX(C$3:Q$20,C382,G382)","v":0}]
[]
[]
[]
[]
[]
[]
[]
[]
[]
[]
[]
[]
[]
[]
[]
[]
[]
[]
[]
[]
[]
[]
[]
[]
[]
[]
[]
[]
[]
[]
[]
[]
[]
[]
[]
[]
[]
[null,"Espacio 8"]
[]
[null,"hw para SC (m)",null,"W1",null,"W2",null,"D1"]
[]
[null,{"$f":"'AI 03'!E445","v":0},null,{"$f":"'AI 03'!G445","v":0},null,{"$f":"'AI 03'!I445","v":0},null,{"$f":"'AI 03'!K445","v":0}]
[]
[null,"hw/D1",{"$f":"IF(H425=0,0,B425/H425)","v":0},"W1/D1",{"$f":"IF(H425=0,0,D425/H425)","v":0},"W2/D1",{"$f":"IF(H425=0,0,F425/H425)","v":0}]
[null,null,{"$f":"MIN(ABS(B$3:B$20-C427))","v":0.1},null,{"$f":"MIN(ABS(S$2:S$16-E427))","v":0.1},null,{"$f":"MIN(ABS(S$2:S$16-G427))","v":0.1}]
[null,null,{"$f":"IF((C427-C428)<0.1,18,IF((C427-C428)>5,1,(MATCH((C427-C428),B$3:B$20,-1))))","v":18},null,{"$f":"IF((E427-E428)<0.1,1,IF((E427-E428)>5,15,(MATCH((E427-E428),S$2:S$16,1))))","v":1},null,{"$f":"IF((G427-G428)<0.1,1,IF((G427-G428)>5,15,(MATCH((G427-G428),S$2:S$16,1))))","v":1}]
[null,null,null,null,{"$f":"INDEX(C$3:Q$20,C429,E429)","v":0},null,{"$f":"INDEX(C$3:Q$20,C429,G429)","v":0}]
[]
[]
[null,"hw para ERC (m)",null,"W1",null,"W2",null,"D1"]
[]
[null,{"$f":"'AI 03'!E455","v":0},null,{"$f":"D425","v":0},null,{"$f":"F425","v":0},null,{"$f":"H425","v":0}]
[]
[null,"hw/D1",{"$f":"IF(H435=0,0,B435/H435)","v":0},"W1/D1",{"$f":"IF(H435=0,0,D435/H435)","v":0},"W2/D1",{"$f":"IF(H435=0,0,F435/H435)","v":0}]
[null,null,{"$f":"MIN(ABS(B$3:B$20-C437))","v":0.1},null,{"$f":"MIN(ABS(S$2:S$16-E437))","v":0.1},null,{"$f":"MIN(ABS(S$2:S$16-G437))","v":0.1}]
[null,null,{"$f":"IF((C437-C438)<0.1,18,IF((C437-C438)>5,1,(MATCH((C437-C438),B$3:B$20,-1))))","v":18},null,{"$f":"IF((E437-E438)<0.1,1,IF((E437-E438)>5,15,(MATCH((E437-E438),S$2:S$16,1))))","v":1},null,{"$f":"IF((G437-G438)<0.1,1,IF((G437-G438)>5,15,(MATCH((G437-G438),S$2:S$16,1))))","v":1}]
[null,null,null,null,{"$f":"INDEX(C$3:Q$20,C439,E439)","v":0},null,{"$f":"INDEX(C$3:Q$20,C439,G439)","v":0}]
[]
[]
[]
[]
[]
[]
[]
[]
[]
[]
[]
[]
[]
[]
[]
[]
[]
[]
[]
[]
[]
[]
[]
[]
[]
[]
[]
[]
[]
[]
[]
[]
[]
[]
[]
[]
[]
[null,"Espacio 9"]
[]
[null,"hw para SC (m)",null,"W1",null,"W2",null,"D1"]
[]
[null,{"$f":"'AI 03'!E502","v":0},null,{"$f":"'AI 03'!G502","v":0},null,{"$f":"'AI 03'!I502","v":0},null,{"$f":"'AI 03'!K502","v":0}]
[]
[null,"hw/D1",{"$f":"IF(H482=0,0,B482/H482)","v":0},"W1/D1",{"$f":"IF(H482=0,0,D482/H482)","v":0},"W2/D1",{"$f":"IF(H482=0,0,F482/H482)","v":0}]
[null,null,{"$f":"MIN(ABS(B$3:B$20-C484))","v":0.1},null,{"$f":"MIN(ABS(S$2:S$16-E484))","v":0.1},null,{"$f":"MIN(ABS(S$2:S$16-G484))","v":0.1}]
[null,null,{"$f":"IF((C484-C485)<0.1,18,IF((C484-C485)>5,1,(MATCH((C484-C485),B$3:B$20,-1))))","v":18},null,{"$f":"IF((E484-E485)<0.1,1,IF((E484-E485)>5,15,(MATCH((E484-E485),S$2:S$16,1))))","v":1},null,{"$f":"IF((G484-G485)<0.1,1,IF((G484-G485)>5,15,(MATCH((G484-G485),S$2:S$16,1))))","v":1}]
[null,null,null,null,{"$f":"INDEX(C$3:Q$20,C486,E486)","v":0},null,{"$f":"INDEX(C$3:Q$20,C486,G486)","v":0}]
[]
[]
[null,"hw para ERC (m)",null,"W1",null,"W2",null,"D1"]
[]
[null,{"$f":"'AI 03'!E512","v":0},null,{"$f":"D482","v":0},null,{"$f":"F482","v":0},null,{"$f":"H482","v":0}]
[]
[null,"hw/D1",{"$f":"IF(H492=0,0,B492/H492)","v":0},"W1/D1",{"$f":"IF(H492=0,0,D492/H492)","v":0},"W2/D1",{"$f":"IF(H492=0,0,F492/H492)","v":0}]
[null,null,{"$f":"MIN(ABS(B$3:B$20-C494))","v":0.1},null,{"$f":"MIN(ABS(S$2:S$16-E494))","v":0.1},null,{"$f":"MIN(ABS(S$2:S$16-G494))","v":0.1}]
[null,null,{"$f":"IF((C494-C495)<0.1,18,IF((C494-C495)>5,1,(MATCH((C494-C495),B$3:B$20,-1))))","v":18},null,{"$f":"IF((E494-E495)<0.1,1,IF((E494-E495)>5,15,(MATCH((E494-E495),S$2:S$16,1))))","v":1},null,{"$f":"IF((G494-G495)<0.1,1,IF((G494-G495)>5,15,(MATCH((G494-G495),S$2:S$16,1))))","v":1}]
[null,null,null,null,{"$f":"INDEX(C$3:Q$20,C496,E496)","v":0},null,{"$f":"INDEX(C$3:Q$20,C496,G496)","v":0}]
[]
[]
[]
[]
[]
[]
[]
[]
[]
[]
[]
[]
[]
[]
[]
[]
[]
[]
[]
[]
[]
[]
[]
[]
[]
[]
[]
[]
[]
[]
[]
[]
[]
[]
[]
[]
[]
[null,"Espacio 10"]
[]
[null,"hw para SC (m)",null,"W1",null,"W2",null,"D1"]
[]
[null,{"$f":"'AI 03'!E559","v":0},null,{"$f":"'AI 03'!G559","v":0},null,{"$f":"'AI 03'!I559","v":0},null,{"$f":"'AI 03'!K559","v":0}]
[]
[null,"hw/D1",{"$f":"IF(H539=0,0,B539/H539)","v":0},"W1/D1",{"$f":"IF(H539=0,0,D539/H539)","v":0},"W2/D1",{"$f":"IF(H539=0,0,F539/H539)","v":0}]
[null,null,{"$f":"MIN(ABS(B$3:B$20-C541))","v":0.1},null,{"$f":"MIN(ABS(S$2:S$16-E541))","v":0.1},null,{"$f":"MIN(ABS(S$2:S$16-G541))","v":0.1}]
[null,null,{"$f":"IF((C541-C542)<0.1,18,IF((C541-C542)>5,1,(MATCH((C541-C542),B$3:B$20,-1))))","v":18},null,{"$f":"IF((E541-E542)<0.1,1,IF((E541-E542)>5,15,(MATCH((E541-E542),S$2:S$16,1))))","v":1},null,{"$f":"IF((G541-G542)<0.1,1,IF((G541-G542)>5,15,(MATCH((G541-G542),S$2:S$16,1))))","v":1}]
[null,null,null,null,{"$f":"INDEX(C$3:Q$20,C543,E543)","v":0},null,{"$f":"INDEX(C$3:Q$20,C543,G543)","v":0}]
[]
[]
[null,"hw para ERC (m)",null,"W1",null,"W2",null,"D1"]
[]
[null,{"$f":"'AI 03'!E569","v":0},null,{"$f":"D539","v":0},null,{"$f":"F539","v":0},null,{"$f":"H539","v":0}]
[]
[null,"hw/D1",{"$f":"IF(H549=0,0,B549/H549)","v":0},"W1/D1",{"$f":"IF(H549=0,0,D549/H549)","v":0},"W2/D1",{"$f":"IF(H549=0,0,F549/H549)","v":0}]
[null,null,{"$f":"MIN(ABS(B$3:B$20-C551))","v":0.1},null,{"$f":"MIN(ABS(S$2:S$16-E551))","v":0.1},null,{"$f":"MIN(ABS(S$2:S$16-G551))","v":0.1}]
[null,null,{"$f":"IF((C551-C552)<0.1,18,IF((C551-C552)>5,1,(MATCH((C551-C552),B$3:B$20,-1))))","v":18},null,{"$f":"IF((E551-E552)<0.1,1,IF((E551-E552)>5,15,(MATCH((E551-E552),S$2:S$16,1))))","v":1},null,{"$f":"IF((G551-G552)<0.1,1,IF((G551-G552)>5,15,(MATCH((G551-G552),S$2:S$16,1))))","v":1}]
[null,null,null,null,{"$f":"INDEX(C$3:Q$20,C553,E553)","v":0},null,{"$f":"INDEX(C$3:Q$20,C553,G553)","v":0}]
[]
[]
[]
[]
[]
[]
[]
[]
[]
[]
[]
[]
[]
[]
[]
[]
[]
[]
[]
[]
[]
[]
[]
[]
[]
[]
[]
[]
[]
[]
[]
[]
[]
[]
[]
[]
[]
[null,"Espacio 11"]
[]
[null,"hw para SC (m)",null,"W1",null,"W2",null,"D1"]
[]
[null,{"$f":"'AI 03'!E616","v":0},null,{"$f":"'AI 03'!G616","v":0},null,{"$f":"'AI 03'!I616","v":0},null,{"$f":"'AI 03'!K616","v":0}]
[]
[null,"hw/D1",{"$f":"IF(H596=0,0,B596/H596)","v":0},"W1/D1",{"$f":"IF(H596=0,0,D596/H596)","v":0},"W2/D1",{"$f":"IF(H596=0,0,F596/H596)","v":0}]
[null,null,{"$f":"MIN(ABS(B$3:B$20-C598))","v":0.1},null,{"$f":"MIN(ABS(S$2:S$16-E598))","v":0.1},null,{"$f":"MIN(ABS(S$2:S$16-G598))","v":0.1}]
[null,null,{"$f":"IF((C598-C599)<0.1,18,IF((C598-C599)>5,1,(MATCH((C598-C599),B$3:B$20,-1))))","v":18},null,{"$f":"IF((E598-E599)<0.1,1,IF((E598-E599)>5,15,(MATCH((E598-E599),S$2:S$16,1))))","v":1},null,{"$f":"IF((G598-G599)<0.1,1,IF((G598-G599)>5,15,(MATCH((G598-G599),S$2:S$16,1))))","v":1}]
[null,null,null,null,{"$f":"INDEX(C$3:Q$20,C600,E600)","v":0},null,{"$f":"INDEX(C$3:Q$20,C600,G600)","v":0}]
[]
[]
[null,"hw para ERC (m)",null,"W1",null,"W2",null,"D1"]
[]
[null,{"$f":"'AI 03'!E626","v":0},null,{"$f":"D596","v":0},null,{"$f":"F596","v":0},null,{"$f":"H596","v":0}]
[]
[null,"hw/D1",{"$f":"IF(H606=0,0,B606/H606)","v":0},"W1/D1",{"$f":"IF(H606=0,0,D606/H606)","v":0},"W2/D1",{"$f":"IF(H606=0,0,F606/H606)","v":0}]
[null,null,{"$f":"MIN(ABS(B$3:B$20-C608))","v":0.1},null,{"$f":"MIN(ABS(S$2:S$16-E608))","v":0.1},null,{"$f":"MIN(ABS(S$2:S$16-G608))","v":0.1}]
[null,null,{"$f":"IF((C608-C609)<0.1,18,IF((C608-C609)>5,1,(MATCH((C608-C609),B$3:B$20,-1))))","v":18},null,{"$f":"IF((E608-E609)<0.1,1,IF((E608-E609)>5,15,(MATCH((E608-E609),S$2:S$16,1))))","v":1},null,{"$f":"IF((G608-G609)<0.1,1,IF((G608-G609)>5,15,(MATCH((G608-G609),S$2:S$16,1))))","v":1}]
[null,null,null,null,{"$f":"INDEX(C$3:Q$20,C610,E610)","v":0},null,{"$f":"INDEX(C$3:Q$20,C610,G610)","v":0}]
[]
[]
[]
[]
[]
[]
[]
[]
[]
[]
[]
[]
[]
[]
[]
[]
[]
[]
[]
[]
[]
[]
[]
[]
[]
[]
[]
[]
[]
[]
[]
[]
[]
[]
[]
[]
[]
[null,"Espacio 12"]
[]
[null,"hw para SC (m)",null,"W1",null,"W2",null,"D1"]
[]
[null,{"$f":"'AI 03'!E673","v":0},null,{"$f":"'AI 03'!G673","v":0},null,{"$f":"'AI 03'!I673","v":0},null,{"$f":"'AI 03'!K673","v":0}]
[]
[null,"hw/D1",{"$f":"IF(H653=0,0,B653/H653)","v":0},"W1/D1",{"$f":"IF(H653=0,0,D653/H653)","v":0},"W2/D1",{"$f":"IF(H653=0,0,F653/H653)","v":0}]
[null,null,{"$f":"MIN(ABS(B$3:B$20-C655))","v":0.1},null,{"$f":"MIN(ABS(S$2:S$16-E655))","v":0.1},null,{"$f":"MIN(ABS(S$2:S$16-G655))","v":0.1}]
[null,null,{"$f":"IF((C655-C656)<0.1,18,IF((C655-C656)>5,1,(MATCH((C655-C656),B$3:B$20,-1))))","v":18},null,{"$f":"IF((E655-E656)<0.1,1,IF((E655-E656)>5,15,(MATCH((E655-E656),S$2:S$16,1))))","v":1},null,{"$f":"IF((G655-G656)<0.1,1,IF((G655-G656)>5,15,(MATCH((G655-G656),S$2:S$16,1))))","v":1}]
[null,null,null,null,{"$f":"INDEX(C$3:Q$20,C657,E657)","v":0},null,{"$f":"INDEX(C$3:Q$20,C657,G657)","v":0}]
[]
[]
[null,"hw para ERC (m)",null,"W1",null,"W2",null,"D1"]
[]
[null,{"$f":"'AI 03'!E683","v":0},null,{"$f":"D653","v":0},null,{"$f":"F653","v":0},null,{"$f":"H653","v":0}]
[]
[null,"hw/D1",{"$f":"IF(H663=0,0,B663/H663)","v":0},"W1/D1",{"$f":"IF(H663=0,0,D663/H663)","v":0},"W2/D1",{"$f":"IF(H663=0,0,F663/H663)","v":0}]
[null,null,{"$f":"MIN(ABS(B$3:B$20-C665))","v":0.1},null,{"$f":"MIN(ABS(S$2:S$16-E665))","v":0.1},null,{"$f":"MIN(ABS(S$2:S$16-G665))","v":0.1}]
[null,null,{"$f":"IF((C665-C666)<0.1,18,IF((C665-C666)>5,1,(MATCH((C665-C666),B$3:B$20,-1))))","v":18},null,{"$f":"IF((E665-E666)<0.1,1,IF((E665-E666)>5,15,(MATCH((E665-E666),S$2:S$16,1))))","v":1},null,{"$f":"IF((G665-G666)<0.1,1,IF((G665-G666)>5,15,(MATCH((G665-G666),S$2:S$16,1))))","v":1}]
[null,null,null,null,{"$f":"INDEX(C$3:Q$20,C667,E667)","v":0},null,{"$f":"INDEX(C$3:Q$20,C667,G667)","v":0}]
[]
[]
[]
[]
[]
[]
[]
[]
[]
[]
[]
[]
[]
[]
[]
[]
[]
[]
[]
[]
[]
[]
[]
[]
[]
[]
[]
[]
[]
[]
[]
[]
[]
[]
[]
[]
[]
[null,"Espacio 13"]
[]
[null,"hw para SC (m)",null,"W1",null,"W2",null,"D1"]
[]
[null,{"$f":"'AI 03'!E730","v":0},null,{"$f":"'AI 03'!G730","v":0},null,{"$f":"'AI 03'!I730","v":0},null,{"$f":"'AI 03'!K730","v":0}]
[]
[null,"hw/D1",{"$f":"IF(H710=0,0,B710/H710)","v":0},"W1/D1",{"$f":"IF(H710=0,0,D710/H710)","v":0},"W2/D1",{"$f":"IF(H710=0,0,F710/H710)","v":0}]
[null,null,{"$f":"MIN(ABS(B$3:B$20-C712))","v":0.1},null,{"$f":"MIN(ABS(S$2:S$16-E712))","v":0.1},null,{"$f":"MIN(ABS(S$2:S$16-G712))","v":0.1}]
[null,null,{"$f":"IF((C712-C713)<0.1,18,IF((C712-C713)>5,1,(MATCH((C712-C713),B$3:B$20,-1))))","v":18},null,{"$f":"IF((E712-E713)<0.1,1,IF((E712-E713)>5,15,(MATCH((E712-E713),S$2:S$16,1))))","v":1},null,{"$f":"IF((G712-G713)<0.1,1,IF((G712-G713)>5,15,(MATCH((G712-G713),S$2:S$16,1))))","v":1}]
[null,null,null,null,{"$f":"INDEX(C$3:Q$20,C714,E714)","v":0},null,{"$f":"INDEX(C$3:Q$20,C714,G714)","v":0}]
[]
[]
[null,"hw para ERC (m)",null,"W1",null,"W2",null,"D1"]
[]
[null,{"$f":"'AI 03'!E740","v":0},null,{"$f":"D710","v":0},null,{"$f":"F710","v":0},null,{"$f":"H710","v":0}]
[]
[null,"hw/D1",{"$f":"IF(H720=0,0,B720/H720)","v":0},"W1/D1",{"$f":"IF(H720=0,0,D720/H720)","v":0},"W2/D1",{"$f":"IF(H720=0,0,F720/H720)","v":0}]
[null,null,{"$f":"MIN(ABS(B$3:B$20-C722))","v":0.1},null,{"$f":"MIN(ABS(S$2:S$16-E722))","v":0.1},null,{"$f":"MIN(ABS(S$2:S$16-G722))","v":0.1}]
[null,null,{"$f":"IF((C722-C723)<0.1,18,IF((C722-C723)>5,1,(MATCH((C722-C723),B$3:B$20,-1))))","v":18},null,{"$f":"IF((E722-E723)<0.1,1,IF((E722-E723)>5,15,(MATCH((E722-E723),S$2:S$16,1))))","v":1},null,{"$f":"IF((G722-G723)<0.1,1,IF((G722-G723)>5,15,(MATCH((G722-G723),S$2:S$16,1))))","v":1}]
[null,null,null,null,{"$f":"INDEX(C$3:Q$20,C724,E724)","v":0},null,{"$f":"INDEX(C$3:Q$20,C724,G724)","v":0}]
[]
[]
[]
[]
[]
[]
[]
[]
[]
[]
[]
[]
[]
[]
[]
[]
[]
[]
[]
[]
[]
[]
[]
[]
[]
[]
[]
[]
[]
[]
[]
[]
[]
[]
[]
[]
[]
[null,"Espacio 14"]
[]
[null,"hw para SC (m)",null,"W1",null,"W2",null,"D1"]
[]
[null,{"$f":"'AI 03'!E787","v":0},null,{"$f":"'AI 03'!G787","v":0},null,{"$f":"'AI 03'!I787","v":0},null,{"$f":"'AI 03'!K787","v":0}]
[]
[null,"hw/D1",{"$f":"IF(H767=0,0,B767/H767)","v":0},"W1/D1",{"$f":"IF(H767=0,0,D767/H767)","v":0},"W2/D1",{"$f":"IF(H767=0,0,F767/H767)","v":0}]
[null,null,{"$f":"MIN(ABS(B$3:B$20-C769))","v":0.1},null,{"$f":"MIN(ABS(S$2:S$16-E769))","v":0.1},null,{"$f":"MIN(ABS(S$2:S$16-G769))","v":0.1}]
[null,null,{"$f":"IF((C769-C770)<0.1,18,IF((C769-C770)>5,1,(MATCH((C769-C770),B$3:B$20,-1))))","v":18},null,{"$f":"IF((E769-E770)<0.1,1,IF((E769-E770)>5,15,(MATCH((E769-E770),S$2:S$16,1))))","v":1},null,{"$f":"IF((G769-G770)<0.1,1,IF((G769-G770)>5,15,(MATCH((G769-G770),S$2:S$16,1))))","v":1}]
[null,null,null,null,{"$f":"INDEX(C$3:Q$20,C771,E771)","v":0},null,{"$f":"INDEX(C$3:Q$20,C771,G771)","v":0}]
[]
[]
[null,"hw para ERC (m)",null,"W1",null,"W2",null,"D1"]
[]
[null,{"$f":"'AI 03'!E797","v":0},null,{"$f":"D767","v":0},null,{"$f":"F767","v":0},null,{"$f":"H767","v":0}]
[]
[null,"hw/D1",{"$f":"IF(H777=0,0,B777/H777)","v":0},"W1/D1",{"$f":"IF(H777=0,0,D777/H777)","v":0},"W2/D1",{"$f":"IF(H777=0,0,F777/H777)","v":0}]
[null,null,{"$f":"MIN(ABS(B$3:B$20-C779))","v":0.1},null,{"$f":"MIN(ABS(S$2:S$16-E779))","v":0.1},null,{"$f":"MIN(ABS(S$2:S$16-G779))","v":0.1}]
[null,null,{"$f":"IF((C779-C780)<0.1,18,IF((C779-C780)>5,1,(MATCH((C779-C780),B$3:B$20,-1))))","v":18},null,{"$f":"IF((E779-E780)<0.1,1,IF((E779-E780)>5,15,(MATCH((E779-E780),S$2:S$16,1))))","v":1},null,{"$f":"IF((G779-G780)<0.1,1,IF((G779-G780)>5,15,(MATCH((G779-G780),S$2:S$16,1))))","v":1}]
[null,null,null,null,{"$f":"INDEX(C$3:Q$20,C781,E781)","v":0},null,{"$f":"INDEX(C$3:Q$20,C781,G781)","v":0}]
[]
[]
[]
[]
[]
[]
[]
[]
[]
[]
[]
[]
[]
[]
[]
[]
[]
[]
[]
[]
[]
[]
[]
[]
[]
[]
[]
[]
[]
[]
[]
[]
[]
[]
[]
[]
[]
[null,"Espacio 15"]
[]
[null,"hw para SC (m)",null,"W1",null,"W2",null,"D1"]
[]
[null,{"$f":"'AI 03'!E844","v":0},null,{"$f":"'AI 03'!G844","v":0},null,{"$f":"'AI 03'!I844","v":0},null,{"$f":"'AI 03'!K844","v":0}]
[]
[null,"hw/D1",{"$f":"IF(H824=0,0,B824/H824)","v":0},"W1/D1",{"$f":"IF(H824=0,0,D824/H824)","v":0},"W2/D1",{"$f":"IF(H824=0,0,F824/H824)","v":0}]
[null,null,{"$f":"MIN(ABS(B$3:B$20-C826))","v":0.1},null,{"$f":"MIN(ABS(S$2:S$16-E826))","v":0.1},null,{"$f":"MIN(ABS(S$2:S$16-G826))","v":0.1}]
[null,null,{"$f":"IF((C826-C827)<0.1,18,IF((C826-C827)>5,1,(MATCH((C826-C827),B$3:B$20,-1))))","v":18},null,{"$f":"IF((E826-E827)<0.1,1,IF((E826-E827)>5,15,(MATCH((E826-E827),S$2:S$16,1))))","v":1},null,{"$f":"IF((G826-G827)<0.1,1,IF((G826-G827)>5,15,(MATCH((G826-G827),S$2:S$16,1))))","v":1}]
[null,null,null,null,{"$f":"INDEX(C$3:Q$20,C828,E828)","v":0},null,{"$f":"INDEX(C$3:Q$20,C828,G828)","v":0}]
[]
[]
[null,"hw para ERC (m)",null,"W1",null,"W2",null,"D1"]
[]
[null,{"$f":"'AI 03'!E854","v":0},null,{"$f":"D824","v":0},null,{"$f":"F824","v":0},null,{"$f":"H824","v":0}]
[]
[null,"hw/D1",{"$f":"IF(H834=0,0,B834/H834)","v":0},"W1/D1",{"$f":"IF(H834=0,0,D834/H834)","v":0},"W2/D1",{"$f":"IF(H834=0,0,F834/H834)","v":0}]
[null,null,{"$f":"MIN(ABS(B$3:B$20-C836))","v":0.1},null,{"$f":"MIN(ABS(S$2:S$16-E836))","v":0.1},null,{"$f":"MIN(ABS(S$2:S$16-G836))","v":0.1}]
[null,null,{"$f":"IF((C836-C837)<0.1,18,IF((C836-C837)>5,1,(MATCH((C836-C837),B$3:B$20,-1))))","v":18},null,{"$f":"IF((E836-E837)<0.1,1,IF((E836-E837)>5,15,(MATCH((E836-E837),S$2:S$16,1))))","v":1},null,{"$f":"IF((G836-G837)<0.1,1,IF((G836-G837)>5,15,(MATCH((G836-G837),S$2:S$16,1))))","v":1}]
[null,null,null,null,{"$f":"INDEX(C$3:Q$20,C838,E838)","v":0},null,{"$f":"INDEX(C$3:Q$20,C838,G838)","v":0}]
[]
[]
[]
[]
[]
[]
[]
[]
[]
[]
[]
[]
[]
[]
[]
[]
[]
[]
[]
[]
[]
[]
[]
[]
[]
[]
[]
[]
[]
[]
[]
[]
[]
[]
[]
[]
[]
[null,"Espacio 16"]
[]
[null,"hw para SC (m)",null,"W1",null,"W2",null,"D1"]
[]
[null,{"$f":"'AI 03'!E901","v":0},null,{"$f":"'AI 03'!G901","v":0},null,{"$f":"'AI 03'!I901","v":0},null,{"$f":"'AI 03'!K901","v":0}]
[]
[null,"hw/D1",{"$f":"IF(H881=0,0,B881/H881)","v":0},"W1/D1",{"$f":"IF(H881=0,0,D881/H881)","v":0},"W2/D1",{"$f":"IF(H881=0,0,F881/H881)","v":0}]
[null,null,{"$f":"MIN(ABS(B$3:B$20-C883))","v":0.1},null,{"$f":"MIN(ABS(S$2:S$16-E883))","v":0.1},null,{"$f":"MIN(ABS(S$2:S$16-G883))","v":0.1}]
[null,null,{"$f":"IF((C883-C884)<0.1,18,IF((C883-C884)>5,1,(MATCH((C883-C884),B$3:B$20,-1))))","v":18},null,{"$f":"IF((E883-E884)<0.1,1,IF((E883-E884)>5,15,(MATCH((E883-E884),S$2:S$16,1))))","v":1},null,{"$f":"IF((G883-G884)<0.1,1,IF((G883-G884)>5,15,(MATCH((G883-G884),S$2:S$16,1))))","v":1}]
[null,null,null,null,{"$f":"INDEX(C$3:Q$20,C885,E885)","v":0},null,{"$f":"INDEX(C$3:Q$20,C885,G885)","v":0}]
[]
[]
[null,"hw para ERC (m)",null,"W1",null,"W2",null,"D1"]
[]
[null,{"$f":"'AI 03'!E911","v":0},null,{"$f":"D881","v":0},null,{"$f":"F881","v":0},null,{"$f":"H881","v":0}]
[]
[null,"hw/D1",{"$f":"IF(H891=0,0,B891/H891)","v":0},"W1/D1",{"$f":"IF(H891=0,0,D891/H891)","v":0},"W2/D1",{"$f":"IF(H891=0,0,F891/H891)","v":0}]
[null,null,{"$f":"MIN(ABS(B$3:B$20-C893))","v":0.1},null,{"$f":"MIN(ABS(S$2:S$16-E893))","v":0.1},null,{"$f":"MIN(ABS(S$2:S$16-G893))","v":0.1}]
[null,null,{"$f":"IF((C893-C894)<0.1,18,IF((C893-C894)>5,1,(MATCH((C893-C894),B$3:B$20,-1))))","v":18},null,{"$f":"IF((E893-E894)<0.1,1,IF((E893-E894)>5,15,(MATCH((E893-E894),S$2:S$16,1))))","v":1},null,{"$f":"IF((G893-G894)<0.1,1,IF((G893-G894)>5,15,(MATCH((G893-G894),S$2:S$16,1))))","v":1}]
[null,null,null,null,{"$f":"INDEX(C$3:Q$20,C895,E895)","v":0},null,{"$f":"INDEX(C$3:Q$20,C895,G895)","v":0}]
[]
[]
[]
[]
[]
[]
[]
[]
[]
[]
[]
[]
[]
[]
[]
[]
[]
[]
[]
[]
[]
[]
[]
[]
[]
[]
[]
[]
[]
[]
[]
[]
[]
[]
[]
[]
[]
[null,"Espacio 17"]
[]
[null,"hw para SC (m)",null,"W1",null,"W2",null,"D1"]
[]
[null,{"$f":"'AI 03'!E958","v":0},null,{"$f":"'AI 03'!G958","v":0},null,{"$f":"'AI 03'!I958","v":0},null,{"$f":"'AI 03'!K958","v":0}]
[]
[null,"hw/D1",{"$f":"IF(H938=0,0,B938/H938)","v":0},"W1/D1",{"$f":"IF(H938=0,0,D938/H938)","v":0},"W2/D1",{"$f":"IF(H938=0,0,F938/H938)","v":0}]
[null,null,{"$f":"MIN(ABS(B$3:B$20-C940))","v":0.1},null,{"$f":"MIN(ABS(S$2:S$16-E940))","v":0.1},null,{"$f":"MIN(ABS(S$2:S$16-G940))","v":0.1}]
[null,null,{"$f":"IF((C940-C941)<0.1,18,IF((C940-C941)>5,1,(MATCH((C940-C941),B$3:B$20,-1))))","v":18},null,{"$f":"IF((E940-E941)<0.1,1,IF((E940-E941)>5,15,(MATCH((E940-E941),S$2:S$16,1))))","v":1},null,{"$f":"IF((G940-G941)<0.1,1,IF((G940-G941)>5,15,(MATCH((G940-G941),S$2:S$16,1))))","v":1}]
[null,null,null,null,{"$f":"INDEX(C$3:Q$20,C942,E942)","v":0},null,{"$f":"INDEX(C$3:Q$20,C942,G942)","v":0}]
[]
[]
[null,"hw para ERC (m)",null,"W1",null,"W2",null,"D1"]
[]
[null,{"$f":"'AI 03'!E968","v":0},null,{"$f":"D938","v":0},null,{"$f":"F938","v":0},null,{"$f":"H938","v":0}]
[]
[null,"hw/D1",{"$f":"IF(H948=0,0,B948/H948)","v":0},"W1/D1",{"$f":"IF(H948=0,0,D948/H948)","v":0},"W2/D1",{"$f":"IF(H948=0,0,F948/H948)","v":0}]
[null,null,{"$f":"MIN(ABS(B$3:B$20-C950))","v":0.1},null,{"$f":"MIN(ABS(S$2:S$16-E950))","v":0.1},null,{"$f":"MIN(ABS(S$2:S$16-G950))","v":0.1}]
[null,null,{"$f":"IF((C950-C951)<0.1,18,IF((C950-C951)>5,1,(MATCH((C950-C951),B$3:B$20,-1))))","v":18},null,{"$f":"IF((E950-E951)<0.1,1,IF((E950-E951)>5,15,(MATCH((E950-E951),S$2:S$16,1))))","v":1},null,{"$f":"IF((G950-G951)<0.1,1,IF((G950-G951)>5,15,(MATCH((G950-G951),S$2:S$16,1))))","v":1}]
[null,null,null,null,{"$f":"INDEX(C$3:Q$20,C952,E952)","v":0},null,{"$f":"INDEX(C$3:Q$20,C952,G952)","v":0}]
[]
[]
[]
[]
[]
[]
[]
[]
[]
[]
[]
[]
[]
[]
[]
[]
[]
[]
[]
[]
[]
[]
[]
[]
[]
[]
[]
[]
[]
[]
[]
[]
[]
[]
[]
[]
[]
[null,"Espacio 18"]
[]
[null,"hw para SC (m)",null,"W1",null,"W2",null,"D1"]
[]
[null,{"$f":"'AI 03'!E1015","v":0},null,{"$f":"'AI 03'!G1015","v":0},null,{"$f":"'AI 03'!I1015","v":0},null,{"$f":"'AI 03'!K1015","v":0}]
[]
[null,"hw/D1",{"$f":"IF(H995=0,0,B995/H995)","v":0},"W1/D1",{"$f":"IF(H995=0,0,D995/H995)","v":0},"W2/D1",{"$f":"IF(H995=0,0,F995/H995)","v":0}]
[null,null,{"$f":"MIN(ABS(B$3:B$20-C997))","v":0.1},null,{"$f":"MIN(ABS(S$2:S$16-E997))","v":0.1},null,{"$f":"MIN(ABS(S$2:S$16-G997))","v":0.1}]
[null,null,{"$f":"IF((C997-C998)<0.1,18,IF((C997-C998)>5,1,(MATCH((C997-C998),B$3:B$20,-1))))","v":18},null,{"$f":"IF((E997-E998)<0.1,1,IF((E997-E998)>5,15,(MATCH((E997-E998),S$2:S$16,1))))","v":1},null,{"$f":"IF((G997-G998)<0.1,1,IF((G997-G998)>5,15,(MATCH((G997-G998),S$2:S$16,1))))","v":1}]
[null,null,null,null,{"$f":"INDEX(C$3:Q$20,C999,E999)","v":0},null,{"$f":"INDEX(C$3:Q$20,C999,G999)","v":0}]
[]
[]
[null,"hw para ERC (m)",null,"W1",null,"W2",null,"D1"]
[]
[null,{"$f":"'AI 03'!E1025","v":0},null,{"$f":"D995","v":0},null,{"$f":"F995","v":0},null,{"$f":"H995","v":0}]
[]
[null,"hw/D1",{"$f":"IF(H1005=0,0,B1005/H1005)","v":0},"W1/D1",{"$f":"IF(H1005=0,0,D1005/H1005)","v":0},"W2/D1",{"$f":"IF(H1005=0,0,F1005/H1005)","v":0}]
[null,null,{"$f":"MIN(ABS(B$3:B$20-C1007))","v":0.1},null,{"$f":"MIN(ABS(S$2:S$16-E1007))","v":0.1},null,{"$f":"MIN(ABS(S$2:S$16-G1007))","v":0.1}]
[null,null,{"$f":"IF((C1007-C1008)<0.1,18,IF((C1007-C1008)>5,1,(MATCH((C1007-C1008),B$3:B$20,-1))))","v":18},null,{"$f":"IF((E1007-E1008)<0.1,1,IF((E1007-E1008)>5,15,(MATCH((E1007-E1008),S$2:S$16,1))))","v":1},null,{"$f":"IF((G1007-G1008)<0.1,1,IF((G1007-G1008)>5,15,(MATCH((G1007-G1008),S$2:S$16,1))))","v":1}]
[null,null,null,null,{"$f":"INDEX(C$3:Q$20,C1009,E1009)","v":0},null,{"$f":"INDEX(C$3:Q$20,C1009,G1009)","v":0}]
[]
[]
[]
[]
[]
[]
[]
[]
[]
[]
[]
[]
[]
[]
[]
[]
[]
[]
[]
[]
[]
[]
[]
[]
[]
[]
[]
[]
[]
[]
[]
[]
[]
[]
[]
[]
[]
[null,"Espacio 19"]
[]
[null,"hw para SC (m)",null,"W1",null,"W2",null,"D1"]
[]
[null,{"$f":"'AI 03'!E1072","v":2},null,{"$f":"'AI 03'!G1072","v":1.5},null,{"$f":"'AI 03'!I1072","v":1.5},null,{"$f":"'AI 03'!K1072","v":5.4}]
[]
[null,"hw/D1",{"$f":"IF(H1052=0,0,B1052/H1052)","v":0.37037037037037035},"W1/D1",{"$f":"IF(H1052=0,0,D1052/H1052)","v":0.27777777777777773},"W2/D1",{"$f":"IF(H1052=0,0,F1052/H1052)","v":0.27777777777777773}]
[null,null,{"$f":"MIN(ABS(B$3:B$20-C1054))","v":2.9629629629629672E-2},null,{"$f":"MIN(ABS(S$2:S$16-E1054))","v":2.2222222222222254E-2},null,{"$f":"MIN(ABS(S$2:S$16-G1054))","v":2.2222222222222254E-2}]
[null,null,{"$f":"IF((C1054-C1055)<0.1,18,IF((C1054-C1055)>5,1,(MATCH((C1054-C1055),B$3:B$20,-1))))","v":15},null,{"$f":"IF((E1054-E1055)<0.1,1,IF((E1054-E1055)>5,15,(MATCH((E1054-E1055),S$2:S$16,1))))","v":2},null,{"$f":"IF((G1054-G1055)<0.1,1,IF((G1054-G1055)>5,15,(MATCH((G1054-G1055),S$2:S$16,1))))","v":2}]
[null,null,null,null,{"$f":"INDEX(C$3:Q$20,C1056,E1056)","v":0.4},null,{"$f":"INDEX(C$3:Q$20,C1056,G1056)","v":0.4}]
[]
[]
[null,"hw para ERC (m)",null,"W1",null,"W2",null,"D1"]
[]
[null,{"$f":"'AI 03'!E1082","v":0},null,{"$f":"D1052","v":1.5},null,{"$f":"F1052","v":1.5},null,{"$f":"H1052","v":5.4}]
[]
[null,"hw/D1",{"$f":"IF(H1062=0,0,B1062/H1062)","v":0},"W1/D1",{"$f":"IF(H1062=0,0,D1062/H1062)","v":0.27777777777777773},"W2/D1",{"$f":"IF(H1062=0,0,F1062/H1062)","v":0.27777777777777773}]
[null,null,{"$f":"MIN(ABS(B$3:B$20-C1064))","v":0.1},null,{"$f":"MIN(ABS(S$2:S$16-E1064))","v":2.2222222222222254E-2},null,{"$f":"MIN(ABS(S$2:S$16-G1064))","v":2.2222222222222254E-2}]
[null,null,{"$f":"IF((C1064-C1065)<0.1,18,IF((C1064-C1065)>5,1,(MATCH((C1064-C1065),B$3:B$20,-1))))","v":18},null,{"$f":"IF((E1064-E1065)<0.1,1,IF((E1064-E1065)>5,15,(MATCH((E1064-E1065),S$2:S$16,1))))","v":2},null,{"$f":"IF((G1064-G1065)<0.1,1,IF((G1064-G1065)>5,15,(MATCH((G1064-G1065),S$2:S$16,1))))","v":2}]
[null,null,null,null,{"$f":"INDEX(C$3:Q$20,C1066,E1066)","v":0},null,{"$f":"INDEX(C$3:Q$20,C1066,G1066)","v":0}]
[]
[]
[]
[]
[]
[]
[]
[]
[]
[]
[]
[]
[]
[]
[]
[]
[]
[]
[]
[]
[]
[]
[]
[]
[]
[]
[]
[]
[]
[]
[]
[]
[]
[]
[]
[]
[]
[null,"Espacio 20"]
[]
[null,"hw para SC (m)",null,"W1",null,"W2",null,"D1"]
[]
[null,{"$f":"'AI 03'!E1129","v":2},null,{"$f":"'AI 03'!G1129","v":1.5},null,{"$f":"'AI 03'!I1129","v":1.5},null,{"$f":"'AI 03'!K1129","v":5.4}]
[]
[null,"hw/D1",{"$f":"IF(H1109=0,0,B1109/H1109)","v":0.37037037037037035},"W1/D1",{"$f":"IF(H1109=0,0,D1109/H1109)","v":0.27777777777777773},"W2/D1",{"$f":"IF(H1109=0,0,F1109/H1109)","v":0.27777777777777773}]
[null,null,{"$f":"MIN(ABS(B$3:B$20-C1111))","v":2.9629629629629672E-2},null,{"$f":"MIN(ABS(S$2:S$16-E1111))","v":2.2222222222222254E-2},null,{"$f":"MIN(ABS(S$2:S$16-G1111))","v":2.2222222222222254E-2}]
[null,null,{"$f":"IF((C1111-C1112)<0.1,18,IF((C1111-C1112)>5,1,(MATCH((C1111-C1112),B$3:B$20,-1))))","v":15},null,{"$f":"IF((E1111-E1112)<0.1,1,IF((E1111-E1112)>5,15,(MATCH((E1111-E1112),S$2:S$16,1))))","v":2},null,{"$f":"IF((G1111-G1112)<0.1,1,IF((G1111-G1112)>5,15,(MATCH((G1111-G1112),S$2:S$16,1))))","v":2}]
[null,null,null,null,{"$f":"INDEX(C$3:Q$20,C1113,E1113)","v":0.4},null,{"$f":"INDEX(C$3:Q$20,C1113,G1113)","v":0.4}]
[]
[]
[null,"hw para ERC (m)",null,"W1",null,"W2",null,"D1"]
[]
[null,{"$f":"'AI 03'!E1139","v":0},null,{"$f":"D1109","v":1.5},null,{"$f":"F1109","v":1.5},null,{"$f":"H1109","v":5.4}]
[]
[null,"hw/D1",{"$f":"IF(H1119=0,0,B1119/H1119)","v":0},"W1/D1",{"$f":"IF(H1119=0,0,D1119/H1119)","v":0.27777777777777773},"W2/D1",{"$f":"IF(H1119=0,0,F1119/H1119)","v":0.27777777777777773}]
[null,null,{"$f":"MIN(ABS(B$3:B$20-C1121))","v":0.1},null,{"$f":"MIN(ABS(S$2:S$16-E1121))","v":2.2222222222222254E-2},null,{"$f":"MIN(ABS(S$2:S$16-G1121))","v":2.2222222222222254E-2}]
[null,null,{"$f":"IF((C1121-C1122)<0.1,18,IF((C1121-C1122)>5,1,(MATCH((C1121-C1122),B$3:B$20,-1))))","v":18},null,{"$f":"IF((E1121-E1122)<0.1,1,IF((E1121-E1122)>5,15,(MATCH((E1121-E1122),S$2:S$16,1))))","v":2},null,{"$f":"IF((G1121-G1122)<0.1,1,IF((G1121-G1122)>5,15,(MATCH((G1121-G1122),S$2:S$16,1))))","v":2}]
[null,null,null,null,{"$f":"INDEX(C$3:Q$20,C1123,E1123)","v":0},null,{"$f":"INDEX(C$3:Q$20,C1123,G1123)","v":0}]

{"sheet":"AS","index":32,"n_rows":234,"n_cols":23,"rows_kept":234,"cut":false,"hidden":false,"merged":[[31,5,31,6],[1,2,1,3],[1,4,1,5],[1,6,1,7],[11,5,12,6],[17,5,18,6],[22,5,23,6],[25,6,25,7],[27,4,27,5],[27,6,27,7],[29,5,29,6],[8,4,9,6],[60,5,60,6],[33,5,33,6],[35,4,35,5],[39,13,39,17],[44,5,45,6],[47,5,48,6],[50,5,51,6],[53,5,54,6],[56,6,56,7],[58,4,58,5],[58,6,58,7],[41,4,42,6],[62,5,62,6],[64,4,64,5],[72,5,73,5],[76,6,76,7],[78,4,78,5],[78,6,78,7],[112,4,112,5],[112,6,112,7],[80,5,80,6],[82,5,82,6],[84,5,84,6],[86,4,86,5],[94,6,94,7],[96,4,96,5],[96,6,96,7],[98,5,98,6],[100,5,100,6],[102,4,102,5],[108,5,108,6],[110,6,110,7],[144,5,145,6],[114,5,114,6],[116,5,116,6],[118,4,118,5],[124,5,124,6],[126,5,126,6],[128,6,128,7],[130,4,130,5],[130,6,130,7],[132,5,132,6],[134,5,134,6],[136,4,136,5],[175,5,176,6],[147,5,147,6],[149,6,149,7],[151,4,151,5],[151,6,151,7],[153,5,153,6],[155,5,155,6],[157,5,157,6],[159,4,159,5],[165,5,166,6],[168,5,169,6],[173,5,173,6],[171,5,171,6],[210,6,210,7],[178,5,178,6],[180,5,180,6],[182,5,182,6],[184,6,184,7],[186,4,186,5],[186,6,186,7],[188,5,188,6],[190,5,190,6],[192,5,192,6],[194,5,194,6],[196,4,196,5],[212,4,212,5],[212,6,212,7],[214,5,214,6],[216,4,216,5],[222,6,222,9]]}
[]
[null,null,{"$f":"'Matriz VERDE-GBCe'!U42","v":"AS"},null,{"$f":"'Matriz VERDE-GBCe'!V42","v":"Aspectos sociales"}]
[]
[]
[null,null,null,null,{"$f":"'Matriz VERDE-GBCe'!V43","v":"AS 01"},{"$f":"VLOOKUP($E5,'Matriz VERDE-GBCe'!$V$7:$AH$60,2,FALSE)","v":"Espacios para todas las personas"},{"$f":"VLOOKUP($E5,'Matriz VERDE-GBCe'!$V$7:$AH$60,3,FALSE)","v":1.9180001077528153E-2},null,null,null,null,null,null,{"$f":"'DG '!F27","v":0},null,null,null,null,null,"SE ADJUNTA",null,"SÍ","NO"]
[null,null,null,null,null,null,null,null,null,null,null,null,null,null,null,null,null,null,null,"NO SE ADJUNTA",null,"NO"]
[null,null,null,null,null,"Las estancias de las viviendas cumplen con los tamaños mínimos que exige el criterio",null,null,null,null,null,null,null,{"$f":"IF(I7=\"Sí\",IF(OR(N5=\"Unifamiliar\",N5=\"Vivienda en un edificio\"),G5,0.4*G5))","v":false},null,null,null,null,null,"NO APLICA"]
[null,null,null,null,null,null,null,null,null,null,null,null,null,null,null,null,null,null,null,"NO SE ADJUNTA",null,"NO"]
[null,null,null,null,"Se han implementado en el edificio las siguientes medidas que favorecen la convivencia y facilitan el desarrollo de actividades:",null,null,null,null,null,null,null,null,null,null,null,null,null,null,"NO APLICA"]
[]
[]
[null,null,null,null,null,"Instalaciones para niñas y niños, como zonas de juego al aire libre, estancias interiores con equipamiento que permita el juego, fuentes de agua potable adecuadas a su altura, etc.",null,null,null,null,null,null,null,{"$f":"IF(OR(I12=\"\",I12=\"NO\",N5=\"Unifamiliar\",N5=\"Vivienda en un edificio\"),0,1)","v":0}]
[]
[]
[]
[null,null,null,null,null,"Espacios de esparcimiento para la tercera edad adecuados al uso del edificio",null,null,null,null,null,null,null,{"$f":"IF(OR(I16=\"\",I16=\"NO\",N5=\"Unifamiliar\",N5=\"Vivienda en un edificio\"),0,1)","v":0}]
[]
[null,null,null,null,null,"Variedad de tamaños y número de dormitorios dando respuesta a las necesidades de los distintos conjuntos familiares.",null,null,null,null,null,null,null,{"$f":"IF(OR(I18=\"\",I18=\"NO\",N5=\"Unifamiliar\",N5=\"Vivienda en un edificio\"),0,1)","v":0}]
[]
[]
[null,null,null,null,null,"Diseño de las cocinas como elementos integrados en el espacio de comedor.",null,null,null,null,null,null,null,{"$f":"IF(OR(I21=\"\",I21=\"NO\",N5=\"Unifamiliar\",N5=\"Vivienda en un edificio\"),0,1)","v":0}]
[]
[null,null,null,null,null,"Otras medidas innovadoras que faciliten el uso del edificio por personas de grupos de edad extremos (infancia y tercera edad) o la integración de todos los miembros de la familia.",null,null,null,null,null,null,null,{"$f":"IF(OR(I23=\"\",I23=\"NO\",N5=\"Unifamiliar\",N5=\"Vivienda en un edificio\"),0,1)","v":0}]
[]
[]
[null,null,null,null,"NOTAS"]
[]
[null,null,null,null,"DOCUMENTOS JUSTIFICATIVOS"]
[]
[null,null,null,null,"AS 01.01","Planos del edificio donde se definan y acoten claramente las superficies y volumetría de los espacios que permitan el cumplimiento del primer indicador"]
[]
[null,null,null,null,"AS 01.02","Plantas del edificio y la parcela donde se ubiquen y definan claramente los espacios que permian el cumplimiento del segundo indicador",null,null,null,null,null,null,null,{"$f":"(N7+IF(SUM(N12:N23)>=4,0.6*G5,(SUM(N12:N23)*0.25*0.6*G5)))","v":0}]
[]
[null,null,null,null,"AS 01.03","Breve memoria justificativa del cumplimiento de las medidas puntuadas que incluya la información adecuada para su descripción, planos, fortografías, memorias, etc."]
[]
[null,null,null,null,"VALORACIÓN DEL CRITERIO",null,{"$f":"IF(OR(N5=\"Unifamiliar\",N5=\"Vivienda en un edificio\"),N7,N32)","v":0}]
[]
[]
[]
[null,null,null,null,{"$f":"'Matriz VERDE-GBCe'!V44","v":"AS 02"},{"$f":"VLOOKUP($E40,'Matriz VERDE-GBCe'!$V$7:$AH$60,2,FALSE)","v":"Espacios para la comunicación"},{"$f":"VLOOKUP($E40,'Matriz VERDE-GBCe'!$V$7:$AH$60,3,FALSE)","v":1.8479607779753247E-2}]
[]
[null,null,null,null,"Se han diseñado, en las zonas comunes de los edificios, los siguientes espacios que favorecen la comunicación e interrelación entre los ocupantes del edificio"]
[]
[]
[null,null,null,null,null,"Espacios de reunión para todos los ocupantes y capaces de albergar a un número suficiente de personas",null,null,null,null,null,null,null,{"$f":"IF(OR(I45=\"No\",I45=\"\"),0,1)","v":0}]
[]
[]
[null,null,null,null,null,"Espacios en los que se puedan desarrollar actividades culturales, deportivas, de ocio o de otro tipo que aporte valor a la comunidad.",null,null,null,null,null,null,null,{"$f":"IF(OR(I48=\"No\",I48=\"\"),0,1)","v":0}]
[]
[]
[null,null,null,null,null,"Espacios que inviten al esparcimiento con zonas de asientos confortables, mesas y otros elementos, como obras de arte que inviten al descanso y desconexión",null,null,null,null,null,null,null,{"$f":"IF(OR(I51=\"No\",I51=\"\"),0,1)","v":0}]
[]
[]
[null,null,null,null,null,"Otras medidas innovadoras que favorezcan la relación y comunicación entre los ocupantes del edificio.",null,null,null,null,null,null,null,{"$f":"IF(OR(I54=\"No\",I54=\"\"),0,1)","v":0}]
[]
[]
[null,null,null,null,"NOTAS"]
[]
[null,null,null,null,"DOCUMENTOS JUSTIFICATIVOS"]
[]
[null,null,null,null,"AS 02.01","Plantas del edificio y la parcela donde se ubiquen y definan claramente los espacios que permitan el cumplimiento del indicador"]
[]
[null,null,null,null,"AS 02.02","Breve memoria justificativa del cumplimiento de las medidas puntuadas que incluya la información adecuada para su descripción, planos, fotografías, memorias, etc.."]
[]
[null,null,null,null,"VALORACIÓN DEL CRITERIO",null,{"$f":"SUM(N45:N54)*0.25*G40","v":0}]
[]
[]
[]
[null,null,null,null,{"$f":"'Matriz VERDE-GBCe'!V45","v":"AS 03"},{"$f":"VLOOKUP($E69,'Matriz VERDE-GBCe'!$V$7:$AH$60,2,FALSE)","v":"Derecho al sol"},{"$f":"VLOOKUP($E69,'Matriz VERDE-GBCe'!$V$7:$AH$60,3,FALSE)","v":1.7429017833090893E-2},null,null,null,null,null,{"$f":"'DG '!F29","v":0},{"$f":"'DG '!F27","v":0}]
[null,null,null,null,null,null,null,null,null,null,null,null,null,null,null,null,null,null,null,null,null,"NO"]
[null,null,null,null,null,"Ir a la hoja de cálculo del criterio",null,null,null,null,null,null,null,{"$f":"IF(OR(N69=\"Vivienda en un edificio\",N69=\"Unifamiliar\",N69=\"Urbanizaciones\"),1,0)","v":0}]
[]
[null,null,null,null,null,{"$f":"IF(OR($N69=\"unifamiliar\",N69=\"urbanizaciones\"),\"Cada vivienda disfruta, en al menos dos estancias principales, de dos horas de sol directo el día 22 de diciembre  entre las 9:00 y las 15:00 horas solares\",IF(N69=\"Vivienda en un edificio\",\"La estancia principal disfruta de dos horas de sol directo el día 22 de diciembre  entre las 9:00 y las 15:00 horas solares\",\"% de viviendas que disfrutan, en su estancia principal, de dos horas de sol directo el día 22 de diciembre  entre las 9:00 y las 15:00 horas solares\"))","v":"% de viviendas que disfrutan, en su estancia principal, de dos horas de sol directo el día 22 de diciembre  entre las 9:00 y las 15:00 horas solares"},null,null,null,null,null,null,{"$f":"IF(I73=\"\",0,IF(I73<0.5,0,IF(I73>1,G69,((((I73*100)-50)/50))*G69)))","v":0},{"$f":"IF(I73=\"\",0,IF(I73<0.25,0,IF(I73>=0.75,G69,((((I73*100)-25)/50))*G69)))","v":0},{"$f":"IF(OR(M69=\"Rehabilitación\",\"Edificio existente\"),N73,M73)","v":0}]
[null,null,null,null,null,null,null,null,null,null,null,null,{"$f":"IF(I74=\"Sí\",G69,0)","v":0}]
[]
[]
[null,null,null,null,"NOTAS",null,null,null,null,null,null,null,"Enlazar el botón"]
[]
[null,null,null,null,"DOCUMENTOS JUSTIFICATIVOS"]
[null,null,null,null,null,null,null,null,null,null,null,null,0.4]
[null,null,null,null,"AS 03.01","Planos de proyecto donde se recogen las orientaciones de las estancias de las viviendas."]
[null,null,null,null,null,null,null,null,null,null,null,null,0.4]
[null,null,null,null,"AS 03.02","Planos de situación indicando las obstrucciones solares que puedan afectar al edificio.\n"]
[null,null,null,null,null,null,null,null,null,null,null,null,0.4]
[null,null,null,null,"AS 03.03","Estudio de soleamiento de las viviendas teniendo en cuenta las obstrucciones solares\n"]
[]
[null,null,null,null,"VALORACIÓN DEL CRITERIO",null,{"$f":"IF(OR(N69=\"Vivienda en un edifico\",N69=\"Unifamiliar\",N69=\"Urbanizaciones\"),M74,O73)","v":0}]
[]
[]
[]
[null,null,null,null,{"$f":"'Matriz VERDE-GBCe'!V46","v":"AS 04"},{"$f":"VLOOKUP($E91,'Matriz VERDE-GBCe'!$V$7:$AH$60,2,FALSE)","v":"Derecho a la intimidad"},{"$f":"VLOOKUP($E91,'Matriz VERDE-GBCe'!$V$7:$AH$60,3,FALSE)","v":1.6809439146597705E-2}]
[]
[null,null,null,null,null,"Porcentaje de viviendas que disfrutan intimidad en sus espacios interiores"]
[]
[null,null,null,null,"NOTAS"]
[]
[null,null,null,null,"DOCUMENTOS JUSTIFICATIVOS"]
[null,null,null,null,null,null,null,null,null,null,null,null,0.4]
[null,null,null,null,"AS 04.01","Planos del proyecto y memoria donde se indiquen las posiciones de las ventanas y la situación de elementos, a menos de 20 m del edificio en los que se pueda situar un observador."]
[null,null,null,null,null,null,null,null,null,null,null,null,0.4]
[null,null,null,null,"AS 04.02","Cuadro de cálculo del porcentaje de viviendas con las tipologías que cumplen y el número de viviendas que hay para cada tipología.\n"]
[]
[null,null,null,null,"VALORACIÓN DEL CRITERIO",null,{"$f":"IF($I93<=0.5,0,(($I93-0.5)/0.5)*$G91)","v":0}]
[]
[]
[]
[null,null,null,null,{"$f":"'Matriz VERDE-GBCe'!V47","v":"AS 05"},{"$f":"VLOOKUP($E107,'Matriz VERDE-GBCe'!$V$7:$AH$60,2,FALSE)","v":"Contacto visual con el exterior"},{"$f":"VLOOKUP($E107,'Matriz VERDE-GBCe'!$V$7:$AH$60,3,FALSE)","v":1.7860029093260062E-2}]
[]
[null,null,null,null,null,"Porcentaje de viviendas que tienen acceso visual al exterior, con las especificaciones del criterio"]
[]
[null,null,null,null,"NOTAS"]
[null,null,null,null,null,null,null,null,null,null,null,null,0.4]
[null,null,null,null,"DOCUMENTOS JUSTIFICATIVOS"]
[null,null,null,null,null,null,null,null,null,null,null,null,0.4]
[null,null,null,null,"AS 05.01","Planos de planta, en formato que permita la comprobación de las medidas con herramientas de libre acceso, en los que deben figurar los polígonos que determinan la superficie de las estancias o espacios de trabajo que tienen acceso a las vistas del exterior, así como el valor de dicha superficie."]
[null,null,null,null,null,null,null,null,null,null,null,null,0.4]
[null,null,null,null,"AS 05.02","Memoria de cálculo en la que figure la superficie útil de cada estancia, las estancias que disfrutan de vistas y el cálculo de porcentaje de viviendas que cumplen."]
[]
[null,null,null,null,"VALORACIÓN DEL CRITERIO",null,{"$f":"IF($I109<=0.7,0,(($I109-0.7)/0.3)*$G107)","v":0}]
[]
[]
[]
[null,null,null,null,{"$f":"'Matriz VERDE-GBCe'!V48","v":"AS 06"},{"$f":"VLOOKUP($E123,'Matriz VERDE-GBCe'!$V$7:$AH$60,2,FALSE)","v":"Espacios abiertos privados"},{"$f":"VLOOKUP($E123,'Matriz VERDE-GBCe'!$V$7:$AH$60,3,FALSE)","v":1.8210225742147514E-2},null,null,null,null,null,null,{"$f":"IF('DG '!F27=\"\",\"\",'DG '!F27)","v":""},null,{"$f":"IF(OR(N123=\"Unifamiliar\",N123=\"Urbanizaciones\",N123=\"Vivienda en un edificio\"),1,0)","v":0}]
[]
[null,null,null,null,null,{"$f":"IF(OR(N123=\"Unifamiliar\",N123=\"Urbanizaciones\",N123=\"Vivienda en un edificio\"),\"\",\"Porcentaje de viviendas que disfrutan de un espacio abierto privado de calidad\")","v":"Porcentaje de viviendas que disfrutan de un espacio abierto privado de calidad"},null,null,null,null,null,null,{"$f":"IF(OR($I125<=0.5,I125=\"\"),0,(($I125-0.5)/0.5)*$G123)","v":0}]
[]
[null,null,null,null,null,{"$f":"IF(OR(N123=\"Unifamiliar\",N123=\"Urbanizaciones\"),\"Todas las viviendas cuentan con un espacio abierto privado\",IF(N123=\"Vivienda en un edificio\",\"La vivienda cuenta con un espacio abierto privado\",\"\"))","v":""},null,null,null,null,null,null,{"$f":"IF(OR(I127=\"No\",I127=\"\"),0,G123)","v":0}]
[]
[null,null,null,null,"NOTAS"]
[]
[null,null,null,null,"DOCUMENTOS JUSTIFICATIVOS"]
[]
[null,null,null,null,"AS 06.01","Planos de las tipologías, en formato que permita la comprobación de las medidas con herramientas de libre acceso, y memoria donde se indiquen mediante una polilínea amarilla de grosor suficiente para verse con claridad los espacios abiertos privados de cada tipología"]
[]
[null,null,null,null,"AS 06.02","Cuadro de cálculo del porcentaje de viviendas con las tipologías que cumplen y el número de viviendas que hay para cada tipología."]
[]
[null,null,null,null,"VALORACIÓN DEL CRITERIO",null,{"$f":"IF(P123=1,M127,M125)","v":0}]
[]
[]
[]
[null,null,null,null,{"$f":"'Matriz VERDE-GBCe'!V49","v":"AS 07"},{"$f":"VLOOKUP($E141,'Matriz VERDE-GBCe'!$V$7:$AH$60,2,FALSE)","v":"Diseño inclusivo"},{"$f":"VLOOKUP($E141,'Matriz VERDE-GBCe'!$V$7:$AH$60,3,FALSE)","v":2.0742416895641401E-2}]
[]
[null,null,null,null,null,"Se prevé una señalización específica para personas con discapacidad cognitiva"]
[]
[null,null,null,null,null,"Se prevé el libre acceso al porcentaje de viviendas accesibles que cumple con la normativa aplicable a promociones públicas",null,null,null,null,null,null,null,{"$f":"(IF($I143=\"sí\",$G141*0.3))+(IF($I145=\"sí\",$G141*0.5))+(IF($I148=\"sí\",$G141*0.2))","v":0}]
[]
[]
[null,null,null,null,null,"Se prevén una mejora sustasncial de la accesibilidad no contemplada en las medidas anteriores",null,null,null,null,null,null,null,{"$f":"IF($I148=\"sí\",$G141,0)","v":0}]
[]
[null,null,null,null,"NOTAS"]
[]
[null,null,null,null,"DOCUMENTOS JUSTIFICATIVOS"]
[]
[null,null,null,null,"AS 07.01","Memoria de accesibilidad con indicación de las señales cognitivas insataladas, su ubicación y características."]
[]
[null,null,null,null,"AS 07.02","Planos del edificio que deben contener las medidas adoptadas para mejorar la accesibilidad al edificio, los itinerarios accesibles y las viviendas accesibles."]
[]
[null,null,null,null,"AS 07.03","Breve memoria justificativa del cumplimiento de las medidas puntuadas."]
[]
[null,null,null,null,"VALORACIÓN DEL CRITERIO",null,{"$f":"IF(N123=\"Unifamiliar\",N148,N145)","v":0}]
[]
[]
[]
[null,null,null,null,{"$f":"'Matriz VERDE-GBCe'!V50","v":"AS 08"},{"$f":"VLOOKUP($E164,'Matriz VERDE-GBCe'!$V$7:$AH$60,2,FALSE)","v":"Conexión con la naturaleza"},{"$f":"VLOOKUP($E164,'Matriz VERDE-GBCe'!$V$7:$AH$60,3,FALSE)","v":2.7342276816981845E-2}]
[]
[null,null,null,null,null,"El edificio cuenta con espacios abiertos ajardinados que cumplen con las especificaciones del criterio",null,null,null,null,null,null,null,{"$f":"IF(OR(I166=\"\",I166=\"No\"),0,0.25*G164)","v":0}]
[]
[]
[null,null,null,null,null,"Todas las viviendas tienen contacto visual con espacios vegetados cumpliendo con las especificaciones del criterio ",null,null,null,null,null,null,null,{"$f":"IF(OR(I169=\"\",I169=\"No\"),0,0.25*G164)","v":0}]
[]
[]
[null,null,null,null,null,"Para introducir la naturaleza en el edificio se han implementado alguna de estas medidas:"]
[]
[null,null,null,null,null,"Ubicación pródiga de plantas en las zonas comunes del edificio.",null,null,null,null,null,null,null,{"$f":"IF(OR(I174=\"\",I174=\"No\"),0,0.4*0.35*G164)","v":0}]
[]
[null,null,null,null,null,"Ubicación de espacios que puedan dar servicio a la avifauna como refugio y garantizar que no supondrán un problema para el sistema constructivo del edificio o molestia para los usuarios.",null,null,null,null,null,null,null,{"$f":"IF(OR(I176=\"\",I176=\"No\"),0,0.3*0.35*G164)","v":0}]
[]
[]
[null,null,null,null,null,"Presencia en el exterior de plantas con flores que atraigan insectos polinizadores",null,null,null,null,null,null,null,{"$f":"IF(OR(I179=\"\",I179=\"No\"),0,0.15*0.35*G164)","v":0}]
[]
[null,null,null,null,null,"Instalación de estructuras que sirvan de soporte para insectos (hoteles de insectos)",null,null,null,null,null,null,null,{"$f":"IF(OR(I181=\"\",I181=\"No\"),0,0.15*0.35*G164)","v":0}]
[]
[null,null,null,null,null,"El edificio cuenta con elementos que faciliten la conviviencia con perros",null,null,null,null,null,null,null,{"$f":"IF(OR(I183=\"\",I183=\"No\"),0,0.15*G164)","v":0}]
[]
[null,null,null,null,"NOTAS"]
[]
[null,null,null,null,"DOCUMENTOS JUSTIFICATIVOS"]
[]
[null,null,null,null,"AS 08.01","Planos del edificio en el que se señalen las zonas ajardinadas y el cumplimiento de las especificaciones del criterio"]
[]
[null,null,null,null,"AS 08.02","Estudio que contenga la justificación de la elección de especies en función de los cambios de estaciones climatológicas y el diseño biodiverso con cualidades formales y cromáticas."]
[]
[null,null,null,null,"AS 08.03","Planos del edificio en los que se justifique que las viviendas cuentan con contacto visual con elementos vegetales"]
[]
[null,null,null,null,"AS 08.04","Breve memoria justificativa, del cumplimiento de las medidas implementadas para introducir la naturaleza en el edificio y facilitar la conviviencia con los perros, que incluya la información adecuada para su descripción, planos, fotografías, memorias, etc.."]
[]
[null,null,null,null,"VALORACIÓN DEL CRITERIO",null,{"$f":"SUM(N166:N183)","v":0}]
[]
[]
[]
[null,null,null,null,{"$f":"'Matriz VERDE-GBCe'!V51","v":"AS 09"},{"$f":"VLOOKUP($E201,'Matriz VERDE-GBCe'!$V$7:$AH$60,2,FALSE)","v":"El edificio como herramienta de comunicación"},{"$f":"VLOOKUP($E164,'Matriz VERDE-GBCe'!$V$7:$AH$60,3,FALSE)","v":2.7342276816981845E-2}]
[]
[null,null,null,null,null,"Se ha definido un plan de comunicación conforme al criterio"]
[]
[null,null,null,null,null,"Se garantiza que los datos de consumo general del edificio serán públicos"]
[]
[null,null,null,null,null,"Hay un compromiso de facilitar información sobre el edificio a entidades educacionales."]
[]
[null,null,null,null,null,"Se incentivará la difución del conocimiento del funcionamiento del edificio"]
[]
[null,null,null,null,"NOTAS"]
[]
[null,null,null,null,"DOCUMENTOS JUSTIFICATIVOS"]
[]
[null,null,null,null,"AS 09. 01","Declaración de intenciones donde se recoja el compromiso de promotor y proyectistas de cumplir con las medidas descritas. Esta declaración de intenciones debe detallar cómo se adoptarán las medidas, cada cuánto tiempo y a través de qué medio se harán públicos los consumos; al menos, con una previsión de un año vista."]
[]
[null,null,null,null,"VALORACIÓN DEL CRITERIO",null,{"$f":"(IF($I203=\"sí\",$G201*0.25,0))+(IF($I205=\"sí\",$G201*0.25,0))+(IF($I207=\"sí\",$G201*0.25,0))+(IF($I209=\"sí\",$G201*0.25,0))","v":0}]
[]
[]
[]
[]
[]
[null,null,null,null,null,null,"VALORACIÓN ÁREA"]
[]
[null,null,null,null,null,null,"SUBTOTAL",null,{"$f":"G36+G65+G87+G103+G119+G137+G160+G197+G217","v":0}]
[]
[null,null,null,null,null,null,"SOBRE",null,{"$f":"VLOOKUP(C$2,'Matriz VERDE-GBCe'!$U$4:$AH$60,4,FALSE)","v":0.17542158288885298}]
[]
[]
[]
[]
[]
[]
[null,null,null,null,null,null,"SÍ",null,"x"]

{"sheet":"AS 03","index":33,"n_rows":68,"n_cols":37,"rows_kept":68,"cut":false,"hidden":false,"merged":[[9,5,9,6],[11,4,11,6],[11,31,12,32],[1,2,1,33],[2,2,2,33],[4,3,5,3],[6,3,8,3],[7,5,7,6],[8,5,8,6]]}
[]
[null,null,"Derecho al sol"]
[null,null,"VERDE Edificios 2020 residencial Privado"]
[]
[null,null,null,"Horas de soleamiento SOLSTICIO DE INVIERNO",null,"CIUDAD","LATITUD"]
[null,null,null,null,null,"Badajoz",{"$f":"VLOOKUP(F6,capitales!M3:P54,2)","v":38.878599999999999}]
[null,null,null,{"$f":"IF(AND(AI15=\"\",'AUX - DATOS'!I4<='AUX - DATOS'!W77,'AUX - DATOS'!L4>='AUX - DATOS'!W131),AK7-AJ7,IF(AND(AI15=\"\",'AUX - DATOS'!I4>='AUX - DATOS'!W77,'AUX - DATOS'!I4<='AUX - DATOS'!W131),AK7-AG14,IF(AND(AI15=\"\",'AUX - DATOS'!L4>='AUX - DATOS'!W77,'AUX - DATOS'!L4<='AUX - DATOS'!W131),AG15-AJ7,IFERROR('AUX - DATOS'!W186,\"\"))))","v":"06:00:00"},null,null,null,null,null,null,null,null,null,null,null,null,null,null,null,null,null,null,null,null,null,null,null,null,null,null,null,null,null,null,null,{"$f":"'AUX - DATOS'!U77","v":"09:00:00"},{"$f":"'AUX - DATOS'!U101","v":"15:00:00"}]
[null,null,null,null,null,"AZIMUT DE LA FACHADA (o)"]
[null,null,null,null,null,null,null,null,null,null,null,null,null,null,null,null,null,null,null,null,null,null,null,null,null,null,null,null,"x","y"]
[null,null,null,null,null,null,null,null,null,null,null,null,null,null,null,null,null,null,null,null,null,null,null,null,null,null,null,null,4,5]
[null,null,null,null,null,null,null,null,null,null,null,null,null,null,null,null,null,null,null,null,null,null,null,null,null,null,null,null,null,null,null,null,null,null,null,{"$f":"AG16-AJ7","v":{"$error":"#VALUE!"}}]
[null,null,null,null,"DEFINICIÓN DE OBSTÁCULOS",null,null,null,null,null,null,null,null,null,null,null,null,null,null,null,null,null,null,null,null,null,null,null,null,null,null,"HORAS DE CORTE DE OBSTRUCCIONES \nCON CURVA SOLSTICIO DE INVIERNO",null,null,null,{"$f":"AG17-AG18","v":{"$error":"#VALUE!"}}]
[null,null,null,null,"AZIMUT (ωx)","DISTANCIA (d)","ALTURA (h)"]
[null,null,null,"punto A",null,null,null,null,null,null,null,null,null,null,null,null,null,null,null,null,null,null,null,null,null,null,null,null,{"$f":"AD10/AC10","v":1.25},null,null,"lado este de la fachada",{"$f":"'AUX - DATOS'!X139","v":"-"}]
[null,null,null,"punto B",null,null,null,null,null,null,null,null,null,null,null,null,null,null,null,null,null,null,null,null,null,null,null,null,null,null,null,"lado oeste de la fachada",{"$f":"'AUX - DATOS'!AY139","v":"-"},null,{"$f":"IF(AND(E14=\"\",E15=\"\",E16=\"\",E17=\"\",E18=\"\",E19=\"\",E20=\"\",E21=\"\",E22=\"\",E23=\"\",E24=\"\",E25=\"\",E26=\"\",E27=\"\",E28=\"\",E29=\"\",E30=\"\",E31=\"\",E32=\"\",E33=\"\",E34=\"\",E35=\"\",E36=\"\",E37=\"\",E38=\"\",E39=\"\"),\"\",\"OK\")","v":""}]
[null,null,null,"punto C",null,null,null,null,null,null,null,null,null,null,null,null,null,null,null,null,null,null,null,null,null,null,null,null,{"$f":"IF('AUX - DATOS'!AA144<>\"\",\"corte obstáculo 1\",\"\")","v":""},{"$f":"IF('AUX - DATOS'!AB144<>\"\",\"corte obstáculo 1\",\"\")","v":""},null,{"$f":"IF(AND('AUX - DATOS'!Y$172<>\"\",'AUX - DATOS'!Y$172<>'AUX - DATOS'!$U$131),\"corte obstáculo 1\",\"\")","v":""},{"$f":"IF(AF16<>\"\",'AUX - DATOS'!Y$172,\"\")","v":""},null,null,{"$f":"IF('AUX - DATOS'!AI144<>\"\",\"corte obstáculo 1\",\"\")","v":""},{"$f":"IF('AUX - DATOS'!AJ144<>\"\",\"corte obstáculo 1\",\"\")","v":""}]
[null,null,null,"punto D",null,null,null,null,null,null,null,null,null,null,null,null,null,null,null,null,null,null,null,null,null,null,null,null,null,null,null,{"$f":"IF(AND('AUX - DATOS'!Z$172<>\"\",'AUX - DATOS'!Z$172<>'AUX - DATOS'!$U$131),\"corte obstáculo 2\",\"\")","v":""},{"$f":"IF(AF17<>\"\",'AUX - DATOS'!Z$172,\"\")","v":""}]
[null,null,null,"punto E",null,null,null,null,null,null,null,null,null,null,null,null,null,null,null,null,null,null,null,null,null,null,null,null,{"$f":"IF(AC10=0,90,(ATAN(AD10/AC10)*180/PI()))","v":51.340191745909912},null,null,{"$f":"IF(AND('AUX - DATOS'!AA$172<>\"\",'AUX - DATOS'!AA$172<>'AUX - DATOS'!$U$131),\"corte obstáculo 3\",\"\")","v":""},{"$f":"IF(AF18<>\"\",'AUX - DATOS'!AA$172,\"\")","v":""}]
[null,null,null,"punto F",null,null,null,null,null,null,null,null,null,null,null,null,null,null,null,null,null,null,null,null,null,null,null,null,null,null,null,{"$f":"IF(AND('AUX - DATOS'!AB$172<>\"\",'AUX - DATOS'!AB$172<>'AUX - DATOS'!$U$131),\"corte obstáculo 4\",\"\")","v":""},{"$f":"IF(AF19<>\"\",'AUX - DATOS'!AB$172,\"\")","v":""}]
[null,null,null,"punto G",null,null,null,null,null,null,null,null,null,null,null,null,null,null,null,null,null,null,null,null,null,null,null,null,null,null,null,{"$f":"IF(AND('AUX - DATOS'!AC$172<>\"\",'AUX - DATOS'!AC$172<>'AUX - DATOS'!$U$131),\"corte obstáculo 5\",\"\")","v":""},{"$f":"IF(AF20<>\"\",'AUX - DATOS'!AC$172,\"\")","v":""}]
[null,null,null,"punto H",null,null,null,null,null,null,null,null,null,null,null,null,null,null,null,null,null,null,null,null,null,null,null,null,{"$f":"SIN(RADIANS(AC10))","v":6.9756473744125302E-2},null,null,{"$f":"IF(AND('AUX - DATOS'!AD$172<>\"\",'AUX - DATOS'!AD$172<>'AUX - DATOS'!$U$131),\"corte obstáculo 6\",\"\")","v":""},{"$f":"IF(AF21<>\"\",'AUX - DATOS'!AD$172,\"\")","v":""}]
[null,null,null,"punto I",null,null,null,null,null,null,null,null,null,null,null,null,null,null,null,null,null,null,null,null,null,null,null,null,null,null,null,{"$f":"IF(AND('AUX - DATOS'!AE$172<>\"\",'AUX - DATOS'!AE$172<>'AUX - DATOS'!$U$131),\"corte obstáculo 7\",\"\")","v":""},{"$f":"IF(AF22<>\"\",'AUX - DATOS'!AE$172,\"\")","v":""}]
[null,null,null,"punto J",null,null,null,null,null,null,null,null,null,null,null,null,null,null,null,null,null,null,null,null,null,null,null,null,{"$f":"DEGREES(ASIN(AC21))","v":4},null,null,{"$f":"IF(AND('AUX - DATOS'!AF$172<>\"\",'AUX - DATOS'!AF$172<>'AUX - DATOS'!$U$131),\"corte obstáculo 8\",\"\")","v":""},{"$f":"IF(AF23<>\"\",'AUX - DATOS'!AF$172,\"\")","v":""}]
[null,null,null,"punto K",null,null,null,null,null,null,null,null,null,null,null,null,null,null,null,null,null,null,null,null,null,null,null,null,null,null,null,{"$f":"IF(AND('AUX - DATOS'!AG$172<>\"\",'AUX - DATOS'!AG$172<>'AUX - DATOS'!$U$131),\"corte obstáculo 9\",\"\")","v":""},{"$f":"IF(AF24<>\"\",'AUX - DATOS'!AG$172,\"\")","v":""}]
[null,null,null,"punto L",null,null,null,null,null,null,null,null,null,null,null,null,null,null,null,null,null,null,null,null,null,null,null,null,null,null,null,{"$f":"IF(AND('AUX - DATOS'!AH$172<>\"\",'AUX - DATOS'!AH$172<>'AUX - DATOS'!$U$131),\"corte obstáculo 10\",\"\")","v":""},{"$f":"IF(AF25<>\"\",'AUX - DATOS'!AH$172,\"\")","v":""}]
[null,null,null,"punto M",null,null,null,null,null,null,null,null,null,null,null,null,null,null,null,null,null,null,null,null,null,null,null,null,null,null,null,{"$f":"IF(AND('AUX - DATOS'!AI$172<>\"\",'AUX - DATOS'!AI$172<>'AUX - DATOS'!$U$131),\"corte obstáculo 11\",\"\")","v":""},{"$f":"IF(AF26<>\"\",'AUX - DATOS'!AI$172,\"\")","v":""}]
[null,null,null,"punto N",null,null,null,null,null,null,null,null,null,null,null,null,null,null,null,null,null,null,null,null,null,null,null,null,null,null,null,{"$f":"IF(AND('AUX - DATOS'!AJ$172<>\"\",'AUX - DATOS'!AJ$172<>'AUX - DATOS'!$U$131),\"corte obstáculo 12\",\"\")","v":""},{"$f":"IF(AF27<>\"\",'AUX - DATOS'!AJ$172,\"\")","v":""}]
[null,null,null,"punto O",null,null,null,null,null,null,null,null,null,null,null,null,null,null,null,null,null,null,null,null,null,null,null,null,null,null,null,{"$f":"IF(AND('AUX - DATOS'!AK$172<>\"\",'AUX - DATOS'!AK$172<>'AUX - DATOS'!$U$131),\"corte obstáculo 13\",\"\")","v":""},{"$f":"IF(AF28<>\"\",'AUX - DATOS'!AK$172,\"\")","v":""}]
[null,null,null,"punto P",null,null,null,null,null,null,null,null,null,null,null,null,null,null,null,null,null,null,null,null,null,null,null,null,null,null,null,{"$f":"IF(AND('AUX - DATOS'!AL$172<>\"\",'AUX - DATOS'!AL$172<>'AUX - DATOS'!$U$131),\"corte obstáculo 14\",\"\")","v":""},{"$f":"IF(AF29<>\"\",'AUX - DATOS'!AL$172,\"\")","v":""}]
[null,null,null,"punto Q",null,null,null,null,null,null,null,null,null,null,null,null,null,null,null,null,null,null,null,null,null,null,null,null,null,null,null,{"$f":"IF(AND('AUX - DATOS'!AM$172<>\"\",'AUX - DATOS'!AM$172<>'AUX - DATOS'!$U$131),\"corte obstáculo 15\",\"\")","v":""},{"$f":"IF(AF30<>\"\",'AUX - DATOS'!AM$172,\"\")","v":""}]
[null,null,null,"punto R",null,null,null,null,null,null,null,null,null,null,null,null,null,null,null,null,null,null,null,null,null,null,null,null,null,null,null,{"$f":"IF(AND('AUX - DATOS'!AN$172<>\"\",'AUX - DATOS'!AN$172<>'AUX - DATOS'!$U$131),\"corte obstáculo 16\",\"\")","v":""},{"$f":"IF(AF31<>\"\",'AUX - DATOS'!AN$172,\"\")","v":""}]
[null,null,null,"punto S",null,null,null,null,null,null,null,null,null,null,null,null,null,null,null,null,null,null,null,null,null,null,null,null,null,null,null,{"$f":"IF(AND('AUX - DATOS'!AO$172<>\"\",'AUX - DATOS'!AO$172<>'AUX - DATOS'!$U$131),\"corte obstáculo 17\",\"\")","v":""},{"$f":"IF(AF32<>\"\",'AUX - DATOS'!AO$172,\"\")","v":""}]
[null,null,null,"punto T",null,null,null,null,null,null,null,null,null,null,null,null,null,null,null,null,null,null,null,null,null,null,null,null,null,null,null,{"$f":"IF(AND('AUX - DATOS'!AP$172<>\"\",'AUX - DATOS'!AP$172<>'AUX - DATOS'!$U$131),\"corte obstáculo 18\",\"\")","v":""},{"$f":"IF(AF33<>\"\",'AUX - DATOS'!AP$172,\"\")","v":""}]
[null,null,null,"punto U",null,null,null,null,null,null,null,null,null,null,null,null,null,null,null,null,null,null,null,null,null,null,null,null,null,null,null,{"$f":"IF(AND('AUX - DATOS'!AQ$172<>\"\",'AUX - DATOS'!AQ$172<>'AUX - DATOS'!$U$131),\"corte obstáculo 19\",\"\")","v":""},{"$f":"IF(AF34<>\"\",'AUX - DATOS'!AQ$172,\"\")","v":""}]
[null,null,null,"punto V"]
[null,null,null,"punto W"]
[null,null,null,"punto X"]
[null,null,null,"punto Y"]
[null,null,null,"punto Z"]
[]
[]
[]
[null,null,null,"punto A",-120,20,0,null,null,null,-120,20,0]
[null,null,null,"punto B",-120,20,5,null,null,null,-120,20,4]
[null,null,null,"punto C",-74.2,18,5,null,null,null,-74.2,18,4]
[null,null,null,"punto D",-74.2,18,7,null,null,null,-74.2,18,6]
[null,null,null,"punto E",10,17,7,null,null,null,31.7,17,6]
[null,null,null,"punto F",15,28,15,null,null,null,58.9,28,6]
[null,null,null,"punto G",20,28,15,null,null,null,58.9,28,0]
[null,null,null,"punto H",20,28,5]
[null,null,null,"punto I",25,30,5]
[null,null,null,"punto J",30,30,6]
[null,null,null,"punto K",30,30,0]
[null,null,null,"punto L",35.79,30,0]
[null,null,null,"punto M",35.79,30,15]
[null,null,null,"punto N",150,30,15]
[null,null,null,"punto O"]
[null,null,null,"punto P"]
[null,null,null,"punto Q"]
[null,null,null,"punto R"]
[null,null,null,"punto S"]
[null,null,null,"punto T"]
[null,null,null,"punto U"]
[null,null,null,"punto V"]
[null,null,null,"punto W"]
[null,null,null,"punto X"]
[null,null,null,"punto Y"]
[null,null,null,"punto Z"]

{"sheet":"AUX - DATOS","index":34,"n_rows":186,"n_cols":141,"rows_kept":186,"cut":false,"hidden":true,"merged":[[46,125,46,126],[72,24,72,49],[72,51,72,76],[142,22,143,22],[170,22,171,22],[46,113,46,114],[46,115,46,116],[46,117,46,118],[46,119,46,120],[46,121,46,122],[46,123,46,124],[46,101,46,102],[46,103,46,104],[46,105,46,106],[46,107,46,108],[46,109,46,110],[46,111,46,112],[46,89,46,90],[46,91,46,92],[46,93,46,94],[46,95,46,96],[46,97,46,98],[46,99,46,100],[46,87,46,88],[46,7,46,8],[46,9,46,10],[46,11,46,12],[46,13,46,14],[46,15,46,16],[46,22,46,23],[46,77,46,78],[46,79,46,80],[46,81,46,82],[46,83,46,84],[46,85,46,86],[46,5,46,6],[5,1,5,2],[6,1,6,2],[7,1,7,2],[9,1,9,2],[46,3,46,4]]}
[]
[]
[null,"CIUDAD","LATITUD",null,"Azimut LADO ESTE","Altura ","Azimut lado OESTE","Altura solar",{"$f":"B7-80","v":-80},"fachada altura ESTE","fachada altura OESTE",null,"Azimut LADO ESTE","Azimut lado OESTE",null,null,"ESTE",null,null,null,null,"OESTE"]
[null,{"$f":"'AS 03'!F6","v":"Badajoz"},{"$f":"'AS 03'!G6","v":38.878599999999999},null,{"$f":"E7","v":-150},0,{"$f":"G7","v":150},0,{"$f":"IF(E5<0,E5,ABS(E5))","v":-80},{"$f":"IFERROR(R34,\"\")","v":14.795074915349655},{"$f":"W34","v":14.795074915349655},{"$f":"IF(G5<0,G5,ABS(G5))","v":80},{"$f":"B7-80","v":-80},{"$f":"B7+80","v":80},null,null,null,"ALTURA","AZIMUT",null,null,null,"ALTURA"]
[null,null,null,null,{"$f":"M10","v":-80},0,{"$f":"M15","v":80},0,null,{"$f":"MIN(R77:R101)","v":37.855542817938534},{"$f":"MIN(S77:S101)","v":37.855542817938534},null,"corrección","corrección"]
[null,"AZIMUT DE LA FACHADA (º)",null,null,{"$f":"E5","v":-80},90,{"$f":"G5","v":80},90,null,null,{"$f":"IFERROR((VLOOKUP(K5,R77:X101,7)),\"\")","v":14.795074915349655},null,{"$f":"IF(M4<=-180,360+M4,M4)","v":-80},{"$f":"IF(N4>=180,N4-360,N4)","v":80},null,null,{"$f":"ABS(S6-$I$4)","v":37.855542817938534},{"$f":"X77","v":14.795074915349655},{"$f":"W77","v":-42.144457182061466},null,null,{"$f":"ABS(S6-$L$4)","v":122.14445718206147},{"$f":"X77","v":14.795074915349655}]
[null,{"$f":"'AS 03'!$F$9","v":0},null,null,{"$f":"M12","v":-150},90,{"$f":"M17","v":150},90,null,null,null,null,"corrección 2","corrección 2",null,null,{"$f":"ABS(S7-$I$4)","v":40.834367308567785},{"$f":"X78","v":16.697134160322644},{"$f":"W78","v":-39.165632691432215},null,null,{"$f":"ABS(S7-$L$4)","v":119.16563269143222},{"$f":"X78","v":16.697134160322644}]
[null,"SUR = 0   ESTE = -90   OESTE = 90",null,null,null,null,null,null,null,null,null,null,{"$f":"IF(M6>=150,150,IF(M6<-150,-150,M6))","v":-80},{"$f":"IF(N6<=-150,-150,IF(N6>150,150,N6))","v":80},null,null,43.921724200261131,18.479364613557198,-36.078275799738869,null,null,116.07827579973886,18.479364613557198]
[null,null,null,null,null,null,null,null,null,null,null,null,"Azimut LADO ESTE","Altura ",null,null,47.119135818426855,20.132182778001951,-32.880864181573145,null,null,112.88086418157314,20.132182778001951]
[null,"DEFINICIÓN DE OBSTÁCULOS",null,null,null,null,null,null,null,null,null,{"$f":"A12","v":"A"},{"$f":"M8","v":-80},0,null,null,50.426275921614803,21.645829071343687,-29.573724078385201,null,null,109.5737240783852,21.645829071343687]
[null,"AZIMUT","ALTURA",null,null,null,null,null,null,null,null,{"$f":"A13","v":"B"},{"$f":"M10","v":-80},90,null,null,53.840659224199776,23.010538302812314,-26.159340775800224,null,null,106.15934077580022,23.010538302812314]
["A",{"$f":"IF('AS 03'!E14=\"\",\"\",'AS 03'!E14)","v":""},{"$f":"IF('AS 03'!F14=\"\",\"\",(ATAN('AS 03'!G14/'AS 03'!F14)*180/PI()))","v":""},null,{"$f":"IFERROR(B12+0.5,\"\")","v":""},null,null,null,null,null,null,{"$f":"A14","v":"C"},{"$f":"IF(AND(B7>-100,B7<130),-150,M15)","v":-150},90,null,null,57.357366614542258,24.216749810353082,-22.642633385457739,null,null,102.64263338545774,24.216749810353082]
["B",{"$f":"IF('AS 03'!E15=\"\",\"\",'AS 03'!E15)","v":""},{"$f":"IF('AS 03'!F15=\"\",\"\",(ATAN('AS 03'!G15/'AS 03'!F15)*180/PI()))","v":""},null,{"$f":"IFERROR(B13,\"\")","v":""},null,null,null,null,null,null,{"$f":"A15","v":"D"},{"$f":"M12","v":-150},0,null,null,60.968841931100776,25.255353255586297,-19.031158068899224,null,null,99.031158068899231,25.255353255586297]
["C",{"$f":"IF('AS 03'!E16=\"\",\"\",'AS 03'!E16)","v":""},{"$f":"IF('AS 03'!F16=\"\",\"\",(ATAN('AS 03'!G16/'AS 03'!F16)*180/PI()))","v":""},null,{"$f":"IFERROR(B14+0.5,\"\")","v":""},null,null,null,null,null,null,null,"Azimut lado OESTE","Altura solar",null,null,64.664798935441539,26.11796117313305,-15.33520106455846,null,null,95.335201064558461,26.11796117313305]
["D",{"$f":"IF('AS 03'!E17=\"\",\"\",'AS 03'!E17)","v":""},{"$f":"IF('AS 03'!F17=\"\",\"\",(ATAN('AS 03'!G17/'AS 03'!F17)*180/PI()))","v":""},null,{"$f":"IFERROR(B15,\"\")","v":""},null,null,null,null,null,null,{"$f":"A16","v":"E"},{"$f":"N8","v":80},0,null,null,68.432274341773166,26.797194091133221,-11.56772565822684,null,null,91.567725658226834,26.797194091133221]
["E",{"$f":"IF('AS 03'!E18=\"\",\"\",'AS 03'!E18)","v":""},{"$f":"IF('AS 03'!F18=\"\",\"\",(ATAN('AS 03'!G18/'AS 03'!F18)*180/PI()))","v":""},null,{"$f":"IFERROR(B16+0.5,\"\")","v":""},null,null,null,null,null,null,{"$f":"A17","v":"F"},{"$f":"M15","v":80},90,null,null,72.255852864467784,27.286959273849099,-7.7441471355322138,null,null,87.744147135532216,27.286959273849099]
["F",{"$f":"IF('AS 03'!E19=\"\",\"\",'AS 03'!E19)","v":""},{"$f":"IF('AS 03'!F19=\"\",\"\",(ATAN('AS 03'!G19/'AS 03'!F19)*180/PI()))","v":""},null,{"$f":"IFERROR(B17,\"\")","v":""},null,null,null,null,null,null,{"$f":"A18","v":"G"},{"$f":"IF(AND(B7<100,B7>-130),150,M10)","v":150},90,null,null,76.118073048772018,27.582700993548368,-3.881926951227987,null,null,83.881926951227982,27.582700993548368]
["G",{"$f":"IF('AS 03'!E20=\"\",\"\",'AS 03'!E20)","v":""},{"$f":"IF('AS 03'!F20=\"\",\"\",(ATAN('AS 03'!G20/'AS 03'!F20)*180/PI()))","v":""},null,{"$f":"IFERROR(B18+0.5,\"\")","v":""},null,null,null,null,null,null,{"$f":"A19","v":"H"},{"$f":"M17","v":150},0,null,null,80,27.681599780247442,0,null,null,80,27.681599780247442]
["H",{"$f":"IF('AS 03'!E21=\"\",\"\",'AS 03'!E21)","v":""},{"$f":"IF('AS 03'!F21=\"\",\"\",(ATAN('AS 03'!G21/'AS 03'!F21)*180/PI()))","v":""},null,{"$f":"IFERROR(B19,\"\")","v":""},null,null,null,null,null,null,null,null,null,null,null,83.881926951227982,27.582700993548368,3.881926951227987,null,null,76.118073048772018,27.582700993548368]
["I",{"$f":"IF('AS 03'!E22=\"\",\"\",'AS 03'!E22)","v":""},{"$f":"IF('AS 03'!F22=\"\",\"\",(ATAN('AS 03'!G22/'AS 03'!F22)*180/PI()))","v":""},null,{"$f":"IFERROR(B20+0.5,\"\")","v":""},null,null,null,null,null,null,null,{"$f":"IF(AND(B7>=-100,B7<130),-150,M15)","v":-150},null,null,null,87.744147135532216,27.286959273849099,7.7441471355322138,null,null,72.255852864467784,27.286959273849099]
["J",{"$f":"IF('AS 03'!E23=\"\",\"\",'AS 03'!E23)","v":""},{"$f":"IF('AS 03'!F23=\"\",\"\",(ATAN('AS 03'!G23/'AS 03'!F23)*180/PI()))","v":""},null,{"$f":"IFERROR(B21,\"\")","v":""},null,null,null,null,null,null,null,{"$f":"IF(AND(B7<100,B7>-130),150,M10)","v":150},null,null,null,91.567725658226834,26.797194091133221,11.56772565822684,null,null,68.432274341773166,26.797194091133221]
["K",{"$f":"IF('AS 03'!E24=\"\",\"\",'AS 03'!E24)","v":""},{"$f":"IF('AS 03'!F24=\"\",\"\",(ATAN('AS 03'!G24/'AS 03'!F24)*180/PI()))","v":""},null,{"$f":"IFERROR(B22+0.5,\"\")","v":""},null,null,null,null,null,null,null,null,null,null,null,95.335201064558461,26.11796117313305,15.33520106455846,null,null,64.664798935441539,26.11796117313305]
["L",{"$f":"IF('AS 03'!E25=\"\",\"\",'AS 03'!E25)","v":""},{"$f":"IF('AS 03'!F25=\"\",\"\",(ATAN('AS 03'!G25/'AS 03'!F25)*180/PI()))","v":""},null,{"$f":"IFERROR(B23,\"\")","v":""},null,null,null,null,null,null,null,null,null,null,null,99.031158068899231,25.255353255586297,19.031158068899224,null,null,60.968841931100776,25.255353255586297]
["M",{"$f":"IF('AS 03'!E26=\"\",\"\",'AS 03'!E26)","v":""},{"$f":"IF('AS 03'!F26=\"\",\"\",(ATAN('AS 03'!G26/'AS 03'!F26)*180/PI()))","v":""},null,{"$f":"IFERROR(B24+0.5,\"\")","v":""},null,null,null,null,null,null,null,null,null,null,null,102.64263338545774,24.216749810353082,22.642633385457739,null,null,57.357366614542258,24.216749810353082]
["N",{"$f":"IF('AS 03'!E27=\"\",\"\",'AS 03'!E27)","v":""},{"$f":"IF('AS 03'!F27=\"\",\"\",(ATAN('AS 03'!G27/'AS 03'!F27)*180/PI()))","v":""},null,{"$f":"IFERROR(B25,\"\")","v":""},null,null,null,null,null,null,null,null,null,null,null,106.15934077580022,23.010538302812314,26.159340775800224,null,null,53.840659224199776,23.010538302812314]
["O",{"$f":"IF('AS 03'!E28=\"\",\"\",'AS 03'!E28)","v":""},{"$f":"IF('AS 03'!F28=\"\",\"\",(ATAN('AS 03'!G28/'AS 03'!F28)*180/PI()))","v":""},null,{"$f":"IFERROR(B26+0.5,\"\")","v":""},null,null,null,null,null,null,null,null,null,null,null,109.5737240783852,21.645829071343687,29.573724078385201,null,null,50.426275921614803,21.645829071343687]
["P",{"$f":"IF('AS 03'!E29=\"\",\"\",'AS 03'!E29)","v":""},{"$f":"IF('AS 03'!F29=\"\",\"\",(ATAN('AS 03'!G29/'AS 03'!F29)*180/PI()))","v":""},null,{"$f":"IFERROR(B27,\"\")","v":""},null,null,null,null,null,null,null,null,null,null,null,112.88086418157314,20.132182778001951,32.880864181573145,null,null,47.119135818426855,20.132182778001951]
["Q",{"$f":"IF('AS 03'!E30=\"\",\"\",'AS 03'!E30)","v":""},{"$f":"IF('AS 03'!F30=\"\",\"\",(ATAN('AS 03'!G30/'AS 03'!F30)*180/PI()))","v":""},null,{"$f":"IFERROR(B28+0.5,\"\")","v":""},null,null,null,null,null,null,null,null,null,null,null,116.07827579973886,18.479364613557198,36.078275799738869,null,null,43.921724200261131,18.479364613557198]
["R",{"$f":"IF('AS 03'!E31=\"\",\"\",'AS 03'!E31)","v":""},{"$f":"IF('AS 03'!F31=\"\",\"\",(ATAN('AS 03'!G31/'AS 03'!F31)*180/PI()))","v":""},null,{"$f":"IFERROR(B29,\"\")","v":""},null,null,null,null,null,null,null,null,null,null,null,119.16563269143222,16.697134160322644,39.165632691432215,null,null,40.834367308567785,16.697134160322644]
["S",{"$f":"IF('AS 03'!E32=\"\",\"\",'AS 03'!E32)","v":""},{"$f":"IF('AS 03'!F32=\"\",\"\",(ATAN('AS 03'!G32/'AS 03'!F32)*180/PI()))","v":""},null,{"$f":"IFERROR(B30+0.5,\"\")","v":""},null,null,null,null,null,null,null,null,null,null,null,122.14445718206147,14.795074915349655,42.144457182061466,null,null,37.855542817938534,14.795074915349655]
["T",{"$f":"IF('AS 03'!E33=\"\",\"\",'AS 03'!E33)","v":""},{"$f":"IF('AS 03'!F33=\"\",\"\",(ATAN('AS 03'!G33/'AS 03'!F33)*180/PI()))","v":""},null,{"$f":"IFERROR(B31,\"\")","v":""}]
["U",{"$f":"IF('AS 03'!E34=\"\",\"\",'AS 03'!E34)","v":""},{"$f":"IF('AS 03'!F34=\"\",\"\",(ATAN('AS 03'!G34/'AS 03'!F34)*180/PI()))","v":""},null,{"$f":"IFERROR(B32+0.5,\"\")","v":""},null,null,null,null,null,null,null,null,null,null,"diferencia menor",{"$f":"IF(AND(Q6=\"-\",Q7=\"-\",Q8=\"-\",Q9=\"-\",Q10=\"-\",Q11=\"-\",Q12=\"-\",Q13=\"-\",Q14=\"-\",Q15=\"-\",Q16=\"-\",Q17=\"-\",Q18=\"-\",Q19=\"-\",Q20=\"-\",Q21=\"-\",Q22=\"-\",Q23=\"-\",Q24=\"-\",Q25=\"-\",Q26=\"-\",Q27=\"-\",Q28=\"-\",Q29=\"-\",Q30=\"-\"),\"\",MIN(Q6:Q30))","v":37.855542817938534},null,null,null,"diferencia menor",{"$f":"IF(AND(V6=\"-\",V7=\"-\",V8=\"-\",V9=\"-\",V10=\"-\",V11=\"-\",V12=\"-\",V13=\"-\",V14=\"-\",V15=\"-\",V16=\"-\",V17=\"-\",V18=\"-\",V19=\"-\",V20=\"-\",V21=\"-\",V22=\"-\",V23=\"-\",V24=\"-\",V25=\"-\",V26=\"-\",V27=\"-\",V28=\"-\",V29=\"-\",V30=\"-\"),\"\",MIN(V6:V30))","v":37.855542817938534}]
["V",{"$f":"IF('AS 03'!E35=\"\",\"\",'AS 03'!E35)","v":""},{"$f":"IF('AS 03'!F35=\"\",\"\",(ATAN('AS 03'!G35/'AS 03'!F35)*180/PI()))","v":""},null,{"$f":"IFERROR(B33,\"\")","v":""}]
["W",{"$f":"IF('AS 03'!E36=\"\",\"\",'AS 03'!E36)","v":""},{"$f":"IF('AS 03'!F36=\"\",\"\",(ATAN('AS 03'!G36/'AS 03'!F36)*180/PI()))","v":""},null,{"$f":"IFERROR(B34+0.5,\"\")","v":""},null,null,null,null,null,null,null,null,null,null,"altura cruce",null,{"$f":"IFERROR(VLOOKUP(Q32,Q6:R30,2,FALSE),\"-\")","v":14.795074915349655},null,null,"altura cruce",null,{"$f":"IFERROR(VLOOKUP(V32,V6:W30,2,FALSE),\"-\")","v":14.795074915349655}]
["X",{"$f":"IF('AS 03'!E37=\"\",\"\",'AS 03'!E37)","v":""},{"$f":"IF('AS 03'!F37=\"\",\"\",(ATAN('AS 03'!G37/'AS 03'!F37)*180/PI()))","v":""},null,{"$f":"IFERROR(B35,\"\")","v":""},null,null,null,null,null,null,null,null,null,null,null,null,null,null,null,null,null,null,{"$f":"PI()/180*ASIN((SIN(#REF!*PI()/180)*COS(X$46*PI()/180))/COS(V53*PI()/180))","v":{"$error":"#REF!"}},{"$f":"PI()/180*ASIN((-SIN(#REF!*PI()/180)*COS(X$46*PI()/180))/COS(90-V53*PI()/180))","v":{"$error":"#REF!"}}]
["Y",{"$f":"IF('AS 03'!E38=\"\",\"\",'AS 03'!E38)","v":""},{"$f":"IF('AS 03'!F38=\"\",\"\",(ATAN('AS 03'!G38/'AS 03'!F38)*180/PI()))","v":""},null,{"$f":"IFERROR(B36+0.5,\"\")","v":""}]
["Z",{"$f":"IF('AS 03'!E39=\"\",\"\",'AS 03'!E39)","v":""},{"$f":"IF('AS 03'!F39=\"\",\"\",(ATAN('AS 03'!G39/'AS 03'!F39)*180/PI()))","v":""},null,{"$f":"IFERROR(B37,\"\")","v":""}]
[null,{"$f":"IF('AS 03'!E40=\"\",\"\",'AS 03'!E40)","v":""},{"$f":"IF('AS 03'!F40=\"\",\"\",(ATAN('AS 03'!G40/'AS 03'!F40)*180/PI()))","v":""},null,{"$f":"IFERROR(B38+0.5,\"\")","v":""},null,null,null,null,null,null,{"$f":"23.45*SIN(360*((284+B138)/365))","v":21.969428744507944}]
[null,{"$f":"IF('AS 03'!E41=\"\",\"\",'AS 03'!E41)","v":""},{"$f":"IF('AS 03'!F41=\"\",\"\",(ATAN('AS 03'!G41/'AS 03'!F41)*180/PI()))","v":""},null,{"$f":"IFERROR(B39,\"\")","v":""},null,null,null,null,null,null,null,null,null,null,null,null,null,null,null,null,"formula conviertiendo en radianes",{"$f":"-180/PI()*(ACOS((-SIN((X$46*PI()/180))*COS(($C$4*PI()/180))+COS((X$46*PI()/180))*SIN(($C$4*PI()/180))*COS((#REF!*PI()/180)))/COS((V53*PI()/180))))","v":{"$error":"#REF!"}}]
[]
[null,null,null,"FÓRMULA DECLINACIÓN SOLAR",null,"http://www.pveducation.org/pvcdrom/properties-of-sunlight/declination-angle",null,null,null,null,null,"FORMULA AZIMUT Y ALTURA",null,"http://www.pveducation.org/es/fotovoltaica/propiedades-de-la-luz-del-sol/posici%C3%B3n-del-sol"]
[null,null,null,{"$f":"COS(360/365.24*(B138+10)*PI()/180)*-23.44","v":-23.439800219752563},null,null,null,null,null,null,null,null,null,null,null,null,null,null,null,null,null,null,"FORMULA AZIMUT Y ALTURA","http://www.pveducation.org/es/fotovoltaica/propiedades-de-la-luz-del-sol/posici%C3%B3n-del-sol"]
[]
[]
[null,null,null,"JULIAN  DAY","DECLINACIÓN","JULIAN  DAY","DECLINACIÓN","JULIAN  DAY","DECLINACIÓN","JULIAN  DAY","DECLINACIÓN","JULIAN  DAY","DECLINACIÓN","JULIAN  DAY","DECLINACIÓN","JULIAN  DAY","DECLINACIÓN",null,null,null,null,null,"JULIAN  DAY","DECLINACIÓN"]
[null,null,null,355,{"$f":"COS(360/365.24*(D46+10)*PI()/180)*-23.44","v":-23.439800219752563},21,{"$f":"COS(360/365.24*(F46+10)*PI()/180)*-23.44","v":-20.185105932889975},52,{"$f":"COS(360/365.24*(H46+10)*PI()/180)*-23.44","v":-11.324377262968429},263.94,{"$f":"COS(360/365.24*(J46+10)*PI()/180)*-23.44","v":-4.0323585279214225E-3},110,{"$f":"COS(360/365.24*(L46+10)*PI()/180)*-23.44","v":11.104843563392468},140,{"$f":"COS(360/365.24*(N46+10)*PI()/180)*-23.44","v":19.8452228714686},173,{"$f":"COS(360/365.24*(P46+10)*PI()/180)*-23.44","v":23.439499163090691},null,null,null,null,null,355,{"$f":"COS(360/365.24*(W46+10)*PI()/180)*-23.44","v":-23.439800219752563}]
[null,null,null,"SOLSTICIO DE INVIERNO",null,"21 Ene/Nov",null,"21 Feb/Oct",null,"EQUINOCIOS",null,"21 Abr/Ago",0,"21 May/Jul",0,"SOLSTICIO DE VERANO",null,null,null,null,null,null,"SOLSTICIO DE INVIERNO",null,null,null,null,null,null,null,null,null,null,null,null,null,null,null,null,null,null,null,null,null,null,null,null,null,null,null,null,{"$f":"BZ47","v":"RECTA A-B"},{"$f":"CB47","v":"RECTA B-C"},{"$f":"CD47","v":"RECTA C-D"},{"$f":"CF47","v":"RECTA D-E"},{"$f":"CH47","v":"RECTA E-F"},{"$f":"CJ47","v":"RECTA F-G"},{"$f":"CL47","v":"RECTA G-H"},{"$f":"CN47","v":"RECTA H-I"},{"$f":"CP47","v":"RECTA I-J"},{"$f":"CR47","v":"RECTAJ-K"},{"$f":"CT47","v":"RECTA K-L"},{"$f":"CV47","v":"RECTA L-M"},{"$f":"CX47","v":"RECTA M-N"},{"$f":"CZ47","v":"RECTA N-O"},{"$f":"DD47","v":"RECTA P-Q"},{"$f":"DF47","v":"RECTA Q-R"},{"$f":"DH47","v":"RECTA R-S"},{"$f":"DJ47","v":"RECTA S-T"},{"$f":"DL47","v":"RECTA T-U"},{"$f":"DN47","v":"RECTA U-V"},{"$f":"DP47","v":"RECTA V-W"},{"$f":"DR47","v":"RECTA W-X"},{"$f":"DT47","v":"RECTA X-Y"},{"$f":"DV47","v":"RECTA Y-Z"},null,null,"RECTA A-B",null,"RECTA B-C",null,"RECTA C-D",null,"RECTA D-E",null,"RECTA E-F",null,"RECTA F-G",null,"RECTA G-H",null,"RECTA H-I",null,"RECTA I-J",null,"RECTAJ-K",null,"RECTA K-L",null,"RECTA L-M",null,"RECTA M-N",null,"RECTA N-O",null,"RECTA O-P",null,"RECTA P-Q",null,"RECTA Q-R",null,"RECTA R-S",null,"RECTA S-T",null,"RECTA T-U",null,"RECTA U-V",null,"RECTA V-W",null,"RECTA W-X",null,"RECTA X-Y",null,"RECTA Y-Z"]
[null,"Hora Solar (hr)","Ángulo solar","AZIMUT","ALTURA","AZIMUT","ALTURA","AZIMUT","ALTURA","AZIMUT","ALTURA","AZIMUT","ALTURA","AZIMUT","ALTURA","AZIMUT","ALTURA",null,{"$f":"15/4","v":3.75},null,"HORA SOLAR","ÁNGULO HORARIO","AZIMUT","ALTURA",null,null,null,null,null,null,null,null,null,null,null,null,null,null,null,null,null,null,null,null,null,null,null,null,null,null,null,null,null,null,null,null,null,null,null,null,null,null,null,null,null,null,null,null,null,null,null,null,null,null,null,null,null,"AZIMUT","ALTURA","AZIMUT","ALTURA","AZIMUT","ALTURA","AZIMUT","ALTURA","AZIMUT","ALTURA","AZIMUT","ALTURA","AZIMUT","ALTURA","AZIMUT","ALTURA","AZIMUT","ALTURA","AZIMUT","ALTURA","AZIMUT","ALTURA","AZIMUT","ALTURA","AZIMUT","ALTURA","AZIMUT","ALTURA","AZIMUT","ALTURA","AZIMUT","ALTURA","AZIMUT","ALTURA","AZIMUT","ALTURA","AZIMUT","ALTURA","AZIMUT","ALTURA","AZIMUT","ALTURA","AZIMUT","ALTURA","AZIMUT","ALTURA","AZIMUT","ALTURA","AZIMUT","ALTURA",{"$f":"IFERROR(VLOOKUP(ABS($B10),$W$89:$X$101,2,TRUE),\"\")","v":""}]
[null,"02:00:00",-150,{"$f":"-DEGREES(ACOS((-SIN(RADIANS(E$46))*COS(RADIANS($C$4))+COS(RADIANS(E$46))*SIN(RADIANS($C$4))*COS(RADIANS($C49)))/COS(RADIANS(E49))))","v":-112.39759844917175},{"$f":"180/PI()*ASIN(SIN(E$46*PI()/180)*SIN($C$4*PI()/180)+COS(E$46*PI()/180)*COS($C$4*PI()/180)*COS($C49*PI()/180))","v":-60.253116476628584},{"$f":"-DEGREES(ACOS((-SIN(RADIANS(G$46))*COS(RADIANS($C$4))+COS(RADIANS(G$46))*SIN(RADIANS($C$4))*COS(RADIANS($C49)))/COS(RADIANS(G49))))","v":-117.23813499733947},-58.141697378169567,{"$f":"-DEGREES(ACOS((-SIN(RADIANS(I$46))*COS(RADIANS($C$4))+COS(RADIANS(I$46))*SIN(RADIANS($C$4))*COS(RADIANS($C49)))/COS(RADIANS(I49))))","v":-127.78860733735266},{"$f":"180/PI()*ASIN(SIN(I$46*PI()/180)*SIN($C$4*PI()/180)+COS(I$46*PI()/180)*COS($C$4*PI()/180)*COS($C49*PI()/180))","v":-51.65669867789574},{"$f":"-DEGREES(ACOS((-SIN(RADIANS(K$46))*COS(RADIANS($C$4))+COS(RADIANS(K$46))*SIN(RADIANS($C$4))*COS(RADIANS($C49)))/COS(RADIANS(K49))))","v":-137.38842030258579},{"$f":"180/PI()*ASIN(SIN(K$46*PI()/180)*SIN($C$4*PI()/180)+COS(K$46*PI()/180)*COS($C$4*PI()/180)*COS($C49*PI()/180))","v":-42.394041196018854},{"$f":"-DEGREES(ACOS((-SIN(RADIANS(M$46))*COS(RADIANS($C$4))+COS(RADIANS(M$46))*SIN(RADIANS($C$4))*COS(RADIANS($C49)))/COS(RADIANS(M49))))","v":-144.32168982470643},{"$f":"180/PI()*ASIN(SIN(M$46*PI()/180)*SIN($C$4*PI()/180)+COS(M$46*PI()/180)*COS($C$4*PI()/180)*COS($C49*PI()/180))","v":-32.728954998875466},{"$f":"-DEGREES(ACOS((-SIN(RADIANS(O$46))*COS(RADIANS($C$4))+COS(RADIANS(O$46))*SIN(RADIANS($C$4))*COS(RADIANS($C49)))/COS(RADIANS(O49))))","v":-148.76754409303547},{"$f":"180/PI()*ASIN(SIN(O$46*PI()/180)*SIN($C$4*PI()/180)+COS(O$46*PI()/180)*COS($C$4*PI()/180)*COS($C49*PI()/180))","v":-24.901615907685159},{"$f":"-DEGREES(ACOS((-SIN(RADIANS(Q$46))*COS(RADIANS($C$4))+COS(RADIANS(Q$46))*SIN(RADIANS($C$4))*COS(RADIANS($C49)))/COS(RADIANS(Q49))))","v":-150.42614028295543},{"$f":"180/PI()*ASIN(SIN(Q$46*PI()/180)*SIN($C$4*PI()/180)+COS(Q$46*PI()/180)*COS($C$4*PI()/180)*COS($C49*PI()/180))","v":-21.646102458572397},null,null,null,null,null,null,null,null,null,null,null,null,null,null,null,null,null,null,null,null,null,null,null,null,null,null,null,null,null,null,null,null,null,null,null,null,null,null,null,null,null,null,null,null,null,null,null,null,null,null,null,null,null,null,null,null,null,null,null,null,null,null,null,null,null,null,null,null,null,null,null,null,null,null,null,null,null,null,null,null,null,null,null,null,null,null,null,null,null,null,null,null,null,null,null,null,null,null,null,null,null,null,null,null,null,null,null,null,null,null,""]
[null,"02:15:00",{"$f":"C49+$S$48","v":-146.25},{"$f":"-DEGREES(ACOS((-SIN(RADIANS(E$46))*COS(RADIANS($C$4))+COS(RADIANS(E$46))*SIN(RADIANS($C$4))*COS(RADIANS($C50)))/COS(RADIANS(E50))))","v":-108.35888153048481},-57.516356360597797,{"$f":"-DEGREES(ACOS((-SIN(RADIANS(G$46))*COS(RADIANS($C$4))+COS(RADIANS(G$46))*SIN(RADIANS($C$4))*COS(RADIANS($C50)))/COS(RADIANS(G50))))","v":-112.98869508261001},-55.498089963475159,-123.37553683269626,{"$f":"180/PI()*ASIN(SIN(I$46*PI()/180)*SIN($C$4*PI()/180)+COS(I$46*PI()/180)*COS($C$4*PI()/180)*COS($C50*PI()/180))","v":-49.282099203797316},-133.2066037740305,{"$f":"180/PI()*ASIN(SIN(K$46*PI()/180)*SIN($C$4*PI()/180)+COS(K$46*PI()/180)*COS($C$4*PI()/180)*COS($C50*PI()/180))","v":-40.340196069921596},-140.53041836444135,{"$f":"180/PI()*ASIN(SIN(M$46*PI()/180)*SIN($C$4*PI()/180)+COS(M$46*PI()/180)*COS($C$4*PI()/180)*COS($C50*PI()/180))","v":-30.948558921195605},-145.31699268880476,{"$f":"180/PI()*ASIN(SIN(O$46*PI()/180)*SIN($C$4*PI()/180)+COS(O$46*PI()/180)*COS($C$4*PI()/180)*COS($C50*PI()/180))","v":-23.313259764941648},-147.11898811368926,{"$f":"180/PI()*ASIN(SIN(Q$46*PI()/180)*SIN($C$4*PI()/180)+COS(Q$46*PI()/180)*COS($C$4*PI()/180)*COS($C50*PI()/180))","v":-20.132449991336753},null,null,null,null,null,{"$f":"INT(W77)","v":-43},{"$f":"X77","v":14.795074915349655},null,null,null,null,null,null,null,null,null,null,null,null,null,null,null,null,null,null,null,null,null,null,null,null,null,null,null,null,null,null,null,null,null,null,null,null,null,null,null,null,null,null,null,null,null,null,null,null,null,null,null,null,null,null,null,null,null,null,null,null,null,null,null,null,null,null,null,null,null,null,null,null,null,null,null,null,null,null,null,null,null,null,null,null,null,null,null,null,null,null,null,null,null,null,null,null,null,null,null,null,null,null,null,""]
[null,"02:30:00",{"$f":"C50+$S$48","v":-142.5},{"$f":"-DEGREES(ACOS((-SIN(RADIANS(E$46))*COS(RADIANS($C$4))+COS(RADIANS(E$46))*SIN(RADIANS($C$4))*COS(RADIANS($C51)))/COS(RADIANS(E51))))","v":-104.76521350560009},-54.718165965957638,{"$f":"-DEGREES(ACOS((-SIN(RADIANS(G$46))*COS(RADIANS($C$4))+COS(RADIANS(G$46))*SIN(RADIANS($C$4))*COS(RADIANS($C51)))/COS(RADIANS(G51))))","v":-109.18140747330848},-52.774149319180694,-119.33186473337112,{"$f":"180/PI()*ASIN(SIN(I$46*PI()/180)*SIN($C$4*PI()/180)+COS(I$46*PI()/180)*COS($C$4*PI()/180)*COS($C51*PI()/180))","v":-46.788866179052889},-129.28002582247342,{"$f":"180/PI()*ASIN(SIN(K$46*PI()/180)*SIN($C$4*PI()/180)+COS(K$46*PI()/180)*COS($C$4*PI()/180)*COS($C51*PI()/180))","v":-38.144873649286026},-136.91005533783792,{"$f":"180/PI()*ASIN(SIN(M$46*PI()/180)*SIN($C$4*PI()/180)+COS(M$46*PI()/180)*COS($C$4*PI()/180)*COS($C51*PI()/180))","v":-29.022379282999324},-141.99109127085231,{"$f":"180/PI()*ASIN(SIN(O$46*PI()/180)*SIN($C$4*PI()/180)+COS(O$46*PI()/180)*COS($C$4*PI()/180)*COS($C51*PI()/180))","v":-21.582931012757083},-143.92156559251382,{"$f":"180/PI()*ASIN(SIN(Q$46*PI()/180)*SIN($C$4*PI()/180)+COS(Q$46*PI()/180)*COS($C$4*PI()/180)*COS($C51*PI()/180))","v":-18.479625393320948},null,null,{"$f":"AVERAGE(U51:U74)","v":-3.5120380985051223},{"$f":"W77-W78","v":-2.9788244906292505},-1.9020592449729889,{"$f":"INT(W78)","v":-40},16.697134160322644,null,null,null,null,null,null,null,null,null,null,null,null,null,null,null,null,null,null,null,null,null,null,null,null,null,null,null,null,null,null,null,null,null,null,null,null,null,null,null,null,null,null,null,null,null,null,null,null,null,null,null,null,null,null,null,null,null,null,null,null,null,null,null,null,null,null,null,null,null,null,null,null,null,null,null,null,null,null,null,null,null,null,null,null,null,null,null,null,null,null,null,null,null,null,null,null,null,null,null,null,null,null,null,""]
[null,"02:45:00",{"$f":"C51+$S$48","v":-138.75},{"$f":"-DEGREES(ACOS((-SIN(RADIANS(E$46))*COS(RADIANS($C$4))+COS(RADIANS(E$46))*SIN(RADIANS($C$4))*COS(RADIANS($C52)))/COS(RADIANS(E52))))","v":-101.52036289784239},-51.875423818876875,{"$f":"-DEGREES(ACOS((-SIN(RADIANS(G$46))*COS(RADIANS($C$4))+COS(RADIANS(G$46))*SIN(RADIANS($C$4))*COS(RADIANS($C52)))/COS(RADIANS(G52))))","v":-105.73068221100536},-49.989313488509666,-115.60733680664636,{"$f":"180/PI()*ASIN(SIN(I$46*PI()/180)*SIN($C$4*PI()/180)+COS(I$46*PI()/180)*COS($C$4*PI()/180)*COS($C52*PI()/180))","v":-44.198586341542281},-125.58902665965232,{"$f":"180/PI()*ASIN(SIN(K$46*PI()/180)*SIN($C$4*PI()/180)+COS(K$46*PI()/180)*COS($C$4*PI()/180)*COS($C52*PI()/180))","v":-35.826635078770153},-133.45482948484846,{"$f":"180/PI()*ASIN(SIN(M$46*PI()/180)*SIN($C$4*PI()/180)+COS(M$46*PI()/180)*COS($C$4*PI()/180)*COS($C52*PI()/180))","v":-26.964538016677579},-138.78898359425722,{"$f":"180/PI()*ASIN(SIN(O$46*PI()/180)*SIN($C$4*PI()/180)+COS(O$46*PI()/180)*COS($C$4*PI()/180)*COS($C52*PI()/180))","v":-19.721554734809978},-140.83419887636896,{"$f":"180/PI()*ASIN(SIN(Q$46*PI()/180)*SIN($C$4*PI()/180)+COS(Q$46*PI()/180)*COS($C$4*PI()/180)*COS($C52*PI()/180))","v":-16.697388340565013},null,null,null,-3.0873568916933465,-1.7822304532345541,-37,18.479364613557198,null,null,null,null,null,null,null,null,null,null,null,null,null,null,null,null,null,null,null,null,null,null,null,null,null,null,null,null,null,null,null,null,null,null,null,null,null,null,null,null,null,null,null,null,null,null,null,null,null,null,null,null,null,null,null,null,null,null,null,null,null,null,null,null,null,null,null,null,null,null,null,null,null,null,null,null,null,null,null,null,null,null,null,null,null,null,null,null,null,null,null,null,null,null,null,null,null,null,null,null,null,null,null,""]
[null,"03:00:00",-135,{"$f":"-DEGREES(ACOS((-SIN(RADIANS(E$46))*COS(RADIANS($C$4))+COS(RADIANS(E$46))*SIN(RADIANS($C$4))*COS(RADIANS($C53)))/COS(RADIANS(E53))))","v":-98.550240792004203},{"$f":"180/PI()*ASIN(SIN(E$46*PI()/180)*SIN($C$4*PI()/180)+COS(E$46*PI()/180)*COS($C$4*PI()/180)*COS($C53*PI()/180))","v":-49.000937965900576},{"$f":"-DEGREES(ACOS((-SIN(RADIANS(G$46))*COS(RADIANS($C$4))+COS(RADIANS(G$46))*SIN(RADIANS($C$4))*COS(RADIANS($C53)))/COS(RADIANS(G53))))","v":-102.56758441022066},{"$f":"180/PI()*ASIN(SIN(G$46*PI()/180)*SIN($C$4*PI()/180)+COS(G$46*PI()/180)*COS($C$4*PI()/180)*COS($C53*PI()/180))","v":-47.158677649055491},-112.156002813321,{"$f":"180/PI()*ASIN(SIN(I$46*PI()/180)*SIN($C$4*PI()/180)+COS(I$46*PI()/180)*COS($C$4*PI()/180)*COS($C53*PI()/180))","v":-41.529205464447088},-122.11217049271359,{"$f":"180/PI()*ASIN(SIN(K$46*PI()/180)*SIN($C$4*PI()/180)+COS(K$46*PI()/180)*COS($C$4*PI()/180)*COS($C53*PI()/180))","v":-33.402076100850877},-130.15645426471281,{"$f":"180/PI()*ASIN(SIN(M$46*PI()/180)*SIN($C$4*PI()/180)+COS(M$46*PI()/180)*COS($C$4*PI()/180)*COS($C53*PI()/180))","v":-24.788338205967786},-135.70773010534211,{"$f":"180/PI()*ASIN(SIN(O$46*PI()/180)*SIN($C$4*PI()/180)+COS(O$46*PI()/180)*COS($C$4*PI()/180)*COS($C53*PI()/180))","v":-17.739744632480232},-137.85536553544054,{"$f":"180/PI()*ASIN(SIN(Q$46*PI()/180)*SIN($C$4*PI()/180)+COS(Q$46*PI()/180)*COS($C$4*PI()/180)*COS($C53*PI()/180))","v":-14.795322413948167},null,null,null,-3.1974116181657237,-1.6528181644447528,-33,20.132182778001951,null,null,null,null,null,null,null,null,null,null,null,null,null,null,null,null,null,null,null,null,null,null,null,null,null,null,null,null,null,null,null,null,null,null,null,null,null,null,null,null,null,null,null,null,null,null,null,null,null,null,null,null,null,null,null,null,null,null,null,null,null,null,null,null,null,null,null,null,null,null,null,null,null,null,null,null,null,null,null,null,null,null,null,null,null,null,null,null,null,null,null,null,null,null,null,null,null,null,null,null,null,null,null,""]
[null,"03:15:00",{"$f":"C53+$S$48","v":-131.25},{"$f":"-DEGREES(ACOS((-SIN(RADIANS(E$46))*COS(RADIANS($C$4))+COS(RADIANS(E$46))*SIN(RADIANS($C$4))*COS(RADIANS($C54)))/COS(RADIANS(E54))))","v":-95.79731828728363},{"$f":"180/PI()*ASIN(SIN(E$46*PI()/180)*SIN($C$4*PI()/180)+COS(E$46*PI()/180)*COS($C$4*PI()/180)*COS($C54*PI()/180))","v":-46.104675602281048},-99.63664605076552,-44.294161676168358,-108.93690654437533,{"$f":"180/PI()*ASIN(SIN(I$46*PI()/180)*SIN($C$4*PI()/180)+COS(I$46*PI()/180)*COS($C$4*PI()/180)*COS($C54*PI()/180))","v":-38.795658078889971},-118.82755075206889,{"$f":"180/PI()*ASIN(SIN(K$46*PI()/180)*SIN($C$4*PI()/180)+COS(K$46*PI()/180)*COS($C$4*PI()/180)*COS($C54*PI()/180))","v":-30.885904817638213},-127.00489838220453,{"$f":"180/PI()*ASIN(SIN(M$46*PI()/180)*SIN($C$4*PI()/180)+COS(M$46*PI()/180)*COS($C$4*PI()/180)*COS($C54*PI()/180))","v":-22.506151619132478},-132.74272723099944,{"$f":"180/PI()*ASIN(SIN(O$46*PI()/180)*SIN($C$4*PI()/180)+COS(O$46*PI()/180)*COS($C$4*PI()/180)*COS($C54*PI()/180))","v":-15.647667507962961},-134.98201107272905,{"$f":"180/PI()*ASIN(SIN(Q$46*PI()/180)*SIN($C$4*PI()/180)+COS(Q$46*PI()/180)*COS($C$4*PI()/180)*COS($C54*PI()/180))","v":-12.782704317828534},null,null,null,-3.3071401031879439,-1.5136462933417363,-30,21.645829071343687,null,null,null,null,null,null,null,null,null,null,null,null,null,null,null,null,null,null,null,null,null,null,null,null,null,null,null,null,null,null,null,null,null,null,null,null,null,null,null,null,null,null,null,null,null,null,null,null,null,null,null,null,null,null,null,null,null,null,null,null,null,null,null,null,null,null,null,null,null,null,null,null,null,null,null,null,null,null,null,null,null,null,null,null,null,null,null,null,null,null,null,null,null,null,null,null,null,null,null,null,null,null,null,{"$f":"IFERROR(VLOOKUP(ABS($B16),$W$89:$X$101,2,TRUE),\"\")","v":""}]
[null,"03:30:00",{"$f":"C54+$S$48","v":-127.5},-93.216399576699544,-43.194606217510007,-96.893034782279273,-41.4053633641715,-105.91405473097396,-36.010435748993061,-115.71364614489528,-28.291093357836079,-123.98901442722098,-20.12937558770933,-129.8880895750888,-13.454953612426442,-132.20984941626784,-10.668410018814098,null,null,null,-3.4143833025849766,-1.3647092314686269,-27,23.010538302812314,null,null,{"$f":"IF(AND($C$14<$X84,$C$15>$X84),BB84,IF(AND($W84>=$B$14,$W84<=$B$15),BB84,\"-\"))","v":"-"},null,null,null,null,null,null,null,null,null,null,null,null,null,null,null,null,null,null,null,null,null,null,null,null,null,null,null,null,null,null,null,null,null,null,null,null,null,null,null,null,null,null,null,null,null,null,null,null,null,null,null,null,null,null,null,null,null,null,null,null,null,null,null,null,null,null,null,null,null,null,null,null,null,null,null,null,null,null,null,null,null,null,null,null,null,null,null,null,null,null,null,null,null,null,null,null,null,null,null,null,{"$f":"IFERROR(VLOOKUP(ABS($B17),$W$89:$X$101,2,TRUE),\"\")","v":""}]
[null,"03:45:00",{"$f":"C55+$S$48","v":-123.75},-90.771492681987397,-40.2772862072,-94.300225496408061,-38.500180162400596,-103.05602346230241,-33.184073413322714,-112.74983211840456,-25.629065102670552,-121.09702482424527,-17.668440794481313,-127.13698009903466,-11.170645583946561,-129.53363278528329,-8.4608533360864655,null,null,null,-3.5167073903424857,-1.2062115075407682,-23,24.216749810353082,null,null,null,null,null,null,null,null,null,null,null,null,null,null,null,null,null,null,null,null,null,null,null,null,null,null,null,null,null,null,null,null,null,null,null,null,null,null,null,null,null,null,null,null,null,null,null,null,null,null,null,null,null,null,null,null,null,null,null,null,null,null,null,null,null,null,null,null,null,null,null,null,null,null,null,null,null,null,null,null,null,null,null,null,null,null,null,null,null,null,null,null,null,null,null,null,null,null,null,null,null,null,null,""]
[null,"04:00:00",-120,-88.433508611108593,-37.358270581778086,-91.828153187728304,-35.585264495823459,-100.3354144883583,-30.325553770012473,-109.91664354714345,-22.909892469743685,-118.31687762849769,-15.132854162157026,-124.48188199404791,-8.8031783443827116,-126.94738271749387,-6.1679517584685843,null,null,null,-3.6114753165585149,-1.038603445233214,-20,25.255353255586297,null,null,null,null,null,null,null,null,null,null,null,null,null,null,null,null,null,null,null,null,null,null,null,null,null,null,null,null,null,null,null,null,null,null,null,null,null,null,null,null,null,null,null,null,null,null,null,null,null,null,null,null,null,null,null,null,null,null,null,null,null,null,null,null,null,null,null,null,null,null,null,null,null,null,null,null,null,null,null,null,null,null,null,null,null,null,null,null,null,null,null,null,null,null,null,null,null,null,null,null,null,null,null,""]
[null,"04:15:00",{"$f":"C57+$S$48","v":-116.25},-86.178567375342681,-34.442408353986551,-89.451771900522473,-32.666360633709651,-97.728278420022534,-27.442638624873673,-107.19586654056292,-20.142490324836047,-115.63649085458054,-12.531264265129311,-121.91481198536418,-6.3603827849126215,-124.44457894359493,-3.7971141987802572,null,null,null,-3.6959570043407641,-0.86260791754675381,-16,26.11796117313305,null,null,null,null,null,null,null,null,null,null,null,null,null,null,null,null,null,null,null,null,null,null,null,null,null,null,null,null,null,null,null,null,null,null,null,null,null,null,null,null,null,null,null,null,null,null,null,null,null,null,null,null,null,null,null,null,null,null,null,null,null,null,null,null,null,null,null,null,null,null,null,null,null,null,null,null,null,null,null,null,null,null,null,null,null,null,null,null,null,null,null,null,null,null,null,null,null,null,null,null,null,null,null,""]
[null,"04:30:00",{"$f":"C58+$S$48","v":-112.5},-83.986743563421456,-31.534059002924092,-87.149937523159082,-29.748557473048212,-95.213563956988622,-24.542138969101611,-104.57051810560675,-17.334797102248238,-113.04390538279058,-9.8715398567802453,-119.4274785093972,-3.8495069890831144,-122.01830617003768,-1.3552457840658765,null,null,null,-3.76747540633162,-0.67923291800017083,-12,26.797194091133221,null,null,{"$f":"IF(AND($C$14<$X84,$C$15>$X84),BB84,\"-\")","v":"-"},null,null,null,null,null,null,null,null,null,null,null,null,null,null,null,null,null,null,null,null,null,null,null,null,null,null,null,null,null,null,null,null,null,null,null,null,null,null,null,null,null,null,null,null,null,null,null,null,null,null,null,null,null,null,null,null,null,null,null,null,null,null,null,null,null,null,null,null,null,null,null,null,null,null,null,null,null,null,null,null,null,null,null,null,null,null,null,null,null,null,null,null,null,null,null,null,null,null,null,null,""]
[null,"04:45:00",{"$f":"C59+$S$48","v":-108.75},-81.841129751834103,-28.637254908206927,-84.904541861007715,-26.836481588404492,-92.772619042479093,-21.630135482873246,-102.02475559442151,-14.49394029451965,-110.52736505681604,-7.160854878672815,-117.01139005151616,-1.2772498538712627,-119.66136086060942,1.1512345780124735,null,null,null,-3.8235785226946257,-0.48976518271587821,-8,27.286959273849099,null,null,"-",null,null,null,null,null,null,null,null,null,null,null,null,null,null,null,null,null,null,null,null,null,null,null,null,null,null,null,null,null,null,null,null,null,null,null,null,null,null,null,null,null,null,null,null,null,null,null,null,null,null,null,null,null,null,null,null,null,null,null,null,null,null,null,null,null,null,null,null,null,null,null,null,null,null,null,null,null,null,null,null,null,null,null,null,null,null,null,null,null,null,null,null,null,null,null,null,null,null,null,null,""]
[null,"05:00:00",-105,-79.727130599986523,-25.755826502426796,-82.699839207520355,-23.934447773814675,-90.388751773647542,-18.712159888132479,-99.54374454452369,-11.626385797994368,-108.07533979365913,-4.4057755793604452,-114.65791943477771,1.3501969013268007,-117.36632105714654,3.7163673678727243,null,null,null,-3.8622201843042268,-0.29574171969926866,-4,27.582700993548368,null,null,"-",null,null,null,null,null,null,null,null,null,null,null,null,null,null,null,null,null,null,null,null,null,null,null,null,null,null,null,null,null,null,null,null,null,null,null,null,null,null,null,null,null,null,null,null,null,null,null,null,null,null,null,null,null,null,null,null,null,null,null,null,null,null,null,null,null,null,null,null,null,null,null,null,null,null,null,null,null,null,null,null,null,null,null,null,null,null,null,null,null,null,null,null,null,null,null,null,null,null,null,null,""]
[null,"05:15:00",{"$f":"C61+$S$48","v":-101.25},-77.631925587527789,-22.893501550353186,-80.521919753365211,-21.046579306912033,-88.046849731165082,-15.793345957770841,-97.113503593834693,-8.7380722418200065,-105.67650427902051,-1.6123471297818761,-112.35832944956753,4.0271012996952606,-115.12558241999403,6.33461911051148,null,null,null,-3.881926951227987,-9.8898786699074037E-2,0,27.681599780247442,null,null,"-",null,null,null,null,null,null,null,null,null,null,null,null,null,null,null,null,null,null,null,null,null,null,null,null,null,null,null,null,null,null,null,null,null,null,null,null,null,null,null,null,null,null,null,null,null,null,null,null,null,null,null,null,null,null,null,null,null,null,null,null,null,null,null,null,null,null,null,null,null,null,null,null,null,null,null,null,null,null,null,null,null,null,null,null,null,null,null,null,null,null,null,null,null,null,null,null,null,null,null,null,""]
[null,"05:30:00",{"$f":"C62+$S$48","v":-97.5},-75.544056263938117,-20.05398642508797,-78.358295160337192,-18.176906677573161,-85.733052264736656,-12.878557422047814,-94.72073807261404,-5.8345323129539954,-103.31968162715637,1.2138215489912689,-110.10376424482685,6.7481402845072065,-112.93136322714388,9.0008445587984394,null,null,null,-3.881926951227987,9.8898786699074037E-2,3,27.582700993548368,null,null,"-",null,null,null,null,null,null,null,null,null,null,null,null,null,null,null,null,null,null,null,null,null,null,null,null,null,null,null,null,null,null,null,null,null,null,null,null,null,null,null,null,null,null,null,null,null,null,null,null,null,null,null,null,null,null,null,{"$f":"($W77-$B$14)*($C$15-$C$14)/($B$15-$B$14)+$C$14","v":{"$error":"#VALUE!"}},null,null,null,null,null,null,null,null,null,null,null,null,null,null,null,null,null,null,null,null,null,null,null,null,null,null,null,null,null,null,null,null,null,null,null,null,null,null,null,null,null,null,null,null,""]
[null,"05:45:00",{"$f":"C63+$S$48","v":-93.75},-73.453106600811381,-17.24103487259276,-76.197570334893499,-15.329451079819387,-83.43446889718318,-9.9724986485734881,-92.352668992839128,-2.9210035185848642,-100.99375848191696,4.0674750383732468,-107.88520958705982,9.5083467554191614,-110.77568021263453,11.710245797187499,null,null,null,-3.8622201843042268,0.29574171969926866,7,27.286959273849099,null,null,"-",null,null,null,null,null,null,null,null,null,null,null,null,null,null,null,null,null,null,null,null,null,null,null,null,null,null,null,null,null,null,null,null,null,null,null,null,null,null,null,null,null,null,null,null,null,null,null,null,null,null,null,null,null,null,null,null,null,null,null,null,null,null,null,null,null,null,null,null,null,null,null,null,null,null,null,null,null,null,null,null,null,null,null,null,null,null,null,null,null,null,null,null,null,null,null,null,null,null,null,null,""]
[null,"06:00:00",-90,-71.349454104410285,-14.45850812565957,-74.029182176677935,-12.508297236748822,-81.138937084811218,-7.0798128445019195,-89.996860899052635,-2.5309999103839257E-3,-98.687575498919742,6.9436303004661992,-105.69342356001169,12.303055032075195,-108.65029594830537,14.458329083768955,null,null,null,-3.8235785226946257,0.48976518271587821,11,26.797194091133221,null,null,"-",null,null,null,null,null,null,null,null,null,null,null,null,null,null,null,null,null,null,null,null,null,null,null,null,null,null,null,null,null,null,null,null,null,null,null,null,null,null,null,null,null,null,null,null,null,null,null,null,null,null,null,null,null,null,null,null,null,null,null,null,null,null,"anterior",null,null,null,null,null,null,null,null,null,null,null,null,null,null,null,null,null,null,null,null,null,null,null,null,null,null,null,null,null,null,null,null,null,null,null,null,null,""]
[null,"06:15:00",{"$f":"C65+$S$48","v":-86.25},-69.224075875484957,-11.710429080806957,-71.843191264906892,-9.7176588827530459,-78.834813382007113,-4.2051716208246592,-87.641049964879429,2.9159349448072667,-96.389794961007865,9.8374961394294367,-103.51883757216504,15.127844719964395,-106.54663701216219,17.240859728661672,null,null,null,-3.76747540633162,0.67923291800017083,15,26.11796117313305,null,null,"-",null,null,null,null,null,null,null,null,null,null,null,null,null,null,null,null,null,null,null,null,null,null,null,null,null,null,null,null,null,null,null,null,null,null,null,null,null,null,null,null,null,null,null,null,null,null,null,null,null,null,null,null,null,null,null,null,null,null,null,null,null,null,{"$f":"IFERROR(VLOOKUP(CM73,$W$77:$X$101,1,TRUE),\"\")","v":""}]
[null,"06:30:00",{"$f":"C66+$S$48","v":-82.5},-67.068398581855078,-9.0010324120682537,-69.630116466937267,-6.9619393028748897,-76.510793235181296,-1.3533590293930906,-85.272972498388853,5.8294439765870756,-94.088745383038656,12.744391703086951,-101.35142564241509,17.978482405235059,-104.45568041284024,20.053814817667028,null,null,null,-3.6959570043407641,0.86260791754675381,19,25.255353255586297,null,null,null,null,null,null,null,null,null,null,null,null,null,null,null,null,null,null,null,null,null,null,null,null,null,null,null,null,null,null,null,null,null,null,null,null,null,null,null,null,null,null,null,null,null,null,null,null,null,null,null,null,null,"ALTURAS RECTAS INFINITAS"]
[null,"06:45:00",{"$f":"C67+$S$48","v":-78.75},-64.874184884531715,-6.334811846408142,-67.380805628987488,-4.2457886099961755,-74.155756007816919,1.4706474133516056,-82.880193457201344,8.7329508333874859,-91.772241292117229,15.659662005805478,-99.180537772614841,20.850860056578881,-102.36780356045213,22.893333097502648,null,null,null,-3.6114753165585149,1.038603445233214,22,24.216749810353082]
[null,"07:00:00",-75,-62.633451607645512,-3.7165652844123165,-65.08633808860786,-1.5741588412373586,-71.758633362775413,4.2615967153832655,-80.449934574762281,11.621217811205433,-89.427374875382085,18.578587946826357,-96.99469066386763,23.740928409525118,-100.27259032462455,25.755660797835418,null,null,null,-3.5167073903424857,1.2062115075407682,26,23.010538302812314,{"$f":"IF($W77<$B12,\"-\",IF($W77>$B13,\"-\",#REF!))","v":"-"},{"$f":"IF($W77<$B13,\"-\",IF($W77>$B14,\"-\",#REF!))","v":"-"},{"$f":"IF($W77<$B14,\"-\",IF($W77>$B15,\"-\",BB77))","v":"-"},{"$f":"IFERROR(X77-BC77,\"-\")","v":"-"},{"$f":"IF($W77<$B16,\"-\",IF($W77>$B17,\"-\",BD77))","v":"-"},{"$f":"IF($W77<$B17,\"-\",IF($W77>$B18,\"-\",#REF!))","v":"-"},{"$f":"IF($W77<$B18,\"-\",IF($W77>$B19,\"-\",#REF!))","v":"-"},{"$f":"IF($W77<$B19,\"-\",IF($W77>$B20,\"-\",#REF!))","v":"-"},{"$f":"IF($W77<$B20,\"-\",IF($W77>$B21,\"-\",#REF!))","v":"-"},{"$f":"IF($W77<$B21,\"-\",IF($W77>$B22,\"-\",#REF!))","v":"-"},{"$f":"IF($W77<$B22,\"-\",IF($W77>$B23,\"-\",#REF!))","v":"-"},{"$f":"IF($W77<$B23,\"-\",IF($W77>$B24,\"-\",#REF!))","v":"-"},{"$f":"IF($W77<$B24,\"-\",IF($W77>$B25,\"-\",#REF!))","v":"-"},{"$f":"IF($W77<$B25,\"-\",IF($W77>$B26,\"-\",#REF!))","v":"-"},{"$f":"IF($W77<$B26,\"-\",IF($W77>$B27,\"-\",#REF!))","v":"-"},{"$f":"IF($W77<$B27,\"-\",IF($W77>$B28,\"-\",#REF!))","v":"-"},{"$f":"IF($W77<$B28,\"-\",IF($W77>$B29,\"-\",#REF!))","v":"-"},{"$f":"IF($W77<$B29,\"-\",IF($W77>$B30,\"-\",#REF!))","v":"-"},{"$f":"IF($W77<$B30,\"-\",IF($W77>$B31,\"-\",#REF!))","v":"-"},{"$f":"IF($W77<$B31,\"-\",IF($W77>$B32,\"-\",#REF!))","v":"-"},{"$f":"IF($W77<$B32,\"-\",IF($W77>$B33,\"-\",#REF!))","v":"-"},{"$f":"IF($W77<$B33,\"-\",IF($W77>$B34,\"-\",#REF!))","v":"-"},{"$f":"IF($W77<$B34,\"-\",IF($W77>$B35,\"-\",#REF!))","v":"-"},{"$f":"IF($W77<$B35,\"-\",IF($W77>$B36,\"-\",#REF!))","v":"-"},{"$f":"IF($W77<$B36,\"-\",IF($W77>$B37,\"-\",#REF!))","v":"-"}]
[null,"07:15:00",{"$f":"C69+$S$48","v":-71.25},-60.338417121640973,-1.1514379572974811,-62.737956918116929,1.047642590233238,-69.308300814991625,7.0138838919908668,-77.968902262515499,14.488711957961669,-87.040274857034703,21.496287709834814,-94.781305913347708,26.644622885539334,-98.158582145274522,28.63709151609326,null,null,null,-3.4143833025849766,1.3647092314686269,29,21.645829071343687,null,null,null,null,null,null,null,null,null,null,null,null,null,null,null,null,null,null,null,null,null,null,null,null,null,null,null,null,null,null,null,null,null,null,null,null,null,null,null,null,null,null,null,null,null,null,null,null,null,null,null,null,null,12,13,13,14,14,15,15,16,16,17,17,18,18,19,19,20,20,21,21,22,22,23,23,24,24,25,25,26,26,27,27,28,28,29,29,30,30,31,31,32,32,33,33,34,34,35,35,36,36,37]
[null,"07:30:00",{"$f":"C70+$S$48","v":-67.5},-57.981477182953206,1.3550366777812912,-60.327030697143755,3.6139010960404692,-66.793494168153345,9.7214679293361623,-75.42311667469265,17.329494323431625,-84.595826855605281,24.407605711600763,-92.526381904419338,29.557778670119202,-96.012958383219086,31.533897451508292,null,null,null,-3.3071401031879439,1.5136462933417363,32,20.132182778001951,null,null,null,null,null,null,null,null,null,null,null,null,null,null,null,null,null,null,null,null,null,null,null,null,null,null,null,null,null,null,null,null,null,null,null,null,null,null,null,null,null,null,null,null,null,null,null,null,null,null,null,null,null,"A","B","B","C","C","D","D","E","E","F","f","g","g","h","h","i","i","j","j","k","k","l","l","m","m","n","n","o","o","p","p","q","q","r","r","s","s","t","t","u","u","v","v","w","w","x","x","y","y","z"]
[null,"07:45:00",{"$f":"C71+$S$48","v":-63.75},-55.555209934197343,3.7968991220677846,-57.845046296258992,6.1184453621824471,-64.202754727305248,12.377787807387016,-72.797745403027619,20.137098653070208,-82.077348755465621,27.306984375351814,-90.214080579008112,32.476030325906436,-93.821123568397681,34.442248127240418,null,null,null,-3.1974116181657237,1.6528181644447528,36,18.479364613557198]
[null,"08:00:00",-60,-53.052411945362373,6.1677304928146928,-55.283635651727089,8.554601312715997,-61.524409690014259,14.975676911266209,-70.076948525594673,22.90439708685307,-79.466214679680533,30.188312902152578,-87.826203811894317,35.394689589195728,-91.566170136524178,37.35811110906252,null,null,null,-3.0873568916933465,1.7822304532345541,39,16.697134160322644,"ALTURAS TRAMO DE RECTA",null,null,null,null,null,null,null,null,null,null,null,null,null,null,null,null,null,null,null,null,null,null,null,null,null,null,"TODAS LAS ALTURAS PARA UNA RECTA INFINITA",null,null,null,null,null,null,null,null,null,null,null,null,null,null,null,null,null,null,null,null,null,null,null,null,null,{"$f":"IFERROR(VLOOKUP(CA73,$CG$108:$CH$132,2,TRUE),\"\")","v":""},{"$f":"CM140","v":"-"},{"$f":"IFERROR(VLOOKUP(CC73,$CG$108:$CH$132,2,TRUE),\"\")","v":""},{"$f":"CO140","v":"-"},{"$f":"IFERROR(VLOOKUP(CE73,$CG$108:$CH$132,2,TRUE),\"\")","v":""},{"$f":"CQ140","v":"-"},{"$f":"IFERROR(VLOOKUP(CG73,$CG$108:$CH$132,2,TRUE),\"\")","v":""},{"$f":"CS140","v":"-"},{"$f":"IFERROR(VLOOKUP(CI73,$CG$108:$CH$132,2,TRUE),\"\")","v":""},{"$f":"CU140","v":"-"},{"$f":"IFERROR(VLOOKUP(CK73,$CG$108:$CH$132,2,TRUE),\"\")","v":""},{"$f":"CW140","v":"-"},{"$f":"IFERROR(VLOOKUP(CM73,$CG$108:$CH$132,2,TRUE),\"\")","v":""},{"$f":"CY140","v":"-"},{"$f":"IFERROR(VLOOKUP(CO73,$CG$108:$CH$132,2,TRUE),\"\")","v":""},{"$f":"DA140","v":"-"},{"$f":"IFERROR(VLOOKUP(CQ73,$CG$108:$CH$132,2,TRUE),\"\")","v":""},{"$f":"DC140","v":"-"},{"$f":"IFERROR(VLOOKUP(CS73,$CG$108:$CH$132,2,TRUE),\"\")","v":""},{"$f":"DE140","v":"-"},{"$f":"IFERROR(VLOOKUP(CU73,$CG$108:$CH$132,2,TRUE),\"\")","v":""},{"$f":"DG140","v":"-"},{"$f":"IFERROR(VLOOKUP(CW73,$CG$108:$CH$132,2,TRUE),\"\")","v":""},{"$f":"DI140","v":"-"},{"$f":"IFERROR(VLOOKUP(CY73,$CG$108:$CH$132,2,TRUE),\"\")","v":""},{"$f":"DK140","v":"-"},{"$f":"IFERROR(VLOOKUP(DA73,$CG$108:$CH$132,2,TRUE),\"\")","v":""},{"$f":"DM140","v":"-"},{"$f":"IFERROR(VLOOKUP(DC73,$CG$108:$CH$132,2,TRUE),\"\")","v":""},{"$f":"DO140","v":"-"},{"$f":"IFERROR(VLOOKUP(DE73,$CG$108:$CH$132,2,TRUE),\"\")","v":""},{"$f":"DQ140","v":"-"},{"$f":"IFERROR(VLOOKUP(DG73,$CG$108:$CH$132,2,TRUE),\"\")","v":""},{"$f":"DS140","v":"-"},{"$f":"IFERROR(VLOOKUP(DI73,$CG$108:$CH$132,2,TRUE),\"\")","v":""},{"$f":"DU140","v":"-"},{"$f":"IFERROR(VLOOKUP(DK73,$CG$108:$CH$132,2,TRUE),\"\")","v":""},{"$f":"DW140","v":"-"},{"$f":"IFERROR(VLOOKUP(DM73,$CG$108:$CH$132,2,TRUE),\"\")","v":""},{"$f":"DY140","v":"-"},{"$f":"IFERROR(VLOOKUP(DO73,$CG$108:$CH$132,2,TRUE),\"\")","v":""},{"$f":"EA140","v":"-"},{"$f":"IFERROR(VLOOKUP(DQ73,$CG$108:$CH$132,2,TRUE),\"\")","v":""},{"$f":"EC140","v":"-"},{"$f":"IFERROR(VLOOKUP(DS73,$CG$108:$CH$132,2,TRUE),\"\")","v":""},{"$f":"EE140","v":"-"},{"$f":"IFERROR(VLOOKUP(DU73,$CG$108:$CH$132,2,TRUE),\"\")","v":""},{"$f":"EG140","v":"-"},{"$f":"IFERROR(VLOOKUP(DW73,$CG$108:$CH$132,2,TRUE),\"\")","v":""},{"$f":"EI140","v":"-"}]
[null,"08:15:00",{"$f":"C73+$S$48","v":-56.25},-50.466168034817102,8.4606256931561639,-52.634640777993397,10.915151632035419,-58.74659697411942,17.507277151419483,-67.243746614981262,25.623450853974798,-76.74142269697245,33.044745888229151,-85.341525846500986,38.308592565949247,-89.228172524975335,40.277126850278819,null,null,null,-2.9788244906292505,1.9020592449729889,42,14.795074915349655,null,null,null,null,null,null,null,null,null,null,null,null,null,null,null,null,null,null,null,null,null,null,null,null,null,null,null,null,null,null,null,null,null,null,null,null,null,null,null,null,null,null,null,null,null,null,null,null,null,null,null,null,null,{"$f":"IF($B12<0,BZ73,ABS(BZ73))","v":{"$error":"#VALUE!"}},null,{"$f":"IF($B13<0,CB73,ABS(CB73))","v":{"$error":"#VALUE!"}},null,{"$f":"IF($B14<0,CD73,ABS(CD73))","v":{"$error":"#VALUE!"}},null,{"$f":"IF($B15<0,CF73,ABS(CF73))","v":{"$error":"#VALUE!"}},null,{"$f":"IF($B16<0,CH73,ABS(CH73))","v":{"$error":"#VALUE!"}},null,{"$f":"IF($B17<0,CJ73,ABS(CJ73))","v":{"$error":"#VALUE!"}},null,{"$f":"IF($B18<0,CL73,ABS(CL73))","v":{"$error":"#VALUE!"}},null,{"$f":"IF($B19<0,CN73,ABS(CN73))","v":{"$error":"#VALUE!"}},null,{"$f":"IF($B20<0,CP73,ABS(CP73))","v":{"$error":"#VALUE!"}},null,{"$f":"IF($B21<0,CR73,ABS(CR73))","v":{"$error":"#VALUE!"}},null,{"$f":"IF($B22<0,CT73,ABS(CT73))","v":{"$error":"#VALUE!"}},null,{"$f":"IF($B23<0,CV73,ABS(CV73))","v":{"$error":"#VALUE!"}},null,{"$f":"IF($B24<0,CX73,ABS(CX73))","v":{"$error":"#VALUE!"}},null,{"$f":"IF($B25<0,CZ73,ABS(CZ73))","v":{"$error":"#VALUE!"}},null,{"$f":"IF($B26<0,DB73,ABS(DB73))","v":{"$error":"#VALUE!"}},null,{"$f":"IF($B27<0,DD73,ABS(DD73))","v":{"$error":"#VALUE!"}},null,{"$f":"IF($B28<0,DF73,ABS(DF73))","v":{"$error":"#VALUE!"}},null,{"$f":"IF($B29<0,DH73,ABS(DH73))","v":{"$error":"#VALUE!"}},null,{"$f":"IF($B30<0,DJ73,ABS(DJ73))","v":{"$error":"#VALUE!"}},null,{"$f":"IF($B31<0,DL73,ABS(DL73))","v":{"$error":"#VALUE!"}},null,{"$f":"IF($B32<0,DN73,ABS(DN73))","v":{"$error":"#VALUE!"}},null,{"$f":"IF($B33<0,DP73,ABS(DP73))","v":{"$error":"#VALUE!"}},null,{"$f":"IF($B34<0,DR73,ABS(DR73))","v":{"$error":"#VALUE!"}},null,{"$f":"IF($B35<0,DT73,ABS(DT73))","v":{"$error":"#VALUE!"}},null,{"$f":"IF($B36<0,DV73,ABS(DV73))","v":{"$error":"#VALUE!"}}]
[null,"08:30:00",{"$f":"C74+$S$48","v":-52.5},-47.789958050579848,10.668175846930634,-49.890222175333413,13.192303793826801,-55.857346861454189,19.96395543626333,-64.279930389356679,28.285344840235695,-73.879105741914188,35.868483130563263,-82.734938004976911,41.211904088840392,-86.783250586537392,43.194446254290781,null,null,null,null,null,null,null,{"$f":"AZ75","v":"AB"},{"$f":"BA75","v":"BC"},"CD","DE","EF","FG","GH","HI","IJ","JK","KL","LM","MN","NO","OP","PQ","QR","RS","ST","TU","UV","VW","WX","XY","YZ",null,null,"AB","BC","CD","DE","EF","FG","GH","HI","IJ","JK","KL","LM","MN","NO","OP","PQ","QR","RS","ST","TU","UV","VW","WX","XY","YZ"]
[null,"08:45:00",{"$f":"C75+$S$48","v":-48.75},-45.017803651988899,12.782463509664492,-47.04301612660506,15.377670564344825,-52.844735981280465,22.336226885660484,-61.166040610154838,30.880006547070678,-70.851994650893872,38.650500440069123,-79.97634998628007,44.097862080647765,-84.202315172082592,46.104514206487252,"este","oeste",null,null,null,"AZIMUT","ALTURA"]
[null,"09:00:00",-45,-42.144457182061466,14.795074915349655,-44.086345815549151,17.462268037939495,-49.697131815600194,24.613691406528527,-57.881460143574422,33.396012787546127,-67.62886053605024,41.380220147912453,-77.029280280949621,46.958437814622648,-81.449374165660956,49.000774181767056,{"$f":"ABS($I$4-W77)","v":37.855542817938534},{"$f":"ABS($L$4-W77)","v":122.14445718206147},"15:00:00","09:00:00",-45,{"$f":"-DEGREES(ACOS((-SIN(RADIANS(X$46))*COS(RADIANS($C$4))+COS(RADIANS(X$46))*SIN(RADIANS($C$4))*COS(RADIANS(V77)))/COS(RADIANS(X77))))","v":-42.144457182061466},{"$f":"180/PI()*ASIN(SIN(X$46*PI()/180)*SIN($C$4*PI()/180)+COS(X$46*PI()/180)*COS($C$4*PI()/180)*COS($V77*PI()/180))","v":14.795074915349655},{"$f":"IF(AND($B$12=$B$13,OR(AND($C$12>$X77,$C$13<$X77),AND($C$12<$X77,$C$13>$X77))),AZ77,IF(AND($W77>=$B$12,$W77<=$B$13),AZ77,\"-\"))","v":"-"},{"$f":"IF(AND($B$13=$B$14,OR(AND($C$13>$X77,$C$14<$X77),AND($C$13<$X77,$C$14>$X77))),BA77,IF(AND($W77>=$B$13,$W77<=$B$14),BA77,\"-\"))","v":"-"},{"$f":"IF(AND($B$14=$B$15,OR(AND($C$14>$X77,$C$15<$X77),AND($C$14<$X77,$C$15>$X77))),BB77,IF(AND($W77>=$B$14,$W77<=$B$15),BB77,\"-\"))","v":"-"},{"$f":"IF(AND($B$15=$B$16,OR(AND($C$15>$X77,$C$16<$X77),AND($C$15<$X77,$C$16>$X77))),BC77,IF(AND($W77>=$B$15,$W77<=$B$16),BC77,\"-\"))","v":"-"},{"$f":"IF(AND($B$16=$B$17,OR(AND($C$16>$X77,$C$17<$X77),AND($C$16<$X77,$C$17>$X77))),BD77,IF(AND($W77>=$B$16,$W77<=$B$17),BD77,\"-\"))","v":"-"},{"$f":"IF(AND($B$17=$B$18,OR(AND($C$17>$X77,$C$18<$X77),AND($C$17<$X77,$C$18>$X77))),BE77,IF(AND($W77>=$B$17,$W77<=$B$18),BE77,\"-\"))","v":"-"},{"$f":"IF(AND($B$18=$B$19,OR(AND($C$18>$X77,$C$19<$X77),AND($C$18<$X77,$C$19>$X77))),BF77,IF(AND($W77>=$B$18,$W77<=$B$19),BF77,\"-\"))","v":"-"},{"$f":"IF(AND($B$19=$B$20,OR(AND($C$19>$X77,$C$20<$X77),AND($C$19<$X77,$C$20>$X77))),BG77,IF(AND($W77>=$B$19,$W77<=$B$20),BG77,\"-\"))","v":"-"},{"$f":"IF(AND($B$20=$B$21,OR(AND($C$20>$X77,$C$21<$X77),AND($C$20<$X77,$C$21>$X77))),BH77,IF(AND($W77>=$B$20,$W77<=$B$21),BH77,\"-\"))","v":"-"},{"$f":"IF(AND($B$21=$B$22,OR(AND($C$21>$X77,$C$22<$X77),AND($C$21<$X77,$C$22>$X77))),BI77,IF(AND($W77>=$B$21,$W77<=$B$22),BI77,\"-\"))","v":"-"},{"$f":"IF(AND($B$22=$B$23,OR(AND($C$22>$X77,$C$23<$X77),AND($C$22<$X77,$C$23>$X77))),BJ77,IF(AND($W77>=$B$22,$W77<=$B$23),BJ77,\"-\"))","v":"-"},{"$f":"IF(AND($B$23=$B$24,OR(AND($C$23>$X77,$C$24<$X72),AND($C$23<$X72,$C$24>$X77))),BK77,IF(AND($W77>=$B$23,$W77<=$B$24),BK77,\"-\"))","v":"-"},{"$f":"IF(AND($B$24=$B$25,OR(AND($C$24>$X77,$C$25<$X72),AND($C$24<$X72,$C$25>$X77))),BL77,IF(AND($W77>=$B$24,$W77<=$B$25),BL77,\"-\"))","v":"-"},{"$f":"IF(AND($B$25=$B$26,OR(AND($C$25>$X77,$C$26<$X72),AND($C$25<$X72,$C$26>$X77))),BM77,IF(AND($W77>=$B$25,$W77<=$B$26),BM77,\"-\"))","v":"-"},{"$f":"IF(AND($B$26=$B$27,OR(AND($C$26>$X77,$C$27<$X72),AND($C$26<$X72,$C$27>$X77))),BN77,IF(AND($W77>=$B$26,$W77<=$B$27),BN77,\"-\"))","v":"-"},{"$f":"IF(AND($B$27=$B$28,OR(AND($C$27>$X77,$C$28<$X72),AND($C$27<$X72,$C$28>$X77))),BO77,IF(AND($W77>=$B$27,$W77<=$B$28),BO77,\"-\"))","v":"-"},{"$f":"IF(AND($B$28=$B$29,OR(AND($C$28>$X77,$C$29<$X72),AND($C$28<$X72,$C$29>$X77))),BP77,IF(AND($W77>=$B$28,$W77<=$B$29),BP77,\"-\"))","v":"-"},{"$f":"IF(AND($B$29=$B$30,OR(AND($C$29>$X77,$C$30<$X72),AND($C$29<$X72,$C$30>$X77))),BQ77,IF(AND($W77>=$B$29,$W77<=$B$30),BQ77,\"-\"))","v":"-"},{"$f":"IF(AND($B$30=$B$31,OR(AND($C$30>$X77,$C$31<$X72),AND($C$30<$X72,$C$31>$X77))),BR77,IF(AND($W77>=$B$30,$W77<=$B$31),BR77,\"-\"))","v":"-"},{"$f":"IF(AND($B$31=$B$32,OR(AND($C$31>$X77,$C$32<$X72),AND($C$31<$X72,$C$32>$X77))),BS77,IF(AND($W77>=$B$31,$W77<=$B$32),BS77,\"-\"))","v":"-"},{"$f":"IF(AND($B$32=$B$33,OR(AND($C$32>$X77,$C$33<$X72),AND($C$32<$X72,$C$33>$X77))),BT77,IF(AND($W77>=$B$32,$W77<=$B$33),BT77,\"-\"))","v":"-"},{"$f":"IF(AND($B$33=$B$34,OR(AND($C$33>$X77,$C$34<$X72),AND($C$33<$X72,$C$34>$X77))),BU77,IF(AND($W77>=$B$33,$W77<=$B$34),BU77,\"-\"))","v":"-"},{"$f":"IF(AND($B$34=$B$35,OR(AND($C$34>$X77,$C$35<$X72),AND($C$34<$X72,$C$35>$X77))),BV77,IF(AND($W77>=$B$34,$W77<=$B$35),BV77,\"-\"))","v":"-"},{"$f":"IF(AND($B$35=$B$36,OR(AND($C$35>$X77,$C$36<$X72),AND($C$35<$X72,$C$36>$X77))),BW77,IF(AND($W77>=$B$35,$W77<=$B$36),BW77,\"-\"))","v":"-"},{"$f":"IF(AND($B$36=$B$37,OR(AND($C$36>$X77,$C$37<$X72),AND($C$36<$X72,$C$37>$X77))),BX77,IF(AND($W77>=$B$36,$W77<=$B$37),BX77,\"-\"))","v":"-"},null,{"$f":"ABS(MAX(W77-W78))","v":2.9788244906292505},{"$f":"IF(CA77=\"-\",\"-\",IF(CA77-($AY107/2)<=$X77,CA77,\"-\"))","v":"-"},{"$f":"IF(CC77=\"-\",\"-\",IF(CC77-($AY107/2)<=$X77,CC77,\"-\"))","v":"-"},{"$f":"IF(CE77=\"-\",\"-\",IF(CE77-($AY107/2)<=$X77,CE77,\"-\"))","v":"-"},{"$f":"IF(CG77=\"-\",\"-\",IF(CG77-($AY107/2)<=$X77,CG77,\"-\"))","v":"-"},{"$f":"IF(CI77=\"-\",\"-\",IF(CI77-($AY107/2)<=$X77,CI77,\"-\"))","v":"-"},{"$f":"IF(CK77=\"-\",\"-\",IF(CK77-($AY107/2)<=$X77,CK77,\"-\"))","v":"-"},{"$f":"IF(CM77=\"-\",\"-\",IF(CM77-($AY107/2)<=$X77,CM77,\"-\"))","v":"-"},{"$f":"IF(CO77=\"-\",\"-\",IF(CO77-($AY107/2)<=$X77,CO77,\"-\"))","v":"-"},{"$f":"IF(CQ77=\"-\",\"-\",IF(CQ77-($AY107/2)<=$X77,CQ77,\"-\"))","v":"-"},{"$f":"IF(CS77=\"-\",\"-\",IF(CS77-($AY107/2)<=$X77,CS77,\"-\"))","v":"-"},{"$f":"IF(CU77=\"-\",\"-\",IF(CU77-($AY107/2)<=$X77,CU77,\"-\"))","v":"-"},{"$f":"IF(CW77=\"-\",\"-\",IF(CW77-($AY107/2)<=$X77,CW77,\"-\"))","v":"-"},{"$f":"IF(CY77=\"-\",\"-\",IF(CY77-($AY107/2)<=$X77,CY77,\"-\"))","v":"-"},{"$f":"IF(DA77=\"-\",\"-\",IF(DA77-($AY107/2)<=$X77,DA77,\"-\"))","v":"-"},{"$f":"IF(DC77=\"-\",\"-\",IF(DC77-($AY107/2)<=$X77,DC77,\"-\"))","v":"-"},{"$f":"IF(DE77=\"-\",\"-\",IF(DE77-($AY107/2)<=$X77,DE77,\"-\"))","v":"-"},{"$f":"IF(DG77=\"-\",\"-\",IF(DG77-($AY107/2)<=$X77,DG77,\"-\"))","v":"-"},{"$f":"IF(DI77=\"-\",\"-\",IF(DI77-($AY107/2)<=$X77,DI77,\"-\"))","v":"-"},{"$f":"IF(DK77=\"-\",\"-\",IF(DK77-($AY107/2)<=$X77,DK77,\"-\"))","v":"-"},{"$f":"IF(DM77=\"-\",\"-\",IF(DM77-($AY107/2)<=$X77,DM77,\"-\"))","v":"-"},{"$f":"IF(DO77=\"-\",\"-\",IF(DO77-($AY107/2)<=$X77,DO77,\"-\"))","v":"-"},{"$f":"IF(DQ77=\"-\",\"-\",IF(DQ77-($AY107/2)<=$X77,DQ77,\"-\"))","v":"-"},{"$f":"IF(DS77=\"-\",\"-\",IF(DS77-($AY107/2)<=$X77,DS77,\"-\"))","v":"-"},{"$f":"IF(DU77=\"-\",\"-\",IF(DU77-($AY107/2)<=$X77,DU77,\"-\"))","v":"-"},{"$f":"IF(DW77=\"-\",\"-\",IF(DW77-($AY107/2)<=$X77,DW77,\"-\"))","v":"-"},null,{"$f":"$W77","v":-42.144457182061466},{"$f":"IFERROR(IF(OR($B$13<$W$77,$B$12>$W$101),\"-\",IF(AND($W77=BZ$74,$B$12=$B$13),CA$73,(($W77-$B$12)*($C$13-$C$12)/($B$13-$B$12))+$C$12)),\"-\")","v":"-"},{"$f":"$W77","v":-42.144457182061466},{"$f":"IFERROR(IF(OR($B$14<$W$77,$B$13>$W$101),\"-\",IF(AND($W77=CB$74,$B$13=$B$14),CC$73,(($W77-$B$13)*($C$14-$C$13)/($B$14-$B$13))+$C$13)),\"-\")","v":"-"},{"$f":"$W77","v":-42.144457182061466},{"$f":"IFERROR(IF(OR($B$15<$W$77,$B$14>$W$101),\"-\",IF(AND($W77=CD$74,$B$14=$B$15),CE$73,(($W77-$B$14)*($C$15-$C$14)/($B$15-$B$14))+$C$14)),\"-\")","v":"-"},{"$f":"$W77","v":-42.144457182061466},{"$f":"IFERROR(IF(OR($B$16<$W$77,$B$15>$W$101),\"-\",IF(AND($W77=CF$74,$B$15=$B$16),CG$73,(($W77-$B$15)*($C$16-$C$15)/($B$16-$B$15))+$C$15)),\"-\")","v":"-"},{"$f":"$W77","v":-42.144457182061466},{"$f":"IFERROR(IF(OR($B$17<$W$77,$B$16>$W$101),\"-\",IF(AND($W77=CH$74,$B$16=$B$17),CI$73,(($W77-$B$16)*($C$17-$C$16)/($B$17-$B$16))+$C$16)),\"-\")","v":"-"},{"$f":"$W77","v":-42.144457182061466},{"$f":"IFERROR(IF(OR($B$18<$W$77,$B$17>$W$101),\"-\",IF(AND($W77=CJ$74,$B$17=$B$18),CK$73,(($W77-$B$17)*($C$18-$C$17)/($B$18-$B$17))+$C$17)),\"-\")","v":"-"},{"$f":"$W77","v":-42.144457182061466},{"$f":"IFERROR(IF(OR($B$19<$W$77,$B$18>$W$101),\"-\",IF(AND($W77=CL$74,$B$18=$B$19),CM$73,(($W77-$B$18)*($C$19-$C$18)/($B$19-$B$18))+$C$18)),\"-\")","v":"-"},{"$f":"$W77","v":-42.144457182061466},{"$f":"IFERROR(IF(OR($B$20<$W$77,$B$19>$W$101),\"-\",IF(AND($W77=CN$74,$B$19=$B$20),CO$73,(($W77-$B$19)*($C$20-$C$19)/($B$20-$B$19))+$C$19)),\"-\")","v":"-"},{"$f":"$W77","v":-42.144457182061466},{"$f":"IFERROR(IF(OR($B$21<$W$77,$B$20>$W$101),\"-\",IF(AND($W77=CP$74,$B$20=$B$21),CQ$73,(($W77-$B$20)*($C$21-$C$20)/($B$21-$B$20))+$C$20)),\"-\")","v":"-"},{"$f":"$W77","v":-42.144457182061466},{"$f":"IFERROR(IF(OR($B$22<$W$77,$B$21>$W$101),\"-\",IF(AND($W77=CR$74,$B$21=$B$22),CS$73,(($W77-$B$21)*($C$22-$C$21)/($B$22-$B$21))+$C$21)),\"-\")","v":"-"},{"$f":"$W77","v":-42.144457182061466},{"$f":"IFERROR(IF(OR($B$23<$W$77,$B$22>$W$101),\"-\",IF(AND($W77=CT$74,$B$22=$B$23),CU$73,(($W77-$B$22)*($C$23-$C$22)/($B$23-$B$22))+$C$22)),\"-\")","v":"-"},{"$f":"$W77","v":-42.144457182061466},{"$f":"IFERROR(IF(OR($B$24<$W$77,$B$23>$W$101),\"-\",IF(AND($W77=CV$74,$B$23=$B$24),CW$73,(($W77-$B$23)*($C$24-$C$23)/($B$24-$B$23))+$C$23)),\"-\")","v":"-"},{"$f":"$W77","v":-42.144457182061466},{"$f":"IFERROR(IF(OR($B$25<$W$77,$B$24>$W$101),\"-\",IF(AND($W77=CX$74,$B$24=$B$25),CY$73,(($W77-$B$24)*($C$25-$C$24)/($B$25-$B$24))+$C$24)),\"-\")","v":"-"},{"$f":"$W77","v":-42.144457182061466},{"$f":"IFERROR(IF(OR($B$26<$W$77,$B$25>$W$101),\"-\",IF(AND($W77=CZ$74,$B$25=$B$26),DA$73,(($W77-$B$25)*($C$26-$C$25)/($B$26-$B$25))+$C$25)),\"-\")","v":"-"},{"$f":"$W77","v":-42.144457182061466},{"$f":"IFERROR(IF(OR($B$27<$W$77,$B$26>$W$101),\"-\",IF(AND($W77=DB$74,$B$26=$B$27),DC$73,(($W77-$B$26)*($C$27-$C$26)/($B$27-$B$26))+$C$26)),\"-\")","v":"-"},{"$f":"$W77","v":-42.144457182061466},{"$f":"IFERROR(IF(OR($B$28<$W$77,$B$27>$W$101),\"-\",IF(AND($W77=DD$74,$B$27=$B$28),DE$73,(($W77-$B$27)*($C$28-$C$27)/($B$28-$B$27))+$C$27)),\"-\")","v":"-"},{"$f":"$W77","v":-42.144457182061466},{"$f":"IFERROR(IF(OR($B$29<$W$77,$B$28>$W$101),\"-\",IF(AND($W77=DF$74,$B$28=$B$29),DG$73,(($W77-$B$28)*($C$29-$C$28)/($B$29-$B$28))+$C$28)),\"-\")","v":"-"},{"$f":"$W77","v":-42.144457182061466},{"$f":"IFERROR(IF(OR($B$30<$W$77,$B$29>$W$101),\"-\",IF(AND($W77=DH$74,$B$29=$B$30),DI$73,(($W77-$B$29)*($C$30-$C$29)/($B$30-$B$29))+$C$29)),\"-\")","v":"-"},{"$f":"$W77","v":-42.144457182061466},{"$f":"IFERROR(IF(OR($B$31<$W$77,$B$30>$W$101),\"-\",IF(AND($W77=DJ$74,$B$30=$B$31),DK$73,(($W77-$B$30)*($C$31-$C$30)/($B$31-$B$30))+$C$30)),\"-\")","v":"-"},{"$f":"$W77","v":-42.144457182061466},{"$f":"IFERROR(IF(OR($B$32<$W$77,$B$31>$W$101),\"-\",IF(AND($W77=DL$74,$B$31=$B$32),DM$73,(($W77-$B$31)*($C$32-$C$31)/($B$32-$B$31))+$C$31)),\"-\")","v":"-"},{"$f":"$W77","v":-42.144457182061466},{"$f":"IFERROR(IF(OR($B$33<$W$77,$B$32>$W$101),\"-\",IF(AND($W77=DN$74,$B$32=$B$33),DO$73,(($W77-$B$32)*($C$33-$C$32)/($B$33-$B$32))+$C$32)),\"-\")","v":"-"},{"$f":"$W77","v":-42.144457182061466},{"$f":"IFERROR(IF(OR($B$34<$W$77,$B$33>$W$101),\"-\",IF(AND($W77=DP$74,$B$33=$B$34),DQ$73,(($W77-$B$33)*($C$34-$C$33)/($B$34-$B$33))+$C$33)),\"-\")","v":"-"},{"$f":"$W77","v":-42.144457182061466},{"$f":"IFERROR(IF(OR($B$35<$W$77,$B$34>$W$101),\"-\",IF(AND($W77=DR$74,$B$34=$B$35),DS$73,(($W77-$B$34)*($C$35-$C$34)/($B$35-$B$34))+$C$34)),\"-\")","v":"-"},{"$f":"$W77","v":-42.144457182061466},{"$f":"IFERROR(IF(OR($B$36<$W$77,$B$35>$W$101),\"-\",IF(AND($W77=DT$74,$B$35=$B$36),DU$73,(($W77-$B$35)*($C$36-$C$35)/($B$36-$B$35))+$C$35)),\"-\")","v":"-"},{"$f":"$W77","v":-42.144457182061466},{"$f":"IFERROR(IF(OR($B$37<$W$77,$B$36>$W$101),\"-\",IF(AND($W77=DV$74,$B$36=$B$37),DW$73,(($W77-$B$36)*($C$37-$C$36)/($B$37-$B$36))+$C$36)),\"-\")","v":"-"}]
[null,"09:15:00",{"$f":"C77+$S$48","v":-41.25},-39.165632691432215,16.697134160322644,-41.014489316273988,19.436537324206814,-46.403547182423615,26.784992977610106,-54.40467689157731,35.820392044826761,-64.173997060349876,44.045110120110408,-73.849061800904224,49.783878299523835,-78.479231677416749,51.87525652998378,{"$f":"ABS($I$4-W78)","v":40.834367308567785},{"$f":"ABS($L$4-W78)","v":119.16563269143222},"14:45:00","09:15:00",{"$f":"V77+$S$48","v":-41.25},-39.165632691432215,16.697134160322644,"-",{"$f":"IF(AND($B$13=$B$14,OR(AND($C$13>$X78,$C$14<$X78),AND($C$13<$X78,$C$14>$X78))),BA78,IF(AND($W78>=$B$13,$W78<=$B$14),BA78,\"-\"))","v":"-"},{"$f":"IF(AND($B$14=$B$15,OR(AND($C$14>$X78,$C$15<$X78),AND($C$14<$X78,$C$15>$X78))),BB78,IF(AND($W78>=$B$14,$W78<=$B$15),BB78,\"-\"))","v":"-"},{"$f":"IF(AND($B$15=$B$16,OR(AND($C$15>$X78,$C$16<$X78),AND($C$15<$X78,$C$16>$X78))),BC78,IF(AND($W78>=$B$15,$W78<=$B$16),BC78,\"-\"))","v":"-"},{"$f":"IF(AND($B$16=$B$17,OR(AND($C$16>$X78,$C$17<$X78),AND($C$16<$X78,$C$17>$X78))),BD78,IF(AND($W78>=$B$16,$W78<=$B$17),BD78,\"-\"))","v":"-"},"-","-","-","-","-","-","-","-","-","-","-","-","-","-","-","-","-","-","-","-",null,{"$f":"ABS(MAX(W78-W79))","v":3.0873568916933465},"-","-","-","-","-","-","-","-","-","-","-","-","-","-","-","-","-","-","-","-","-","-","-","-","-",null,{"$f":"$W78","v":-39.165632691432215},{"$f":"IFERROR(IF(OR($B$13<$W$77,$B$12>$W$101),\"-\",IF(AND($W78=BZ$74,$B$12=$B$13),CA$73,(($W78-$B$12)*($C$13-$C$12)/($B$13-$B$12))+$C$12)),\"-\")","v":"-"},-39.165632691432215,{"$f":"IFERROR(IF(OR($B$14<$W$77,$B$13>$W$101),\"-\",IF(AND($W78=CB$74,$B$13=$B$14),CC$73,(($W78-$B$13)*($C$14-$C$13)/($B$14-$B$13))+$C$13)),\"-\")","v":"-"},-39.165632691432215,{"$f":"IFERROR(IF(OR($B$15<$W$77,$B$14>$W$101),\"-\",IF(AND($W78=CD$74,$B$14=$B$15),CE$73,(($W78-$B$14)*($C$15-$C$14)/($B$15-$B$14))+$C$14)),\"-\")","v":"-"},-39.165632691432215,{"$f":"IFERROR(IF(OR($B$16<$W$77,$B$15>$W$101),\"-\",IF(AND($W78=CF$74,$B$15=$B$16),CG$73,(($W78-$B$15)*($C$16-$C$15)/($B$16-$B$15))+$C$15)),\"-\")","v":"-"},{"$f":"$W78","v":-39.165632691432215},{"$f":"IFERROR(IF(OR($B$17<$W$77,$B$16>$W$101),\"-\",IF(AND($W78=CH$74,$B$16=$B$17),CI$73,(($W78-$B$16)*($C$17-$C$16)/($B$17-$B$16))+$C$16)),\"-\")","v":"-"},{"$f":"$W78","v":-39.165632691432215},{"$f":"IFERROR(IF(OR($B$18<$W$77,$B$17>$W$101),\"-\",IF(AND($W78=CJ$74,$B$17=$B$18),CK$73,(($W78-$B$17)*($C$18-$C$17)/($B$18-$B$17))+$C$17)),\"-\")","v":"-"},{"$f":"$W78","v":-39.165632691432215},"-",{"$f":"$W78","v":-39.165632691432215},{"$f":"IFERROR(IF(OR($B$20<$W$77,$B$19>$W$101),\"-\",IF(AND($W78=CN$74,$B$19=$B$20),CO$73,(($W78-$B$19)*($C$20-$C$19)/($B$20-$B$19))+$C$19)),\"-\")","v":"-"},{"$f":"$W78","v":-39.165632691432215},{"$f":"IFERROR(IF(OR($B$21<$W$77,$B$20>$W$101),\"-\",IF(AND($W78=CP$74,$B$20=$B$21),CQ$73,(($W78-$B$20)*($C$21-$C$20)/($B$21-$B$20))+$C$20)),\"-\")","v":"-"},{"$f":"$W78","v":-39.165632691432215},{"$f":"IFERROR(IF(OR($B$22<$W$77,$B$21>$W$101),\"-\",IF(AND($W78=CR$74,$B$21=$B$22),CS$73,(($W78-$B$21)*($C$22-$C$21)/($B$22-$B$21))+$C$21)),\"-\")","v":"-"},{"$f":"$W78","v":-39.165632691432215},{"$f":"IFERROR(IF(OR($B$23<$W$77,$B$22>$W$101),\"-\",IF(AND($W78=CT$74,$B$22=$B$23),CU$73,(($W78-$B$22)*($C$23-$C$22)/($B$23-$B$22))+$C$22)),\"-\")","v":"-"},{"$f":"$W78","v":-39.165632691432215},{"$f":"IFERROR(IF(OR($B$24<$W$77,$B$23>$W$101),\"-\",IF(AND($W78=CV$74,$B$23=$B$24),CW$73,(($W78-$B$23)*($C$24-$C$23)/($B$24-$B$23))+$C$23)),\"-\")","v":"-"},{"$f":"$W78","v":-39.165632691432215},{"$f":"IFERROR(IF(OR($B$25<$W$77,$B$24>$W$101),\"-\",IF(AND($W78=CX$74,$B$24=$B$25),CY$73,(($W78-$B$24)*($C$25-$C$24)/($B$25-$B$24))+$C$24)),\"-\")","v":"-"},{"$f":"$W78","v":-39.165632691432215},{"$f":"IFERROR(IF(OR($B$26<$W$77,$B$25>$W$101),\"-\",IF(AND($W78=CZ$74,$B$25=$B$26),DA$73,(($W78-$B$25)*($C$26-$C$25)/($B$26-$B$25))+$C$25)),\"-\")","v":"-"},{"$f":"$W78","v":-39.165632691432215},{"$f":"IFERROR(IF(OR($B$27<$W$77,$B$26>$W$101),\"-\",IF(AND($W78=DB$74,$B$26=$B$27),DC$73,(($W78-$B$26)*($C$27-$C$26)/($B$27-$B$26))+$C$26)),\"-\")","v":"-"},{"$f":"$W78","v":-39.165632691432215},{"$f":"IFERROR(IF(OR($B$28<$W$77,$B$27>$W$101),\"-\",IF(AND($W78=DD$74,$B$27=$B$28),DE$73,(($W78-$B$27)*($C$28-$C$27)/($B$28-$B$27))+$C$27)),\"-\")","v":"-"},{"$f":"$W78","v":-39.165632691432215},{"$f":"IFERROR(IF(OR($B$29<$W$77,$B$28>$W$101),\"-\",IF(AND($W78=DF$74,$B$28=$B$29),DG$73,(($W78-$B$28)*($C$29-$C$28)/($B$29-$B$28))+$C$28)),\"-\")","v":"-"},{"$f":"$W78","v":-39.165632691432215},{"$f":"IFERROR(IF(OR($B$30<$W$77,$B$29>$W$101),\"-\",IF(AND($W78=DH$74,$B$29=$B$30),DI$73,(($W78-$B$29)*($C$30-$C$29)/($B$30-$B$29))+$C$29)),\"-\")","v":"-"},{"$f":"$W78","v":-39.165632691432215},{"$f":"IFERROR(IF(OR($B$31<$W$77,$B$30>$W$101),\"-\",IF(AND($W78=DJ$74,$B$30=$B$31),DK$73,(($W78-$B$30)*($C$31-$C$30)/($B$31-$B$30))+$C$30)),\"-\")","v":"-"},{"$f":"$W78","v":-39.165632691432215},{"$f":"IFERROR(IF(OR($B$32<$W$77,$B$31>$W$101),\"-\",IF(AND($W78=DL$74,$B$31=$B$32),DM$73,(($W78-$B$31)*($C$32-$C$31)/($B$32-$B$31))+$C$31)),\"-\")","v":"-"},{"$f":"$W78","v":-39.165632691432215},{"$f":"IFERROR(IF(OR($B$33<$W$77,$B$32>$W$101),\"-\",IF(AND($W78=DN$74,$B$32=$B$33),DO$73,(($W78-$B$32)*($C$33-$C$32)/($B$33-$B$32))+$C$32)),\"-\")","v":"-"},{"$f":"$W78","v":-39.165632691432215},{"$f":"IFERROR(IF(OR($B$34<$W$77,$B$33>$W$101),\"-\",IF(AND($W78=DP$74,$B$33=$B$34),DQ$73,(($W78-$B$33)*($C$34-$C$33)/($B$34-$B$33))+$C$33)),\"-\")","v":"-"},{"$f":"$W78","v":-39.165632691432215},{"$f":"IFERROR(IF(OR($B$35<$W$77,$B$34>$W$101),\"-\",IF(AND($W78=DR$74,$B$34=$B$35),DS$73,(($W78-$B$34)*($C$35-$C$34)/($B$35-$B$34))+$C$34)),\"-\")","v":"-"},{"$f":"$W78","v":-39.165632691432215},{"$f":"IFERROR(IF(OR($B$36<$W$77,$B$35>$W$101),\"-\",IF(AND($W78=DT$74,$B$35=$B$36),DU$73,(($W78-$B$35)*($C$36-$C$35)/($B$36-$B$35))+$C$35)),\"-\")","v":"-"},-39.165632691432215,{"$f":"IFERROR(IF(OR($B$37<$W$77,$B$36>$W$101),\"-\",IF(AND($W78=DV$74,$B$36=$B$37),DW$73,(($W78-$B$36)*($C$37-$C$36)/($B$37-$B$36))+$C$36)),\"-\")","v":"-"}]
[null,"09:30:00",{"$f":"C78+$S$48","v":-37.5},-36.078275799738869,18.479364613557198,-37.823003816914671,21.290396866078151,-42.954122638072256,28.837814087077341,-50.713795433845391,38.138437427340975,-60.446860720054076,46.630203209812279,-70.380600922886146,52.562084118146366,-75.23435884580212,54.717993857721943,43.921724200261131,116.07827579973886,"14:30:00","09:30:00",{"$f":"V78+$S$48","v":-37.5},-36.078275799738869,18.479364613557198,"-","-","-","-","-","-","-","-","-","-","-","-","-","-","-","-","-","-","-","-","-","-","-","-","-",null,3.1974116181657237,"-","-","-","-","-","-","-","-","-","-","-","-","-","-","-","-","-","-","-","-","-","-","-","-","-",null,-36.078275799738869,"-",-36.078275799738869,"-",-36.078275799738869,"-",-36.078275799738869,"-",-36.078275799738869,"-",-36.078275799738869,"-",-36.078275799738869,"-",-36.078275799738869,"-",-36.078275799738869,"-",-36.078275799738869,"-",-36.078275799738869,"-",{"$f":"$W79","v":-36.078275799738869},"-",-36.078275799738869,"-",-36.078275799738869,"-",-36.078275799738869,"-",-36.078275799738869,"-",-36.078275799738869,"-",-36.078275799738869,"-",-36.078275799738869,"-",-36.078275799738869,"-",-36.078275799738869,"-",-36.078275799738869,"-",-36.078275799738869,"-",-36.078275799738869,"-",-36.078275799738869,"-"]
[null,"09:45:00",{"$f":"C79+$S$48","v":-33.75},-32.880864181573145,20.132182778001951,-34.509099506645633,23.013332766794715,-39.340748488766856,30.758920896034077,-46.78739310326953,40.333555220823989,-56.402081183565976,49.117538327992285,-66.555689242793733,55.277760280978086,-71.640667042527824,57.516177877286054,47.119135818426855,112.88086418157314,"14:15:00","09:45:00",{"$f":"V79+$S$48","v":-33.75},-32.880864181573145,20.132182778001951,"-","-","-","-","-","-","-","-","-","-","-","-","-","-","-","-","-","-","-","-","-","-","-","-","-",null,3.3071401031879439,"-","-","-","-","-","-","-","-","-","-","-","-","-","-","-","-","-","-","-","-","-","-","-","-","-",null,-32.880864181573145,"-",-32.880864181573145,"-",-32.880864181573145,"-",-32.880864181573145,"-",-32.880864181573145,"-",-32.880864181573145,"-",-32.880864181573145,"-",-32.880864181573145,"-",-32.880864181573145,"-",-32.880864181573145,"-",-32.880864181573145,"-",-32.880864181573145,"-",-32.880864181573145,"-",-32.880864181573145,"-",-32.880864181573145,"-",-32.880864181573145,"-",-32.880864181573145,"-",-32.880864181573145,"-",-32.880864181573145,"-",-32.880864181573145,"-",-32.880864181573145,"-",-32.880864181573145,"-",-32.880864181573145,"-",-32.880864181573145,"-",-32.880864181573145,"-"]
[null,"10:00:00",-30,-29.573724078385201,21.645829071343687,-31.07204814802979,24.594534095755673,-35.557824800432279,32.534277204053993,-42.605824941476151,42.387187372167986,-51.990196326013674,51.485545021002295,-62.290043612214717,57.911262334851891,-67.601925556070086,60.252929777274943,50.426275921614803,109.5737240783852,"14:00:00","10:00:00",-30,-29.573724078385201,21.645829071343687,"-","-","-","-","-","-","-","-","-","-","-","-","-","-","-","-","-","-","-","-","-","-","-","-","-",null,3.4143833025849766,"-","-","-","-","-","-","-","-","-","-","-","-","-","-","-","-","-","-","-","-","-","-","-","-","-",null,-29.573724078385201,"-",-29.573724078385201,"-",-29.573724078385201,"-",-29.573724078385201,"-",-29.573724078385201,"-",-29.573724078385201,"-",-29.573724078385201,"-",-29.573724078385201,"-",-29.573724078385201,"-",-29.573724078385201,"-",-29.573724078385201,"-",-29.573724078385201,"-",-29.573724078385201,"-",-29.573724078385201,"-",-29.573724078385201,"-",-29.573724078385201,"-",-29.573724078385201,"-",-29.573724078385201,"-",-29.573724078385201,"-",-29.573724078385201,"-",-29.573724078385201,"-",-29.573724078385201,"-",-29.573724078385201,"-",-29.573724078385201,"-",-29.573724078385201,"-"]
[null,"10:15:00",{"$f":"C81+$S$48","v":-26.25},-26.159340775800224,23.010538302812314,-27.513600728455902,26.023078530687819,-31.603135336961014,34.149246107903103,-38.15306739937116,44.278861921731739,-47.15965944118782,53.70843357339907,-57.480675381729597,60.437056386835415,-62.992786224666808,62.9055003298432,53.840659224199776,106.15934077580022,"13:45:00","10:15:00",{"$f":"V81+$S$48","v":-26.25},-26.159340775800224,23.010538302812314,"-","-","-","-","-","-","-","-","-","-","-","-","-","-","-","-","-","-","-","-","-","-","-","-","-",null,3.5167073903424857,"-","-","-","-","-","-","-","-","-","-","-","-","-","-","-","-","-","-","-","-","-","-","-","-","-",null,-26.159340775800224,"-",-26.159340775800224,"-",-26.159340775800224,"-",-26.159340775800224,"-",-26.159340775800224,"-",-26.159340775800224,"-",-26.159340775800224,"-",-26.159340775800224,"-",-26.159340775800224,"-",-26.159340775800224,"-",-26.159340775800224,"-",-26.159340775800224,"-",-26.159340775800224,"-",-26.159340775800224,"-",-26.159340775800224,"-",-26.159340775800224,"-",-26.159340775800224,"-",-26.159340775800224,"-",-26.159340775800224,"-",-26.159340775800224,"-",-26.159340775800224,"-",-26.159340775800224,"-",-26.159340775800224,"-",-26.159340775800224,"-",-26.159340775800224,"-"]
[null,"10:30:00",{"$f":"C82+$S$48","v":-22.5},-22.642633385457739,24.216749810353082,-23.838376772666699,27.288170506159858,-27.478779001173486,35.588895924064467,-33.419131855022016,45.986440259575275,-41.860873342311102,55.755721714418755,-52.005105873835504,62.821750232954294,-57.651195888326434,65.442661465016897,57.357366614542258,102.64263338545774,"13:30:00","10:30:00",{"$f":"V82+$S$48","v":-22.5},-22.642633385457739,24.216749810353082,"-","-","-","-","-","-","-","-","-","-","-","-","-","-","-","-","-","-","-","-","-","-","-","-","-",null,3.6114753165585149,"-","-","-","-","-","-","-","-","-","-","-","-","-","-","-","-","-","-","-","-","-","-","-","-","-",null,-22.642633385457739,"-",-22.642633385457739,"-",-22.642633385457739,"-",-22.642633385457739,"-",-22.642633385457739,"-",-22.642633385457739,"-",-22.642633385457739,"-",-22.642633385457739,"-",-22.642633385457739,"-",-22.642633385457739,"-",-22.642633385457739,"-",-22.642633385457739,"-",-22.642633385457739,"-",-22.642633385457739,"-",-22.642633385457739,"-",-22.642633385457739,"-",-22.642633385457739,"-",-22.642633385457739,"-",-22.642633385457739,"-",-22.642633385457739,"-",-22.642633385457739,"-",-22.642633385457739,"-",-22.642633385457739,"-",-22.642633385457739,"-",-22.642633385457739,"-"]
[null,"10:45:00",{"$f":"C83+$S$48","v":-18.75},-19.031158068899224,25.255353255586297,-20.05417696990202,28.379429070377064,-23.192062472257124,36.838419885454663,-28.402952604552159,47.486637438435814,-36.053103096032046,57.592132273242598,-45.725690935261255,65.021803178029884,-51.373296214780552,67.82106370314132,60.968841931100776,99.031158068899231,"13:15:00","10:45:00",{"$f":"V83+$S$48","v":-18.75},-19.031158068899224,25.255353255586297,"-","-","-","-","-","-","-","-","-","-","-","-","-","-","-","-","-","-","-","-","-","-","-","-","-",null,3.6959570043407641,"-","-","-","-","-","-","-","-","-","-","-","-","-","-","-","-","-","-","-","-","-","-","-","-","-",null,-19.031158068899224,"-",-19.031158068899224,"-",-19.031158068899224,"-",-19.031158068899224,"-",-19.031158068899224,"-",-19.031158068899224,"-",-19.031158068899224,{"$f":"IFERROR(IF(OR($B$19<$W$77,$B$18>$W$101),\"-\",IF(AND($W84=CL$74,$B$18=$B$19),CM$73,(($W84-$B$18)*($C$19-$C$18)/($B$19-$B$18))+$C$18)),\"-\")","v":"-"},-19.031158068899224,"-",-19.031158068899224,"-",-19.031158068899224,"-",-19.031158068899224,"-",-19.031158068899224,"-",-19.031158068899224,"-",-19.031158068899224,"-",-19.031158068899224,"-",-19.031158068899224,"-",-19.031158068899224,"-",-19.031158068899224,"-",-19.031158068899224,"-",-19.031158068899224,"-",-19.031158068899224,"-",-19.031158068899224,"-",-19.031158068899224,"-",-19.031158068899224,"-",-19.031158068899224,"-"]
[null,"11:00:00",-15,-15.33520106455846,26.11796117313305,-16.172163817139637,29.287216042045955,-18.756217681887751,37.883666113754749,-23.115447714311692,48.755880970807219,-29.714828753427494,59.178219318513698,-38.505035299697354,66.981416149935129,-43.919440228610661,69.980619825654003,64.664798935441539,95.335201064558461,"13:00:00","11:00:00",-15,-15.33520106455846,26.11796117313305,"-","-","-","-","-","-","-","-","-","-","-","-","-","-","-","-","-","-","-","-","-","-","-","-","-",null,3.76747540633162,"-","-","-","-","-","-","-","-","-","-","-","-","-","-","-","-","-","-","-","-","-","-","-","-","-",null,-15.33520106455846,"-",-15.33520106455846,"-",-15.33520106455846,"-",-15.33520106455846,"-",-15.33520106455846,"-",-15.33520106455846,"-",-15.33520106455846,{"$f":"IFERROR(IF(OR($B$19<$W$77,$B$18>$W$101),\"-\",IF(AND($W85=CL$74,$B$18=$B$19),CM$73,(($W85-$B$18)*($C$19-$C$18)/($B$19-$B$18))+$C$18)),\"-\")","v":"-"},-15.33520106455846,"-",-15.33520106455846,"-",-15.33520106455846,"-",-15.33520106455846,"-",-15.33520106455846,"-",-15.33520106455846,"-",-15.33520106455846,"-",-15.33520106455846,"-",-15.33520106455846,"-",-15.33520106455846,"-",-15.33520106455846,"-",-15.33520106455846,"-",-15.33520106455846,"-",-15.33520106455846,"-",-15.33520106455846,"-",-15.33520106455846,"-",-15.33520106455846,"-",-15.33520106455846,"-"]
[null,"11:15:00",{"$f":"C85+$S$48","v":-11.25},-11.56772565822684,26.797194091133221,-12.206855658556071,30.00298746230893,-14.190780681560847,38.711755477994018,-17.582189292529208,49.771532085772833,-22.856997453399416,60.472162602229595,-30.240952908126999,68.631904909610242,-35.050381592635141,71.840036303619371,68.432274341773166,91.567725658226834,"12:45:00","11:15:00",{"$f":"V85+$S$48","v":-11.25},-11.56772565822684,26.797194091133221,"-","-","-","-","-","-","-","-","-","-","-","-","-","-","-","-","-","-","-","-","-","-","-","-","-",null,3.8235785226946257,"-","-","-","-","-","-","-","-","-","-","-","-","-","-","-","-","-","-","-","-","-","-","-","-","-",null,-11.56772565822684,"-",-11.56772565822684,"-",-11.56772565822684,"-",-11.56772565822684,"-",-11.56772565822684,"-",-11.56772565822684,"-",-11.56772565822684,{"$f":"IFERROR(IF(OR($B$19<$W$77,$B$18>$W$101),\"-\",IF(AND($W86=CL$74,$B$18=$B$19),CM$73,(($W86-$B$18)*($C$19-$C$18)/($B$19-$B$18))+$C$18)),\"-\")","v":"-"},-11.56772565822684,"-",-11.56772565822684,"-",-11.56772565822684,"-",-11.56772565822684,"-",-11.56772565822684,"-",-11.56772565822684,"-",-11.56772565822684,"-",-11.56772565822684,"-",-11.56772565822684,"-",-11.56772565822684,"-",-11.56772565822684,"-",-11.56772565822684,"-",-11.56772565822684,"-",-11.56772565822684,"-",-11.56772565822684,"-",-11.56772565822684,"-",-11.56772565822684,"-",-11.56772565822684,"-"]
[null,"11:30:00",{"$f":"C86+$S$48","v":-7.5},-7.7441471355322138,27.286959273849099,-8.1758909762517895,30.519644000120589,-9.5214712099102563,39.311742486152127,-11.844890871114016,50.513413866783814,-15.536426506702515,61.433081826454121,-20.92658229156957,69.895005249688609,-24.623307563449298,73.296222617880971,72.255852864467784,87.744147135532216,"12:30:00","11:30:00",{"$f":"V86+$S$48","v":-7.5},-7.7441471355322138,27.286959273849099,"-","-","-","-","-","-","-","-","-","-","-","-","-","-","-","-","-","-","-","-","-","-","-","-","-",null,3.8622201843042268,"-","-","-","-","-","-","-","-","-","-","-","-","-","-","-","-","-","-","-","-","-","-","-","-","-",null,-7.7441471355322138,"-",-7.7441471355322138,"-",-7.7441471355322138,"-",-7.7441471355322138,"-",-7.7441471355322138,"-",-7.7441471355322138,"-",-7.7441471355322138,"-",-7.7441471355322138,"-",-7.7441471355322138,"-",-7.7441471355322138,"-",-7.7441471355322138,"-",-7.7441471355322138,"-",-7.7441471355322138,"-",-7.7441471355322138,"-",-7.7441471355322138,"-",-7.7441471355322138,"-",-7.7441471355322138,"-",-7.7441471355322138,"-",-7.7441471355322138,"-",-7.7441471355322138,"-",-7.7441471355322138,"-",-7.7441471355322138,"-",-7.7441471355322138,"-",-7.7441471355322138,"-",-7.7441471355322138,"-"]
[null,"11:45:00",{"$f":"C87+$S$48","v":-3.75},-3.881926951227987,27.582700993548368,-4.0995432507289893,30.831850602691585,-4.7794593577832227,39.67525334392711,-5.9608772458684722,50.965481772030294,-7.8638574363776916,62.025803459827131,-10.72334307513897,70.693069035505786,-12.759672604097389,74.235121227279095,76.118073048772018,83.881926951227982,"12:15:00","11:45:00",{"$f":"V87+$S$48","v":-3.75},-3.881926951227987,27.582700993548368,"-","-","-","-","-","-","-","-","-","-","-","-","-","-","-","-","-","-","-","-","-","-","-","-","-",null,3.881926951227987,"-","-","-","-","-","-","-","-","-","-","-","-","-","-","-","-","-","-","-","-","-","-","-","-","-",null,-3.881926951227987,"-",-3.881926951227987,"-",-3.881926951227987,"-",-3.881926951227987,"-",-3.881926951227987,"-",-3.881926951227987,"-",-3.881926951227987,"-",-3.881926951227987,"-",-3.881926951227987,"-",-3.881926951227987,"-",-3.881926951227987,"-",-3.881926951227987,"-",-3.881926951227987,"-",-3.881926951227987,"-",-3.881926951227987,"-",-3.881926951227987,"-",-3.881926951227987,"-",-3.881926951227987,"-",-3.881926951227987,"-",-3.881926951227987,"-",-3.881926951227987,"-",-3.881926951227987,"-",-3.881926951227987,"-",-3.881926951227987,"-",-3.881926951227987,"-"]
[null,"12:00:00",0,0,27.681599780247442,0,30.936294067110033,0,39.797022737031575,0,51.117367641472079,0,62.22624356339248,0,70.966622871468601,0,74.560899163090696,80,80,"12:00:00","12:00:00",0,0,27.681599780247442,"-","-","-","-","-","-","-","-","-","-","-","-","-","-","-","-","-","-","-","-","-","-","-","-","-",null,3.881926951227987,"-","-","-","-","-","-","-","-","-","-","-","-","-","-","-","-","-","-","-","-","-","-","-","-","-",null,0,"-",0,"-",0,"-",0,"-",0,"-",0,"-",0,"-",0,"-",0,"-",0,"-",0,"-",0,"-",0,"-",0,"-",0,"-",0,"-",0,"-",0,"-",0,"-",0,"-",0,"-",0,"-",0,"-",0,"-",0,"-"]
[null,"12:15:00",{"$f":"C89+$S$48","v":3.75},{"$f":"DEGREES(ACOS((-SIN(RADIANS(E$46))*COS(RADIANS($C$4))+COS(RADIANS(E$46))*SIN(RADIANS($C$4))*COS(RADIANS($C90)))/COS(RADIANS(E90))))","v":3.881926951227987},27.582700993548368,{"$f":"DEGREES(ACOS((-SIN(RADIANS(G$46))*COS(RADIANS($C$4))+COS(RADIANS(G$46))*SIN(RADIANS($C$4))*COS(RADIANS($C90)))/COS(RADIANS(G90))))","v":4.0995432507289893},30.831850602691585,{"$f":"DEGREES(ACOS((-SIN(RADIANS(I$46))*COS(RADIANS($C$4))+COS(RADIANS(I$46))*SIN(RADIANS($C$4))*COS(RADIANS($C90)))/COS(RADIANS(I90))))","v":4.7794593577832227},39.67525334392711,{"$f":"DEGREES(ACOS((-SIN(RADIANS(K$46))*COS(RADIANS($C$4))+COS(RADIANS(K$46))*SIN(RADIANS($C$4))*COS(RADIANS($C90)))/COS(RADIANS(K90))))","v":5.9608772458684722},50.965481772030294,{"$f":"DEGREES(ACOS((-SIN(RADIANS(M$46))*COS(RADIANS($C$4))+COS(RADIANS(M$46))*SIN(RADIANS($C$4))*COS(RADIANS($C90)))/COS(RADIANS(M90))))","v":7.8638574363776916},62.025803459827131,{"$f":"DEGREES(ACOS((-SIN(RADIANS(O$46))*COS(RADIANS($C$4))+COS(RADIANS(O$46))*SIN(RADIANS($C$4))*COS(RADIANS($C90)))/COS(RADIANS(O90))))","v":10.72334307513897},70.693069035505786,{"$f":"DEGREES(ACOS((-SIN(RADIANS(Q$46))*COS(RADIANS($C$4))+COS(RADIANS(Q$46))*SIN(RADIANS($C$4))*COS(RADIANS($C90)))/COS(RADIANS(Q90))))","v":12.759672604097389},74.235121227279095,83.881926951227982,76.118073048772018,"11:45:00","12:15:00",{"$f":"V89+$S$48","v":3.75},{"$f":"DEGREES(ACOS((-SIN(RADIANS(X$46))*COS(RADIANS($C$4))+COS(RADIANS(X$46))*SIN(RADIANS($C$4))*COS(RADIANS(V90)))/COS(RADIANS(X90))))","v":3.881926951227987},27.582700993548368,"-","-","-","-","-","-","-","-","-","-","-","-","-","-","-","-","-","-","-","-","-","-","-","-","-",null,3.8622201843042268,"-","-","-","-","-","-","-","-","-","-","-","-","-","-","-","-","-","-","-","-","-","-","-","-","-",null,3.881926951227987,"-",3.881926951227987,"-",3.881926951227987,"-",3.881926951227987,"-",3.881926951227987,"-",3.881926951227987,"-",3.881926951227987,"-",3.881926951227987,"-",3.881926951227987,"-",3.881926951227987,"-",3.881926951227987,"-",3.881926951227987,"-",3.881926951227987,"-",3.881926951227987,"-",3.881926951227987,"-",3.881926951227987,"-",3.881926951227987,"-",3.881926951227987,"-",3.881926951227987,"-",3.881926951227987,"-",3.881926951227987,"-",3.881926951227987,"-",3.881926951227987,"-",3.881926951227987,"-",3.881926951227987,"-"]
[null,"12:30:00",{"$f":"C90+$S$48","v":7.5},{"$f":"DEGREES(ACOS((-SIN(RADIANS(E$46))*COS(RADIANS($C$4))+COS(RADIANS(E$46))*SIN(RADIANS($C$4))*COS(RADIANS($C91)))/COS(RADIANS(E91))))","v":7.7441471355322138},27.286959273849099,{"$f":"DEGREES(ACOS((-SIN(RADIANS(G$46))*COS(RADIANS($C$4))+COS(RADIANS(G$46))*SIN(RADIANS($C$4))*COS(RADIANS($C91)))/COS(RADIANS(G91))))","v":8.1758909762517895},30.519644000120589,9.5214712099102563,39.311742486152127,11.844890871114016,50.513413866783814,15.536426506702515,61.433081826454121,20.92658229156957,69.895005249688609,24.623307563449298,73.296222617880971,87.744147135532216,72.255852864467784,"11:30:00","12:30:00",{"$f":"V90+$S$48","v":7.5},{"$f":"DEGREES(ACOS((-SIN(RADIANS(X$46))*COS(RADIANS($C$4))+COS(RADIANS(X$46))*SIN(RADIANS($C$4))*COS(RADIANS(V91)))/COS(RADIANS(X91))))","v":7.7441471355322138},27.286959273849099,"-","-","-","-","-","-","-","-","-","-","-","-","-","-","-","-","-","-","-","-","-","-","-","-","-",null,3.8235785226946257,"-","-","-","-","-","-","-","-","-","-","-","-","-","-","-","-","-","-","-","-","-","-","-","-","-",null,7.7441471355322138,"-",7.7441471355322138,"-",7.7441471355322138,"-",7.7441471355322138,"-",7.7441471355322138,"-",7.7441471355322138,"-",7.7441471355322138,"-",7.7441471355322138,"-",7.7441471355322138,"-",7.7441471355322138,"-",7.7441471355322138,"-",7.7441471355322138,"-",7.7441471355322138,"-",7.7441471355322138,"-",7.7441471355322138,"-",7.7441471355322138,"-",7.7441471355322138,"-",7.7441471355322138,"-",7.7441471355322138,"-",7.7441471355322138,"-",7.7441471355322138,"-",7.7441471355322138,"-",7.7441471355322138,"-",7.7441471355322138,"-",7.7441471355322138,"-"]
[null,"12:45:00",{"$f":"C91+$S$48","v":11.25},{"$f":"DEGREES(ACOS((-SIN(RADIANS(E$46))*COS(RADIANS($C$4))+COS(RADIANS(E$46))*SIN(RADIANS($C$4))*COS(RADIANS($C92)))/COS(RADIANS(E92))))","v":11.56772565822684},26.797194091133221,12.206855658556071,30.00298746230893,14.190780681560847,38.711755477994018,17.582189292529208,49.771532085772833,22.856997453399416,60.472162602229595,30.240952908126999,68.631904909610242,35.050381592635141,71.840036303619371,91.567725658226834,68.432274341773166,"11:15:00","12:45:00",{"$f":"V91+$S$48","v":11.25},11.56772565822684,26.797194091133221,"-","-","-","-","-","-","-","-","-","-","-","-","-","-","-","-","-","-","-","-","-","-","-","-","-",null,3.76747540633162,"-","-","-","-","-","-","-","-","-","-","-","-","-","-","-","-","-","-","-","-","-","-","-","-","-",null,11.56772565822684,"-",11.56772565822684,"-",11.56772565822684,"-",11.56772565822684,"-",11.56772565822684,"-",11.56772565822684,"-",11.56772565822684,"-",11.56772565822684,"-",11.56772565822684,"-",11.56772565822684,"-",11.56772565822684,"-",11.56772565822684,"-",11.56772565822684,"-",11.56772565822684,"-",11.56772565822684,"-",11.56772565822684,"-",11.56772565822684,"-",11.56772565822684,"-",11.56772565822684,"-",11.56772565822684,"-",11.56772565822684,"-",11.56772565822684,"-",11.56772565822684,"-",11.56772565822684,"-",11.56772565822684,"-"]
[null,"13:00:00",15,15.33520106455846,26.11796117313305,16.172163817139637,29.287216042045955,18.756217681887751,37.883666113754749,23.115447714311692,48.755880970807219,29.714828753427494,59.178219318513698,38.505035299697354,66.981416149935129,43.919440228610661,69.980619825654003,95.335201064558461,64.664798935441539,"11:00:00","13:00:00",15,15.33520106455846,26.11796117313305,"-","-","-","-","-","-","-","-","-","-","-","-","-","-","-","-","-","-","-","-","-","-","-","-","-",null,3.6959570043407641,"-","-","-","-","-","-","-","-","-","-","-","-","-","-","-","-","-","-","-","-","-","-","-","-","-",null,15.33520106455846,"-",15.33520106455846,"-",15.33520106455846,"-",15.33520106455846,"-",15.33520106455846,"-",15.33520106455846,"-",15.33520106455846,"-",15.33520106455846,"-",15.33520106455846,"-",15.33520106455846,"-",15.33520106455846,"-",15.33520106455846,"-",15.33520106455846,"-",15.33520106455846,"-",15.33520106455846,"-",15.33520106455846,"-",15.33520106455846,"-",15.33520106455846,"-",15.33520106455846,"-",15.33520106455846,"-",15.33520106455846,"-",15.33520106455846,"-",15.33520106455846,"-",15.33520106455846,"-",15.33520106455846,"-"]
[null,"13:15:00",{"$f":"C93+$S$48","v":18.75},19.031158068899224,25.255353255586297,20.05417696990202,28.379429070377064,23.192062472257124,36.838419885454663,28.402952604552159,47.486637438435814,36.053103096032046,57.592132273242598,45.725690935261255,65.021803178029884,51.373296214780552,67.82106370314132,99.031158068899231,60.968841931100776,"10:45:00","13:15:00",{"$f":"V93+$S$48","v":18.75},19.031158068899224,25.255353255586297,"-","-","-","-","-","-",{"$f":"IF(AND($B$18=$B$19,OR(AND($C$18>$X94,$C$19<$X94),AND($C$18<$X94,$C$19>$X94))),BF94,IF(AND($W94>=$B$18,$W94<=$B$19),BF94,\"-\"))","v":"-"},{"$f":"IF(AND($B$19=$B$20,OR(AND($C$19>$X94,$C$20<$X94),AND($C$19<$X94,$C$20>$X94))),BG94,IF(AND($W94>=$B$19,$W94<=$B$20),BG94,\"-\"))","v":"-"},"-","-","-","-","-","-","-","-","-","-","-","-","-","-","-","-","-",null,3.6114753165585149,"-","-","-","-","-","-","-","-","-","-","-","-","-","-","-","-","-","-","-","-","-","-","-","-","-",null,19.031158068899224,"-",19.031158068899224,"-",19.031158068899224,"-",19.031158068899224,"-",19.031158068899224,"-",19.031158068899224,"-",19.031158068899224,"-",19.031158068899224,"-",19.031158068899224,"-",19.031158068899224,"-",19.031158068899224,"-",19.031158068899224,"-",19.031158068899224,"-",19.031158068899224,"-",19.031158068899224,"-",19.031158068899224,"-",19.031158068899224,"-",19.031158068899224,"-",19.031158068899224,"-",19.031158068899224,"-",19.031158068899224,"-",19.031158068899224,"-",19.031158068899224,"-",19.031158068899224,"-",19.031158068899224,"-"]
[null,"13:30:00",{"$f":"C94+$S$48","v":22.5},22.642633385457739,24.216749810353082,23.838376772666699,27.288170506159858,27.478779001173486,35.588895924064467,33.419131855022016,45.986440259575275,41.860873342311102,55.755721714418755,52.005105873835504,62.821750232954294,57.651195888326434,65.442661465016897,102.64263338545774,57.357366614542258,"10:30:00","13:30:00",{"$f":"V94+$S$48","v":22.5},22.642633385457739,24.216749810353082,"-","-","-","-","-","-",{"$f":"IF(AND($B$18=$B$19,OR(AND($C$18>$X95,$C$19<$X95),AND($C$18<$X95,$C$19>$X95))),BF95,IF(AND($W95>=$B$18,$W95<=$B$19),BF95,\"-\"))","v":"-"},{"$f":"IF(AND($B$19=$B$20,OR(AND($C$19>$X95,$C$20<$X95),AND($C$19<$X95,$C$20>$X95))),BG95,IF(AND($W95>=$B$19,$W95<=$B$20),BG95,\"-\"))","v":"-"},"-","-","-","-","-","-","-","-","-","-","-","-","-","-","-","-","-",null,3.5167073903424857,"-","-","-","-","-","-","-","-","-","-","-","-","-","-","-","-","-","-","-","-","-","-","-","-","-",null,22.642633385457739,"-",22.642633385457739,"-",22.642633385457739,"-",22.642633385457739,"-",22.642633385457739,"-",22.642633385457739,"-",22.642633385457739,"-",22.642633385457739,"-",22.642633385457739,"-",22.642633385457739,"-",22.642633385457739,"-",22.642633385457739,"-",22.642633385457739,"-",22.642633385457739,"-",22.642633385457739,"-",22.642633385457739,"-",22.642633385457739,"-",22.642633385457739,"-",22.642633385457739,"-",22.642633385457739,"-",22.642633385457739,"-",22.642633385457739,"-",22.642633385457739,"-",{"$f":"$W95","v":22.642633385457739},"-",22.642633385457739,"-"]
[null,"13:45:00",{"$f":"C95+$S$48","v":26.25},26.159340775800224,23.010538302812314,27.513600728455902,26.023078530687819,31.603135336961014,34.149246107903103,38.15306739937116,44.278861921731739,47.15965944118782,53.70843357339907,57.480675381729597,60.437056386835415,62.992786224666808,62.9055003298432,106.15934077580022,53.840659224199776,"10:15:00","13:45:00",{"$f":"V95+$S$48","v":26.25},26.159340775800224,23.010538302812314,"-","-","-","-","-","-","-","-","-","-","-","-","-","-","-","-","-","-","-","-","-","-","-","-","-",null,3.4143833025849766,"-","-","-","-","-","-","-","-","-","-","-","-","-","-","-","-","-","-","-","-","-","-","-","-","-",null,26.159340775800224,"-",26.159340775800224,"-",26.159340775800224,"-",26.159340775800224,"-",26.159340775800224,"-",26.159340775800224,"-",26.159340775800224,"-",26.159340775800224,"-",26.159340775800224,"-",26.159340775800224,"-",26.159340775800224,"-",26.159340775800224,"-",26.159340775800224,"-",26.159340775800224,"-",26.159340775800224,"-",26.159340775800224,"-",26.159340775800224,"-",26.159340775800224,"-",26.159340775800224,"-",26.159340775800224,"-",26.159340775800224,"-",26.159340775800224,"-",26.159340775800224,"-",{"$f":"$W96","v":26.159340775800224},"-",26.159340775800224,"-"]
[null,"14:00:00",30,29.573724078385201,21.645829071343687,31.07204814802979,24.594534095755673,35.557824800432279,32.534277204053993,42.605824941476151,42.387187372167986,51.990196326013674,51.485545021002295,62.290043612214717,57.911262334851891,67.601925556070086,60.252929777274943,109.5737240783852,50.426275921614803,"10:00:00","14:00:00",30,29.573724078385201,21.645829071343687,"-","-","-","-","-","-","-","-","-","-","-","-","-","-","-","-","-","-","-","-","-","-","-","-","-",null,3.3071401031879439,"-","-","-","-","-","-","-","-","-","-","-","-","-","-","-","-","-","-","-","-","-","-","-","-","-",null,29.573724078385201,"-",29.573724078385201,"-",29.573724078385201,"-",29.573724078385201,"-",29.573724078385201,"-",29.573724078385201,"-",29.573724078385201,"-",29.573724078385201,"-",29.573724078385201,"-",29.573724078385201,"-",29.573724078385201,"-",29.573724078385201,"-",29.573724078385201,"-",29.573724078385201,"-",29.573724078385201,"-",29.573724078385201,"-",29.573724078385201,"-",29.573724078385201,"-",29.573724078385201,"-",29.573724078385201,"-",29.573724078385201,"-",29.573724078385201,"-",29.573724078385201,"-",29.573724078385201,"-",29.573724078385201,"-"]
[null,"14:15:00",{"$f":"C97+$S$48","v":33.75},32.880864181573145,20.132182778001951,34.509099506645633,23.013332766794715,39.340748488766856,30.758920896034077,46.78739310326953,40.333555220823989,56.402081183565976,49.117538327992285,66.555689242793733,55.277760280978086,71.640667042527824,57.516177877286054,112.88086418157314,47.119135818426855,"09:45:00","14:15:00",{"$f":"V97+$S$48","v":33.75},32.880864181573145,20.132182778001951,"-","-","-","-","-","-","-","-","-","-","-","-","-","-","-","-","-","-","-","-","-","-","-","-","-",null,3.1974116181657237,"-","-","-","-","-","-","-","-","-","-","-","-","-","-","-","-","-","-","-","-","-","-","-","-","-",null,32.880864181573145,"-",32.880864181573145,"-",32.880864181573145,"-",32.880864181573145,"-",32.880864181573145,"-",32.880864181573145,"-",32.880864181573145,"-",32.880864181573145,"-",32.880864181573145,"-",32.880864181573145,"-",32.880864181573145,"-",32.880864181573145,"-",32.880864181573145,"-",32.880864181573145,"-",32.880864181573145,"-",32.880864181573145,"-",32.880864181573145,"-",32.880864181573145,"-",32.880864181573145,"-",32.880864181573145,"-",32.880864181573145,"-",32.880864181573145,"-",{"$f":"$W98","v":32.880864181573145},"-",32.880864181573145,"-",32.880864181573145,"-"]
[null,"14:30:00",{"$f":"C98+$S$48","v":37.5},36.078275799738869,18.479364613557198,37.823003816914671,21.290396866078151,42.954122638072256,28.837814087077341,50.713795433845391,38.138437427340975,60.446860720054076,46.630203209812279,70.380600922886146,52.562084118146366,75.23435884580212,54.717993857721943,116.07827579973886,43.921724200261131,"09:30:00","14:30:00",{"$f":"V98+$S$48","v":37.5},36.078275799738869,18.479364613557198,"-","-","-","-","-","-","-","-","-","-","-",{"$f":"IF(AND($B$23=$B$24,OR(AND($C$23>$X99,$C$24<$X94),AND($C$23<$X94,$C$24>$X99))),BK99,IF(AND($W99>=$B$23,$W99<=$B$24),BK99,\"-\"))","v":"-"},"-","-","-","-","-","-","-","-","-","-","-","-","-",null,3.0873568916933465,"-","-","-","-","-","-","-","-","-","-","-","-","-","-","-","-","-","-","-","-","-","-","-","-","-",null,36.078275799738869,"-",36.078275799738869,"-",36.078275799738869,"-",36.078275799738869,"-",36.078275799738869,"-",36.078275799738869,"-",36.078275799738869,"-",36.078275799738869,"-",36.078275799738869,"-",36.078275799738869,"-",36.078275799738869,"-",{"$f":"$W99","v":36.078275799738869},"-",36.078275799738869,"-",36.078275799738869,"-",36.078275799738869,"-",36.078275799738869,"-",36.078275799738869,"-",36.078275799738869,"-",36.078275799738869,"-",36.078275799738869,"-",36.078275799738869,"-",36.078275799738869,"-",36.078275799738869,"-",36.078275799738869,"-",36.078275799738869,"-"]
[null,"14:45:00",{"$f":"C99+$S$48","v":41.25},39.165632691432215,16.697134160322644,41.014489316273988,19.436537324206814,46.403547182423615,26.784992977610106,54.40467689157731,35.820392044826761,64.173997060349876,44.045110120110408,73.849061800904224,49.783878299523835,78.479231677416749,51.87525652998378,119.16563269143222,40.834367308567785,"09:15:00","14:45:00",{"$f":"V99+$S$48","v":41.25},39.165632691432215,16.697134160322644,"-","-","-","-","-","-","-","-","-","-","-",{"$f":"IF(AND($B$23=$B$24,OR(AND($C$23>$X100,$C$24<$X95),AND($C$23<$X95,$C$24>$X100))),BK100,IF(AND($W100>=$B$23,$W100<=$B$24),BK100,\"-\"))","v":"-"},"-","-","-","-","-","-","-","-","-","-","-","-","-",null,2.9788244906292505,"-","-","-","-","-","-","-","-","-","-","-","-","-","-","-","-","-","-","-","-","-","-","-","-","-",null,39.165632691432215,"-",39.165632691432215,"-",39.165632691432215,"-",39.165632691432215,"-",39.165632691432215,"-",39.165632691432215,"-",39.165632691432215,"-",39.165632691432215,"-",39.165632691432215,"-",39.165632691432215,"-",39.165632691432215,"-",39.165632691432215,"-",39.165632691432215,"-",39.165632691432215,"-",39.165632691432215,"-",39.165632691432215,"-",39.165632691432215,"-",39.165632691432215,"-",39.165632691432215,"-",39.165632691432215,"-",39.165632691432215,"-",39.165632691432215,"-",39.165632691432215,"-",39.165632691432215,"-",39.165632691432215,"-"]
[null,"15:00:00",45,42.144457182061466,14.795074915349655,44.086345815549151,17.462268037939495,49.697131815600194,24.613691406528527,57.881460143574422,33.396012787546127,67.62886053605024,41.380220147912453,77.029280280949621,46.958437814622648,81.449374165660956,49.000774181767056,122.14445718206147,37.855542817938534,"09:00:00","15:00:00",45,42.144457182061466,14.795074915349655,"-","-","-","-","-","-","-","-","-","-","-",{"$f":"IF(AND($B$23=$B$24,OR(AND($C$23>$X101,$C$24<$X96),AND($C$23<$X96,$C$24>$X101))),BK101,IF(AND($W101>=$B$23,$W101<=$B$24),BK101,\"-\"))","v":"-"},"-","-","-","-","-","-","-","-","-","-","-","-","-",null,null,"-","-","-","-","-","-","-","-","-","-","-","-","-","-","-","-","-","-","-","-","-","-","-","-","-",null,42.144457182061466,"-",42.144457182061466,"-",42.144457182061466,"-",42.144457182061466,"-",42.144457182061466,"-",42.144457182061466,"-",42.144457182061466,"-",42.144457182061466,"-",42.144457182061466,"-",{"$f":"$W101","v":42.144457182061466},"-",{"$f":"$W101","v":42.144457182061466},"-",42.144457182061466,"-",42.144457182061466,"-",42.144457182061466,"-",42.144457182061466,"-",42.144457182061466,"-",42.144457182061466,"-",42.144457182061466,"-",42.144457182061466,"-",42.144457182061466,"-",42.144457182061466,"-",42.144457182061466,"-",42.144457182061466,"-",42.144457182061466,"-",42.144457182061466,"-"]
[null,"15:15:00",{"$f":"C101+$S$48","v":48.75},45.017803651988899,12.782463509664492,47.04301612660506,15.377670564344825,52.844735981280465,22.336226885660484,61.166040610154838,30.880006547070678,70.851994650893872,38.650500440069123,79.97634998628007,44.097862080647765,84.202315172082592,46.104514206487252]
[null,"15:30:00",{"$f":"C102+$S$48","v":52.5},47.789958050579848,10.668175846930634,49.890222175333413,13.192303793826801,55.857346861454189,19.96395543626333,64.279930389356679,28.285344840235695,73.879105741914188,35.868483130563263,82.734938004976911,41.211904088840392,86.783250586537392,43.194446254290781,null,null,null,null,null,null,null,null,null,null,null,null,null,null,null,null,null,null,null,null,null,null,null,null,null,null,null,null,null,null,null,null,null,{"$f":"ABS(AB81-$X81)","v":{"$error":"#VALUE!"}},null,null,"tabla que busca las horizontales que cortan 2 veces la curva del solsticio de invierno"]
[null,"15:45:00",{"$f":"C103+$S$48","v":56.25},50.466168034817102,8.4606256931561639,52.634640777993397,10.915151632035419,58.74659697411942,17.507277151419483,67.243746614981262,25.623450853974798,76.74142269697245,33.044745888229151,85.341525846500986,38.308592565949247,89.228172524975335,40.277126850278819,null,null,null,null,null,null,null,"TENIENDO EN CUENTA LAS FACHADAS",null,null,null,null,null,null,null,null,null,null,null,null,null,null,null,null,null,null,null,null,null,null,null,null,null,{"$f":"ABS(AB97-$X97)","v":{"$error":"#VALUE!"}}]
[null,"16:00:00",60,53.052411945362373,6.1677304928146928,55.283635651727089,8.554601312715997,61.524409690014259,14.975676911266209,70.076948525594673,22.90439708685307,79.466214679680533,30.188312902152578,87.826203811894317,35.394689589195728,91.566170136524178,37.35811110906252,null,null,null,null,null,null,null,{"$f":"Y75","v":"AB"},{"$f":"Z75","v":"BC"},"CD","DE","EF","FG","GH","HI","IJ","JK","KL","LM","MN","NO","OP","PQ","QR","RS","ST","TU","UV","VW","WX","XY","YZ",null,null,null,null,{"$f":"Y75","v":"AB"},{"$f":"Z75","v":"BC"},"CD","DE","EF","FG","GH","HI","IJ","JK","KL","LM","MN","NO","OP","PQ","QR","RS","ST","TU","UV","VW","WX","XY","YZ",null,null,null,null,null,null,null,null,null,null,null,12,null,13,null,14,null,15,null,16,null,17,null,18,null,19,null,20,null,21,null,22,null,23,null,24,null,25,null,26,null,27,null,28,null,29,null,30,null,31,null,32,null,33,null,34,null,35,null,36,null,37]
[null,"16:15:00",{"$f":"C105+$S$48","v":63.75},55.555209934197343,3.7968991220677846,57.845046296258992,6.1184453621824471,64.202754727305248,12.377787807387016,72.797745403027619,20.137098653070208,82.077348755465621,27.306984375351814,90.214080579008112,32.476030325906436,93.821123568397681,34.442248127240418,null,null,null,null,null,null,null,null,null,null,null,null,null,null,null,null,null,null,null,null,null,null,null,null,null,null,null,null,null,null,null,null,null,null,null,null,{"$f":"IFERROR(SMALL(Y107:Y131,2),\"\")","v":""},"","","","","","","","","","","","","","","","","","","","","","","","",null,"AZIMUT","ALTURA",null,null,null,null,null,null,null,null,"A","ALTURA","B","ALTURA","C","ALTURA","D","ALTURA","E","ALTURA","f","ALTURA","g","ALTURA","h","ALTURA","i","ALTURA","J","ALTURA","k","ALTURA","l","ALTURA","m","ALTURA","n","ALTURA","o","ALTURA","p","ALTURA","q","ALTURA","r","ALTURA","s","ALTURA","t","ALTURA","u","ALTURA","v","ALTURA","w","ALTURA","x","ALTURA","y ","ALTURA","z","ALTURA"]
[null,"16:30:00",{"$f":"C106+$S$48","v":67.5},57.981477182953206,1.3550366777812912,60.327030697143755,3.6139010960404692,66.793494168153345,9.7214679293361623,75.42311667469265,17.329494323431625,84.595826855605281,24.407605711600763,92.526381904419338,29.557778670119202,96.012958383219086,31.533897451508292,null,null,null,"09:00:00",-45,{"$f":"-DEGREES(ACOS((-SIN(RADIANS(X$46))*COS(RADIANS($C$4))+COS(RADIANS(X$46))*SIN(RADIANS($C$4))*COS(RADIANS(V107)))/COS(RADIANS(X107))))","v":-42.144457182061466},{"$f":"180/PI()*ASIN(SIN(X$46*PI()/180)*SIN($C$4*PI()/180)+COS(X$46*PI()/180)*COS($C$4*PI()/180)*COS($V107*PI()/180))","v":14.795074915349655},{"$f":"IFERROR(IF(ABS(Y77-$X77)>$AZ$132,\"-\",$U107),\"-\")","v":"-"},"-","-","-",{"$f":"IFERROR(IF(ABS(AC77-$X77)>$AZ$132,\"-\",$U107),\"-\")","v":"-"},"-","-","-","-","-","-","-","-","-","-","-","-","-","-","-","-","-","-","-","-",{"$f":"IFERROR(ABS(AX77-$X77),\"-\")","v":14.795074915349655},{"$f":"ABS(MAX(X107-X108))","v":1.9020592449729889},null,null,{"$f":"Y107","v":"-"},{"$f":"Z107","v":"-"},{"$f":"AA107","v":"-"},"-","-","-","-","-","-","-","-","-","-","-","-","-","-","-",{"$f":"AQ107","v":"-"},"-","-","-","-","-","-",null,-41.88349477943585,13.652268663015196,null,null,null,"ALTURA","AZIMUT",{"$f":"A12","v":"A"},""]
[null,"16:45:00",{"$f":"C107+$S$48","v":71.25},60.338417121640973,-1.1514379572974811,62.737956918116929,1.047642590233238,69.308300814991625,7.0138838919908668,77.968902262515499,14.488711957961669,87.040274857034703,21.496287709834814,94.781305913347708,26.644622885539334,98.158582145274522,28.63709151609326,null,null,null,"09:15:00",{"$f":"V107+$S$48","v":-41.25},-39.165632691432215,16.697134160322644,"-","-","-","-",{"$f":"IFERROR(IF(ABS(AC78-$X78)>$AZ$132,\"-\",$U108),\"-\")","v":"-"},"-","-","-","-","-","-","-","-","-","-","-","-","-","-","-","-","-","-","-","-",null,{"$f":"ABS(X108-X109)","v":1.7822304532345541},null,null,"-","-","-","-","-","-","-","-","-","-","-","-","-","-","-","-","-","-","-","-","-","-","-","-","-",null,-38.886081064558283,15.502218668540674,null,"09:00:00",-45,{"$f":"X77","v":14.795074915349655},{"$f":"W77","v":-42.144457182061466},"B","",null,{"$f":"IF($CJ$107=\"\",\"-\",ABS($CJ$107-$CB107))","v":"-"},{"$f":"$CG108","v":14.795074915349655},{"$f":"IF($CJ$108=\"\",\"-\",ABS($CJ$108-$CB107))","v":"-"},{"$f":"$CG108","v":14.795074915349655},{"$f":"IF($CJ$109=\"\",\"-\",ABS($CJ$109-$CB107))","v":"-"},{"$f":"$CG108","v":14.795074915349655},{"$f":"IF($CJ$110=\"\",\"-\",ABS($CJ$110-$CB107))","v":"-"},{"$f":"$CG108","v":14.795074915349655},{"$f":"IF($CJ$111=\"\",\"-\",ABS($CJ$111-$CB107))","v":"-"},{"$f":"$CG108","v":14.795074915349655},{"$f":"IF($CJ$112=\"\",\"-\",ABS($CJ$112-$CB107))","v":"-"},{"$f":"$CG108","v":14.795074915349655},{"$f":"IF($CJ$113=\"\",\"-\",ABS($CJ$113-$CB107))","v":"-"},{"$f":"$CG108","v":14.795074915349655},{"$f":"IF($CJ$114=\"\",\"-\",ABS($CJ$114-$CB107))","v":"-"},{"$f":"$CG108","v":14.795074915349655},{"$f":"IF($CJ$115=\"\",\"-\",ABS($CJ$115-$CB107))","v":"-"},{"$f":"$CG108","v":14.795074915349655},{"$f":"IF($CJ$116=\"\",\"-\",ABS($CJ$116-$CB107))","v":"-"},{"$f":"$CG108","v":14.795074915349655},{"$f":"IF($CJ$117=\"\",\"-\",ABS($CJ$117-$CB107))","v":"-"},{"$f":"$CG108","v":14.795074915349655},{"$f":"IF($CJ$118=\"\",\"-\",ABS($CJ$118-$CB107))","v":"-"},{"$f":"$CG108","v":14.795074915349655},{"$f":"IF($CJ$119=\"\",\"-\",ABS($CJ$119-$CB107))","v":"-"},{"$f":"$CG108","v":14.795074915349655},{"$f":"IF($CJ$120=\"\",\"-\",ABS($CJ$120-$CB107))","v":"-"},{"$f":"$CG108","v":14.795074915349655},{"$f":"IF($CJ$121=\"\",\"-\",ABS($CJ$121-$CB107))","v":"-"},{"$f":"$CG108","v":14.795074915349655},{"$f":"IF($CJ$122=\"\",\"-\",ABS($CJ$122-$CB107))","v":"-"},{"$f":"$CG108","v":14.795074915349655},{"$f":"IF($CJ$123=\"\",\"-\",ABS($CJ$123-$CB107))","v":"-"},{"$f":"$CG108","v":14.795074915349655},{"$f":"IF($CJ$124=\"\",\"-\",ABS($CJ$124-$CB107))","v":"-"},{"$f":"$CG108","v":14.795074915349655},{"$f":"IF($CJ$125=\"\",\"-\",ABS($CJ$125-$CB107))","v":"-"},{"$f":"$CG108","v":14.795074915349655},{"$f":"IF($CJ$126=\"\",\"-\",ABS($CJ$126-$CB107))","v":"-"},{"$f":"$CG108","v":14.795074915349655},{"$f":"IF($CJ$127=\"\",\"-\",ABS($CJ$127-$CB107))","v":"-"},{"$f":"$CG108","v":14.795074915349655},{"$f":"IF($CJ$128=\"\",\"-\",ABS($CJ$128-$CB107))","v":"-"},{"$f":"$CG108","v":14.795074915349655},{"$f":"IF($CJ$129=\"\",\"-\",ABS($CJ$129-$CB107))","v":"-"},{"$f":"$CG108","v":14.795074915349655},{"$f":"IF($CJ$130=\"\",\"-\",ABS($CJ$130-$CB107))","v":"-"},{"$f":"$CG108","v":14.795074915349655},{"$f":"IF($CJ$131=\"\",\"-\",ABS($CJ$131-$CB107))","v":"-"},{"$f":"$CG108","v":14.795074915349655},{"$f":"IF($CJ$132=\"\",\"-\",ABS($CJ$132-$CB107))","v":"-"},{"$f":"$CG108","v":14.795074915349655}]
[null,"17:00:00",75,62.633451607645512,-3.7165652844123165,65.08633808860786,-1.5741588412373586,71.758633362775413,4.2615967153832655,80.449934574762281,11.621217811205433,89.427374875382085,18.578587946826357,96.99469066386763,23.740928409525118,100.27259032462455,25.755660797835418,null,null,null,"09:30:00",{"$f":"V108+$S$48","v":-37.5},-36.078275799738869,18.479364613557198,"-","-","-","-","-","-","-","-","-","-","-","-","-","-","-","-","-","-","-","-","-","-","-","-","-",null,1.6528181644447528,null,null,"-","-","-","-","-","-","-","-","-","-","-","-","-","-","-","-","-","-","-","-","-","-","-","-","-",null,-35.787477482558735,17.233935617375867,null,"09:15:00",{"$f":"CF108+$S$48","v":-41.25},16.697134160322644,-39.165632691432215,"C","",null,"-",16.697134160322644,"-",16.697134160322644,"-",16.697134160322644,"-",16.697134160322644,"-",16.697134160322644,"-",16.697134160322644,"-",16.697134160322644,"-",16.697134160322644,"-",16.697134160322644,"-",16.697134160322644,"-",16.697134160322644,"-",16.697134160322644,"-",16.697134160322644,"-",16.697134160322644,"-",16.697134160322644,"-",16.697134160322644,"-",16.697134160322644,"-",16.697134160322644,"-",16.697134160322644,"-",16.697134160322644,"-",16.697134160322644,"-",16.697134160322644,"-",16.697134160322644,"-",16.697134160322644,{"$f":"IF($CJ$119=\"\",\"-\",ABS($CJ$119-$CB108))","v":"-"},16.697134160322644,{"$f":"IF($CJ$120=\"\",\"-\",ABS($CJ$120-$CB108))","v":"-"},16.697134160322644]
[null,"17:15:00",{"$f":"C109+$S$48","v":78.75},64.874184884531715,-6.334811846408142,67.380805628987488,-4.2457886099961755,74.155756007816919,1.4706474133516056,82.880193457201344,8.7329508333874859,91.772241292117229,15.659662005805478,99.180537772614841,20.850860056578881,102.36780356045213,22.893333097502648,null,null,null,"09:45:00",{"$f":"V109+$S$48","v":-33.75},-32.880864181573145,20.132182778001951,"-","-","-","-","-","-","-","-","-","-","-","-","-","-","-","-","-","-","-","-","-","-","-","-","-",null,1.5136462933417363,null,null,"-","-","-","-","-","-","-","-","-","-","-","-","-","-","-","-","-","-","-","-","-","-","-","-","-",null,-32.586566732076356,18.838325660249811,null,"09:30:00",{"$f":"CF109+$S$48","v":-37.5},18.479364613557198,-36.078275799738869,"D","",null,"-",18.479364613557198,"-",18.479364613557198,"-",18.479364613557198,"-",18.479364613557198,"-",18.479364613557198,"-",18.479364613557198,"-",18.479364613557198,"-",18.479364613557198,"-",18.479364613557198,"-",18.479364613557198,"-",18.479364613557198,"-",18.479364613557198,"-",18.479364613557198,"-",18.479364613557198,"-",18.479364613557198,"-",18.479364613557198,"-",18.479364613557198,"-",18.479364613557198,"-",18.479364613557198,"-",18.479364613557198,"-",18.479364613557198,"-",18.479364613557198,"-",18.479364613557198,"-",18.479364613557198,"-",18.479364613557198,"-",18.479364613557198]
[null,"17:30:00",{"$f":"C110+$S$48","v":82.5},67.068398581855078,-9.0010324120682537,69.630116466937267,-6.9619393028748897,76.510793235181296,-1.3533590293930906,85.272972498388853,5.8294439765870756,94.088745383038656,12.744391703086951,101.35142564241509,17.978482405235059,104.45568041284024,20.053814817667028,null,null,null,"10:00:00",-30,-29.573724078385201,21.645829071343687,"-","-","-","-","-","-","-","-","-","-","-","-","-","-","-","-","-","-","-","-","-","-","-","-","-",null,1.3647092314686269,null,null,"-","-","-","-","-","-","-","-","-","-","-","-","-","-","-","-","-","-","-","-","-","-","-","-","-",null,-29.283972356834614,20.306180453690455,null,"09:45:00",{"$f":"CF110+$S$48","v":-33.75},20.132182778001951,-32.880864181573145,"E","",null,"-",20.132182778001951,"-",20.132182778001951,"-",20.132182778001951,"-",20.132182778001951,"-",20.132182778001951,"-",20.132182778001951,"-",20.132182778001951,"-",20.132182778001951,"-",20.132182778001951,"-",20.132182778001951,"-",20.132182778001951,"-",20.132182778001951,"-",20.132182778001951,"-",20.132182778001951,"-",20.132182778001951,"-",20.132182778001951,"-",20.132182778001951,"-",20.132182778001951,"-",20.132182778001951,"-",20.132182778001951,"-",20.132182778001951,"-",20.132182778001951,"-",20.132182778001951,"-",20.132182778001951,"-",20.132182778001951,"-",20.132182778001951]
[null,"17:45:00",{"$f":"C111+$S$48","v":86.25},69.224075875484957,-11.710429080806957,71.843191264906892,-9.7176588827530459,78.834813382007113,-4.2051716208246592,87.641049964879429,2.9159349448072667,96.389794961007865,9.8374961394294367,103.51883757216504,15.127844719964395,106.54663701216219,17.240859728661672,null,null,null,"10:15:00",{"$f":"V111+$S$48","v":-26.25},-26.159340775800224,23.010538302812314,"-","-","-","-","-","-","-","-","-","-","-","-","-","-","-","-","-","-","-","-","-","-","-","-","-",null,1.2062115075407682,null,null,"-","-","-","-","-","-","-","-","-","-","-","-","-","-","-","-","-","-","-","-","-","-","-","-","-",null,-25.882318478633962,21.628337368656844,null,"10:00:00",-30,21.645829071343687,-29.573724078385201,"F","",null,"-",21.645829071343687,"-",21.645829071343687,"-",21.645829071343687,"-",21.645829071343687,"-",21.645829071343687,"-",21.645829071343687,"-",21.645829071343687,"-",21.645829071343687,"-",21.645829071343687,"-",21.645829071343687,"-",21.645829071343687,"-",21.645829071343687,"-",21.645829071343687,"-",21.645829071343687,"-",21.645829071343687,"-",21.645829071343687,"-",21.645829071343687,"-",21.645829071343687,"-",21.645829071343687,"-",21.645829071343687,"-",21.645829071343687,"-",21.645829071343687,"-",21.645829071343687,"-",21.645829071343687,"-",21.645829071343687,"-",21.645829071343687]
[null,"18:00:00",90,71.349454104410285,-14.45850812565957,74.029182176677935,-12.508297236748822,81.138937084811218,-7.0798128445019195,89.996860899052635,-2.5309999103839257E-3,98.687575498919742,6.9436303004661992,105.69342356001169,12.303055032075195,108.65029594830537,14.458329083768955,null,null,null,"10:30:00",{"$f":"V112+$S$48","v":-22.5},-22.642633385457739,24.216749810353082,"-","-","-","-","-","-","-","-","-","-","-","-","-","-","-","-","-","-","-","-","-","-","-","-","-",null,1.038603445233214,null,null,"-","-","-","-","-","-","-","-","-","-","-","-","-","-","-","-","-","-","-","-","-","-","-","-","-",null,-22.386452574519581,22.79587332520358,null,"10:15:00",{"$f":"CF112+$S$48","v":-26.25},23.010538302812314,-26.159340775800224,"G","",null,"-",23.010538302812314,"-",23.010538302812314,"-",23.010538302812314,"-",23.010538302812314,"-",23.010538302812314,"-",23.010538302812314,"-",23.010538302812314,"-",23.010538302812314,"-",23.010538302812314,"-",23.010538302812314,"-",23.010538302812314,"-",23.010538302812314,"-",23.010538302812314,"-",23.010538302812314,"-",23.010538302812314,"-",23.010538302812314,"-",23.010538302812314,"-",23.010538302812314,"-",23.010538302812314,"-",23.010538302812314,"-",23.010538302812314,"-",23.010538302812314,"-",23.010538302812314,"-",23.010538302812314,"-",23.010538302812314,"-",23.010538302812314]
[null,"18:15:00",{"$f":"C113+$S$48","v":93.75},73.453106600811381,-17.24103487259276,76.197570334893499,-15.329451079819387,83.43446889718318,-9.9724986485734881,92.352668992839128,-2.9210035185848642,100.99375848191696,4.0674750383732468,107.88520958705982,9.5083467554191614,110.77568021263453,11.710245797187499,null,null,null,"10:45:00",{"$f":"V113+$S$48","v":-18.75},-19.031158068899224,25.255353255586297,"-","-","-","-","-","-","-","-","-","-","-","-","-","-","-","-","-","-","-","-","-","-","-","-","-",null,0.86260791754675381,null,null,"-","-","-","-","-","-","-","-","-","-","-","-","-","-","-","-","-","-","-","-","-","-","-","-","-",null,-18.803601153057873,23.800327964408542,null,"10:30:00",{"$f":"CF113+$S$48","v":-22.5},24.216749810353082,-22.642633385457739,"H","",null,"-",24.216749810353082,"-",24.216749810353082,"-",24.216749810353082,"-",24.216749810353082,"-",24.216749810353082,"-",24.216749810353082,"-",24.216749810353082,"-",24.216749810353082,"-",24.216749810353082,"-",24.216749810353082,"-",24.216749810353082,"-",24.216749810353082,"-",24.216749810353082,"-",24.216749810353082,"-",24.216749810353082,"-",24.216749810353082,"-",24.216749810353082,"-",24.216749810353082,"-",24.216749810353082,"-",24.216749810353082,"-",24.216749810353082,"-",24.216749810353082,"-",24.216749810353082,"-",24.216749810353082,"-",24.216749810353082,"-",24.216749810353082]
[null,"18:30:00",{"$f":"C114+$S$48","v":97.5},75.544056263938117,-20.05398642508797,78.358295160337192,-18.176906677573161,85.733052264736656,-12.878557422047814,94.72073807261404,-5.8345323129539954,103.31968162715637,1.2138215489912689,110.10376424482685,6.7481402845072065,112.93136322714388,9.0008445587984394,null,null,null,"11:00:00",-15,-15.33520106455846,26.11796117313305,"-","-","-","-","-","-","-","-","-","-","-","-","-","-","-","-","-","-","-","-","-","-","-","-","-",null,0.67923291800017083,null,null,"-","-","-","-","-","-","-","-","-","-","-","-","-","-","-","-","-","-","-","-","-","-","-","-","-",null,-15.143426852213059,24.633947774758685,null,"10:45:00",{"$f":"CF114+$S$48","v":-18.75},25.255353255586297,-19.031158068899224,"I","",null,"-",25.255353255586297,"-",25.255353255586297,"-",25.255353255586297,"-",25.255353255586297,"-",25.255353255586297,"-",25.255353255586297,"-",25.255353255586297,"-",25.255353255586297,"-",25.255353255586297,"-",25.255353255586297,"-",25.255353255586297,"-",25.255353255586297,"-",25.255353255586297,"-",25.255353255586297,"-",25.255353255586297,"-",25.255353255586297,"-",25.255353255586297,"-",25.255353255586297,"-",25.255353255586297,"-",25.255353255586297,"-",25.255353255586297,"-",25.255353255586297,"-",25.255353255586297,"-",25.255353255586297,"-",25.255353255586297,"-",25.255353255586297]
[null,"18:45:00",{"$f":"C115+$S$48","v":101.25},77.631925587527789,-22.893501550353186,80.521919753365211,-21.046579306912033,88.046849731165082,-15.793345957770841,97.113503593834693,-8.7380722418200065,105.67650427902051,-1.6123471297818761,112.35832944956753,4.0271012996952606,115.12558241999403,6.33461911051148,null,null,null,"11:15:00",{"$f":"V115+$S$48","v":-11.25},-11.56772565822684,26.797194091133221,"-","-","-","-","-","-","-","-","-","-","-","-","-","-","-","-","-","-","-","-","-","-","-","-","-",null,0.48976518271587821,null,null,"-","-","-","-","-","-","-","-","-","-","-","-","-","-","-","-","-","-","-","-","-","-","-","-","-",null,-11.417958734073796,25.289938525147647,null,"11:00:00",-15,26.11796117313305,-15.33520106455846,"J","",null,"-",26.11796117313305,"-",26.11796117313305,"-",26.11796117313305,"-",26.11796117313305,"-",26.11796117313305,"-",26.11796117313305,"-",26.11796117313305,"-",26.11796117313305,"-",26.11796117313305,"-",26.11796117313305,"-",26.11796117313305,"-",26.11796117313305,"-",26.11796117313305,"-",26.11796117313305,"-",26.11796117313305,"-",26.11796117313305,"-",26.11796117313305,"-",26.11796117313305,"-",26.11796117313305,"-",26.11796117313305,"-",26.11796117313305,"-",26.11796117313305,"-",26.11796117313305,"-",26.11796117313305,"-",26.11796117313305,"-",26.11796117313305]
[null,"19:00:00",105,79.727130599986523,-25.755826502426796,82.699839207520355,-23.934447773814675,90.388751773647542,-18.712159888132479,99.54374454452369,-11.626385797994368,108.07533979365913,-4.4057755793604452,114.65791943477771,1.3501969013268007,117.36632105714654,3.7163673678727243,null,null,null,"11:30:00",{"$f":"V116+$S$48","v":-7.5},-7.7441471355322138,27.286959273849099,"-","-","-","-","-","-","-","-","-","-","-","-","-","-","-","-","-","-","-","-","-","-","-","-","-",null,0.29574171969926866,null,null,"-","-","-","-","-","-","-","-","-","-","-","-","-","-","-","-","-","-","-","-","-","-","-","-","-",null,-7.6413764062110587,25.762709648644627,null,"11:15:00",{"$f":"CF116+$S$48","v":-11.25},26.797194091133221,-11.56772565822684,"K","",null,"-",26.797194091133221,"-",26.797194091133221,"-",26.797194091133221,"-",26.797194091133221,"-",26.797194091133221,"-",26.797194091133221,"-",26.797194091133221,"-",26.797194091133221,"-",26.797194091133221,"-",26.797194091133221,"-",26.797194091133221,"-",26.797194091133221,"-",26.797194091133221,"-",26.797194091133221,"-",26.797194091133221,"-",26.797194091133221,"-",26.797194091133221,"-",26.797194091133221,"-",26.797194091133221,"-",26.797194091133221,"-",26.797194091133221,"-",26.797194091133221,"-",26.797194091133221,"-",26.797194091133221,"-",26.797194091133221,"-",26.797194091133221]
[null,"19:15:00",{"$f":"C117+$S$48","v":108.75},81.841129751834103,{"$f":"180/PI()*ASIN(SIN(E$46*PI()/180)*SIN($C$4*PI()/180)+COS(E$46*PI()/180)*COS($C$4*PI()/180)*COS($C118*PI()/180))","v":-28.637254908206927},84.904541861007715,-26.836481588404492,92.772619042479093,-21.630135482873246,102.02475559442151,-14.49394029451965,110.52736505681604,-7.160854878672815,117.01139005151616,-1.2772498538712627,119.66136086060942,1.1512345780124735,null,null,null,"11:45:00",{"$f":"V117+$S$48","v":-3.75},-3.881926951227987,27.582700993548368,"-","-","-","-","-","-","-","-","-","-","-","-","-","-","-","-","-","-","-","-","-","-","-","-","-",null,9.8898786699074037E-2,null,null,"-","-","-","-","-","-","-","-","-","-","-","-","-","-","-","-","-","-","-","-","-","-","-","-","-",null,-3.8296429625831316,26.048091931462313,null,"11:30:00",{"$f":"CF117+$S$48","v":-7.5},27.286959273849099,-7.7441471355322138,"L","",null,"-",27.286959273849099,"-",27.286959273849099,"-",27.286959273849099,"-",27.286959273849099,"-",27.286959273849099,"-",27.286959273849099,"-",27.286959273849099,"-",27.286959273849099,"-",27.286959273849099,"-",27.286959273849099,"-",27.286959273849099,"-",27.286959273849099,"-",27.286959273849099,"-",27.286959273849099,"-",27.286959273849099,"-",27.286959273849099,"-",27.286959273849099,"-",27.286959273849099,"-",27.286959273849099,"-",27.286959273849099,"-",27.286959273849099,"-",27.286959273849099,"-",27.286959273849099,"-",27.286959273849099,"-",27.286959273849099,"-",27.286959273849099]
[null,"19:30:00",{"$f":"C118+$S$48","v":112.5},83.986743563421456,-31.534059002924092,87.149937523159082,-29.748557473048212,95.213563956988622,-24.542138969101611,104.57051810560675,-17.334797102248238,113.04390538279058,-9.8715398567802453,119.4274785093972,-3.8495069890831144,122.01830617003768,-1.3552457840658765,null,null,null,"12:00:00",0,0,27.681599780247442,"-","-","-","-","-","-","-","-","-","-","-","-","-","-","-","-","-","-","-","-","-","-","-","-","-",null,9.8898786699074037E-2,null,null,"-","-","-","-","-","-","-","-","-","-","-","-","-","-","-","-","-","-","-","-","-","-","-","-","-",null,0,26.143509780247438,null,"11:45:00",{"$f":"CF118+$S$48","v":-3.75},27.582700993548368,-3.881926951227987,"M","",null,"-",27.582700993548368,"-",27.582700993548368,"-",27.582700993548368,"-",27.582700993548368,"-",27.582700993548368,"-",27.582700993548368,"-",27.582700993548368,"-",27.582700993548368,"-",27.582700993548368,"-",27.582700993548368,"-",27.582700993548368,"-",27.582700993548368,"-",27.582700993548368,"-",27.582700993548368,"-",27.582700993548368,"-",27.582700993548368,"-",27.582700993548368,"-",27.582700993548368,"-",27.582700993548368,"-",27.582700993548368,"-",27.582700993548368,"-",27.582700993548368,"-",27.582700993548368,"-",27.582700993548368,"-",27.582700993548368,"-",27.582700993548368]
[null,"19:45:00",{"$f":"C119+$S$48","v":116.25},86.178567375342681,-34.442408353986551,89.451771900522473,-32.666360633709651,97.728278420022534,-27.442638624873673,107.19586654056292,-20.142490324836047,115.63649085458054,-12.531264265129311,121.91481198536418,-6.3603827849126215,124.44457894359493,-3.7971141987802572,null,null,null,"12:15:00",{"$f":"V119+$S$48","v":3.75},{"$f":"DEGREES(ACOS((-SIN(RADIANS(X$46))*COS(RADIANS($C$4))+COS(RADIANS(X$46))*SIN(RADIANS($C$4))*COS(RADIANS(V120)))/COS(RADIANS(X120))))","v":3.881926951227987},27.582700993548368,"-","-","-","-","-","-","-","-","-","-","-","-","-","-","-","-","-","-","-","-","-","-","-","-","-",null,0.29574171969926866,null,null,"-","-","-","-","-","-","-","-","-","-","-","-","-","-","-","-","-","-","-","-","-","-","-","-","-",null,3.8296429625831316,26.048091931462313,null,"12:00:00",0,27.681599780247442,0,"N","",null,"-",27.681599780247442,"-",27.681599780247442,"-",27.681599780247442,"-",27.681599780247442,"-",27.681599780247442,"-",27.681599780247442,"-",27.681599780247442,"-",27.681599780247442,"-",27.681599780247442,"-",27.681599780247442,"-",27.681599780247442,"-",27.681599780247442,"-",27.681599780247442,"-",27.681599780247442,"-",27.681599780247442,"-",27.681599780247442,"-",27.681599780247442,"-",27.681599780247442,"-",27.681599780247442,"-",27.681599780247442,"-",27.681599780247442,"-",27.681599780247442,"-",27.681599780247442,"-",27.681599780247442,"-",27.681599780247442,"-",27.681599780247442]
[null,"20:00:00",120,88.433508611108593,-37.358270581778086,91.828153187728304,-35.585264495823459,100.3354144883583,-30.325553770012473,109.91664354714345,-22.909892469743685,118.31687762849769,-15.132854162157026,124.48188199404791,-8.8031783443827116,126.94738271749387,-6.1679517584685843,null,null,null,"12:30:00",{"$f":"V120+$S$48","v":7.5},{"$f":"DEGREES(ACOS((-SIN(RADIANS(X$46))*COS(RADIANS($C$4))+COS(RADIANS(X$46))*SIN(RADIANS($C$4))*COS(RADIANS(V121)))/COS(RADIANS(X121))))","v":7.7441471355322138},27.286959273849099,"-","-","-","-","-","-","-",{"$f":"IFERROR(IF(ABS(AF91-$X91)>$AZ$132,\"-\",$U121),\"-\")","v":"-"},"-","-","-","-","-","-","-","-",{"$f":"IFERROR(IF(ABS(AO91-$X91)>$AZ$132,\"-\",$U121),\"-\")","v":"-"},"-","-","-","-","-","-","-","-",null,0.48976518271587821,null,null,"-","-","-","-","-","-","-","-","-","-","-","-","-","-","-","-","-","-","-","-","-","-","-","-","-",null,7.6413764062110587,25.762709648644627,null,"12:15:00",{"$f":"CF120+$S$48","v":3.75},27.582700993548368,3.881926951227987,"O","",null,"-",27.582700993548368,"-",27.582700993548368,"-",27.582700993548368,"-",27.582700993548368,"-",27.582700993548368,"-",27.582700993548368,"-",27.582700993548368,"-",27.582700993548368,"-",27.582700993548368,"-",27.582700993548368,"-",27.582700993548368,"-",27.582700993548368,"-",27.582700993548368,"-",27.582700993548368,"-",27.582700993548368,"-",27.582700993548368,"-",27.582700993548368,"-",27.582700993548368,"-",27.582700993548368,"-",27.582700993548368,"-",27.582700993548368,"-",27.582700993548368,"-",27.582700993548368,"-",27.582700993548368,"-",27.582700993548368,"-",27.582700993548368]
[null,"20:15:00",{"$f":"C121+$S$48","v":123.75},90.771492681987397,-40.2772862072,94.300225496408061,-38.500180162400596,103.05602346230241,-33.184073413322714,112.74983211840456,-25.629065102670552,121.09702482424527,-17.668440794481313,127.13698009903466,-11.170645583946561,129.53363278528329,-8.4608533360864655,null,null,null,"12:45:00",{"$f":"V121+$S$48","v":11.25},11.56772565822684,26.797194091133221,"-","-","-","-","-","-","-",{"$f":"IFERROR(IF(ABS(AF92-$X92)>$AZ$132,\"-\",$U122),\"-\")","v":"-"},"-","-","-","-","-","-","-","-","-","-","-","-","-","-","-","-","-",null,0.67923291800017083,null,null,"-","-","-","-","-","-","-","-","-","-","-","-","-","-","-","-","-",{"$f":"AP122","v":"-"},"-","-","-","-","-","-","-",null,11.417958734073796,25.289938525147647,null,"12:30:00",{"$f":"CF121+$S$48","v":7.5},27.286959273849099,7.7441471355322138,"P","",null,"-",27.286959273849099,"-",27.286959273849099,"-",27.286959273849099,"-",27.286959273849099,"-",27.286959273849099,"-",27.286959273849099,"-",27.286959273849099,"-",27.286959273849099,"-",27.286959273849099,"-",27.286959273849099,"-",27.286959273849099,"-",27.286959273849099,"-",27.286959273849099,"-",27.286959273849099,"-",27.286959273849099,"-",27.286959273849099,"-",27.286959273849099,"-",27.286959273849099,"-",27.286959273849099,"-",27.286959273849099,"-",27.286959273849099,"-",27.286959273849099,"-",27.286959273849099,"-",27.286959273849099,"-",27.286959273849099,"-",27.286959273849099]
[null,"20:30:00",{"$f":"C122+$S$48","v":127.5},93.216399576699544,-43.194606217510007,96.893034782279273,-41.4053633641715,105.91405473097396,-36.010435748993061,115.71364614489528,-28.291093357836079,123.98901442722098,-20.12937558770933,129.8880895750888,-13.454953612426442,132.20984941626784,-10.668410018814098,null,null,null,"13:00:00",15,15.33520106455846,26.11796117313305,{"$f":"IFERROR(IF(ABS(Y93-$X93)>$AZ$132,\"-\",$U123),\"-\")","v":"-"},"-","-","-","-","-","-","-","-","-","-","-","-","-","-","-","-","-","-","-","-","-","-","-","-",null,0.86260791754675381,null,null,"-","-",{"$f":"AA123","v":"-"},{"$f":"AB123","v":"-"},{"$f":"AC123","v":"-"},{"$f":"AD123","v":"-"},{"$f":"AE123","v":"-"},{"$f":"AF123","v":"-"},{"$f":"AG123","v":"-"},{"$f":"AH123","v":"-"},{"$f":"AI123","v":"-"},{"$f":"AJ123","v":"-"},{"$f":"AK123","v":"-"},{"$f":"AL123","v":"-"},{"$f":"AM123","v":"-"},{"$f":"AN123","v":"-"},{"$f":"AO123","v":"-"},"-","-","-","-","-","-","-","-",null,15.143426852213059,24.633947774758685,null,"12:45:00",{"$f":"CF122+$S$48","v":11.25},26.797194091133221,11.56772565822684,"Q","",null,"-",26.797194091133221,"-",26.797194091133221,"-",26.797194091133221,"-",26.797194091133221,"-",26.797194091133221,"-",26.797194091133221,"-",26.797194091133221,"-",26.797194091133221,"-",26.797194091133221,"-",26.797194091133221,"-",26.797194091133221,"-",26.797194091133221,"-",26.797194091133221,"-",26.797194091133221,"-",26.797194091133221,"-",26.797194091133221,"-",26.797194091133221,"-",26.797194091133221,"-",26.797194091133221,"-",26.797194091133221,"-",26.797194091133221,"-",26.797194091133221,"-",26.797194091133221,"-",26.797194091133221,"-",26.797194091133221,"-",26.797194091133221]
[null,"20:45:00",{"$f":"C123+$S$48","v":131.25},95.79731828728363,-46.104675602281048,99.63664605076552,-44.294161676168358,108.93690654437533,-38.795658078889971,118.82755075206889,-30.885904817638213,127.00489838220453,-22.506151619132478,132.74272723099944,-15.647667507962961,134.98201107272905,-12.782704317828534,null,null,null,"13:15:00",{"$f":"V123+$S$48","v":18.75},19.031158068899224,25.255353255586297,"-","-","-","-","-","-","-","-","-","-","-","-","-","-","-","-","-","-","-","-","-","-","-","-","-",null,1.038603445233214,null,null,"-","-","-","-","-","-","-","-","-","-","-","-","-","-","-","-","-","-","-","-","-","-","-","-","-",null,18.803601153057873,23.800327964408542,null,"13:00:00",15,26.11796117313305,15.33520106455846,"R","",null,"-",26.11796117313305,"-",26.11796117313305,"-",26.11796117313305,"-",26.11796117313305,"-",26.11796117313305,"-",26.11796117313305,"-",26.11796117313305,"-",26.11796117313305,"-",26.11796117313305,"-",26.11796117313305,"-",26.11796117313305,"-",26.11796117313305,"-",26.11796117313305,"-",26.11796117313305,"-",26.11796117313305,"-",26.11796117313305,"-",26.11796117313305,"-",26.11796117313305,"-",26.11796117313305,"-",26.11796117313305,"-",26.11796117313305,"-",26.11796117313305,"-",26.11796117313305,"-",26.11796117313305,"-",26.11796117313305,"-",26.11796117313305]
[null,"21:00:00",135,98.550240792004203,-49.000937965900576,102.56758441022066,-47.158677649055491,112.156002813321,-41.529205464447088,122.11217049271359,-33.402076100850877,130.15645426471281,-24.788338205967786,135.70773010534211,-17.739744632480232,137.85536553544054,-14.795322413948167,null,null,null,"13:30:00",{"$f":"V124+$S$48","v":22.5},22.642633385457739,24.216749810353082,"-","-","-","-","-","-","-","-","-","-","-","-","-","-","-","-","-","-","-","-","-","-","-","-","-",null,1.2062115075407682,null,null,"-","-","-","-","-","-","-","-","-","-","-","-","-","-","-","-","-","-","-","-","-","-","-","-","-",null,22.386452574519581,22.79587332520358,null,"13:15:00",{"$f":"CF124+$S$48","v":18.75},25.255353255586297,19.031158068899224,"S","",null,"-",25.255353255586297,"-",25.255353255586297,"-",25.255353255586297,"-",25.255353255586297,"-",25.255353255586297,"-",25.255353255586297,"-",25.255353255586297,"-",25.255353255586297,"-",25.255353255586297,"-",25.255353255586297,"-",25.255353255586297,"-",25.255353255586297,"-",25.255353255586297,"-",25.255353255586297,"-",25.255353255586297,"-",25.255353255586297,"-",25.255353255586297,"-",25.255353255586297,"-",25.255353255586297,"-",25.255353255586297,"-",25.255353255586297,"-",25.255353255586297,"-",25.255353255586297,"-",25.255353255586297,"-",25.255353255586297,"-",25.255353255586297]
[null,"21:15:00",{"$f":"C125+$S$48","v":138.75},{"$f":"DEGREES(ACOS((-SIN(RADIANS(E$46))*COS(RADIANS($C$4))+COS(RADIANS(E$46))*SIN(RADIANS($C$4))*COS(RADIANS($C126)))/COS(RADIANS(E126))))","v":101.52036289784239},-51.875423818876875,{"$f":"DEGREES(ACOS((-SIN(RADIANS(G$46))*COS(RADIANS($C$4))+COS(RADIANS(G$46))*SIN(RADIANS($C$4))*COS(RADIANS($C126)))/COS(RADIANS(G126))))","v":105.73068221100536},-49.989313488509666,115.60733680664636,-44.198586341542281,125.58902665965232,-35.826635078770153,133.45482948484846,-26.964538016677579,138.78898359425722,-19.721554734809978,140.83419887636896,-16.697388340565013,null,null,null,"13:45:00",{"$f":"V125+$S$48","v":26.25},26.159340775800224,23.010538302812314,"-","-","-","-","-","-","-","-","-","-","-","-","-","-","-","-","-","-","-","-","-","-","-","-","-",null,1.3647092314686269,null,null,"-","-","-","-","-","-","-","-","-","-","-","-","-","-","-","-","-","-","-","-","-","-","-","-","-",null,25.882318478633962,21.628337368656844,null,"13:30:00",{"$f":"CF125+$S$48","v":22.5},24.216749810353082,22.642633385457739,"T","",null,"-",24.216749810353082,"-",24.216749810353082,"-",24.216749810353082,"-",24.216749810353082,"-",24.216749810353082,"-",24.216749810353082,"-",24.216749810353082,"-",24.216749810353082,"-",24.216749810353082,"-",24.216749810353082,"-",24.216749810353082,"-",24.216749810353082,"-",24.216749810353082,"-",24.216749810353082,"-",24.216749810353082,"-",24.216749810353082,"-",24.216749810353082,"-",24.216749810353082,"-",24.216749810353082,"-",24.216749810353082,"-",24.216749810353082,"-",24.216749810353082,"-",24.216749810353082,"-",24.216749810353082,"-",24.216749810353082,"-",24.216749810353082]
[null,"21:30:00",{"$f":"C126+$S$48","v":142.5},{"$f":"DEGREES(ACOS((-SIN(RADIANS(E$46))*COS(RADIANS($C$4))+COS(RADIANS(E$46))*SIN(RADIANS($C$4))*COS(RADIANS($C127)))/COS(RADIANS(E127))))","v":104.76521350560009},-54.718165965957638,{"$f":"DEGREES(ACOS((-SIN(RADIANS(G$46))*COS(RADIANS($C$4))+COS(RADIANS(G$46))*SIN(RADIANS($C$4))*COS(RADIANS($C127)))/COS(RADIANS(G127))))","v":109.18140747330848},-52.774149319180694,119.33186473337112,-46.788866179052889,129.28002582247342,-38.144873649286026,136.91005533783792,-29.022379282999324,141.99109127085231,-21.582931012757083,143.92156559251382,-18.479625393320948,null,null,null,"14:00:00",30,29.573724078385201,21.645829071343687,"-","-","-","-","-","-","-","-","-","-","-","-","-","-","-","-","-","-","-","-","-","-","-","-","-",null,1.5136462933417363,null,null,"-","-","-","-","-","-","-","-","-","-","-","-","-","-","-","-","-","-","-","-","-","-","-","-","-",null,29.283972356834614,20.306180453690455,null,"13:45:00",{"$f":"CF126+$S$48","v":26.25},23.010538302812314,26.159340775800224,"U","",null,"-",23.010538302812314,"-",23.010538302812314,"-",23.010538302812314,"-",23.010538302812314,"-",23.010538302812314,"-",23.010538302812314,"-",23.010538302812314,"-",23.010538302812314,"-",23.010538302812314,"-",23.010538302812314,"-",23.010538302812314,"-",23.010538302812314,"-",23.010538302812314,"-",23.010538302812314,"-",23.010538302812314,"-",23.010538302812314,"-",23.010538302812314,"-",23.010538302812314,"-",23.010538302812314,"-",23.010538302812314,"-",23.010538302812314,"-",23.010538302812314,"-",23.010538302812314,"-",23.010538302812314,"-",23.010538302812314,"-",23.010538302812314]
[null,"21:45:00",{"$f":"C127+$S$48","v":146.25},{"$f":"DEGREES(ACOS((-SIN(RADIANS(E$46))*COS(RADIANS($C$4))+COS(RADIANS(E$46))*SIN(RADIANS($C$4))*COS(RADIANS($C128)))/COS(RADIANS(E128))))","v":108.35888153048481},-57.516356360597797,{"$f":"DEGREES(ACOS((-SIN(RADIANS(G$46))*COS(RADIANS($C$4))+COS(RADIANS(G$46))*SIN(RADIANS($C$4))*COS(RADIANS($C128)))/COS(RADIANS(G128))))","v":112.98869508261001},-55.498089963475159,123.37553683269626,-49.282099203797316,133.2066037740305,-40.340196069921596,140.53041836444135,-30.948558921195605,145.31699268880476,-23.313259764941648,147.11898811368926,-20.132449991336753,null,null,null,"14:15:00",{"$f":"V127+$S$48","v":33.75},32.880864181573145,20.132182778001951,"-","-","-","-","-","-","-","-","-","-","-","-","-","-","-","-","-","-","-","-","-","-","-","-","-",null,1.6528181644447528,null,null,"-","-","-","-","-","-","-","-","-","-","-","-","-","-","-","-","-","-","-","-","-","-","-","-","-",null,32.586566732076356,18.838325660249811,null,"14:00:00",30,21.645829071343687,29.573724078385201,"V","",null,"-",21.645829071343687,"-",21.645829071343687,"-",21.645829071343687,"-",21.645829071343687,"-",21.645829071343687,"-",21.645829071343687,"-",21.645829071343687,"-",21.645829071343687,"-",21.645829071343687,"-",21.645829071343687,"-",21.645829071343687,"-",21.645829071343687,"-",21.645829071343687,"-",21.645829071343687,"-",21.645829071343687,"-",21.645829071343687,"-",21.645829071343687,"-",21.645829071343687,"-",21.645829071343687,"-",21.645829071343687,"-",21.645829071343687,"-",21.645829071343687,"-",21.645829071343687,"-",21.645829071343687,"-",21.645829071343687,"-",21.645829071343687]
[null,"22:00:00",150,{"$f":"DEGREES(ACOS((-SIN(RADIANS(E$46))*COS(RADIANS($C$4))+COS(RADIANS(E$46))*SIN(RADIANS($C$4))*COS(RADIANS($C129)))/COS(RADIANS(E129))))","v":112.39759844917175},-60.253116476628584,{"$f":"DEGREES(ACOS((-SIN(RADIANS(G$46))*COS(RADIANS($C$4))+COS(RADIANS(G$46))*SIN(RADIANS($C$4))*COS(RADIANS($C129)))/COS(RADIANS(G129))))","v":117.23813499733947},-58.141697378169567,127.78860733735266,-51.65669867789574,137.38842030258579,-42.394041196018854,144.32168982470643,-32.728954998875466,148.76754409303547,-24.901615907685159,150.42614028295543,-21.646102458572397,null,null,null,"14:30:00",{"$f":"V128+$S$48","v":37.5},36.078275799738869,18.479364613557198,"-","-","-","-","-","-","-","-","-","-","-","-","-","-","-","-","-","-","-","-","-","-","-","-","-",null,1.7822304532345541,null,null,"-","-","-","-","-","-","-","-","-","-","-","-","-","-","-","-","-","-","-","-","-","-","-","-","-",null,35.787477482558735,17.233935617375867,null,"14:15:00",{"$f":"CF128+$S$48","v":33.75},20.132182778001951,32.880864181573145,"W","",null,"-",20.132182778001951,"-",20.132182778001951,"-",20.132182778001951,"-",20.132182778001951,"-",20.132182778001951,"-",20.132182778001951,"-",20.132182778001951,"-",20.132182778001951,"-",20.132182778001951,"-",20.132182778001951,"-",20.132182778001951,"-",20.132182778001951,"-",20.132182778001951,"-",20.132182778001951,"-",20.132182778001951,"-",20.132182778001951,"-",20.132182778001951,"-",20.132182778001951,"-",20.132182778001951,"-",20.132182778001951,"-",20.132182778001951,"-",20.132182778001951,"-",20.132182778001951,"-",20.132182778001951,"-",20.132182778001951,"-",20.132182778001951]
[null,null,null,null,null,null,null,null,null,null,null,null,null,null,null,null,null,null,null,null,"14:45:00",{"$f":"V129+$S$48","v":41.25},39.165632691432215,16.697134160322644,"-","-","-","-","-","-","-","-","-","-","-","-","-","-","-","-","-","-","-","-","-","-","-","-","-",null,1.9020592449729889,"LIMITE",null,"-","-","-","-","-","-","-","-","-","-","-","-","-","-","-","-","-","-","-","-","-","-","-","-","-",null,38.886081064558283,15.502218668540674,null,"14:30:00",{"$f":"CF129+$S$48","v":37.5},18.479364613557198,36.078275799738869,"X","",null,"-",18.479364613557198,"-",18.479364613557198,"-",18.479364613557198,"-",18.479364613557198,"-",18.479364613557198,"-",18.479364613557198,"-",18.479364613557198,"-",18.479364613557198,"-",18.479364613557198,"-",18.479364613557198,"-",18.479364613557198,"-",18.479364613557198,"-",18.479364613557198,"-",18.479364613557198,"-",18.479364613557198,"-",18.479364613557198,"-",18.479364613557198,"-",18.479364613557198,"-",18.479364613557198,"-",18.479364613557198,"-",18.479364613557198,"-",18.479364613557198,"-",18.479364613557198,"-",18.479364613557198,"-",18.479364613557198,"-",18.479364613557198]
[null,null,null,null,null,null,null,null,null,null,null,null,null,null,null,null,null,null,null,null,"15:00:00",45,42.144457182061466,14.795074915349655,"-","-","-","-","-","-","-","-","-","-","-","-","-","-","-","-","-","-","-","-","-","-","-","-","-",null,null,null,null,"-","-","-","-","-","-","-","-","-","-","-","-","-","-","-","-","-","-","-","-","-","-","-","-","-",null,41.88349477943585,13.652268663015196,null,"14:45:00",{"$f":"CF130+$S$48","v":41.25},16.697134160322644,39.165632691432215,"Y","",null,"-",16.697134160322644,"-",16.697134160322644,"-",16.697134160322644,"-",16.697134160322644,"-",16.697134160322644,"-",16.697134160322644,"-",16.697134160322644,"-",16.697134160322644,"-",16.697134160322644,"-",16.697134160322644,"-",16.697134160322644,"-",16.697134160322644,"-",16.697134160322644,"-",16.697134160322644,"-",16.697134160322644,"-",16.697134160322644,"-",16.697134160322644,"-",16.697134160322644,"-",16.697134160322644,"-",16.697134160322644,"-",16.697134160322644,"-",16.697134160322644,"-",16.697134160322644,"-",16.697134160322644,"-",16.697134160322644,"-",16.697134160322644]
[null,null,null,null,null,null,null,null,null,null,null,null,null,null,null,null,null,null,null,null,null,null,null,null,null,null,null,null,null,null,null,null,null,null,null,null,null,null,null,null,null,null,null,null,null,null,null,null,null,null,{"$f":"MAX(AY107:AY130)","v":1.9020592449729889},{"$f":"AY132/2.5","v":0.76082369798919558},null,null,null,null,null,null,null,null,null,null,null,null,null,null,null,null,null,null,null,null,null,null,null,null,null,null,null,null,null,null,"15:00:00",45,14.795074915349655,42.144457182061466,"Z","",null,"-",14.795074915349655,"-",14.795074915349655,"-",14.795074915349655,"-",14.795074915349655,"-",14.795074915349655,"-",14.795074915349655,"-",14.795074915349655,"-",14.795074915349655,"-",14.795074915349655,"-",14.795074915349655,"-",14.795074915349655,"-",14.795074915349655,"-",14.795074915349655,"-",14.795074915349655,"-",14.795074915349655,"-",14.795074915349655,"-",14.795074915349655,"-",14.795074915349655,"-",14.795074915349655,"-",14.795074915349655,"-",14.795074915349655,"-",14.795074915349655,"-",14.795074915349655,"-",14.795074915349655,"-",14.795074915349655,"-",14.795074915349655]
[]
[]
[]
[null,null,null,null,null,null,null,null,null,null,null,null,null,null,null,null,null,null,null,null,null,null,null,"HORAS DE CORTE",{"$f":"IF(AND(Y107=\"-\",Y108=\"-\",Y109=\"-\",Y110=\"-\",Y111=\"-\",Y112=\"-\",Y113=\"-\",Y114=\"-\",Y115=\"-\",Y116=\"-\",Y117=\"-\",Y118=\"-\",Y119=\"-\",Y120=\"-\",Y121=\"-\",Y122=\"-\",Y123=\"-\",Y124=\"-\",Y125=\"-\",Y126=\"-\",Y127=\"-\",Y128=\"-\",Y129=\"-\",Y130=\"-\",Y131=\"-\"),\"\",IF(MIN(Y107:Y131)>$AY$132,\"\",MIN(Y107:Y131)))","v":""},"","","","","","","","","","","","","","","","","","","","","","","","","",{"$f":"IF(AND(#REF!=\"-\",#REF!=\"-\",#REF!=\"-\",#REF!=\"-\",#REF!=\"-\",#REF!=\"-\",#REF!=\"-\",#REF!=\"-\",#REF!=\"-\",#REF!=\"-\",#REF!=\"-\",#REF!=\"-\",#REF!=\"-\",#REF!=\"-\",#REF!=\"-\",#REF!=\"-\",#REF!=\"-\",#REF!=\"-\",#REF!=\"-\",#REF!=\"-\",#REF!=\"-\",#REF!=\"-\",#REF!=\"-\",#REF!=\"-\",#REF!=\"-\"),\"\",IF(MIN(#REF!)>$AY$132,\"\",MIN(#REF!)))","v":{"$error":"#REF!"}},null,null,{"$f":"IF(BB106=\"\",\"-\",BB106)","v":"-"},{"$f":"IF(BC106=\"\",\"-\",BC106)","v":"-"},{"$f":"IF(BD106=\"\",\"-\",BD106)","v":"-"},{"$f":"IF(BE106=\"\",\"-\",BE106)","v":"-"},{"$f":"IF(BF106=\"\",\"-\",BF106)","v":"-"},"-","-","-","-","-","-","-","-","-","-","-","-","-","-","-","-","-","-","-","-"]
[null,null,null,"month",12,null,null,null,null,null,null,null,null,null,null,null,null,null,null,null,null,null,null,"fachada este",{"$f":"IFERROR(LOOKUP(Y136,Y107:Y131,$W$107:$W$131),\"-\")","v":"-"},{"$f":"IFERROR(LOOKUP(Z136,Z107:Z131,$W$107:$W$131),\"-\")","v":"-"},{"$f":"IFERROR(LOOKUP(AA136,AA107:AA131,$W$107:$W$131),\"-\")","v":"-"},"-","-","-","-","-","-","-","-","-","-","-","-","-","-","-","-","-","-","-","-","-","-",null,"fachada oeste",null,null,{"$f":"IF(BB136<>\"-\",LOOKUP(BB136,Y107:Y131,$W$107:$W$131),\"-\")","v":"-"},{"$f":"IF(BC136<>\"-\",LOOKUP(BC136,Z107:Z131,$W$107:$W$131),\"-\")","v":"-"},{"$f":"IF(BD136<>\"-\",LOOKUP(BD136,AA107:AA131,$W$107:$W$131),\"-\")","v":"-"},{"$f":"IF(BE136<>\"-\",LOOKUP(BE136,AB107:AB131,$W$107:$W$131),\"-\")","v":"-"},{"$f":"IF(BF136<>\"-\",LOOKUP(BF136,AC107:AC131,$W$107:$W$131),\"-\")","v":"-"},"-","-","-","-","-","-","-","-","-","-","-","-","-","-","-","-","-","-","-","-",null,null,null,null,null,null,null,null,null,null,"diferencia menor",{"$f":"IF(AND(CL108=\"-\",CL109=\"-\",CL110=\"-\",CL111=\"-\",CL112=\"-\",CL113=\"-\",CL114=\"-\",CL115=\"-\",CL116=\"-\",CL117=\"-\",CL118=\"-\",CL119=\"-\",CL120=\"-\",CL121=\"-\",CL122=\"-\",CL123=\"-\",CL124=\"-\",CL125=\"-\",CL126=\"-\",CL127=\"-\",CL128=\"-\",CL129=\"-\",CL130=\"-\",CL131=\"-\",CL132=\"-\"),\"\",MIN(CL108:CL132))","v":""},null,{"$f":"IF(AND(CN108=\"-\",CN109=\"-\",CN110=\"-\",CN111=\"-\",CN112=\"-\",CN113=\"-\",CN114=\"-\",CN115=\"-\",CN116=\"-\",CN117=\"-\",CN118=\"-\",CN119=\"-\",CN120=\"-\",CN121=\"-\",CN122=\"-\",CN123=\"-\",CN124=\"-\",CN125=\"-\",CN126=\"-\",CN127=\"-\",CN128=\"-\",CN129=\"-\",CN130=\"-\",CN131=\"-\",CN132=\"-\"),\"\",MIN(CN108:CN132))","v":""},null,{"$f":"IF(AND(CP108=\"-\",CP109=\"-\",CP110=\"-\",CP111=\"-\",CP112=\"-\",CP113=\"-\",CP114=\"-\",CP115=\"-\",CP116=\"-\",CP117=\"-\",CP118=\"-\",CP119=\"-\",CP120=\"-\",CP121=\"-\",CP122=\"-\",CP123=\"-\",CP124=\"-\",CP125=\"-\",CP126=\"-\",CP127=\"-\",CP128=\"-\",CP129=\"-\",CP130=\"-\",CP131=\"-\",CP132=\"-\"),\"\",MIN(CP108:CP132))","v":""},null,{"$f":"IF(AND(CR108=\"-\",CR109=\"-\",CR110=\"-\",CR111=\"-\",CR112=\"-\",CR113=\"-\",CR114=\"-\",CR115=\"-\",CR116=\"-\",CR117=\"-\",CR118=\"-\",CR119=\"-\",CR120=\"-\",CR121=\"-\",CR122=\"-\",CR123=\"-\",CR124=\"-\",CR125=\"-\",CR126=\"-\",CR127=\"-\",CR128=\"-\",CR129=\"-\",CR130=\"-\",CR131=\"-\",CR132=\"-\"),\"\",MIN(CR108:CR132))","v":""},null,{"$f":"IF(AND(CT108=\"-\",CT109=\"-\",CT110=\"-\",CT111=\"-\",CT112=\"-\",CT113=\"-\",CT114=\"-\",CT115=\"-\",CT116=\"-\",CT117=\"-\",CT118=\"-\",CT119=\"-\",CT120=\"-\",CT121=\"-\",CT122=\"-\",CT123=\"-\",CT124=\"-\",CT125=\"-\",CT126=\"-\",CT127=\"-\",CT128=\"-\",CT129=\"-\",CT130=\"-\",CT131=\"-\",CT132=\"-\"),\"\",MIN(CT108:CT132))","v":""},null,{"$f":"IF(AND(CV108=\"-\",CV109=\"-\",CV110=\"-\",CV111=\"-\",CV112=\"-\",CV113=\"-\",CV114=\"-\",CV115=\"-\",CV116=\"-\",CV117=\"-\",CV118=\"-\",CV119=\"-\",CV120=\"-\",CV121=\"-\",CV122=\"-\",CV123=\"-\",CV124=\"-\",CV125=\"-\",CV126=\"-\",CV127=\"-\",CV128=\"-\",CV129=\"-\",CV130=\"-\",CV131=\"-\",CV132=\"-\"),\"\",MIN(CV108:CV132))","v":""},null,{"$f":"IF(AND(CX108=\"-\",CX109=\"-\",CX110=\"-\",CX111=\"-\",CX112=\"-\",CX113=\"-\",CX114=\"-\",CX115=\"-\",CX116=\"-\",CX117=\"-\",CX118=\"-\",CX119=\"-\",CX120=\"-\",CX121=\"-\",CX122=\"-\",CX123=\"-\",CX124=\"-\",CX125=\"-\",CX126=\"-\",CX127=\"-\",CX128=\"-\",CX129=\"-\",CX130=\"-\",CX131=\"-\",CX132=\"-\"),\"\",MIN(CX108:CX132))","v":""},null,{"$f":"IF(AND(CZ108=\"-\",CZ109=\"-\",CZ110=\"-\",CZ111=\"-\",CZ112=\"-\",CZ113=\"-\",CZ114=\"-\",CZ115=\"-\",CZ116=\"-\",CZ117=\"-\",CZ118=\"-\",CZ119=\"-\",CZ120=\"-\",CZ121=\"-\",CZ122=\"-\",CZ123=\"-\",CZ124=\"-\",CZ125=\"-\",CZ126=\"-\",CZ127=\"-\",CZ128=\"-\",CZ129=\"-\",CZ130=\"-\",CZ131=\"-\",CZ132=\"-\"),\"\",MIN(CZ108:CZ132))","v":""},null,{"$f":"IF(AND(DB108=\"-\",DB109=\"-\",DB110=\"-\",DB111=\"-\",DB112=\"-\",DB113=\"-\",DB114=\"-\",DB115=\"-\",DB116=\"-\",DB117=\"-\",DB118=\"-\",DB119=\"-\",DB120=\"-\",DB121=\"-\",DB122=\"-\",DB123=\"-\",DB124=\"-\",DB125=\"-\",DB126=\"-\",DB127=\"-\",DB128=\"-\",DB129=\"-\",DB130=\"-\",DB131=\"-\",DB132=\"-\"),\"\",MIN(DB108:DB132))","v":""},null,{"$f":"IF(AND(DD108=\"-\",DD109=\"-\",DD110=\"-\",DD111=\"-\",DD112=\"-\",DD113=\"-\",DD114=\"-\",DD115=\"-\",DD116=\"-\",DD117=\"-\",DD118=\"-\",DD119=\"-\",DD120=\"-\",DD121=\"-\",DD122=\"-\",DD123=\"-\",DD124=\"-\",DD125=\"-\",DD126=\"-\",DD127=\"-\",DD128=\"-\",DD129=\"-\",DD130=\"-\",DD131=\"-\",DD132=\"-\"),\"\",MIN(DD108:DD132))","v":""},null,{"$f":"IF(AND(DF108=\"-\",DF109=\"-\",DF110=\"-\",DF111=\"-\",DF112=\"-\",DF113=\"-\",DF114=\"-\",DF115=\"-\",DF116=\"-\",DF117=\"-\",DF118=\"-\",DF119=\"-\",DF120=\"-\",DF121=\"-\",DF122=\"-\",DF123=\"-\",DF124=\"-\",DF125=\"-\",DF126=\"-\",DF127=\"-\",DF128=\"-\",DF129=\"-\",DF130=\"-\",DF131=\"-\",DF132=\"-\"),\"\",MIN(DF108:DF132))","v":""},null,{"$f":"IF(AND(DH108=\"-\",DH109=\"-\",DH110=\"-\",DH111=\"-\",DH112=\"-\",DH113=\"-\",DH114=\"-\",DH115=\"-\",DH116=\"-\",DH117=\"-\",DH118=\"-\",DH119=\"-\",DH120=\"-\",DH121=\"-\",DH122=\"-\",DH123=\"-\",DH124=\"-\",DH125=\"-\",DH126=\"-\",DH127=\"-\",DH128=\"-\",DH129=\"-\",DH130=\"-\",DH131=\"-\",DH132=\"-\"),\"\",MIN(DH108:DH132))","v":""},null,{"$f":"IF(AND(DJ108=\"-\",DJ109=\"-\",DJ110=\"-\",DJ111=\"-\",DJ112=\"-\",DJ113=\"-\",DJ114=\"-\",DJ115=\"-\",DJ116=\"-\",DJ117=\"-\",DJ118=\"-\",DJ119=\"-\",DJ120=\"-\",DJ121=\"-\",DJ122=\"-\",DJ123=\"-\",DJ124=\"-\",DJ125=\"-\",DJ126=\"-\",DJ127=\"-\",DJ128=\"-\",DJ129=\"-\",DJ130=\"-\",DJ131=\"-\",DJ132=\"-\"),\"\",MIN(DJ108:DJ132))","v":""},null,{"$f":"IF(AND(DL108=\"-\",DL109=\"-\",DL110=\"-\",DL111=\"-\",DL112=\"-\",DL113=\"-\",DL114=\"-\",DL115=\"-\",DL116=\"-\",DL117=\"-\",DL118=\"-\",DL119=\"-\",DL120=\"-\",DL121=\"-\",DL122=\"-\",DL123=\"-\",DL124=\"-\",DL125=\"-\",DL126=\"-\",DL127=\"-\",DL128=\"-\",DL129=\"-\",DL130=\"-\",DL131=\"-\",DL132=\"-\"),\"\",MIN(DL108:DL132))","v":""},null,{"$f":"IF(AND(DN108=\"-\",DN109=\"-\",DN110=\"-\",DN111=\"-\",DN112=\"-\",DN113=\"-\",DN114=\"-\",DN115=\"-\",DN116=\"-\",DN117=\"-\",DN118=\"-\",DN119=\"-\",DN120=\"-\",DN121=\"-\",DN122=\"-\",DN123=\"-\",DN124=\"-\",DN125=\"-\",DN126=\"-\",DN127=\"-\",DN128=\"-\",DN129=\"-\",DN130=\"-\",DN131=\"-\",DN132=\"-\"),\"\",MIN(DN108:DN132))","v":""},null,{"$f":"IF(AND(DP108=\"-\",DP109=\"-\",DP110=\"-\",DP111=\"-\",DP112=\"-\",DP113=\"-\",DP114=\"-\",DP115=\"-\",DP116=\"-\",DP117=\"-\",DP118=\"-\",DP119=\"-\",DP120=\"-\",DP121=\"-\",DP122=\"-\",DP123=\"-\",DP124=\"-\",DP125=\"-\",DP126=\"-\",DP127=\"-\",DP128=\"-\",DP129=\"-\",DP130=\"-\",DP131=\"-\",DP132=\"-\"),\"\",MIN(DP108:DP132))","v":""},null,{"$f":"IF(AND(DR108=\"-\",DR109=\"-\",DR110=\"-\",DR111=\"-\",DR112=\"-\",DR113=\"-\",DR114=\"-\",DR115=\"-\",DR116=\"-\",DR117=\"-\",DR118=\"-\",DR119=\"-\",DR120=\"-\",DR121=\"-\",DR122=\"-\",DR123=\"-\",DR124=\"-\",DR125=\"-\",DR126=\"-\",DR127=\"-\",DR128=\"-\",DR129=\"-\",DR130=\"-\",DR131=\"-\",DR132=\"-\"),\"\",MIN(DR108:DR132))","v":""},null,{"$f":"IF(AND(DT108=\"-\",DT109=\"-\",DT110=\"-\",DT111=\"-\",DT112=\"-\",DT113=\"-\",DT114=\"-\",DT115=\"-\",DT116=\"-\",DT117=\"-\",DT118=\"-\",DT119=\"-\",DT120=\"-\",DT121=\"-\",DT122=\"-\",DT123=\"-\",DT124=\"-\",DT125=\"-\",DT126=\"-\",DT127=\"-\",DT128=\"-\",DT129=\"-\",DT130=\"-\",DT131=\"-\",DT132=\"-\"),\"\",MIN(DT108:DT132))","v":""},null,{"$f":"IF(AND(DV108=\"-\",DV109=\"-\",DV110=\"-\",DV111=\"-\",DV112=\"-\",DV113=\"-\",DV114=\"-\",DV115=\"-\",DV116=\"-\",DV117=\"-\",DV118=\"-\",DV119=\"-\",DV120=\"-\",DV121=\"-\",DV122=\"-\",DV123=\"-\",DV124=\"-\",DV125=\"-\",DV126=\"-\",DV127=\"-\",DV128=\"-\",DV129=\"-\",DV130=\"-\",DV131=\"-\",DV132=\"-\"),\"\",MIN(DV108:DV132))","v":""},null,{"$f":"IF(AND(DX108=\"-\",DX109=\"-\",DX110=\"-\",DX111=\"-\",DX112=\"-\",DX113=\"-\",DX114=\"-\",DX115=\"-\",DX116=\"-\",DX117=\"-\",DX118=\"-\",DX119=\"-\",DX120=\"-\",DX121=\"-\",DX122=\"-\",DX123=\"-\",DX124=\"-\",DX125=\"-\",DX126=\"-\",DX127=\"-\",DX128=\"-\",DX129=\"-\",DX130=\"-\",DX131=\"-\",DX132=\"-\"),\"\",MIN(DX108:DX132))","v":""},null,{"$f":"IF(AND(DZ108=\"-\",DZ109=\"-\",DZ110=\"-\",DZ111=\"-\",DZ112=\"-\",DZ113=\"-\",DZ114=\"-\",DZ115=\"-\",DZ116=\"-\",DZ117=\"-\",DZ118=\"-\",DZ119=\"-\",DZ120=\"-\",DZ121=\"-\",DZ122=\"-\",DZ123=\"-\",DZ124=\"-\",DZ125=\"-\",DZ126=\"-\",DZ127=\"-\",DZ128=\"-\",DZ129=\"-\",DZ130=\"-\",DZ131=\"-\",DZ132=\"-\"),\"\",MIN(DZ108:DZ132))","v":""},null,{"$f":"IF(AND(EB108=\"-\",EB109=\"-\",EB110=\"-\",EB111=\"-\",EB112=\"-\",EB113=\"-\",EB114=\"-\",EB115=\"-\",EB116=\"-\",EB117=\"-\",EB118=\"-\",EB119=\"-\",EB120=\"-\",EB121=\"-\",EB122=\"-\",EB123=\"-\",EB124=\"-\",EB125=\"-\",EB126=\"-\",EB127=\"-\",EB128=\"-\",EB129=\"-\",EB130=\"-\",EB131=\"-\",EB132=\"-\"),\"\",MIN(EB108:EB132))","v":""},null,{"$f":"IF(AND(ED108=\"-\",ED109=\"-\",ED110=\"-\",ED111=\"-\",ED112=\"-\",ED113=\"-\",ED114=\"-\",ED115=\"-\",ED116=\"-\",ED117=\"-\",ED118=\"-\",ED119=\"-\",ED120=\"-\",ED121=\"-\",ED122=\"-\",ED123=\"-\",ED124=\"-\",ED125=\"-\",ED126=\"-\",ED127=\"-\",ED128=\"-\",ED129=\"-\",ED130=\"-\",ED131=\"-\",ED132=\"-\"),\"\",MIN(ED108:ED132))","v":""},null,{"$f":"IF(AND(EF108=\"-\",EF109=\"-\",EF110=\"-\",EF111=\"-\",EF112=\"-\",EF113=\"-\",EF114=\"-\",EF115=\"-\",EF116=\"-\",EF117=\"-\",EF118=\"-\",EF119=\"-\",EF120=\"-\",EF121=\"-\",EF122=\"-\",EF123=\"-\",EF124=\"-\",EF125=\"-\",EF126=\"-\",EF127=\"-\",EF128=\"-\",EF129=\"-\",EF130=\"-\",EF131=\"-\",EF132=\"-\"),\"\",MIN(EF108:EF132))","v":""},null,{"$f":"IF(AND(EH108=\"-\",EH109=\"-\",EH110=\"-\",EH111=\"-\",EH112=\"-\",EH113=\"-\",EH114=\"-\",EH115=\"-\",EH116=\"-\",EH117=\"-\",EH118=\"-\",EH119=\"-\",EH120=\"-\",EH121=\"-\",EH122=\"-\",EH123=\"-\",EH124=\"-\",EH125=\"-\",EH126=\"-\",EH127=\"-\",EH128=\"-\",EH129=\"-\",EH130=\"-\",EH131=\"-\",EH132=\"-\"),\"\",MIN(EH108:EH132))","v":""},null,{"$f":"IF(AND(EJ108=\"-\",EJ109=\"-\",EJ110=\"-\",EJ111=\"-\",EJ112=\"-\",EJ113=\"-\",EJ114=\"-\",EJ115=\"-\",EJ116=\"-\",EJ117=\"-\",EJ118=\"-\",EJ119=\"-\",EJ120=\"-\",EJ121=\"-\",EJ122=\"-\",EJ123=\"-\",EJ124=\"-\",EJ125=\"-\",EJ126=\"-\",EJ127=\"-\",EJ128=\"-\",EJ129=\"-\",EJ130=\"-\",EJ131=\"-\",EJ132=\"-\"),\"\",MIN(EJ108:EJ132))","v":""}]
["Día Juliano",{"$f":"DATEDIF(A141,A143,\"d\")","v":355},null,"day",21,null,null,null,null,null,null,null,null,null,null,null,null,null,null,null,null,{"$f":"IF(E5<0,W138,ABS(W138))","v":"-"},{"$f":"IFERROR(LOOKUP(X138,X107:X131,$W107:$W131),\"-\")","v":"-"},{"$f":"IF(AND($E$5>$W$77,$E$5<$W$101),J4,\"-\")","v":"-"},{"$f":"IFERROR(LOOKUP(Y136,Y107:Y131,$X$107:$X$131),\"-\")","v":"-"},{"$f":"IFERROR(LOOKUP(Z136,Z107:Z131,$X$107:$X$131),\"-\")","v":"-"},{"$f":"IFERROR(LOOKUP(AA136,AA107:AA131,$X$107:$X$131),\"-\")","v":"-"},{"$f":"IFERROR(LOOKUP(AB136,AB107:AB131,$X$107:$X$131),\"-\")","v":"-"},{"$f":"IFERROR(LOOKUP(AC136,AC107:AC131,$X$107:$X$131),\"-\")","v":"-"},{"$f":"IFERROR(LOOKUP(AD136,AD107:AD131,$X$107:$X$131),\"-\")","v":"-"},"-","-","-","-","-","-","-","-","-","-","-","-","-","-","-","-","-","-","-","-",{"$f":"IF(AND($G$5>$W$77,$G$5<$W$101),K4,\"-\")","v":"-"},{"$f":"IFERROR(LOOKUP(AY138,X107:X131,$W107:$W131),\"-\")","v":"-"},{"$f":"IF(G5<0,AZ138,ABS(AZ138))","v":{"$error":"#VALUE!"}},{"$f":"IF(BB136<>\"-\",LOOKUP(BB136,Y107:Y131,$X$107:$X$131),\"-\")","v":"-"},{"$f":"IF(BC136<>\"-\",LOOKUP(BC136,Z107:Z131,$X$107:$X$131),\"-\")","v":"-"},{"$f":"IF(BD136<>\"-\",LOOKUP(BD136,AA107:AA131,$X$107:$X$131),\"-\")","v":"-"},{"$f":"IF(BE136<>\"-\",LOOKUP(BE136,AB107:AB131,$X$107:$X$131),\"-\")","v":"-"},{"$f":"IF(BF136<>\"-\",LOOKUP(BF136,AC107:AC131,$X$107:$X$131),\"-\")","v":"-"},"-","-","-","-","-","-","-","-","-","-","-","-","-","-","-","-","-","-","-","-"]
[null,null,null,null,null,null,null,null,null,null,null,null,null,null,null,null,null,null,null,null,null,null,null,{"$f":"IFERROR(LOOKUP(V138,W107:W131,$U107:$U131),\"-\")","v":"-"},{"$f":"IF(Y136=\"\",\"-\",Y136)","v":"-"},{"$f":"IF(Z136=\"\",\"-\",Z136)","v":"-"},{"$f":"IF(AA136=\"\",\"-\",AA136)","v":"-"},{"$f":"IF(AB136=\"\",\"-\",AB136)","v":"-"},{"$f":"IF(AC136=\"\",\"-\",AC136)","v":"-"},"-","-","-","-","-","-","-","-","-","-","-","-","-","-","-","-","-","-","-","-","-",{"$f":"IFERROR(LOOKUP(BA138,W107:W131,$U107:$U131),\"-\")","v":"-"},null,null,{"$f":"IF(BB136=\"\",\"-\",BB136)","v":"-"},"-","-","-","-","-","-","-","-","-","-","-","-","-","-","-","-","-","-","-","-","-","-","-","-"]
["fecha inicio",null,null,null,null,null,null,null,null,null,null,null,null,null,null,null,null,null,null,null,null,null,null,null,{"$f":"Y105","v":"AB"},"BC","CD","DE","EF","FG","GH","HI","IJ","JK","KL","LM","MN","NO","OP","PQ","QR","RS","ST","TU","UV","VW","WX","XY","YZ",null,null,null,null,null,null,null,null,null,null,null,null,null,null,null,null,null,null,null,null,null,null,null,null,null,null,null,null,null,null,null,null,null,null,null,null,null,null,null,"altura cruce",null,{"$f":"IFERROR(VLOOKUP(CL137,CL108:CM132,2,FALSE),\"-\")","v":"-"},null,{"$f":"IFERROR(VLOOKUP(CN137,CN108:CO132,2,FALSE),\"-\")","v":"-"},null,{"$f":"IFERROR(VLOOKUP(CP137,CP108:CQ132,2,FALSE),\"-\")","v":"-"},null,{"$f":"IFERROR(VLOOKUP(CR137,CR108:CS132,2,FALSE),\"-\")","v":"-"},null,{"$f":"IFERROR(VLOOKUP(CT137,CT108:CU132,2,FALSE),\"-\")","v":"-"},null,{"$f":"IFERROR(VLOOKUP(CV137,CV108:CW132,2,FALSE),\"-\")","v":"-"},null,{"$f":"IFERROR(VLOOKUP(CX137,CX108:CY132,2,FALSE),\"-\")","v":"-"},null,{"$f":"IFERROR(VLOOKUP(CZ137,CZ108:DA132,2,FALSE),\"-\")","v":"-"},null,{"$f":"IFERROR(VLOOKUP(DB137,DB108:DC132,2,FALSE),\"-\")","v":"-"},null,{"$f":"IFERROR(VLOOKUP(DD137,DD108:DE132,2,FALSE),\"-\")","v":"-"},null,{"$f":"IFERROR(VLOOKUP(DF137,DF108:DG132,2,FALSE),\"-\")","v":"-"},null,{"$f":"IFERROR(VLOOKUP(DH137,DH108:DI132,2,FALSE),\"-\")","v":"-"},null,{"$f":"IFERROR(VLOOKUP(DJ137,DJ108:DK132,2,FALSE),\"-\")","v":"-"},null,{"$f":"IFERROR(VLOOKUP(DL137,DL108:DM132,2,FALSE),\"-\")","v":"-"},null,{"$f":"IFERROR(VLOOKUP(DN137,DN108:DO132,2,FALSE),\"-\")","v":"-"},null,{"$f":"IFERROR(VLOOKUP(DP137,DP108:DQ132,2,FALSE),\"-\")","v":"-"},null,{"$f":"IFERROR(VLOOKUP(DR137,DR108:DS132,2,FALSE),\"-\")","v":"-"},null,{"$f":"IFERROR(VLOOKUP(DT137,DT108:DU132,2,FALSE),\"-\")","v":"-"},null,{"$f":"IFERROR(VLOOKUP(DV137,DV108:DW132,2,FALSE),\"-\")","v":"-"},null,{"$f":"IFERROR(VLOOKUP(DX137,DX108:DY132,2,FALSE),\"-\")","v":"-"},null,{"$f":"IFERROR(VLOOKUP(DZ137,DZ108:EA132,2,FALSE),\"-\")","v":"-"},null,{"$f":"IFERROR(VLOOKUP(EB137,EB108:EC132,2,FALSE),\"-\")","v":"-"},null,{"$f":"IFERROR(VLOOKUP(ED137,ED108:EE132,2,FALSE),\"-\")","v":"-"},null,{"$f":"IFERROR(VLOOKUP(EF137,EF108:EG132,2,FALSE),\"-\")","v":"-"},null,{"$f":"IFERROR(VLOOKUP(EH137,EH108:EI132,2,FALSE),\"-\")","v":"-"},null,{"$f":"IFERROR(VLOOKUP(EJ137,EJ108:EK132,2,FALSE),\"-\")","v":"-"}]
["2000-12-31",null,null,null,null,null,null,null,null,null,null,null,null,null,null,null,null,null,null,null,null,null,null,null,1,2,3,4,5,6,7,8,9,10,11,12,13,14,15,16,17,18,19,20,21,22,23,24,25]
["fecha finalización",null,null,null,null,null,null,null,null,null,null,null,null,null,null,null,null,null,null,null,null,null,null,null,"A","B","C","D","E","F","G","H","I","J","K","L","M","N","O","P","Q","R","S","T","U","V","W","X","Y"]
[{"$f":"CONCATENATE(E138,\"-\",E137,\"-\",2001)","v":"21-12-2001"},null,null,null,null,null,null,null,null,null,null,null,null,null,null,null,null,null,null,null,null,null,"TIEMPO DE SOLEAMIENTO","HORAS DE CORTE"]
[null,null,null,null,null,null,null,null,null,null,null,null,null,null,null,null,null,null,null,null,null,null,null,{"$f":"IF(AND(Z152>=Z151,Z150>W107),U107,\"\")","v":{"$error":"#N/A"}},{"$f":"IF(MIN(Y139:AX139)=0,\"\",MIN(Y139:AX139))","v":""},{"$f":"IFERROR(SMALL($Y$139:$AW$139,2),\"\")","v":""},{"$f":"IFERROR(SMALL($Y$139:$AW$139,3),\"\")","v":""},{"$f":"IFERROR(SMALL($Y$139:$AW$139,4),\"\")","v":""},{"$f":"IFERROR(SMALL($Y$139:$AW$139,5),\"\")","v":""},{"$f":"IFERROR(SMALL($Y$139:$AW$139,6),\"\")","v":""},{"$f":"IFERROR(SMALL($Y$139:$AW$139,7),\"\")","v":""},{"$f":"IFERROR(SMALL($Y$139:$AW$139,8),\"\")","v":""},{"$f":"IFERROR(SMALL($Y$139:$AW$139,9),\"\")","v":""},{"$f":"IFERROR(SMALL($Y$139:$AW$139,10),\"\")","v":""},{"$f":"IFERROR(SMALL($Y$139:$AW$139,11),\"\")","v":""},{"$f":"IFERROR(SMALL($Y$139:$AW$139,12),\"\")","v":""},{"$f":"IFERROR(SMALL($Y$139:$AW$139,13),\"\")","v":""},{"$f":"IFERROR(SMALL($Y$139:$AW$139,14),\"\")","v":""},{"$f":"IFERROR(SMALL($Y$139:$AW$139,15),\"\")","v":""},{"$f":"IFERROR(SMALL($Y$139:$AW$139,16),\"\")","v":""},{"$f":"IFERROR(SMALL($Y$139:$AW$139,17),\"\")","v":""},{"$f":"IFERROR(SMALL($Y$139:$AW$139,18),\"\")","v":""},{"$f":"IFERROR(SMALL($Y$139:$AW$139,19),\"\")","v":""},{"$f":"IFERROR(SMALL($Y$139:$AW$139,20),\"\")","v":""},{"$f":"IFERROR(SMALL($Y$139:$AW$139,21),\"\")","v":""},{"$f":"IFERROR(SMALL($Y$139:$AW$139,22),\"\")","v":""},{"$f":"IFERROR(SMALL($Y$139:$AW$139,23),\"\")","v":""},{"$f":"IFERROR(SMALL($Y$139:$AW$139,24),\"\")","v":""},{"$f":"IFERROR(SMALL($Y$139:$AW$139,25),\"\")","v":""},null,{"$f":"IF(AND(AH152>=AH151,AH153<W131),U131,\"\")","v":{"$error":"#N/A"}}]
["Hora solar","13:00:00","00:00:00",null,null,null,null,null,null,null,null,null,null,null,null,null,null,null,null,null,{"$f":"IF(X144<>\"\",Y144,IF(AND(V145<>\"\",Z144=\"\"),$U$131,Z144))","v":{"$error":"#N/A"}},{"$f":"IF(X144<>\"\",X144,Y144)","v":{"$error":"#N/A"}},{"$f":"IFERROR(U145-V145,\"\")","v":""},null,null,null,null,null,null,null,null,{"$f":"IF(AND(AH152<=AH151,AH150<W107),U107,\"\")","v":{"$error":"#N/A"}}]
[null,null,null,null,null,null,null,null,null,null,null,null,null,null,null,null,null,null,null,null,{"$f":"IF(X144<>\"\",AA144,IF(AND(V146<>\"\",AB144=\"\"),$U$131,AB144))","v":{"$error":"#N/A"}},{"$f":"IF(X144<>\"\",Z144,AA144)","v":{"$error":"#N/A"}},""]
[null,"Declinación","Hora Solar (hr)","Azimut hora solar","Azimut","Altura solar",null,null,null,null,null,null,null,null,null,null,null,null,null,null,{"$f":"IF(X144<>\"\",AC144,IF(AND(V147<>\"\",AD144=\"\"),$U$131,AD144))","v":{"$error":"#N/A"}},{"$f":"IF(X144<>\"\",AB144,AC144)","v":{"$error":"#N/A"}},"",null,{"$f":"IFERROR(VLOOKUP(Y144,$U$107:$W$131,3, FALSE),\"\")","v":""},{"$f":"IFERROR(VLOOKUP(Z144,$U$107:$W$131,3, FALSE),\"\")","v":""},{"$f":"IFERROR(VLOOKUP(AA144,$U$107:$W$131,3, FALSE),\"\")","v":""},{"$f":"IFERROR(VLOOKUP(AB144,$U$107:$W$131,3, FALSE),\"\")","v":""},null,{"$f":"IFERROR(VLOOKUP(AD144,$U$107:$W$131,3, FALSE),\"\")","v":""},"","","","","","","","","","","","","","","","","","",""]
[null,{"$f":"(ASIN(0.39795*COS(0.98563*(B138-173)*PI()/180)))*180/PI()","v":-23.448652178874497},{"$f":"INT((B145-C145)*24)","v":13},{"$f":"180-(C148/24*360)","v":-15},{"$f":"IF(C148>12,-180/PI()*(ACOS(((SIN(F148*PI()/180)*SIN($C$4*PI()/180))-SIN(B148*PI()/180))/(COS(F148*PI()/180)*COS($C$4*PI()/180)))),180/PI()*(ACOS(((SIN(F148*PI()/180)*SIN($C$4*PI()/180))-SIN(B148*PI()/180))/(COS(F148*PI()/180)*COS($C$4*PI()/180)))))","v":-15.332988969331273},{"$f":"180/PI()*(ASIN((COS($C$4*PI()/180)*COS(B148*PI()/180)*COS(D148*PI()/180))+(SIN($C$4*PI()/180)*SIN(B148*PI()/180))))","v":26.109334943956981},null,null,null,null,null,null,null,null,null,null,null,null,null,null,{"$f":"IF(X144<>\"\",AE144,IF(AND(V148<>\"\",AF144=\"\"),$U$131,AF144))","v":{"$error":"#N/A"}},{"$f":"IF(X144<>\"\",AD144,AE144)","v":{"$error":"#N/A"}},"",null,null,null,null,null,null,null,null,null,{"$f":"MAX(Y144:AW144)","v":"00:00:00"}]
["2000-03-20T07:35:00",{"$f":"DEGREES(ASIN(SIN(RADIANS((A143-A149)*360/365.2422))*0.4))","v":-23.56974069055892},{"$f":"INT((B145-C145)*24)","v":13},{"$f":"180-(C148/24*360)","v":-15},{"$f":"IF(C149>12,-180/PI()*(ACOS(((SIN(F149*PI()/180)*SIN($C$4*PI()/180))-SIN(B149*PI()/180))/(COS(F149*PI()/180)*COS($C$4*PI()/180)))),180/PI()*(ACOS(((SIN(F149*PI()/180)*SIN($C$4*PI()/180))-SIN(B149*PI()/180))/(COS(F149*PI()/180)*COS($C$4*PI()/180)))))","v":-15.302761779112432},{"$f":"180/PI()*(ASIN((COS($C$4*PI()/180)*COS(B149*PI()/180)*COS(D149*PI()/180))+(SIN($C$4*PI()/180)*SIN(B149*PI()/180))))","v":25.991330877049617},null,null,null,null,null,null,null,null,null,null,null,null,null,null,{"$f":"IF(X144<>\"\",AG144,IF(AND(V149<>\"\",AH144=\"\"),$U$131,AH144))","v":{"$error":"#N/A"}},{"$f":"IF(X144<>\"\",AF144,AG144)","v":{"$error":"#N/A"}},"",null,{"$f":"LOOKUP(Y144,Y139:AX139,Y140:AW140)","v":{"$error":"#N/A"}},{"$f":"LOOKUP(Y149,Y140:AW140,Y141:AW141)","v":{"$error":"#N/A"}},{"$f":"Z149-1","v":{"$error":"#N/A"}},{"$f":"Z149+1","v":{"$error":"#N/A"}},{"$f":"AB149+1","v":{"$error":"#N/A"}},null,null,null,{"$f":"LOOKUP(AG148,Y139:AX139,Y140:AW140)","v":{"$error":"#N/A"}},{"$f":"LOOKUP(AG149,Y140:AW140,Y141:AW141)","v":{"$error":"#N/A"}},{"$f":"AH149-1","v":{"$error":"#N/A"}},{"$f":"AH149+1","v":{"$error":"#N/A"}},{"$f":"AJ149+1","v":{"$error":"#N/A"}}]
[null,{"$f":"-23.44*COS((B138+10)*360/365.2422)","v":1.1461661506124781},null,null,null,null,null,null,null,null,null,null,null,null,null,null,null,null,null,null,{"$f":"IF(X144<>\"\",AI144,IF(AND(V150<>\"\",AJ144=\"\"),$U$131,AJ144))","v":{"$error":"#N/A"}},{"$f":"IF(X144<>\"\",AH144,AI144)","v":{"$error":"#N/A"}},"",null,{"$f":"IF(AA149=0,\"-\",LOOKUP(AA149,Y141:AW141,Y142:AW142))","v":{"$error":"#N/A"}},{"$f":"IF(AA149=0,150,VLOOKUP(Y150,$A$12:$C$37,2))","v":{"$error":"#N/A"}},{"$f":"IF(AA149=AB140,AA142,\"\")","v":{"$error":"#N/A"}},{"$error":"#N/A"},{"$error":"#N/A"},"","",null,{"$f":"LOOKUP(AI149,Y141:AW141,Y142:AW142)","v":{"$error":"#N/A"}},{"$f":"VLOOKUP(AG150,$A$12:$C$37,2)","v":{"$error":"#N/A"}},{"$f":"IF(AI149=AJ140,AI142,\"\")","v":{"$error":"#N/A"}},{"$f":"IF(AJ149=AK140,AJ142,\"\")","v":{"$error":"#N/A"}},{"$f":"IF(AK149=AL140,AK142,\"\")","v":{"$error":"#N/A"}},"","","","","","","","","","","","Y"]
[null,null,null,null,null,null,null,null,{"$f":"COS(53.26*PI()*180)","v":-0.80901699437228158},null,null,null,null,null,null,null,null,null,null,null,{"$f":"IF(X144<>\"\",AK144,IF(AND(V151<>\"\",AL144=\"\"),$U$131,AL144))","v":{"$error":"#N/A"}},{"$f":"IF(X144<>\"\",AJ144,AK144)","v":{"$error":"#N/A"}},"",{"$f":"Z151","v":{"$error":"#N/A"}},{"$f":"LOOKUP(Z149,Y141:AW141,Y142:AW142)","v":{"$error":"#N/A"}},{"$f":"VLOOKUP(Y151,$A$12:$C$37,2)","v":{"$error":"#N/A"}},{"$f":"VLOOKUP(Y151,$A$12:$C$37,3)","v":{"$error":"#N/A"}},null,null,null,null,{"$f":"AH151","v":{"$error":"#N/A"}},{"$f":"LOOKUP(AH149,Y141:AW141,Y142:AW142)","v":{"$error":"#N/A"}},{"$f":"VLOOKUP(AG151,$A$12:$C$37,2)","v":{"$error":"#N/A"}},{"$f":"VLOOKUP(AG151,$A$12:$C$37,3)","v":{"$error":"#N/A"}}]
[null,null,null,null,null,null,null,null,null,null,null,null,null,null,null,null,null,null,null,null,{"$f":"IF(X144<>\"\",AM144,IF(AND(V152<>\"\",AN144=\"\"),$U$131,AN144))","v":{"$error":"#N/A"}},{"$f":"IF(X144<>\"\",AL144,AM144)","v":{"$error":"#N/A"}},"",{"$f":"Z152","v":{"$error":"#N/A"}},{"$f":"LOOKUP(AB149,Y141:AW141,Y142:AW142)","v":{"$error":"#N/A"}},{"$f":"VLOOKUP(Y152,$A$12:$C$37,2)","v":{"$error":"#N/A"}},{"$f":"VLOOKUP(Y152,$A$12:$C$37,3)","v":{"$error":"#N/A"}},null,null,null,null,{"$f":"AH152","v":{"$error":"#N/A"}},{"$f":"LOOKUP(AJ149,Y141:AW141,Y142:AW142)","v":{"$error":"#N/A"}},{"$f":"VLOOKUP(AG152,$A$12:$C$37,2)","v":{"$error":"#N/A"}},{"$f":"VLOOKUP(AG152,$A$12:$C$37,3)","v":{"$error":"#N/A"}}]
[null,null,null,null,null,null,null,null,null,null,null,null,null,null,null,null,null,null,null,null,{"$f":"IF(X144<>\"\",AO144,IF(AND(V153<>\"\",AP144=\"\"),$U$131,AP144))","v":{"$error":"#N/A"}},{"$f":"IF(X144<>\"\",AN144,AO144)","v":{"$error":"#N/A"}},"",null,{"$f":"LOOKUP(AC149,Y141:AW141,Y142:AW142)","v":{"$error":"#N/A"}},{"$f":"VLOOKUP(Y153,$A$12:$C$37,2)","v":{"$error":"#N/A"}},null,null,null,null,null,null,{"$f":"LOOKUP(AK149,Y141:AW141,Y142:AW142)","v":{"$error":"#N/A"}},{"$f":"IF((VLOOKUP(AG153,$A$12:$C$37,2))=\"\",-150,VLOOKUP(AG153,$A$12:$C$37,2))","v":{"$error":"#N/A"}}]
[null,null,null,null,null,null,null,null,null,null,null,null,null,null,null,null,null,null,null,null,{"$f":"IF(X144<>\"\",AQ144,IF(AND(V154<>\"\",AR144=\"\"),$U$131,AR144))","v":{"$error":"#N/A"}},{"$f":"IF(X144<>\"\",AP144,AQ144)","v":{"$error":"#N/A"}},""]
[null,"AZIMUT","ALTURA","AZIMUT","ALTURA","AZIMUT","ALTURA","AZIMUT","ALTURA","AZIMUT","ALTURA","AZIMUT","ALTURA","AZIMUT","ALTURA","AZIMUT","ALTURA","AZIMUT","ALTURA",null,{"$f":"IF(X144<>\"\",AS144,IF(AND(V155<>\"\",AT144=\"\"),$U$131,AT144))","v":{"$error":"#N/A"}},{"$f":"IF(X144<>\"\",AR144,AS144)","v":{"$error":"#N/A"}},"",null,{"$f":"MAX(X151:X152,)","v":{"$error":"#N/A"}},{"$f":"VLOOKUP(Y155,X151:Y152,2,FALSE)","v":{"$error":"#N/A"}}]
[null,{"$f":"B12","v":""},{"$f":"C12","v":""},{"$f":"B13","v":""},{"$f":"C13","v":""},{"$f":"B14","v":""},{"$f":"C14","v":""},{"$f":"B15","v":""},{"$f":"C15","v":""},{"$f":"B16","v":""},{"$f":"C16","v":""},{"$f":"B17","v":""},{"$f":"C17","v":""},{"$f":"B22","v":""},{"$f":"C22","v":""},{"$f":"B23","v":""},{"$f":"C23","v":""},{"$f":"B24","v":""},{"$f":"C24","v":""},null,{"$f":"IF(X144<>\"\",AU144,IF(AND(V156<>\"\",AV144=\"\"),$U$131,AV144))","v":{"$error":"#N/A"}},{"$f":"IF(X144<>\"\",AT144,AU144)","v":{"$error":"#N/A"}},"",null,"F. ESTE",null,"min","max",null,"F. OESTE"]
[null,null,null,null,null,null,null,null,null,null,null,null,null,null,null,null,null,null,null,null,{"$f":"IF(V157<U131,U101,\"\")","v":{"$error":"#N/A"}},{"$f":"IF(X144<>\"\",AV144,AW144)","v":{"$error":"#N/A"}},"",null,{"$f":"IF(AND(I4<W101,I4>W77),X139,\"\")","v":""},null,{"$f":"MIN(Y144:AW144)","v":"00:00:00"},{"$f":"MAX(Y144:AW144)","v":"00:00:00"},null,{"$f":"IF(AND(L4<W101,L4>W77),AY139,\"\")","v":""}]
[null,null,null,null,null,null,null,null,null,null,null,null,null,null,null,null,null,null,null,null,null,null,{"$f":"IF(AND(E5>W101,G5<W77),0,SUM(W145:W157))","v":"00:00:00"},"AZIMUT",{"$f":"M4","v":-80},null,{"$f":"LOOKUP(AA157,$Y$139:$AW$139,$Y$137:$AW$137)","v":{"$error":"#N/A"}},{"$f":"LOOKUP(AB157,$Y$139:$AW$139,$Y$137:$AW$137)","v":{"$error":"#N/A"}},null,{"$f":"N4","v":80}]
[null,null,null,null,null,null,null,null,null,null,null,null,null,null,null,null,null,null,null,null,null,null,null,"ALTURA",{"$f":"J4","v":14.795074915349655},null,{"$f":"LOOKUP(AA157,$Y$139:$AW$139,$Y$138:$AW$138)","v":{"$error":"#N/A"}},{"$f":"LOOKUP(AB157,$Y$139:$AW$139,$Y$138:$AW$138)","v":{"$error":"#N/A"}},null,{"$f":"K4","v":14.795074915349655}]
[]
[]
[null,null,null,null,null,null,null,null,null,null,null,null,null,null,null,null,null,null,null,null,null,null,null,{"$f":"IF(AND(Z152>=Z151,Z150>W107),U107,\"\")","v":{"$error":"#N/A"}},{"$f":"IF(Y139<>\"-\",Y139,IF(Z139<>\"-\",Z139,IF(AA139<>\"-\",AA139,IF(AB139<>\"-\",AB139,IF(AC139<>\"-\",AC139,IF(AD139<>\"-\",AD139,IF(AE139<>\"-\",AE139,IF(AF139<>\"-\",AF139,IF(AG139<>\"-\",AG139,IF(AH139<>\"-\",AH139,IF(AI139<>\"-\",AI139,IF(AJ139<>\"-\",AJ139,IF(AK139<>\"-\",AK139,IF(AL139<>\"-\",AL139,IF(AM139<>\"-\",AM139,IF(AN139<>\"-\",AN139,IF(AO139<>\"-\",AO139,IF(AP139<>\"-\",AP139,IF(AQ139<>\"-\",AQ139,IF(AR139<>\"-\",AR139,IF(AS139<>\"-\",AS139,IF(AT139<>\"-\",AT139,IF(AU139<>\"-\",AU139,IF(AV139<>\"-\",AV139,IF(AW139<>\"-\",AW139,\"-\")))))))))))))))))))))))))","v":"-"}]
[]
[]
[null,null,null,null,null,null,null,null,null,null,null,null,null,null,null,null,null,null,null,null,null,null,null,null,{"$f":"IF(AND(I4<AA158,I4>W77),X139,\"\")","v":{"$error":"#N/A"}}]
[]
[null,null,null,null,null,null,null,null,null,null,null,null,null,null,null,null,null,null,null,null,null,null,null,{"$f":"IF(Y158>AA158,Y157,\"-\")","v":{"$error":"#N/A"}},{"$f":"IF(OR(Y137<$Y$158,Y137>$AD$158),\"-\",Y139)","v":"-"},{"$f":"IF(OR(Z137<$Y$158,Z137>$AD$158),\"-\",Z139)","v":"-"},{"$f":"IF(OR(AA137<$Y$158,AA137>$AD$158),\"-\",AA139)","v":"-"},{"$f":"IF(OR(AB137<$Y$158,AB137>$AD$158),\"-\",AB139)","v":"-"},{"$f":"IF(OR(AC137<$Y$158,AC137>$AD$158),\"-\",AC139)","v":"-"},"-","-","-","-","-","-","-","-","-","-","-","-","-","-","-","-","-","-","-","-",null,{"$f":"IF(AND(AH152>=AH151,AH153<W131,AB158<AD158),U131,\"\")","v":{"$error":"#N/A"}},null,null,null,{"$f":"IF(OR(BC137<$Y$158,BC137>$AD$158),\"-\",BC139)","v":"-"},{"$f":"IF(OR(BD137<$Y$158,BD137>$AD$158),\"-\",BD139)","v":"-"},"-","-","-","-","-","-","-","-","-","-","-","-","-","-","-","-","-","-","-","-","-","-"]
[]
[]
[]
[null,null,null,null,null,null,null,null,null,null,null,null,null,null,null,null,null,null,null,null,null,null,"TIEMPO DE SOLEAMIENTO"]
[null,null,null,null,null,null,null,null,null,null,null,null,null,null,null,null,null,null,null,null,null,null,null,{"$f":"IFERROR(IF(AND(AND(Z152>=Z151,Z150>W107),(AA158>Y158)),U107,\"\"),\"\")","v":""},{"$f":"IFERROR(MIN(X167:AY167),\"\")","v":""},{"$f":"IFERROR(SMALL($X$167:$BZ$167,2),\"\")","v":""},{"$f":"IFERROR(SMALL($X$167:$BZ$167,3),\"\")","v":""},{"$f":"IFERROR(SMALL($X$167:$BZ$167,4),\"\")","v":""},{"$f":"IFERROR(SMALL($X$167:$BZ$167,5),\"\")","v":""},{"$f":"IFERROR(SMALL($X$167:$BZ$167,6),\"\")","v":""},{"$f":"IFERROR(SMALL($X$167:$BZ$167,7),\"\")","v":""},{"$f":"IFERROR(SMALL($X$167:$BZ$167,8),\"\")","v":""},{"$f":"IFERROR(SMALL($X$167:$BZ$167,9),\"\")","v":""},{"$f":"IFERROR(SMALL($X$167:$BZ$167,10),\"\")","v":""},{"$f":"IFERROR(SMALL($X$167:$BZ$167,11),\"\")","v":""},{"$f":"IFERROR(SMALL($X$167:$BZ$167,12),\"\")","v":""},{"$f":"IFERROR(SMALL($X$167:$BZ$167,13),\"\")","v":""},{"$f":"IFERROR(SMALL($X$167:$BZ$167,14),\"\")","v":""},{"$f":"IFERROR(SMALL($X$167:$BZ$167,15),\"\")","v":""},{"$f":"IFERROR(SMALL($X$167:$BZ$167,16),\"\")","v":""},{"$f":"IFERROR(SMALL($X$167:$BZ$167,17),\"\")","v":""},{"$f":"IFERROR(SMALL($X$167:$BZ$167,18),\"\")","v":""},{"$f":"IFERROR(SMALL($X$167:$BZ$167,19),\"\")","v":""},{"$f":"IFERROR(SMALL($X$167:$BZ$167,20),\"\")","v":""},{"$f":"IFERROR(SMALL($X$167:$BZ$167,21),\"\")","v":""},{"$f":"IFERROR(SMALL($X$167:$BZ$167,22),\"\")","v":""},{"$f":"IFERROR(SMALL($X$167:$BZ$167,23),\"\")","v":""},{"$f":"IFERROR(SMALL($X$167:$BZ$167,24),\"\")","v":""},{"$f":"IFERROR(SMALL($X$167:$BZ$167,25),\"\")","v":""},null,{"$f":"IFERROR(IF(AND(AH152>=AH151,AH153<W131,AB158<AD158),U131,\"\"),\"\")","v":""}]
[null,null,null,null,null,null,null,null,null,null,null,null,null,null,null,null,null,null,null,null,{"$f":"IF(X172<>\"\",Y172,IF(AND(V173<>\"\",Z172=\"\"),$U$131,Z172))","v":""},{"$f":"IF(X172<>\"\",X172,Y172)","v":""},{"$f":"IFERROR(U173-V173,\"\")","v":""}]
[null,null,null,null,null,null,null,null,null,null,null,null,null,null,null,null,null,null,null,null,{"$f":"IF(X172<>\"\",AA172,IF(AND(V174<>\"\",AB172=\"\"),$U$131,AB172))","v":""},{"$f":"IF(X172<>\"\",Z172,AA172)","v":""},""]
[null,null,null,null,null,null,null,null,null,null,null,null,null,null,null,null,null,null,null,null,{"$f":"IF(X172<>\"\",AC172,IF(AND(V175<>\"\",AD172=\"\"),$U$131,AD172))","v":""},{"$f":"IF(X172<>\"\",AB172,AC172)","v":""},""]
[null,null,null,null,null,null,null,null,null,null,null,null,null,null,null,null,null,null,null,null,{"$f":"IF(X172<>\"\",AE172,IF(AND(V176<>\"\",AF172=\"\"),$U$131,AF172))","v":""},{"$f":"IF(X172<>\"\",AD172,AE172)","v":""},""]
[null,null,null,null,null,null,null,null,null,null,null,null,null,null,null,null,null,null,null,null,{"$f":"IF(X172<>\"\",AG172,IF(AND(V177<>\"\",AH172=\"\"),$U$131,AH172))","v":""},{"$f":"IF(X172<>\"\",AF172,AG172)","v":""},""]
[null,null,null,null,null,null,null,null,null,null,null,null,null,null,null,null,null,null,null,null,{"$f":"IF(X172<>\"\",AI172,IF(AND(V178<>\"\",AJ172=\"\"),$U$131,AJ172))","v":""},{"$f":"IF(X172<>\"\",AH172,AI172)","v":""},""]
[null,null,null,null,null,null,null,null,null,null,null,null,null,null,null,null,null,null,null,null,{"$f":"IF(X172<>\"\",AK172,IF(AND(V179<>\"\",AL172=\"\"),$U$131,AL172))","v":""},{"$f":"IF(X172<>\"\",AJ172,AK172)","v":""},""]
[null,null,null,null,null,null,null,null,null,null,null,null,null,null,null,null,null,null,null,null,{"$f":"IF(X172<>\"\",AM172,IF(AND(V180<>\"\",AN172=\"\"),$U$131,AN172))","v":""},{"$f":"IF(X172<>\"\",AL172,AM172)","v":""},""]
[null,null,null,null,null,null,null,null,null,null,null,null,null,null,null,null,null,null,null,null,{"$f":"IF(X172<>\"\",AO172,IF(AND(V181<>\"\",AP172=\"\"),$U$131,AP172))","v":""},{"$f":"IF(X172<>\"\",AN172,AO172)","v":""},""]
[null,null,null,null,null,null,null,null,null,null,null,null,null,null,null,null,null,null,null,null,{"$f":"IF(X172<>\"\",AQ172,IF(AND(V182<>\"\",AR172=\"\"),$U$131,AR172))","v":""},{"$f":"IF(X172<>\"\",AP172,AQ172)","v":""},""]
[null,null,null,null,null,null,null,null,null,null,null,null,null,null,null,null,null,null,null,null,{"$f":"IF(X172<>\"\",AS172,IF(AND(V183<>\"\",AT172=\"\"),$U$131,AT172))","v":""},{"$f":"IF(X172<>\"\",AR172,AS172)","v":""},""]
[null,null,null,null,null,null,null,null,null,null,null,null,null,null,null,null,null,null,null,null,{"$f":"IF(X172<>\"\",AU172,IF(AND(V184<>\"\",AV172=\"\"),$U$131,AV172))","v":""},{"$f":"IF(X172<>\"\",AT172,AU172)","v":""},""]
[null,null,null,null,null,null,null,null,null,null,null,null,null,null,null,null,null,null,null,null,{"$f":"IF(V185<U159,U129,\"\")","v":""},{"$f":"IF(X172<>\"\",AV172,AW172)","v":""},""]
[null,null,null,null,null,null,null,null,null,null,null,null,null,null,null,null,null,null,null,null,null,null,{"$f":"IF(OR(AND(E5>W101,G5<W77),AND(G5<AA158,AD159<AA159,G5>W77,G5<W101),AND(E5>AB158,Y159<AB159,E5>W77,E5<W101)),0,SUM(W173:W185))","v":{"$error":"#N/A"}}]

{"sheet":"capitales","index":35,"n_rows":54,"n_cols":25,"rows_kept":54,"cut":false,"hidden":true,"merged":[]}
[null,null,null,null,null,null,null,null,null,null,null,null,null,null,null,null,null,null,"Estaciones meteorológicas"]
["Comunidad","Provincia",null,null,null,null,null,null,null,null,null,null,"Población","Latitud","Longitud","Altitud",null,"Albacete","Albacete"]
["Andalucía","Almería","Cádiz","Córdoba","Granada","Huelva","Jaén","Málaga","Sevilla",null,null,null,"Albacete",38.99765,-1.8600699999999999,685.95730000000003,null,"Alicante","Alicante"]
["Cataluña","Barcelona","Gerona","Lérida","Tarragona",null,null,null,null,null,null,null,"Alicante",38.345199999999998,-0.48100599999999999,16.632560000000002,null,"Almería","Almería"]
["ComunidaddeMadrid","Madrid",null,null,null,null,null,null,null,null,null,null,"Almería",36.840159999999997,-2.4679220000000002,27.00703,null,"Ávila","Ávila"]
["ComunidadValenciana","Alicante","Castellón","Valencia",null,null,null,null,null,null,null,null,"Ávila",40.656419999999997,-4.700323,1129.8409999999999,null,"Badajoz","Badajoz"]
["Galicia","LaCoruña","Lugo","Orense","Pontevedra",null,null,null,null,null,null,null,"Badajoz",38.878599999999999,-6.9702840000000004,192.03749999999999,null,"Barcelona","Barcelona","Fabra"]
["CastillayLeón","Ávila","Burgos","León","Palencia","Salamanca","Soria","Valladolid","Zamora",null,null,null,"Barcelona",41.387920000000001,2.1699190000000002,19.990690000000001,null,"Bilbao","Bilbao"]
["PaísVasco","Bilbao","SanSebastián","Vitoria",null,null,null,null,null,null,null,null,"Bilbao",43.256959999999999,-2.923441,17.88842,null,"Burgos","Burgos"]
["Canarias","LasPalmasdeGranCanaria","SantaCruzDeTenerife",null,null,null,null,null,null,null,null,null,"Burgos",42.340870000000002,-3.6997309999999999,865.80160000000001,null,"Cáceres","Cáceres"]
["CastillaLaMancha","Albacete","CiudadReal","Cuenca","Guadalajara","Segovia","Toledo",null,null,null,null,null,"Cáceres",39.476179999999999,-6.3707599999999998,434.61619999999999,null,"Cádiz","Cádiz","Tarifa"," Jerez de la Frontera"]
["RegióndeMurcia","Murcia",null,null,null,null,null,null,null,null,null,null,"Cádiz",36.529690000000002,-6.2926570000000002,15.424149999999999,null,"Castellón","Castellón"]
["Aragón","Huesca","Teruel","Zaragoza",null,null,null,null,null,null,null,null,"Castellón",39.985979999999998,-3.76709E-2,36,null,"Ceuta","Ceuta"]
["IslasBaleares","PalmadeMallorca",null,null,null,null,null,null,null,null,null,"Ceuta","CiudadReal",38.9861,-3.9272629999999999,636.70029999999997,null,"CiudadReal","Ciudad Real"]
["Extremadura","Badajoz","Cáceres",null,null,null,null,null,null,null,null,null,"Córdoba",37.884729999999998,-4.7791519999999998,131.9102,null,"Córdoba","Córdoba"]
["Asturias","Oviedo",null,null,null,null,null,null,null,null,null,null,"LaCoruña",43.370869999999996,-8.3958349999999999,16.760670000000001,null,"Cuenca","Cuenca"]
["Cantabria","Santander",null,null,null,null,null,null,null,null,null,null,"Cuenca",40.071829999999999,-2.1340050000000002,930.41240000000005,null,"Gerona","Gerona"]
["Navarra","Pamplona",null,null,null,null,null,null,null,null,null,null,"SanSebastián",43.320740000000001,-1.984421,6.7468430000000001,null,"Granada","Granada"]
["LaRioja","Logroño ",null,null,null,null,null,null,null,null,null,null,"Eivissa",38.908859999999997,1.4323779999999999,9.8139210000000006,null,"Guadalajara","Guadalajara"]
["Melilla","Melilla",null,null,null,null,null,null,null,null,null,null,"Formentera",38.696399999999997,1.4531350000000001,21.562460000000002,null,"Huelva","Huelva"]
["Ceuta","Ceuta",null,null,null,null,null,null,null,null,null,null,"Gerona",41.9818,2.8237000000000001,69.022679999999994,null,"Huesca","Huesca"]
[null,null,null,null,null,null,null,null,null,null,null,null,"Granada",37.176490000000001,-3.5979290000000002,697.48599999999999,null,"Jaén","Jaén"]
[null,null,null,null,null,null,null,null,null,null,null,null,"Guadalajara",40.629809999999999,-3.166493,714.21770000000004,null,"LaCoruña","La Coruña","Santiago de Compostela"]
[null,null,null,null,null,null,null,null,null,null,null,null,"Huelva",37.257100000000001,-6.9495550000000001,20.744140000000002,null,"LasPalmasdeGranCanaria","Las Palmas de Gran Canaria","Lanzarote","Fuerteventura"]
[null,null,null,null,null,null,null,null,null,null,null,null,"Huesca",42.140099999999997,-0.40889799999999998,467,null,"León","León","Virgen del Camino"]
[null,null,null,null,null,null,null,null,null,null,null,null,"Jaén",37.765740000000001,-3.7895180000000002,576.39390000000003,null,"Lérida","Lérida"]
[null,null,null,null,null,null,null,null,null,null,null,null,"Lérida",41.614150000000002,0.62578250000000002,166.44990000000001,null,"Logroño ","Logroño"]
[null,null,null,null,null,null,null,null,null,null,null,null,"León",42.599879999999999,-5.571752,841.33730000000003,null,"Lugo","Lugo"]
[null,null,null,null,null,null,null,null,null,null,null,null,"Logroño ",42.465769999999999,-2.4499949999999999,396.47280000000001,null,"Madrid","Colmenar Viejo","Madrid","Barajas","Cuatro Vientos","Getafe","Puerto Navacerrada","Torrejón De Ardoz"]
[null,null,null,null,null,null,null,null,null,null,null,null,"Lugo",43.012079999999997,-7.5558509999999997,468.23469999999998,null,"Málaga","Málaga"]
[null,null,null,null,null,null,null,null,null,null,null,null,"Madrid",40.416690000000003,-3.7003460000000001,653.00469999999996,null,"Melilla","Melilla"]
[null,null,null,null,null,null,null,null,null,null,null,"Melilla","Málaga",36.719650000000001,-4.4200189999999999,20.765879999999999,null,"Murcia","Alcantarilla","Murcia","San Javier"]
[null,null,null,null,null,null,null,null,null,null,null,null,"Murcia",37.983440000000002,-1.1298900000000001,51.070869999999999,null,"Orense","Orense"]
[null,null,null,null,null,null,null,null,null,null,null,null,"Orense",42.340009999999999,-7.8646409999999998,144.5574,null,"Oviedo","Asturias / Aeropuerto","Oviedo"]
[null,null,null,null,null,null,null,null,null,null,null,null,"Oviedo",43.360259999999997,-5.8447589999999998,238.86590000000001,null,"Palencia","Palencia"]
[null,null,null,null,null,null,null,null,null,null,null,null,"Palencia",42.012459999999997,-4.5311750000000002,745.83749999999998,null,"PalmadeMallorca","Ibiza","Menorca / Mahón","Palma de Mallorca","Palma de Mallorca / Aeropuerto"]
[null,null,null,null,null,null,null,null,null,null,null,null,"PalmadeMallorca",39.569510000000001,2.649966,31.927240000000001,null,"Pamplona","Pamplona"]
[null,null,null,null,null,null,null,null,null,null,null,null,"LasPalmasdeGranCanaria",28.12482,-15.430009999999999,7.2710359999999996,null,"Pontevedra","Pontevedra","Vigo"]
[null,null,null,null,null,null,null,null,null,null,null,null,"Pamplona",42.817210000000003,-1.6467670000000001,458.14060000000001,null,"Salamanca","Salamanca"]
[null,null,null,null,null,null,null,null,null,null,null,null,"Pontevedra",42.433619999999998,-8.6480530000000009,18.607859999999999,null,"SanSebastián","San Sebastián / Aeropuerto","San Sebastián / Igueldo"]
[null,null,null,null,null,null,null,null,null,null,null,null,"Salamanca",40.964970000000001,-5.6630469999999997,802.79150000000004,null,"SantaCruzDeTenerife","Hierro","Santa Cruz De Tenerife","Tenerife / Aeropuerto Tenerife Sur","Tenerife / Izaña","Tenerife / Norte"]
[null,null,null,null,null,null,null,null,null,null,null,null,"SantaCruzDeTenerife",28.469809999999999,-16.254860000000001,41.293880000000001,null,"Santander","Santander"]
[null,null,null,null,null,null,null,null,null,null,null,null,"Santander",43.46096,-3.8079339999999999,4.0999999999999996,null,"Segovia","Segovia"]
[null,null,null,null,null,null,null,null,null,null,null,null,"Segovia",40.94943,-4.1192089999999997,1012.785,null,"Sevilla","Sevilla / Aeropuerto","Sevilla / Morón de la Frontera / B. Aérea","Sevilla / Tablada"]
[null,null,null,null,null,null,null,null,null,null,null,null,"Sevilla",37.382640000000002,-5.9962949999999999,8.2655729999999998,null,"Soria","Soria"]
[null,null,null,null,null,null,null,null,null,null,null,null,"Soria",41.763599999999997,-2.4649209999999999,1064.8230000000001,null,"Tarragona","Tarragona","Tarragona / Reus"]
[null,null,null,null,null,null,null,null,null,null,null,null,"Tarragona",41.118659999999998,1.24533,26.262640000000001,null,"Teruel","Teruel"]
[null,null,null,null,null,null,null,null,null,null,null,null,"Teruel",40.344110000000001,-1.1069100000000001,927.45619999999997,null,"Toledo","Toledo"]
[null,null,null,null,null,null,null,null,null,null,null,null,"Toledo",39.856780000000001,-4.0244759999999999,524.06179999999995,null,"Valencia","Valencia","Valencia - Manises"]
[null,null,null,null,null,null,null,null,null,null,null,null,"Valencia",39.470239999999997,-0.3768049,23.334900000000001,null,"Valladolid","Valladolid","Valladolid / Aeropuerto","Valladolid / Aeropuerto"]
[null,null,null,null,null,null,null,null,null,null,null,null,"Valladolid",41.652949999999997,-4.7283879999999998,699.49270000000001,null,"Vitoria","Vitoria"]
[null,null,null,null,null,null,null,null,null,null,null,null,"Vitoria",42.846409999999999,-2.6678929999999998,534.35820000000001,null,"Zamora","Zamora"]
[null,null,null,null,null,null,null,null,null,null,null,null,"Zamora",41.503680000000003,-5.7437779999999998,657.16579999999999,null,"Zaragoza","Zaragoza"]
[null,null,null,null,null,null,null,null,null,null,null,null,"Zaragoza",41.656289999999998,-0.87653789999999998,204.0027]

{"sheet":"CE ","index":36,"n_rows":193,"n_cols":23,"rows_kept":193,"cut":false,"hidden":false,"merged":[[1,2,1,3],[1,4,1,5],[1,6,1,7],[16,5,17,5],[22,5,23,5],[27,5,28,5],[29,5,29,6],[30,14,32,14],[35,5,35,6],[37,6,37,7],[39,4,39,5],[39,6,39,7],[32,5,33,5],[82,5,82,6],[41,5,41,6],[43,5,43,6],[45,5,45,6],[47,5,47,6],[49,5,49,6],[51,5,51,6],[53,5,53,6],[55,4,55,5],[78,6,78,7],[80,4,80,5],[80,6,80,7],[61,5,61,6],[63,5,63,6],[65,4,65,5],[119,4,119,5],[119,6,119,7],[84,5,84,6],[86,5,86,6],[88,5,88,6],[90,5,90,6],[92,5,92,6],[94,4,94,5],[104,5,104,6],[106,5,107,6],[117,6,117,7],[109,5,110,6],[115,5,115,6],[112,5,113,6],[149,6,149,7],[121,5,121,6],[123,5,123,6],[125,5,125,6],[127,5,127,6],[129,5,129,6],[131,5,131,6],[133,5,133,6],[135,5,135,6],[137,4,137,5],[143,5,144,6],[146,5,147,6],[181,6,181,9],[151,4,151,5],[151,6,151,7],[155,5,155,6],[157,5,157,6],[159,4,159,5],[167,5,167,6],[169,6,169,7],[171,4,171,5],[171,6,171,7],[173,5,173,6],[175,4,175,5],[153,5,153,6]]}
[]
[null,null,{"$f":"'Matriz VERDE-GBCe'!U52","v":"CE"},null,{"$f":"'Matriz VERDE-GBCe'!V52","v":"Calidad de la edificación"}]
[]
[]
[null,null,null,null,{"$f":"'Matriz VERDE-GBCe'!V53","v":"CE 01"},{"$f":"VLOOKUP($E5,'Matriz VERDE-GBCe'!$V$7:$AH$55,2,FALSE)","v":"Diseño pasivo"},{"$f":"VLOOKUP($E5,'Matriz VERDE-GBCe'!$V$7:$AH$55,3,FALSE)","v":2.9766715155433436E-2},null,null,null,null,null,null,null,null,null,null,"≥ 27",null,"SE ADJUNTA",null,"SÍ","NO"]
[null,null,null,null,null,null,null,null,null,null,null,null,null,null,null,null,null,"≥ 9",null,"NO SE ADJUNTA",null,"NO"]
[null,null,null,null,null,"Valor límite máximo de KLIM establecido por el DB HE 01",null,null,null,null,null,null,null,null,null,null,null,"≥ 3",null,"NO APLICA"]
[null,null,null,null,null,null,null,null,null,null,null,null,null,null,null,null,null,null,null,"NO SE ADJUNTA",null,"NO"]
[null,null,null,null,null,"Valor de K del proyecto",null,null,null,null,null,null,null,null,null,null,null,null,null,"NO APLICA"]
[null,null,null,null,null,null,null,null,null,null,null,null,null,null,null,null,null,null,null,"NO SE ADJUNTA",null,"NO"]
[null,null,null,null,null,"Porcentaje de reducción del coeficiente de reducción global de transmisión térmica K",{"$f":"IFERROR(IF(OR(I7=0,I7=\"\",I9=\"\"),0,(1-I9/I7)),\"\")","v":0},null,null,null,null,null,null,{"$f":"IF(OR(G11=0,G11=\"\"),0,IF(G11>=0.3,0.25*G5,(G11/0.3)*0.25*G5))","v":0},null,null,null,null,null,"NO APLICA"]
[]
[null,null,null,null,null,"Valór límite del parámetro de control solar qsol:jul Lim establecido en DB HE 01 ≤",2]
[]
[null,null,null,null,null,"Valór del parámetro de control solar qsol:jul del proyecto "]
[]
[null,null,null,null,null,"Porcentaje de reducción, según límites del criterio, del parámetro de control solar qsol:jul, ",{"$f":"IFERROR(IF(OR(I15=2,I15=\"\"),0,IF(I15=0.5,1,(1-(I15-0.5)/1.5))),\"\")","v":0},null,null,null,null,null,null,{"$f":"IF(G17=1,0.25*G5,G17*0.25*G5)","v":0}]
[]
[null,null,null,null,null,"Volumen interior de las áreas calefactadas del edificio en m3"]
[]
[null,null,null,null,null,"Valor límite de renovaciones por hora a una presión de 50 Pa n50 [h-1]"]
[]
[null,null,null,null,null,{"$f":"IF(I19>=1500,\"Valor límite de la permeabilidad al aire de los huecos de la envolvente en función de la zona climática Q100 Lim fijado por el DB HE\",\"\")","v":""}]
[]
[]
[null,null,null,null,null,"Renovaciones por hora a una presión de 50 Pa n50 [h-1] del proyecto",null,null,null,null,null,null,{"$f":"IFERROR(IF(OR(I21=0,I21=\"\",I26=\"\"),0,(1-I26/I21)),\"\")","v":0},{"$f":"IF(OR(M26=0,M26=\"\"),0,IF(M26>=0.5,0.25*G5,(M26/0.5)*0.25*G5))","v":0},"Edificios< 1500 m3"]
[]
[null,null,null,null,null,{"$f":"IF(I19>=1500,\"Valor de la permeabilidad al aire de los huecos de la envolvente en función de la zona climática Q100 del proyecto\",\"\")","v":""}]
[]
[]
[null,null,null,null,null,"Porcentaje de reducción de las renovaciones por hora a una presión de 50 Pa n50 [h-1]",{"$f":"IF(I19>=1500,M31,M26)","v":0},null,null,null,null,null,{"$f":"IFERROR(IF(OR(I21=0,I21=\"\",I26=\"\"),0,(1-I26/I21)),\"\")","v":0},{"$f":"IF(OR(M31=0,M31=\"\"),0,IF(M31>=0.5,0.125*G5,(M31/0.5)*0.125*G5))","v":0},"Edificios >1500 m3"]
[]
[null,null,null,null,null,{"$f":"IF(I19>=1500,\"Mejora el valor de la permeabilidad al aire de los huecos de la envolvente respecto del valor límite Q100 fijado por el DB HE\",\"\")","v":""},{"$f":"IF(M33=0,V6,V5)","v":"NO"},null,null,null,null,null,{"$f":"IF(OR(I28=\"\",I28=I23),0,IF(AND(I28=R6,I23=R5),1,IF(AND(I28=R7,I23=R6),1,IF(AND(I28=R7,I23=R5),1,0))))","v":0},{"$f":"IF(OR(M33=0,M33=\"\"),0,IF(M33>=1,0.125*G5,0))","v":0}]
[]
[]
[null,null,null,null,null,"Se cumple en todos los casos, incluidos puentes térmicos con el valor mínimo de Fpsi",null,null,null,null,null,null,null,{"$f":"IF(OR(I36=\"\",I36=\"No\"),0,0.25*G5)","v":0},"Puentes térmicos"]
[]
[null,null,null,null,"NOTAS"]
[]
[null,null,null,null,"DOCUMENTOS JUSTIFICATIVOS"]
[]
[null,null,null,null,"CE 01.01","Cuadro de valores de transmitancia térmica de los elementos de la envolvente"]
[]
[null,null,null,null,"CE 01.02","Documentos justificativos del cálculo del parámetro de control solar"]
[]
[null,null,null,null,"CE 01.03","Informe de resultados de la determinación de la permeabilidad al aire. Evaluación de la relación del cambio de aire n50 en h-1 y, si procede, cálculos de la relación del cambio de aire de superficies externas q50 en m3/(h · m2) a una diferencia de presión de 50 Pa de acuerdo con UNE EN ISO 9972:2019."]
[]
[null,null,null,null,"CEC 01.04","Documentación de la permeabilidad al aire de los huecos Q de acuerdo a UNE EN 12207 y detalles de la clase calculada en función de la declaración ambiental de producto. Los detalles se deben tomar de la hoja de datos técnicos correspondiente a las ventanas y puertas como valores de banco de pruebas."]
[]
[null,null,null,null,"CE 01.05","Informe elaborado por especialista que declare que el diseño de la envolvente evita las condensaciones que producirían una merma significativa en sus prestaciones térmicas o supondrían un riesgo de degradación o pérdida de su vida útil."]
[]
[null,null,null,null,"CE 01.06","Cálculo de los puentes térmicos, que demuestre que se cumple con el aislamiento térmico previsto en proyecto y que este es suficiente para cumplir con los objetivos de demanda. Documento DA DB HE / 3 Puentes térmicos"]
[]
[null,null,null,null,"CE 01.07","Detalles de los puentes térmicos justificando los parámetros establecidos en el criterio."]
[]
[null,null,null,null,"VALORACIÓN DEL CRITERIO",null,{"$f":"IF(I19>=1500,N11+N17+N31+N33+N36,N11+N17+N26+N36)","v":0}]
[]
[]
[]
[null,null,null,null,{"$f":"'Matriz VERDE-GBCe'!V56","v":"CE 04"},{"$f":"VLOOKUP($E60,'Matriz VERDE-GBCe'!$V$7:$AH$59,2,FALSE)","v":"Calidad en la construcción"},{"$f":"VLOOKUP($E60,'Matriz VERDE-GBCe'!$V$7:$AH$59,3,FALSE)","v":3.6501266095576745E-2}]
[]
[null,null,null,null,null,"Se ha realizado e implementado un plan de control de calidad en la construcción del edificio",null,null,null,null,null,null,{"$f":"IF($I62=\"Sí\",$G60*0.3,0)","v":0}]
[]
[null,null,null,null,null,"Se ha realizado e implementado un plan gestión ambiental durante la construcción del edificio",null,null,null,null,null,null,{"$f":"IF($I64=\"Sí\",$G60*0.2,0)","v":0}]
[]
[null,null,null,null,"Pruebas de control de calidad a realizar al final de la obra"]
[]
[null,null,null,null,null,"Se ha medido la presión diferencial mediante un endayo blower door",null,null,null,null,null,null,{"$f":"IF($I68=\"sí\",$G60*0.2,0)","v":0}]
[]
[null,null,null,null,null,"Se ha medido el aislamiento acústico en obra terminada",null,null,null,null,null,null,{"$f":"IF($I70=\"sí\",$G60*0.1,0)","v":0}]
[]
[null,null,null,null,null,"Se han realizado pruebas de estanqueidad en cubiertas y carpinterías",null,null,null,null,null,null,{"$f":"IF($I72=\"sí\",$G60*0.1,0)","v":0}]
[]
[null,null,null,null,null,"Se han realizado otras mediciones relevantes para el edificio",null,null,null,null,null,null,{"$f":"IF($I74=\"sí\",$G60*0.1,0)","v":0}]
[]
[]
[null,null,null,null,null,"Se han recogido las garantías de calidad de los productos durante la ejecución de la obra",null,null,null,null,null,null,{"$f":"IF($I77=\"sí\",$G60*0.1,0)","v":0}]
[]
[null,null,null,null,"NOTAS"]
[]
[null,null,null,null,"DOCUMENTOS JUSTIFICATIVOS"]
[]
[null,null,null,null,"CE 04.01","Plan de control de calidad\n"]
[]
[null,null,null,null,"CE 04.02","Informes del control de calidad realizado durante la ejecución del edificio."]
[]
[null,null,null,null,"CE 04.03","Plan de gestión ambiental"]
[]
[null,null,null,null,"CE 04.04","Informes del control del cumplimiento del plan de gestión ambiental durante la ejecución del edificio."]
[]
[null,null,null,null,"CE 04.05","Informes de las entidades o laboratorios que realicen las pruebas o mediciones de control de calidad\n"]
[]
[null,null,null,null,"CE 04.06","Documentación de los materiales utilizados en la obra afectados por el plan de control de calidad"]
[]
[null,null,null,null,"VALORACIÓN DEL CRITERIO",null,{"$f":"IF((M68+M70+M72+M74)>=0.4*G60,(0.4*G60)+M62+M64+M77,M62+M64+M68+M70+M72+M74+M77)","v":0}]
[]
[null,null,null,null,null,null,null,null,null,null,null,null,null,{"$f":"'DG '!F29","v":0}]
[]
[null,null,null,null,{"$f":"'Matriz VERDE-GBCe'!V57","v":"CE 05"},{"$f":"VLOOKUP($E99,'Matriz VERDE-GBCe'!$V$7:$AH$59,2,FALSE)","v":"Puesta en marcha sistemática"},{"$f":"VLOOKUP($E99,'Matriz VERDE-GBCe'!$V$7:$AH$59,3,FALSE)","v":3.7902052691126557E-2},null,null,null,null,null,null,"Edificio existente"]
[]
[null,null,null,null,null,"Se ha implementado un plan de monitorización de los consumos adecuado para el edificio",null,null,null,null,null,null,{"$f":"IF($I101=\"sí\",$G99*0.15,0)","v":0},{"$f":"IF($I101=\"sí\",$G99*0.3,0)","v":0}]
[]
[null,null,null,null,null,"Se ha elaborado un plan de puesta en marcha adecuado para el edificio.",null,null,null,null,null,null,{"$f":"IF($I103=\"sí\",$G99*0.1,0)","v":0}]
[]
[null,null,null,null,null,"Todos los componentes técnicos esenciales han sido sometidos a una prueba de funcionamiento preliminar",null,null,null,null,null,null,{"$f":"IF($I105=\"sí\",$G99*0.1,0)","v":0}]
[]
[null,null,null,null,null,{"$f":"IF(N97=\"Edificio existente\",\"El operador ha recibido formación sobre como utilizar todos los sistemas\",\"Todos los sistemas técnicos esenciales han sido sometidos a su puesta en marcha, conforme especificaciones del criterios y el operador ha recibido formación sobre como utilizar todos los sistemas\")","v":"Todos los sistemas técnicos esenciales han sido sometidos a su puesta en marcha, conforme especificaciones del criterios y el operador ha recibido formación sobre como utilizar todos los sistemas"},null,null,null,null,null,null,{"$f":"IF($I107=\"sí\",$G99*0.15,0)","v":0},{"$f":"IF($I107=\"sí\",$G99*0.3,0)","v":0}]
[]
[]
[null,null,null,null,null,"SI(Se documenta todo el proceso de puesta en marcha en un informe que permitirá a los futuros operadores comprender los resultados de las pruebas",null,null,null,null,null,null,{"$f":"IF($I110=\"sí\",$G99*0.2,0)","v":0}]
[]
[]
[null,null,null,null,null,{"$f":"IF(N97=\"Edificio existente\",\"Cuenta con un plan de mantenimiento preventivo sistemático\",\"Se ha elaborado un manual de funcionamiento integral de las instalaciones del edificio. Se elabora un plan de mantenimiento preventivo sistemático\")","v":"Se ha elaborado un manual de funcionamiento integral de las instalaciones del edificio. Se elabora un plan de mantenimiento preventivo sistemático"},null,null,null,null,null,null,{"$f":"IF($I113=\"sí\",$G99*0.2,0)","v":0},{"$f":"IF($I113=\"sí\",$G99*0.4,0)","v":0}]
[]
[]
[null,null,null,null,null,"Se ha realizado una Gestión de la puesta en marcha conforme a las especificaciones del criterio",null,null,null,null,null,null,{"$f":"IF($I116=\"sí\",$G99*0.1,0)","v":0}]
[]
[null,null,null,null,"NOTAS"]
[]
[null,null,null,null,"DOCUMENTOS JUSTIFICATIVOS"]
[null,null,null,null,null,null,null,null,null,null,null,null,0.4]
[null,null,null,null,"CE 05.01","Definición del sistema de monitorización que recoja los requisitos del cliente y especifique los parámetros a considerar, que deberán incluir al menos la medición exhaustiva del consumo de energía y agua mensualmente."]
[]
[null,null,null,null,"CE 05.02","Plan de puesta en marcha que incluya objetivos medibles en materia de consumo, temperaturas, rendimiento, etc., y un protocolo para la documentación completa de los procesos de regulación y reajuste"]
[]
[null,null,null,null,"CE 05.03","Extractos de los informes de puesta en servicio y documentos contractuales con un organismo independiente para llevar a cabo la gestión de la puesta en marcha."]
[]
[null,null,null,null,"CE 05.04","Certificados de entrega para pruebas de funcionamiento preliminares completadas."]
[]
[null,null,null,null,"CE 05.05","Certificados de entrega para la puesta en marcha completada."]
[]
[null,null,null,null,"CE 05.06","Lista de pruebas de funcionamiento completadas e informes asociados (para todos los sistemas como son los de calefacción, ventilación, sistemas automáticos de riego, etc.) con sus resultados."]
[]
[null,null,null,null,"CE 05.07","Plan para transformar la puesta en marcha en un proceso de monitorización y optimización continua."]
[]
[null,null,null,null,"CE 05.08","Extracto del contrato de revisión del sistema en los 14 primeros meses."]
[]
[null,null,null,null,"VALORACIÓN DEL CRITERIO",null,{"$f":"IF(N97=\"Edificio existente\",N101+N107+N113,M101+M103+M105+M107+M110+M113+M116)","v":0}]
[]
[]
[]
[null,null,null,null,{"$f":"'Matriz VERDE-GBCe'!V58","v":"CE 06"},{"$f":"VLOOKUP($E142,'Matriz VERDE-GBCe'!$V$7:$AH$59,2,FALSE)","v":"Custodia de la documentación del proyecto"},{"$f":"VLOOKUP($E142,'Matriz VERDE-GBCe'!$V$7:$AH$59,3,FALSE)","v":3.3699692904477128E-2}]
[]
[null,null,null,null,null,"El protocolo de custodia de la documentación del proyecto incluye a propietarios, equipo de proyecto y promotores.",null,null,null,null,null,null,{"$f":"IF(I144=\"sí\",G142*0.4,0)","v":0}]
[]
[]
[null,null,null,null,null,"El proyecto está realizado según la metodología BIM (siglas en inglés de building information modeling) siguiendo las especificaciones del criterio",null,null,null,null,null,null,{"$f":"IF(I147=\"sí\",G142*0.6,0)","v":0}]
[]
[]
[null,null,null,null,"NOTAS"]
[]
[null,null,null,null,"DOCUMENTOS JUSTIFICATIVOS"]
[]
[null,null,null,null,"CE 06.01","Protocolo de custodia de la documentación del proyecto"]
[]
[null,null,null,null,"CE 06.02","Libro del edificio que incluya el protocolo de custodia de la documentación del proyecto"]
[]
[null,null,null,null,"CE 06.03","Pliegos de licitación o contrato que defina todos los requisitos establecidos en el criterio para diseño del proyecto BIM"]
[]
[null,null,null,null,"VALORACIÓN DEL CRITERIO",null,{"$f":"M144+M147","v":0}]
[]
[]
[]
[null,null,null,null,{"$f":"'Matriz VERDE-GBCe'!V59","v":"CE 07"},{"$f":"VLOOKUP($E164,'Matriz VERDE-GBCe'!$V$7:$AH$59,2,FALSE)","v":"Certificaciones voluntarias de edificios"},{"$f":"VLOOKUP($E164,'Matriz VERDE-GBCe'!$V$7:$AH$59,3,FALSE)","v":0}]
[]
[null,null,null,null,null,"El edificio cuenta con una certificación VERDE",null,null,null,null,null,null,{"$f":"IF(I166=\"sí\",G164,0)","v":0}]
[]
[null,null,null,null,null,"El edificio cuenta con otra certificación voluntaria que valora la sostenibilidad en la edificación.",null,null,null,null,null,null,{"$f":"IF(I168=\"sí\",G164*0.5,0)","v":0}]
[]
[null,null,null,null,"NOTAS"]
[]
[null,null,null,null,"DOCUMENTOS JUSTIFICATIVOS"]
[]
[null,null,null,null,"CE 07.01","Certificado voluntario que valore la sostenibilidad del edificio"]
[]
[null,null,null,null,"VALORACIÓN DEL CRITERIO",null,{"$f":"IF(I166=\"Sí\",M166,M168)","v":0}]
[]
[]
[]
[]
[]
[null,null,null,null,null,null,"VALORACIÓN ÁREA"]
[]
[null,null,null,null,null,null,"SUBTOTAL",null,{"$f":"G56+G95+G138+G160+G176","v":0}]
[]
[null,null,null,null,null,null,"SOBRE",null,{"$f":"VLOOKUP(C$2,'Matriz VERDE-GBCe'!$U$4:$AH$55,4,FALSE)","v":0.13786972684661389}]
[]
[]
[]
[]
[]
[]
[null,null,null,null,null,null,"SÍ",null,"x"]

{"sheet":"IN","index":37,"n_rows":50,"n_cols":23,"rows_kept":50,"cut":false,"hidden":false,"merged":[[1,2,1,3],[1,4,1,5],[1,6,1,7],[29,4,29,5],[29,6,29,7],[20,3,20,4],[24,3,24,4],[8,6,8,7],[12,6,12,7],[16,6,16,7],[20,6,20,7],[24,6,24,7],[39,6,39,9],[8,3,8,4],[12,3,12,4],[16,3,16,4],[31,5,31,6],[33,4,33,5],[27,6,27,7]]}
[]
[null,null,"INN",null,"INNOVACIÓN",null,null,null,null,null,null,null,null,null,"SÍ"]
[null,null,null,null,null,null,null,null,null,null,null,null,null,null,"NO"]
[]
[null,null,null,null,"INN","Medidas de innovación propuestas",0.05,null,null,null,null,null,null,null,null,null,null,null,null,"SE ADJUNTA",null,"SÍ","NO"]
[null,null,null,null,null,null,null,null,null,null,null,null,null,null,null,null,null,null,null,"NO SE ADJUNTA",null,"NO"]
[null,null,null,null,null,"medida de innovación 1",null,null,null,null,null,null,null,null,null,null,null,null,null,"NO APLICA"]
[null,null,null,null,null,null,null,null,null,null,null,null,null,null,null,null,null,null,null,"NO SE ADJUNTA",null,"NO"]
[null,null,null,"Descripción:",null,null,null,null,null,null,null,null,null,null,null,null,null,null,null,"NO APLICA"]
[null,null,null,null,null,null,null,null,null,null,null,null,null,null,null,null,null,null,null,"NO SE ADJUNTA",null,"NO"]
[null,null,null,null,null,"medida de innovación 2",null,null,null,null,null,null,null,null,null,null,null,null,null,"NO APLICA"]
[null,null,null,null,null,null,null,null,null,null,null,null,null,null,null,null,null,null,null,"NO SE ADJUNTA",null,"NO"]
[null,null,null,"Descripción:",null,null,null,null,null,null,null,null,null,null,null,null,null,null,null,"NO APLICA"]
[null,null,null,null,null,null,null,null,null,null,null,null,null,null,null,null,null,null,null,"NO SE ADJUNTA",null,"NO"]
[null,null,null,null,null,"medida de innovación 3",null,null,null,null,null,null,null,null,null,null,null,null,null,"NO APLICA"]
[null,null,null,null,null,null,null,null,null,null,null,null,null,null,null,null,null,null,null,"NO SE ADJUNTA",null,"NO"]
[null,null,null,"Descripción:",null,null,null,null,null,null,null,null,null,null,null,null,null,null,null,"NO APLICA"]
[null,null,null,null,null,null,null,null,null,null,null,null,null,null,null,null,null,null,null,"NO SE ADJUNTA",null,"NO"]
[null,null,null,null,null,"medida de innovación 4",null,null,null,null,null,null,null,null,null,null,null,null,null,"NO APLICA"]
[null,null,null,null,null,null,null,null,null,null,null,null,null,null,null,null,null,null,null,"NO SE ADJUNTA",null,"NO"]
[null,null,null,"Descripción:",null,null,null,null,null,null,null,null,null,null,null,null,null,null,null,"NO APLICA"]
[null,null,null,null,null,null,null,null,null,null,null,null,null,null,null,null,null,null,null,"NO SE ADJUNTA",null,"NO"]
[null,null,null,null,null,"medida de innovación 5",null,null,null,null,null,null,null,null,null,null,null,null,null,"NO APLICA"]
[null,null,null,null,null,null,null,null,null,null,null,null,null,null,null,null,null,null,null,"NO SE ADJUNTA",null,"NO"]
[null,null,null,"Descripción:",null,null,null,null,null,null,null,null,null,null,null,null,null,null,null,"NO APLICA"]
[]
[]
[null,null,null,null,"NOTAS"]
[]
[null,null,null,null,"DOCUMENTOS JUSTIFICATIVOS"]
[]
[]
[]
[null,null,null,null,"VALORACIÓN DEL CRITERIO",null,{"$f":"(IF(I7=\"SÍ\",0.01,0))+(IF(I11=\"SÍ\",0.01,0))+(IF(I15=\"SÍ\",0.01,0))+(IF(I19=\"SÍ\",0.01,0))+(IF(I23=\"SÍ\",0.01,0))","v":0}]
[]
[]
[]
[]
[]
[null,null,null,null,null,null,"VALORACIÓN ÁREA"]
[]
[null,null,null,null,null,null,"SUBTOTAL",null,{"$f":"G34","v":0}]
[]
[null,null,null,null,null,null,"SOBRE",null,0.05]
[]
[]
[]
[]
[]
[null,null,null,null,null,null,"SÍ",null,"x"]

{"sheet":"Informe resultados","index":38,"n_rows":79,"n_cols":31,"rows_kept":79,"cut":false,"hidden":false,"merged":[[73,10,73,11],[73,12,73,13],[31,6,31,9],[32,6,32,9],[36,6,36,9],[37,6,37,9],[39,6,39,9],[40,6,40,9],[41,6,41,9],[42,6,42,9],[43,6,43,9],[45,6,45,9],[46,6,46,9],[51,10,55,10],[51,12,55,12],[2,4,2,14],[1,4,1,14],[35,4,37,4],[35,6,35,9],[26,4,34,4],[26,6,26,9],[26,10,34,10],[33,6,33,9],[34,6,34,9],[25,6,25,9],[25,4,25,5],[27,6,27,9],[28,6,28,9],[30,6,30,9],[29,6,29,9],[73,4,73,9],[39,4,50,4],[44,6,44,9],[63,6,63,9],[56,4,64,4],[51,4,55,4],[48,6,48,9],[51,6,51,9],[54,6,54,9],[52,6,52,9],[53,6,53,9],[56,6,56,9],[57,6,57,9],[59,6,59,9],[60,6,60,9],[49,6,49,9],[56,14,64,14],[39,12,50,12],[56,12,64,12],[56,10,64,10],[61,6,61,9],[58,6,58,9],[51,15,55,15],[55,6,55,9],[38,6,38,9],[51,14,55,14],[39,10,50,10],[50,6,50,9],[47,6,47,9],[39,15,50,15],[39,14,50,14],[62,6,62,9],[65,3,71,3],[65,15,71,15],[65,14,71,14],[65,4,71,4],[67,6,67,9],[71,6,71,9],[66,6,66,9],[65,10,71,10],[70,6,70,9],[68,6,68,9],[69,6,69,9],[65,6,65,9],[65,12,71,12],[64,6,64,9],[56,15,64,15],[26,3,34,3],[35,3,37,3],[39,3,50,3],[56,3,64,3],[51,3,55,3],[3,7,3,16],[35,12,38,12],[35,10,38,10],[35,14,38,14],[35,15,38,15],[26,14,34,14],[26,15,34,15],[26,12,34,12],[4,4,24,15]]}
[]
[null,null,null,null,"INFORME DEL COMPORTAMIENTO SOSTENIBLE PARA VERDE Edificios 2020 Residencial Privado"]
[null,null,null,null,"CONJUNTO DE CRITERIOS"]
[]
[]
[]
[]
[]
[]
[]
[]
[null,null,null,null,null,null,null,null,null,null,null,null,null,null,null,null,null,null,null,null,null,null,null,null,null,null,"5 hojas","4 hojas","3 hojas%","2 hojas","1 hojas"]
[null,null,null,null,null,null,null,null,null,null,null,null,null,null,null,null,null,null,null,null,null,null,null,null,null,null,0.8,0.8,0.8,0.8,0.8]
[null,null,null,null,null,null,null,null,null,null,null,null,null,null,null,null,null,null,null,null,null,null,null,null,null,null,0.6,0.6,0.6,0.6,0.6]
[null,null,null,null,null,null,null,null,null,null,null,null,null,null,null,null,null,null,null,null,null,null,null,null,null,null,0.5,0.5,0.5,0.5,0.5]
[null,null,null,null,null,null,null,null,null,null,null,null,null,null,null,null,null,null,null,null,null,null,null,null,null,null,0.4,0.4,0.4,0.4,0.4]
[null,null,null,null,null,null,null,null,null,null,null,null,null,null,null,null,null,null,null,null,null,null,null,null,null,null,0.3,0.3,0.3,0.3,0.3]
[]
[]
[]
[]
[]
[]
[]
[]
[null,null,null,"Áreas de criterios","Áreas de criterios",null,"Criterio",null,null,null,"Peso del área","Peso del criterio","Puntuación del área","Puntuación del criterio","Porcentaje de cumplimiento","Nota relativa"]
[null,null,null,"PE",{"$f":"'Matriz VERDE-GBCe'!V6","v":"Parcela y emplazamiento"},{"$f":"'Matriz VERDE-GBCe'!V7","v":"PE 01"},{"$f":"VLOOKUP($F27,'Matriz VERDE-GBCe'!$V$7:$AH$59,2,FALSE)","v":"Proximidad al transporte publico."},null,null,null,{"$f":"SUM(L27:L35)","v":0.15998599213404449},{"$f":"VLOOKUP($F27,'Matriz VERDE-GBCe'!$V$7:$AH$59,3,FALSE)","v":1.5004579494639301E-2},{"$f":"SUM(N27:N35)","v":0},{"$f":"PE!G23","v":0},{"$f":"IF(K27=0,0,M27/K27)","v":0},{"$f":"IF(O27>80%,5,IF(O27>60%,4,IF(O27>50%,3,IF(O27>40%,2,IF(O27>30%,1,0)))))","v":0}]
[null,null,null,null,null,{"$f":"'Matriz VERDE-GBCe'!V8","v":"PE 02"},{"$f":"VLOOKUP($F28,'Matriz VERDE-GBCe'!$V$7:$AH$59,2,FALSE)","v":"Proximidad a equipamiento y servicios."},null,null,null,null,{"$f":"VLOOKUP($F28,'Matriz VERDE-GBCe'!$V$7:$AH$59,3,FALSE)","v":1.4142556974300955E-2},null,{"$f":"PE!G47","v":0}]
[null,null,null,null,null,{"$f":"'Matriz VERDE-GBCe'!V9","v":"PE 03"},{"$f":"VLOOKUP($F29,'Matriz VERDE-GBCe'!$V$7:$AH$59,2,FALSE)","v":"Facilidades para la bicicleta."},null,null,null,null,{"$f":"VLOOKUP($F29,'Matriz VERDE-GBCe'!$V$7:$AH$59,3,FALSE)","v":1.7105759387964013E-2},null,{"$f":"PE!G96","v":0}]
[null,null,null,null,null,{"$f":"'Matriz VERDE-GBCe'!V10","v":"PE 04"},{"$f":"VLOOKUP($F30,'Matriz VERDE-GBCe'!$V$7:$AH$59,2,FALSE)","v":"Capacidad de carga de vehículos eléctricos."},null,null,null,null,{"$f":"VLOOKUP($F30,'Matriz VERDE-GBCe'!$V$7:$AH$59,3,FALSE)","v":1.6809439146597709E-2},null,{"$f":"PE!G124","v":0}]
[null,null,null,null,null,{"$f":"'Matriz VERDE-GBCe'!V11","v":"PE 05"},{"$f":"VLOOKUP($F31,'Matriz VERDE-GBCe'!$V$7:$AH$59,2,FALSE)","v":"Clasificación de RSU."},null,null,null,null,{"$f":"VLOOKUP($F31,'Matriz VERDE-GBCe'!$V$7:$AH$59,3,FALSE)","v":1.1852809654652225E-2},null,{"$f":"PE!G169","v":0}]
[null,null,null,null,null,{"$f":"'Matriz VERDE-GBCe'!V12","v":"PE 06"},{"$f":"VLOOKUP($F32,'Matriz VERDE-GBCe'!$V$7:$AH$59,2,FALSE)","v":"Gestión y Restauración del hábitat."},null,null,null,null,{"$f":"VLOOKUP($F32,'Matriz VERDE-GBCe'!$V$7:$AH$59,3,FALSE)","v":2.3948063143149616E-2},null,{"$f":"PE!G196","v":0}]
[null,null,null,null,null,{"$f":"'Matriz VERDE-GBCe'!V13","v":"PE 07"},{"$f":"VLOOKUP($F33,'Matriz VERDE-GBCe'!$V$7:$AH$59,2,FALSE)","v":"Uso de plantas para crear sombras."},null,null,null,null,{"$f":"VLOOKUP($F33,'Matriz VERDE-GBCe'!$V$7:$AH$59,3,FALSE)","v":1.9018371854964713E-2},null,{"$f":"PE!G222","v":0}]
[null,null,null,null,null,{"$f":"'Matriz VERDE-GBCe'!V14","v":"PE 08"},{"$f":"VLOOKUP($F34,'Matriz VERDE-GBCe'!$V$7:$AH$59,2,FALSE)","v":"Efecto isla de calor."},null,null,null,null,{"$f":"VLOOKUP($F34,'Matriz VERDE-GBCe'!$V$7:$AH$59,3,FALSE)","v":2.1442810193416303E-2},null,{"$f":"PE!G273","v":0}]
[null,null,null,null,null,{"$f":"'Matriz VERDE-GBCe'!V15","v":"PE 09"},{"$f":"VLOOKUP($F35,'Matriz VERDE-GBCe'!$V$7:$AH$59,2,FALSE)","v":"Contaminación lumínica."},null,null,null,null,{"$f":"VLOOKUP($F35,'Matriz VERDE-GBCe'!$V$7:$AH$59,3,FALSE)","v":2.0661602284359679E-2},null,{"$f":"PE!G297","v":0}]
[null,null,null,"EA",{"$f":"'Matriz VERDE-GBCe'!V16","v":"Energía y atmósfera"},{"$f":"'Matriz VERDE-GBCe'!V18","v":"EA 01"},{"$f":"VLOOKUP($F36,'Matriz VERDE-GBCe'!$V$7:$AH$59,2,FALSE)","v":"Consumo de energía primaria"},null,null,null,{"$f":"SUM(L36:L39)","v":0.18471526318625081},{"$f":"VLOOKUP($F36,'Matriz VERDE-GBCe'!$V$7:$AH$59,3,FALSE)","v":7.9144442648564212E-2},{"$f":"SUM(N36:N39)","v":0},{"$f":"EA!G65","v":0},{"$f":"IF(K36=0,0,M36/K36)","v":0},{"$f":"IF(O36>80%,5,IF(O36>60%,4,IF(O36>50%,3,IF(O36>40%,2,IF(O36>30%,1,0)))))","v":0}]
[null,null,null,null,null,{"$f":"'Matriz VERDE-GBCe'!V19","v":"EA 02"},{"$f":"VLOOKUP($F37,'Matriz VERDE-GBCe'!$V$7:$AH$59,2,FALSE)","v":"Generación distribuida"},null,null,null,null,{"$f":"VLOOKUP($F37,'Matriz VERDE-GBCe'!$V$7:$AH$59,3,FALSE)","v":5.0913205107483449E-2},null,{"$f":"EA!G107","v":0}]
[null,null,null,null,null,{"$f":"'Matriz VERDE-GBCe'!V20","v":"EA 03"},{"$f":"VLOOKUP($F38,'Matriz VERDE-GBCe'!$V$7:$AH$59,2,FALSE)","v":"Consumo en zonas comunes"},null,null,null,null,{"$f":"VLOOKUP($F38,'Matriz VERDE-GBCe'!$V$7:$AH$59,3,FALSE)","v":2.6668821722967515E-2},null,{"$f":"EA!G151","v":0}]
[null,null,null,null,null,{"$f":"'Matriz VERDE-GBCe'!V22","v":"EA 04"},{"$f":"VLOOKUP($F39,'Matriz VERDE-GBCe'!$V$7:$AH$59,2,FALSE)","v":"Elección responsable de refrigerantes"},null,null,null,null,{"$f":"VLOOKUP($F39,'Matriz VERDE-GBCe'!$V$7:$AH$59,3,FALSE)","v":2.7988793707235605E-2},null,{"$f":"EA!G165","v":0}]
[null,null,null,"RN",{"$f":"'Matriz VERDE-GBCe'!V23","v":"Recursos naturales"},{"$f":"'Matriz VERDE-GBCe'!V24","v":"RN 01"},{"$f":"VLOOKUP($F40,'Matriz VERDE-GBCe'!$V$7:$AH$59,2,FALSE)","v":"Consumo de agua en aparatos sanitarios"},null,null,null,{"$f":"SUM(L40:L51)","v":0.26345563277840633},{"$f":"VLOOKUP($F40,'Matriz VERDE-GBCe'!$V$7:$AH$59,3,FALSE)","v":2.2466461936318089E-2},{"$f":"SUM(N40:N51)","v":0},{"$f":"RN!G25","v":0},{"$f":"IF(K40=0,0,M40/K40)","v":0},{"$f":"IF(O40>80%,5,IF(O40>60%,4,IF(O40>50%,3,IF(O40>40%,2,IF(O40>30%,1,0)))))","v":0}]
[null,null,null,null,null,{"$f":"'Matriz VERDE-GBCe'!V25","v":"RN 02"},{"$f":"VLOOKUP($F41,'Matriz VERDE-GBCe'!$V$7:$AH$59,2,FALSE)","v":"Necesidades de riego en jardines."},null,null,null,null,{"$f":"VLOOKUP($F41,'Matriz VERDE-GBCe'!$V$7:$AH$59,3,FALSE)","v":2.2897473196487259E-2},null,{"$f":"RN!G51","v":0}]
[null,null,null,null,null,{"$f":"'Matriz VERDE-GBCe'!V26","v":"RN 03"},{"$f":"VLOOKUP($F42,'Matriz VERDE-GBCe'!$V$7:$AH$59,2,FALSE)","v":"Consumos de agua singulares."},null,null,null,null,{"$f":"VLOOKUP($F42,'Matriz VERDE-GBCe'!$V$7:$AH$59,3,FALSE)","v":1.9018371854964713E-2},null,{"$f":"RN!G72","v":0}]
[null,null,null,null,null,{"$f":"'Matriz VERDE-GBCe'!V27","v":"RN 04"},{"$f":"VLOOKUP($F43,'Matriz VERDE-GBCe'!$V$7:$AH$59,2,FALSE)","v":"Uso de agua no potable."},null,null,null,null,{"$f":"VLOOKUP($F43,'Matriz VERDE-GBCe'!$V$7:$AH$59,3,FALSE)","v":2.1873821453585476E-2},null,{"$f":"RN!G106","v":0}]
[null,null,null,null,null,{"$f":"'Matriz VERDE-GBCe'!V28","v":"RN 05"},{"$f":"VLOOKUP($F44,'Matriz VERDE-GBCe'!$V$7:$AH$59,2,FALSE)","v":"Uso de materiales reciclados."},null,null,null,null,{"$f":"VLOOKUP($F44,'Matriz VERDE-GBCe'!$V$7:$AH$59,3,FALSE)","v":1.9018371854964713E-2},null,{"$f":"RN!G154","v":0}]
[null,null,null,null,null,{"$f":"'Matriz VERDE-GBCe'!V29","v":"RN 06"},{"$f":"VLOOKUP($F45,'Matriz VERDE-GBCe'!$V$7:$AH$59,2,FALSE)","v":"Elección responsable de materiales"},null,null,null,null,{"$f":"VLOOKUP($F45,'Matriz VERDE-GBCe'!$V$7:$AH$59,3,FALSE)","v":1.9718765152739615E-2},null,{"$f":"RN!G184","v":0}]
[null,null,null,null,null,{"$f":"'Matriz VERDE-GBCe'!V30","v":"RN 07"},{"$f":"VLOOKUP($F46,'Matriz VERDE-GBCe'!$V$7:$AH$59,2,FALSE)","v":"Uso de materiales de producción local."},null,null,null,null,{"$f":"VLOOKUP($F46,'Matriz VERDE-GBCe'!$V$7:$AH$59,3,FALSE)","v":2.0715478691880826E-2},null,{"$f":"RN!G207","v":0}]
[null,null,null,null,null,{"$f":"'Matriz VERDE-GBCe'!V31","v":"RN 08"},{"$f":"VLOOKUP($F47,'Matriz VERDE-GBCe'!$V$7:$AH$59,2,FALSE)","v":"El edificio como banco de materiales"},null,null,null,null,{"$f":"VLOOKUP($F47,'Matriz VERDE-GBCe'!$V$7:$AH$59,3,FALSE)","v":2.2708905770163244E-2},null,{"$f":"RN!G248","v":0}]
[null,null,null,null,null,{"$f":"'Matriz VERDE-GBCe'!V32","v":"RN 09"},{"$f":"VLOOKUP($F48,'Matriz VERDE-GBCe'!$V$7:$AH$59,2,FALSE)","v":"Gestión de los residuos de la construcción."},null,null,null,null,{"$f":"VLOOKUP($F48,'Matriz VERDE-GBCe'!$V$7:$AH$59,3,FALSE)","v":1.6432304293949682E-2},null,{"$f":"RN!G277","v":0}]
[null,null,null,null,null,{"$f":"'Matriz VERDE-GBCe'!V33","v":"RN 10"},{"$f":"VLOOKUP($F49,'Matriz VERDE-GBCe'!$V$7:$AH$59,2,FALSE)","v":"Nivel de intervención en rehabilitaciones"},null,null,null,null,{"$f":"VLOOKUP($F49,'Matriz VERDE-GBCe'!$V$7:$AH$59,3,FALSE)","v":0},null,{"$f":"RN!G305","v":0}]
[null,null,null,null,null,{"$f":"'Matriz VERDE-GBCe'!V34","v":"RN 11"},{"$f":"VLOOKUP($F50,'Matriz VERDE-GBCe'!$V$7:$AH$59,2,FALSE)","v":"Impacto de los materiales de la construcción."},null,null,null,null,{"$f":"VLOOKUP($F50,'Matriz VERDE-GBCe'!$V$7:$AH$59,3,FALSE)","v":5.7566941436345026E-2},null,{"$f":"RN!G393","v":0}]
[null,null,null,null,null,{"$f":"'Matriz VERDE-GBCe'!V35","v":"RN 12"},{"$f":"VLOOKUP($F51,'Matriz VERDE-GBCe'!$V$7:$AH$59,2,FALSE)","v":"Ecoetiquetado de producto."},null,null,null,null,{"$f":"VLOOKUP($F51,'Matriz VERDE-GBCe'!$V$7:$AH$59,3,FALSE)","v":2.1038737137007706E-2},null,{"$f":"RN!G418","v":0}]
[null,null,null,{"$f":"'Matriz VERDE-GBCe'!U36","v":"AI"},{"$f":"'Matriz VERDE-GBCe'!V36","v":"Ambiente Interior."},{"$f":"'Matriz VERDE-GBCe'!V37","v":"AI 01"},{"$f":"VLOOKUP($F52,'Matriz VERDE-GBCe'!$V$7:$AH$59,2,FALSE)","v":"Limitación de las emisiones de COVs"},null,null,null,{"$f":"SUM(L52:L56)","v":7.8551802165831588E-2},{"$f":"VLOOKUP($F52,'Matriz VERDE-GBCe'!$V$7:$AH$59,3,FALSE)","v":1.9961208986584777E-2},{"$f":"SUM(N52:N56)","v":0},{"$f":"'AI '!G31","v":0},{"$f":"IF(K52=0,0,M52/K52)","v":0},{"$f":"IF(O52>80%,5,IF(O52>60%,4,IF(O52>50%,3,IF(O52>40%,2,IF(O52>30%,1,0)))))","v":0}]
[null,null,null,null,null,{"$f":"'Matriz VERDE-GBCe'!V38","v":"AI 02"},{"$f":"VLOOKUP($F53,'Matriz VERDE-GBCe'!$V$7:$AH$59,2,FALSE)","v":"Control de la calidad del aire"},null,null,null,null,{"$f":"VLOOKUP($F53,'Matriz VERDE-GBCe'!$V$7:$AH$59,3,FALSE)","v":1.9530197726415604E-2},null,{"$f":"'AI '!G50","v":0}]
[null,null,null,null,null,{"$f":"'Matriz VERDE-GBCe'!V39","v":"AI 03"},{"$f":"VLOOKUP($F54,'Matriz VERDE-GBCe'!$V$7:$AH$59,2,FALSE)","v":"Iluminación natural."},null,null,null,null,{"$f":"VLOOKUP($F54,'Matriz VERDE-GBCe'!$V$7:$AH$59,3,FALSE)","v":1.9530197726415604E-2},null,{"$f":"'AI '!G70","v":0}]
[null,null,null,null,null,{"$f":"'Matriz VERDE-GBCe'!V40","v":"AI 04"},{"$f":"VLOOKUP($F55,'Matriz VERDE-GBCe'!$V$7:$AH$59,2,FALSE)","v":"Iluminación artificial"},null,null,null,null,{"$f":"VLOOKUP($F55,'Matriz VERDE-GBCe'!$V$7:$AH$59,3,FALSE)","v":0},null,{"$f":"L55","v":0}]
[null,null,null,null,null,{"$f":"'Matriz VERDE-GBCe'!V41","v":"AI 05"},{"$f":"VLOOKUP($F56,'Matriz VERDE-GBCe'!$V$7:$AH$59,2,FALSE)","v":"Protección frente al ruido."},null,null,null,null,{"$f":"VLOOKUP($F56,'Matriz VERDE-GBCe'!$V$7:$AH$59,3,FALSE)","v":1.9530197726415604E-2},null,{"$f":"'AI '!G125","v":0}]
[null,null,null,{"$f":"'Matriz VERDE-GBCe'!U42","v":"AS"},{"$f":"'Matriz VERDE-GBCe'!V42","v":"Aspectos sociales"},{"$f":"'Matriz VERDE-GBCe'!V43","v":"AS 01"},{"$f":"VLOOKUP($F57,'Matriz VERDE-GBCe'!$V$7:$AH$59,2,FALSE)","v":"Espacios para todas las personas"},null,null,null,{"$f":"SUM(L57:L65)","v":0.17542158288885298},{"$f":"VLOOKUP($F57,'Matriz VERDE-GBCe'!$V$7:$AH$59,3,FALSE)","v":1.9180001077528153E-2},{"$f":"SUM(N57:N65)","v":0},{"$f":"AS!G36","v":0},{"$f":"IF(K57=0,0,M57/K57)","v":0},{"$f":"IF(O57>80%,5,IF(O57>60%,4,IF(O57>50%,3,IF(O57>40%,2,IF(O57>30%,1,0)))))","v":0}]
[null,null,null,null,null,{"$f":"'Matriz VERDE-GBCe'!V44","v":"AS 02"},{"$f":"VLOOKUP($F58,'Matriz VERDE-GBCe'!$V$7:$AH$59,2,FALSE)","v":"Espacios para la comunicación"},null,null,null,null,{"$f":"VLOOKUP($F58,'Matriz VERDE-GBCe'!$V$7:$AH$59,3,FALSE)","v":1.8479607779753247E-2},null,{"$f":"AS!G65","v":0}]
[null,null,null,null,null,{"$f":"'Matriz VERDE-GBCe'!V45","v":"AS 03"},{"$f":"VLOOKUP($F59,'Matriz VERDE-GBCe'!$V$7:$AH$59,2,FALSE)","v":"Derecho al sol"},null,null,null,null,{"$f":"VLOOKUP($F59,'Matriz VERDE-GBCe'!$V$7:$AH$59,3,FALSE)","v":1.7429017833090893E-2},null,{"$f":"AS!G87","v":0}]
[null,null,null,null,null,{"$f":"'Matriz VERDE-GBCe'!V46","v":"AS 04"},{"$f":"VLOOKUP($F60,'Matriz VERDE-GBCe'!$V$7:$AH$59,2,FALSE)","v":"Derecho a la intimidad"},null,null,null,null,{"$f":"VLOOKUP($F60,'Matriz VERDE-GBCe'!$V$7:$AH$59,3,FALSE)","v":1.6809439146597705E-2},null,{"$f":"AS!G103","v":0}]
[null,null,null,null,null,{"$f":"'Matriz VERDE-GBCe'!V47","v":"AS 05"},{"$f":"VLOOKUP($F61,'Matriz VERDE-GBCe'!$V$7:$AH$59,2,FALSE)","v":"Contacto visual con el exterior"},null,null,null,null,{"$f":"VLOOKUP($F61,'Matriz VERDE-GBCe'!$V$7:$AH$59,3,FALSE)","v":1.7860029093260062E-2},null,{"$f":"AS!G119","v":0}]
[null,null,null,null,null,{"$f":"'Matriz VERDE-GBCe'!V48","v":"AS 06"},{"$f":"VLOOKUP($F62,'Matriz VERDE-GBCe'!$V$7:$AH$59,2,FALSE)","v":"Espacios abiertos privados"},null,null,null,null,{"$f":"VLOOKUP($F62,'Matriz VERDE-GBCe'!$V$7:$AH$59,3,FALSE)","v":1.8210225742147514E-2},null,{"$f":"AS!G137","v":0}]
[null,null,null,null,null,{"$f":"'Matriz VERDE-GBCe'!V49","v":"AS 07"},{"$f":"VLOOKUP($F63,'Matriz VERDE-GBCe'!$V$7:$AH$59,2,FALSE)","v":"Diseño inclusivo"},null,null,null,null,{"$f":"VLOOKUP($F63,'Matriz VERDE-GBCe'!$V$7:$AH$59,3,FALSE)","v":2.0742416895641401E-2},null,{"$f":"AS!G160","v":0}]
[null,null,null,null,null,{"$f":"'Matriz VERDE-GBCe'!V50","v":"AS 08"},{"$f":"VLOOKUP($F64,'Matriz VERDE-GBCe'!$V$7:$AH$59,2,FALSE)","v":"Conexión con la naturaleza"},null,null,null,null,{"$f":"VLOOKUP($F64,'Matriz VERDE-GBCe'!$V$7:$AH$59,3,FALSE)","v":2.7342276816981845E-2},null,{"$f":"AS!G197","v":0}]
[null,null,null,null,null,{"$f":"'Matriz VERDE-GBCe'!V51","v":"AS 09"},{"$f":"VLOOKUP($F65,'Matriz VERDE-GBCe'!$V$7:$AH$59,2,FALSE)","v":"El edificio como herramienta de comunicación"},null,null,null,null,{"$f":"VLOOKUP($F65,'Matriz VERDE-GBCe'!$V$7:$AH$59,3,FALSE)","v":1.9368568503852164E-2},null,{"$f":"AS!G217","v":0}]
[null,null,null,{"$f":"'Matriz VERDE-GBCe'!U52","v":"CE"},{"$f":"'Matriz VERDE-GBCe'!V52","v":"Calidad de la edificación"},{"$f":"'Matriz VERDE-GBCe'!V53","v":"CE 01"},{"$f":"VLOOKUP($F66,'Matriz VERDE-GBCe'!$V$7:$AH$59,2,FALSE)","v":"Diseño pasivo"},null,null,null,{"$f":"SUM(L66:L72)","v":0.13786972684661389},{"$f":"VLOOKUP($F66,'Matriz VERDE-GBCe'!$V$7:$AH$59,3,FALSE)","v":2.9766715155433436E-2},{"$f":"SUM(N66:N72)","v":0},{"$f":"'CE '!G56","v":0},{"$f":"IF(K66=0,0,M66/K66)","v":0},{"$f":"IF(O66>80%,5,IF(O66>60%,4,IF(O66>50%,3,IF(O66>40%,2,IF(O66>30%,1,0)))))","v":0}]
[null,null,null,null,null,{"$f":"'Matriz VERDE-GBCe'!V54","v":"CE 02"},{"$f":"VLOOKUP($F67,'Matriz VERDE-GBCe'!$V$7:$AH$59,2,FALSE)","v":"Control parcial de los sistemas de clima"},null,null,null,null,{"$f":"VLOOKUP($F67,'Matriz VERDE-GBCe'!$V$7:$AH$59,3,FALSE)","v":0},null,{"$f":"L67","v":0}]
[null,null,null,null,null,{"$f":"'Matriz VERDE-GBCe'!V55","v":"CE 03"},{"$f":"VLOOKUP($F68,'Matriz VERDE-GBCe'!$V$7:$AH$59,2,FALSE)","v":"Control local de la iluminación"},null,null,null,null,{"$f":"VLOOKUP($F68,'Matriz VERDE-GBCe'!$V$7:$AH$59,3,FALSE)","v":0},null,{"$f":"L68","v":0}]
[null,null,null,null,null,{"$f":"'Matriz VERDE-GBCe'!V56","v":"CE 04"},{"$f":"VLOOKUP($F69,'Matriz VERDE-GBCe'!$V$7:$AH$59,2,FALSE)","v":"Calidad en la construcción"},null,null,null,null,{"$f":"VLOOKUP($F69,'Matriz VERDE-GBCe'!$V$7:$AH$59,3,FALSE)","v":3.6501266095576745E-2},null,{"$f":"'CE '!G95","v":0}]
[null,null,null,null,null,{"$f":"'Matriz VERDE-GBCe'!V57","v":"CE 05"},{"$f":"VLOOKUP($F70,'Matriz VERDE-GBCe'!$V$7:$AH$59,2,FALSE)","v":"Puesta en marcha sistemática"},null,null,null,null,{"$f":"VLOOKUP($F70,'Matriz VERDE-GBCe'!$V$7:$AH$59,3,FALSE)","v":3.7902052691126557E-2},null,{"$f":"'CE '!G138","v":0}]
[null,null,null,null,null,{"$f":"'Matriz VERDE-GBCe'!V58","v":"CE 06"},{"$f":"VLOOKUP($F71,'Matriz VERDE-GBCe'!$V$7:$AH$59,2,FALSE)","v":"Custodia de la documentación del proyecto"},null,null,null,null,{"$f":"VLOOKUP($F71,'Matriz VERDE-GBCe'!$V$7:$AH$59,3,FALSE)","v":3.3699692904477128E-2},null,{"$f":"'CE '!G160","v":0}]
[null,null,null,null,null,{"$f":"'Matriz VERDE-GBCe'!V59","v":"CE 07"},{"$f":"VLOOKUP($F72,'Matriz VERDE-GBCe'!$V$7:$AH$59,2,FALSE)","v":"Certificaciones voluntarias de edificios"},null,null,null,null,{"$f":"VLOOKUP($F72,'Matriz VERDE-GBCe'!$V$7:$AH$59,3,FALSE)","v":0},null,{"$f":"'CE '!G176","v":0}]
[null,null,null,"INN","Innovación","IN","Propuestas de innovación aceptadas",null,null,null,"+ 5%","+ 1%",{"$f":"IN!G34","v":0}]
[null,null,null,null,"TOTAL",null,null,null,null,null,{"$f":"SUM(K27:K72)","v":1},null,{"$f":"SUM(M27:M73)","v":0},null,null,{"$f":"IF(M74>80%,5,IF(M74>60%,4,IF(M74>50%,3,IF(M74>40%,2,IF(M74>30%,1,0)))))","v":0}]
[]
[]
[]
[]
[null,null,null,"1 hoja",null,null,null,null,null,null,null,null,null,null,0.3]

{"sheet":"Resultados por impactos","index":39,"n_rows":29,"n_cols":12,"rows_kept":29,"cut":false,"hidden":false,"merged":[[28,4,28,6],[26,4,26,6],[27,4,27,6],[5,2,7,2],[18,4,18,6],[19,4,19,6],[24,4,24,6],[21,4,21,6],[22,4,22,6],[23,4,23,6],[15,4,15,6],[16,4,16,6],[25,4,25,6],[17,4,17,6],[20,3,20,6],[7,4,7,6],[2,3,2,10],[1,3,1,10],[4,3,4,6],[5,4,5,6],[6,4,6,6],[13,4,13,6],[14,4,14,6],[8,4,8,6],[9,4,9,6],[10,4,10,6],[11,4,11,6],[12,4,12,6]]}
[]
[null,null,null,"INFORME DEL COMPORTAMIENTO SOSTENIBLE PARA VERDE Edificios 2020 Residencial Privado"]
[null,null,null,"CONJUNTO DE INDICADORES DE IMPACTOS"]
[]
[null,null,null,"Impactos negativos",null,null,null,"Peso del impacto","Puntuación máxima a obtener","Puntuación obtenida","Impacto evitado","Impacto residual"]
[null,null,null,"IN 01",{"$f":"'Matriz VERDE-GBCe'!AJ2","v":"Cambio climático"},null,null,{"$f":"HLOOKUP(E6,'Matriz VERDE-GBCe'!$AJ$2:$AX$5,4,FALSE)","v":9.375E-2},{"$f":"'Matriz VERDE-GBCe'!AZ61","v":1.3870442757723325E-2},{"$f":"'Matriz VERDE-GBCe'!BP61","v":0},{"$f":"IFERROR(IF(I6=0,0,IF(J6>I6,1,J6/I6)),0)","v":0},{"$f":"1-K6","v":1}]
[null,null,null,null,"Potencial de agotamiento de la capara de ozono estratosférica",null,null,0,0,0,{"$f":"IFERROR(IF(I7=0,0,IF(J7>I7,1,J7/I7)),0)","v":0},0]
[null,null,null,"IN 02",{"$f":"'Matriz VERDE-GBCe'!AK2","v":"Emisiones a la atmósfera, tierra y agua"},null,null,{"$f":"HLOOKUP(E8,'Matriz VERDE-GBCe'!$AJ$2:$AX$5,4,FALSE)","v":6.25E-2},{"$f":"'Matriz VERDE-GBCe'!BA61","v":4.8717160999202534E-3},{"$f":"'Matriz VERDE-GBCe'!BQ61","v":0},0,{"$f":"1-K8","v":1}]
[null,null,null,"IN 03",{"$f":"'Matriz VERDE-GBCe'!AL2","v":"Cambios en la biodiversidad"},null,null,{"$f":"HLOOKUP(E9,'Matriz VERDE-GBCe'!$AJ$2:$AX$5,4,FALSE)","v":9.375E-2},{"$f":"'Matriz VERDE-GBCe'!BB61","v":7.2561411088891276E-3},{"$f":"'Matriz VERDE-GBCe'!BR61","v":0},0,{"$f":"1-K9","v":1}]
[null,null,null,"IN 04",{"$f":"'Matriz VERDE-GBCe'!AM2","v":"Agotamiento de energía no renovable"},null,null,{"$f":"HLOOKUP(E10,'Matriz VERDE-GBCe'!$AJ$2:$AX$5,4,FALSE)","v":9.375E-2},{"$f":"'Matriz VERDE-GBCe'!BC61","v":5.6318887937444832E-3},{"$f":"'Matriz VERDE-GBCe'!BS61","v":0},0,{"$f":"1-K10","v":1}]
[null,null,null,null,"Agotamiento de recursos abióticos de elementos",null,null,{"$f":"HLOOKUP(E11,'Matriz VERDE-GBCe'!$AJ$2:$AX$5,4,FALSE)","v":{"$error":"#N/A"}},0,0,0,0]
[null,null,null,"IN 05",{"$f":"'Matriz VERDE-GBCe'!AN2","v":"Agotamiento de agua potable"},null,null,{"$f":"HLOOKUP(E12,'Matriz VERDE-GBCe'!$AJ$2:$AX$5,4,FALSE)","v":6.25E-2},{"$f":"'Matriz VERDE-GBCe'!BD61","v":2.4753573362328021E-3},{"$f":"'Matriz VERDE-GBCe'!BT61","v":0},0,{"$f":"1-K12","v":1}]
[null,null,null,"IN 06",{"$f":"'Matriz VERDE-GBCe'!AO2","v":"Agotamiento de recursos materiales"},null,null,{"$f":"HLOOKUP(E13,'Matriz VERDE-GBCe'!$AJ$2:$AX$5,4,FALSE)","v":6.25E-2},{"$f":"'Matriz VERDE-GBCe'!BE61","v":2.9074781506897847E-3},{"$f":"'Matriz VERDE-GBCe'!BU61","v":0},0,{"$f":"1-K13","v":1}]
[null,null,null,null,"Uso de energía primaria renovable utilizados como materia prima",null,null,{"$f":"HLOOKUP(E14,'Matriz VERDE-GBCe'!$AJ$2:$AX$5,4,FALSE)","v":{"$error":"#N/A"}},0,0,0,0]
[null,null,null,null,"Uso de energía primaria NO renovable excluyendo los recursos de energía utilizados como materia prima",null,null,{"$f":"HLOOKUP(E15,'Matriz VERDE-GBCe'!$AJ$2:$AX$5,4,FALSE)","v":{"$error":"#N/A"}},0,0,0,0]
[null,null,null,null,"Uso de recursos de energía primaria no renovable utilizados como materia prima",null,null,{"$f":"HLOOKUP(E16,'Matriz VERDE-GBCe'!$AJ$2:$AX$5,4,FALSE)","v":{"$error":"#N/A"}},0,0,0,0]
[null,null,null,"IN 07",{"$f":"'Matriz VERDE-GBCe'!AP2","v":"Generación de residuos"},null,null,{"$f":"HLOOKUP(E17,'Matriz VERDE-GBCe'!$AJ$2:$AX$5,4,FALSE)","v":3.125E-2},{"$f":"'Matriz VERDE-GBCe'!BF61","v":5.7209678464375602E-4},{"$f":"'Matriz VERDE-GBCe'!BV61","v":0},0,{"$f":"1-K17","v":1}]
[null,null,null,null,"Uso de combustibles secundarios renovables",null,null,0,0,0,{"$f":"IF(I18=0,0,J18/I18)","v":0},0]
[null,null,null,null,"Uso de combustibles secundarios NO renovables",null,null,0,0,0,{"$f":"IF(I19=0,0,J19/I19)","v":0},0]
[null,null,null,"I18","Residuos radioactivos vertidos",null,null,0,0,0,{"$f":"IF(I20=0,0,J20/I20)","v":0},0]
[null,null,null,"Impactos positivos",null,null,null,"Peso del impacto","Puntuación máxima a obtener","Puntuación obtenida","Beneficio obtenido","Beneficio perdido"]
[null,null,null,"IP 01",{"$f":"'Matriz VERDE-GBCe'!AQ2","v":"Accesibilidad"},null,null,{"$f":"HLOOKUP(E22,'Matriz VERDE-GBCe'!$AJ$2:$AX$5,4,FALSE)","v":6.25E-2},{"$f":"'Matriz VERDE-GBCe'!BG61","v":1.9670238396999034E-3},{"$f":"'Matriz VERDE-GBCe'!BW61","v":0},{"$f":"IFERROR(IF(I22=0,0,IF(J22>I22,1,J22/I22)),0)","v":0},{"$f":"1-K22","v":1}]
[null,null,null,"IP 02",{"$f":"'Matriz VERDE-GBCe'!AR2","v":"Adaptabilidad"},null,null,{"$f":"HLOOKUP(E23,'Matriz VERDE-GBCe'!$AJ$2:$AX$5,4,FALSE)","v":3.125E-2},{"$f":"'Matriz VERDE-GBCe'!BH61","v":3.1096863742859001E-4},{"$f":"'Matriz VERDE-GBCe'!BX61","v":0},{"$f":"IFERROR(IF(I23=0,0,IF(J23>I23,1,J23/I23)),0)","v":0},1]
[null,null,null,"IP 03",{"$f":"'Matriz VERDE-GBCe'!AS2","v":"Salud y confort"},null,null,{"$f":"HLOOKUP(E24,'Matriz VERDE-GBCe'!$AJ$2:$AX$5,4,FALSE)","v":9.375E-2},{"$f":"'Matriz VERDE-GBCe'!BI61","v":1.7318341022571639E-3},{"$f":"'Matriz VERDE-GBCe'!BY61","v":0},{"$f":"IFERROR(IF(I24=0,0,IF(J24>I24,1,J24/I24)),0)","v":0},1]
[null,null,null,"IP 04",{"$f":"'Matriz VERDE-GBCe'!AT2","v":"Impactos sobre el vecindario"},null,null,{"$f":"HLOOKUP(E25,'Matriz VERDE-GBCe'!$AJ$2:$AX$5,4,FALSE)","v":6.25E-2},{"$f":"'Matriz VERDE-GBCe'!BJ61","v":8.9964321548276788E-3},{"$f":"'Matriz VERDE-GBCe'!BZ61","v":0},0,1]
[null,null,null,"IP 05",{"$f":"'Matriz VERDE-GBCe'!AU2","v":"Mantenimiento"},null,null,{"$f":"HLOOKUP(E26,'Matriz VERDE-GBCe'!$AJ$2:$AX$5,4,FALSE)","v":3.125E-2},{"$f":"'Matriz VERDE-GBCe'!BK61","v":3.5695689896466957E-3},{"$f":"'Matriz VERDE-GBCe'!CA61","v":0},0,1]
[null,null,null,"IP 06",{"$f":"'Matriz VERDE-GBCe'!AV2","v":"Seguridad"},null,null,{"$f":"HLOOKUP(E27,'Matriz VERDE-GBCe'!$AJ$2:$AX$5,4,FALSE)","v":6.25E-2},{"$f":"'Matriz VERDE-GBCe'!BL61","v":1.1545560681714426E-3},{"$f":"'Matriz VERDE-GBCe'!CB61","v":0},0,1]
[null,null,null,"IP 07",{"$f":"'Matriz VERDE-GBCe'!AW2","v":"Aspectos económicos del resultado"},null,null,{"$f":"HLOOKUP(E28,'Matriz VERDE-GBCe'!$AJ$2:$AX$5,4,FALSE)","v":6.25E-2},{"$f":"'Matriz VERDE-GBCe'!BM61","v":8.9964321548276788E-3},{"$f":"'Matriz VERDE-GBCe'!CC61","v":0},0,1]
[null,null,null,"IP 08",{"$f":"'Matriz VERDE-GBCe'!AX2","v":"Ahorro en el coste del ciclo de vida"},null,null,{"$f":"HLOOKUP(E29,'Matriz VERDE-GBCe'!$AJ$2:$AX$5,4,FALSE)","v":9.375E-2},{"$f":"'Matriz VERDE-GBCe'!BN61","v":1.0708706968940086E-2},{"$f":"'Matriz VERDE-GBCe'!CD61","v":0},0,1]

{"sheet":"Indicadores","index":40,"n_rows":18,"n_cols":13,"rows_kept":18,"cut":false,"hidden":false,"merged":[[16,3,17,3],[16,4,17,4],[16,5,17,5],[9,3,13,3],[9,4,13,4],[9,5,13,5],[14,3,15,3],[14,4,15,4],[14,5,15,5],[13,6,13,7],[15,6,15,7],[1,3,1,9],[3,3,3,4],[4,3,8,3],[4,4,8,4],[4,5,8,5],[8,6,8,7],[2,4,2,6]]}
[]
[null,null,null,"INFORME DEL COMPORTAMIENTO SOSTENIBLE PARA VERDE Edificios 2020 Residencial Privado"]
[null,null,null,null,"INDICADORES AMBIENTALES",null,null,"Elija la base del indicador","m2 útiles",null,null,null,"m2 útiles"]
[null,null,null,"Impacto",null,"Indicador anual","Etapa","Alcance","Referencia","Objeto",null,null,"vivienda"]
[null,null,null,"IA 01","Cambio climático",{"$f":"IF(I3=\"\",\"\",IF(I3=M3,\"kg CO2 eq/m2\",\"kg CO2 eq/viv.\"))","v":"kg CO2 eq/m2"},"Etapa de producto","Materiales empleados en envolvente y particiones interiores",{"$f":"IFERROR(0,IF(I3=\"\",\"\",IF(I3=M3,RN!I338/'DG '!F20/50,RN!I338/'DG '!F25/50)))","v":0},{"$f":"IFERROR(0,IF(I3=\"\",\"\",IF(I3=M3,RN!I338/'DG '!F20/RN!I114,RN!I338/'DG '!F25/RN!I114)))","v":0}]
[null,null,null,null,null,null,"Etapa de construcción","Puesta en obra de los materiales del edificio",null,{"$f":"IFERROR(0,IF(I3=\"\",\"\",IF(I3=M3,RN!I346/'DG '!F20/RN!I114,RN!I346/'DG '!F25/RN!I114)))","v":0}]
[null,null,null,null,null,null,"Etapa de uso","Calefacción, refrigeración y ACS en uso",{"$f":"IFERROR(0,IF(I3=\"\",\"\",IF(I3=M3,EA!I19,EA!I21*'DG '!F19/'DG '!F25)))","v":0},{"$f":"IFERROR(0,IF(I3=\"\",\"\",IF(I3=M3,EA!I21,EA!I21*'DG '!F20/'DG '!F25)))","v":0}]
[null,null,null,null,null,null,"Etapa de fin de vida","Materiales empleados en envolvente y particiones interiores",null,{"$f":"IFERROR(0,IF(I3=\"\",\"\",IF(I3=M3,RN!I358/'DG '!F20/RN!I114,RN!I358/'DG '!F25/RN!I114)))","v":0}]
[null,null,null,null,null,null,"TOTAL",null,null,{"$f":"SUM(J5:J8)","v":0}]
[null,null,null,"IA 04","Agotamiento de energía",{"$f":"IF(I3=\"\",\"\",IF(I3=M3,\"kWh/m2\",\"kWh/viv.\"))","v":"kWh/m2"},"Etapa de producto","Materiales empleados en envolvente y particiones interiores",{"$f":"IFERROR(0,IF(I3=\"\",\"\",IF(I3=M3,(RN!I334*0.2778)/'DG '!F20/RN!I114,(RN!I334*0.2778)/'DG '!F25/RN!I114)))","v":0},{"$f":"IFERROR(0,IF(I3=\"\",\"\",IF(I3=M3,(RN!I340*0.2778)/'DG '!F20/RN!I114,(RN!I340*0.2778)/'DG '!F25/RN!I114)))","v":0}]
[null,null,null,null,null,null,"Etapa de  construcción","Materiales empleados en envolvente y particiones interiores",null,{"$f":"IFERROR(0,IF(I3=\"\",\"\",IF(I3=M3,(RN!I348*0.2778)/'DG '!F20/RN!I114,(RN!I348*0.2778)/'DG '!F25/RN!I114)))","v":0}]
[null,null,null,null,null,null,"Etapa de uso","Calefacción, refrigeración y ACS en uso",null,{"$f":"IFERROR(0,IF(I3=\"\",\"\",IF(I3=M3,EA!I27,EA!I27*'DG '!F20/'DG '!F25)))","v":0}]
[null,null,null,null,null,null,"Etapa de fin de vida","Materiales empleados en envolvente y particiones interiores",null,{"$f":"IFERROR(0,IF(I3=\"\",\"\",IF(I3=M3,(RN!I360*0.2778)/'DG '!F20/RN!I114,(RN!I360*0.2778)/'DG '!F25/RN!I114)))","v":0}]
[null,null,null,null,null,null,"TOTAL",null,null,{"$f":"SUM(J10:J13)","v":0}]
[null,null,null,"IA 05","Consumo de agua potable",{"$f":"IF(I3=\"\",\"\",IF(I3=M3,\"m3/m2\",\"m3/viv.\"))","v":"m3/m2"},"Etapa de uso","Uso de sanitarios y necesidades de riego.",{"$f":"IFERROR(0,IF(I3=\"\",\"\",IF(I3=M3,(RN!G11+RN!G35)/'DG '!F20/RN!I114,(RN!G11+RN!G35)/'DG '!F25/RN!I114)))","v":0},{"$f":"IFERROR(0,IF(I3=\"\",\"\",IF(I3=M3,(RN!G13+RN!G37)/'DG '!F20/RN!I114,(RN!G13+RN!G37)/'DG '!F25/RN!I114)))","v":0}]
[null,null,null,null,null,null,"TOTAL",null,{"$f":"SUM(I15:I15)","v":0},{"$f":"SUM(J15:J15)","v":0}]
[null,null,null,"IN 07","Generación de residuos no peligrosos","kg/m2","Etapa de producto","Materiales empleados en obra",{"$f":"IF(#REF!=0,0,(#REF!)/(#REF!*#REF!))","v":{"$error":"#REF!"}},{"$f":"IF(#REF!=0,0,(#REF!)/(#REF!*#REF!))","v":{"$error":"#REF!"}}]
[null,null,null,null,null,null,"TOTAL",null,{"$f":"SUM(I17:I17)","v":{"$error":"#REF!"}},{"$f":"SUM(J17:J17)","v":{"$error":"#REF!"}}]

{"sheet":"hojitas","index":41,"n_rows":9,"n_cols":2,"rows_kept":9,"cut":false,"hidden":true,"merged":[]}
[]
[]
[null,"FOTO"]
[0]
[1]
[2]
[3]
[4]
[5]