{"text_format":"1","workbook":"xlsx","n_sheets":34,"sheets":["Hoja2","Matriz para imagen","Matriz VERDE-GBCe","Revisión","portada","Instrucciones","DG","zona clima","CA","PE","PyE","EyA","RN","RN 01","BD","P","ETo","JR","Nf","RN 02","RN 04","RN 07","RN 10","DATOSMat","Mat Ref","CAI","CAI 03","ASE","CC","INN","Informe resultados","Resultados por impactos","Indicadores","hojitas"],"not_rendered":{"charts":4,"images":69,"macros":1,"external_links":6,"defined_names":328,"comments":0,"pivot_tables":0},"unopened":[],"bounds":{"document_bytes":16777216,"sheet_cells":100000,"rows_first":2000,"rows_last":500,"rows_between":2000,"halvings":0,"cell_chars":16384,"cell_head_chars":4096},"cells_cut":0,"cells_raw":0,"read":"whole","date_system":"1900"}

{"sheet":"Hoja2","index":0,"n_rows":6,"n_cols":2,"rows_kept":6,"cut":false,"hidden":true,"merged":[]}
[{"$f":"CA!D5","v":"Parcela y Emplazamiento."},{"$f":"CA!F5","v":0.14272241433511471}]
[{"$f":"CA!D29","v":"Energía y Atmósfera."},{"$f":"CA!F29","v":0.23105941527821433}]
[{"$f":"CA!D47","v":"Recursos Naturales."},{"$f":"CA!F47","v":0.24520591009116624}]
[{"$f":"CA!D76","v":"Calidad del Ambiente Interior."},{"$f":"CA!F76","v":0.18861993083935863}]
[{"$f":"CA!D92","v":"Aspectos Sociales y Económicos."},{"$f":"CA!F92","v":4.7154982709839657E-2}]
[{"$f":"CA!D103","v":"Concepto de Calidad."},{"$f":"CA!F103","v":0.14523734674630615}]

{"sheet":"Matriz para imagen","index":1,"n_rows":45,"n_cols":15,"rows_kept":45,"cut":false,"hidden":true,"merged":[[0,1,0,2]]}
[null,null,null,"Cambio climático","Emisiones a la atmósfera, tierra y agua","Cambios en la biodiversidad","Agotamiento de energía no renovable","Agotamiento de agua potable","Agotamiento de recursos materiales","Generación de residuos","Impactos sobre el vecindario","Accesibilidad","Salud y confort","Aspectos económicos del resultado","Ahorro en el coste del ciclo de vida"]
[null,"Parcela y Emplazamiento"]
[null,"PyE 01","Proximidad al transporte publico.",null,null,null,null,null,null,null,null,1,1,1]
[null,"PyE 02","Proximidad a equipamiento y servicios.",null,null,null,null,null,null,null,null,1,1,1]
[null,"PyE 03","Facilidades para la bicicleta.",null,null,null,null,null,null,null,null,1,1,1]
[null,"PyE 04","Clasificación de RSU",null,null,null,null,null,1,2]
[null,"PyE 05","Gestión y Restauración del hábitat",null,null,1,null,null,1,null,1,null,null,1]
[null,"PyE 06","Uso de plantas para crear sombras",0.15,null,1,null,null,null,null,1,null,1]
[null,"PyE 07","Efecto isla de calor",0.75,null,1,null,null,null,null,1]
[null,"PyE 08","Contaminación lumínica.",null,null,2,null,null,null,null,1]
[null,"Energía y Atmósfera"]
[null,"EyA 01","Demanda de calefacción y refrigeración",1,1,null,1,null,null,null,null,null,2,1,2]
[null,"EyA 02","Consumo de energía primaria no renovable",1,1,null,2,null,null,null,null,null,null,null,1]
[null,"EyA 03","Emisiones de CO2 por procesos de climatización y ACS",2,2]
[null,"EyA 04","Demanda de energía eléctrica en fase de uso",0.25,0.25,null,0.25,null,null,null,null,null,null,null,0.25]
[null,"EyA 05","Emisión de NOx en calderas de combustión.",null,1,null,null,null,null,null,null,null,1]
[null,"EyA 06","Elección responsable de refrigerantes",1,2,1]
[null,"Recursos Naturales"]
[null,"RN 01","Consumo de agua en aparatos sanitarios",null,1,null,null,2,null,null,null,null,null,null,2]
[null,"RN 02","Necesidades de riego en jardines",null,null,null,null,1,null,null,null,null,null,1,1]
[null,"RN 03","Consumo de agua en zonas comunes",null,null,null,null,0.5,null,null,null,null,null,null,1]
[null,"RN 04","Uso de aguas no potables.",null,null,null,null,1,null,null,null,null,null,1,1]
[null,"RN 05","Uso de materiales reciclados.",null,null,null,null,null,1,1]
[null,"RN 06","Uso de materiales obtenidos de recursos sostenibles.",null,null,null,null,null,0.5,null,null,null,null,1]
[null,"RN 07","Uso de materiales locales.",null,null,null,null,null,null,null,1,null,null,3]
[null,"RN 08","Planificación de una estrategia de demolición selectiva,",null,null,null,null,null,1,1,null,null,null,null,1]
[null,"RN 09","Gestión de los residuos de la construcción.",null,null,null,null,null,1,1]
[null,"RN 10","Impacto de los materiales de la construcción.",null,2,null,1,1,1,1]
[null,"RN 11","Ecoetiquetado de producto.",null,null,null,null,null,1,null,null,null,null,3]
[null,"Calidad del Ambiente Interior"]
[null,"CAI 01","Limitación en las emisiones de COVs.",null,null,null,null,null,null,null,null,null,2,1]
[null,"CAI 02","Eficacia de la ventilación natural.",null,null,null,null,null,null,null,null,null,3,1]
[null,"CAI 03","Iluminación natural.",null,null,null,null,null,null,null,null,null,3,2]
[null,"CAI 04","Protección frente al ruido.",null,null,null,null,null,null,null,null,null,3,1]
[null,"Aspectos Sociales y Económicos"]
[null,"ASE 01","Acceso universal.",null,null,null,null,null,null,null,1,3,null,2]
[null,"ASE 02","Derecho al sol.",null,null,null,null,null,null,null,null,null,2,1]
[null,"ASE 03","Acceso a espacios abiertos privados.",null,null,null,null,null,null,null,null,null,1,1]
[null,"ASE 04","Derecho a la intimidad.",null,null,null,null,null,null,null,null,null,1,1]
[null,"ASE 05","Coste de construcción.",null,null,null,null,null,null,null,null,null,null,null,3]
[null,"Concepto de Calidad"]
[null,"CC 01","Eficiencia de los espacios.",null,null,null,null,null,null,null,null,null,null,2,1]
[null,"CC 02","Disponibilidad de un sistema de gestión del edificio (BMS).",null,null,null,1,1,null,null,null,null,null,2,1]
[null,"CC 03","Custodia de la documentación del proyecto",null,null,null,null,null,null,null,null,null,null,3]
[null,"CC 04","El edificio como una herramienta para la educación",null,null,null,null,null,null,null,1,null,null,3]

{"sheet":"Matriz VERDE-GBCe","index":2,"n_rows":51,"n_cols":50,"rows_kept":51,"cut":false,"hidden":true,"merged":[[0,7,2,8]]}
[null,null,null,null,null,null,null,"Lista de criterios",null,null,null,null,"Cambio climático","Emisiones a la atmósfera, tierra y agua","Cambios en la biodiversidad","Agotamiento de energía no renovable","Agotamiento de agua potable","Agotamiento de recursos materiales","Generación de residuos","Impactos sobre el vecindario","Accesibilidad","Salud y confort","Aspectos económicos del resultado","Ahorro en el coste del ciclo de vida",null,"Cambio climático","Emisiones a la atmósfera, tierra y agua","Cambios en la biodiversidad","Agotamiento de energía no renovable","Agotamiento de agua potable","Agotamiento de recursos materiales","Generación de residuos","Impactos sobre el vecindario","Accesibilidad","Salud y confort","Aspectos económicos del resultado","Ahorro en el coste del ciclo de vida",null,"Cambio climático","Emisiones a la atmósfera, tierra y agua","Cambios en la biodiversidad","Agotamiento de energía no renovable","Agotamiento de agua potable","Agotamiento de recursos materiales","Generación de residuos","Impactos sobre el vecindario","Accesibilidad","Salud y confort","Aspectos económicos del resultado","Ahorro en el coste del ciclo de vida"]
[null,null,null,null,null,null,null,null,null,null,null,null,3,2,1,3,2,2,1,2,1,4,2,2,null,4,2,1,3,2,2,1,1,1,3,1,2,null,4,2,1,3,2,2,1,1,1,3,1,2]
["INTERIORES","Nueva Edificación","Rehabilitación","Existente","Mixto","NOTAS DE APLICABILIDAD",null,null,null,null,null,null,{"$f":"M2/SUM($M2:$X2)","v":0.12},{"$f":"N2/SUM($M2:$X2)","v":0.08},0.04,0.12,0.08,0.08,0.04,0.08,0.04,0.16,0.08,0.08,null,{"$f":"Z2/SUM($M2:$X2)","v":0.16},{"$f":"AA2/SUM($M2:$X2)","v":0.08},0.04,0.12,0.08,0.08,0.04,0.04,0.04,0.12,0.04,0.08,null,{"$f":"AM2/SUM($M2:$X2)","v":0.16},{"$f":"AN2/SUM($M2:$X2)","v":0.08},0.04,0.12,0.08,0.08,0.04,0.04,0.04,0.12,0.04,0.08]
[null,null,null,null,null,null,"PyE","Parcela y Emplazamiento.",null,{"$f":"SUM(J5:J13)","v":0.14272241433511471}]
["x",null,null,null,null,"Industrial menos de 20 trabajadores",{"$f":"VLOOKUP(H5,CA!$D$10:$K$125,5,FALSE)","v":"a"},"PyE 01","Proximidad al transporte publico.",{"$f":"IF(K$51=0,0,K5/K$51)","v":2.2005658597925176E-2},{"$f":"IF(G5=\"a\",SUMPRODUCT(M5:X5,M$3:X$3),\"0\")","v":0.28000000000000003},{"$f":"'Informe resultados'!M29","v":0},null,null,null,null,null,null,null,null,1,1,1,null,null,{"$f":"(M5*M$3)*$J5/SUMPRODUCT($M5:$X5,$M$3:$X$3)","v":0},{"$f":"(N5*N$3)*$J5/SUMPRODUCT($M5:$X5,$M$3:$X$3)","v":0},0,0,0,0,0,0,3.1436655139893107E-3,1.2574662055957243E-2,6.2873310279786213E-3,0,null,{"$f":"(M5*M$3)*$L5/SUMPRODUCT($M5:$X5,$M$3:$X$3)","v":0},{"$f":"(N5*N$3)*$L5/SUMPRODUCT($M5:$X5,$M$3:$X$3)","v":0},0,0,0,0,0,0,0,0,0,0]
["x",null,null,null,null,"Industrial menos de 20 trabajadores",{"$f":"VLOOKUP(H6,CA!$D$10:$K$125,5,FALSE)","v":"a"},"PyE 02","Proximidad a equipamiento y servicios.",2.2005658597925176E-2,0.28000000000000003,{"$f":"'Informe resultados'!M30","v":0},null,null,null,null,null,null,null,null,1,1,1,null,null,{"$f":"(M6*M$3)*$J6/SUMPRODUCT($M6:$X6,$M$3:$X$3)","v":0},{"$f":"(N6*N$3)*$J6/SUMPRODUCT($M6:$X6,$M$3:$X$3)","v":0},{"$f":"(O6*O$3)*$J6/SUMPRODUCT($M6:$X6,$M$3:$X$3)","v":0},{"$f":"(P6*P$3)*$J6/SUMPRODUCT($M6:$X6,$M$3:$X$3)","v":0},{"$f":"(Q6*Q$3)*$J6/SUMPRODUCT($M6:$X6,$M$3:$X$3)","v":0},{"$f":"(R6*R$3)*$J6/SUMPRODUCT($M6:$X6,$M$3:$X$3)","v":0},{"$f":"(S6*S$3)*$J6/SUMPRODUCT($M6:$X6,$M$3:$X$3)","v":0},{"$f":"(T6*T$3)*$J6/SUMPRODUCT($M6:$X6,$M$3:$X$3)","v":0},{"$f":"(U6*U$3)*$J6/SUMPRODUCT($M6:$X6,$M$3:$X$3)","v":3.1436655139893107E-3},{"$f":"(V6*V$3)*$J6/SUMPRODUCT($M6:$X6,$M$3:$X$3)","v":1.2574662055957243E-2},{"$f":"(W6*W$3)*$J6/SUMPRODUCT($M6:$X6,$M$3:$X$3)","v":6.2873310279786213E-3},{"$f":"(X6*X$3)*$J6/SUMPRODUCT($M6:$X6,$M$3:$X$3)","v":0},null,{"$f":"(M6*M$3)*$L6/SUMPRODUCT($M6:$X6,$M$3:$X$3)","v":0},{"$f":"(N6*N$3)*$L6/SUMPRODUCT($M6:$X6,$M$3:$X$3)","v":0},{"$f":"(O6*O$3)*$L6/SUMPRODUCT($M6:$X6,$M$3:$X$3)","v":0},{"$f":"(P6*P$3)*$L6/SUMPRODUCT($M6:$X6,$M$3:$X$3)","v":0},{"$f":"(Q6*Q$3)*$L6/SUMPRODUCT($M6:$X6,$M$3:$X$3)","v":0},{"$f":"(R6*R$3)*$L6/SUMPRODUCT($M6:$X6,$M$3:$X$3)","v":0},{"$f":"(S6*S$3)*$L6/SUMPRODUCT($M6:$X6,$M$3:$X$3)","v":0},{"$f":"(T6*T$3)*$L6/SUMPRODUCT($M6:$X6,$M$3:$X$3)","v":0},{"$f":"(U6*U$3)*$L6/SUMPRODUCT($M6:$X6,$M$3:$X$3)","v":0},{"$f":"(V6*V$3)*$L6/SUMPRODUCT($M6:$X6,$M$3:$X$3)","v":0},{"$f":"(W6*W$3)*$L6/SUMPRODUCT($M6:$X6,$M$3:$X$3)","v":0},{"$f":"(X6*X$3)*$L6/SUMPRODUCT($M6:$X6,$M$3:$X$3)","v":0}]
["x",null,null,null,null,"Industrial menos de 20 trabajadores",{"$f":"VLOOKUP(H7,CA!$D$10:$K$125,5,FALSE)","v":"a"},"PyE 03","Facilidades para la bicicleta.",2.2005658597925176E-2,0.28000000000000003,{"$f":"'Informe resultados'!M31","v":0},null,null,null,null,null,null,null,null,1,1,1,null,null,0,0,0,0,0,0,0,0,3.1436655139893107E-3,1.2574662055957243E-2,6.2873310279786213E-3,0,null,0,0,0,0,0,0,0,0,0,0,0,0]
[null,null,null,null,null,"Edificios sin aparcamiento",{"$f":"IF(OR(DG!E25=\"Local o parte de un edificio\",PyE!H104=\"NO\",DG!E39=\"NO\"),\"\",VLOOKUP(H8,CA!$D$10:$K$125,5,FALSE))","v":"a"},"PyE 04","Capacidad de carga de vehículos eléctricos.",1.1631562401760449E-2,{"$f":"IF(G8=\"a\",SUMPRODUCT(M8:X8,M$3:X$3),\"0\")","v":0.14799999999999999},{"$f":"'Informe resultados'!M33","v":0},0.15,0.15,null,0.15,null,null,null,0.5,0.5,null,0.5,null,null,{"$f":"(M8*M$3)*$J8/SUMPRODUCT($M8:$X8,$M$3:$X$3)","v":1.4146494812951897E-3},{"$f":"(N8*N$3)*$J8/SUMPRODUCT($M8:$X8,$M$3:$X$3)","v":9.4309965419679329E-4},{"$f":"(O8*O$3)*$J8/SUMPRODUCT($M8:$X8,$M$3:$X$3)","v":0},{"$f":"(P8*P$3)*$J8/SUMPRODUCT($M8:$X8,$M$3:$X$3)","v":1.4146494812951897E-3},{"$f":"(Q8*Q$3)*$J8/SUMPRODUCT($M8:$X8,$M$3:$X$3)","v":0},{"$f":"(R8*R$3)*$J8/SUMPRODUCT($M8:$X8,$M$3:$X$3)","v":0},{"$f":"(S8*S$3)*$J8/SUMPRODUCT($M8:$X8,$M$3:$X$3)","v":0},{"$f":"(T8*T$3)*$J8/SUMPRODUCT($M8:$X8,$M$3:$X$3)","v":3.1436655139893107E-3},{"$f":"(U8*U$3)*$J8/SUMPRODUCT($M8:$X8,$M$3:$X$3)","v":1.5718327569946553E-3},{"$f":"(V8*V$3)*$J8/SUMPRODUCT($M8:$X8,$M$3:$X$3)","v":0},{"$f":"(W8*W$3)*$J8/SUMPRODUCT($M8:$X8,$M$3:$X$3)","v":3.1436655139893107E-3},{"$f":"(X8*X$3)*$J8/SUMPRODUCT($M8:$X8,$M$3:$X$3)","v":0},null,{"$f":"(M8*M$3)*$L8/SUMPRODUCT($M8:$X8,$M$3:$X$3)","v":0},{"$f":"(N8*N$3)*$L8/SUMPRODUCT($M8:$X8,$M$3:$X$3)","v":0},{"$f":"(O8*O$3)*$L8/SUMPRODUCT($M8:$X8,$M$3:$X$3)","v":0},{"$f":"(P8*P$3)*$L8/SUMPRODUCT($M8:$X8,$M$3:$X$3)","v":0},{"$f":"(Q8*Q$3)*$L8/SUMPRODUCT($M8:$X8,$M$3:$X$3)","v":0},{"$f":"(R8*R$3)*$L8/SUMPRODUCT($M8:$X8,$M$3:$X$3)","v":0},{"$f":"(S8*S$3)*$L8/SUMPRODUCT($M8:$X8,$M$3:$X$3)","v":0},{"$f":"(T8*T$3)*$L8/SUMPRODUCT($M8:$X8,$M$3:$X$3)","v":0},{"$f":"(U8*U$3)*$L8/SUMPRODUCT($M8:$X8,$M$3:$X$3)","v":0},{"$f":"(V8*V$3)*$L8/SUMPRODUCT($M8:$X8,$M$3:$X$3)","v":0},{"$f":"(W8*W$3)*$L8/SUMPRODUCT($M8:$X8,$M$3:$X$3)","v":0},{"$f":"(X8*X$3)*$L8/SUMPRODUCT($M8:$X8,$M$3:$X$3)","v":0}]
["x",null,null,null,null,"Industrial con oficina de más de 50 m2",{"$f":"IF(DG!E62=\"NO\",\"\",VLOOKUP(H9,CA!$D$10:$K$125,5,FALSE))","v":"a"},"PyE 05","Clasificación de RSU.",1.2574662055957243E-2,0.16,{"$f":"'Informe resultados'!M33","v":0},null,null,null,null,null,1,2,null,null,null,null,null,null,0,0,0,0,0,6.2873310279786213E-3,6.2873310279786213E-3,0,0,0,0,0,null,0,0,0,0,0,0,0,0,0,0,0,0]
[null,null,null,null,null,"Sin superficie libre de parcela",{"$f":"IF(OR(DG!E25=\"Local o parte de un edificio\",DG!E41<50),\"\",VLOOKUP(H10,CA!$D$10:$K$125,5,FALSE))","v":""},"PyE 06","Gestión y Restauración del hábitat.",0,"0",{"$f":"'Informe resultados'!M34","v":0},null,null,1,null,null,1,null,1,null,null,1,null,null,0,0,0,0,0,0,0,0,0,0,0,0,null,0,0,0,0,0,0,0,0,0,0,0,0]
[null,null,null,null,null,"Industrial no aplica",{"$f":"IF(OR(DG!E25=\"Local o parte de un edificio\",DG!E25=DG!K30),\"\",VLOOKUP(H11,CA!$D$10:$K$125,5,FALSE))","v":"a"},"PyE 07","Uso de plantas para crear sombras.",2.3420308079220367E-2,0.29800000000000004,{"$f":"'Informe resultados'!M35","v":0},0.15,null,1,null,null,null,null,1,null,1,null,null,null,1.4146494812951897E-3,0,3.1436655139893107E-3,0,0,0,0,6.2873310279786213E-3,0,1.2574662055957243E-2,0,0,null,0,0,0,0,0,0,0,0,0,0,0,0]
[null,null,null,null,null,"Todos los casos",{"$f":"IF(DG!E25=\"Local o parte de un edificio\",\"\",VLOOKUP(H12,CA!$D$10:$K$125,5,FALSE))","v":"a"},"PyE 08","Efecto isla de calor.",1.6504243948443881E-2,0.21000000000000002,{"$f":"'Informe resultados'!M36","v":0},0.75,null,1,null,null,null,null,1,null,null,null,null,null,7.0732474064759479E-3,0,3.1436655139893107E-3,0,0,0,0,6.2873310279786213E-3,0,0,0,0,null,0,0,0,0,0,0,0,0,0,0,0,0]
[null,null,null,null,null,"Todos los casos",{"$f":"IF(DG!E25=\"Local o parte de un edificio\",\"\",VLOOKUP(H13,CA!$D$10:$K$125,5,FALSE))","v":"a"},"PyE 09","Contaminación lumínica.",1.2574662055957243E-2,0.16,{"$f":"'Informe resultados'!M37","v":0},null,null,2,null,null,null,null,1,null,null,null,null,null,0,0,6.2873310279786213E-3,0,0,0,0,6.2873310279786213E-3,0,0,0,0,null,0,0,0,0,0,0,0,0,0,0,0,0]
[null,null,null,null,null,null,"EyA","Energía y Atmósfera.",null,{"$f":"SUM(J15:J20)","v":0.23105941527821433}]
["x",null,null,null,null,"Deportivo consultar y Industrial con oficina de más de 50 m2",{"$f":"IF(DG!E62=\"NO\",\"\",VLOOKUP(H15,CA!$D$10:$K$125,5,FALSE))","v":"a"},"EyA 01","Demanda de calefacción y refrigeración.",{"$f":"IF(K$51=0,0,K15/K$51)","v":8.4878968877711389E-2},{"$f":"IF(G15=\"a\",SUMPRODUCT(M15:X15,M$3:X$3),\"0\")","v":1.08},{"$f":"'Informe resultados'!M38","v":0},2,2,null,1,null,null,null,null,null,2,1,2,null,{"$f":"(M15*M$3)*$J15/SUMPRODUCT($M15:$X15,$M$3:$X$3)","v":1.8861993083935862E-2},{"$f":"(N15*N$3)*$J15/SUMPRODUCT($M15:$X15,$M$3:$X$3)","v":1.2574662055957241E-2},{"$f":"(O15*O$3)*$J15/SUMPRODUCT($M15:$X15,$M$3:$X$3)","v":0},{"$f":"(P15*P$3)*$J15/SUMPRODUCT($M15:$X15,$M$3:$X$3)","v":9.4309965419679311E-3},{"$f":"(Q15*Q$3)*$J15/SUMPRODUCT($M15:$X15,$M$3:$X$3)","v":0},{"$f":"(R15*R$3)*$J15/SUMPRODUCT($M15:$X15,$M$3:$X$3)","v":0},{"$f":"(S15*S$3)*$J15/SUMPRODUCT($M15:$X15,$M$3:$X$3)","v":0},{"$f":"(T15*T$3)*$J15/SUMPRODUCT($M15:$X15,$M$3:$X$3)","v":0},{"$f":"(U15*U$3)*$J15/SUMPRODUCT($M15:$X15,$M$3:$X$3)","v":0},{"$f":"(V15*V$3)*$J15/SUMPRODUCT($M15:$X15,$M$3:$X$3)","v":2.5149324111914482E-2},{"$f":"(W15*W$3)*$J15/SUMPRODUCT($M15:$X15,$M$3:$X$3)","v":6.2873310279786205E-3},{"$f":"(X15*X$3)*$J15/SUMPRODUCT($M15:$X15,$M$3:$X$3)","v":1.2574662055957241E-2},null,{"$f":"(M15*M$3)*$L15/SUMPRODUCT($M15:$X15,$M$3:$X$3)","v":0},{"$f":"(N15*N$3)*$L15/SUMPRODUCT($M15:$X15,$M$3:$X$3)","v":0},{"$f":"(O15*O$3)*$L15/SUMPRODUCT($M15:$X15,$M$3:$X$3)","v":0},{"$f":"(P15*P$3)*$L15/SUMPRODUCT($M15:$X15,$M$3:$X$3)","v":0},{"$f":"(Q15*Q$3)*$L15/SUMPRODUCT($M15:$X15,$M$3:$X$3)","v":0},{"$f":"(R15*R$3)*$L15/SUMPRODUCT($M15:$X15,$M$3:$X$3)","v":0},{"$f":"(S15*S$3)*$L15/SUMPRODUCT($M15:$X15,$M$3:$X$3)","v":0},{"$f":"(T15*T$3)*$L15/SUMPRODUCT($M15:$X15,$M$3:$X$3)","v":0},{"$f":"(U15*U$3)*$L15/SUMPRODUCT($M15:$X15,$M$3:$X$3)","v":0},{"$f":"(V15*V$3)*$L15/SUMPRODUCT($M15:$X15,$M$3:$X$3)","v":0},{"$f":"(W15*W$3)*$L15/SUMPRODUCT($M15:$X15,$M$3:$X$3)","v":0},{"$f":"(X15*X$3)*$L15/SUMPRODUCT($M15:$X15,$M$3:$X$3)","v":0}]
["x",null,null,null,null,"Deportivo consultar y Industrial con oficina de más de 50 m2",{"$f":"IF(DG!E62=\"NO\",\"\",VLOOKUP(H16,CA!$D$10:$K$125,5,FALSE))","v":"a"},"EyA 02","Consumo de energía primaria no renovable.",5.0298648223828971E-2,0.64,{"$f":"'Informe resultados'!M39","v":0},2,1,null,2,null,null,null,null,null,null,null,1,null,1.8861993083935862E-2,6.2873310279786213E-3,0,1.8861993083935862E-2,0,0,0,0,0,0,0,6.2873310279786213E-3,null,0,0,0,0,0,0,0,0,0,0,0,0]
["x",null,null,null,null,"Deportivo consultar y Industrial con oficina de más de 50 m2",{"$f":"IF(DG!E62=\"NO\",\"\",VLOOKUP(H17,CA!$D$10:$K$125,5,FALSE))","v":"a"},"EyA 03","Emisiones de CO2",3.1436655139893105E-2,0.4,{"$f":"'Informe resultados'!M40","v":0},2,2,null,null,null,null,null,null,null,null,null,null,null,1.8861993083935859E-2,1.2574662055957243E-2,0,0,0,0,0,0,0,0,0,0,null,0,0,0,0,0,0,0,0,0,0,0,0]
[null,null,null,null,null,"Con uso de ascensores",{"$f":"IF(OR(DG!E25=\"Local o parte de un edificio\",DG!E52=\"no\"),\"\",VLOOKUP(H18,CA!$D$10:$K$125,5,FALSE))","v":"a"},"EyA 04","Consumo en sistemas de comunicación mecánicos.",1.4146494812951898E-2,0.18,{"$f":"'Informe resultados'!M41","v":0},0.5,0.5,null,0.5,null,null,null,null,null,null,null,0.25,null,4.7154982709839664E-3,3.1436655139893111E-3,0,4.7154982709839664E-3,0,0,0,0,0,0,0,1.5718327569946555E-3,null,0,0,0,0,0,0,0,0,0,0,0,0]
["x",null,null,null,null,"Con gases refrigerantes",{"$f":"IF(DG!E50=\"no\",\"\",VLOOKUP(H19,CA!$D$10:$K$125,5,FALSE))","v":"a"},"EyA 05","Elección responsable de refrigerantes.",2.5149324111914485E-2,0.32,{"$f":"'Informe resultados'!M42","v":0},1,2,1,null,null,null,null,null,null,null,null,null,null,9.4309965419679311E-3,1.2574662055957243E-2,3.1436655139893107E-3,0,0,0,0,0,0,0,0,0,null,0,0,0,0,0,0,0,0,0,0,0,0]
[null,null,null,null,null,"Con sistemas frigoríficos",{"$f":"IF(OR(DG!E25=\"Local o parte de un edificio\",DG!E54=\"no\"),\"\",VLOOKUP(H20,CA!$D$10:$K$125,5,FALSE))","v":"a"},"EyA 06","Frío industrial",2.5149324111914485E-2,{"$f":"IF(G20=\"a\",SUMPRODUCT(M20:X20,M$3:X$3),\"0\")","v":0.32},{"$f":"'Informe resultados'!M43","v":0},1,2,1,null,null,null,null,null,null,null,null,null,null,{"$f":"(M20*M$3)*$J20/SUMPRODUCT($M20:$X20,$M$3:$X$3)","v":9.4309965419679311E-3},{"$f":"(N20*N$3)*$J20/SUMPRODUCT($M20:$X20,$M$3:$X$3)","v":1.2574662055957243E-2},{"$f":"(O20*O$3)*$J20/SUMPRODUCT($M20:$X20,$M$3:$X$3)","v":3.1436655139893107E-3},{"$f":"(P20*P$3)*$J20/SUMPRODUCT($M20:$X20,$M$3:$X$3)","v":0},{"$f":"(Q20*Q$3)*$J20/SUMPRODUCT($M20:$X20,$M$3:$X$3)","v":0},{"$f":"(R20*R$3)*$J20/SUMPRODUCT($M20:$X20,$M$3:$X$3)","v":0},{"$f":"(S20*S$3)*$J20/SUMPRODUCT($M20:$X20,$M$3:$X$3)","v":0},{"$f":"(T20*T$3)*$J20/SUMPRODUCT($M20:$X20,$M$3:$X$3)","v":0},{"$f":"(U20*U$3)*$J20/SUMPRODUCT($M20:$X20,$M$3:$X$3)","v":0},{"$f":"(V20*V$3)*$J20/SUMPRODUCT($M20:$X20,$M$3:$X$3)","v":0},{"$f":"(W20*W$3)*$J20/SUMPRODUCT($M20:$X20,$M$3:$X$3)","v":0},{"$f":"(X20*X$3)*$J20/SUMPRODUCT($M20:$X20,$M$3:$X$3)","v":0},null,{"$f":"(M20*M$3)*$L20/SUMPRODUCT($M20:$X20,$M$3:$X$3)","v":0},{"$f":"(N20*N$3)*$L20/SUMPRODUCT($M20:$X20,$M$3:$X$3)","v":0},{"$f":"(O20*O$3)*$L20/SUMPRODUCT($M20:$X20,$M$3:$X$3)","v":0},{"$f":"(P20*P$3)*$L20/SUMPRODUCT($M20:$X20,$M$3:$X$3)","v":0},{"$f":"(Q20*Q$3)*$L20/SUMPRODUCT($M20:$X20,$M$3:$X$3)","v":0},{"$f":"(R20*R$3)*$L20/SUMPRODUCT($M20:$X20,$M$3:$X$3)","v":0},{"$f":"(S20*S$3)*$L20/SUMPRODUCT($M20:$X20,$M$3:$X$3)","v":0},{"$f":"(T20*T$3)*$L20/SUMPRODUCT($M20:$X20,$M$3:$X$3)","v":0},{"$f":"(U20*U$3)*$L20/SUMPRODUCT($M20:$X20,$M$3:$X$3)","v":0},{"$f":"(V20*V$3)*$L20/SUMPRODUCT($M20:$X20,$M$3:$X$3)","v":0},{"$f":"(W20*W$3)*$L20/SUMPRODUCT($M20:$X20,$M$3:$X$3)","v":0},{"$f":"(X20*X$3)*$L20/SUMPRODUCT($M20:$X20,$M$3:$X$3)","v":0}]
[null,null,null,null,null,null,"RN","Recursos Naturales.",null,{"$f":"SUM(J22:J32)","v":0.24520591009116624}]
["x",null,null,null,null,"Todos los casos",{"$f":"VLOOKUP(H22,CA!$D$10:$K$125,5,FALSE)","v":"a"},"RN 01","Consumo de agua en aparatos sanitarios.",{"$f":"IF(K$51=0,0,K22/K$51)","v":3.1436655139893105E-2},{"$f":"IF(G22=\"a\",SUMPRODUCT(M22:X22,M$3:X$3),\"0\")","v":0.4},{"$f":"'Informe resultados'!M43","v":0},null,1,null,null,2,null,null,null,null,null,null,2,null,{"$f":"(M22*M$3)*$J22/SUMPRODUCT($M22:$X22,$M$3:$X$3)","v":0},{"$f":"(N22*N$3)*$J22/SUMPRODUCT($M22:$X22,$M$3:$X$3)","v":6.2873310279786213E-3},{"$f":"(O22*O$3)*$J22/SUMPRODUCT($M22:$X22,$M$3:$X$3)","v":0},{"$f":"(P22*P$3)*$J22/SUMPRODUCT($M22:$X22,$M$3:$X$3)","v":0},{"$f":"(Q22*Q$3)*$J22/SUMPRODUCT($M22:$X22,$M$3:$X$3)","v":1.2574662055957243E-2},{"$f":"(R22*R$3)*$J22/SUMPRODUCT($M22:$X22,$M$3:$X$3)","v":0},{"$f":"(S22*S$3)*$J22/SUMPRODUCT($M22:$X22,$M$3:$X$3)","v":0},{"$f":"(T22*T$3)*$J22/SUMPRODUCT($M22:$X22,$M$3:$X$3)","v":0},{"$f":"(U22*U$3)*$J22/SUMPRODUCT($M22:$X22,$M$3:$X$3)","v":0},{"$f":"(V22*V$3)*$J22/SUMPRODUCT($M22:$X22,$M$3:$X$3)","v":0},{"$f":"(W22*W$3)*$J22/SUMPRODUCT($M22:$X22,$M$3:$X$3)","v":0},{"$f":"(X22*X$3)*$J22/SUMPRODUCT($M22:$X22,$M$3:$X$3)","v":1.2574662055957243E-2},null,{"$f":"(M22*M$3)*$L22/SUMPRODUCT($M22:$X22,$M$3:$X$3)","v":0},{"$f":"(N22*N$3)*$L22/SUMPRODUCT($M22:$X22,$M$3:$X$3)","v":0},{"$f":"(O22*O$3)*$L22/SUMPRODUCT($M22:$X22,$M$3:$X$3)","v":0},{"$f":"(P22*P$3)*$L22/SUMPRODUCT($M22:$X22,$M$3:$X$3)","v":0},{"$f":"(Q22*Q$3)*$L22/SUMPRODUCT($M22:$X22,$M$3:$X$3)","v":0},{"$f":"(R22*R$3)*$L22/SUMPRODUCT($M22:$X22,$M$3:$X$3)","v":0},{"$f":"(S22*S$3)*$L22/SUMPRODUCT($M22:$X22,$M$3:$X$3)","v":0},{"$f":"(T22*T$3)*$L22/SUMPRODUCT($M22:$X22,$M$3:$X$3)","v":0},{"$f":"(U22*U$3)*$L22/SUMPRODUCT($M22:$X22,$M$3:$X$3)","v":0},{"$f":"(V22*V$3)*$L22/SUMPRODUCT($M22:$X22,$M$3:$X$3)","v":0},{"$f":"(W22*W$3)*$L22/SUMPRODUCT($M22:$X22,$M$3:$X$3)","v":0},{"$f":"(X22*X$3)*$L22/SUMPRODUCT($M22:$X22,$M$3:$X$3)","v":0}]
[null,null,null,null,null,"Zona ajardinada superior a 20 m2",{"$f":"IF(OR(DG!E25=\"Local o parte de un edificio\",DG!E43<20),\"\",VLOOKUP(H23,CA!$D$10:$K$125,5,FALSE))","v":""},"RN 02","Necesidades de riego en jardines.",0,{"$f":"IF(G23=\"a\",IF(RN!H33=\"no\",0,SUMPRODUCT(M23:X23,M$3:X$3)),\"0\")","v":"0"},{"$f":"'Informe resultados'!M44","v":{"$error":"#VALUE!"}},null,null,null,null,1,null,null,null,null,null,1,1,null,0,0,0,0,0,0,0,0,0,0,0,0,null,{"$error":"#VALUE!"},{"$error":"#VALUE!"},{"$error":"#VALUE!"},{"$error":"#VALUE!"},{"$error":"#VALUE!"},{"$error":"#VALUE!"},{"$error":"#VALUE!"},{"$error":"#VALUE!"},{"$error":"#VALUE!"},{"$error":"#VALUE!"},{"$error":"#VALUE!"},{"$error":"#VALUE!"}]
[null,null,null,null,null,"edificios con elementos singulares",{"$f":"IF(OR(DG!E25=\"Local o parte de un edificio\",DG!E47=\"no\"),\"\",VLOOKUP(H24,CA!$D$10:$K$125,5,FALSE))","v":"a"},"RN 03","Consumo de agua en elementos singulares",1.8861993083935862E-2,{"$f":"IF(G24=\"a\",SUMPRODUCT(M24:X24,M$3:X$3),\"0\")","v":0.24},{"$f":"'Informe resultados'!M45","v":0},null,null,null,null,1,null,null,null,null,null,1,1]
[null,null,null,null,null,"Todos los casos",{"$f":"IF(DG!E25=\"Local o parte de un edificio\",\"\",VLOOKUP(H25,CA!$D$10:$K$125,5,FALSE))","v":"a"},"RN 04","Uso de agua no potable.",1.8861993083935862E-2,{"$f":"IF(G25=\"a\",SUMPRODUCT(M25:X25,M$3:X$3),\"0\")","v":0.24},{"$f":"'Informe resultados'!M45","v":0},null,null,null,null,1,null,null,null,null,null,1,1,null,0,0,0,0,6.2873310279786205E-3,0,0,0,0,0,6.2873310279786205E-3,6.2873310279786205E-3,null,0,0,0,0,0,0,0,0,0,0,0,0]
[null,null,null,null,null,"Todos los casos",{"$f":"IF(OR(DG!E25=\"Local o parte de un edificio\",DG!E27=\"Edificio existente\"),\"\",VLOOKUP(H26,CA!$D$10:$K$125,5,FALSE))","v":"a"},"RN 05","Uso de materiales reciclados.",1.5718327569946552E-2,0.2,{"$f":"'Informe resultados'!M46","v":0},null,null,null,null,null,2,1,null,null,null,null,null,null,0,0,0,0,0,1.2574662055957243E-2,3.1436655139893107E-3,0,0,0,0,0,null,0,0,0,0,0,0,0,0,0,0,0,0]
[null,null,null,null,null,"Todos los casos",{"$f":"IF(OR(DG!E25=\"Local o parte de un edificio\",DG!E$27=\"Edificio existente\"),\"\",VLOOKUP(H27,CA!$D$10:$K$125,5,FALSE))","v":"a"},"RN 06","Uso de materiales obtenidos de recursos sostenibles.",1.2574662055957243E-2,0.16,{"$f":"'Informe resultados'!M47","v":0},null,null,null,null,null,1,null,null,null,null,1,null,null,0,0,0,0,0,6.2873310279786213E-3,0,0,0,0,6.2873310279786213E-3,0,null,0,0,0,0,0,0,0,0,0,0,0,0]
[null,null,null,null,null,"Todos los casos",{"$f":"IF(OR(DG!E25=\"Local o parte de un edificio\",DG!E$27=\"Edificio existente\"),\"\",VLOOKUP(H28,CA!$D$10:$K$125,5,FALSE))","v":"a"},"RN 07","Uso de materiales locales.",2.5149324111914485E-2,0.32,{"$f":"'Informe resultados'!M48","v":0},null,null,null,null,null,null,null,1,null,null,3,null,null,0,0,0,0,0,0,0,6.2873310279786213E-3,0,0,1.8861993083935862E-2,0,null,0,0,0,0,0,0,0,0,0,0,0,0]
[null,null,null,null,null,"Todos los casos",{"$f":"IF(OR(DG!E25=\"Local o parte de un edificio\",DG!E$27=\"Edificio existente\"),\"\",VLOOKUP(H29,CA!$D$10:$K$125,5,FALSE))","v":"a"},"RN 08","Planificación de una estrategia de demolición selectiva.",1.5718327569946552E-2,0.2,{"$f":"'Informe resultados'!M49","v":0},null,null,null,null,null,1,1,null,null,null,null,1,null,0,0,0,0,0,6.2873310279786213E-3,3.1436655139893107E-3,0,0,0,0,6.2873310279786213E-3,null,0,0,0,0,0,0,0,0,0,0,0,0]
[null,null,null,null,null,"Todos los casos",{"$f":"IF(OR(DG!E25=\"Local o parte de un edificio\",DG!E$27=\"Edificio existente\"),\"\",VLOOKUP(H30,CA!$D$10:$K$125,5,FALSE))","v":"a"},"RN 09","Gestión de los residuos de la construcción.",1.2574662055957243E-2,0.16,{"$f":"'Informe resultados'!M50","v":0},null,null,null,null,null,1,2,null,null,null,null,null,null,0,0,0,0,0,6.2873310279786213E-3,6.2873310279786213E-3,0,0,0,0,0,null,0,0,0,0,0,0,0,0,0,0,0,0]
[null,null,null,null,null,"Todos los casos",{"$f":"IF(OR(DG!E25=\"Local o parte de un edificio\",DG!E$27=\"Edificio existente\"),\"\",VLOOKUP(H31,CA!$D$10:$K$125,5,FALSE))","v":"a"},"RN 10","Impacto de los materiales de la construcción.",6.9160641307764836E-2,0.88,{"$f":"'Informe resultados'!M51","v":0},null,3,null,2,2,2,2,null,null,null,null,null,null,0,1.8861993083935862E-2,0,1.8861993083935862E-2,1.2574662055957243E-2,1.2574662055957243E-2,6.2873310279786213E-3,0,0,0,0,0,null,0,0,0,0,0,0,0,0,0,0,0,0]
["x",null,null,null,null,"Todos los casos",{"$f":"IF(OR(DG!E$27=\"Edificio existente\",DG!E25=\"Parte de un edificio\"),\"\",VLOOKUP(H32,CA!$D$10:$K$125,5,FALSE))","v":"a"},"RN 11","Ecoetiquetado de producto.",2.5149324111914485E-2,0.32,{"$f":"'Informe resultados'!M52","v":0},null,null,null,null,null,1,null,null,null,null,3,null,null,0,0,0,0,0,6.2873310279786213E-3,0,0,0,0,1.8861993083935862E-2,0,null,0,0,0,0,0,0,0,0,0,0,0,0]
[null,null,null,null,null,null,"CAI","Calidad del Ambiente Interior.",null,{"$f":"SUM(J34:J38)","v":0.18861993083935863}]
["x",null,null,null,null,"Todos los casos",{"$f":"IF(DG!E$27=\"Edificio existente\",\"\",VLOOKUP(H34,CA!$D$10:$K$125,5,FALSE))","v":"a"},"CAI 01","Limitación en las emisiones de COVs.",{"$f":"IF(K$51=0,0,K34/K$51)","v":3.1436655139893105E-2},{"$f":"IF(G34=\"a\",SUMPRODUCT(M34:X34,M$3:X$3),\"0\")","v":0.4},{"$f":"'Informe resultados'!M53","v":0},null,null,null,null,null,null,null,null,null,2,1,null,null,{"$f":"(M34*M$3)*$J34/SUMPRODUCT($M34:$X34,$M$3:$X$3)","v":0},0,0,0,0,0,0,0,0,2.5149324111914485E-2,6.2873310279786213E-3,0,null,{"$f":"(M34*M$3)*$L34/SUMPRODUCT($M34:$X34,$M$3:$X$3)","v":0},0,0,0,0,0,0,0,0,0,0,0]
["x",null,null,null,null,"Todos los casos",{"$f":"IF(DG!E59=\"No\",\"\",VLOOKUP(H35,CA!$D$10:$K$125,5,FALSE))","v":"a"},"CAI 02","Monitorización de la calidad del aire",{"$f":"IF(K$51=0,0,K35/K$51)","v":3.1436655139893105E-2},0.4,null,null,null,null,null,null,null,null,null,null,2,1]
["x",null,null,null,null,"Todos los casos",{"$f":"VLOOKUP(H36,CA!$D$10:$K$125,5,FALSE)","v":"a"},"CAI 03","Iluminación natural en los espacios de ocupación primaria.",{"$f":"IF(K$51=0,0,K36/K$51)","v":5.0298648223828971E-2},0.64,{"$f":"'Informe resultados'!M55","v":0},null,null,null,null,null,null,null,null,null,3,2,null,null,0,0,0,0,0,0,0,0,0,3.7723986167871724E-2,1.2574662055957243E-2,0,null,0,0,0,0,0,0,0,0,0,0,0,0]
["x",null,null,null,null,"Todos los casos",{"$f":"VLOOKUP(H37,CA!$D$10:$K$125,5,FALSE)","v":"a"},"CAI 04","Iluminación artificial en los espacios de ocupación primaria.",{"$f":"IF(K$51=0,0,K37/K$51)","v":3.1436655139893105E-2},0.4,null,null,null,null,null,null,null,null,null,null,2,1]
["x",null,null,null,null,"Todos los casos",{"$f":"VLOOKUP(H38,CA!$D$10:$K$125,5,FALSE)","v":"a"},"CAI 05","Protección frente al ruido.",{"$f":"IF(K$51=0,0,K38/K$51)","v":4.4011317195850344E-2},0.55999999999999994,{"$f":"'Informe resultados'!M57","v":0},null,null,null,null,null,null,null,null,null,3,1,null,null,0,0,0,0,0,0,0,0,0,3.7723986167871724E-2,6.2873310279786213E-3,0,null,0,0,0,0,0,0,0,0,0,0,0,0]
[null,null,null,null,null,null,"ASE","Aspectos Sociales y Económicos.",null,{"$f":"SUM(J40:J41)","v":4.7154982709839657E-2}]
["x",null,null,null,null,"Todos los casos",{"$f":"VLOOKUP(H40,CA!$D$10:$K$125,5,FALSE)","v":"a"},"ASE 01","Acceso universal.",{"$f":"IF(K$51=0,0,K40/K$51)","v":2.8292989625903795E-2},{"$f":"IF(G40=\"a\",SUMPRODUCT(M40:X40,M$3:X$3),\"0\")","v":0.36},{"$f":"'Informe resultados'!M58","v":0},null,null,null,null,null,null,null,1,3,null,2,null,null,{"$f":"(M40*M$3)*$J40/SUMPRODUCT($M40:$X40,$M$3:$X$3)","v":0},0,0,0,0,0,0,6.2873310279786222E-3,9.4309965419679329E-3,0,1.2574662055957244E-2,0,null,{"$f":"(M40*M$3)*$L40/SUMPRODUCT($M40:$X40,$M$3:$X$3)","v":0},0,0,0,0,0,0,0,0,0,0,0]
["x",null,null,null,null,"Todos los casos con zonas de trabajo sobre mesa",{"$f":"IF(DG!E56=\"no\",\"\",VLOOKUP(H41,CA!$D$10:$K$125,5,FALSE))","v":"a"},"ASE 02","Acceso visual desde las áreas de trabajo.",{"$f":"IF(K$51=0,0,K41/K$51)","v":1.8861993083935862E-2},{"$f":"IF(G41=\"a\",SUMPRODUCT(M41:X41,M$3:X$3),\"0\")","v":0.24},{"$f":"'Informe resultados'!M59","v":0},null,null,null,null,null,null,null,null,null,1,1,null,null,0,0,0,0,0,0,0,0,0,1.2574662055957241E-2,6.2873310279786205E-3,0,null,0,0,0,0,0,0,0,0,0,0,0,0]
[null,null,null,null,null,null,"CC","Concepto de Calidad.",null,{"$f":"SUM(J43:J49)","v":0.14523734674630615}]
[null,null,null,null,null,"Todos los casos",{"$f":"IF(DG!E25=\"Local o parte de un edificio\",\"\",VLOOKUP(H43,CA!$D$10:$K$125,5,FALSE))","v":"a"},"CC 01","Eficiencia de los espacios.",{"$f":"IF(K$51=0,0,K43/K$51)","v":1.8861993083935862E-2},{"$f":"IF(G43=\"a\",SUMPRODUCT(M43:X43,M$3:X$3),\"0\")","v":0.24},{"$f":"'Informe resultados'!M60","v":0},null,null,null,null,null,null,null,null,null,null,2,1,null,{"$f":"(M43*M$3)*$J43/SUMPRODUCT($M43:$X43,$M$3:$X$3)","v":0},0,0,0,0,0,0,0,0,0,1.2574662055957241E-2,6.2873310279786205E-3,null,{"$f":"(M43*M$3)*$L43/SUMPRODUCT($M43:$X43,$M$3:$X$3)","v":0},0,0,0,0,0,0,0,0,0,0,0]
["x",null,null,null,null,"Todos los casos",{"$f":"VLOOKUP(H44,CA!$D$10:$K$125,5,FALSE)","v":"a"},"CC 02","Sistema de gestión del edificio (BMS).",3.4580320653882418E-2,{"$f":"IF(G44=\"a\",SUMPRODUCT(M44:X44,M$3:X$3),\"0\")","v":0.44},{"$f":"'Informe resultados'!M61","v":0},null,null,null,1,1,null,null,null,null,null,2,1,null,0,0,0,9.4309965419679311E-3,6.2873310279786213E-3,0,0,0,0,0,1.2574662055957243E-2,6.2873310279786213E-3,null,0,0,0,0,0,0,0,0,0,0,0,0]
["x",null,null,null,null,"Todos los casos",{"$f":"VLOOKUP(H45,CA!$D$10:$K$125,5,FALSE)","v":"a"},"CC 03","Capacidad de funcionamiento parcial de las instalaciones.",1.2574662055957243E-2,{"$f":"IF(G45=\"a\",SUMPRODUCT(M45:X45,M$3:X$3),\"0\")","v":0.16},null,0.25,0.25,null,0.25,null,null,null,null,null,null,1]
["x",null,null,null,null,"Todos los casos",{"$f":"VLOOKUP(H46,CA!$D$10:$K$125,5,FALSE)","v":"a"},"CC 04","Capacidad de control local de la iluminación.",2.2634391700723039E-2,{"$f":"IF(G46=\"a\",SUMPRODUCT(M46:X46,M$3:X$3),\"0\")","v":0.28800000000000003},null,0.15,0.15,null,0.15,null,null,null,null,null,1,1]
["x",null,null,null,null,"Todos los casos",{"$f":"VLOOKUP(H47,CA!$D$10:$K$125,5,FALSE)","v":"a"},"CC 05","Capacidad de control local de los sistemas de HVAC.",1.8861993083935862E-2,0.24,null,null,null,null,null,null,null,null,null,null,1,1]
[null,null,null,null,null,"Todos los casos",{"$f":"IF(DG!E25=\"Local o parte de un edificio\",\"\",VLOOKUP(H48,CA!$D$10:$K$125,5,FALSE))","v":"a"},"CC 06","Custodia de la documentación del proyecto.",1.8861993083935862E-2,{"$f":"IF(G48=\"a\",SUMPRODUCT(M48:X48,M$3:X$3),\"0\")","v":0.24},{"$f":"'Informe resultados'!M65","v":0},null,null,null,null,null,null,null,null,null,null,3,null,null,0,0,0,0,0,0,0,0,0,0,1.8861993083935862E-2,0,null,0,0,0,0,0,0,0,0,0,0,0,0]
["x",null,null,null,null,"Todos los casos",{"$f":"VLOOKUP(H49,CA!$D$10:$K$125,5,FALSE)","v":"a"},"CC 07","El edificio como una herramienta para la educación.",1.8861993083935862E-2,{"$f":"IF(G49=\"a\",SUMPRODUCT(M49:X49,M$3:X$3),\"0\")","v":0.24},{"$f":"'Informe resultados'!M66","v":0},null,null,null,null,null,null,null,1,null,null,2,null,null,0,0,0,0,0,0,0,6.2873310279786205E-3,0,0,1.2574662055957241E-2,0,null,0,0,0,0,0,0,0,0,0,0,0,0]
["x",null,null,null,null,"Solo interiores",{"$f":"IF(DG!E25=\"Local o parte de un edificio\",VLOOKUP(H50,CA!$D$10:$K$125,5,FALSE),\"\")","v":""},"CC 08","Certificaciones voluntarias del edificio.",{"$f":"IF(K$51=0,0,K50/K$51)","v":0},{"$f":"IF(G50=\"a\",SUMPRODUCT(M50:X50,M$3:X$3),\"0\")","v":"0"},{"$f":"'Informe resultados'!M67","v":0},null,null,null,null,null,null,null,null,null,null,3,null,null,{"$f":"(M50*M$3)*$J50/SUMPRODUCT($M50:$X50,$M$3:$X$3)","v":0},{"$f":"(N50*N$3)*$J50/SUMPRODUCT($M50:$X50,$M$3:$X$3)","v":0},{"$f":"(O50*O$3)*$J50/SUMPRODUCT($M50:$X50,$M$3:$X$3)","v":0},{"$f":"(P50*P$3)*$J50/SUMPRODUCT($M50:$X50,$M$3:$X$3)","v":0},{"$f":"(Q50*Q$3)*$J50/SUMPRODUCT($M50:$X50,$M$3:$X$3)","v":0},{"$f":"(R50*R$3)*$J50/SUMPRODUCT($M50:$X50,$M$3:$X$3)","v":0},{"$f":"(S50*S$3)*$J50/SUMPRODUCT($M50:$X50,$M$3:$X$3)","v":0},{"$f":"(T50*T$3)*$J50/SUMPRODUCT($M50:$X50,$M$3:$X$3)","v":0},{"$f":"(U50*U$3)*$J50/SUMPRODUCT($M50:$X50,$M$3:$X$3)","v":0},{"$f":"(V50*V$3)*$J50/SUMPRODUCT($M50:$X50,$M$3:$X$3)","v":0},{"$f":"(W50*W$3)*$J50/SUMPRODUCT($M50:$X50,$M$3:$X$3)","v":0},{"$f":"(X50*X$3)*$J50/SUMPRODUCT($M50:$X50,$M$3:$X$3)","v":0},null,{"$f":"(M50*M$3)*$L50/SUMPRODUCT($M50:$X50,$M$3:$X$3)","v":0},{"$f":"(N50*N$3)*$L50/SUMPRODUCT($M50:$X50,$M$3:$X$3)","v":0},{"$f":"(O50*O$3)*$L50/SUMPRODUCT($M50:$X50,$M$3:$X$3)","v":0},{"$f":"(P50*P$3)*$L50/SUMPRODUCT($M50:$X50,$M$3:$X$3)","v":0},{"$f":"(Q50*Q$3)*$L50/SUMPRODUCT($M50:$X50,$M$3:$X$3)","v":0},{"$f":"(R50*R$3)*$L50/SUMPRODUCT($M50:$X50,$M$3:$X$3)","v":0},{"$f":"(S50*S$3)*$L50/SUMPRODUCT($M50:$X50,$M$3:$X$3)","v":0},{"$f":"(T50*T$3)*$L50/SUMPRODUCT($M50:$X50,$M$3:$X$3)","v":0},{"$f":"(U50*U$3)*$L50/SUMPRODUCT($M50:$X50,$M$3:$X$3)","v":0},{"$f":"(V50*V$3)*$L50/SUMPRODUCT($M50:$X50,$M$3:$X$3)","v":0},{"$f":"(W50*W$3)*$L50/SUMPRODUCT($M50:$X50,$M$3:$X$3)","v":0},{"$f":"(X50*X$3)*$L50/SUMPRODUCT($M50:$X50,$M$3:$X$3)","v":0}]
[null,null,null,null,null,null,null,null,null,{"$f":"IF(K$50=0,0,K51/K$50)","v":{"$error":"#DIV/0!"}},{"$f":"SUM(K5:K50)","v":12.724000000000004},null,{"$f":"SUM(M5:M49)*M3","v":1.1940000000000002},1.1240000000000001,0.28000000000000003,0.84600000000000009,0.64,0.8,0.32,0.6,0.26,3.36,2.92,0.9]

{"sheet":"Revisión","index":3,"n_rows":572,"n_cols":32,"rows_kept":572,"cut":false,"hidden":true,"merged":[[8,11,8,19],[1,1,1,21],[2,1,2,21],[3,3,3,4],[3,5,3,6],[3,7,3,8],[3,9,3,10],[3,11,3,12],[25,7,25,9],[25,11,26,19],[28,7,28,9],[28,11,29,19],[35,11,35,19],[37,7,37,9],[37,11,38,19],[10,7,10,9],[10,11,11,19],[13,7,13,9],[13,11,14,19],[20,11,20,19],[22,7,22,9],[22,11,23,19],[40,7,40,9],[40,11,41,19],[43,7,43,9],[43,11,44,19],[47,3,47,4],[47,5,47,6],[47,7,47,8],[47,9,47,10],[47,11,47,12],[63,7,63,9],[63,11,64,19],[66,7,66,9],[66,11,67,19],[69,7,69,9],[69,11,70,19],[52,11,52,19],[54,7,54,9],[54,11,55,19],[57,7,57,9],[57,11,58,19],[60,7,60,9],[60,11,61,19],[76,11,76,19],[78,7,78,9],[78,11,79,19],[81,7,81,9],[81,11,82,19],[85,3,85,4],[85,5,85,6],[85,7,85,8],[85,9,85,10],[85,11,85,12],[101,7,101,9],[101,11,102,19],[117,3,117,4],[117,5,117,6],[117,7,117,8],[117,9,117,10],[117,11,117,12],[90,11,90,19],[92,7,92,9],[92,11,93,19],[95,7,95,9],[95,11,96,19],[98,7,98,9],[98,11,99,19],[108,11,108,19],[110,7,110,9],[110,11,111,19],[113,7,113,9],[113,11,114,19],[147,3,147,4],[147,5,147,6],[147,7,147,8],[147,9,147,10],[147,11,147,12],[123,11,123,19],[125,7,125,9],[125,11,126,19],[128,7,128,9],[128,11,129,19],[131,7,131,9],[131,11,132,19],[152,11,152,19],[154,7,154,9],[154,11,155,19],[157,7,157,9],[157,11,158,19],[160,7,160,9],[160,11,161,19],[134,7,134,9],[134,11,135,19],[141,11,141,19],[143,7,143,9],[143,11,144,19],[181,7,181,9],[181,11,182,19],[184,7,184,9],[184,11,185,19],[187,7,187,9],[187,11,188,19],[163,7,163,9],[163,11,164,19],[170,11,170,19],[172,7,172,9],[172,11,173,19],[179,11,179,19],[219,3,219,4],[219,5,219,6],[219,7,219,8],[219,9,219,10],[219,11,219,12],[194,11,194,19],[196,7,196,9],[196,11,197,19],[203,11,203,19],[205,7,205,9],[205,11,206,19],[224,11,224,19],[226,7,226,9],[226,11,227,19],[229,7,229,9],[229,11,230,19],[232,7,232,9],[232,11,233,19],[212,11,212,19],[214,7,214,9],[214,11,215,19],[269,11,269,19],[271,7,271,9],[271,11,272,19],[274,7,274,9],[274,11,275,19],[277,7,277,9],[277,11,278,19],[239,11,239,19],[241,7,241,9],[241,11,242,19],[244,7,244,9],[244,11,245,19],[247,7,247,9],[247,11,248,19],[254,11,254,19],[256,7,256,9],[256,11,257,19],[259,7,259,9],[259,11,260,19],[262,7,262,9],[262,11,263,19],[298,7,298,9],[298,11,299,19],[301,7,301,9],[301,11,302,19],[308,11,308,19],[310,7,310,9],[310,11,311,19],[280,7,280,9],[280,11,281,19],[287,11,287,19],[289,7,289,9],[289,11,290,19],[296,11,296,19],[332,11,332,19],[334,7,334,9],[334,11,335,19],[337,7,337,9],[337,11,338,19],[344,11,344,19],[313,7,313,9],[313,11,314,19],[320,11,320,19],[322,7,322,9],[322,11,323,19],[325,7,325,9],[325,11,326,19],[355,7,355,9],[355,11,356,19],[358,7,358,9],[358,11,359,19],[365,11,365,19],[367,7,367,9],[367,11,368,19],[346,7,346,9],[346,11,347,19],[349,7,349,9],[349,11,350,19],[352,7,352,9],[352,11,353,19],[370,7,370,9],[370,11,371,19],[373,7,373,9],[373,11,374,19],[377,3,377,4],[377,5,377,6],[377,7,377,8],[377,9,377,10],[377,11,377,12],[396,7,396,9],[396,11,397,19],[399,7,399,9],[399,11,400,19],[402,7,402,9],[402,11,403,19],[382,11,382,19],[384,7,384,9],[384,11,385,19],[387,7,387,9],[387,11,388,19],[394,11,394,19],[420,7,420,9],[420,11,421,19],[427,11,427,19],[429,7,429,9],[429,11,430,19],[432,7,432,9],[432,11,433,19],[405,7,405,9],[405,11,406,19],[408,7,408,9],[408,11,409,19],[415,11,415,19],[417,7,417,9],[417,11,418,19],[454,11,454,19],[456,7,456,9],[456,11,457,19],[459,7,459,9],[459,11,460,19],[462,7,462,9],[462,11,463,19],[435,7,435,9],[435,11,436,19],[442,11,442,19],[444,7,444,9],[444,11,445,19],[447,7,447,9],[447,11,448,19],[472,3,472,4],[472,5,472,6],[472,7,472,8],[472,9,472,10],[472,11,472,12],[465,7,465,9],[465,11,466,19],[468,7,468,9],[468,11,469,19],[488,7,488,9],[488,11,489,19],[491,7,491,9],[491,11,492,19],[498,11,498,19],[500,7,500,9],[500,11,501,19],[477,11,477,19],[479,7,479,9],[479,11,480,19],[482,7,482,9],[482,11,483,19],[485,7,485,9],[485,11,486,19],[518,7,518,9],[518,11,519,19],[521,7,521,9],[521,11,522,19],[527,9,527,11],[527,13,527,15],[527,17,527,19],[503,7,503,9],[503,11,504,19],[506,7,506,9],[506,11,507,19],[513,11,513,19],[515,7,515,9],[515,11,516,19],[529,5,529,7],[529,9,529,11],[529,13,529,15],[529,17,529,19],[532,3,532,4],[532,5,532,6],[532,7,532,8],[532,9,532,10],[532,11,532,12],[547,11,547,19],[549,3,549,4],[549,7,549,9],[549,11,550,19],[552,11,552,19],[554,3,554,4],[554,7,554,9],[554,11,555,19],[537,11,537,19],[539,3,539,4],[539,7,539,9],[539,11,540,19],[542,11,542,19],[544,3,544,4],[544,7,544,9],[544,11,545,19],[566,5,566,7],[566,9,566,11],[566,13,566,15],[566,17,566,19],[569,2,569,5],[569,6,569,8],[557,11,557,19],[559,3,559,4],[559,7,559,9],[559,11,560,19],[564,9,564,11],[564,13,564,15],[564,17,564,19]]}
[]
[null,"VERDE W Residencial",null,null,null,null,null,null,null,null,null,null,null,null,null,null,null,null,null,null,null,null,null,null,"SEGURO"]
[null,"REVISIÓN",null,null,null,null,null,null,null,null,null,null,null,null,null,null,null,null,null,null,null,null,null,null,"EN REVISIÓN"]
[null,{"$f":"'Matriz VERDE-GBCe'!G4","v":"PyE"},null,{"$f":"VLOOKUP($B4,'Matriz VERDE-GBCe'!$G$4:$H$51,2,FALSE)","v":"Parcela y Emplazamiento."},{"$f":"VLOOKUP($D4,'Matriz VERDE-GBCe'!$H$4:$K$51,2,FALSE)","v":0},null,null,null,null,null,null,null,null,null,null,null,null,null,null,null,null,null,null,null,"NO CUMPLE"]
[]
[]
[null,null,null,{"$f":"'Matriz VERDE-GBCe'!H5","v":"PyE 01"},{"$f":"VLOOKUP($D7,'Matriz VERDE-GBCe'!$H$4:$K$51,2,FALSE)","v":"Proximidad al transporte publico."},{"$f":"VLOOKUP($D7,'Matriz VERDE-GBCe'!$H$4:$L$51,5,FALSE)","v":0},null,null,null,null,null,null,null,null,null,null,null,null,null,null,null,null,null,null,"Target","SEGURO",null,"EN REVISIÓN",null,"NO CUMPLE",null,"NO APLICA"]
[]
[null,null,null,"D.J","Fecha de entrega del archivo"]
[]
[null,null,null,"AA 01.1","Mantenimiento de corredores naturales",null,null,null,null,null,null,null,null,null,null,null,null,null,null,null,null,null,null,null,{"$f":"IF(AF11=0,1,0)","v":1},{"$f":"+IF($H11=\"seguro\",$Y11,0)","v":0},null,{"$f":"+IF($H11=\"EN REVISIÓN\",$Y11,0)","v":0},null,{"$f":"+IF($H11=\"NO CUMPLE\",$Y11,0)","v":0},null,{"$f":"+IF($H11=\"no aplica\",2,0)","v":0}]
[]
[]
[null,null,null,"AA 01.2","Medidas de protección de la biodiversidad",null,null,null,null,null,null,null,null,null,null,null,null,null,null,null,null,null,null,null,{"$f":"IF(AF14=0,1,0)","v":1},{"$f":"+IF($H14=\"seguro\",$Y14,0)","v":0},null,{"$f":"+IF($H14=\"EN REVISIÓN\",$Y14,0)","v":0},null,{"$f":"+IF($H14=\"NO CUMPLE\",$Y14,0)","v":0},null,{"$f":"+IF($H14=\"no aplica\",2,0)","v":0}]
[]
[null,null,null,null,null,null,null,null,null,null,null,null,null,null,null,null,null,null,null,null,null,null,null,null,{"$f":"SUM(Y11:Y14)","v":2},{"$f":"IF($F7=\"\",0,SUM(Z11:Z14)*$F7/$Y16)","v":0},null,{"$f":"IF($F7=\"\",0,SUM(AB11:AB14)*$F7/$Y16)","v":0},null,{"$f":"IF($F7=\"\",0,SUM(AD11:AD14)*$F7/$Y16)","v":0}]
[]
[]
[null,null,null,{"$f":"'Matriz VERDE-GBCe'!H9","v":"PyE 05"},{"$f":"VLOOKUP($D19,'Matriz VERDE-GBCe'!$H$4:$K$51,2,FALSE)","v":"Clasificación de RSU."},4.1597337770382714E-2,null,null,null,null,null,"NOTAS",null,null,null,null,null,null,null,null,null,null,null,null,"Target","SEGURO",null,"EN REVISIÓN",null,"NO CUMPLE",null,"NO APLICA"]
[]
[null,null,null,"D.J","Fecha del archivo"]
[]
[null,null,null,"AA 02.1","20% de superficie ajardinada con plantas autóctonas o adaptadas",null,null,null,null,null,null,null,null,null,null,null,null,null,null,null,null,null,null,null,{"$f":"IF(AF23=0,0.4,0)","v":0.4},{"$f":"+IF($H23=\"seguro\",$Y23,0)","v":0},null,{"$f":"+IF($H23=\"EN REVISIÓN\",$Y23,0)","v":0},null,{"$f":"+IF($H23=\"NO CUMPLE\",$Y23,0)","v":0},null,{"$f":"+IF($H23=\"no aplica\",2,0)","v":0}]
[]
[]
[null,null,null,"AA 02.2","Existe un estudio previo del terreno",null,null,null,null,null,null,null,null,null,null,null,null,null,null,null,null,null,null,null,{"$f":"IF(AF26=0,0.3,0)","v":0.3},{"$f":"+IF($H26=\"seguro\",$Y26,0)","v":0},null,{"$f":"+IF($H26=\"EN REVISIÓN\",$Y26,0)","v":0},null,{"$f":"+IF($H26=\"NO CUMPLE\",$Y26,0)","v":0},null,{"$f":"+IF($H26=\"no aplica\",2,0)","v":0}]
[]
[]
[null,null,null,"AA 02.3","Se supera en un 10% las superficies ajardinadas fijadas por normativa",null,null,null,null,null,null,null,null,null,null,null,null,null,null,null,null,null,null,null,{"$f":"IF(AF29=0,0.3,0)","v":0.3},{"$f":"+IF($H29=\"seguro\",$Y29,0)","v":0},null,{"$f":"+IF($H29=\"EN REVISIÓN\",$Y29,0)","v":0},null,{"$f":"+IF($H29=\"NO CUMPLE\",$Y29,0)","v":0},null,{"$f":"+IF($H29=\"no aplica\",2,0)","v":0}]
[]
[null,null,null,null,null,null,null,null,null,null,null,null,null,null,null,null,null,null,null,null,null,null,null,null,{"$f":"SUM(Y23:Y29)","v":1},{"$f":"IF($F19=\"\",0,SUM(Z22:Z29)*$F19/$Y31)","v":0},null,{"$f":"IF($F19=\"\",0,SUM(AB22:AB29)*$F19/$Y31)","v":0},null,{"$f":"IF($F19=\"\",0,SUM(AD22:AD29)*$F19/$Y31)","v":0}]
[]
[]
[null,null,null,{"$f":"'Matriz VERDE-GBCe'!H13","v":"PyE 09"},{"$f":"VLOOKUP($D34,'Matriz VERDE-GBCe'!$H$4:$K$51,2,FALSE)","v":"Contaminación lumínica."},{"$f":"VLOOKUP($D34,'Matriz VERDE-GBCe'!$H$4:$K$51,6,FALSE)","v":{"$error":"#REF!"}},null,null,null,null,null,"NOTAS",null,null,null,null,null,null,null,null,null,null,null,null,"Target","SEGURO",null,"EN REVISIÓN",null,"NO CUMPLE",null,"NO APLICA"]
[]
[null,null,null,"D.J","Fecha del archivo"]
[]
[null,null,null,"AA 03.1","Valor ecológico previo de la zona",null,null,null,null,null,null,null,null,null,null,null,null,null,null,null,null,null,null,null,{"$f":"IF(AF38=0,0.4,0)","v":0.4},{"$f":"+IF($H38=\"seguro\",$Y38,0)","v":0},null,{"$f":"+IF($H38=\"EN REVISIÓN\",$Y38,0)","v":0},null,{"$f":"+IF($H38=\"NO CUMPLE\",$Y38,0)","v":0},null,{"$f":"+IF($H38=\"no aplica\",2,0)","v":0}]
[]
[]
[null,null,null,"AA 03.2","Implantación sobre terrenos ya urbanizados",null,null,null,null,null,null,null,null,null,null,null,null,null,null,null,null,null,null,null,{"$f":"IF(AF41=0,0.3,0)","v":0.3},{"$f":"+IF($H41=\"seguro\",$Y41,0)","v":0},null,{"$f":"+IF($H41=\"EN REVISIÓN\",$Y41,0)","v":0},null,{"$f":"+IF($H41=\"NO CUMPLE\",$Y41,0)","v":0},null,{"$f":"+IF($H41=\"no aplica\",2,0)","v":0}]
[]
[]
[null,null,null,"AA 03.3","Estudio previo de la contaminación del suelo",null,null,null,null,null,null,null,null,null,null,null,null,null,null,null,null,null,null,null,{"$f":"IF(AF44=0,0.3,0)","v":0.3},{"$f":"+IF($H44=\"seguro\",$Y44,0)","v":0},null,{"$f":"+IF($H44=\"EN REVISIÓN\",$Y44,0)","v":0},null,{"$f":"+IF($H44=\"NO CUMPLE\",$Y44,0)","v":0},null,{"$f":"+IF($H44=\"no aplica\",2,0)","v":0}]
[]
[null,null,null,null,null,null,null,null,null,null,null,null,null,null,null,null,null,null,null,null,null,null,null,null,{"$f":"SUM(Y38:Y44)","v":1},{"$f":"IF($F34=\"\",0,SUM(Z37:Z44)*$F34/$Y46)","v":{"$error":"#REF!"}},null,{"$f":"IF($F34=\"\",0,SUM(AB37:AB44)*$F34/$Y46)","v":{"$error":"#REF!"}},null,{"$f":"IF($F34=\"\",0,SUM(AD37:AD44)*$F34/$Y46)","v":{"$error":"#REF!"}}]
[]
[null,null,null,{"$f":"'Matriz VERDE-GBCe'!H14","v":"Energía y Atmósfera."}]
[]
[]
[null,null,null,{"$f":"'Matriz VERDE-GBCe'!H15","v":"EyA 01"},{"$f":"VLOOKUP($D51,'Matriz VERDE-GBCe'!$H$4:$K$51,2,FALSE)","v":"Demanda de calefacción y refrigeración."},{"$f":"VLOOKUP($D51,'Matriz VERDE-GBCe'!$H$4:$K$51,6,FALSE)","v":{"$error":"#REF!"}},null,null,null,null,null,"NOTAS",null,null,null,null,null,null,null,null,null,null,null,null,"Target","SEGURO",null,"EN REVISIÓN",null,"NO CUMPLE",null,"NO APLICA"]
[]
[null,null,null,"D.J","Fecha del archivo"]
[]
[null,null,null,"AA 05.1","El Índice de calificación energética es D",null,null,null,null,null,null,null,null,null,null,null,null,null,null,null,null,null,null,null,{"$f":"IF(AF55=0,0.1,0)","v":0.1},{"$f":"+IF($H55=\"seguro\",$Y55,0)","v":0},null,{"$f":"+IF($H55=\"EN REVISIÓN\",$Y55,0)","v":0},null,{"$f":"+IF($H55=\"NO CUMPLE\",$Y55,0)","v":0},null,{"$f":"+IF($H55=\"no aplica\",2,0)","v":0}]
[]
[]
[null,null,null,"AA 05.2","El Índice de calificación energética es C",null,null,null,null,null,null,null,null,null,null,null,null,null,null,null,null,null,null,null,{"$f":"IF(AF58=0,0.2,0)","v":0.2},{"$f":"+IF($H58=\"seguro\",$Y58,0)","v":0},null,{"$f":"+IF($H58=\"EN REVISIÓN\",$Y58,0)","v":0},null,{"$f":"+IF($H58=\"NO CUMPLE\",$Y58,0)","v":0},null,{"$f":"+IF($H58=\"no aplica\",2,0)","v":0}]
[]
[]
[null,null,null,"AA 05.3","El Índice de calificación energética es B",null,null,null,null,null,null,null,null,null,null,null,null,null,null,null,null,null,null,null,0.5,{"$f":"+IF($H61=\"seguro\",$Y61,0)","v":0},null,{"$f":"+IF($H61=\"EN REVISIÓN\",$Y61,0)","v":0},null,{"$f":"+IF($H61=\"NO CUMPLE\",$Y61,0)","v":0},null,{"$f":"+IF($H61=\"no aplica\",2,0)","v":0}]
[]
[]
[null,null,null,"AA 05.4","El Índice de calificación energética es A",null,null,null,null,null,null,null,null,null,null,null,null,null,null,null,null,null,null,null,0.7,{"$f":"+IF($H64=\"seguro\",$Y64,0)","v":0},null,{"$f":"+IF($H64=\"EN REVISIÓN\",$Y64,0)","v":0},null,{"$f":"+IF($H64=\"NO CUMPLE\",$Y64,0)","v":0},null,{"$f":"+IF($H64=\"no aplica\",2,0)","v":0}]
[]
[]
[null,null,null,"AA 05.5","Se utilizan equipos de bombeo eficientes",null,null,null,null,null,null,null,null,null,null,null,null,null,null,null,null,null,null,null,{"$f":"IF(AF67=0,0.2,0)","v":0.2},{"$f":"+IF($H67=\"seguro\",$Y67,0)","v":0},null,{"$f":"+IF($H67=\"EN REVISIÓN\",$Y67,0)","v":0},null,{"$f":"+IF($H67=\"NO CUMPLE\",$Y67,0)","v":0},null,{"$f":"+IF($H67=\"no aplica\",2,0)","v":0}]
[]
[]
[null,null,null,"AA 05.6","Medidas de telecontrol para gestionart los sistemas de bombeo",null,null,null,null,null,null,null,null,null,null,null,null,null,null,null,null,null,null,null,{"$f":"IF(AF70=0,0.1,0)","v":0.1},{"$f":"+IF($H70=\"seguro\",$Y70,0)","v":0},null,{"$f":"+IF($H70=\"EN REVISIÓN\",$Y70,0)","v":0},null,{"$f":"+IF($H70=\"NO CUMPLE\",$Y70,0)","v":0},null,{"$f":"+IF($H70=\"no aplica\",2,0)","v":0}]
[]
[null,null,null,null,null,null,null,null,null,null,null,null,null,null,null,null,null,null,null,null,null,null,null,null,{"$f":"SUM(Y63:Y70)","v":0.99999999999999989},{"$f":"IF($F51=\"\",0,SUM(Z55:Z70)*$F51/$Y72)","v":{"$error":"#REF!"}},null,{"$f":"IF($F51=\"\",0,SUM(AB55:AB70)*$F51/$Y72)","v":{"$error":"#REF!"}},null,{"$f":"IF($F51=\"\",0,SUM(AD55:AD70)*$F51/$Y72)","v":{"$error":"#REF!"}}]
[]
[]
[null,null,null,{"$f":"'Matriz VERDE-GBCe'!H19","v":"EyA 05"},{"$f":"VLOOKUP($D75,'Matriz VERDE-GBCe'!$H$4:$K$51,2,FALSE)","v":"Elección responsable de refrigerantes."},{"$f":"VLOOKUP($D75,'Matriz VERDE-GBCe'!$H$4:$K$51,6,FALSE)","v":{"$error":"#REF!"}},null,null,null,null,null,"NOTAS",null,null,null,null,null,null,null,null,null,null,null,null,"Target","SEGURO",null,"EN REVISIÓN",null,"NO CUMPLE",null,"NO APLICA"]
[]
[null,null,null,"D.J","Fecha del archivo"]
[]
[null,null,null,"AA 06.1","Estudio previo de implantación de renovables",null,null,null,null,null,null,null,null,null,null,null,null,null,null,null,null,null,null,null,0.4,{"$f":"+IF($H79=\"seguro\",$Y79,0)","v":0},null,{"$f":"+IF($H79=\"EN REVISIÓN\",$Y79,0)","v":0},null,{"$f":"+IF($H79=\"NO CUMPLE\",$Y79,0)","v":0},null,{"$f":"+IF($H79=\"no aplica\",2,0)","v":0}]
[]
[]
[null,null,null,"AA 06.2","Sistema de producción y distribución de energía cumunitario",null,null,null,null,null,null,null,null,null,null,null,null,null,null,null,null,null,null,null,0.6,{"$f":"+IF($H82=\"seguro\",$Y82,0)","v":0},null,{"$f":"+IF($H82=\"EN REVISIÓN\",$Y82,0)","v":0},null,{"$f":"+IF($H82=\"NO CUMPLE\",$Y82,0)","v":0},null,{"$f":"+IF($H82=\"no aplica\",2,0)","v":0}]
[]
[null,null,null,null,null,null,null,null,null,null,null,null,null,null,null,null,null,null,null,null,null,null,null,null,{"$f":"SUM(Y79:Y82)","v":1},{"$f":"IF($F75=\"\",0,SUM(Z79:Z82)*$F75/$Y84)","v":{"$error":"#REF!"}},null,{"$f":"IF($F75=\"\",0,SUM(AB79:AB82)*$F75/$Y84)","v":{"$error":"#REF!"}},null,{"$f":"IF($F75=\"\",0,SUM(AD79:AD82)*$F75/$Y84)","v":{"$error":"#REF!"}}]
[]
[null,null,null,{"$f":"'Matriz VERDE-GBCe'!H21","v":"Recursos Naturales."}]
[]
[]
[null,null,null,{"$f":"'Matriz VERDE-GBCe'!H22","v":"RN 01"},{"$f":"VLOOKUP($D89,'Matriz VERDE-GBCe'!$H$4:$K$51,2,FALSE)","v":"Consumo de agua en aparatos sanitarios."},{"$f":"VLOOKUP($D89,'Matriz VERDE-GBCe'!$H$4:$K$51,6,FALSE)","v":{"$error":"#REF!"}},null,null,null,null,null,"NOTAS",null,null,null,null,null,null,null,null,null,null,null,null,"Target","SEGURO",null,"EN REVISIÓN",null,"NO CUMPLE",null,"NO APLICA"]
[]
[null,null,null,"D.J","Fecha del archivo"]
[]
[null,null,null,"AA 07.1","Las necesidades de riego se reducen en un 20%",null,null,null,null,null,null,null,null,null,null,null,null,null,null,null,null,null,null,null,{"$f":"IF(AF93=0,0.15,0)","v":0.15},{"$f":"+IF($H93=\"seguro\",$Y93,0)","v":0},null,{"$f":"+IF($H93=\"EN REVISIÓN\",$Y93,0)","v":0},null,{"$f":"+IF($H93=\"NO CUMPLE\",$Y93,0)","v":0},null,{"$f":"+IF($H93=\"no aplica\",2,0)","v":0}]
[]
[]
[null,null,null,"AA 07.2","Las necesidades de riego se reducen en un 50%",null,null,null,null,null,null,null,null,null,null,null,null,null,null,null,null,null,null,null,{"$f":"IF(AF96=0,0.25,0)","v":0.25},{"$f":"+IF($H96=\"seguro\",$Y96,0)","v":0},null,{"$f":"+IF($H96=\"EN REVISIÓN\",$Y96,0)","v":0},null,{"$f":"+IF($H96=\"NO CUMPLE\",$Y96,0)","v":0},null,{"$f":"+IF($H96=\"no aplica\",2,0)","v":0}]
[]
[]
[null,null,null,"AA 07.3","Sistema de monitorización para gestionar el consumo de agua",null,null,null,null,null,null,null,null,null,null,null,null,null,null,null,null,null,null,null,{"$f":"IF(AF99=0,0.3,0)","v":0.3},{"$f":"+IF($H99=\"seguro\",$Y99,0)","v":0},null,{"$f":"+IF($H99=\"EN REVISIÓN\",$Y99,0)","v":0},null,{"$f":"+IF($H99=\"NO CUMPLE\",$Y99,0)","v":0},null,{"$f":"+IF($H99=\"no aplica\",2,0)","v":0}]
[]
[]
[null,null,null,"AA 07.4","Se reaprovechas las aguas pluviales y/o grises",null,null,null,null,null,null,null,null,null,null,null,null,null,null,null,null,null,null,null,{"$f":"IF(AF102=0,0.3,0)","v":0.3},{"$f":"+IF($H102=\"seguro\",$Y102,0)","v":0},null,{"$f":"+IF($H102=\"EN REVISIÓN\",$Y102,0)","v":0},null,{"$f":"+IF($H102=\"NO CUMPLE\",$Y102,0)","v":0},null,{"$f":"+IF($H102=\"no aplica\",2,0)","v":0}]
[]
[null,null,null,null,null,null,null,null,null,null,null,null,null,null,null,null,null,null,null,null,null,null,null,null,{"$f":"SUM(Y93:Y102)","v":1},{"$f":"IF($F89=\"\",0,SUM(Z93:Z102)*$F89/$Y104)","v":{"$error":"#REF!"}},null,{"$f":"IF($F89=\"\",0,SUM(AB93:AB102)*$F89/$Y104)","v":{"$error":"#REF!"}},null,{"$f":"IF($F89=\"\",0,SUM(AD93:AD102)*$F89/$Y104)","v":{"$error":"#REF!"}}]
[]
[]
[null,null,null,{"$f":"'Matriz VERDE-GBCe'!H32","v":"RN 11"},{"$f":"VLOOKUP($D107,'Matriz VERDE-GBCe'!$H$4:$K$51,2,FALSE)","v":"Ecoetiquetado de producto."},{"$f":"VLOOKUP($D107,'Matriz VERDE-GBCe'!$H$4:$K$51,6,FALSE)","v":{"$error":"#REF!"}},null,null,null,null,null,"NOTAS",null,null,null,null,null,null,null,null,null,null,null,null,"Target","SEGURO",null,"EN REVISIÓN",null,"NO CUMPLE",null,"NO APLICA"]
[]
[null,null,null,"D.J","Fecha del archivo"]
[]
[null,null,null,"AA 06.1","Estudio previo de implantación de renovables",null,null,null,null,null,null,null,null,null,null,null,null,null,null,null,null,null,null,null,0.4,{"$f":"+IF($H111=\"seguro\",$Y111,0)","v":0},null,{"$f":"+IF($H111=\"EN REVISIÓN\",$Y111,0)","v":0},null,{"$f":"+IF($H111=\"NO CUMPLE\",$Y111,0)","v":0},null,{"$f":"+IF($H111=\"no aplica\",2,0)","v":0}]
[]
[]
[null,null,null,"AA 06.2","Sistema de producción y distribución de energía cumunitario",null,null,null,null,null,null,null,null,null,null,null,null,null,null,null,null,null,null,null,0.6,{"$f":"+IF($H114=\"seguro\",$Y114,0)","v":0},null,{"$f":"+IF($H114=\"EN REVISIÓN\",$Y114,0)","v":0},null,{"$f":"+IF($H114=\"NO CUMPLE\",$Y114,0)","v":0},null,{"$f":"+IF($H114=\"no aplica\",2,0)","v":0}]
[]
[null,null,null,null,null,null,null,null,null,null,null,null,null,null,null,null,null,null,null,null,null,null,null,null,{"$f":"SUM(Y111:Y114)","v":1},{"$f":"IF($F107=\"\",0,SUM(Z111:Z114)*$F107/$Y116)","v":{"$error":"#REF!"}},null,{"$f":"IF($F107=\"\",0,SUM(AB111:AB114)*$F107/$Y116)","v":{"$error":"#REF!"}},null,{"$f":"IF($F107=\"\",0,SUM(AD111:AD114)*$F107/$Y116)","v":{"$error":"#REF!"}}]
[]
[null,null,null,{"$f":"'Matriz VERDE-GBCe'!H33","v":"Calidad del Ambiente Interior."}]
[]
[]
[]
[null,null,null,{"$f":"'Matriz VERDE-GBCe'!H34","v":"CAI 01"},{"$f":"VLOOKUP($D122,'Matriz VERDE-GBCe'!$H$4:$K$51,2,FALSE)","v":"Limitación en las emisiones de COVs."},{"$f":"VLOOKUP($D122,'Matriz VERDE-GBCe'!$H$4:$K$51,6,FALSE)","v":{"$error":"#REF!"}},null,null,null,null,null,"NOTAS",null,null,null,null,null,null,null,null,null,null,null,null,"Target","SEGURO",null,"EN REVISIÓN",null,"NO CUMPLE",null,"NO APLICA"]
[]
[null,null,null,"D.J","Fecha del archivo"]
[]
[null,null,null,"AA 09.1","Se ha reutilizado, al menos, un 5% del material",null,null,null,null,null,null,null,null,null,null,null,null,null,null,null,null,null,null,null,{"$f":"IF(AF126=0,0.25,0)","v":0.25},{"$f":"+IF($H126=\"seguro\",$Y126,0)","v":0},null,{"$f":"+IF($H126=\"EN REVISIÓN\",$Y126,0)","v":0},null,{"$f":"+IF($H126=\"NO CUMPLE\",$Y126,0)","v":0},null,{"$f":"+IF($H126=\"no aplica\",2,0)","v":0}]
[]
[]
[null,null,null,"AA 09.2","Los materiles reciclados alcanzan, al menos, un 40% del total",null,null,null,null,null,null,null,null,null,null,null,null,null,null,null,null,null,null,null,{"$f":"IF(AF129=0,0.25,0)","v":0.25},{"$f":"+IF($H129=\"seguro\",$Y129,0)","v":0},null,{"$f":"+IF($H129=\"EN REVISIÓN\",$Y129,0)","v":0},null,{"$f":"+IF($H129=\"NO CUMPLE\",$Y129,0)","v":0},null,{"$f":"+IF($H129=\"no aplica\",2,0)","v":0}]
[]
[]
[null,null,null,"AA 09.3","Se alcanza, al menos, un 15% de materiales de origen sostenible",null,null,null,null,null,null,null,null,null,null,null,null,null,null,null,null,null,null,null,{"$f":"IF(AF132=0,0.25,0)","v":0.25},{"$f":"+IF($H132=\"seguro\",$Y132,0)","v":0},null,{"$f":"+IF($H132=\"EN REVISIÓN\",$Y132,0)","v":0},null,{"$f":"+IF($H132=\"NO CUMPLE\",$Y132,0)","v":0},null,{"$f":"+IF($H132=\"no aplica\",2,0)","v":0}]
[]
[]
[null,null,null,"AA 09.4","Se disponene de, al menos, 5 materiales con ecoetiqueta tipo I o III",null,null,null,null,null,null,null,null,null,null,null,null,null,null,null,null,null,null,null,{"$f":"IF(AF135=0,0.25,0)","v":0.25},{"$f":"+IF($H135=\"seguro\",$Y135,0)","v":0},null,{"$f":"+IF($H135=\"EN REVISIÓN\",$Y135,0)","v":0},null,{"$f":"+IF($H135=\"NO CUMPLE\",$Y135,0)","v":0},null,{"$f":"+IF($H135=\"no aplica\",2,0)","v":0}]
[]
[null,null,null,null,null,null,null,null,null,null,null,null,null,null,null,null,null,null,null,null,null,null,null,null,{"$f":"SUM(Y126:Y135)","v":1},{"$f":"IF($F122=\"\",0,SUM(Z126:Z135)*$F122/$Y137)","v":{"$error":"#REF!"}},null,{"$f":"IF($F122=\"\",0,SUM(AB126:AB135)*$F122/$Y137)","v":{"$error":"#REF!"}},null,{"$f":"IF($F122=\"\",0,SUM(AD126:AD135)*$F122/$Y137)","v":{"$error":"#REF!"}}]
[]
[]
[null,null,null,{"$f":"'Matriz VERDE-GBCe'!#REF!","v":{"$error":"#REF!"}},{"$f":"VLOOKUP($D140,'Matriz VERDE-GBCe'!$H$4:$K$51,2,FALSE)","v":{"$error":"#REF!"}},8.8740987243483116E-2,null,null,null,null,null,"NOTAS",null,null,null,null,null,null,null,null,null,null,null,null,"Target","SEGURO",null,"EN REVISIÓN",null,"NO CUMPLE",null,"NO APLICA"]
[]
[null,null,null,"D.J","Fecha del archivo"]
[]
[null,null,null,"AA 10.1","Se ha desarrollado un ACV de los materiales empleados",null,null,null,null,null,null,null,null,null,null,null,null,null,null,null,null,null,null,null,{"$f":"IF(AF144=0,1,0)","v":1},{"$f":"+IF($H144=\"seguro\",$Y144,0)","v":0},null,{"$f":"+IF($H144=\"EN REVISIÓN\",$Y144,0)","v":0},null,{"$f":"+IF($H144=\"NO CUMPLE\",$Y144,0)","v":0},null,{"$f":"+IF($H144=\"no aplica\",2,0)","v":0}]
[]
[null,null,null,null,null,null,null,null,null,null,null,null,null,null,null,null,null,null,null,null,null,null,null,null,{"$f":"Y144","v":1},{"$f":"IF($F140=\"\",0,Z144*$F140)","v":0},null,{"$f":"IF($F140=\"\",0,AB144*$F140)","v":0},null,{"$f":"IF($F140=\"\",0,AD144*$F140)","v":0}]
[]
[null,null,null,{"$f":"'Matriz VERDE-GBCe'!H42","v":"Concepto de Calidad."}]
[]
[]
[null,null,null,{"$f":"'Matriz VERDE-GBCe'!H43","v":"CC 01"},{"$f":"VLOOKUP($D151,'Matriz VERDE-GBCe'!$H$4:$K$51,2,FALSE)","v":"Eficiencia de los espacios."},{"$f":"VLOOKUP($D151,'Matriz VERDE-GBCe'!$H$4:$K$51,6,FALSE)","v":{"$error":"#REF!"}},null,null,null,null,null,"NOTAS",null,null,null,null,null,null,null,null,null,null,null,null,"Target","SEGURO",null,"EN REVISIÓN",null,"NO CUMPLE",null,"NO APLICA"]
[]
[null,null,null,"D.J","Fecha del archivo"]
[]
[null,null,null,"AA 11.1","Instalación de contenedores por fracciones para residuos NO peligrosos",null,null,null,null,null,null,null,null,null,null,null,null,null,null,null,null,null,null,null,0.25,{"$f":"+IF($H155=\"seguro\",$Y155,0)","v":0},null,{"$f":"+IF($H155=\"EN REVISIÓN\",$Y155,0)","v":0},null,{"$f":"+IF($H155=\"NO CUMPLE\",$Y155,0)","v":0},null,{"$f":"+IF($H155=\"no aplica\",2,0)","v":0}]
[]
[]
[null,null,null,"AA 11.2","Instalacción de contenedores para residuos peligrosos",null,null,null,null,null,null,null,null,null,null,null,null,null,null,null,null,null,null,null,0.25,{"$f":"+IF($H158=\"seguro\",$Y158,0)","v":0},null,{"$f":"+IF($H158=\"EN REVISIÓN\",$Y158,0)","v":0},null,{"$f":"+IF($H158=\"NO CUMPLE\",$Y158,0)","v":0},null,{"$f":"+IF($H158=\"no aplica\",2,0)","v":0}]
[]
[]
[null,null,null,"AA 11.3","Compromiso de retirada selectiva de residuos",null,null,null,null,null,null,null,null,null,null,null,null,null,null,null,null,null,null,null,0.25,{"$f":"+IF($H161=\"seguro\",$Y161,0)","v":0},null,{"$f":"+IF($H161=\"EN REVISIÓN\",$Y161,0)","v":0},null,{"$f":"+IF($H161=\"NO CUMPLE\",$Y161,0)","v":0},null,{"$f":"+IF($H161=\"no aplica\",2,0)","v":0}]
[]
[]
[null,null,null,"AA 11.4","Mejora sustancial en la gestión de residuos",null,null,null,null,null,null,null,null,null,null,null,null,null,null,null,null,null,null,null,0.25,{"$f":"+IF($H164=\"seguro\",$Y164,0)","v":0},null,{"$f":"+IF($H164=\"EN REVISIÓN\",$Y164,0)","v":0},null,{"$f":"+IF($H164=\"NO CUMPLE\",$Y164,0)","v":0},null,{"$f":"+IF($H164=\"no aplica\",2,0)","v":0}]
[]
[null,null,null,null,null,null,null,null,null,null,null,null,null,null,null,null,null,null,null,null,null,null,null,null,{"$f":"SUM(Y155:Y164)","v":1},{"$f":"IF($F151=\"\",0,SUM(Z154:Z164)*$F151/$Y166)","v":{"$error":"#REF!"}},null,{"$f":"IF($F151=\"\",0,SUM(AB154:AB164)*$F151/$Y166)","v":{"$error":"#REF!"}},null,{"$f":"IF($F151=\"\",0,SUM(AD154:AD164)*$F151/$Y166)","v":{"$error":"#REF!"}}]
[]
[]
[null,null,null,{"$f":"'Matriz VERDE-GBCe'!H44","v":"CC 02"},{"$f":"VLOOKUP($D169,'Matriz VERDE-GBCe'!$H$4:$K$51,2,FALSE)","v":"Sistema de gestión del edificio (BMS)."},{"$f":"VLOOKUP($D169,'Matriz VERDE-GBCe'!$H$4:$K$51,6,FALSE)","v":{"$error":"#REF!"}},null,null,null,null,null,"NOTAS",null,null,null,null,null,null,null,null,null,null,null,null,"Target","SEGURO",null,"EN REVISIÓN",null,"NO CUMPLE",null,"NO APLICA"]
[]
[null,null,null,"D.J","Fecha del archivo"]
[]
[null,null,null,"AA 12.1","Existe un plan de prevención de las actividades de la construcción",null,null,null,null,null,null,null,null,null,null,null,null,null,null,null,null,null,null,null,{"$f":"IF(AF173=0,1,0)","v":1},{"$f":"+IF($H173=\"seguro\",$Y173,0)","v":0},null,{"$f":"+IF($H173=\"EN REVISIÓN\",$Y173,0)","v":0},null,{"$f":"+IF($H173=\"NO CUMPLE\",$Y173,0)","v":0},null,{"$f":"+IF($H173=\"no aplica\",2,0)","v":0}]
[]
[null,null,null,null,null,null,null,null,null,null,null,null,null,null,null,null,null,null,null,null,null,null,null,null,{"$f":"Y173","v":1},{"$f":"IF($F169=\"\",0,Z173*$F169)","v":{"$error":"#REF!"}},null,{"$f":"IF($F169=\"\",0,AB173*$F169)","v":{"$error":"#REF!"}},null,{"$f":"IF($F169=\"\",0,AD173*$F169)","v":{"$error":"#REF!"}}]
[]
[]
[null,null,null,{"$f":"'Matriz VERDE-GBCe'!#REF!","v":{"$error":"#REF!"}},{"$f":"VLOOKUP($D178,'Matriz VERDE-GBCe'!$H$4:$K$51,2,FALSE)","v":{"$error":"#REF!"}},{"$f":"VLOOKUP($D178,'Matriz VERDE-GBCe'!$H$4:$K$51,6,FALSE)","v":{"$error":"#REF!"}},null,null,null,null,null,"NOTAS",null,null,null,null,null,null,null,null,null,null,null,null,"Target","SEGURO",null,"EN REVISIÓN",null,"NO CUMPLE",null,"NO APLICA"]
[]
[null,null,null,"D.J","Fecha del archivo"]
[]
[null,null,null,"AA 13.1","Red separativa de pluviales",null,null,null,null,null,null,null,null,null,null,null,null,null,null,null,null,null,null,null,0.6,{"$f":"+IF($H182=\"seguro\",$Y182,0)","v":0},null,{"$f":"+IF($H182=\"EN REVISIÓN\",$Y182,0)","v":0},null,{"$f":"+IF($H182=\"NO CUMPLE\",$Y182,0)","v":0},null,{"$f":"+IF($H182=\"no aplica\",2,0)","v":0}]
[]
[]
[null,null,null,"AA 13.2","Separadores de contaminantes (hidrocarburos y otros)",null,null,null,null,null,null,null,null,null,null,null,null,null,null,null,null,null,null,null,0.2,{"$f":"+IF($H185=\"seguro\",$Y185,0)","v":0},null,{"$f":"+IF($H185=\"EN REVISIÓN\",$Y185,0)","v":0},null,{"$f":"+IF($H185=\"NO CUMPLE\",$Y185,0)","v":0},null,{"$f":"+IF($H185=\"no aplica\",2,0)","v":0}]
[]
[]
[null,null,null,"AA 13.3","Gestión de escorrentías",null,null,null,null,null,null,null,null,null,null,null,null,null,null,null,null,null,null,null,0.2,{"$f":"+IF($H188=\"seguro\",$Y188,0)","v":0},null,{"$f":"+IF($H188=\"EN REVISIÓN\",$Y188,0)","v":0},null,{"$f":"+IF($H188=\"NO CUMPLE\",$Y188,0)","v":0},null,{"$f":"+IF($H188=\"no aplica\",2,0)","v":0}]
[]
[null,null,null,null,null,null,null,null,null,null,null,null,null,null,null,null,null,null,null,null,null,null,null,null,{"$f":"SUM(Y182:Y189)","v":1},{"$f":"IF($F178=\"\",0,SUM(Z181:Z188)*$F178/$Y190)","v":{"$error":"#REF!"}},null,{"$f":"IF($F178=\"\",0,SUM(AB181:AB188)*$F178/$Y190)","v":{"$error":"#REF!"}},null,{"$f":"IF($F178=\"\",0,SUM(AD181:AD188)*$F178/$Y190)","v":{"$error":"#REF!"}}]
[]
[]
[null,null,null,{"$f":"'Matriz VERDE-GBCe'!#REF!","v":{"$error":"#REF!"}},{"$f":"VLOOKUP($D193,'Matriz VERDE-GBCe'!$H$4:$K$51,2,FALSE)","v":{"$error":"#REF!"}},{"$f":"VLOOKUP($D193,'Matriz VERDE-GBCe'!$H$4:$K$51,6,FALSE)","v":{"$error":"#REF!"}},null,null,null,null,null,"NOTAS",null,null,null,null,null,null,null,null,null,null,null,null,"Target","SEGURO",null,"EN REVISIÓN",null,"NO CUMPLE",null,"NO APLICA"]
[]
[null,null,null,"D.J","Fecha del archivo"]
[]
[null,null,null,"AA 14.1","El FHS reduce el exigido por normativa en un 50%",null,null,null,null,null,null,null,null,null,null,null,null,null,null,null,null,null,null,null,{"$f":"IF(AF197=0,1,0)","v":1},{"$f":"+IF($H197=\"seguro\",$Y197,0)","v":0},null,{"$f":"+IF($H197=\"EN REVISIÓN\",$Y197,0)","v":0},null,{"$f":"+IF($H197=\"NO CUMPLE\",$Y197,0)","v":0},null,{"$f":"+IF($H197=\"no aplica\",2,0)","v":0}]
[]
[null,null,null,null,null,null,null,null,null,null,null,null,null,null,null,null,null,null,null,null,null,null,null,null,{"$f":"Y197","v":1},{"$f":"IF($F193=\"\",0,Z197*$F193)","v":{"$error":"#REF!"}},null,{"$f":"IF($F193=\"\",0,AB197*$F193)","v":{"$error":"#REF!"}},null,{"$f":"IF($F193=\"\",0,AD197*$F193)","v":{"$error":"#REF!"}}]
[]
[]
[null,null,null,{"$f":"'Matriz VERDE-GBCe'!#REF!","v":{"$error":"#REF!"}},{"$f":"VLOOKUP($D202,'Matriz VERDE-GBCe'!$H$4:$K$51,2,FALSE)","v":{"$error":"#REF!"}},{"$f":"VLOOKUP($D202,'Matriz VERDE-GBCe'!$H$4:$K$51,6,FALSE)","v":{"$error":"#REF!"}},null,null,null,null,null,"NOTAS",null,null,null,null,null,null,null,null,null,null,null,null,"Target","SEGURO",null,"EN REVISIÓN",null,"NO CUMPLE",null,"NO APLICA"]
[null,null,null,{"$f":"'Matriz VERDE-GBCe'!#REF!","v":{"$error":"#REF!"}}]
[null,null,null,"D.J","Fecha del archivo"]
[]
[null,null,null,"AA 15.1","Las superficies tratadas para evitar la isla de calor supera el 25%",null,null,null,null,null,null,null,null,null,null,null,null,null,null,null,null,null,null,null,{"$f":"IF(AF206=0,1,0)","v":1},{"$f":"+IF($H206=\"seguro\",$Y206,0)","v":0},null,{"$f":"+IF($H206=\"EN REVISIÓN\",$Y206,0)","v":0},null,{"$f":"+IF($H206=\"NO CUMPLE\",$Y206,0)","v":0},null,{"$f":"+IF($H206=\"no aplica\",2,0)","v":0}]
[]
[null,null,null,null,null,null,null,null,null,null,null,null,null,null,null,null,null,null,null,null,null,null,null,null,{"$f":"Y206","v":1},{"$f":"IF($F202=\"\",0,Z206*$F202)","v":{"$error":"#REF!"}},null,{"$f":"IF($F202=\"\",0,AB206*$F202)","v":{"$error":"#REF!"}},null,{"$f":"IF($F202=\"\",0,AD206*$F202)","v":{"$error":"#REF!"}}]
[]
[]
[null,null,null,{"$f":"'Matriz VERDE-GBCe'!#REF!","v":{"$error":"#REF!"}},{"$f":"VLOOKUP($D211,'Matriz VERDE-GBCe'!$H$4:$K$51,2,FALSE)","v":{"$error":"#REF!"}},{"$f":"VLOOKUP($D211,'Matriz VERDE-GBCe'!$H$4:$K$51,6,FALSE)","v":{"$error":"#REF!"}},null,null,null,null,null,"NOTAS",null,null,null,null,null,null,null,null,null,null,null,null,"Target","SEGURO",null,"EN REVISIÓN",null,"NO CUMPLE",null,"NO APLICA"]
[]
[null,null,null,"D.J","Fecha del archivo"]
[null,null,null,null,null,null,null,null,null,null,null,null,null,null,null,null,null,null,null,null,null,null,null,{"$f":"D211","v":{"$error":"#REF!"}}]
[null,null,null,"AA 16.1","Se emplea asfalto fonoabsorvente (solo cerca de poblaciones)",null,null,null,null,null,null,null,null,null,null,null,null,null,null,null,null,null,null,null,{"$f":"IF(AF215=0,1,0)","v":1},{"$f":"+IF($H215=\"seguro\",$Y215,0)","v":0},null,{"$f":"+IF($H215=\"EN REVISIÓN\",$Y215,0)","v":0},null,{"$f":"+IF($H215=\"NO CUMPLE\",$Y215,0)","v":0},null,{"$f":"+IF($H215=\"no aplica\",2,0)","v":0}]
[]
[null,null,null,null,null,null,null,null,null,null,null,null,null,null,null,null,null,null,null,null,null,null,null,null,{"$f":"Y215","v":1},{"$f":"IF($F211=\"\",0,Z215*$F211)","v":{"$error":"#REF!"}},null,{"$f":"IF($F211=\"\",0,AB215*$F211)","v":{"$error":"#REF!"}},null,{"$f":"IF($F211=\"\",0,AD215*$F211)","v":{"$error":"#REF!"}}]
[]
[]
[null,{"$f":"'Matriz VERDE-GBCe'!G39","v":"ASE"},null,{"$f":"'Matriz VERDE-GBCe'!H39","v":"Aspectos Sociales y Económicos."}]
[]
[]
[null,null,null,{"$f":"'Matriz VERDE-GBCe'!H40","v":"ASE 01"},{"$f":"VLOOKUP($D223,'Matriz VERDE-GBCe'!$H$4:$K$51,2,FALSE)","v":"Acceso universal."},{"$f":"VLOOKUP($D223,'Matriz VERDE-GBCe'!$H$4:$K$51,6,FALSE)","v":{"$error":"#REF!"}},null,null,null,null,null,"NOTAS",null,null,null,null,null,null,null,null,null,null,null,null,"Target","SEGURO",null,"EN REVISIÓN",null,"NO CUMPLE",null,"NO APLICA"]
[]
[null,null,null,"D.J","Fecha del archivo"]
[]
[null,null,null,"AS 01.1","Existe una estación que mide la calidad del aire",null,null,null,null,null,null,null,null,null,null,null,null,null,null,null,null,null,null,null,{"$f":"IF(AF227=0,1,0)","v":1},{"$f":"+IF($H227=\"seguro\",$Y227,0)","v":0},null,{"$f":"+IF($H227=\"EN REVISIÓN\",$Y227,0)","v":0},null,{"$f":"+IF($H227=\"NO CUMPLE\",$Y227,0)","v":0},null,{"$f":"+IF($H227=\"no aplica\",2,0)","v":0}]
[]
[]
[null,null,null,"AS 01.2","Los datos de dicha estación se comparten con los servicios municipales",null,null,null,null,null,null,null,null,null,null,null,null,null,null,null,null,null,null,null,{"$f":"IF(AF230=0,1,0)","v":1},{"$f":"+IF($H230=\"seguro\",$Y230,0)","v":0},null,{"$f":"+IF($H230=\"EN REVISIÓN\",$Y230,0)","v":0},null,{"$f":"+IF($H230=\"NO CUMPLE\",$Y230,0)","v":0},null,{"$f":"+IF($H230=\"no aplica\",2,0)","v":0}]
[]
[]
[null,null,null,"AS 01.3","Los datos de la estación son públicos",null,null,null,null,null,null,null,null,null,null,null,null,null,null,null,null,null,null,null,{"$f":"IF(AF233=0,1,0)","v":1},{"$f":"+IF($H233=\"seguro\",$Y233,0)","v":0},null,{"$f":"+IF($H233=\"EN REVISIÓN\",$Y233,0)","v":0},null,{"$f":"+IF($H233=\"NO CUMPLE\",$Y233,0)","v":0},null,{"$f":"+IF($H233=\"no aplica\",2,0)","v":0}]
[]
[null,null,null,null,null,null,null,null,null,null,null,null,null,null,null,null,null,null,null,null,null,null,null,null,{"$f":"SUM(Y226:Y233)","v":3},{"$f":"IF($F223=\"\",0,SUM(Z227:Z233)*$F223/$Y235)","v":{"$error":"#REF!"}},null,{"$f":"IF($F223=\"\",0,SUM(AB227:AB233)*$F223/$Y235)","v":{"$error":"#REF!"}},null,{"$f":"IF($F223=\"\",0,SUM(AD227:AD233)*$F223/$Y235)","v":{"$error":"#REF!"}}]
[]
[]
[null,null,null,{"$f":"'Matriz VERDE-GBCe'!#REF!","v":{"$error":"#REF!"}},{"$f":"VLOOKUP($D238,'Matriz VERDE-GBCe'!$H$4:$K$51,2,FALSE)","v":{"$error":"#REF!"}},{"$f":"VLOOKUP($D238,'Matriz VERDE-GBCe'!$H$4:$K$51,6,FALSE)","v":{"$error":"#REF!"}},null,null,null,null,null,"NOTAS",null,null,null,null,null,null,null,null,null,null,null,null,"Target","SEGURO",null,"EN REVISIÓN",null,"NO CUMPLE",null,"NO APLICA"]
[]
[null,null,null,"D.J","Fecha del archivo"]
[]
[null,null,null,"AS 02.1","El 70% tienen acceso a equipamientos a menos de 1,000 m",null,null,null,null,null,null,null,null,null,null,null,null,null,null,null,null,null,null,null,{"$f":"IF(AF242=0,0.4,0)","v":0.4},{"$f":"+IF($H242=\"seguro\",$Y242,0)","v":0},null,{"$f":"+IF($H242=\"EN REVISIÓN\",$Y242,0)","v":0},null,{"$f":"+IF($H242=\"NO CUMPLE\",$Y242,0)","v":0},null,{"$f":"+IF($H242=\"no aplica\",2,0)","v":0}]
[]
[]
[null,null,null,"AS 02.2","Las zonas verdes están dotadas de, al menos, 3 equipaciones",null,null,null,null,null,null,null,null,null,null,null,null,null,null,null,null,null,null,null,{"$f":"IF(AF245=0,0.3,0)","v":0.3},{"$f":"+IF($H245=\"seguro\",$Y245,0)","v":0},null,{"$f":"+IF($H245=\"EN REVISIÓN\",$Y245,0)","v":0},null,{"$f":"+IF($H245=\"NO CUMPLE\",$Y245,0)","v":0},null,{"$f":"+IF($H245=\"no aplica\",2,0)","v":0}]
[]
[]
[null,null,null,"AS 02.3","Existen, al menos, dos usos complementarios al de nave logística.",null,null,null,null,null,null,null,null,null,null,null,null,null,null,null,null,null,null,null,{"$f":"IF(AF248=0,0.3,0)","v":0.3},{"$f":"+IF($H248=\"seguro\",$Y248,0)","v":0},null,{"$f":"+IF($H248=\"EN REVISIÓN\",$Y248,0)","v":0},null,{"$f":"+IF($H248=\"NO CUMPLE\",$Y248,0)","v":0},null,{"$f":"+IF($H248=\"no aplica\",2,0)","v":0}]
[]
[null,null,null,null,null,null,null,null,null,null,null,null,null,null,null,null,null,null,null,null,null,null,null,null,{"$f":"SUM(Y242:Y248)","v":1},{"$f":"IF($F238=\"\",0,SUM(Z242:Z248)*$F238/$Y250)","v":{"$error":"#REF!"}},null,{"$f":"IF($F238=\"\",0,SUM(AB242:AB248)*$F238/$Y250)","v":{"$error":"#REF!"}},null,{"$f":"IF($F238=\"\",0,SUM(AD242:AD248)*$F238/$Y250)","v":{"$error":"#REF!"}}]
[]
[]
[null,null,null,{"$f":"'Matriz VERDE-GBCe'!#REF!","v":{"$error":"#REF!"}},{"$f":"VLOOKUP($D253,'Matriz VERDE-GBCe'!$H$4:$K$51,2,FALSE)","v":{"$error":"#REF!"}},{"$f":"VLOOKUP($D253,'Matriz VERDE-GBCe'!$H$4:$K$51,6,FALSE)","v":{"$error":"#REF!"}},null,null,null,null,null,"NOTAS",null,null,null,null,null,null,null,null,null,null,null,null,"Target","SEGURO",null,"EN REVISIÓN",null,"NO CUMPLE",null,"NO APLICA"]
[]
[null,null,null,"D.J","Fecha del archivo"]
[]
[null,null,null,"AS 02.1","El 70% tienen acceso a equipamientos a menos de 1,000 m",null,null,null,null,null,null,null,null,null,null,null,null,null,null,null,null,null,null,null,{"$f":"IF(AF257=0,0.4,0)","v":0.4},{"$f":"+IF($H257=\"seguro\",$Y257,0)","v":0},null,{"$f":"+IF($H257=\"EN REVISIÓN\",$Y257,0)","v":0},null,{"$f":"+IF($H257=\"NO CUMPLE\",$Y257,0)","v":0},null,{"$f":"+IF($H257=\"no aplica\",2,0)","v":0}]
[]
[]
[null,null,null,"AS 02.2","Las zonas verdes están dotadas de, al menos, 3 equipaciones",null,null,null,null,null,null,null,null,null,null,null,null,null,null,null,null,null,null,null,{"$f":"IF(AF260=0,0.3,0)","v":0.3},{"$f":"+IF($H260=\"seguro\",$Y260,0)","v":0},null,{"$f":"+IF($H260=\"EN REVISIÓN\",$Y260,0)","v":0},null,{"$f":"+IF($H260=\"NO CUMPLE\",$Y260,0)","v":0},null,{"$f":"+IF($H260=\"no aplica\",2,0)","v":0}]
[]
[]
[null,null,null,"AS 02.3","Existen, al menos, dos usos complementarios al de nave logística.",null,null,null,null,null,null,null,null,null,null,null,null,null,null,null,null,null,null,null,{"$f":"IF(AF263=0,0.3,0)","v":0.3},{"$f":"+IF($H263=\"seguro\",$Y263,0)","v":0},null,{"$f":"+IF($H263=\"EN REVISIÓN\",$Y263,0)","v":0},null,{"$f":"+IF($H263=\"NO CUMPLE\",$Y263,0)","v":0},null,{"$f":"+IF($H263=\"no aplica\",2,0)","v":0}]
[]
[null,null,null,null,null,null,null,null,null,null,null,null,null,null,null,null,null,null,null,null,null,null,null,null,{"$f":"SUM(Y257:Y263)","v":1},{"$f":"IF($F253=\"\",0,SUM(Z257:Z263)*$F253/$Y265)","v":{"$error":"#REF!"}},null,{"$f":"IF($F253=\"\",0,SUM(AB257:AB263)*$F253/$Y265)","v":{"$error":"#REF!"}},null,{"$f":"IF($F253=\"\",0,SUM(AD257:AD263)*$F253/$Y265)","v":{"$error":"#REF!"}}]
[]
[]
[null,null,null,{"$f":"'Matriz VERDE-GBCe'!#REF!","v":{"$error":"#REF!"}},{"$f":"VLOOKUP($D268,'Matriz VERDE-GBCe'!$H$4:$K$51,2,FALSE)","v":{"$error":"#REF!"}},{"$f":"VLOOKUP($D268,'Matriz VERDE-GBCe'!$H$4:$K$51,6,FALSE)","v":{"$error":"#REF!"}},null,null,null,null,null,"NOTAS",null,null,null,null,null,null,null,null,null,null,null,null,"Target","SEGURO",null,"EN REVISIÓN",null,"NO CUMPLE",null,"NO APLICA"]
[]
[null,null,null,"D.J","Fecha del archivo"]
[]
[null,null,null,"AS 03.1","Existe un núcleo que cumple con el criterio a menos de 15,000 m",null,null,null,null,null,null,null,null,null,null,null,null,null,null,null,null,null,null,null,0.25,{"$f":"+IF($H272=\"seguro\",$Y272,0)","v":0},null,{"$f":"+IF($H272=\"EN REVISIÓN\",$Y272,0)","v":0},null,{"$f":"+IF($H272=\"NO CUMPLE\",$Y272,0)","v":0},null,{"$f":"+IF($H272=\"no aplica\",2,0)","v":0}]
[]
[]
[null,null,null,"AS 03.2","Existe un núcleo que cumple con el criterio a menos de 10,000 m",null,null,null,null,null,null,null,null,null,null,null,null,null,null,null,null,null,null,null,0.25,{"$f":"+IF($H275=\"seguro\",$Y275,0)","v":0},null,{"$f":"+IF($H275=\"EN REVISIÓN\",$Y275,0)","v":0},null,{"$f":"+IF($H275=\"NO CUMPLE\",$Y275,0)","v":0},null,{"$f":"+IF($H275=\"no aplica\",2,0)","v":0}]
[]
[]
[null,null,null,"AS 03.3","Existe un núcleo que cumple con el criterio a menos de 5,000 m",null,null,null,null,null,null,null,null,null,null,null,null,null,null,null,null,null,null,null,0.25,{"$f":"+IF($H278=\"seguro\",$Y278,0)","v":0},null,{"$f":"+IF($H278=\"EN REVISIÓN\",$Y278,0)","v":0},null,{"$f":"+IF($H278=\"NO CUMPLE\",$Y278,0)","v":0},null,{"$f":"+IF($H278=\"no aplica\",2,0)","v":0}]
[]
[]
[null,null,null,"AS 03.4","Existe un núcleo que cumple con el criterio a menos de 2,000 m",null,null,null,null,null,null,null,null,null,null,null,null,null,null,null,null,null,null,null,0.25,{"$f":"+IF($H281=\"seguro\",$Y281,0)","v":0},null,{"$f":"+IF($H281=\"EN REVISIÓN\",$Y281,0)","v":0},null,{"$f":"+IF($H281=\"NO CUMPLE\",$Y281,0)","v":0},null,{"$f":"+IF($H281=\"no aplica\",2,0)","v":0}]
[]
[null,null,null,null,null,null,null,null,null,null,null,null,null,null,null,null,null,null,null,null,null,null,null,null,{"$f":"SUM(Y271:Y281)","v":1},{"$f":"IF($F268=\"\",0,SUM(Z271:Z281)*$F268/$Y283)","v":{"$error":"#REF!"}},null,{"$f":"IF($F268=\"\",0,SUM(AB271:AB281)*$F268/$Y283)","v":{"$error":"#REF!"}},null,{"$f":"IF($F268=\"\",0,SUM(AD271:AD281)*$F268/$Y283)","v":{"$error":"#REF!"}}]
[]
[]
[null,null,null,{"$f":"'Matriz VERDE-GBCe'!#REF!","v":{"$error":"#REF!"}},{"$f":"VLOOKUP($D286,'Matriz VERDE-GBCe'!$H$4:$K$51,2,FALSE)","v":{"$error":"#REF!"}},{"$f":"VLOOKUP($D286,'Matriz VERDE-GBCe'!$H$4:$K$51,6,FALSE)","v":{"$error":"#REF!"}},null,null,null,null,null,"NOTAS",null,null,null,null,null,null,null,null,null,null,null,null,"Target","SEGURO",null,"EN REVISIÓN",null,"NO CUMPLE",null,"NO APLICA"]
[]
[null,null,null,"D.J","Fecha del archivo"]
[]
[null,null,null,"AS 04.1","Existe un Plan de Movilidad Sostenible",null,null,null,null,null,null,null,null,null,null,null,null,null,null,null,null,null,null,null,1,{"$f":"+IF($H290=\"seguro\",$Y290,0)","v":0},null,{"$f":"+IF($H290=\"EN REVISIÓN\",$Y290,0)","v":0},null,{"$f":"+IF($H290=\"NO CUMPLE\",$Y290,0)","v":0},null,{"$f":"+IF($H290=\"no aplica\",2,0)","v":0}]
[]
[null,null,null,null,null,null,null,null,null,null,null,null,null,null,null,null,null,null,null,null,null,null,null,null,{"$f":"SUM(Y289:Y290)","v":1},{"$f":"IF($F286=\"\",0,SUM(Z289:Z290)*$F286/$Y292)","v":{"$error":"#REF!"}},null,{"$f":"IF($F286=\"\",0,SUM(AB289:AB290)*$F286/$Y292)","v":{"$error":"#REF!"}},null,{"$f":"IF($F286=\"\",0,SUM(AD289:AD290)*$F286/$Y292)","v":{"$error":"#REF!"}}]
[]
[]
[null,null,null,{"$f":"'Matriz VERDE-GBCe'!#REF!","v":{"$error":"#REF!"}},{"$f":"VLOOKUP($D295,'Matriz VERDE-GBCe'!$H$4:$K$51,2,FALSE)","v":{"$error":"#REF!"}},{"$f":"VLOOKUP($D295,'Matriz VERDE-GBCe'!$H$4:$K$51,6,FALSE)","v":{"$error":"#REF!"}},null,null,null,null,null,"NOTAS",null,null,null,null,null,null,null,null,null,null,null,null,"Target","SEGURO",null,"EN REVISIÓN",null,"NO CUMPLE",null,"NO APLICA"]
[]
[null,null,null,"D.J","Fecha del archivo"]
[]
[null,null,null,"AS 05.1","El diseño de los viales garantizan la accesibilidad",null,null,null,null,null,null,null,null,null,null,null,null,null,null,null,null,null,null,null,{"$f":"IF(AF299=0,0.7,0)","v":0.7},{"$f":"+IF($H299=\"seguro\",$Y299,0)","v":0},null,{"$f":"+IF($H299=\"EN REVISIÓN\",$Y299,0)","v":0},null,{"$f":"+IF($H299=\"NO CUMPLE\",$Y299,0)","v":0},null,{"$f":"+IF($H299=\"no aplica\",2,0)","v":0}]
[]
[]
[null,null,null,"AS 05.2","La señalización del parque es adecuada",null,null,null,null,null,null,null,null,null,null,null,null,null,null,null,null,null,null,null,{"$f":"IF(AF302=0,0.3,0)","v":0.3},{"$f":"+IF($H302=\"seguro\",$Y302,0)","v":0},null,{"$f":"+IF($H302=\"EN REVISIÓN\",$Y302,0)","v":0},null,{"$f":"+IF($H302=\"NO CUMPLE\",$Y302,0)","v":0},null,{"$f":"+IF($H302=\"no aplica\",2,0)","v":0}]
[]
[null,null,null,null,null,null,null,null,null,null,null,null,null,null,null,null,null,null,null,null,null,null,null,null,{"$f":"SUM(Y299:Y302)","v":1},{"$f":"IF($F295=\"\",0,SUM(Z299:Z302)*$F295/$Y304)","v":{"$error":"#REF!"}},null,{"$f":"IF($F295=\"\",0,SUM(AB299:AB302)*$F295/$Y304)","v":{"$error":"#REF!"}},null,{"$f":"IF($F295=\"\",0,SUM(AD299:AD302)*$F295/$Y304)","v":{"$error":"#REF!"}}]
[]
[]
[null,null,null,{"$f":"'Matriz VERDE-GBCe'!#REF!","v":{"$error":"#REF!"}},{"$f":"VLOOKUP($D307,'Matriz VERDE-GBCe'!$H$4:$K$51,2,FALSE)","v":{"$error":"#REF!"}},{"$f":"VLOOKUP($D307,'Matriz VERDE-GBCe'!$H$4:$K$51,6,FALSE)","v":{"$error":"#REF!"}},null,null,null,null,null,"NOTAS",null,null,null,null,null,null,null,null,null,null,null,null,"Target","SEGURO",null,"EN REVISIÓN",null,"NO CUMPLE",null,"NO APLICA"]
[]
[null,null,null,"D.J","Fecha del archivo"]
[]
[null,null,null,"AS 06.1","Existe aparcamiento de bicicletas ",null,null,null,null,null,null,null,null,null,null,null,null,null,null,null,null,null,null,null,0.5,{"$f":"+IF($H311=\"seguro\",$Y311,0)","v":0},null,{"$f":"+IF($H311=\"EN REVISIÓN\",$Y311,0)","v":0},null,{"$f":"+IF($H311=\"NO CUMPLE\",$Y311,0)","v":0},null,{"$f":"+IF($H311=\"no aplica\",2,0)","v":0}]
[]
[]
[null,null,null,"AS 06.2","Se ha diseñado una red viaria para bicicletas",null,null,null,null,null,null,null,null,null,null,null,null,null,null,null,null,null,null,null,0.5,{"$f":"+IF($H314=\"seguro\",$Y314,0)","v":0},null,{"$f":"+IF($H314=\"EN REVISIÓN\",$Y314,0)","v":0},null,{"$f":"+IF($H314=\"NO CUMPLE\",$Y314,0)","v":0},null,{"$f":"+IF($H314=\"no aplica\",2,0)","v":0}]
[]
[null,null,null,null,null,null,null,null,null,null,null,null,null,null,null,null,null,null,null,null,null,null,null,null,{"$f":"SUM(Y311:Y314)","v":1},{"$f":"IF($F307=\"\",0,SUM(Z311:Z314)*$F307/$Y316)","v":{"$error":"#REF!"}},null,{"$f":"IF($F307=\"\",0,SUM(AB311:AB314)*$F307/$Y316)","v":{"$error":"#REF!"}},null,{"$f":"IF($F307=\"\",0,SUM(AD311:AD314)*$F307/$Y316)","v":{"$error":"#REF!"}}]
[]
[]
[null,null,null,{"$f":"'Matriz VERDE-GBCe'!#REF!","v":{"$error":"#REF!"}},{"$f":"VLOOKUP($D319,'Matriz VERDE-GBCe'!$H$4:$K$51,2,FALSE)","v":{"$error":"#REF!"}},{"$f":"VLOOKUP($D319,'Matriz VERDE-GBCe'!$H$4:$K$51,6,FALSE)","v":{"$error":"#REF!"}},null,null,null,null,null,"NOTAS",null,null,null,null,null,null,null,null,null,null,null,null,"Target","SEGURO",null,"EN REVISIÓN",null,"NO CUMPLE",null,"NO APLICA"]
[]
[null,null,null,"D.J","Fecha del archivo"]
[]
[null,null,null,"AS 07.1","El 70% de las parcelas tienen un nodo de trasnporte a menos de 1.000 m",null,null,null,null,null,null,null,null,null,null,null,null,null,null,null,null,null,null,null,{"$f":"IF(AF323=0,0.7,0)","v":0.7},{"$f":"+IF($H323=\"seguro\",$Y323,0)","v":0},null,{"$f":"+IF($H323=\"EN REVISIÓN\",$Y323,0)","v":0},null,{"$f":"+IF($H323=\"NO CUMPLE\",$Y323,0)","v":0},null,{"$f":"+IF($H323=\"no aplica\",2,0)","v":0}]
[]
[]
[null,null,null,"AS 07.2","El parque tiene conexión con al menos, dos lineas de trasnporte",null,null,null,null,null,null,null,null,null,null,null,null,null,null,null,null,null,null,null,{"$f":"IF(AF326=0,0.3,0)","v":0.3},{"$f":"+IF($H326=\"seguro\",$Y326,0)","v":0},null,{"$f":"+IF($H326=\"EN REVISIÓN\",$Y326,0)","v":0},null,{"$f":"+IF($H326=\"NO CUMPLE\",$Y326,0)","v":0},null,{"$f":"+IF($H326=\"no aplica\",2,0)","v":0}]
[]
[null,null,null,null,null,null,null,null,null,null,null,null,null,null,null,null,null,null,null,null,null,null,null,null,{"$f":"SUM(Y323:Y326)","v":1},{"$f":"IF($F319=\"\",0,SUM(Z323:Z326)*$F319/$Y328)","v":{"$error":"#REF!"}},null,{"$f":"IF($F319=\"\",0,SUM(AB323:AB326)*$F319/$Y328)","v":{"$error":"#REF!"}},null,{"$f":"IF($F319=\"\",0,SUM(AD323:AD326)*$F319/$Y328)","v":{"$error":"#REF!"}}]
[]
[]
[null,null,null,{"$f":"'Matriz VERDE-GBCe'!#REF!","v":{"$error":"#REF!"}},{"$f":"VLOOKUP($D331,'Matriz VERDE-GBCe'!$H$4:$K$51,2,FALSE)","v":{"$error":"#REF!"}},{"$f":"VLOOKUP($D331,'Matriz VERDE-GBCe'!$H$4:$K$51,6,FALSE)","v":{"$error":"#REF!"}},null,null,null,null,null,"NOTAS",null,null,null,null,null,null,null,null,null,null,null,null,"Target","SEGURO",null,"EN REVISIÓN",null,"NO CUMPLE",null,"NO APLICA"]
[]
[null,null,null,"D.J","Fecha del archivo"]
[]
[null,null,null,"AS 08.1","Las plazas de aparcamiento no superan las exigencias normativas",null,null,null,null,null,null,null,null,null,null,null,null,null,null,null,null,null,null,null,{"$f":"IF(AF335=0,0.7,0)","v":0.7},{"$f":"+IF($H335=\"seguro\",$Y335,0)","v":0},null,{"$f":"+IF($H335=\"EN REVISIÓN\",$Y335,0)","v":0},null,{"$f":"+IF($H335=\"NO CUMPLE\",$Y335,0)","v":0},null,{"$f":"+IF($H335=\"no aplica\",2,0)","v":0}]
[]
[]
[null,null,null,"AS 08.2","Se cumple con la reserva de plazas para vehículos eléctricos",null,null,null,null,null,null,null,null,null,null,null,null,null,null,null,null,null,null,null,{"$f":"IF(AF338=0,0.3,0)","v":0.3},{"$f":"+IF($H338=\"seguro\",$Y338,0)","v":0},null,{"$f":"+IF($H338=\"EN REVISIÓN\",$Y338,0)","v":0},null,{"$f":"+IF($H338=\"NO CUMPLE\",$Y338,0)","v":0},null,{"$f":"+IF($H338=\"no aplica\",2,0)","v":0}]
[]
[null,null,null,null,null,null,null,null,null,null,null,null,null,null,null,null,null,null,null,null,null,null,null,null,{"$f":"SUM(Y335:Y338)","v":1},{"$f":"IF($F331=\"\",0,SUM(Z335:Z338)*$F331/$Y340)","v":{"$error":"#REF!"}},null,{"$f":"IF($F331=\"\",0,SUM(AB335:AB338)*$F331/$Y340)","v":{"$error":"#REF!"}},null,{"$f":"IF($F331=\"\",0,SUM(AD335:AD338)*$F331/$Y340)","v":{"$error":"#REF!"}}]
[]
[]
[null,null,null,{"$f":"'Matriz VERDE-GBCe'!#REF!","v":{"$error":"#REF!"}},{"$f":"VLOOKUP($D343,'Matriz VERDE-GBCe'!$H$4:$K$51,2,FALSE)","v":{"$error":"#REF!"}},{"$f":"VLOOKUP($D343,'Matriz VERDE-GBCe'!$H$4:$K$51,6,FALSE)","v":{"$error":"#REF!"}},null,null,null,null,null,"NOTAS",null,null,null,null,null,null,null,null,null,null,null,null,"Target","SEGURO",null,"EN REVISIÓN",null,"NO CUMPLE",null,"NO APLICA"]
[]
[null,null,null,"D.J","Fecha del archivo"]
[]
[null,null,null,"AS 09.1","Se cumple con una de las medidas propuestas",null,null,null,null,null,null,null,null,null,null,null,null,null,null,null,null,null,null,null,{"$f":"IF(AF347=0,0.2,0)","v":0.2},{"$f":"+IF($H347=\"seguro\",$Y347,0)","v":0},null,{"$f":"+IF($H347=\"EN REVISIÓN\",$Y347,0)","v":0},null,{"$f":"+IF($H347=\"NO CUMPLE\",$Y347,0)","v":0},null,{"$f":"+IF($H347=\"no aplica\",2,0)","v":0}]
[]
[]
[null,null,null,"AS 09.2","Se cumple con dos de las medidas propuestas",null,null,null,null,null,null,null,null,null,null,null,null,null,null,null,null,null,null,null,{"$f":"IF(AF350=0,0.2,0)","v":0.2},{"$f":"+IF($H350=\"seguro\",$Y350,0)","v":0},null,{"$f":"+IF($H350=\"EN REVISIÓN\",$Y350,0)","v":0},null,{"$f":"+IF($H350=\"NO CUMPLE\",$Y350,0)","v":0},null,{"$f":"+IF($H350=\"no aplica\",2,0)","v":0}]
[]
[]
[null,null,null,"AS 09.3","Se cumple con tres de las medidas propuestas",null,null,null,null,null,null,null,null,null,null,null,null,null,null,null,null,null,null,null,{"$f":"IF(AF353=0,0.2,0)","v":0.2},{"$f":"+IF($H353=\"seguro\",$Y353,0)","v":0},null,{"$f":"+IF($H353=\"EN REVISIÓN\",$Y353,0)","v":0},null,{"$f":"+IF($H353=\"NO CUMPLE\",$Y353,0)","v":0},null,{"$f":"+IF($H353=\"no aplica\",2,0)","v":0}]
[]
[]
[null,null,null,"AS 09.4","Se cumple con cuatro de las medidas propuestas",null,null,null,null,null,null,null,null,null,null,null,null,null,null,null,null,null,null,null,{"$f":"IF(AF356=0,0.2,0)","v":0.2},{"$f":"+IF($H356=\"seguro\",$Y356,0)","v":0},null,{"$f":"+IF($H356=\"EN REVISIÓN\",$Y356,0)","v":0},null,{"$f":"+IF($H356=\"NO CUMPLE\",$Y356,0)","v":0},null,{"$f":"+IF($H356=\"no aplica\",2,0)","v":0}]
[]
[]
[null,null,null,"AS 09.5","Se cumplen con cinco de las medidas propuestas",null,null,null,null,null,null,null,null,null,null,null,null,null,null,null,null,null,null,null,{"$f":"IF(AF359=0,0.2,0)","v":0.2},{"$f":"+IF($H359=\"seguro\",$Y359,0)","v":0},null,{"$f":"+IF($H359=\"EN REVISIÓN\",$Y359,0)","v":0},null,{"$f":"+IF($H359=\"NO CUMPLE\",$Y359,0)","v":0},null,{"$f":"+IF($H359=\"no aplica\",2,0)","v":0}]
[]
[null,null,null,null,null,null,null,null,null,null,null,null,null,null,null,null,null,null,null,null,null,null,null,null,{"$f":"SUM(Y347:Y359)","v":1},{"$f":"IF($F343=\"\",0,SUM(Z347:Z359)*$F343/$Y361)","v":{"$error":"#REF!"}},null,{"$f":"IF($F343=\"\",0,SUM(AB347:AB359)*$F343/$Y361)","v":{"$error":"#REF!"}},null,{"$f":"IF($F343=\"\",0,SUM(AD347:AD359)*$F343/$Y361)","v":{"$error":"#REF!"}}]
[]
[]
[null,null,null,{"$f":"'Matriz VERDE-GBCe'!#REF!","v":{"$error":"#REF!"}},{"$f":"VLOOKUP($D364,'Matriz VERDE-GBCe'!$H$4:$K$51,2,FALSE)","v":{"$error":"#REF!"}},{"$f":"VLOOKUP($D364,'Matriz VERDE-GBCe'!$H$4:$K$51,6,FALSE)","v":{"$error":"#REF!"}},null,null,null,null,null,"NOTAS",null,null,null,null,null,null,null,null,null,null,null,null,"Target","SEGURO",null,"EN REVISIÓN",null,"NO CUMPLE",null,"NO APLICA"]
[]
[null,null,null,"D.J","Fecha del archivo"]
[]
[null,null,null,"AS 10.1","Control de acceso",null,null,null,null,null,null,null,null,null,null,null,null,null,null,null,null,null,null,null,0.5,{"$f":"+IF($H368=\"seguro\",$Y368,0)","v":0},null,{"$f":"+IF($H368=\"EN REVISIÓN\",$Y368,0)","v":0},null,{"$f":"+IF($H368=\"NO CUMPLE\",$Y368,0)","v":0},null,{"$f":"+IF($H368=\"no aplica\",2,0)","v":0}]
[]
[]
[null,null,null,"AS 10.2","Estudio de seguridad",null,null,null,null,null,null,null,null,null,null,null,null,null,null,null,null,null,null,null,0.25,{"$f":"+IF($H371=\"seguro\",$Y371,0)","v":0},null,{"$f":"+IF($H371=\"EN REVISIÓN\",$Y371,0)","v":0},null,{"$f":"+IF($H371=\"NO CUMPLE\",$Y371,0)","v":0},null,{"$f":"+IF($H371=\"no aplica\",2,0)","v":0}]
[]
[]
[null,null,null,"AS 10.3","Medidas extraordinarias de seguridad",null,null,null,null,null,null,null,null,null,null,null,null,null,null,null,null,null,null,null,0.25,{"$f":"+IF($H374=\"seguro\",$Y374,0)","v":0},null,{"$f":"+IF($H374=\"EN REVISIÓN\",$Y374,0)","v":0},null,{"$f":"+IF($H374=\"NO CUMPLE\",$Y374,0)","v":0},null,{"$f":"+IF($H374=\"no aplica\",2,0)","v":0}]
[]
[null,null,null,null,null,null,null,null,null,null,null,null,null,null,null,null,null,null,null,null,null,null,null,null,{"$f":"SUM(Y368:Y374)","v":1},{"$f":"IF($F364=\"\",0,SUM(Z368:Z374)*$F364/$Y376)","v":{"$error":"#REF!"}},null,{"$f":"IF($F364=\"\",0,SUM(AB368:AB374)*$F364/$Y376)","v":{"$error":"#REF!"}},null,{"$f":"IF($F364=\"\",0,SUM(AD368:AD374)*$F364/$Y376)","v":{"$error":"#REF!"}}]
[]
[null,{"$f":"'Matriz VERDE-GBCe'!#REF!","v":{"$error":"#REF!"}},null,{"$f":"'Matriz VERDE-GBCe'!#REF!","v":{"$error":"#REF!"}}]
[]
[]
[null,null,null,{"$f":"'Matriz VERDE-GBCe'!#REF!","v":{"$error":"#REF!"}},{"$f":"VLOOKUP($D381,'Matriz VERDE-GBCe'!$H$4:$K$51,2,FALSE)","v":{"$error":"#REF!"}},{"$f":"VLOOKUP($D381,'Matriz VERDE-GBCe'!$H$4:$K$51,6,FALSE)","v":{"$error":"#REF!"}},null,null,null,null,null,"NOTAS",null,null,null,null,null,null,null,null,null,null,null,null,"Target","SEGURO",null,"EN REVISIÓN",null,"NO CUMPLE",null,"NO APLICA"]
[]
[null,null,null,"D.J","Fecha del archivo"]
[]
[null,null,null,"AE 01.1","Existe un estudio de viabilidad económica del polígono",null,null,null,null,null,null,null,null,null,null,null,null,null,null,null,null,null,null,null,0.5,{"$f":"+IF($H385=\"seguro\",$Y385,0)","v":0},null,{"$f":"+IF($H385=\"EN REVISIÓN\",$Y385,0)","v":0},null,{"$f":"+IF($H385=\"NO CUMPLE\",$Y385,0)","v":0},null,{"$f":"+IF($H385=\"no aplica\",2,0)","v":0}]
[]
[]
[null,null,null,"AE 01.2","Se han adoptado medidas para mejorar la viabilidad económica",null,null,null,null,null,null,null,null,null,null,null,null,null,null,null,null,null,null,null,0.5,{"$f":"+IF($H388=\"seguro\",$Y388,0)","v":0},null,{"$f":"+IF($H388=\"EN REVISIÓN\",$Y388,0)","v":0},null,{"$f":"+IF($H388=\"NO CUMPLE\",$Y388,0)","v":0},null,{"$f":"+IF($H388=\"no aplica\",2,0)","v":0}]
[]
[null,null,null,null,null,null,null,null,null,null,null,null,null,null,null,null,null,null,null,null,null,null,null,null,{"$f":"SUM(Y385:Y388)","v":1},{"$f":"IF($F381=\"\",0,SUM(Z385:Z388)*$F381/$Y390)","v":{"$error":"#REF!"}},null,{"$f":"IF($F381=\"\",0,SUM(AB385:AB388)*$F381/$Y390)","v":{"$error":"#REF!"}},null,{"$f":"IF($F381=\"\",0,SUM(AD385:AD388)*$F381/$Y390)","v":{"$error":"#REF!"}}]
[]
[]
[null,null,null,{"$f":"'Matriz VERDE-GBCe'!#REF!","v":{"$error":"#REF!"}},{"$f":"VLOOKUP($D393,'Matriz VERDE-GBCe'!$H$4:$K$51,2,FALSE)","v":{"$error":"#REF!"}},{"$f":"VLOOKUP($D393,'Matriz VERDE-GBCe'!$H$4:$K$51,6,FALSE)","v":{"$error":"#REF!"}},null,null,null,null,null,"NOTAS",null,null,null,null,null,null,null,null,null,null,null,null,"Target","SEGURO",null,"EN REVISIÓN",null,"NO CUMPLE",null,"NO APLICA"]
[]
[null,null,null,"D.J","Fecha del archivo"]
[]
[null,null,null,"AE 02.1","No hay coste de iluminación para el municipio",null,null,null,null,null,null,null,null,null,null,null,null,null,null,null,null,null,null,null,0.2,{"$f":"+IF($H397=\"seguro\",$Y397,0)","v":0},null,{"$f":"+IF($H397=\"EN REVISIÓN\",$Y397,0)","v":0},null,{"$f":"+IF($H397=\"NO CUMPLE\",$Y397,0)","v":0},null,{"$f":"+IF($H397=\"no aplica\",2,0)","v":0}]
[]
[]
[null,null,null,"AE 02.2","No hay coste de depuración de aguas para el municipio",null,null,null,null,null,null,null,null,null,null,null,null,null,null,null,null,null,null,null,0.2,{"$f":"+IF($H400=\"seguro\",$Y400,0)","v":0},null,{"$f":"+IF($H400=\"EN REVISIÓN\",$Y400,0)","v":0},null,{"$f":"+IF($H400=\"NO CUMPLE\",$Y400,0)","v":0},null,{"$f":"+IF($H400=\"no aplica\",2,0)","v":0}]
[]
[]
[null,null,null,"AE 02.3","No hay coste de recogida de residuos para el municipio",null,null,null,null,null,null,null,null,null,null,null,null,null,null,null,null,null,null,null,0.2,{"$f":"+IF($H403=\"seguro\",$Y403,0)","v":0},null,{"$f":"+IF($H403=\"EN REVISIÓN\",$Y403,0)","v":0},null,{"$f":"+IF($H403=\"NO CUMPLE\",$Y403,0)","v":0},null,{"$f":"+IF($H403=\"no aplica\",2,0)","v":0}]
[]
[]
[null,null,null,"AE 02.4","No hay coste de limpieza del viario para el municipio",null,null,null,null,null,null,null,null,null,null,null,null,null,null,null,null,null,null,null,0.2,{"$f":"+IF($H406=\"seguro\",$Y406,0)","v":0},null,{"$f":"+IF($H406=\"EN REVISIÓN\",$Y406,0)","v":0},null,{"$f":"+IF($H406=\"NO CUMPLE\",$Y406,0)","v":0},null,{"$f":"+IF($H406=\"no aplica\",2,0)","v":0}]
[]
[]
[null,null,null,"AE 02.5","No hay coste de mantenimiento para el municipio",null,null,null,null,null,null,null,null,null,null,null,null,null,null,null,null,null,null,null,0.2,{"$f":"+IF($H409=\"seguro\",$Y409,0)","v":0},null,{"$f":"+IF($H409=\"EN REVISIÓN\",$Y409,0)","v":0},null,{"$f":"+IF($H409=\"NO CUMPLE\",$Y409,0)","v":0},null,{"$f":"+IF($H409=\"no aplica\",2,0)","v":0}]
[]
[null,null,null,null,null,null,null,null,null,null,null,null,null,null,null,null,null,null,null,null,null,null,null,null,{"$f":"SUM(Y397:Y409)","v":1},{"$f":"IF($F393=\"\",0,SUM(Z397:Z409)*$F393)","v":{"$error":"#REF!"}},null,{"$f":"IF($F393=\"\",0,SUM(AB397:AB409)*$F393)","v":{"$error":"#REF!"}},null,{"$f":"IF($F393=\"\",0,SUM(AD397:AD409)*$F393)","v":{"$error":"#REF!"}}]
[]
[]
[null,null,null,{"$f":"'Matriz VERDE-GBCe'!#REF!","v":{"$error":"#REF!"}},{"$f":"VLOOKUP($D414,'Matriz VERDE-GBCe'!$H$4:$K$51,2,FALSE)","v":{"$error":"#REF!"}},{"$f":"VLOOKUP($D414,'Matriz VERDE-GBCe'!$H$4:$K$51,6,FALSE)","v":{"$error":"#REF!"}},null,null,null,null,null,"NOTAS",null,null,null,null,null,null,null,null,null,null,null,null,"Target","SEGURO",null,"EN REVISIÓN",null,"NO CUMPLE",null,"NO APLICA"]
[]
[null,null,null,"D.J","Fecha del archivo"]
[]
[null,null,null,"AE 03.1","El 30% de las parcelas están reservadas ",null,null,null,null,null,null,null,null,null,null,null,null,null,null,null,null,null,null,null,0.5,{"$f":"+IF($H418=\"seguro\",$Y418,0)","v":0},null,{"$f":"+IF($H418=\"EN REVISIÓN\",$Y418,0)","v":0},null,{"$f":"+IF($H418=\"NO CUMPLE\",$Y418,0)","v":0},null,{"$f":"+IF($H418=\"no aplica\",2,0)","v":0}]
[]
[]
[null,null,null,"AE 03.2","El 70% de las parcelas están reservadas",null,null,null,null,null,null,null,null,null,null,null,null,null,null,null,null,null,null,null,0.5,{"$f":"+IF($H421=\"seguro\",$Y421,0)","v":0},null,{"$f":"+IF($H421=\"EN REVISIÓN\",$Y421,0)","v":0},null,{"$f":"+IF($H421=\"NO CUMPLE\",$Y421,0)","v":0},null,{"$f":"+IF($H421=\"no aplica\",2,0)","v":0}]
[]
[null,null,null,null,null,null,null,null,null,null,null,null,null,null,null,null,null,null,null,null,null,null,null,null,{"$f":"SUM(Y418:Y421)","v":1},{"$f":"IF($F414=\"\",0,SUM(Z418:Z421)*$F414/$Y423)","v":{"$error":"#REF!"}},null,{"$f":"IF($F414=\"\",0,SUM(AB418:AB421)*$F414/$Y423)","v":{"$error":"#REF!"}},null,{"$f":"IF($F414=\"\",0,SUM(AD418:AD421)*$F414/$Y423)","v":{"$error":"#REF!"}}]
[]
[]
[null,null,null,{"$f":"'Matriz VERDE-GBCe'!#REF!","v":{"$error":"#REF!"}},{"$f":"VLOOKUP($D426,'Matriz VERDE-GBCe'!$H$4:$K$51,2,FALSE)","v":{"$error":"#REF!"}},{"$f":"VLOOKUP($D426,'Matriz VERDE-GBCe'!$H$4:$K$51,6,FALSE)","v":{"$error":"#REF!"}},null,null,null,null,null,"NOTAS",null,null,null,null,null,null,null,null,null,null,null,null,"Target","SEGURO",null,"EN REVISIÓN",null,"NO CUMPLE",null,"NO APLICA"]
[]
[null,null,null,"D.J","Fecha del archivo"]
[]
[null,null,null,"AE 04.1","Incentivar las certificaciones sostenibles de los edificios",null,null,null,null,null,null,null,null,null,null,null,null,null,null,null,null,null,null,null,0.4,{"$f":"+IF($H430=\"seguro\",$Y430,0)","v":0},null,{"$f":"+IF($H430=\"EN REVISIÓN\",$Y430,0)","v":0},null,{"$f":"+IF($H430=\"NO CUMPLE\",$Y430,0)","v":0},null,{"$f":"+IF($H430=\"no aplica\",2,0)","v":0}]
[]
[]
[null,null,null,"AE 04.1","Existe infraestructura de uso comunitario",null,null,null,null,null,null,null,null,null,null,null,null,null,null,null,null,null,null,null,0.3,{"$f":"+IF($H433=\"seguro\",$Y433,0)","v":0},null,{"$f":"+IF($H433=\"EN REVISIÓN\",$Y433,0)","v":0},null,{"$f":"+IF($H433=\"NO CUMPLE\",$Y433,0)","v":0},null,{"$f":"+IF($H433=\"no aplica\",2,0)","v":0}]
[]
[]
[null,null,null,"AE 04.1","Fondo de formación y bolsa de trabajo para empleo local",null,null,null,null,null,null,null,null,null,null,null,null,null,null,null,null,null,null,null,0.3,{"$f":"+IF($H436=\"seguro\",$Y436,0)","v":0},null,{"$f":"+IF($H436=\"EN REVISIÓN\",$Y436,0)","v":0},null,{"$f":"+IF($H436=\"NO CUMPLE\",$Y436,0)","v":0},null,{"$f":"+IF($H436=\"no aplica\",2,0)","v":0}]
[]
[null,null,null,null,null,null,null,null,null,null,null,null,null,null,null,null,null,null,null,null,null,null,null,null,{"$f":"SUM(Y430:Y436)","v":1},{"$f":"IF($F426=\"\",0,Z430*$F426)","v":{"$error":"#REF!"}},null,{"$f":"IF($F426=\"\",0,AB430*$F426)","v":{"$error":"#REF!"}},null,{"$f":"IF($F426=\"\",0,AD430*$F426)","v":{"$error":"#REF!"}}]
[]
[]
[null,null,null,{"$f":"'Matriz VERDE-GBCe'!#REF!","v":{"$error":"#REF!"}},{"$f":"VLOOKUP($D441,'Matriz VERDE-GBCe'!$H$4:$K$51,2,FALSE)","v":{"$error":"#REF!"}},{"$f":"VLOOKUP($D441,'Matriz VERDE-GBCe'!$H$4:$K$51,6,FALSE)","v":{"$error":"#REF!"}},null,null,null,null,null,"NOTAS",null,null,null,null,null,null,null,null,null,null,null,null,"Target","SEGURO",null,"EN REVISIÓN",null,"NO CUMPLE",null,"NO APLICA"]
[]
[null,null,null,"D.J","Fecha del archivo"]
[]
[null,null,null,"AE 05.1","El acceso a una vía rápida rodada está a menos de 1.500 m",null,null,null,null,null,null,null,null,null,null,null,null,null,null,null,null,null,null,null,{"$f":"IF(AF445=0,0.7,0)","v":0.7},{"$f":"+IF($H445=\"seguro\",$Y445,0)","v":0},null,{"$f":"+IF($H445=\"EN REVISIÓN\",$Y445,0)","v":0},null,{"$f":"+IF($H445=\"NO CUMPLE\",$Y445,0)","v":0},null,{"$f":"+IF($H445=\"no aplica\",2,0)","v":0}]
[]
[]
[null,null,null,"AE 05.2","El acceso a otras infraestructuras de transporte a menos de 5.000 m",null,null,null,null,null,null,null,null,null,null,null,null,null,null,null,null,null,null,null,{"$f":"IF(AF448=0,0.3,0)","v":0.3},{"$f":"+IF($H448=\"seguro\",$Y448,0)","v":0},null,{"$f":"+IF($H448=\"EN REVISIÓN\",$Y448,0)","v":0},null,{"$f":"+IF($H448=\"NO CUMPLE\",$Y448,0)","v":0},null,{"$f":"+IF($H448=\"no aplica\",2,0)","v":0}]
[]
[null,null,null,null,null,null,null,null,null,null,null,null,null,null,null,null,null,null,null,null,null,null,null,null,{"$f":"SUM(Y445:Y448)","v":1},{"$f":"IF($F441=\"\",0,SUM(Z445:Z448)*$F441/$Y450)","v":{"$error":"#REF!"}},null,{"$f":"IF($F441=\"\",0,SUM(AB445:AB448)*$F441/$Y450)","v":{"$error":"#REF!"}},null,{"$f":"IF($F441=\"\",0,SUM(AD445:AD448)*$F441/$Y450)","v":{"$error":"#REF!"}}]
[]
[]
[null,null,null,{"$f":"'Matriz VERDE-GBCe'!#REF!","v":{"$error":"#REF!"}},{"$f":"VLOOKUP($D453,'Matriz VERDE-GBCe'!$H$4:$K$51,2,FALSE)","v":{"$error":"#REF!"}},{"$f":"VLOOKUP($D453,'Matriz VERDE-GBCe'!$H$4:$K$51,6,FALSE)","v":{"$error":"#REF!"}},null,null,null,null,null,"NOTAS",null,null,null,null,null,null,null,null,null,null,null,null,"Target","SEGURO",null,"EN REVISIÓN",null,"NO CUMPLE",null,"NO APLICA"]
[]
[null,null,null,"D.J","Fecha del archivo"]
[]
[null,null,null,"AE 06.1","Toma de medidas de consumo energético por usos",null,null,null,null,null,null,null,null,null,null,null,null,null,null,null,null,null,null,null,0.35,{"$f":"+IF($H457=\"seguro\",$Y457,0)","v":0},null,{"$f":"+IF($H457=\"EN REVISIÓN\",$Y457,0)","v":0},null,{"$f":"+IF($H457=\"NO CUMPLE\",$Y457,0)","v":0},null,{"$f":"+IF($H457=\"no aplica\",2,0)","v":0}]
[]
[]
[null,null,null,"AE 06.2","Toma de medidas de consumo de agua por usos",null,null,null,null,null,null,null,null,null,null,null,null,null,null,null,null,null,null,null,0.15,{"$f":"+IF($H460=\"seguro\",$Y460,0)","v":0},null,{"$f":"+IF($H460=\"EN REVISIÓN\",$Y460,0)","v":0},null,{"$f":"+IF($H460=\"NO CUMPLE\",$Y460,0)","v":0},null,{"$f":"+IF($H460=\"no aplica\",2,0)","v":0}]
[]
[]
[null,null,null,"AE 06.3","Sistemas de monitorización y telemedida por usos",null,null,null,null,null,null,null,null,null,null,null,null,null,null,null,null,null,null,null,0.2,{"$f":"+IF($H463=\"seguro\",$Y463,0)","v":0},null,{"$f":"+IF($H463=\"EN REVISIÓN\",$Y463,0)","v":0},null,{"$f":"+IF($H463=\"NO CUMPLE\",$Y463,0)","v":0},null,{"$f":"+IF($H463=\"no aplica\",2,0)","v":0}]
[]
[]
[null,null,null,"AE 06.4","Sistemas de monitorización y telemedida sectorizado",null,null,null,null,null,null,null,null,null,null,null,null,null,null,null,null,null,null,null,0.2,{"$f":"+IF($H466=\"seguro\",$Y466,0)","v":0},null,{"$f":"+IF($H466=\"EN REVISIÓN\",$Y466,0)","v":0},null,{"$f":"+IF($H466=\"NO CUMPLE\",$Y466,0)","v":0},null,{"$f":"+IF($H466=\"no aplica\",2,0)","v":0}]
[]
[]
[null,null,null,"AE 06.5","Archivo de registro de medidas",null,null,null,null,null,null,null,null,null,null,null,null,null,null,null,null,null,null,null,0.1,{"$f":"+IF($H469=\"seguro\",$Y469,0)","v":0},null,{"$f":"+IF($H469=\"EN REVISIÓN\",$Y469,0)","v":0},null,{"$f":"+IF($H469=\"NO CUMPLE\",$Y469,0)","v":0},null,{"$f":"+IF($H469=\"no aplica\",2,0)","v":0}]
[]
[null,null,null,null,null,null,null,null,null,null,null,null,null,null,null,null,null,null,null,null,null,null,null,null,{"$f":"SUM(Y457:Y469)","v":0.99999999999999989},{"$f":"IF($F453=\"\",0,SUM(Z456:Z469)*$F453/$Y471)","v":{"$error":"#REF!"}},null,{"$f":"IF($F453=\"\",0,SUM(AB456:AB469)*$F453/$Y471)","v":{"$error":"#REF!"}},null,{"$f":"IF($F453=\"\",0,SUM(AD457:AD469)*$F453/$Y471)","v":{"$error":"#REF!"}}]
[]
[null,{"$f":"'Matriz VERDE-GBCe'!#REF!","v":{"$error":"#REF!"}},null,{"$f":"'Matriz VERDE-GBCe'!#REF!","v":{"$error":"#REF!"}}]
[]
[]
[null,null,null,{"$f":"'Matriz VERDE-GBCe'!#REF!","v":{"$error":"#REF!"}},{"$f":"VLOOKUP($D476,'Matriz VERDE-GBCe'!$H$4:$K$51,2,FALSE)","v":{"$error":"#REF!"}},{"$f":"VLOOKUP($D476,'Matriz VERDE-GBCe'!$H$4:$K$51,6,FALSE)","v":{"$error":"#REF!"}},null,null,null,null,null,"NOTAS",null,null,null,null,null,null,null,null,null,null,null,null,"Target","SEGURO",null,"EN REVISIÓN",null,"NO CUMPLE",null,"NO APLICA"]
[]
[null,null,null,"D.J","Fecha del archivo"]
[]
[null,null,null,"CC 01.1","Documento de requisitos previo al proyecto",null,null,null,null,null,null,null,null,null,null,null,null,null,null,null,null,null,null,null,0.2,{"$f":"+IF($H480=\"seguro\",$Y480,0)","v":0},null,{"$f":"+IF($H480=\"EN REVISIÓN\",$Y480,0)","v":0},null,{"$f":"+IF($H480=\"NO CUMPLE\",$Y480,0)","v":0},null,{"$f":"+IF($H480=\"no aplica\",2,0)","v":0}]
[]
[]
[null,null,null,"CC 01.2","Análisis de alternativas constructivas y de diseño",null,null,null,null,null,null,null,null,null,null,null,null,null,null,null,null,null,null,null,0.2,{"$f":"+IF($H483=\"seguro\",$Y483,0)","v":0},null,{"$f":"+IF($H483=\"EN REVISIÓN\",$Y483,0)","v":0},null,{"$f":"+IF($H483=\"NO CUMPLE\",$Y483,0)","v":0},null,{"$f":"+IF($H483=\"no aplica\",2,0)","v":0}]
[]
[]
[null,null,null,"CC 01.3","Guías de diseño que se han tenido en cuenta",null,null,null,null,null,null,null,null,null,null,null,null,null,null,null,null,null,null,null,0.2,{"$f":"+IF($H486=\"seguro\",$Y486,0)","v":0},null,{"$f":"+IF($H486=\"EN REVISIÓN\",$Y486,0)","v":0},null,{"$f":"+IF($H486=\"NO CUMPLE\",$Y486,0)","v":0},null,{"$f":"+IF($H486=\"no aplica\",2,0)","v":0}]
[]
[]
[null,null,null,"CC 01.4","Equipo de diseño integrado",null,null,null,null,null,null,null,null,null,null,null,null,null,null,null,null,null,null,null,0.2,{"$f":"+IF($H489=\"seguro\",$Y489,0)","v":0},null,{"$f":"+IF($H489=\"EN REVISIÓN\",$Y489,0)","v":0},null,{"$f":"+IF($H489=\"NO CUMPLE\",$Y489,0)","v":0},null,{"$f":"+IF($H489=\"no aplica\",2,0)","v":0}]
[]
[]
[null,null,null,"CC 01.5","Participación del cliente en el proceso de diseño",null,null,null,null,null,null,null,null,null,null,null,null,null,null,null,null,null,null,null,0.2,{"$f":"+IF($H492=\"seguro\",$Y492,0)","v":0},null,{"$f":"+IF($H492=\"EN REVISIÓN\",$Y492,0)","v":0},null,{"$f":"+IF($H492=\"NO CUMPLE\",$Y492,0)","v":0},null,{"$f":"+IF($H492=\"no aplica\",2,0)","v":0}]
[]
[null,null,null,null,null,null,null,null,null,null,null,null,null,null,null,null,null,null,null,null,null,null,null,null,{"$f":"SUM(Y480:Y492)","v":1},{"$f":"IF($F476=\"\",0,SUM(Z480:Z492)*$F476/$Y494)","v":{"$error":"#REF!"}},null,{"$f":"IF($F476=\"\",0,SUM(AB480:AB492)*$F476/$Y494)","v":{"$error":"#REF!"}},null,{"$f":"IF($F476=\"\",0,SUM(AD480:AD483)*$F476/$Y494)","v":{"$error":"#REF!"}}]
[]
[]
[null,null,null,{"$f":"'Matriz VERDE-GBCe'!#REF!","v":{"$error":"#REF!"}},{"$f":"VLOOKUP($D497,'Matriz VERDE-GBCe'!$H$4:$K$51,2,FALSE)","v":{"$error":"#REF!"}},{"$f":"VLOOKUP($D497,'Matriz VERDE-GBCe'!$H$4:$K$51,6,FALSE)","v":{"$error":"#REF!"}},null,null,null,null,null,"NOTAS",null,null,null,null,null,null,null,null,null,null,null,null,"Target","SEGURO",null,"EN REVISIÓN",null,"NO CUMPLE",null,"NO APLICA"]
[]
[null,null,null,"D.J","Fecha del archivo"]
[]
[null,null,null,"CC 02.1","Se prevé la figura de gestor de mantenimiento",null,null,null,null,null,null,null,null,null,null,null,null,null,null,null,null,null,null,null,{"$f":"IF(AF501=0,0.1,0)","v":0.1},{"$f":"+IF($H501=\"seguro\",$Y501,0)","v":0},null,{"$f":"+IF($H501=\"EN REVISIÓN\",$Y501,0)","v":0},null,{"$f":"+IF($H501=\"NO CUMPLE\",$Y501,0)","v":0},null,{"$f":"+IF($H501=\"no aplica\",2,0)","v":0}]
[]
[]
[null,null,null,"CC 02.2","Existe un plan de gfestión y mantenimineto",null,null,null,null,null,null,null,null,null,null,null,null,null,null,null,null,null,null,null,{"$f":"IF(AF504=0,0.5,0)","v":0.5},{"$f":"+IF($H504=\"seguro\",$Y504,0)","v":0},null,{"$f":"+IF($H504=\"EN REVISIÓN\",$Y504,0)","v":0},null,{"$f":"+IF($H504=\"NO CUMPLE\",$Y504,0)","v":0},null,{"$f":"+IF($H504=\"no aplica\",2,0)","v":0}]
[]
[]
[null,null,null,"CC 02.3","Existe un compromiso de mejora en dos años",null,null,null,null,null,null,null,null,null,null,null,null,null,null,null,null,null,null,null,{"$f":"IF(AF507=0,0.4,0)","v":0.4},{"$f":"+IF($H507=\"seguro\",$Y507,0)","v":0},null,{"$f":"+IF($H507=\"EN REVISIÓN\",$Y507,0)","v":0},null,{"$f":"+IF($H507=\"NO CUMPLE\",$Y507,0)","v":0},null,{"$f":"+IF($H507=\"no aplica\",2,0)","v":0}]
[]
[null,null,null,null,null,null,null,null,null,null,null,null,null,null,null,null,null,null,null,null,null,null,null,null,{"$f":"SUM(Y501:Y507)","v":1},{"$f":"IF($F497=\"\",0,SUM(Z501:Z507)*$F497/$Y509)","v":{"$error":"#REF!"}},null,{"$f":"IF($F497=\"\",0,SUM(AB501:AB507)*$F497/$Y509)","v":{"$error":"#REF!"}},null,{"$f":"IF($F497=\"\",0,SUM(AD501:AD507)*$F497/$Y509)","v":{"$error":"#REF!"}}]
[]
[]
[null,null,null,{"$f":"'Matriz VERDE-GBCe'!#REF!","v":{"$error":"#REF!"}},{"$f":"VLOOKUP($D512,'Matriz VERDE-GBCe'!$H$4:$K$51,2,FALSE)","v":{"$error":"#REF!"}},{"$f":"VLOOKUP($D512,'Matriz VERDE-GBCe'!$H$4:$K$51,6,FALSE)","v":{"$error":"#REF!"}},null,null,null,null,null,"NOTAS",null,null,null,null,null,null,null,null,null,null,null,null,"Target","SEGURO",null,"EN REVISIÓN",null,"NO CUMPLE",null,"NO APLICA"]
[]
[null,null,null,"D.J","Fecha del archivo"]
[]
[null,null,null,"CC 04.1","Existe una preinstalación para redes de fibra óptica",null,null,null,null,null,null,null,null,null,null,null,null,null,null,null,null,null,null,null,0.3,{"$f":"+IF($H516=\"seguro\",$Y516,0)","v":0},null,{"$f":"+IF($H516=\"EN REVISIÓN\",$Y516,0)","v":0},null,{"$f":"+IF($H516=\"NO CUMPLE\",$Y516,0)","v":0},null,{"$f":"+IF($H516=\"no aplica\",2,0)","v":0}]
[]
[]
[null,null,null,"CC 04.2","Existe una red de fibra óptica",null,null,null,null,null,null,null,null,null,null,null,null,null,null,null,null,null,null,null,0.75,{"$f":"+IF($H519=\"seguro\",$Y519,0)","v":0},null,{"$f":"+IF($H519=\"EN REVISIÓN\",$Y519,0)","v":0},null,{"$f":"+IF($H519=\"NO CUMPLE\",$Y519,0)","v":0},null,{"$f":"+IF($H519=\"no aplica\",2,0)","v":0}]
[]
[]
[null,null,null,"CC 04.3","Hay cobertura wifi abierta en el polígono",null,null,null,null,null,null,null,null,null,null,null,null,null,null,null,null,null,null,null,0.25,{"$f":"+IF($H522=\"seguro\",$Y522,0)","v":0},null,{"$f":"+IF($H522=\"EN REVISIÓN\",$Y522,0)","v":0},null,{"$f":"+IF($H522=\"NO CUMPLE\",$Y522,0)","v":0},null,{"$f":"+IF($H522=\"no aplica\",2,0)","v":0}]
[]
[null,null,null,null,null,null,null,null,null,null,null,null,null,null,null,null,null,null,null,null,null,null,null,null,{"$f":"SUM(Y519:Y522)","v":1},{"$f":"IF($F512=\"\",0,SUM(Z516:Z522)*$F512/$Y524)","v":{"$error":"#REF!"}},null,{"$f":"IF($F512=\"\",0,AB516*$F512)","v":{"$error":"#REF!"}},null,{"$f":"IF($F512=\"\",0,AD516*$F512)","v":{"$error":"#REF!"}}]
[]
[]
[]
[null,null,null,null,null,null,null,null,null,"SEGUROS",null,null,null,"EN REVISIÓN",null,null,null,"NO CUMPLE",null,null,null,null,null,null,{"$f":"SUM(F7:G512)","v":{"$error":"#REF!"}}]
[]
[null,null,null,null,null,"SUBTOTAL",null,null,null,{"$f":"Z524++Z509+Z494+Z471+Z450+Z438+Z423+Z411+Z390+Z376+Z361+Z340+Z328+Z316+Z304+Z283+Z292+Z250+Z235+Z217+Z208+Z190+Z175+Z166+Z146+Z137+Z104+Z84+Z72+Z46+Z31+Z16+Z199","v":{"$error":"#REF!"}},null,null,null,{"$f":"AB524+AB509+AB494+AB471+AB450+AB438+AB423+AB411+AB390+AB376+AB361+AB340+AB328+AB316+AB304+AB283+AB292+AB250+AB235+AB217+AB208+AB190+AB199+AB175+AB166+AB146+AB137+AB104+AB84+AB72+AB46+AB31+AB16","v":{"$error":"#REF!"}},null,null,null,{"$f":"AD524+AD509+AD494+AD471+AD450+AD438+AD423+AD411+AD390+AD376+AD361+AD340+AD328+AD316+AD304+AD283+AD292+AD250+AD235+AD217+AD208+AD190+AD199+AD175+AD166+AD146+AD137+AD104+AD84+AD72+AD46+AD31+AD16","v":{"$error":"#REF!"}},null,null,null,null,"                                                                                                                                                                        "]
[]
[]
[null,"IN",null,"Innovación",null,{"$f":"SUM(F536:F560)","v":0.05}]
[]
[]
[null,null,null,"IN 01","Criterio 1",0.05,null,null,null,null,null,"NOTAS",null,null,null,null,null,null,null,null,null,null,null,null,"Target","SEGURO",null,"PROBABLE",null,"DUDOSO",null,"NO APLICA"]
[]
[null,null,null,"D.J","Fecha del archivo"]
[]
[null,null,null,"medida de innovación aprobada por GCBe",null,null,null,null,null,null,null,null,null,null,null,null,null,null,null,null,null,null,null,null,0.2,{"$f":"+IF($H540=\"seguro\",$Y540,0)","v":0},null,{"$f":"+IF($H540=\"EN REVISIÓN\",$Y540,0)","v":0},null,{"$f":"+IF($H540=\"NO CUMPLE\",$Y540,0)","v":0},null,{"$f":"+IF($H540=\"no aplica\",2,0)","v":0}]
[]
[]
[null,null,null,"D.J","Fecha del archivo"]
[]
[null,null,null,"medida de innovación aprobada por GCBe",null,null,null,null,null,null,null,null,null,null,null,null,null,null,null,null,null,null,null,null,0.2,{"$f":"+IF($H545=\"seguro\",$Y545,0)","v":0},null,{"$f":"+IF($H545=\"EN REVISIÓN\",$Y545,0)","v":0},null,{"$f":"+IF($H545=\"NO CUMPLE\",$Y545,0)","v":0},null,{"$f":"+IF($H545=\"no aplica\",2,0)","v":0}]
[]
[]
[null,null,null,"D.J","Fecha del archivo"]
[]
[null,null,null,"medida de innovación aprobada por GCBe",null,null,null,null,null,null,null,null,null,null,null,null,null,null,null,null,null,null,null,null,0.2,{"$f":"+IF($H550=\"seguro\",$Y550,0)","v":0},null,{"$f":"+IF($H550=\"EN REVISIÓN\",$Y550,0)","v":0},null,{"$f":"+IF($H550=\"NO CUMPLE\",$Y550,0)","v":0},null,{"$f":"+IF($H550=\"no aplica\",2,0)","v":0}]
[]
[]
[null,null,null,"D.J","Fecha del archivo"]
[]
[null,null,null,"medida de innovación aprobada por GCBe",null,null,null,null,null,null,null,null,null,null,null,null,null,null,null,null,null,null,null,null,0.2,{"$f":"+IF($H555=\"seguro\",$Y555,0)","v":0},null,{"$f":"+IF($H555=\"EN REVISIÓN\",$Y555,0)","v":0},null,{"$f":"+IF($H555=\"NO CUMPLE\",$Y555,0)","v":0},null,{"$f":"+IF($H555=\"no aplica\",2,0)","v":0}]
[]
[]
[null,null,null,"D.J","Fecha del archivo"]
[]
[null,null,null,"medida de innovación aprobada por GCBe",null,null,null,null,null,null,null,null,null,null,null,null,null,null,null,null,null,null,null,null,0.2,{"$f":"+IF($H560=\"seguro\",$Y560,0)","v":0},null,{"$f":"+IF($H560=\"EN REVISIÓN\",$Y560,0)","v":0},null,{"$f":"+IF($H560=\"NO CUMPLE\",$Y560,0)","v":0},null,{"$f":"+IF($H560=\"no aplica\",2,0)","v":0}]
[]
[null,null,null,null,null,null,null,null,null,null,null,null,null,null,null,null,null,null,null,null,null,null,null,null,{"$f":"SUM(Y540:Y560)","v":1},{"$f":"IF($F536=\"\",0,SUM(Z540:Z560)*$F536/$Y562)","v":0},null,{"$f":"IF($F536=\"\",0,SUM(AB540:AB560)*$F536/$Y562)","v":0},null,{"$f":"IF($F536=\"\",0,SUM(AD540:AD560)*$F536/$Y562)","v":0}]
[]
[]
[null,null,null,null,null,null,null,null,null,"SEGUROS",null,null,null,"EN REVISIÓN",null,null,null,"NO CUMPLE",null,null,null,null,null,null,"S","S+P","S+P+D"]
[]
[null,null,null,null,null,"SUBTOTAL",null,null,null,{"$f":"J530+Z562","v":{"$error":"#REF!"}},null,null,null,{"$f":"N530+AB562","v":{"$error":"#REF!"}},null,null,null,{"$f":"R530+AD562","v":{"$error":"#REF!"}},null,null,null,null,null,null,{"$f":"J567","v":{"$error":"#REF!"}},{"$f":"H567+J567","v":{"$error":"#REF!"}},{"$f":"H567+J567+L567","v":{"$error":"#REF!"}}," hoja"]
[]
[null,null,null,null,null,null,null,null,null,null,null,null,null,null,null,null,null,null,null,null,null,null,null,null,{"$f":"IF(AND(Y567<0.4,Y567>=0.2),1,IF(Y567>=0.9,5,IF(AND(Y567<0.6,Y567>=0.4),2,IF(AND(Y567<0.75,Y567>=0.6),3,IF(AND(Y567<0.9,Y567>=0.75),4,IF(Y567<=0.2,0))))))","v":{"$error":"#REF!"}},{"$f":"IF(AND(Z567<0.4,Z567>=0.3),1,IF(Z567>=0.8,5,IF(AND(Z567<0.5,Z567>=0.4),2,IF(AND(Z567<0.6,Z567>=0.5),3,IF(AND(Z567<0.8,Z567>=0.6),4,IF(Z567<=0.3,0))))))","v":{"$error":"#REF!"}},{"$f":"IF(AND(AA567<0.4,AA567>=0.3),1,IF(AA567>=0.8,5,IF(AND(AA567<0.5,AA567>=0.4),2,IF(AND(AA567<0.6,AA567>=0.5),3,IF(AND(AA567<0.8,AA567>=0.6),4,IF(AA567<=0.3,0))))))","v":{"$error":"#REF!"}}," hojas"]
[null,null,"  Los criterios seguros dan un resultado de ",null,null,null,{"$f":"CONCATENATE(Y569,Y570)","v":{"$error":"#REF!"}},null,null,null,null,null,null,null,null,null,null,null,null,null,null,null,null,null,{"$f":"IF(Y569=1,AB567,AB569)","v":{"$error":"#REF!"}},{"$f":"IF(Z569=1,AB567,AB569)","v":{"$error":"#REF!"}},{"$f":"IF(AA569=1,AB567,AB569)","v":{"$error":"#REF!"}}]
[]
[null,null,null,null,"Limpiar contenidos"]

{"sheet":"portada","index":4,"n_rows":10,"n_cols":5,"rows_kept":10,"cut":false,"hidden":false,"merged":[[8,4,8,5],[7,4,7,6],[1,3,1,6],[2,2,2,8],[3,4,3,6],[4,4,4,6],[5,4,5,6]]}
[]
[]
[null,null,"VERDE W Equipamiento"]
[null,null,null,null,"Evaluación de la sostenibilidad en edificios"]
[null,null,null,null,"Oficinas o administrativos"]
[null,null,null,null,"Nueva Edificación, ReHabilitación y Edificios Existentes"]
[]
[null,null,null,null,"VERDE Equipamiento V 1.W"]
[null,null,null,null,"Publicación en Enero de 2018"]
[null,null,null,null,"Última revisión Junio 2018"]

{"sheet":"Instrucciones","index":5,"n_rows":37,"n_cols":4,"rows_kept":37,"cut":false,"hidden":false,"merged":[[4,2,4,4],[1,1,1,5],[9,2,9,4],[28,2,28,4],[34,2,34,4]]}
[]
[null,"VERDE Equipamiento W para Nueva Edificación y Rehabilitación"]
[null,null,null,"Instrucciones de uso"]
[]
[null,null,"Cerldas a rellenar"]
[]
[null,null,null,"Solo se rellenan las celdas sombreadas."]
[]
[]
[null,null,"Pestañas"]
[]
[null,null,null,"Para navegar por la herramienta existen una serie de pestañas que se pueden ver en el margen inferior de la ventana, a continación se describen los contenidos de cada una de ellas:"]
[]
[null,null,null,"DG (datos generales): En ella se introducirán los datos del edificio, el proyecto y el EA VERDE que realiza la evaluación."]
[]
[null,null,null,"CA (criterios aplicables): En esta pestaña se pueden personalizar los criterio que serán de aplicación apra una evaluación. De cara a una certificación, deberán estar todos los criterios activos a menos que se haya justificado la no aplicabilidad de alguno de ellos y se haya aprobado por GBCe."]
[]
[null,null,null,"PE (pre-evaluación): En esta pestaña se puede hacer una preevaluación del edificio. En el listado de criterios, se indicará qué criterios es seguro (s) que se van a cumplir, cuáles son probables (p), difícil (d) o cuáles no se van a cumplir (n). En función de los datos introducidos, la herramienta informará de las posibles valoraciones del edificio."]
[]
[null,null,null,"Pestañas de certificación: por cada una de las áreas de evaluación, tenemos una pestaña donde se introducirán los datos generales para la evaluación y los resultados criterio a criterio. Al final de la hoja, aparece la valoración que se ha obtenido en la misma."]
[]
[null,null,null,"Informe resultados: en esta hoja aparecen los resultados de la evaluación, con la calificación de la certificación y un resumen de los resultados por criterios"]
[]
[null,null,null,"Resultados por impactos: en esta hoja se ofrece la mejora alcanzada por el edificio en los distintos impactos evaluados sobre la referencia establecida."]
[]
[null,null,null,"Indicadores: en esta hoja se ofrecen los datos cuantitativos de los indicadores correspondientes a cada impacto de forma cualitativa y referido a la referencia establecida. Se indica a qué fase del ciclo de vida se hace referencia y cuál es el alcance del cálculo."]
[]
[]
[null,null,"Celdas Documento Justificativos"]
[]
[null,null,null,"Estas celdas aparecen, tanto en la pestaña de datos generales, como en las pestañas de certificación, en cada uno de los criterios. En ellas habrá que indicar si se han incluido, no se han incluido o no son de aplicación, en los archivos de evaluación los Documentos Justificativos (D.J.) correspondientes."]
[null,null,null,"Los D.J. solicitados para justificar la evaluación de cara a una certificación con VERDE, se describen en la guía de la herramienta."]
[]
[]
[null,null,"¿Cómo hacer la evaluación de los criterios?"]
[]
[null,null,null,"El método de evaluación de cada uno de los criterios, aparece definido en la guía de evaluación de la herramienta que se puede descargar en la página web."]

{"sheet":"DG","index":6,"n_rows":411,"n_cols":18,"rows_kept":411,"cut":false,"hidden":false,"merged":[[1,2,1,5],[86,3,87,3],[92,2,92,3],[108,2,108,3],[4,2,4,5],[65,2,65,3],[79,2,79,3],[103,4,105,4],[35,2,35,3],[46,3,47,3],[55,3,56,3],[61,3,62,3],[58,3,59,3]]}
[]
[null,null,"VERDE W Equipamiento para Nueva Edificación y Rehabilitación"]
[null,null,null,"DATOS GENERALES",null,null,null,null,null,null,null,null,null,null,null,null,null,"Ejemplo 1"]
[]
[null,null,"Datos de edificio"]
[]
[]
[null,null,null,"Nombre del edificio",null,null,null,null,null,null,"Intensidad baja 8 h"]
[null,null,null,null,null,null,null,null,null,null,"Intensidad media 8 h"]
[null,null,null,"Localidad",null,null,null,null,null,null,"Intensidad alta 8 h",null,null,null,null,null,null,"Guadalajara"]
[null,null,null,null,null,null,null,null,null,null,"Intensidad baja 12 h"]
[null,null,null,"Capital de Provincia",null,null,null,null,null,null,"Intensidad media 12 h",null,null,null,null,null,null,"Guadalajara"]
[null,null,null,null,null,null,null,null,null,null,"Intensidad alta 12 h"]
[null,null,null,"Altura sobre el nivel del mar",null,null,null,null,null,null,"Intensidad baja 16 h",null,null,null,null,null,null,708]
[null,null,null,null,null,null,null,null,null,null,"Intensidad media 16 h"]
[null,null,null,"Zona climática de la localidad",{"$f":"CONCATENATE('zona clima'!C10,'zona clima'!C11)","v":""},null,null,null,null,null,"Intensidad alta 16 h"]
[null,null,null,null,null,null,null,null,null,null,"Intensidad baja 24 h",null,null,null,null,null,null,950]
[null,null,null,"Superficie construida total (m2)",null,null,null,null,null,null,"Intensidad media 24 h",null,null,null,null,null,null,950]
[null,null,null,"*Descontando plantas bajo rasante y aparcamientos",null,null,null,null,null,null,"Intensidad alta 24 h"]
[null,null,null,null,null,null,null,null,null,null,"Otros"]
[null,null,null,"Superficie útil de los espacios habitables del edificio (m2)",null,null,null,null,null,null,null,null,null,null,null,null,null,700]
[]
[null,null,null,"Perfil de uso en horas"]
[null,null,null,null,null,null,null,null,null,null,"Edificios administrativos"]
[null,null,null,"Tipología del edificio",null,null,null,null,null,null,"Equipamiento público",null,null,null,null,null,null,"Multi-residencial"]
[null,null,null,null,null,null,null,null,null,null,"Edificios docentes"]
[null,null,null,"Tipo de actuación",null,null,null,null,null,null,"Edificios comerciales",null,null,null,null,null,null,"Nueva Edificación"]
[null,null,null,null,null,null,null,null,null,null,"Residencial u hostelería"]
[null,null,null,"Superficie de ampliación (equiparable a nueva edificación):",null,null,null,null,null,null,"Servicios de restauración"]
[null,null,null,null,null,null,null,null,null,null,"Industria ligera o logística"]
[null,null,null,"Superficie rehabilitada",null,null,null,null,null,null,"Local o parte de un edificio"]
[null,null,null,null,null,null,null,null,null,null,"Mixtos"]
[null,null,null,"Superficie de edificio existente sobre el que no se interviene:"]
[]
[null,null,null,null,null,null,null,null,null,null,"Nueva Edificación"]
[null,null,"Ajuste de la herramienta",null,null,null,null,null,null,null,"Rehabilitación"]
[null,null,null,null,null,null,null,null,null,null,"Edificio existente"]
[null,null,null,null,null,null,null,null,null,null,"Mixto"]
[null,null,null,"¿El edificio dispone de plazas de aparcamiento?"]
[]
[null,null,null,"Superficie libre de parcela"]
[]
[null,null,null,"Superficie ajardinada",null,null,null,null,null,null,"Sí"]
[null,null,null,null,null,null,null,null,null,null,"No"]
[null,null,null,"Número de ocupantes",null,null,null,null,null,null,null,null,null,null,null,null,null,45]
[null,null,null,null,null,null,null,null,null,null,"No"]
[null,null,null,"¿Existen en el edificio o parcela elementos singulares consumidores de agua como fuentes, piscinas, jakuzzis, etc.?",null,null,null,null,null,null,"No aplica"]
[]
[null,null,null,null,null,null,null,null,null,null,"No"]
[null,null,null,"¿Se emplean gases refrigerantes en la climatización?",null,null,null,null,null,null,"No aplica"]
[]
[null,null,null,"¿Existen elementos mecánicos de comunicación vertical u horizontal?"]
[]
[null,null,null,"¿Existen sistemas frigoríficos?",null,null,null,null,null,null,"Sí"]
[null,null,null,null,null,null,null,null,null,null,"No"]
[null,null,null,"¿Se realizan tareas de tipo administrativo, trabajo sedentario sobre mesa?",null,null,null,null,null,null,"No aplica"]
[]
[]
[null,null,null,"¿Existen espacios de alta densidad y de ocupación y uso variable? Para más información ver CAI 02 en la guía",null,null,null,null,null,null,"Sí"]
[]
[null,null,null,null,null,null,null,null,null,null,"No"]
[null,null,null,"¿Los espacios habitables, según la definición del CTE DB-HE superan los 50 m2?",null,null,null,null,null,null,"No aplica"]
[]
[]
[null,null,null,null,null,null,null,null,null,null,"Nueva Edificación"]
[null,null,"Datos del promotor y equipo de proyecto",null,null,null,null,null,null,null,"Rehabilitación"]
[null,null,null,null,null,null,null,null,null,null,"Edificio existente"]
[null,null,null,null,null,null,null,null,null,null,"Mixto"]
[null,null,null,"Promotor"]
[]
[null,null,null,"Contacto promotor"]
[]
[null,null,null,"Equipo redactor",null,null,null,null,null,null,"Sí"]
[null,null,null,null,null,null,null,null,null,null,"No"]
[null,null,null,"Fecha de proyecto",null,null,null,null,null,null,"No aplica"]
[null,null,null,null,null,null,null,null,null,null,"No"]
[null,null,null,"Fecha de construcción",null,null,null,null,null,null,"No aplica"]
[]
[]
[null,null,"Datos del  Evaluador Acreditado"]
[]
[]
[null,null,null,"Nombre"]
[]
[null,null,null,"Apellidos"]
[]
[null,null,null,"Fecha de entrega de la evaluación"]
[]
[]
[null,null,null,"Email y teléfono de contacto"]
[]
[]
[null,null,"Datos de la certificación"]
[]
[]
[null,null,null,"Código de la certifiacción"]
[]
[null,null,null,"Tipo de certificación",null,null,null,null,null,null,"Promocional","Proyecto de ejecución"]
[null,null,null,null,null,null,null,null,null,null,"Comercial","Obra construida"]
[null,null,null,"Estado de la certificación"]
[]
[null,null,null,"Fecha de entrega de la evaluación"]
[]
[null,null,null,"Dirección postal de entrega de la certificación"]
[]
[]
[]
[]
[null,null,"Documentos Justificativos",null,null,null,null,null,null,null,null,null,"a"]
[null,null,null,null,null,null,null,null,null,null,null,null,"r"]
[]
[null,null,null,"DG 01"]
[]
[null,null,null,"DG 02"]
[]
[null,null,null,"DG 03"]
[]
[null,null,null,"DG 04"]
[]
[null,null,null,"DG 05"]
[]
[null,null,null,"DG 06"]
[]
[null,null,null,"DG 07"]
[]
[null,null,null,"DG 08"]
[]
[]
[]
[]
[]
[]
[]
[]
[]
[]
[]
[]
[]
[]
[]
[]
[]
[]
[]
[]
[]
[]
[]
[]
[]
[]
[]
[]
[]
[]
[]
[]
[]
[]
[]
[]
[]
[]
[]
[]
[]
[]
[]
[]
[]
[]
[]
[]
[]
[]
[]
[]
[]
[]
[]
[]
[]
[]
[]
[]
[]
[]
[]
[]
[]
[]
[]
[]
[]
[]
[]
[]
[]
[]
[]
[]
[]
[]
[]
[]
[]
[]
[]
[]
[]
[]
[]
[]
[]
[]
[]
[]
[]
[]
[]
[]
[]
[]
[]
[]
[]
[]
[]
[]
[]
[]
[]
[]
[]
[]
[]
[]
[]
[]
[]
[]
[]
[]
[]
[]
[]
[]
[]
[]
[]
[]
[]
[]
[]
[]
[]
[]
[]
[]
[]
[]
[]
[]
[]
[]
[]
[]
[]
[]
[]
[]
[]
[]
[]
[]
[]
[]
[]
[]
[]
[]
[]
[]
[]
[]
[]
[]
[]
[]
[]
[]
[]
[]
[]
[]
[]
[]
[]
[]
[]
[]
[]
[]
[]
[]
[]
[]
[]
[]
[]
[]
[]
[]
[]
[]
[]
[]
[]
[]
[]
[]
[]
[]
[]
[]
[]
[]
[]
[]
[]
[]
[]
[]
[]
[]
[]
[]
[]
[]
[]
[]
[]
[]
[]
[]
[]
[]
[]
[]
[]
[]
[]
[]
[]
[]
[]
[]
[]
[]
[]
[]
[]
[]
[]
[]
[]
[]
[]
[]
[]
[]
[]
[]
[]
[]
[]
[]
[]
[]
[]
[]
[]
[]
[]
[]
[]
[]
[]
[]
[]
[]
[]
[]
[]
[]
[]
[]
[]
[]
[]
[]
[]
[]
[]
[]
[]
[]
[]
[]
[null,null,null,null,null,null,"a"]

{"sheet":"zona clima","index":7,"n_rows":60,"n_cols":77,"rows_kept":60,"cut":false,"hidden":true,"merged":[[3,30,3,31],[3,8,3,9],[3,10,3,11],[3,12,3,13],[3,14,3,15],[3,16,3,17],[3,18,3,19],[3,20,3,21],[3,22,3,23],[3,24,3,25],[3,26,3,27],[3,28,3,29],[3,54,3,55],[3,32,3,33],[3,34,3,35],[3,36,3,37],[3,38,3,39],[3,40,3,41],[3,42,3,43],[57,34,57,35],[3,56,3,57],[3,58,3,59],[57,8,57,9],[57,10,57,11],[57,12,57,13],[57,14,57,15],[57,16,57,17],[57,18,57,19],[57,20,57,21],[57,22,57,23],[3,44,3,45],[3,46,3,47],[3,48,3,49],[3,50,3,51],[3,52,3,53],[57,24,57,25],[57,26,57,27],[57,28,57,29],[57,30,57,31],[57,32,57,33],[57,58,57,59],[57,36,57,37],[57,38,57,39],[57,40,57,41],[57,42,57,43],[57,44,57,45],[57,46,57,47],[57,48,57,49],[57,50,57,51],[57,52,57,53],[57,54,57,55],[57,56,57,57]]}
[null,null,null,null,null,null,null,null,"A","B","C","D","E"]
[null,null,null,null,null,null,null,null,1,2,3,4]
[]
[null,null,null,null,"CAPITAL ","Z.C. INVIERNO","Z.C. VERANO ","ALTITUD","0-50",null,"50-100",null,"100-150",null,"150-200",null,"200-250",null,"250-300",null,"300-350",null,"350-400",null,"400-450",null,"450-500",null,"500-550",null,"550-600",null,"600-650",null,"650-700",null,"700-750",null,"750-800",null,"800-850",null,"850-900",null,"900-950",null,"950-1000",null,"1000-1050",null,"1100-1150",null,"1150-1200",null,"1200-1250",null,"1250-1300",null,">=1300",null,null,"A4","A3","A2","A1","B4","B3","B2","B1","C4","C3","C2","C1","D3","D2","D1","E1"]
[null,"capital de provincia",{"$f":"IF(DG!E12=0,\"\",DG!E12)","v":""},null,"Albacete",{"$f":"$L$1","v":"D"},{"$f":"$K$2","v":3},677,{"$f":"$K$1","v":"C"},{"$f":"$K$2","v":3},{"$f":"$K$1","v":"C"},{"$f":"$K$2","v":3},{"$f":"$K$1","v":"C"},{"$f":"$K$2","v":3},{"$f":"$K$1","v":"C"},{"$f":"$K$2","v":3},{"$f":"$K$1","v":"C"},{"$f":"$K$2","v":3},{"$f":"$K$1","v":"C"},{"$f":"$K$2","v":3},{"$f":"$K$1","v":"C"},{"$f":"$K$2","v":3},{"$f":"$K$1","v":"C"},{"$f":"$K$2","v":3},{"$f":"$K$1","v":"C"},{"$f":"$K$2","v":3},{"$f":"$L$1","v":"D"},{"$f":"$K$2","v":3},{"$f":"$L$1","v":"D"},{"$f":"$K$2","v":3},{"$f":"$L$1","v":"D"},{"$f":"$K$2","v":3},{"$f":"$L$1","v":"D"},{"$f":"$K$2","v":3},{"$f":"$L$1","v":"D"},{"$f":"$K$2","v":3},{"$f":"$L$1","v":"D"},{"$f":"$K$2","v":3},{"$f":"$L$1","v":"D"},{"$f":"$K$2","v":3},{"$f":"$L$1","v":"D"},{"$f":"$K$2","v":3},{"$f":"$L$1","v":"D"},{"$f":"$K$2","v":3},{"$f":"$L$1","v":"D"},{"$f":"$K$2","v":3},{"$f":"$M$1","v":"E"},{"$f":"$I$2","v":1},"E",1,"E",1,"E",1,"E",1,"E",1,"E",1,null,null,null,null,null,null,null,null,null,null,"<450",null,null,"<950",null,null,">=950"]
[null,"altura capital",{"$f":"IF(C5=\"\",\"\",VLOOKUP(C5,E5:BJ55,3,FALSE))","v":""},null,"Alicante/Alacant",{"$f":"$J$1","v":"B"},{"$f":"$L$2","v":4},7,{"$f":"$J$1","v":"B"},{"$f":"$L$2","v":4},{"$f":"$J$1","v":"B"},{"$f":"$L$2","v":4},{"$f":"$J$1","v":"B"},{"$f":"$L$2","v":4},{"$f":"$J$1","v":"B"},{"$f":"$L$2","v":4},{"$f":"$J$1","v":"B"},{"$f":"$L$2","v":4},{"$f":"$K$1","v":"C"},{"$f":"$K$2","v":3},{"$f":"$K$1","v":"C"},{"$f":"$K$2","v":3},{"$f":"$K$1","v":"C"},{"$f":"$K$2","v":3},{"$f":"$K$1","v":"C"},{"$f":"$K$2","v":3},{"$f":"$K$1","v":"C"},{"$f":"$K$2","v":3},{"$f":"$K$1","v":"C"},{"$f":"$K$2","v":3},{"$f":"$K$1","v":"C"},{"$f":"$K$2","v":3},{"$f":"$K$1","v":"C"},{"$f":"$K$2","v":3},{"$f":"$K$1","v":"C"},{"$f":"$K$2","v":3},{"$f":"$L$1","v":"D"},{"$f":"$K$2","v":3},{"$f":"$L$1","v":"D"},{"$f":"$K$2","v":3},{"$f":"$L$1","v":"D"},{"$f":"$K$2","v":3},{"$f":"$L$1","v":"D"},{"$f":"$K$2","v":3},{"$f":"$L$1","v":"D"},{"$f":"$K$2","v":3},{"$f":"$L$1","v":"D"},{"$f":"$K$2","v":3},{"$f":"$L$1","v":"D"},{"$f":"$K$2","v":3},{"$f":"$L$1","v":"D"},{"$f":"$K$2","v":3},{"$f":"$L$1","v":"D"},{"$f":"$K$2","v":3},{"$f":"$L$1","v":"D"},{"$f":"$K$2","v":3},{"$f":"$L$1","v":"D"},{"$f":"$K$2","v":3},{"$f":"$L$1","v":"D"},{"$f":"$K$2","v":3},null,null,null,null,null,"<250",null,null,null,null,"<700",null,null,">=700"]
[null,"altura localidad",{"$f":"IF(DG!E14=\"\",\"\",DG!E14)","v":""},null,"Almería",{"$f":"$I$1","v":"A"},{"$f":"$L$2","v":4},0,"A",{"$f":"$L$2","v":4},"A",{"$f":"$L$2","v":4},{"$f":"$J$1","v":"B"},{"$f":"$L$2","v":4},{"$f":"$J$1","v":"B"},{"$f":"$L$2","v":4},{"$f":"$J$1","v":"B"},{"$f":"$L$2","v":4},{"$f":"$J$1","v":"B"},{"$f":"$K$2","v":3},{"$f":"$J$1","v":"B"},{"$f":"$K$2","v":3},{"$f":"$J$1","v":"B"},{"$f":"$K$2","v":3},{"$f":"$K$1","v":"C"},{"$f":"$K$2","v":3},{"$f":"$K$1","v":"C"},{"$f":"$K$2","v":3},{"$f":"$K$1","v":"C"},{"$f":"$K$2","v":3},{"$f":"$K$1","v":"C"},{"$f":"$K$2","v":3},{"$f":"$K$1","v":"C"},{"$f":"$K$2","v":3},{"$f":"$K$1","v":"C"},{"$f":"$K$2","v":3},{"$f":"$K$1","v":"C"},{"$f":"$K$2","v":3},{"$f":"$K$1","v":"C"},{"$f":"$K$2","v":3},{"$f":"$L$1","v":"D"},{"$f":"$K$2","v":3},{"$f":"$L$1","v":"D"},{"$f":"$K$2","v":3},{"$f":"$L$1","v":"D"},{"$f":"$K$2","v":3},{"$f":"$L$1","v":"D"},{"$f":"$K$2","v":3},{"$f":"$L$1","v":"D"},{"$f":"$K$2","v":3},{"$f":"$L$1","v":"D"},{"$f":"$K$2","v":3},{"$f":"$L$1","v":"D"},{"$f":"$K$2","v":3},{"$f":"$L$1","v":"D"},{"$f":"$K$2","v":3},{"$f":"$L$1","v":"D"},{"$f":"$K$2","v":3},{"$f":"$L$1","v":"D"},{"$f":"$K$2","v":3},null,"<100",null,null,null,"<250","<400",null,null,null,"<800",null,null,">=800"]
[null,"REDONDEO ALTITUD",{"$f":"IF(C7>=1300,1300,IF(AND(C7>=1250,C7<1300),1250,ROUND((C7+25)/50,0)*50))","v":1300},null,"Ávila",{"$f":"$M$1","v":"E"},{"$f":"$I$2","v":1},1054,{"$f":"$L$1","v":"D"},{"$f":"$J$2","v":2},{"$f":"$L$1","v":"D"},{"$f":"$J$2","v":2},{"$f":"$L$1","v":"D"},{"$f":"$J$2","v":2},{"$f":"$L$1","v":"D"},{"$f":"$J$2","v":2},{"$f":"$L$1","v":"D"},{"$f":"$J$2","v":2},{"$f":"$L$1","v":"D"},{"$f":"$J$2","v":2},{"$f":"$L$1","v":"D"},{"$f":"$J$2","v":2},{"$f":"$L$1","v":"D"},{"$f":"$J$2","v":2},{"$f":"$L$1","v":"D"},{"$f":"$J$2","v":2},{"$f":"$L$1","v":"D"},{"$f":"$J$2","v":2},{"$f":"$L$1","v":"D"},{"$f":"$J$2","v":2},{"$f":"$L$1","v":"D"},{"$f":"$I$2","v":1},{"$f":"$L$1","v":"D"},{"$f":"$I$2","v":1},{"$f":"$L$1","v":"D"},{"$f":"$I$2","v":1},{"$f":"$L$1","v":"D"},{"$f":"$I$2","v":1},{"$f":"$L$1","v":"D"},{"$f":"$I$2","v":1},{"$f":"$L$1","v":"D"},{"$f":"$I$2","v":1},{"$f":"$M$1","v":"E"},{"$f":"$I$2","v":1},{"$f":"$M$1","v":"E"},{"$f":"$I$2","v":1},{"$f":"$M$1","v":"E"},{"$f":"$I$2","v":1},{"$f":"$M$1","v":"E"},{"$f":"$I$2","v":1},{"$f":"$M$1","v":"E"},{"$f":"$I$2","v":1},{"$f":"$M$1","v":"E"},{"$f":"$I$2","v":1},{"$f":"$M$1","v":"E"},{"$f":"$I$2","v":1},{"$f":"$M$1","v":"E"},{"$f":"$I$2","v":1},{"$f":"$M$1","v":"E"},{"$f":"$I$2","v":1},null,null,null,null,null,null,null,null,null,null,null,null,"<50",null,null,"<550",">=550"]
[null,"Nº DE COLUMNA",{"$f":"(C8/50)*2","v":52},null,"Badajoz",{"$f":"$K$1","v":"C"},{"$f":"$L$2","v":4},168,{"$f":"$K$1","v":"C"},{"$f":"$L$2","v":4},{"$f":"$K$1","v":"C"},{"$f":"$L$2","v":4},{"$f":"$K$1","v":"C"},{"$f":"$L$2","v":4},{"$f":"$K$1","v":"C"},{"$f":"$L$2","v":4},{"$f":"$K$1","v":"C"},{"$f":"$L$2","v":4},{"$f":"$K$1","v":"C"},{"$f":"$L$2","v":4},{"$f":"$K$1","v":"C"},{"$f":"$L$2","v":4},{"$f":"$K$1","v":"C"},{"$f":"$L$2","v":4},{"$f":"$K$1","v":"C"},{"$f":"$K$2","v":3},{"$f":"$L$1","v":"D"},{"$f":"$K$2","v":3},{"$f":"$L$1","v":"D"},{"$f":"$K$2","v":3},{"$f":"$L$1","v":"D"},{"$f":"$K$2","v":3},{"$f":"$L$1","v":"D"},{"$f":"$K$2","v":3},{"$f":"$L$1","v":"D"},{"$f":"$K$2","v":3},{"$f":"$L$1","v":"D"},{"$f":"$K$2","v":3},{"$f":"$L$1","v":"D"},{"$f":"$K$2","v":3},{"$f":"$L$1","v":"D"},{"$f":"$K$2","v":3},{"$f":"$L$1","v":"D"},{"$f":"$K$2","v":3},{"$f":"$L$1","v":"D"},{"$f":"$K$2","v":3},{"$f":"$L$1","v":"D"},{"$f":"$K$2","v":3},{"$f":"$L$1","v":"D"},{"$f":"$K$2","v":3},{"$f":"$L$1","v":"D"},{"$f":"$K$2","v":3},{"$f":"$L$1","v":"D"},{"$f":"$K$2","v":3},{"$f":"$L$1","v":"D"},{"$f":"$K$2","v":3},{"$f":"$L$1","v":"D"},{"$f":"$K$2","v":3},{"$f":"$L$1","v":"D"},{"$f":"$K$2","v":3},null,null,null,null,null,null,null,null,null,null,null,null,null,null,"<550","<850",">=850"]
[null,"ZC Invierno localidad",{"$f":"IF(C5=\"\",\"\",VLOOKUP(C$5,$E:$BH,C$9+3,FALSE))","v":""},null,"Barcelona",{"$f":"$K$1","v":"C"},{"$f":"$J$2","v":2},1,{"$f":"$K$1","v":"C"},{"$f":"$J$2","v":2},{"$f":"$K$1","v":"C"},{"$f":"$J$2","v":2},{"$f":"$K$1","v":"C"},{"$f":"$J$2","v":2},{"$f":"$K$1","v":"C"},{"$f":"$J$2","v":2},{"$f":"$K$1","v":"C"},{"$f":"$J$2","v":2},{"$f":"$L$1","v":"D"},{"$f":"$J$2","v":2},{"$f":"$L$1","v":"D"},{"$f":"$J$2","v":2},{"$f":"$L$1","v":"D"},{"$f":"$J$2","v":2},{"$f":"$L$1","v":"D"},{"$f":"$J$2","v":2},{"$f":"$L$1","v":"D"},{"$f":"$I$2","v":1},{"$f":"$L$1","v":"D"},{"$f":"$I$2","v":1},{"$f":"$L$1","v":"D"},{"$f":"$I$2","v":1},{"$f":"$L$1","v":"D"},{"$f":"$I$2","v":1},{"$f":"$L$1","v":"D"},{"$f":"$I$2","v":1},{"$f":"$L$1","v":"D"},{"$f":"$I$2","v":1},{"$f":"$M$1","v":"E"},{"$f":"$I$2","v":1},{"$f":"$M$1","v":"E"},{"$f":"$I$2","v":1},{"$f":"$M$1","v":"E"},{"$f":"$I$2","v":1},{"$f":"$M$1","v":"E"},{"$f":"$I$2","v":1},{"$f":"$M$1","v":"E"},{"$f":"$I$2","v":1},{"$f":"$M$1","v":"E"},{"$f":"$I$2","v":1},{"$f":"$M$1","v":"E"},{"$f":"$I$2","v":1},{"$f":"$M$1","v":"E"},{"$f":"$I$2","v":1},{"$f":"$M$1","v":"E"},{"$f":"$I$2","v":1},{"$f":"$M$1","v":"E"},{"$f":"$I$2","v":1},{"$f":"$M$1","v":"E"},{"$f":"$I$2","v":1},null,null,null,null,null,null,null,null,null,"<400","<450",null,null,">=450"]
[null,"ZC Verano localidad",{"$f":"IF(C5=\"\",\"\",VLOOKUP(C$5,$E:$BH,C$9+4,FALSE))","v":""},null,"Bilbao/Bilbo",{"$f":"$K$1","v":"C"},{"$f":"$I$2","v":1},214,{"$f":"$K$1","v":"C"},{"$f":"$I$2","v":1},{"$f":"$K$1","v":"C"},{"$f":"$I$2","v":1},{"$f":"$K$1","v":"C"},{"$f":"$I$2","v":1},{"$f":"$K$1","v":"C"},{"$f":"$I$2","v":1},{"$f":"$K$1","v":"C"},{"$f":"$I$2","v":1},{"$f":"$L$1","v":"D"},{"$f":"$I$2","v":1},{"$f":"$L$1","v":"D"},{"$f":"$I$2","v":1},{"$f":"$L$1","v":"D"},{"$f":"$I$2","v":1},{"$f":"$L$1","v":"D"},{"$f":"$I$2","v":1},{"$f":"$L$1","v":"D"},{"$f":"$I$2","v":1},{"$f":"$L$1","v":"D"},{"$f":"$I$2","v":1},{"$f":"$L$1","v":"D"},{"$f":"$I$2","v":1},{"$f":"$L$1","v":"D"},{"$f":"$I$2","v":1},{"$f":"$L$1","v":"D"},{"$f":"$I$2","v":1},{"$f":"$L$1","v":"D"},{"$f":"$I$2","v":1},{"$f":"$L$1","v":"D"},{"$f":"$I$2","v":1},{"$f":"$L$1","v":"D"},{"$f":"$I$2","v":1},{"$f":"$L$1","v":"D"},{"$f":"$I$2","v":1},{"$f":"$L$1","v":"D"},{"$f":"$I$2","v":1},{"$f":"$L$1","v":"D"},{"$f":"$I$2","v":1},{"$f":"$L$1","v":"D"},{"$f":"$I$2","v":1},{"$f":"$L$1","v":"D"},{"$f":"$I$2","v":1},{"$f":"$L$1","v":"D"},{"$f":"$I$2","v":1},{"$f":"$L$1","v":"D"},{"$f":"$I$2","v":1},{"$f":"$L$1","v":"D"},{"$f":"$I$2","v":1},{"$f":"$L$1","v":"D"},{"$f":"$I$2","v":1},null,null,null,null,null,null,null,null,null,null,null,"<250",null,null,"<450","<750",">=750"]
[null,"ZONA CLIMATICA PROVINCIA",{"$f":"IF(C5=\"\",\"\",VLOOKUP(C$5,E$5:H$56,2,FALSE))","v":""},null,"Burgos","E",{"$f":"$I$2","v":1},861,{"$f":"$L$1","v":"D"},{"$f":"$I$2","v":1},"D",{"$f":"$I$2","v":1},"D",{"$f":"$I$2","v":1},"D",{"$f":"$I$2","v":1},"D",{"$f":"$I$2","v":1},"D",{"$f":"$I$2","v":1},"D",{"$f":"$I$2","v":1},"D",{"$f":"$I$2","v":1},"D",{"$f":"$I$2","v":1},{"$f":"$L$1","v":"D"},{"$f":"$I$2","v":1},{"$f":"$L$1","v":"D"},{"$f":"$I$2","v":1},{"$f":"$L$1","v":"D"},{"$f":"$I$2","v":1},{"$f":"$M$1","v":"E"},{"$f":"$I$2","v":1},{"$f":"$M$1","v":"E"},{"$f":"$I$2","v":1},{"$f":"$M$1","v":"E"},{"$f":"$I$2","v":1},{"$f":"$M$1","v":"E"},{"$f":"$I$2","v":1},{"$f":"$M$1","v":"E"},{"$f":"$I$2","v":1},{"$f":"$M$1","v":"E"},{"$f":"$I$2","v":1},{"$f":"$M$1","v":"E"},{"$f":"$I$2","v":1},{"$f":"$M$1","v":"E"},{"$f":"$I$2","v":1},{"$f":"$M$1","v":"E"},{"$f":"$I$2","v":1},{"$f":"$M$1","v":"E"},{"$f":"$I$2","v":1},{"$f":"$M$1","v":"E"},{"$f":"$I$2","v":1},{"$f":"$M$1","v":"E"},{"$f":"$I$2","v":1},{"$f":"$M$1","v":"E"},{"$f":"$I$2","v":1},{"$f":"$M$1","v":"E"},{"$f":"$I$2","v":1}]
[null,"ZONA CLIMATICA PROVINCIA",{"$f":"IF(C5=\"\",\"\",VLOOKUP(C$5,E$5:H$56,3,FALSE))","v":""},null,"Cáceres",{"$f":"$K$1","v":"C"},{"$f":"$L$2","v":4},385,{"$f":"$K$1","v":"C"},{"$f":"$L$2","v":4},{"$f":"$K$1","v":"C"},{"$f":"$L$2","v":4},{"$f":"$K$1","v":"C"},{"$f":"$L$2","v":4},{"$f":"$K$1","v":"C"},{"$f":"$L$2","v":4},{"$f":"$K$1","v":"C"},{"$f":"$L$2","v":4},{"$f":"$K$1","v":"C"},{"$f":"$L$2","v":4},{"$f":"$K$1","v":"C"},{"$f":"$L$2","v":4},{"$f":"$K$1","v":"C"},{"$f":"$L$2","v":4},{"$f":"$K$1","v":"C"},{"$f":"$L$2","v":4},{"$f":"$K$1","v":"C"},{"$f":"$L$2","v":4},{"$f":"$K$1","v":"C"},{"$f":"$L$2","v":4},{"$f":"$K$1","v":"C"},{"$f":"$L$2","v":4},{"$f":"$L$1","v":"D"},{"$f":"$K$2","v":3},{"$f":"$L$1","v":"D"},3,{"$f":"$L$1","v":"D"},3,{"$f":"$L$1","v":"D"},3,{"$f":"$L$1","v":"D"},3,{"$f":"$L$1","v":"D"},3,{"$f":"$L$1","v":"D"},3,{"$f":"$L$1","v":"D"},3,{"$f":"$L$1","v":"D"},3,{"$f":"$M$1","v":"E"},{"$f":"$I$2","v":1},{"$f":"$M$1","v":"E"},{"$f":"$I$2","v":1},{"$f":"$M$1","v":"E"},{"$f":"$I$2","v":1},{"$f":"$M$1","v":"E"},{"$f":"$I$2","v":1},{"$f":"$M$1","v":"E"},{"$f":"$I$2","v":1},null,null,null,null,null,null,null,null,null,null,null,null,null,null,null,"<600",">=600"]
[null,null,null,null,"Cádiz",{"$f":"$I$1","v":"A"},{"$f":"$K$2","v":3},0,{"$f":"$I$1","v":"A"},{"$f":"$K$2","v":3},{"$f":"$I$1","v":"A"},{"$f":"$K$2","v":3},{"$f":"$I$1","v":"A"},{"$f":"$K$2","v":3},{"$f":"$J$1","v":"B"},{"$f":"$K$2","v":3},"B",{"$f":"$K$2","v":3},"B",{"$f":"$K$2","v":3},"B",{"$f":"$K$2","v":3},"B",{"$f":"$K$2","v":3},"B",{"$f":"$K$2","v":3},{"$f":"$K$1","v":"C"},{"$f":"$K$2","v":3},{"$f":"$K$1","v":"C"},{"$f":"$K$2","v":3},{"$f":"$K$1","v":"C"},{"$f":"$K$2","v":3},{"$f":"$K$1","v":"C"},{"$f":"$J$2","v":2},"C",2,"C",2,"C",2,"C",2,{"$f":"$L$1","v":"D"},{"$f":"$J$2","v":2},{"$f":"$L$1","v":"D"},{"$f":"$J$2","v":2},{"$f":"$L$1","v":"D"},{"$f":"$J$2","v":2},{"$f":"$L$1","v":"D"},{"$f":"$J$2","v":2},{"$f":"$L$1","v":"D"},{"$f":"$J$2","v":2},{"$f":"$L$1","v":"D"},{"$f":"$J$2","v":2},{"$f":"$L$1","v":"D"},{"$f":"$J$2","v":2},{"$f":"$L$1","v":"D"},{"$f":"$J$2","v":2},{"$f":"$L$1","v":"D"},{"$f":"$J$2","v":2},null,null,null,null,null,null,null,null,null,"<600",null,null,null,"<1050",null,null,">=1050"]
[null,null,null,null,"Castellón/Castelló",{"$f":"$J$1","v":"B"},{"$f":"$K$2","v":3},18,{"$f":"$J$1","v":"B"},{"$f":"$K$2","v":3},{"$f":"$K$1","v":"C"},{"$f":"$K$2","v":3},{"$f":"$K$1","v":"C"},{"$f":"$K$2","v":3},{"$f":"$K$1","v":"C"},{"$f":"$K$2","v":3},{"$f":"$K$1","v":"C"},{"$f":"$K$2","v":3},{"$f":"$K$1","v":"C"},{"$f":"$K$2","v":3},{"$f":"$K$1","v":"C"},{"$f":"$K$2","v":3},{"$f":"$K$1","v":"C"},{"$f":"$K$2","v":3},{"$f":"$K$1","v":"C"},{"$f":"$K$2","v":3},{"$f":"$K$1","v":"C"},{"$f":"$K$2","v":3},{"$f":"$L$1","v":"D"},{"$f":"$K$2","v":3},{"$f":"$L$1","v":"D"},{"$f":"$K$2","v":3},{"$f":"$L$1","v":"D"},2,{"$f":"$L$1","v":"D"},2,{"$f":"$L$1","v":"D"},2,{"$f":"$L$1","v":"D"},2,{"$f":"$L$1","v":"D"},2,{"$f":"$L$1","v":"D"},{"$f":"$J$2","v":2},{"$f":"$L$1","v":"D"},{"$f":"$J$2","v":2},{"$f":"$L$1","v":"D"},{"$f":"$J$2","v":2},{"$f":"$M$1","v":"E"},{"$f":"$I$2","v":1},{"$f":"$M$1","v":"E"},{"$f":"$I$2","v":1},{"$f":"$M$1","v":"E"},{"$f":"$I$2","v":1},{"$f":"$M$1","v":"E"},{"$f":"$I$2","v":1},{"$f":"$M$1","v":"E"},{"$f":"$I$2","v":1},{"$f":"$M$1","v":"E"},{"$f":"$I$2","v":1},null,null,null,null,null,null,null,null,null,null,null,null,"<150",null,null,"<650"]
[null,null,null,null,"Ceuta",{"$f":"$J$1","v":"B"},{"$f":"$K$2","v":3},0,{"$f":"$J$1","v":"B"},{"$f":"$K$2","v":3},{"$f":"$J$1","v":"B"},{"$f":"$K$2","v":3},{"$f":"$J$1","v":"B"},{"$f":"$K$2","v":3},{"$f":"$J$1","v":"B"},{"$f":"$K$2","v":3},{"$f":"$J$1","v":"B"},{"$f":"$K$2","v":3},{"$f":"$J$1","v":"B"},{"$f":"$K$2","v":3},{"$f":"$J$1","v":"B"},{"$f":"$K$2","v":3},{"$f":"$J$1","v":"B"},{"$f":"$K$2","v":3},{"$f":"$J$1","v":"B"},{"$f":"$K$2","v":3},"B",{"$f":"$K$2","v":3},"B",{"$f":"$K$2","v":3},"B",{"$f":"$K$2","v":3},"B",{"$f":"$K$2","v":3},"B",{"$f":"$K$2","v":3},"B",{"$f":"$K$2","v":3},"B",{"$f":"$K$2","v":3},"B",{"$f":"$K$2","v":3},"B",{"$f":"$K$2","v":3},"B",{"$f":"$K$2","v":3},"B",3,"B",3,"B",3,"B",3,"B",3,"B",3,"B",3,null,null,null,null,null,null,"<50",null,null,null,"<500",null,null,"<600","<1000",null,">=1000"]
[null,null,null,null,"Ciudad Real",{"$f":"$L$1","v":"D"},{"$f":"$K$2","v":3},630,{"$f":"$K$1","v":"C"},{"$f":"$L$2","v":4},{"$f":"$K$1","v":"C"},{"$f":"$L$2","v":4},{"$f":"$K$1","v":"C"},{"$f":"$L$2","v":4},{"$f":"$K$1","v":"C"},{"$f":"$L$2","v":4},{"$f":"$K$1","v":"C"},{"$f":"$L$2","v":4},{"$f":"$K$1","v":"C"},{"$f":"$L$2","v":4},{"$f":"$K$1","v":"C"},{"$f":"$L$2","v":4},{"$f":"$K$1","v":"C"},{"$f":"$L$2","v":4},{"$f":"$K$1","v":"C"},{"$f":"$L$2","v":4},{"$f":"$K$1","v":"C"},{"$f":"$K$2","v":3},{"$f":"$L$1","v":"D"},{"$f":"$K$2","v":3},{"$f":"$L$1","v":"D"},{"$f":"$K$2","v":3},{"$f":"$L$1","v":"D"},{"$f":"$K$2","v":3},{"$f":"$L$1","v":"D"},{"$f":"$K$2","v":3},{"$f":"$L$1","v":"D"},{"$f":"$K$2","v":3},{"$f":"$L$1","v":"D"},{"$f":"$K$2","v":3},{"$f":"$L$1","v":"D"},{"$f":"$K$2","v":3},{"$f":"$L$1","v":"D"},{"$f":"$K$2","v":3},{"$f":"$L$1","v":"D"},3,{"$f":"$L$1","v":"D"},3,{"$f":"$L$1","v":"D"},3,{"$f":"$L$1","v":"D"},3,{"$f":"$L$1","v":"D"},3,{"$f":"$L$1","v":"D"},3,{"$f":"$L$1","v":"D"},3,{"$f":"$L$1","v":"D"},3]
[null,null,null,null,"Córdoba",{"$f":"$J$1","v":"B"},{"$f":"$L$2","v":4},113,{"$f":"$J$1","v":"B"},{"$f":"$L$2","v":4},{"$f":"$J$1","v":"B"},{"$f":"$L$2","v":4},{"$f":"$J$1","v":"B"},{"$f":"$L$2","v":4},{"$f":"$K$1","v":"C"},{"$f":"$L$2","v":4},{"$f":"$K$1","v":"C"},{"$f":"$L$2","v":4},{"$f":"$K$1","v":"C"},{"$f":"$L$2","v":4},{"$f":"$K$1","v":"C"},{"$f":"$L$2","v":4},{"$f":"$K$1","v":"C"},{"$f":"$L$2","v":4},{"$f":"$K$1","v":"C"},{"$f":"$L$2","v":4},{"$f":"$K$1","v":"C"},{"$f":"$L$2","v":4},{"$f":"$K$1","v":"C"},{"$f":"$L$2","v":4},{"$f":"$L$1","v":"D"},{"$f":"$K$2","v":3},{"$f":"$L$1","v":"D"},{"$f":"$K$2","v":3},{"$f":"$L$1","v":"D"},{"$f":"$K$2","v":3},{"$f":"$L$1","v":"D"},{"$f":"$K$2","v":3},{"$f":"$L$1","v":"D"},{"$f":"$K$2","v":3},{"$f":"$L$1","v":"D"},{"$f":"$K$2","v":3},{"$f":"$L$1","v":"D"},{"$f":"$K$2","v":3},{"$f":"$L$1","v":"D"},3,{"$f":"$L$1","v":"D"},3,{"$f":"$L$1","v":"D"},3,{"$f":"$L$1","v":"D"},3,{"$f":"$L$1","v":"D"},3,{"$f":"$L$1","v":"D"},3,{"$f":"$L$1","v":"D"},3,{"$f":"$L$1","v":"D"},3,null,null,null,null,null,null,null,null,null,"<450","<500",null,null,">=500"]
[null,"DESNIVEL",{"$f":"ROUNDUP((C7-C6)/100,0)","v":{"$error":"#VALUE!"}},null,"Coruña, La/A Coruña",{"$f":"$K$1","v":"C"},{"$f":"$I$2","v":1},0,{"$f":"$K$1","v":"C"},{"$f":"$I$2","v":1},{"$f":"$K$1","v":"C"},{"$f":"$I$2","v":1},{"$f":"$K$1","v":"C"},{"$f":"$I$2","v":1},{"$f":"$K$1","v":"C"},{"$f":"$I$2","v":1},{"$f":"$L$1","v":"D"},{"$f":"$I$2","v":1},{"$f":"$L$1","v":"D"},{"$f":"$I$2","v":1},{"$f":"$L$1","v":"D"},{"$f":"$I$2","v":1},{"$f":"$L$1","v":"D"},{"$f":"$I$2","v":1},{"$f":"$L$1","v":"D"},{"$f":"$I$2","v":1},{"$f":"$L$1","v":"D"},{"$f":"$I$2","v":1},{"$f":"$L$1","v":"D"},{"$f":"$I$2","v":1},{"$f":"$L$1","v":"D"},{"$f":"$I$2","v":1},{"$f":"$L$1","v":"D"},{"$f":"$I$2","v":1},{"$f":"$L$1","v":"D"},{"$f":"$I$2","v":1},{"$f":"$L$1","v":"D"},{"$f":"$I$2","v":1},{"$f":"$L$1","v":"D"},{"$f":"$I$2","v":1},{"$f":"$L$1","v":"D"},{"$f":"$I$2","v":1},{"$f":"$L$1","v":"D"},{"$f":"$I$2","v":1},{"$f":"$L$1","v":"D"},{"$f":"$I$2","v":1},{"$f":"$L$1","v":"D"},{"$f":"$I$2","v":1},{"$f":"$L$1","v":"D"},{"$f":"$I$2","v":1},{"$f":"$L$1","v":"D"},{"$f":"$I$2","v":1},{"$f":"$L$1","v":"D"},{"$f":"$I$2","v":1},{"$f":"$L$1","v":"D"},{"$f":"$I$2","v":1},{"$f":"$L$1","v":"D"},{"$f":"$I$2","v":1},{"$f":"$L$1","v":"D"},{"$f":"$I$2","v":1},null,null,null,null,null,"<150",null,null,null,"<550",null,null,null,">=550"]
[null,"CORRECCION ZONA CLIMATICA",{"$f":"3+IF(C19>10,5,IF(C19>8,4,IF(C19>6,3,IF(C19>4,2,IF(C19>2,1,IF(C19>0,0,0))))))","v":{"$error":"#VALUE!"}},null,"Cuenca",{"$f":"$L$1","v":"D"},{"$f":"$J$2","v":2},975,{"$f":"$L$1","v":"D"},{"$f":"$K$2","v":3},{"$f":"$L$1","v":"D"},3,{"$f":"$L$1","v":"D"},3,{"$f":"$L$1","v":"D"},3,{"$f":"$L$1","v":"D"},3,{"$f":"$L$1","v":"D"},3,{"$f":"$L$1","v":"D"},3,{"$f":"$L$1","v":"D"},3,{"$f":"$L$1","v":"D"},3,{"$f":"$L$1","v":"D"},3,{"$f":"$L$1","v":"D"},3,{"$f":"$L$1","v":"D"},3,{"$f":"$L$1","v":"D"},3,{"$f":"$L$1","v":"D"},3,{"$f":"$L$1","v":"D"},3,{"$f":"$L$1","v":"D"},3,{"$f":"$L$1","v":"D"},{"$f":"$J$2","v":2},{"$f":"$L$1","v":"D"},2,{"$f":"$L$1","v":"D"},2,{"$f":"$L$1","v":"D"},2,{"$f":"$L$1","v":"D"},2,{"$f":"$M$1","v":"E"},{"$f":"$I$2","v":1},"E",{"$f":"$I$2","v":1},"E",{"$f":"$I$2","v":1},"E",{"$f":"$I$2","v":1},"E",{"$f":"$I$2","v":1}]
[null,null,null,null,"Gerona/Girona",{"$f":"$L$1","v":"D"},{"$f":"$J$2","v":2},143,{"$f":"$K$1","v":"C"},{"$f":"$J$2","v":2},{"$f":"$K$1","v":"C"},{"$f":"$J$2","v":2},{"$f":"$L$1","v":"D"},{"$f":"$J$2","v":2},{"$f":"$L$1","v":"D"},{"$f":"$J$2","v":2},{"$f":"$L$1","v":"D"},{"$f":"$J$2","v":2},{"$f":"$L$1","v":"D"},{"$f":"$J$2","v":2},{"$f":"$L$1","v":"D"},{"$f":"$J$2","v":2},{"$f":"$L$1","v":"D"},{"$f":"$J$2","v":2},{"$f":"$L$1","v":"D"},{"$f":"$J$2","v":2},{"$f":"$L$1","v":"D"},{"$f":"$J$2","v":2},{"$f":"$L$1","v":"D"},{"$f":"$J$2","v":2},{"$f":"$L$1","v":"D"},{"$f":"$J$2","v":2},{"$f":"$M$1","v":"E"},{"$f":"$I$2","v":1},{"$f":"$M$1","v":"E"},{"$f":"$I$2","v":1},{"$f":"$M$1","v":"E"},{"$f":"$I$2","v":1},{"$f":"$M$1","v":"E"},{"$f":"$I$2","v":1},{"$f":"$M$1","v":"E"},{"$f":"$I$2","v":1},{"$f":"$M$1","v":"E"},{"$f":"$I$2","v":1},{"$f":"$M$1","v":"E"},{"$f":"$I$2","v":1},{"$f":"$M$1","v":"E"},{"$f":"$I$2","v":1},{"$f":"$M$1","v":"E"},{"$f":"$I$2","v":1},{"$f":"$M$1","v":"E"},{"$f":"$I$2","v":1},{"$f":"$M$1","v":"E"},{"$f":"$I$2","v":1},{"$f":"$M$1","v":"E"},{"$f":"$I$2","v":1},{"$f":"$M$1","v":"E"},{"$f":"$I$2","v":1},{"$f":"$M$1","v":"E"},{"$f":"$I$2","v":1},null,null,null,null,null,null,null,null,null,null,null,null,"<200",null,null,">=200"]
[null,null,null,null,"Granada",{"$f":"$K$1","v":"C"},{"$f":"$K$2","v":3},754,{"$f":"$I$1","v":"A"},{"$f":"$L$2","v":4},{"$f":"$J$1","v":"B"},{"$f":"$L$2","v":4},{"$f":"$J$1","v":"B"},{"$f":"$L$2","v":4},{"$f":"$J$1","v":"B"},{"$f":"$L$2","v":4},{"$f":"$J$1","v":"B"},{"$f":"$L$2","v":4},{"$f":"$J$1","v":"B"},{"$f":"$L$2","v":4},{"$f":"$J$1","v":"B"},{"$f":"$L$2","v":4},{"$f":"$K$1","v":"C"},{"$f":"$L$2","v":4},"C",4,"C",4,"C",4,"C",4,{"$f":"$K$1","v":"C"},{"$f":"$K$2","v":3},"C",3,"C",3,"C",3,{"$f":"$L$1","v":"D"},{"$f":"$K$2","v":3},{"$f":"$L$1","v":"D"},3,{"$f":"$L$1","v":"D"},3,{"$f":"$L$1","v":"D"},3,{"$f":"$L$1","v":"D"},3,{"$f":"$L$1","v":"D"},3,{"$f":"$L$1","v":"D"},3,{"$f":"$L$1","v":"D"},3,{"$f":"$L$1","v":"D"},3,{"$f":"$M$1","v":"E"},{"$f":"$I$2","v":1},null,null,null,null,null,null,null,null,null,null,null,null,null,"<800","<1050",null,">=1050"]
[null,null,null,null,"Guadalajara",{"$f":"$L$1","v":"D"},{"$f":"$K$2","v":3},708,{"$f":"$L$1","v":"D"},{"$f":"$K$2","v":3},{"$f":"$L$1","v":"D"},{"$f":"$K$2","v":3},{"$f":"$L$1","v":"D"},{"$f":"$K$2","v":3},{"$f":"$L$1","v":"D"},{"$f":"$K$2","v":3},{"$f":"$L$1","v":"D"},{"$f":"$K$2","v":3},{"$f":"$L$1","v":"D"},{"$f":"$K$2","v":3},{"$f":"$L$1","v":"D"},{"$f":"$K$2","v":3},{"$f":"$L$1","v":"D"},{"$f":"$K$2","v":3},{"$f":"$L$1","v":"D"},{"$f":"$K$2","v":3},{"$f":"$L$1","v":"D"},{"$f":"$K$2","v":3},{"$f":"$L$1","v":"D"},{"$f":"$K$2","v":3},{"$f":"$L$1","v":"D"},{"$f":"$K$2","v":3},{"$f":"$L$1","v":"D"},{"$f":"$K$2","v":3},{"$f":"$L$1","v":"D"},{"$f":"$K$2","v":3},{"$f":"$L$1","v":"D"},{"$f":"$K$2","v":3},{"$f":"$L$1","v":"D"},{"$f":"$K$2","v":3},{"$f":"$L$1","v":"D"},{"$f":"$K$2","v":3},{"$f":"$L$1","v":"D"},{"$f":"$K$2","v":3},{"$f":"$L$1","v":"D"},{"$f":"$K$2","v":3},{"$f":"$L$1","v":"D"},{"$f":"$J$2","v":2},{"$f":"$M$1","v":"E"},{"$f":"$I$2","v":1},{"$f":"$M$1","v":"E"},{"$f":"$I$2","v":1},{"$f":"$M$1","v":"E"},{"$f":"$I$2","v":1},{"$f":"$M$1","v":"E"},{"$f":"$I$2","v":1},{"$f":"$M$1","v":"E"},{"$f":"$I$2","v":1},{"$f":"$M$1","v":"E"},{"$f":"$I$2","v":1},null,null,null,null,null,null,null,null,null,null,null,"<100",null,null,"<600",null,">=600"]
[null,null,null,null,"Huelva",{"$f":"$I$1","v":"A"},{"$f":"$L$2","v":4},50,{"$f":"$I$1","v":"A"},{"$f":"$L$2","v":4},{"$f":"$J$1","v":"B"},{"$f":"$L$2","v":4},{"$f":"$J$1","v":"B"},{"$f":"$L$2","v":4},{"$f":"$J$1","v":"B"},{"$f":"$K$2","v":3},"B",{"$f":"$K$2","v":3},"B",{"$f":"$K$2","v":3},"B",{"$f":"$K$2","v":3},{"$f":"$K$1","v":"C"},{"$f":"$K$2","v":3},"C",{"$f":"$K$2","v":3},"C",{"$f":"$K$2","v":3},"C",{"$f":"$K$2","v":3},"C",{"$f":"$K$2","v":3},"C",{"$f":"$K$2","v":3},"C",{"$f":"$K$2","v":3},"C",{"$f":"$K$2","v":3},"C",{"$f":"$K$2","v":3},{"$f":"$L$1","v":"D"},{"$f":"$K$2","v":3},{"$f":"$L$1","v":"D"},{"$f":"$K$2","v":3},{"$f":"$L$1","v":"D"},{"$f":"$K$2","v":3},{"$f":"$L$1","v":"D"},{"$f":"$K$2","v":3},{"$f":"$L$1","v":"D"},3,{"$f":"$L$1","v":"D"},3,{"$f":"$L$1","v":"D"},3,{"$f":"$L$1","v":"D"},3,{"$f":"$L$1","v":"D"},3,{"$f":"$L$1","v":"D"},3,null,null,null,null,null,null,null,null,null,null,null,null,null,"<950","<1000",null,">=1000"]
[null,null,null,null,"Huesca",{"$f":"$L$1","v":"D"},{"$f":"$J$2","v":2},432,{"$f":"$K$1","v":"C"},{"$f":"$K$2","v":3},"C",3,"C",3,"C",3,{"$f":"$L$1","v":"D"},{"$f":"$K$2","v":3},{"$f":"$L$1","v":"D"},{"$f":"$K$2","v":3},{"$f":"$L$1","v":"D"},{"$f":"$K$2","v":3},{"$f":"$L$1","v":"D"},{"$f":"$K$2","v":3},{"$f":"$L$1","v":"D"},{"$f":"$J$2","v":2},"D",2,"D",2,"D",2,"D",2,"D",2,{"$f":"$M$1","v":"E"},{"$f":"$I$2","v":1},{"$f":"$M$1","v":"E"},{"$f":"$I$2","v":1},{"$f":"$M$1","v":"E"},{"$f":"$I$2","v":1},{"$f":"$M$1","v":"E"},{"$f":"$I$2","v":1},{"$f":"$M$1","v":"E"},{"$f":"$I$2","v":1},{"$f":"$M$1","v":"E"},{"$f":"$I$2","v":1},{"$f":"$M$1","v":"E"},{"$f":"$I$2","v":1},{"$f":"$M$1","v":"E"},{"$f":"$I$2","v":1},{"$f":"$M$1","v":"E"},{"$f":"$I$2","v":1},{"$f":"$M$1","v":"E"},{"$f":"$I$2","v":1},{"$f":"$M$1","v":"E"},{"$f":"$I$2","v":1},{"$f":"$M$1","v":"E"},{"$f":"$I$2","v":1},null,null,null,null,null,null,null,null,null,null,null,null,null,null,null,"<400",">=400"]
[null,null,null,null,"Jaén",{"$f":"$K$1","v":"C"},{"$f":"$L$2","v":4},436,{"$f":"$J$1","v":"B"},{"$f":"$L$2","v":4},{"$f":"$J$1","v":"B"},{"$f":"$L$2","v":4},{"$f":"$J$1","v":"B"},{"$f":"$L$2","v":4},{"$f":"$J$1","v":"B"},{"$f":"$L$2","v":4},{"$f":"$J$1","v":"B"},{"$f":"$L$2","v":4},{"$f":"$J$1","v":"B"},{"$f":"$L$2","v":4},{"$f":"$J$1","v":"B"},{"$f":"$L$2","v":4},{"$f":"$K$1","v":"C"},{"$f":"$L$2","v":4},"C",4,"C",4,"C",4,"C",4,"C",4,"C",4,"C",4,{"$f":"$L$1","v":"D"},{"$f":"$K$2","v":3},"D",3,"D",3,"D",3,"D",3,"D",3,"D",3,"D",3,"D",3,{"$f":"$M$1","v":"E"},{"$f":"$I$2","v":1},{"$f":"$M$1","v":"E"},{"$f":"$I$2","v":1},null,null,null,null,null,null,null,null,null,null,"<200",null,null,"<400","<700",null,">=700"]
[null,null,null,null,"León",{"$f":"$M$1","v":"E"},{"$f":"$I$2","v":1},346,{"$f":"$M$1","v":"E"},{"$f":"$I$2","v":1},{"$f":"$M$1","v":"E"},{"$f":"$I$2","v":1},{"$f":"$M$1","v":"E"},{"$f":"$I$2","v":1},{"$f":"$M$1","v":"E"},{"$f":"$I$2","v":1},{"$f":"$M$1","v":"E"},{"$f":"$I$2","v":1},{"$f":"$M$1","v":"E"},{"$f":"$I$2","v":1},{"$f":"$M$1","v":"E"},{"$f":"$I$2","v":1},{"$f":"$M$1","v":"E"},{"$f":"$I$2","v":1},{"$f":"$M$1","v":"E"},{"$f":"$I$2","v":1},{"$f":"$M$1","v":"E"},{"$f":"$I$2","v":1},{"$f":"$M$1","v":"E"},{"$f":"$I$2","v":1},{"$f":"$M$1","v":"E"},{"$f":"$I$2","v":1},{"$f":"$M$1","v":"E"},{"$f":"$I$2","v":1},{"$f":"$M$1","v":"E"},{"$f":"$I$2","v":1},{"$f":"$M$1","v":"E"},{"$f":"$I$2","v":1},{"$f":"$M$1","v":"E"},{"$f":"$I$2","v":1},{"$f":"$M$1","v":"E"},{"$f":"$I$2","v":1},{"$f":"$M$1","v":"E"},{"$f":"$I$2","v":1},{"$f":"$M$1","v":"E"},{"$f":"$I$2","v":1},{"$f":"$M$1","v":"E"},{"$f":"$I$2","v":1},{"$f":"$M$1","v":"E"},{"$f":"$I$2","v":1},{"$f":"$M$1","v":"E"},{"$f":"$I$2","v":1},{"$f":"$M$1","v":"E"},{"$f":"$I$2","v":1},{"$f":"$M$1","v":"E"},{"$f":"$I$2","v":1},{"$f":"$M$1","v":"E"},{"$f":"$I$2","v":1},{"$f":"$M$1","v":"E"},{"$f":"$I$2","v":1},null,null,"<350","<750",null,null,null,"<1000",null,null,null,">=1000"]
[null,null,null,null,"Lérida/Lleida",{"$f":"$L$1","v":"D"},{"$f":"$K$2","v":3},131,{"$f":"$K$1","v":"C"},{"$f":"$K$2","v":3},{"$f":"$K$1","v":"C"},{"$f":"$K$2","v":3},{"$f":"$L$1","v":"D"},{"$f":"$K$2","v":3},{"$f":"$L$1","v":"D"},3,{"$f":"$L$1","v":"D"},3,{"$f":"$L$1","v":"D"},3,{"$f":"$L$1","v":"D"},3,{"$f":"$L$1","v":"D"},3,{"$f":"$L$1","v":"D"},3,{"$f":"$L$1","v":"D"},3,{"$f":"$L$1","v":"D"},3,{"$f":"$L$1","v":"D"},3,{"$f":"$M$1","v":"E"},{"$f":"$I$2","v":1},{"$f":"$M$1","v":"E"},{"$f":"$I$2","v":1},{"$f":"$M$1","v":"E"},{"$f":"$I$2","v":1},{"$f":"$M$1","v":"E"},{"$f":"$I$2","v":1},{"$f":"$M$1","v":"E"},{"$f":"$I$2","v":1},{"$f":"$M$1","v":"E"},{"$f":"$I$2","v":1},{"$f":"$M$1","v":"E"},{"$f":"$I$2","v":1},{"$f":"$M$1","v":"E"},{"$f":"$I$2","v":1},{"$f":"$M$1","v":"E"},{"$f":"$I$2","v":1},{"$f":"$M$1","v":"E"},{"$f":"$I$2","v":1},{"$f":"$M$1","v":"E"},{"$f":"$I$2","v":1},{"$f":"$M$1","v":"E"},{"$f":"$I$2","v":1},{"$f":"$M$1","v":"E"},{"$f":"$I$2","v":1},{"$f":"$M$1","v":"E"},{"$f":"$I$2","v":1},null,null,null,null,null,null,null,null,null,null,null,null,null,null,null,null,"<1250"]
[null,null,null,null,"Logroño",{"$f":"$L$1","v":"D"},{"$f":"$J$2","v":2},379,{"$f":"$K$1","v":"C"},{"$f":"$J$2","v":2},{"$f":"$K$1","v":"C"},2,{"$f":"$K$1","v":"C"},2,{"$f":"$K$1","v":"C"},2,{"$f":"$L$1","v":"D"},{"$f":"$J$2","v":2},{"$f":"$L$1","v":"D"},2,{"$f":"$L$1","v":"D"},2,{"$f":"$L$1","v":"D"},2,{"$f":"$L$1","v":"D"},2,{"$f":"$L$1","v":"D"},2,{"$f":"$L$1","v":"D"},2,{"$f":"$L$1","v":"D"},2,{"$f":"$L$1","v":"D"},2,{"$f":"$L$1","v":"D"},2,{"$f":"$M$1","v":"E"},{"$f":"$I$2","v":1},{"$f":"$M$1","v":"E"},{"$f":"$I$2","v":1},{"$f":"$M$1","v":"E"},{"$f":"$I$2","v":1},{"$f":"$M$1","v":"E"},{"$f":"$I$2","v":1},{"$f":"$M$1","v":"E"},{"$f":"$I$2","v":1},{"$f":"$M$1","v":"E"},{"$f":"$I$2","v":1},{"$f":"$M$1","v":"E"},{"$f":"$I$2","v":1},{"$f":"$M$1","v":"E"},{"$f":"$I$2","v":1},{"$f":"$M$1","v":"E"},{"$f":"$I$2","v":1},{"$f":"$M$1","v":"E"},{"$f":"$I$2","v":1},{"$f":"$M$1","v":"E"},{"$f":"$I$2","v":1},{"$f":"$M$1","v":"E"},{"$f":"$I$2","v":1},null,null,null,null,null,null,null,null,null,null,"<100",null,null,"<600",null,null,">=600"]
[null,null,null,null,"Lugo",{"$f":"$L$1","v":"D"},{"$f":"$I$2","v":1},412,{"$f":"$L$1","v":"D"},{"$f":"$I$2","v":1},"D",1,"D",1,"D",1,"D",1,"D",1,"D",1,"D",1,"D",1,"D",1,{"$f":"$M$1","v":"E"},{"$f":"$I$2","v":1},"E",1,"E",1,"E",1,"E",1,"E",1,"E",1,"E",1,"E",1,"E",1,"E",1,"E",1,"E",1,"E",1,"E",1,"E",1]
[null,null,null,null,"Madrid",{"$f":"$L$1","v":"D"},{"$f":"$K$2","v":3},589,{"$f":"$K$1","v":"C"},{"$f":"$K$2","v":3},{"$f":"$K$1","v":"C"},{"$f":"$K$2","v":3},{"$f":"$K$1","v":"C"},{"$f":"$K$2","v":3},{"$f":"$K$1","v":"C"},{"$f":"$K$2","v":3},{"$f":"$K$1","v":"C"},{"$f":"$K$2","v":3},{"$f":"$K$1","v":"C"},{"$f":"$K$2","v":3},{"$f":"$K$1","v":"C"},{"$f":"$K$2","v":3},{"$f":"$K$1","v":"C"},{"$f":"$K$2","v":3},{"$f":"$K$1","v":"C"},{"$f":"$K$2","v":3},{"$f":"$K$1","v":"C"},{"$f":"$K$2","v":3},{"$f":"$L$1","v":"D"},{"$f":"$K$2","v":3},{"$f":"$L$1","v":"D"},3,{"$f":"$L$1","v":"D"},3,{"$f":"$L$1","v":"D"},3,{"$f":"$L$1","v":"D"},3,{"$f":"$L$1","v":"D"},3,{"$f":"$L$1","v":"D"},3,{"$f":"$L$1","v":"D"},3,{"$f":"$L$1","v":"D"},3,{"$f":"$L$1","v":"D"},{"$f":"$J$2","v":2},{"$f":"$M$1","v":"E"},{"$f":"$I$2","v":1},{"$f":"$M$1","v":"E"},{"$f":"$I$2","v":1},{"$f":"$M$1","v":"E"},{"$f":"$I$2","v":1},{"$f":"$M$1","v":"E"},{"$f":"$I$2","v":1},{"$f":"$M$1","v":"E"},{"$f":"$I$2","v":1},{"$f":"$M$1","v":"E"},{"$f":"$I$2","v":1},null,null,null,null,null,null,null,null,null,null,null,null,null,null,null,"<500",">=500"]
[null,null,null,null,"Málaga",{"$f":"$I$1","v":"A"},{"$f":"$K$2","v":3},0,{"$f":"$J$1","v":"B"},{"$f":"$K$2","v":3},"B",{"$f":"$K$2","v":3},"B",{"$f":"$K$2","v":3},"B",{"$f":"$K$2","v":3},"B",{"$f":"$K$2","v":3},"B",{"$f":"$K$2","v":3},{"$f":"$K$1","v":"C"},{"$f":"$K$2","v":3},{"$f":"$K$1","v":"C"},{"$f":"$K$2","v":3},{"$f":"$K$1","v":"C"},{"$f":"$K$2","v":3},{"$f":"$K$1","v":"C"},{"$f":"$K$2","v":3},{"$f":"$K$1","v":"C"},3,"C",3,"C",3,"C",3,{"$f":"$L$1","v":"D"},3,{"$f":"$L$1","v":"D"},3,{"$f":"$L$1","v":"D"},3,{"$f":"$L$1","v":"D"},3,{"$f":"$L$1","v":"D"},3,{"$f":"$L$1","v":"D"},{"$f":"$K$2","v":3},{"$f":"$L$1","v":"D"},3,{"$f":"$L$1","v":"D"},3,{"$f":"$L$1","v":"D"},3,"D",3,"D",3,"D",3,null,null,null,null,null,null,null,null,null,null,"<500",null,null,"<950","<1000",null,">=1000"]
[null,null,null,null,"Melilla",{"$f":"$I$1","v":"A"},{"$f":"$K$2","v":3},130,{"$f":"$I$1","v":"A"},{"$f":"$K$2","v":3},"A",{"$f":"$K$2","v":3},"A",{"$f":"$K$2","v":3},"A",{"$f":"$K$2","v":3},"A",{"$f":"$K$2","v":3},"A",{"$f":"$K$2","v":3},"A",{"$f":"$K$2","v":3},"A",{"$f":"$K$2","v":3},"A",{"$f":"$K$2","v":3},"A",{"$f":"$K$2","v":3},"A",3,"A",3,"A",3,"A",3,"A",3,"A",3,"A",3,"A",3,"A",3,"A",3,"A",3,"A",3,"A",3,"A",3,"A",3,"A",3,null,null,null,null,null,null,"<300",null,null,null,"<700",null,null,">=700"]
[null,null,null,null,"Murcia",{"$f":"$J$1","v":"B"},{"$f":"$K$2","v":3},25,{"$f":"$J$1","v":"B"},{"$f":"$K$2","v":3},{"$f":"$J$1","v":"B"},{"$f":"$K$2","v":3},{"$f":"$K$1","v":"C"},{"$f":"$K$2","v":3},{"$f":"$K$1","v":"C"},{"$f":"$K$2","v":3},{"$f":"$K$1","v":"C"},{"$f":"$K$2","v":3},{"$f":"$K$1","v":"C"},{"$f":"$K$2","v":3},{"$f":"$K$1","v":"C"},{"$f":"$K$2","v":3},{"$f":"$K$1","v":"C"},{"$f":"$K$2","v":3},{"$f":"$K$1","v":"C"},{"$f":"$K$2","v":3},{"$f":"$K$1","v":"C"},{"$f":"$K$2","v":3},{"$f":"$K$1","v":"C"},3,{"$f":"$L$1","v":"D"},3,"D",3,"D",3,"D",3,"D",3,"D",3,"D",3,"D",3,"D",3,"D",3,"D",3,"D",3,"D",3,"D",3,"D",3]
[null,null,null,null,"Orense/Ourense",{"$f":"$L$1","v":"D"},{"$f":"$J$2","v":2},327,{"$f":"$K$1","v":"C"},{"$f":"$K$2","v":3},{"$f":"$K$1","v":"C"},{"$f":"$K$2","v":3},{"$f":"$K$1","v":"C"},{"$f":"$K$2","v":3},{"$f":"$K$1","v":"C"},{"$f":"$J$2","v":2},{"$f":"$K$1","v":"C"},{"$f":"$J$2","v":2},{"$f":"$K$1","v":"C"},{"$f":"$J$2","v":2},{"$f":"$L$1","v":"D"},{"$f":"$J$2","v":2},"D",2,"D",2,"D",2,"D",2,"D",2,"D",2,"D",2,"D",2,"D",2,{"$f":"$M$1","v":"E"},{"$f":"$I$2","v":1},"E",1,"E",1,"E",1,"E",1,"E",1,"E",1,"E",1,"E",1,"E",1,null,null,null,null,null,null,null,null,null,null,null,"<100",null,null,"<300","<600",">=600"]
[null,null,null,null,"Oviedo",{"$f":"$L$1","v":"D"},{"$f":"$I$2","v":1},214,{"$f":"$K$1","v":"C"},{"$f":"$I$2","v":1},{"$f":"$L$1","v":"D"},{"$f":"$I$2","v":1},{"$f":"$L$1","v":"D"},{"$f":"$I$2","v":1},{"$f":"$L$1","v":"D"},{"$f":"$I$2","v":1},{"$f":"$L$1","v":"D"},{"$f":"$I$2","v":1},{"$f":"$L$1","v":"D"},{"$f":"$I$2","v":1},{"$f":"$L$1","v":"D"},{"$f":"$I$2","v":1},{"$f":"$L$1","v":"D"},{"$f":"$I$2","v":1},{"$f":"$L$1","v":"D"},{"$f":"$I$2","v":1},{"$f":"$L$1","v":"D"},{"$f":"$I$2","v":1},{"$f":"$L$1","v":"D"},{"$f":"$I$2","v":1},{"$f":"$M$1","v":"E"},{"$f":"$I$2","v":1},{"$f":"$M$1","v":"E"},{"$f":"$I$2","v":1},{"$f":"$M$1","v":"E"},{"$f":"$I$2","v":1},{"$f":"$M$1","v":"E"},{"$f":"$I$2","v":1},{"$f":"$M$1","v":"E"},{"$f":"$I$2","v":1},{"$f":"$M$1","v":"E"},{"$f":"$I$2","v":1},{"$f":"$M$1","v":"E"},{"$f":"$I$2","v":1},{"$f":"$M$1","v":"E"},{"$f":"$I$2","v":1},{"$f":"$M$1","v":"E"},{"$f":"$I$2","v":1},{"$f":"$M$1","v":"E"},{"$f":"$I$2","v":1},{"$f":"$M$1","v":"E"},{"$f":"$I$2","v":1},{"$f":"$M$1","v":"E"},{"$f":"$I$2","v":1},{"$f":"$M$1","v":"E"},{"$f":"$I$2","v":1},{"$f":"$M$1","v":"E"},{"$f":"$I$2","v":1},{"$f":"$M$1","v":"E"},{"$f":"$I$2","v":1},null,null,null,null,null,null,null,null,null,null,"<150","<300",null,null,"<800",null,">=800"]
[null,null,null,null,"Palencia",{"$f":"$L$1","v":"D"},{"$f":"$I$2","v":1},722,{"$f":"$L$1","v":"D"},{"$f":"$I$2","v":1},{"$f":"$L$1","v":"D"},{"$f":"$I$2","v":1},{"$f":"$L$1","v":"D"},{"$f":"$I$2","v":1},{"$f":"$L$1","v":"D"},{"$f":"$I$2","v":1},{"$f":"$L$1","v":"D"},{"$f":"$I$2","v":1},{"$f":"$L$1","v":"D"},{"$f":"$I$2","v":1},{"$f":"$L$1","v":"D"},{"$f":"$I$2","v":1},{"$f":"$L$1","v":"D"},{"$f":"$I$2","v":1},{"$f":"$L$1","v":"D"},{"$f":"$I$2","v":1},{"$f":"$L$1","v":"D"},{"$f":"$I$2","v":1},{"$f":"$L$1","v":"D"},{"$f":"$I$2","v":1},{"$f":"$L$1","v":"D"},{"$f":"$I$2","v":1},"D",{"$f":"$I$2","v":1},"D",{"$f":"$I$2","v":1},"D",{"$f":"$I$2","v":1},"D",{"$f":"$I$2","v":1},{"$f":"$M$1","v":"E"},{"$f":"$I$2","v":1},{"$f":"$M$1","v":"E"},{"$f":"$I$2","v":1},{"$f":"$M$1","v":"E"},{"$f":"$I$2","v":1},{"$f":"$M$1","v":"E"},{"$f":"$I$2","v":1},{"$f":"$M$1","v":"E"},{"$f":"$I$2","v":1},{"$f":"$M$1","v":"E"},{"$f":"$I$2","v":1},{"$f":"$M$1","v":"E"},{"$f":"$I$2","v":1},{"$f":"$M$1","v":"E"},{"$f":"$I$2","v":1},{"$f":"$M$1","v":"E"},{"$f":"$I$2","v":1},{"$f":"$M$1","v":"E"},{"$f":"$I$2","v":1}]
[null,null,null,null,"Palmas de Gran  Canaria, Las","a",{"$f":"$K$2","v":3},114,{"$f":"$F$59","v":"a"},{"$f":"$K$2","v":3},{"$f":"$F$59","v":"a"},{"$f":"$K$2","v":3},{"$f":"$F$59","v":"a"},{"$f":"$K$2","v":3},{"$f":"$F$59","v":"a"},{"$f":"$K$2","v":3},{"$f":"$F$59","v":"a"},{"$f":"$K$2","v":3},{"$f":"$F$59","v":"a"},{"$f":"$K$2","v":3},{"$f":"$F$59","v":"a"},{"$f":"$K$2","v":3},{"$f":"$I$1","v":"A"},{"$f":"$J$2","v":2},"A",2,"A",2,"A",2,"A",2,"A",2,"A",2,"A",2,{"$f":"$J$1","v":"B"},{"$f":"$J$2","v":2},{"$f":"$J$1","v":"B"},2,{"$f":"$J$1","v":"B"},2,{"$f":"$J$1","v":"B"},2,{"$f":"$J$1","v":"B"},2,{"$f":"$K$1","v":"C"},{"$f":"$J$2","v":2},"C",{"$f":"$J$2","v":2},"C",{"$f":"$J$2","v":2},"C",{"$f":"$J$2","v":2},"C",{"$f":"$J$2","v":2},"C",{"$f":"$J$2","v":2},null,null,null,null,null,null,null,null,null,null,null,null,null,null,null,"<800",">=800"]
[null,null,null,null,"Palma de Mallorca",{"$f":"$J$1","v":"B"},{"$f":"$K$2","v":3},1,{"$f":"$J$1","v":"B"},{"$f":"$K$2","v":3},"B",3,"B",3,"B",3,"B",3,{"$f":"$K$1","v":"C"},{"$f":"$K$2","v":3},{"$f":"$K$1","v":"C"},3,{"$f":"$K$1","v":"C"},3,{"$f":"$K$1","v":"C"},3,{"$f":"$K$1","v":"C"},3,{"$f":"$K$1","v":"C"},3,"C",3,"C",3,"C",3,"C",3,"C",3,"C",3,"C",3,"C",3,"C",3,"C",3,"C",3,"C",3,"C",3,"C",3,"C",3]
[null,null,null,null,"Pamplona/Iruña",{"$f":"$L$1","v":"D"},{"$f":"$I$2","v":1},456,{"$f":"$K$1","v":"C"},{"$f":"$J$2","v":2},{"$f":"$K$1","v":"C"},{"$f":"$J$2","v":2},{"$f":"$L$1","v":"D"},{"$f":"$J$2","v":2},"D",2,"D",2,"D",2,{"$f":"$L$1","v":"D"},{"$f":"$I$2","v":1},{"$f":"$L$1","v":"D"},{"$f":"$I$2","v":1},{"$f":"$L$1","v":"D"},{"$f":"$I$2","v":1},{"$f":"$L$1","v":"D"},{"$f":"$I$2","v":1},{"$f":"$L$1","v":"D"},{"$f":"$I$2","v":1},{"$f":"$L$1","v":"D"},{"$f":"$I$2","v":1},{"$f":"$M$1","v":"E"},{"$f":"$I$2","v":1},{"$f":"$M$1","v":"E"},{"$f":"$I$2","v":1},{"$f":"$M$1","v":"E"},{"$f":"$I$2","v":1},{"$f":"$M$1","v":"E"},{"$f":"$I$2","v":1},{"$f":"$M$1","v":"E"},{"$f":"$I$2","v":1},{"$f":"$M$1","v":"E"},{"$f":"$I$2","v":1},{"$f":"$M$1","v":"E"},{"$f":"$I$2","v":1},{"$f":"$M$1","v":"E"},{"$f":"$I$2","v":1},{"$f":"$M$1","v":"E"},{"$f":"$I$2","v":1},{"$f":"$M$1","v":"E"},{"$f":"$I$2","v":1},{"$f":"$M$1","v":"E"},{"$f":"$I$2","v":1},{"$f":"$M$1","v":"E"},{"$f":"$I$2","v":1},{"$f":"$M$1","v":"E"},{"$f":"$I$2","v":1},{"$f":"$M$1","v":"E"},{"$f":"$I$2","v":1}]
[null,null,null,null,"Pontevedra",{"$f":"$K$1","v":"C"},{"$f":"$I$2","v":1},77,{"$f":"$K$1","v":"C"},{"$f":"$I$2","v":1},{"$f":"$K$1","v":"C"},1,{"$f":"$K$1","v":"C"},1,{"$f":"$K$1","v":"C"},1,{"$f":"$K$1","v":"C"},1,{"$f":"$K$1","v":"C"},1,{"$f":"$K$1","v":"C"},1,{"$f":"$L$1","v":"D"},{"$f":"$I$2","v":1},{"$f":"$L$1","v":"D"},{"$f":"$I$2","v":1},{"$f":"$L$1","v":"D"},{"$f":"$I$2","v":1},{"$f":"$L$1","v":"D"},{"$f":"$I$2","v":1},{"$f":"$L$1","v":"D"},{"$f":"$I$2","v":1},{"$f":"$L$1","v":"D"},{"$f":"$I$2","v":1},{"$f":"$L$1","v":"D"},{"$f":"$I$2","v":1},{"$f":"$L$1","v":"D"},{"$f":"$I$2","v":1},{"$f":"$L$1","v":"D"},{"$f":"$I$2","v":1},{"$f":"$L$1","v":"D"},{"$f":"$I$2","v":1},{"$f":"$L$1","v":"D"},{"$f":"$I$2","v":1},{"$f":"$L$1","v":"D"},{"$f":"$I$2","v":1},{"$f":"$L$1","v":"D"},{"$f":"$I$2","v":1},"D",{"$f":"$I$2","v":1},"D",{"$f":"$I$2","v":1},"D",{"$f":"$I$2","v":1},"D",{"$f":"$I$2","v":1},"D",{"$f":"$I$2","v":1},"D",{"$f":"$I$2","v":1},null,null,null,null,null,null,null,null,null,null,null,null,"<350",null,null,">=350"]
[null,null,null,null,"Salamanca",{"$f":"$L$1","v":"D"},{"$f":"$J$2","v":2},770,{"$f":"$L$1","v":"D"},{"$f":"$J$2","v":2},"D",2,"D",2,"D",2,"D",2,"D",2,"D",2,"D",2,"D",2,"D",2,"D",2,"D",2,"D",2,"D",2,"D",2,"D",2,{"$f":"$M$1","v":"E"},{"$f":"$I$2","v":1},{"$f":"$M$1","v":"E"},{"$f":"$I$2","v":1},{"$f":"$M$1","v":"E"},{"$f":"$I$2","v":1},{"$f":"$M$1","v":"E"},{"$f":"$I$2","v":1},{"$f":"$M$1","v":"E"},{"$f":"$I$2","v":1},{"$f":"$M$1","v":"E"},{"$f":"$I$2","v":1},{"$f":"$M$1","v":"E"},{"$f":"$I$2","v":1},{"$f":"$M$1","v":"E"},{"$f":"$I$2","v":1},{"$f":"$M$1","v":"E"},{"$f":"$I$2","v":1},{"$f":"$M$1","v":"E"},{"$f":"$I$2","v":1},null,null,null,null,null,null,null,null,null,null,null,null,null,null,"<800",null,">=800"]
[null,null,null,null,"San Sebastián/Donostia",{"$f":"$L$1","v":"D"},{"$f":"$I$2","v":1},5,{"$f":"$L$1","v":"D"},{"$f":"$I$2","v":1},{"$f":"$L$1","v":"D"},{"$f":"$I$2","v":1},{"$f":"$L$1","v":"D"},{"$f":"$I$2","v":1},{"$f":"$L$1","v":"D"},{"$f":"$I$2","v":1},{"$f":"$L$1","v":"D"},{"$f":"$I$2","v":1},{"$f":"$L$1","v":"D"},{"$f":"$I$2","v":1},{"$f":"$L$1","v":"D"},{"$f":"$I$2","v":1},{"$f":"$L$1","v":"D"},{"$f":"$I$2","v":1},{"$f":"$M$1","v":"E"},{"$f":"$I$2","v":1},{"$f":"$M$1","v":"E"},{"$f":"$I$2","v":1},{"$f":"$M$1","v":"E"},{"$f":"$I$2","v":1},{"$f":"$M$1","v":"E"},{"$f":"$I$2","v":1},{"$f":"$M$1","v":"E"},{"$f":"$I$2","v":1},{"$f":"$M$1","v":"E"},{"$f":"$I$2","v":1},{"$f":"$M$1","v":"E"},{"$f":"$I$2","v":1},{"$f":"$M$1","v":"E"},{"$f":"$I$2","v":1},{"$f":"$M$1","v":"E"},{"$f":"$I$2","v":1},{"$f":"$M$1","v":"E"},{"$f":"$I$2","v":1},{"$f":"$M$1","v":"E"},{"$f":"$I$2","v":1},{"$f":"$M$1","v":"E"},{"$f":"$I$2","v":1},{"$f":"$M$1","v":"E"},{"$f":"$I$2","v":1},{"$f":"$M$1","v":"E"},{"$f":"$I$2","v":1},{"$f":"$M$1","v":"E"},{"$f":"$I$2","v":1},{"$f":"$M$1","v":"E"},{"$f":"$I$2","v":1},{"$f":"$M$1","v":"E"},{"$f":"$I$2","v":1},{"$f":"$M$1","v":"E"},{"$f":"$I$2","v":1}]
[null,null,null,null,"Santa Cruz de Tenerife",{"$f":"$F$59","v":"a"},{"$f":"$K$2","v":3},0,{"$f":"$F$59","v":"a"},{"$f":"$K$2","v":3},{"$f":"$F$59","v":"a"},{"$f":"$K$2","v":3},{"$f":"$F$59","v":"a"},{"$f":"$K$2","v":3},{"$f":"$F$59","v":"a"},{"$f":"$K$2","v":3},{"$f":"$F$59","v":"a"},{"$f":"$K$2","v":3},{"$f":"$F$59","v":"a"},{"$f":"$K$2","v":3},{"$f":"$F$59","v":"a"},{"$f":"$K$2","v":3},{"$f":"$I$1","v":"A"},{"$f":"$J$2","v":2},"A",2,"A",2,"A",2,"A",2,"A",2,"A",2,"A",2,{"$f":"$J$1","v":"B"},{"$f":"$J$2","v":2},{"$f":"$J$1","v":"B"},2,{"$f":"$J$1","v":"B"},2,{"$f":"$J$1","v":"B"},2,{"$f":"$J$1","v":"B"},2,{"$f":"$K$1","v":"C"},{"$f":"$J$2","v":2},"C",{"$f":"$J$2","v":2},"C",{"$f":"$J$2","v":2},"C",{"$f":"$J$2","v":2},"C",{"$f":"$J$2","v":2},"C",{"$f":"$J$2","v":2}]
[null,null,null,null,"Santander",{"$f":"$K$1","v":"C"},{"$f":"$I$2","v":1},1,{"$f":"$K$1","v":"C"},{"$f":"$I$2","v":1},{"$f":"$K$1","v":"C"},{"$f":"$I$2","v":1},{"$f":"$K$1","v":"C"},{"$f":"$I$2","v":1},{"$f":"$L$1","v":"D"},{"$f":"$I$2","v":1},{"$f":"$L$1","v":"D"},{"$f":"$I$2","v":1},{"$f":"$L$1","v":"D"},{"$f":"$I$2","v":1},{"$f":"$L$1","v":"D"},{"$f":"$I$2","v":1},{"$f":"$L$1","v":"D"},{"$f":"$I$2","v":1},{"$f":"$L$1","v":"D"},{"$f":"$I$2","v":1},{"$f":"$L$1","v":"D"},{"$f":"$I$2","v":1},{"$f":"$L$1","v":"D"},{"$f":"$I$2","v":1},{"$f":"$L$1","v":"D"},{"$f":"$I$2","v":1},{"$f":"$L$1","v":"D"},{"$f":"$I$2","v":1},{"$f":"$M$1","v":"E"},{"$f":"$I$2","v":1},{"$f":"$M$1","v":"E"},{"$f":"$I$2","v":1},{"$f":"$M$1","v":"E"},{"$f":"$I$2","v":1},{"$f":"$M$1","v":"E"},{"$f":"$I$2","v":1},{"$f":"$M$1","v":"E"},{"$f":"$I$2","v":1},{"$f":"$M$1","v":"E"},{"$f":"$I$2","v":1},{"$f":"$M$1","v":"E"},{"$f":"$I$2","v":1},{"$f":"$M$1","v":"E"},{"$f":"$I$2","v":1},{"$f":"$M$1","v":"E"},{"$f":"$I$2","v":1},{"$f":"$M$1","v":"E"},{"$f":"$I$2","v":1},{"$f":"$M$1","v":"E"},{"$f":"$I$2","v":1},{"$f":"$M$1","v":"E"},{"$f":"$I$2","v":1},{"$f":"$M$1","v":"E"},{"$f":"$I$2","v":1},null,null,null,null,null,null,null,null,null,null,null,null,null,null,"<1000",null,">=1000"]
[null,null,null,null,"Segovia",{"$f":"$L$1","v":"D"},{"$f":"$J$2","v":2},1013,{"$f":"$L$1","v":"D"},{"$f":"$J$2","v":2},{"$f":"$L$1","v":"D"},{"$f":"$J$2","v":2},{"$f":"$L$1","v":"D"},{"$f":"$J$2","v":2},{"$f":"$L$1","v":"D"},{"$f":"$J$2","v":2},{"$f":"$L$1","v":"D"},{"$f":"$J$2","v":2},{"$f":"$L$1","v":"D"},{"$f":"$J$2","v":2},{"$f":"$L$1","v":"D"},{"$f":"$J$2","v":2},{"$f":"$L$1","v":"D"},{"$f":"$J$2","v":2},{"$f":"$L$1","v":"D"},{"$f":"$J$2","v":2},{"$f":"$L$1","v":"D"},{"$f":"$J$2","v":2},{"$f":"$L$1","v":"D"},{"$f":"$J$2","v":2},{"$f":"$L$1","v":"D"},{"$f":"$J$2","v":2},{"$f":"$L$1","v":"D"},{"$f":"$J$2","v":2},{"$f":"$L$1","v":"D"},{"$f":"$J$2","v":2},{"$f":"$L$1","v":"D"},{"$f":"$J$2","v":2},{"$f":"$L$1","v":"D"},{"$f":"$J$2","v":2},{"$f":"$L$1","v":"D"},{"$f":"$J$2","v":2},{"$f":"$L$1","v":"D"},{"$f":"$J$2","v":2},{"$f":"$L$1","v":"D"},{"$f":"$J$2","v":2},{"$f":"$L$1","v":"D"},{"$f":"$J$2","v":2},{"$f":"$M$1","v":"E"},{"$f":"$I$2","v":1},{"$f":"$M$1","v":"E"},{"$f":"$I$2","v":1},{"$f":"$M$1","v":"E"},{"$f":"$I$2","v":1},{"$f":"$M$1","v":"E"},{"$f":"$I$2","v":1},{"$f":"$M$1","v":"E"},{"$f":"$I$2","v":1},{"$f":"$M$1","v":"E"},{"$f":"$I$2","v":1},null,null,null,null,null,"<200",null,null,null,">=200"]
[null,null,null,null,"Sevilla",{"$f":"$J$1","v":"B"},{"$f":"$L$2","v":4},9,{"$f":"$J$1","v":"B"},{"$f":"$L$2","v":4},{"$f":"$J$1","v":"B"},{"$f":"$L$2","v":4},{"$f":"$J$1","v":"B"},{"$f":"$L$2","v":4},{"$f":"$J$1","v":"B"},{"$f":"$L$2","v":4},{"$f":"$K$1","v":"C"},{"$f":"$L$2","v":4},{"$f":"$K$1","v":"C"},{"$f":"$L$2","v":4},{"$f":"$K$1","v":"C"},{"$f":"$L$2","v":4},{"$f":"$K$1","v":"C"},{"$f":"$L$2","v":4},{"$f":"$K$1","v":"C"},{"$f":"$L$2","v":4},{"$f":"$K$1","v":"C"},{"$f":"$L$2","v":4},{"$f":"$K$1","v":"C"},{"$f":"$L$2","v":4},{"$f":"$K$1","v":"C"},{"$f":"$L$2","v":4},{"$f":"$K$1","v":"C"},{"$f":"$L$2","v":4},{"$f":"$K$1","v":"C"},{"$f":"$L$2","v":4},{"$f":"$K$1","v":"C"},{"$f":"$L$2","v":4},{"$f":"$K$1","v":"C"},{"$f":"$L$2","v":4},{"$f":"$K$1","v":"C"},{"$f":"$L$2","v":4},{"$f":"$K$1","v":"C"},{"$f":"$L$2","v":4},{"$f":"$K$1","v":"C"},{"$f":"$L$2","v":4},{"$f":"$K$1","v":"C"},{"$f":"$L$2","v":4},{"$f":"$K$1","v":"C"},{"$f":"$L$2","v":4},{"$f":"$K$1","v":"C"},{"$f":"$L$2","v":4},{"$f":"$K$1","v":"C"},{"$f":"$L$2","v":4},{"$f":"$K$1","v":"C"},{"$f":"$L$2","v":4},{"$f":"$K$1","v":"C"},{"$f":"$L$2","v":4},{"$f":"$K$1","v":"C"},{"$f":"$L$2","v":4},null,null,null,null,null,null,null,null,null,null,null,null,null,null,"<750","<800",">=800"]
[null,null,null,null,"Soria",{"$f":"$M$1","v":"E"},{"$f":"$I$2","v":1},984,{"$f":"$L$1","v":"D"},{"$f":"$J$2","v":2},{"$f":"$L$1","v":"D"},{"$f":"$J$2","v":2},{"$f":"$L$1","v":"D"},{"$f":"$J$2","v":2},{"$f":"$L$1","v":"D"},{"$f":"$J$2","v":2},{"$f":"$L$1","v":"D"},{"$f":"$J$2","v":2},{"$f":"$L$1","v":"D"},{"$f":"$J$2","v":2},{"$f":"$L$1","v":"D"},{"$f":"$J$2","v":2},{"$f":"$L$1","v":"D"},{"$f":"$J$2","v":2},{"$f":"$L$1","v":"D"},{"$f":"$J$2","v":2},{"$f":"$L$1","v":"D"},{"$f":"$J$2","v":2},{"$f":"$L$1","v":"D"},{"$f":"$J$2","v":2},{"$f":"$L$1","v":"D"},{"$f":"$J$2","v":2},{"$f":"$L$1","v":"D"},{"$f":"$J$2","v":2},{"$f":"$L$1","v":"D"},{"$f":"$J$2","v":2},{"$f":"$L$1","v":"D"},{"$f":"$J$2","v":2},{"$f":"$L$1","v":"D"},{"$f":"$I$2","v":1},{"$f":"$M$1","v":"E"},{"$f":"$I$2","v":1},{"$f":"$M$1","v":"E"},{"$f":"$I$2","v":1},{"$f":"$M$1","v":"E"},{"$f":"$I$2","v":1},{"$f":"$M$1","v":"E"},{"$f":"$I$2","v":1},{"$f":"$M$1","v":"E"},{"$f":"$I$2","v":1},{"$f":"$M$1","v":"E"},{"$f":"$I$2","v":1},{"$f":"$M$1","v":"E"},{"$f":"$I$2","v":1},{"$f":"$M$1","v":"E"},{"$f":"$I$2","v":1},{"$f":"$M$1","v":"E"},{"$f":"$I$2","v":1},{"$f":"$M$1","v":"E"},{"$f":"$I$2","v":1},null,null,null,null,null,null,"<50",null,null,null,"<500",null,null,">=500"]
[null,null,null,null,"Tarragona",{"$f":"$J$1","v":"B"},{"$f":"$K$2","v":3},1,{"$f":"$J$1","v":"B"},{"$f":"$K$2","v":3},{"$f":"$K$1","v":"C"},{"$f":"$K$2","v":3},"C",{"$f":"$K$2","v":3},"C",{"$f":"$K$2","v":3},"C",{"$f":"$K$2","v":3},"C",{"$f":"$K$2","v":3},"C",{"$f":"$K$2","v":3},"C",{"$f":"$K$2","v":3},"C",{"$f":"$K$2","v":3},"C",{"$f":"$K$2","v":3},"D",{"$f":"$K$2","v":3},"D",3,"D",3,"D",3,"D",3,"D",3,{"$f":"$L$1","v":"D"},3,{"$f":"$L$1","v":"D"},3,{"$f":"$L$1","v":"D"},3,{"$f":"$L$1","v":"D"},3,{"$f":"$L$1","v":"D"},3,"D",3,"D",3,"D",3,"D",3,"D",3,null,null,null,null,null,null,null,null,null,null,"<450","<500",null,null,"<1000",null,">=1000"]
[null,null,null,null,"Teruel",{"$f":"$L$1","v":"D"},{"$f":"$J$2","v":2},995,"C",{"$f":"$K$2","v":3},"C",{"$f":"$K$2","v":3},"C",{"$f":"$K$2","v":3},"C",{"$f":"$K$2","v":3},"C",{"$f":"$K$2","v":3},"C",{"$f":"$K$2","v":3},"C",{"$f":"$K$2","v":3},"C",{"$f":"$K$2","v":3},"C",{"$f":"$K$2","v":3},"C",{"$f":"$J$2","v":2},"D",{"$f":"$J$2","v":2},"D",{"$f":"$J$2","v":2},"D",{"$f":"$J$2","v":2},"D",{"$f":"$J$2","v":2},"D",{"$f":"$J$2","v":2},"D",{"$f":"$J$2","v":2},{"$f":"$L$1","v":"D"},{"$f":"$J$2","v":2},{"$f":"$L$1","v":"D"},{"$f":"$J$2","v":2},{"$f":"$L$1","v":"D"},{"$f":"$J$2","v":2},{"$f":"$L$1","v":"D"},{"$f":"$J$2","v":2},{"$f":"$M$1","v":"E"},{"$f":"$I$2","v":1},{"$f":"$M$1","v":"E"},{"$f":"$I$2","v":1},{"$f":"$M$1","v":"E"},{"$f":"$I$2","v":1},{"$f":"$M$1","v":"E"},{"$f":"$I$2","v":1},{"$f":"$M$1","v":"E"},{"$f":"$I$2","v":1},{"$f":"$M$1","v":"E"},{"$f":"$I$2","v":1},null,null,null,null,null,null,null,null,null,"<500",null,null,null,">=500"]
[null,null,null,null,"Toledo",{"$f":"$K$1","v":"C"},{"$f":"$L$2","v":4},445,"C",{"$f":"$L$2","v":4},"C",{"$f":"$L$2","v":4},"C",{"$f":"$L$2","v":4},"C",{"$f":"$L$2","v":4},"C",{"$f":"$L$2","v":4},"C",{"$f":"$L$2","v":4},"C",{"$f":"$L$2","v":4},"C",{"$f":"$L$2","v":4},"C",{"$f":"$L$2","v":4},"C",{"$f":"$L$2","v":4},"D",{"$f":"$K$2","v":3},"D",3,"D",3,"D",3,"D",3,"D",3,{"$f":"$L$1","v":"D"},3,{"$f":"$L$1","v":"D"},3,{"$f":"$L$1","v":"D"},3,{"$f":"$L$1","v":"D"},3,{"$f":"$L$1","v":"D"},3,"D",3,"D",3,"D",3,"D",3,"D",3,null,null,null,null,null,null,"<50",null,null,null,"<500",null,null,null,"<950",null,">=950"]
[null,null,null,null,"Valencia/València",{"$f":"$J$1","v":"B"},{"$f":"$K$2","v":3},8,{"$f":"$J$1","v":"B"},{"$f":"$K$2","v":3},"C",{"$f":"$K$2","v":3},"C",{"$f":"$K$2","v":3},"C",{"$f":"$K$2","v":3},"C",{"$f":"$K$2","v":3},"C",{"$f":"$K$2","v":3},"C",{"$f":"$K$2","v":3},"C",{"$f":"$K$2","v":3},"C",{"$f":"$K$2","v":3},"C",{"$f":"$K$2","v":3},"D",{"$f":"$J$2","v":2},"D",{"$f":"$J$2","v":2},"D",{"$f":"$J$2","v":2},"D",{"$f":"$J$2","v":2},"D",{"$f":"$J$2","v":2},"D",{"$f":"$J$2","v":2},{"$f":"$L$1","v":"D"},{"$f":"$J$2","v":2},{"$f":"$L$1","v":"D"},{"$f":"$J$2","v":2},{"$f":"$L$1","v":"D"},{"$f":"$J$2","v":2},{"$f":"$M$1","v":"E"},{"$f":"$I$2","v":1},{"$f":"$M$1","v":"E"},{"$f":"$I$2","v":1},{"$f":"$M$1","v":"E"},{"$f":"$I$2","v":1},{"$f":"$M$1","v":"E"},{"$f":"$I$2","v":1},{"$f":"$M$1","v":"E"},{"$f":"$I$2","v":1},{"$f":"$M$1","v":"E"},{"$f":"$I$2","v":1},{"$f":"$M$1","v":"E"},{"$f":"$I$2","v":1},null,null,null,null,null,null,null,null,null,null,null,null,null,null,"<800",null,">=800"]
[null,null,null,null,"Valladolid",{"$f":"$L$1","v":"D"},{"$f":"$J$2","v":2},704,{"$f":"$L$1","v":"D"},{"$f":"$J$2","v":2},{"$f":"$L$1","v":"D"},{"$f":"$J$2","v":2},{"$f":"$L$1","v":"D"},{"$f":"$J$2","v":2},{"$f":"$L$1","v":"D"},{"$f":"$J$2","v":2},{"$f":"$L$1","v":"D"},{"$f":"$J$2","v":2},{"$f":"$L$1","v":"D"},{"$f":"$J$2","v":2},{"$f":"$L$1","v":"D"},{"$f":"$J$2","v":2},{"$f":"$L$1","v":"D"},{"$f":"$J$2","v":2},{"$f":"$L$1","v":"D"},{"$f":"$J$2","v":2},{"$f":"$L$1","v":"D"},{"$f":"$J$2","v":2},"D",{"$f":"$J$2","v":2},"D",{"$f":"$J$2","v":2},"D",{"$f":"$J$2","v":2},"D",{"$f":"$J$2","v":2},"D",{"$f":"$J$2","v":2},"D",{"$f":"$J$2","v":2},{"$f":"$M$1","v":"E"},{"$f":"$I$2","v":1},{"$f":"$M$1","v":"E"},{"$f":"$I$2","v":1},{"$f":"$M$1","v":"E"},{"$f":"$I$2","v":1},{"$f":"$M$1","v":"E"},{"$f":"$I$2","v":1},{"$f":"$M$1","v":"E"},{"$f":"$I$2","v":1},{"$f":"$M$1","v":"E"},{"$f":"$I$2","v":1},{"$f":"$M$1","v":"E"},{"$f":"$I$2","v":1},{"$f":"$M$1","v":"E"},{"$f":"$I$2","v":1},{"$f":"$M$1","v":"E"},{"$f":"$I$2","v":1},{"$f":"$M$1","v":"E"},{"$f":"$I$2","v":1}]
[null,null,null,null,"Vitoria/Gasteiz",{"$f":"$L$1","v":"D"},{"$f":"$I$2","v":1},512,{"$f":"$L$1","v":"D"},{"$f":"$I$2","v":1},{"$f":"$L$1","v":"D"},1,{"$f":"$L$1","v":"D"},1,{"$f":"$L$1","v":"D"},1,{"$f":"$L$1","v":"D"},1,{"$f":"$L$1","v":"D"},1,{"$f":"$L$1","v":"D"},1,{"$f":"$L$1","v":"D"},1,{"$f":"$L$1","v":"D"},1,{"$f":"$L$1","v":"D"},1,{"$f":"$M$1","v":"E"},{"$f":"$I$2","v":1},{"$f":"$M$1","v":"E"},{"$f":"$I$2","v":1},{"$f":"$M$1","v":"E"},{"$f":"$I$2","v":1},{"$f":"$M$1","v":"E"},{"$f":"$I$2","v":1},{"$f":"$M$1","v":"E"},{"$f":"$I$2","v":1},{"$f":"$M$1","v":"E"},{"$f":"$I$2","v":1},{"$f":"$M$1","v":"E"},{"$f":"$I$2","v":1},{"$f":"$M$1","v":"E"},{"$f":"$I$2","v":1},{"$f":"$M$1","v":"E"},{"$f":"$I$2","v":1},{"$f":"$M$1","v":"E"},{"$f":"$I$2","v":1},{"$f":"$M$1","v":"E"},{"$f":"$I$2","v":1},{"$f":"$M$1","v":"E"},{"$f":"$I$2","v":1},{"$f":"$M$1","v":"E"},{"$f":"$I$2","v":1},{"$f":"$M$1","v":"E"},{"$f":"$I$2","v":1},{"$f":"$M$1","v":"E"},{"$f":"$I$2","v":1},{"$f":"$M$1","v":"E"},{"$f":"$I$2","v":1},null,null,null,null,null,null,null,null,null,null,null,null,null,null,"<800",null,">=800"]
[null,null,null,null,"Zamora",{"$f":"$L$1","v":"D"},{"$f":"$J$2","v":2},617,{"$f":"$L$1","v":"D"},{"$f":"$J$2","v":2},{"$f":"$L$1","v":"D"},{"$f":"$J$2","v":2},{"$f":"$L$1","v":"D"},{"$f":"$J$2","v":2},{"$f":"$L$1","v":"D"},{"$f":"$J$2","v":2},{"$f":"$L$1","v":"D"},{"$f":"$J$2","v":2},{"$f":"$L$1","v":"D"},{"$f":"$J$2","v":2},{"$f":"$L$1","v":"D"},{"$f":"$J$2","v":2},{"$f":"$L$1","v":"D"},{"$f":"$J$2","v":2},{"$f":"$L$1","v":"D"},{"$f":"$J$2","v":2},{"$f":"$L$1","v":"D"},{"$f":"$J$2","v":2},{"$f":"$L$1","v":"D"},{"$f":"$J$2","v":2},{"$f":"$L$1","v":"D"},{"$f":"$J$2","v":2},{"$f":"$L$1","v":"D"},{"$f":"$J$2","v":2},{"$f":"$L$1","v":"D"},{"$f":"$J$2","v":2},{"$f":"$L$1","v":"D"},{"$f":"$J$2","v":2},{"$f":"$L$1","v":"D"},{"$f":"$J$2","v":2},{"$f":"$M$1","v":"E"},{"$f":"$I$2","v":1},{"$f":"$M$1","v":"E"},{"$f":"$I$2","v":1},{"$f":"$M$1","v":"E"},{"$f":"$I$2","v":1},{"$f":"$M$1","v":"E"},{"$f":"$I$2","v":1},{"$f":"$M$1","v":"E"},{"$f":"$I$2","v":1},{"$f":"$M$1","v":"E"},{"$f":"$I$2","v":1},{"$f":"$M$1","v":"E"},{"$f":"$I$2","v":1},{"$f":"$M$1","v":"E"},{"$f":"$I$2","v":1},{"$f":"$M$1","v":"E"},{"$f":"$I$2","v":1},{"$f":"$M$1","v":"E"},{"$f":"$I$2","v":1},null,null,null,null,null,null,null,null,null,null,"<200",null,null,"<650",null,null,">=650"]
[null,null,null,null,"Zaragoza",{"$f":"$L$1","v":"D"},{"$f":"$K$2","v":3},207,{"$f":"$K$1","v":"C"},{"$f":"$K$2","v":3},"C",3,"C",3,"C",3,{"$f":"$L$1","v":"D"},{"$f":"$K$2","v":3},{"$f":"$L$1","v":"D"},3,{"$f":"$L$1","v":"D"},3,{"$f":"$L$1","v":"D"},3,{"$f":"$L$1","v":"D"},3,{"$f":"$L$1","v":"D"},3,{"$f":"$L$1","v":"D"},3,{"$f":"$L$1","v":"D"},3,{"$f":"$L$1","v":"D"},3,{"$f":"$M$1","v":"E"},{"$f":"$I$2","v":1},{"$f":"$M$1","v":"E"},{"$f":"$I$2","v":1},{"$f":"$M$1","v":"E"},{"$f":"$I$2","v":1},{"$f":"$M$1","v":"E"},{"$f":"$I$2","v":1},{"$f":"$M$1","v":"E"},{"$f":"$I$2","v":1},{"$f":"$M$1","v":"E"},{"$f":"$I$2","v":1},{"$f":"$M$1","v":"E"},{"$f":"$I$2","v":1},{"$f":"$M$1","v":"E"},{"$f":"$I$2","v":1},{"$f":"$M$1","v":"E"},{"$f":"$I$2","v":1},{"$f":"$M$1","v":"E"},{"$f":"$I$2","v":1},{"$f":"$M$1","v":"E"},{"$f":"$I$2","v":1},{"$f":"$M$1","v":"E"},{"$f":"$I$2","v":1},{"$f":"$M$1","v":"E"},{"$f":"$I$2","v":1}]
[]
[null,null,null,null,"CAPITAL ","Z.C. INVIERNO","Z.C. VERANO ","ALTITUD","0-50",null,"50-100",null,"100-150",null,"150-200",null,"200-250",null,"250-300",null,"300-350",null,"350-400",null,"400-450",null,"450-500",null,"500-550",null,"550-600",null,"600-650",null,"650-700",null,"700-750",null,"750-800",null,"800-850",null,"850-900",null,"900-950",null,"950-1000",null,"1000-1050",null,"1100-1150",null,"1150-1200",null,"1200-1250",null,"1250-1300",null,">=1300"]
[null,null,null,null,"Palmas de Gran  Canaria, Las","a",{"$f":"$K$2","v":3},114,{"$f":"$F$59","v":"a"},{"$f":"$K$2","v":3},{"$f":"$F$59","v":"a"},{"$f":"$K$2","v":3},{"$f":"$F$59","v":"a"},{"$f":"$K$2","v":3},{"$f":"$F$59","v":"a"},{"$f":"$K$2","v":3},{"$f":"$F$59","v":"a"},{"$f":"$K$2","v":3},{"$f":"$F$59","v":"a"},{"$f":"$K$2","v":3},{"$f":"$F$59","v":"a"},{"$f":"$K$2","v":3},{"$f":"$I$1","v":"A"},{"$f":"$J$2","v":2},"A",2,"A",2,"A",2,"A",2,"A",2,"A",2,"A",2,{"$f":"$J$1","v":"B"},{"$f":"$J$2","v":2},{"$f":"$J$1","v":"B"},2,{"$f":"$J$1","v":"B"},2,{"$f":"$J$1","v":"B"},2,{"$f":"$J$1","v":"B"},2,{"$f":"$K$1","v":"C"},{"$f":"$J$2","v":2},"C",{"$f":"$J$2","v":2},"C",{"$f":"$J$2","v":2},"C",{"$f":"$J$2","v":2},"C",{"$f":"$J$2","v":2},"C",{"$f":"$J$2","v":2}]
[null,null,null,null,"Santa Cruz de Tenerife",{"$f":"$F$59","v":"a"},{"$f":"$K$2","v":3},0,{"$f":"$F$59","v":"a"},{"$f":"$K$2","v":3},{"$f":"$F$59","v":"a"},{"$f":"$K$2","v":3},{"$f":"$F$59","v":"a"},{"$f":"$K$2","v":3},{"$f":"$F$59","v":"a"},{"$f":"$K$2","v":3},{"$f":"$F$59","v":"a"},{"$f":"$K$2","v":3},{"$f":"$F$59","v":"a"},{"$f":"$K$2","v":3},{"$f":"$F$59","v":"a"},{"$f":"$K$2","v":3},"A",2,"A",2,"A",2,"A",2,"A",2,"A",2,"A",2,"A",2,{"$f":"$J$1","v":"B"},2,{"$f":"$J$1","v":"B"},2,{"$f":"$J$1","v":"B"},2,{"$f":"$J$1","v":"B"},2,{"$f":"$J$1","v":"B"},2,"C",{"$f":"$J$2","v":2},"C",{"$f":"$J$2","v":2},"C",{"$f":"$J$2","v":2},"C",{"$f":"$J$2","v":2},"C",{"$f":"$J$2","v":2},"C",{"$f":"$J$2","v":2}]

{"sheet":"CA","index":8,"n_rows":130,"n_cols":8,"rows_kept":130,"cut":false,"hidden":false,"merged":[[30,2,30,4],[102,3,102,4],[102,5,102,6],[104,2,104,4],[1,1,1,9],[28,3,28,4],[28,5,28,6],[6,2,6,4],[93,2,93,4],[91,3,91,4],[91,5,91,6],[75,3,75,4],[75,5,75,6],[77,2,77,4],[4,3,4,4],[4,5,4,6],[48,2,48,4],[46,3,46,4],[46,5,46,6],[3,2,3,8]]}
[]
[null,"VERDE W Equipamiento para Nueva Edificación y Rehabilitación"]
[null,null,null,null,"CRITERIOS APLICABLES"]
[null,null,"NOTA: Cuando la celda de marcado aparece en blanco, el criterio no aplica por la tipología del edificio o el tipo de actuación indicados en la pestaña de Datos Genreales."]
[null,{"$f":"'Matriz VERDE-GBCe'!G4","v":"PyE"},null,{"$f":"'Matriz VERDE-GBCe'!H4","v":"Parcela y Emplazamiento."},null,{"$f":"SUM(F10:F26)","v":0.14272241433511471}]
[]
[null,null,"Medidas"]
[]
[]
[null,null,null,{"$f":"'Matriz VERDE-GBCe'!H5","v":"PyE 01"},{"$f":"VLOOKUP(D10,'Matriz VERDE-GBCe'!$H$4:I$49,2,FALSE)","v":"Proximidad al transporte publico."},{"$f":"VLOOKUP(D10,'Matriz VERDE-GBCe'!$H$4:X$49,3,FALSE)","v":2.2005658597925176E-2},null,"a"]
[]
[null,null,null,{"$f":"'Matriz VERDE-GBCe'!H6","v":"PyE 02"},{"$f":"VLOOKUP(D12,'Matriz VERDE-GBCe'!$H$4:I$49,2,FALSE)","v":"Proximidad a equipamiento y servicios."},{"$f":"VLOOKUP(D12,'Matriz VERDE-GBCe'!$H$4:X$49,3,FALSE)","v":2.2005658597925176E-2},null,"a"]
[]
[null,null,null,{"$f":"'Matriz VERDE-GBCe'!H7","v":"PyE 03"},{"$f":"VLOOKUP(D14,'Matriz VERDE-GBCe'!$H$4:I$49,2,FALSE)","v":"Facilidades para la bicicleta."},{"$f":"VLOOKUP(D14,'Matriz VERDE-GBCe'!$H$4:X$49,3,FALSE)","v":2.2005658597925176E-2},null,"a"]
[]
[null,null,null,{"$f":"'Matriz VERDE-GBCe'!H8","v":"PyE 04"},{"$f":"VLOOKUP(D16,'Matriz VERDE-GBCe'!$H$4:I$49,2,FALSE)","v":"Capacidad de carga de vehículos eléctricos."},{"$f":"VLOOKUP(D16,'Matriz VERDE-GBCe'!$H$4:X$49,3,FALSE)","v":1.1631562401760449E-2},null,"a"]
[]
[null,null,null,{"$f":"'Matriz VERDE-GBCe'!H9","v":"PyE 05"},{"$f":"VLOOKUP(D18,'Matriz VERDE-GBCe'!$H$4:I$49,2,FALSE)","v":"Clasificación de RSU."},{"$f":"VLOOKUP(D18,'Matriz VERDE-GBCe'!$H$4:X$49,3,FALSE)","v":1.2574662055957243E-2},null,"a"]
[]
[null,null,null,{"$f":"'Matriz VERDE-GBCe'!H10","v":"PyE 06"},{"$f":"VLOOKUP(D20,'Matriz VERDE-GBCe'!$H$4:I$49,2,FALSE)","v":"Gestión y Restauración del hábitat."},{"$f":"VLOOKUP(D20,'Matriz VERDE-GBCe'!$H$4:X$49,3,FALSE)","v":0},null,"a"]
[]
[null,null,null,{"$f":"'Matriz VERDE-GBCe'!H11","v":"PyE 07"},{"$f":"VLOOKUP(D22,'Matriz VERDE-GBCe'!$H$4:I$49,2,FALSE)","v":"Uso de plantas para crear sombras."},{"$f":"VLOOKUP(D22,'Matriz VERDE-GBCe'!$H$4:X$49,3,FALSE)","v":2.3420308079220367E-2},null,"a"]
[]
[null,null,null,{"$f":"'Matriz VERDE-GBCe'!H12","v":"PyE 08"},{"$f":"VLOOKUP(D24,'Matriz VERDE-GBCe'!$H$4:I$49,2,FALSE)","v":"Efecto isla de calor."},{"$f":"VLOOKUP(D24,'Matriz VERDE-GBCe'!$H$4:X$49,3,FALSE)","v":1.6504243948443881E-2},null,"a"]
[null,null,null,null,null,"+"]
[null,null,null,{"$f":"'Matriz VERDE-GBCe'!H13","v":"PyE 09"},{"$f":"VLOOKUP(D26,'Matriz VERDE-GBCe'!$H$4:I$49,2,FALSE)","v":"Contaminación lumínica."},{"$f":"VLOOKUP(D26,'Matriz VERDE-GBCe'!$H$4:X$49,3,FALSE)","v":1.2574662055957243E-2},null,"a"]
[]
[]
[null,"EyA",null,{"$f":"'Matriz VERDE-GBCe'!H14","v":"Energía y Atmósfera."},null,{"$f":"SUM(F34:F44)","v":0.23105941527821433}]
[]
[null,null,"Medidas"]
[]
[]
[null,null,null,{"$f":"'Matriz VERDE-GBCe'!H15","v":"EyA 01"},{"$f":"VLOOKUP(D34,'Matriz VERDE-GBCe'!$H$4:I$49,2,FALSE)","v":"Demanda de calefacción y refrigeración."},{"$f":"VLOOKUP(D34,'Matriz VERDE-GBCe'!$H$4:X$49,3,FALSE)","v":8.4878968877711389E-2},null,"a"]
[]
[null,null,null,{"$f":"'Matriz VERDE-GBCe'!H16","v":"EyA 02"},{"$f":"VLOOKUP(D36,'Matriz VERDE-GBCe'!$H$4:I$49,2,FALSE)","v":"Consumo de energía primaria no renovable."},{"$f":"VLOOKUP(D36,'Matriz VERDE-GBCe'!$H$4:X$49,3,FALSE)","v":5.0298648223828971E-2},null,"a"]
[]
[null,null,null,{"$f":"'Matriz VERDE-GBCe'!H17","v":"EyA 03"},{"$f":"VLOOKUP(D38,'Matriz VERDE-GBCe'!$H$4:I$49,2,FALSE)","v":"Emisiones de CO2"},{"$f":"VLOOKUP(D38,'Matriz VERDE-GBCe'!$H$4:X$49,3,FALSE)","v":3.1436655139893105E-2},null,"a"]
[]
[null,null,null,{"$f":"'Matriz VERDE-GBCe'!H18","v":"EyA 04"},{"$f":"VLOOKUP(D40,'Matriz VERDE-GBCe'!$H$4:I$49,2,FALSE)","v":"Consumo en sistemas de comunicación mecánicos."},{"$f":"VLOOKUP(D40,'Matriz VERDE-GBCe'!$H$4:X$49,3,FALSE)","v":1.4146494812951898E-2},null,"a"]
[]
[null,null,null,{"$f":"'Matriz VERDE-GBCe'!H19","v":"EyA 05"},{"$f":"VLOOKUP(D42,'Matriz VERDE-GBCe'!$H$4:I$49,2,FALSE)","v":"Elección responsable de refrigerantes."},{"$f":"VLOOKUP(D42,'Matriz VERDE-GBCe'!$H$4:X$49,3,FALSE)","v":2.5149324111914485E-2},null,"a"]
[]
[null,null,null,{"$f":"'Matriz VERDE-GBCe'!H20","v":"EyA 06"},{"$f":"VLOOKUP(D44,'Matriz VERDE-GBCe'!$H$4:I$49,2,FALSE)","v":"Frío industrial"},{"$f":"VLOOKUP(D44,'Matriz VERDE-GBCe'!$H$4:X$49,3,FALSE)","v":2.5149324111914485E-2},null,"a"]
[]
[]
[null,"RN",null,{"$f":"'Matriz VERDE-GBCe'!H21","v":"Recursos Naturales."},null,{"$f":"SUM(F53:F73)","v":0.24520591009116624}]
[]
[null,null,"Medidas"]
[]
[]
[]
[null,null,null,{"$f":"'Matriz VERDE-GBCe'!H22","v":"RN 01"},{"$f":"VLOOKUP(D53,'Matriz VERDE-GBCe'!$H$4:I$49,2,FALSE)","v":"Consumo de agua en aparatos sanitarios."},{"$f":"VLOOKUP(D53,'Matriz VERDE-GBCe'!$H$4:X$49,3,FALSE)","v":3.1436655139893105E-2},null,"a"]
[]
[null,null,null,{"$f":"'Matriz VERDE-GBCe'!H23","v":"RN 02"},{"$f":"VLOOKUP(D55,'Matriz VERDE-GBCe'!$H$4:I$49,2,FALSE)","v":"Necesidades de riego en jardines."},{"$f":"VLOOKUP(D55,'Matriz VERDE-GBCe'!$H$4:X$49,3,FALSE)","v":0},null,"a"]
[]
[null,null,null,{"$f":"'Matriz VERDE-GBCe'!H24","v":"RN 03"},{"$f":"VLOOKUP(D57,'Matriz VERDE-GBCe'!$H$4:I$49,2,FALSE)","v":"Consumo de agua en elementos singulares"},{"$f":"VLOOKUP(D57,'Matriz VERDE-GBCe'!$H$4:X$49,3,FALSE)","v":1.8861993083935862E-2},null,"a"]
[]
[null,null,null,{"$f":"'Matriz VERDE-GBCe'!H25","v":"RN 04"},{"$f":"VLOOKUP(D59,'Matriz VERDE-GBCe'!$H$4:I$49,2,FALSE)","v":"Uso de agua no potable."},{"$f":"VLOOKUP(D59,'Matriz VERDE-GBCe'!$H$4:X$49,3,FALSE)","v":1.8861993083935862E-2},null,"a"]
[]
[null,null,null,{"$f":"'Matriz VERDE-GBCe'!H26","v":"RN 05"},{"$f":"VLOOKUP(D61,'Matriz VERDE-GBCe'!$H$4:I$49,2,FALSE)","v":"Uso de materiales reciclados."},{"$f":"VLOOKUP(D61,'Matriz VERDE-GBCe'!$H$4:X$49,3,FALSE)","v":1.5718327569946552E-2},null,"a"]
[]
[null,null,null,{"$f":"'Matriz VERDE-GBCe'!H27","v":"RN 06"},{"$f":"VLOOKUP(D63,'Matriz VERDE-GBCe'!$H$4:I$49,2,FALSE)","v":"Uso de materiales obtenidos de recursos sostenibles."},{"$f":"VLOOKUP(D63,'Matriz VERDE-GBCe'!$H$4:X$49,3,FALSE)","v":1.2574662055957243E-2},null,"a"]
[]
[null,null,null,{"$f":"'Matriz VERDE-GBCe'!H28","v":"RN 07"},{"$f":"VLOOKUP(D65,'Matriz VERDE-GBCe'!$H$4:I$49,2,FALSE)","v":"Uso de materiales locales."},{"$f":"VLOOKUP(D65,'Matriz VERDE-GBCe'!$H$4:X$49,3,FALSE)","v":2.5149324111914485E-2},null,"a"]
[]
[null,null,null,{"$f":"'Matriz VERDE-GBCe'!H29","v":"RN 08"},{"$f":"VLOOKUP(D67,'Matriz VERDE-GBCe'!$H$4:I$49,2,FALSE)","v":"Planificación de una estrategia de demolición selectiva."},{"$f":"VLOOKUP(D67,'Matriz VERDE-GBCe'!$H$4:X$49,3,FALSE)","v":1.5718327569946552E-2},null,"a"]
[]
[null,null,null,{"$f":"'Matriz VERDE-GBCe'!H30","v":"RN 09"},{"$f":"VLOOKUP(D69,'Matriz VERDE-GBCe'!$H$4:I$49,2,FALSE)","v":"Gestión de los residuos de la construcción."},{"$f":"VLOOKUP(D69,'Matriz VERDE-GBCe'!$H$4:X$49,3,FALSE)","v":1.2574662055957243E-2},null,"a"]
[]
[null,null,null,{"$f":"'Matriz VERDE-GBCe'!H31","v":"RN 10"},{"$f":"VLOOKUP(D71,'Matriz VERDE-GBCe'!$H$4:I$49,2,FALSE)","v":"Impacto de los materiales de la construcción."},{"$f":"VLOOKUP(D71,'Matriz VERDE-GBCe'!$H$4:X$49,3,FALSE)","v":6.9160641307764836E-2},null,"a"]
[]
[null,null,null,{"$f":"'Matriz VERDE-GBCe'!H32","v":"RN 11"},{"$f":"VLOOKUP(D73,'Matriz VERDE-GBCe'!$H$4:I$49,2,FALSE)","v":"Ecoetiquetado de producto."},{"$f":"VLOOKUP(D73,'Matriz VERDE-GBCe'!$H$4:X$49,3,FALSE)","v":2.5149324111914485E-2},null,"a"]
[]
[]
[null,"CAI",null,{"$f":"'Matriz VERDE-GBCe'!H33","v":"Calidad del Ambiente Interior."},null,{"$f":"SUM(F81:F89)","v":0.18861993083935863}]
[]
[null,null,"Medidas"]
[]
[]
[null,null,null,{"$f":"'Matriz VERDE-GBCe'!H34","v":"CAI 01"},{"$f":"VLOOKUP(D81,'Matriz VERDE-GBCe'!$H$4:I$49,2,FALSE)","v":"Limitación en las emisiones de COVs."},{"$f":"VLOOKUP(D81,'Matriz VERDE-GBCe'!$H$4:X$49,3,FALSE)","v":3.1436655139893105E-2},null,"a"]
[]
[null,null,null,{"$f":"'Matriz VERDE-GBCe'!H35","v":"CAI 02"},{"$f":"VLOOKUP(D83,'Matriz VERDE-GBCe'!$H$4:I$49,2,FALSE)","v":"Monitorización de la calidad del aire"},{"$f":"VLOOKUP(D83,'Matriz VERDE-GBCe'!$H$4:X$49,3,FALSE)","v":3.1436655139893105E-2},null,"a"]
[]
[null,null,null,{"$f":"'Matriz VERDE-GBCe'!H36","v":"CAI 03"},{"$f":"VLOOKUP(D85,'Matriz VERDE-GBCe'!$H$4:I$49,2,FALSE)","v":"Iluminación natural en los espacios de ocupación primaria."},{"$f":"VLOOKUP(D85,'Matriz VERDE-GBCe'!$H$4:X$49,3,FALSE)","v":5.0298648223828971E-2},null,"a"]
[]
[null,null,null,{"$f":"'Matriz VERDE-GBCe'!H37","v":"CAI 04"},{"$f":"VLOOKUP(D87,'Matriz VERDE-GBCe'!$H$4:I$49,2,FALSE)","v":"Iluminación artificial en los espacios de ocupación primaria."},{"$f":"VLOOKUP(D87,'Matriz VERDE-GBCe'!$H$4:X$49,3,FALSE)","v":3.1436655139893105E-2},null,"a"]
[]
[null,null,null,{"$f":"'Matriz VERDE-GBCe'!H38","v":"CAI 05"},{"$f":"VLOOKUP(D89,'Matriz VERDE-GBCe'!$H$4:I$49,2,FALSE)","v":"Protección frente al ruido."},{"$f":"VLOOKUP(D89,'Matriz VERDE-GBCe'!$H$4:X$49,3,FALSE)","v":4.4011317195850344E-2},null,"a"]
[]
[]
[null,{"$f":"'Matriz VERDE-GBCe'!G39","v":"ASE"},null,{"$f":"'Matriz VERDE-GBCe'!H39","v":"Aspectos Sociales y Económicos."},null,{"$f":"SUM(F97:F99)","v":4.7154982709839657E-2}]
[]
[null,null,"Medidas"]
[]
[]
[null,null,null,"ASE 01",{"$f":"VLOOKUP(D97,'Matriz VERDE-GBCe'!$H$4:I$49,2,FALSE)","v":"Acceso universal."},{"$f":"VLOOKUP(D97,'Matriz VERDE-GBCe'!$H$4:X$49,3,FALSE)","v":2.8292989625903795E-2},null,"a"]
[]
[null,null,null,"ASE 02",{"$f":"VLOOKUP(D99,'Matriz VERDE-GBCe'!$H$4:I$49,2,FALSE)","v":"Acceso visual desde las áreas de trabajo."},{"$f":"VLOOKUP(D99,'Matriz VERDE-GBCe'!$H$4:X$49,3,FALSE)","v":1.8861993083935862E-2},null,"a"]
[]
[]
[]
[null,"CC",null,{"$f":"'Matriz VERDE-GBCe'!H42","v":"Concepto de Calidad."},null,{"$f":"SUM(F108:F120)","v":0.14523734674630615}]
[]
[null,null,"Medidas"]
[]
[]
[null,null,null,{"$f":"'Matriz VERDE-GBCe'!H43","v":"CC 01"},{"$f":"VLOOKUP(D108,'Matriz VERDE-GBCe'!$H$4:I$49,2,FALSE)","v":"Eficiencia de los espacios."},{"$f":"VLOOKUP(D108,'Matriz VERDE-GBCe'!$H$4:X$49,3,FALSE)","v":1.8861993083935862E-2},null,"a"]
[]
[null,null,null,{"$f":"'Matriz VERDE-GBCe'!H44","v":"CC 02"},{"$f":"VLOOKUP(D110,'Matriz VERDE-GBCe'!$H$4:I$49,2,FALSE)","v":"Sistema de gestión del edificio (BMS)."},{"$f":"VLOOKUP(D110,'Matriz VERDE-GBCe'!$H$4:X$49,3,FALSE)","v":3.4580320653882418E-2},null,"a"]
[]
[null,null,null,{"$f":"'Matriz VERDE-GBCe'!H45","v":"CC 03"},{"$f":"VLOOKUP(D112,'Matriz VERDE-GBCe'!$H$4:I$49,2,FALSE)","v":"Capacidad de funcionamiento parcial de las instalaciones."},{"$f":"VLOOKUP(D112,'Matriz VERDE-GBCe'!$H$4:X$49,3,FALSE)","v":1.2574662055957243E-2},null,"a"]
[]
[null,null,null,{"$f":"'Matriz VERDE-GBCe'!H46","v":"CC 04"},{"$f":"VLOOKUP(D114,'Matriz VERDE-GBCe'!$H$4:I$49,2,FALSE)","v":"Capacidad de control local de la iluminación."},{"$f":"VLOOKUP(D114,'Matriz VERDE-GBCe'!$H$4:X$49,3,FALSE)","v":2.2634391700723039E-2},null,"a"]
[]
[null,null,null,{"$f":"'Matriz VERDE-GBCe'!H47","v":"CC 05"},{"$f":"VLOOKUP(D116,'Matriz VERDE-GBCe'!$H$4:I$49,2,FALSE)","v":"Capacidad de control local de los sistemas de HVAC."},{"$f":"VLOOKUP(D116,'Matriz VERDE-GBCe'!$H$4:X$49,3,FALSE)","v":1.8861993083935862E-2},null,"a"]
[]
[null,null,null,{"$f":"'Matriz VERDE-GBCe'!H48","v":"CC 06"},{"$f":"VLOOKUP(D118,'Matriz VERDE-GBCe'!$H$4:I$49,2,FALSE)","v":"Custodia de la documentación del proyecto."},{"$f":"VLOOKUP(D118,'Matriz VERDE-GBCe'!$H$4:X$49,3,FALSE)","v":1.8861993083935862E-2},null,"a"]
[]
[null,null,null,{"$f":"'Matriz VERDE-GBCe'!H49","v":"CC 07"},{"$f":"VLOOKUP(D120,'Matriz VERDE-GBCe'!$H$4:I$49,2,FALSE)","v":"El edificio como una herramienta para la educación."},{"$f":"VLOOKUP(D120,'Matriz VERDE-GBCe'!$H$4:X$49,3,FALSE)","v":1.8861993083935862E-2},null,"a"]
[]
[null,null,null,{"$f":"'Matriz VERDE-GBCe'!H50","v":"CC 08"},{"$f":"VLOOKUP(D122,'Matriz VERDE-GBCe'!$H$4:I$50,2,FALSE)","v":"Certificaciones voluntarias del edificio."},{"$f":"VLOOKUP(D122,'Matriz VERDE-GBCe'!$H$4:X$50,3,FALSE)","v":0},null,"a"]
[]
[]
[]
[]
[]
[null,null,null,null,null,{"$f":"#REF!+#REF!+F92+F76+F47+F29+#REF!+#REF!","v":{"$error":"#REF!"}}]
[null,null,null,null,null,{"$f":"SUM(F5:F125)/2","v":0.99999999999999933}]
[null,null,null,null,null,"a"]

{"sheet":"PE","index":9,"n_rows":515,"n_cols":37,"rows_kept":515,"cut":false,"hidden":false,"merged":[[349,3,349,14],[470,4,470,12],[472,3,472,14],[473,3,473,14],[474,3,474,14],[280,3,280,14],[288,3,288,11],[407,3,407,14],[409,3,409,14],[439,3,439,14],[440,3,440,14],[441,3,441,14],[309,3,309,14],[308,3,308,14],[327,3,327,14],[328,3,328,14],[329,3,329,14],[330,3,330,14],[331,3,331,14],[332,3,332,14],[333,3,333,14],[334,3,334,14],[342,3,342,14],[381,3,382,14],[368,3,368,14],[370,3,370,14],[366,3,367,14],[369,3,369,14],[494,3,494,14],[491,3,491,14],[350,3,350,14],[461,3,461,14],[462,3,462,14],[463,3,463,14],[493,3,493,14],[480,2,480,3],[426,3,426,14],[428,3,428,14],[438,3,438,14],[447,3,448,14],[413,4,414,11],[356,2,356,3],[1,1,1,20],[2,1,2,20],[4,3,4,13],[4,14,4,15],[9,3,9,14],[7,4,7,11],[13,4,13,11],[43,3,43,14],[44,3,44,14],[28,4,28,11],[30,3,30,14],[33,3,33,14],[34,3,34,14],[23,3,24,14],[32,3,32,14],[42,3,42,14],[300,3,300,14],[291,4,291,11],[275,3,275,14],[276,3,276,14],[279,3,279,14],[458,4,458,12],[492,3,492,14],[514,2,514,14],[512,2,512,14],[387,2,387,3],[403,4,403,11],[393,4,393,11],[397,3,397,14],[416,3,417,14],[390,3,390,11],[495,3,495,14],[496,3,496,14],[427,3,427,14],[429,3,429,14],[423,3,423,14],[464,3,464,14],[465,3,465,14],[466,3,466,14],[460,3,460,14],[510,15,510,16],[514,15,514,16],[510,2,510,14],[512,15,512,16],[362,4,362,12],[375,4,375,12],[483,14,483,15],[483,3,483,13],[486,4,486,12],[396,3,396,11],[405,3,405,11],[406,3,406,11],[501,2,501,3],[507,2,507,3],[377,3,377,14],[395,3,395,14],[398,3,398,11],[399,3,399,14],[449,3,449,14],[450,3,451,14],[452,3,452,14],[453,3,454,14],[489,3,489,14],[490,3,490,14],[306,4,306,11],[312,4,312,12],[340,3,340,14],[341,3,341,14],[347,3,348,14],[313,3,313,14],[314,3,314,14],[315,3,315,14],[316,3,316,14],[317,3,317,14],[318,3,318,14],[319,3,319,14],[320,3,320,14],[324,4,324,12],[325,3,325,14],[326,3,326,14],[344,3,345,14],[343,3,343,14],[346,3,346,14],[338,4,338,11],[293,3,293,14],[294,3,294,14],[295,3,295,14],[296,3,296,14],[297,3,297,14],[277,3,278,14],[265,3,265,14],[267,3,267,14],[488,3,488,14],[421,4,422,12],[435,3,435,14],[436,3,436,14],[437,3,437,14],[359,3,359,11],[364,3,364,11],[365,3,365,11],[380,3,380,14],[379,3,379,14],[433,4,433,11],[445,4,445,11],[371,3,371,14],[378,3,378,12],[424,3,424,14],[425,3,425,14],[266,3,266,14],[268,3,269,14],[230,3,230,14],[231,3,231,14],[255,3,255,14],[299,3,299,14],[146,4,146,11],[132,3,132,14],[133,3,133,14],[134,3,134,14],[135,3,135,14],[136,3,136,14],[141,3,141,14],[142,3,142,14],[181,4,181,11],[178,3,178,11],[175,2,175,3],[168,3,168,14],[166,4,166,11],[147,3,147,14],[148,3,148,14],[149,3,149,14],[150,3,150,14],[285,2,285,3],[158,3,158,14],[160,3,160,14],[162,3,162,14],[154,4,154,11],[156,3,156,14],[140,3,140,14],[170,3,170,14],[47,3,47,14],[48,3,48,14],[115,4,115,11],[101,3,101,14],[102,3,102,14],[103,3,103,14],[104,3,104,14],[105,3,105,14],[99,4,99,11],[93,2,93,3],[96,3,96,11],[88,3,88,14],[86,4,86,11],[78,3,78,14],[79,3,79,14],[80,3,80,14],[81,3,81,14],[82,3,82,14],[15,3,15,14],[74,4,74,11],[68,3,68,14],[69,3,69,14],[70,3,70,14],[58,3,58,14],[59,3,59,14],[60,3,60,14],[54,4,54,11],[35,3,35,14],[36,3,36,14],[49,3,49,14],[50,3,50,14],[56,3,56,14],[66,3,66,14],[64,5,64,11],[45,3,45,14],[46,3,46,14],[40,4,40,11],[21,3,21,14],[22,3,22,14],[95,22,95,33],[120,3,120,14],[127,3,127,14],[119,3,119,14],[121,3,121,14],[137,3,137,14],[138,3,138,14],[139,3,139,14],[19,4,19,11],[106,3,106,14],[107,3,107,14],[108,3,108,14],[109,3,109,14],[110,3,110,14],[111,3,111,14],[131,4,131,11],[117,3,117,14],[118,3,118,14],[122,3,122,14],[123,3,123,14],[124,3,124,14],[125,3,125,14],[126,3,126,14],[76,3,76,14],[218,3,218,14],[219,3,219,14],[251,4,251,11],[253,3,253,14],[263,3,264,14],[247,3,247,14],[245,4,245,12],[237,3,237,14],[238,3,238,14],[239,3,239,14],[240,3,240,14],[241,3,241,14],[235,4,235,11],[225,3,225,14],[226,3,226,14],[227,3,227,14],[228,3,228,14],[261,3,261,14],[262,3,262,14],[259,4,259,12],[301,3,302,14],[229,3,229,14],[273,4,273,11],[189,4,189,11],[183,3,183,14],[184,3,184,14],[185,3,185,14],[215,4,215,11],[207,3,207,14],[208,3,208,14],[209,3,209,14],[210,3,210,14],[211,3,211,14],[205,4,205,11],[200,3,200,14],[201,3,201,14],[199,4,199,11],[191,3,191,14],[192,3,192,14],[193,3,193,14],[194,3,194,14],[195,3,195,14],[223,4,223,11],[217,3,217,14]]}
[]
[null,"VERDE W Equipamiento para Nueva Edificación y Rehabilitación",null,null,null,null,null,null,null,null,null,null,null,null,null,null,null,null,null,null,null,null,null,null,"SEGURO","SÍ"]
[null,"PRE-EVALUACIÓN",null,null,null,null,null,null,null,null,null,null,null,null,null,null,null,null,null,null,null,null,null,null,"PROBABLE","NO"]
[null,null,null,null,null,null,null,null,null,null,null,null,null,null,null,null,null,null,null,null,null,null,null,null,"DUDOSO"]
[null,{"$f":"'Matriz VERDE-GBCe'!G4","v":"PyE"},null,{"$f":"'Matriz VERDE-GBCe'!H4","v":"Parcela y Emplazamiento."},null,null,null,null,null,null,null,null,null,null,null,null,null,null,null,null,null,null,null,null,"NO CUMPLE"]
[null,null,null,null,null,null,null,null,null,null,null,null,null,null,null,null,null,null,null,null,null,null,null,null,"NO APLICA"]
[]
[null,null,null,{"$f":"'Matriz VERDE-GBCe'!H5","v":"PyE 01"},{"$f":"VLOOKUP($D8,'Matriz VERDE-GBCe'!$H$4:$K$49,2,FALSE)","v":"Proximidad al transporte publico."},null,null,null,null,null,null,null,null,null,{"$f":"VLOOKUP($D8,'Matriz VERDE-GBCe'!$H$4:$K$49,3,FALSE)","v":2.2005658597925176E-2},null,null,null,null,null,null,null,null,null,"Target","SEGURO",null,"PROBABLE",null,"DUDOSO",null,"NO CUMPLE",null,"NO APLICA"]
[]
[null,null,null,"Se cumple con el número de líneas determinado en el radio correspondiente",null,null,null,null,null,null,null,null,null,null,null,null,null,null,null,null,null,null,null,null,1,{"$f":"+IF($Q10=\"seguro\",$Y10,0)","v":0},null,{"$f":"+IF($Q10=\"probable\",$Y10,0)","v":0},null,{"$f":"+IF($Q10=\"dudoso\",$Y10,0)","v":0},null,{"$f":"+IF($Q10=\"NO CUMPLE\",$Y10,0)","v":0},null,{"$f":"+IF($Q10=\"no aplica\",2,0)","v":0}]
[null,null,null,null,null,null,null,null,null,null,null,null,null,null,null,null,null,null,null,null,null,null,null,null,{"$f":"SUM(Y9:Y10)","v":1},{"$f":"IF($O8=\"\",0,SUM(Z9:Z10)*$O8/$Y11)","v":0},null,{"$f":"IF($O8=\"\",0,SUM(AB9:AB10)*$O8/$Y11)","v":0},null,{"$f":"IF($O8=\"\",0,SUM(AD9:AD10)*$O8/$Y11)","v":0},null,{"$f":"IF($O8=\"\",0,SUM(AF9:AF10)*$O8/$Y11)","v":0}]
[]
[]
[null,null,null,{"$f":"'Matriz VERDE-GBCe'!H6","v":"PyE 02"},{"$f":"VLOOKUP($D14,'Matriz VERDE-GBCe'!$H$4:$K$49,2,FALSE)","v":"Proximidad a equipamiento y servicios."},null,null,null,null,null,null,null,null,null,{"$f":"VLOOKUP($D14,'Matriz VERDE-GBCe'!$H$4:$K$49,3,FALSE)","v":2.2005658597925176E-2},null,null,null,null,null,null,null,null,null,"Target","SEGURO",null,"PROBABLE",null,"DUDOSO",null,"NO CUMPLE",null,"NO APLICA"]
[]
[null,null,null,"Se cumple con el número de equipamientos determinados en el radio correspondiente",null,null,null,null,null,null,null,null,null,null,null,null,null,null,null,null,null,null,null,null,1,{"$f":"+IF($Q16=\"seguro\",$Y16,0)","v":0},null,{"$f":"+IF($Q16=\"probable\",$Y16,0)","v":0},null,{"$f":"+IF($Q16=\"dudoso\",$Y16,0)","v":0},null,{"$f":"+IF($Q16=\"NO CUMPLE\",$Y16,0)","v":0},null,{"$f":"+IF($Q16=\"no aplica\",2,0)","v":0}]
[null,null,null,null,null,null,null,null,null,null,null,null,null,null,null,null,null,null,null,null,null,null,null,null,{"$f":"SUM(Y16:Y16)","v":1},{"$f":"IF($O14=\"\",0,SUM(Z15:Z16)*$O14/$Y17)","v":0},null,{"$f":"IF($O14=\"\",0,SUM(AB15:AB16)*$O14/$Y17)","v":0},null,{"$f":"IF($O14=\"\",0,SUM(AD15:AD16)*$O14/$Y17)","v":0},null,{"$f":"IF($O14=\"\",0,SUM(AF15:AF16)*$O14/$Y17)","v":0}]
[]
[]
[null,null,null,{"$f":"'Matriz VERDE-GBCe'!H7","v":"PyE 03"},{"$f":"VLOOKUP($D20,'Matriz VERDE-GBCe'!$H$4:$K$49,2,FALSE)","v":"Facilidades para la bicicleta."},null,null,null,null,null,null,null,null,null,{"$f":"VLOOKUP($D20,'Matriz VERDE-GBCe'!$H$4:$K$49,3,FALSE)","v":2.2005658597925176E-2}]
[]
[null,null,null,{"$f":"IF(DG!$E$27=\"\",\"\",DG!$E$27)","v":""},null,null,null,null,null,null,null,null,null,null,null,null,null,null,null,null,null,null,null,null,"Target","SEGURO",null,"PROBABLE",null,"DUDOSO",null,"NO CUMPLE",null,"NO APLICA"]
[]
[null,null,null,"Se cumple con el número de aparcabicis determinado y las medidas de seguridad para los elementos y el emplazamiento de los mismos",null,null,null,null,null,null,null,null,null,null,null,null,null,null,null,null,null,null,null,null,{"$f":"IF(N22=\"Unifamiliar\",0,1)","v":1},{"$f":"+IF($Q24=\"seguro\",$Y24,0)","v":0},null,{"$f":"+IF($Q24=\"probable\",$Y24,0)","v":0},null,{"$f":"+IF($Q24=\"dudoso\",$Y24,0)","v":0},null,{"$f":"+IF($Q24=\"NO CUMPLE\",$Y24,0)","v":0},null,{"$f":"+IF($Q24=\"no aplica\",2,0)","v":0}]
[]
[null,null,null,null,null,null,null,null,null,null,null,null,null,null,null,null,null,null,null,null,null,null,null,null,{"$f":"SUM(Y24:Y24)","v":1},{"$f":"IF($O20=\"\",0,SUM(Z23:Z24)*$O20)","v":0},null,{"$f":"IF($O20=\"\",0,SUM(AB23:AB24)*$O20)","v":0},null,{"$f":"IF($O20=\"\",0,SUM(AD23:AD24)*$O20)","v":0},null,{"$f":"IF($O20=\"\",0,SUM(AF23:AF24)*$O20)","v":0}]
[]
[]
[null,null,null,{"$f":"'Matriz VERDE-GBCe'!H8","v":"PyE 04"},{"$f":"VLOOKUP($D29,'Matriz VERDE-GBCe'!$H$4:$K$49,2,FALSE)","v":"Capacidad de carga de vehículos eléctricos."},null,null,null,null,null,null,null,null,null,{"$f":"VLOOKUP($D29,'Matriz VERDE-GBCe'!$H$4:$K$49,3,FALSE)","v":1.1631562401760449E-2}]
[]
[null,null,null,{"$f":"IF(DG!$E$25=0,\"\",DG!$E$25)","v":""},null,null,null,null,null,null,null,null,null,null,null,null,null,null,null,null,null,null,null,null,"El porcentaje de plazas con recarga para vehículos eléctricos es superior al ",{"$f":"IF(D33=\"Nueva edificación\",\"30%\",\"10%\")","v":"10%"}," con,al menos, 2 plazas."]
[]
[null,null,null,"NOTA: Este criterio se evalúa por fórmulas lineales, la puntuación puede variar en la evaluación final. Ver la guía.",null,null,null,null,null,null,null,null,null,null,null,null,null,null,null,null,null,null,null,null,"Target","SEGURO",null,"PROBABLE",null,"DUDOSO",null,"NO CUMPLE",null,"NO APLICA"]
[]
[null,null,null,"El porcentaje de plazas con recarga para vehículos eléctricos es superior al 40% con,al menos, 2 plazas.",null,null,null,null,null,null,null,null,null,null,null,null,null,null,null,null,null,null,null,null,{"$f":"IF(D31=\"Unifamiliar\",1,0.5)","v":0.5},{"$f":"+IF($Q35=\"seguro\",$Y35,0)","v":0},null,{"$f":"+IF($Q35=\"probable\",$Y35,0)","v":0},null,{"$f":"+IF($Q35=\"dudoso\",$Y35,0)","v":0},null,{"$f":"+IF($Q35=\"NO CUMPLE\",$Y35,0)","v":0},null,{"$f":"+IF($Q35=\"no aplica\",2,0)","v":0}]
[]
[null,null,null,"El procentaje de plazas con pre-instalación para carga de vehículos eléctricos es superior al 70%.",null,null,null,null,null,null,null,null,null,null,null,null,null,null,null,null,null,null,null,null,{"$f":"IF(D31=\"Unifamiliar\",0,0.5)","v":0.5},{"$f":"+IF($Q37=\"seguro\",$Y37,0)","v":0},null,{"$f":"+IF($Q37=\"probable\",$Y37,0)","v":0},null,{"$f":"+IF($Q37=\"dudoso\",$Y37,0)","v":0},null,{"$f":"+IF($Q37=\"NO CUMPLE\",$Y37,0)","v":0},null,{"$f":"+IF($Q37=\"no aplica\",2,0)","v":0}]
[null,null,null,null,null,null,null,null,null,null,null,null,null,null,null,null,null,null,null,null,null,null,null,null,{"$f":"SUM(Y35:Y37)","v":1},{"$f":"IF($O29=\"\",0,SUM(Z34:Z37)*$O29)","v":0},null,{"$f":"IF($O29=\"\",0,SUM(AB34:AB37)*$O29)","v":0},null,{"$f":"IF($O29=\"\",0,SUM(AD34:AD37)*$O29)","v":0},null,{"$f":"IF($O29=\"\",0,SUM(AF34:AF37)*$O29)","v":0}]
[]
[]
[null,null,null,{"$f":"'Matriz VERDE-GBCe'!H9","v":"PyE 05"},{"$f":"VLOOKUP($D41,'Matriz VERDE-GBCe'!$H$4:$K$49,2,FALSE)","v":"Clasificación de RSU."},null,null,null,null,null,null,null,null,null,{"$f":"VLOOKUP($D41,'Matriz VERDE-GBCe'!$H$4:$K$49,3,FALSE)","v":1.2574662055957243E-2},null,null,null,null,null,null,null,{"$f":"IF(DG!E25=\"Unifamiliar\",\"Uni\",IF(DG!E25=\"Multi-residencial\",\"Res\",\"\"))","v":""},null,"Target","SEGURO",null,"PROBABLE",null,"DUDOSO",null,"NO CUMPLE",null,"NO APLICA",null,{"$f":"IF(DG!E27=\"\",\"\",IF(DG!E27=\"rehabilitación\",\"RH\",\"NE\"))","v":""},{"$f":"IF(DG!E25=\"unifamiliar\",\"Uni\", \"Res\")","v":"Res"}]
[]
[null,null,null,{"$f":"IF(DG!$E$25=0,\"\",DG!$E$25)","v":""},null,null,null,null,null,null,null,null,null,null,null,null,null,null,null,null,null,null,null,null,"El porcentaje de plazas con recarga para vehículos eléctricos es superior al ",{"$f":"IF(D45=\"Nueva edificación\",\"20%\",\"10%\")","v":"10%"}," con,al menos, 2 plazas."]
[]
[null,null,null,"Hay contenedores en cada planta para, al menos, papel y cartón, vidrio, envases y resto.",null,null,null,null,null,null,null,null,null,null,null,null,null,null,null,null,null,null,null,null,0.25,{"$f":"+IF($Q45=\"seguro\",$Y45,0)","v":0},null,{"$f":"+IF($Q45=\"probable\",$Y45,0)","v":0},null,{"$f":"+IF($Q45=\"dudoso\",$Y45,0)","v":0},null,{"$f":"+IF($Q45=\"NO CUMPLE\",$Y45,0)","v":0},null,{"$f":"+IF($Q45=\"no aplica\",2,0)","v":0},null,null,{"$f":"IF(AK41=\"uni\",0.35,IF(AJ41=\"ne\",0.3,IF(AJ41=\"rh\",0.4,0)))","v":0}]
[null,null,null,null,null,null,null,null,null,null,null,null,null,null,null,null,null,null,null,null,null,null,null,null,null,null,null,null,null,null,null,null,null,null,null,null,{"$f":"IF(AK41=\"uni\",0.35,IF(AJ41=\"ne\",0.2,IF(AJ41=\"rh\",0.2,0)))","v":0}]
[null,null,null,"Existe un espacio en la planta baja para almaenar trastos.",null,null,null,null,null,null,null,null,null,null,null,null,null,null,null,null,null,null,null,null,0.25,{"$f":"+IF($Q47=\"seguro\",$Y47,0)","v":0},null,{"$f":"+IF($Q47=\"probable\",$Y47,0)","v":0},null,{"$f":"+IF($Q47=\"dudoso\",$Y47,0)","v":0},null,{"$f":"+IF($Q47=\"NO CUMPLE\",$Y47,0)","v":0},null,{"$f":"+IF($Q47=\"no aplica\",2,0)","v":0},null,null,{"$f":"IF(AK41=\"uni\",0,IF(AJ41=\"ne\",0.3,IF(AJ41=\"rh\",0.2,0)))","v":0}]
[]
[null,null,null,"Existe un sistema de revalorización de residuos en la parcela.",null,null,null,null,null,null,null,null,null,null,null,null,null,null,null,null,null,null,null,null,0.25,{"$f":"+IF($Q49=\"seguro\",$Y49,0)","v":0},null,{"$f":"+IF($Q49=\"probable\",$Y49,0)","v":0},null,{"$f":"+IF($Q49=\"dudoso\",$Y49,0)","v":0},null,{"$f":"+IF($Q49=\"NO CUMPLE\",$Y49,0)","v":0},null,{"$f":"+IF($Q49=\"no aplica\",2,0)","v":0}]
[]
[null,null,null,"Se cumplen otras medidas de reducción, clasificación o gestión de residuos",null,null,null,null,null,null,null,null,null,null,null,null,null,null,null,null,null,null,null,null,0.25,{"$f":"+IF($Q51=\"seguro\",$Y51,0)","v":0},null,{"$f":"+IF($Q51=\"probable\",$Y51,0)","v":0},null,{"$f":"+IF($Q51=\"dudoso\",$Y51,0)","v":0},null,{"$f":"+IF($Q51=\"NO CUMPLE\",$Y51,0)","v":0},null,{"$f":"+IF($Q51=\"no aplica\",2,0)","v":0}]
[null,null,null,null,null,null,null,null,null,null,null,null,null,null,null,null,null,null,null,null,null,null,null,null,{"$f":"SUM(Y45:Y51)","v":1},{"$f":"IF($O41=\"\",0,SUM(Z45:Z51)*$O41/Y52)","v":0},null,{"$f":"IF($O41=\"\",0,SUM(AB45:AB51)*$O41/$Y52)","v":0},null,{"$f":"IF($O41=\"\",0,SUM(AD45:AD51)*$O41/$Y52)","v":0},null,{"$f":"IF($O41=\"\",0,SUM(AF45:AF51)*$O41/$Y52)","v":0}]
[]
[]
[null,null,null,{"$f":"'Matriz VERDE-GBCe'!H10","v":"PyE 06"},{"$f":"VLOOKUP($D55,'Matriz VERDE-GBCe'!$H$4:$K$49,2,FALSE)","v":"Gestión y Restauración del hábitat."},null,null,null,null,null,null,null,null,null,{"$f":"VLOOKUP($D55,'Matriz VERDE-GBCe'!$H$4:$K$49,3,FALSE)","v":0},null,null,null,null,null,null,null,null,null,"Target","SEGURO",null,"PROBABLE",null,"DUDOSO",null,"NO CUMPLE",null,"NO APLICA"]
[]
[null,null,null,"NOTA: Este criterio se evalúa por fórmulas lineales, la puntuación puede variar en la evaluación final. Ver la guía."]
[]
[null,null,null,"El porcentaje de superficie ajardinada ocupado por plantas autóctonas está entre el 50 y el 75%",null,null,null,null,null,null,null,null,null,null,null,null,null,null,null,null,null,null,null,null,0.5,{"$f":"+IF($Q59=\"seguro\",$Y59,0)","v":0},null,{"$f":"+IF($Q59=\"probable\",$Y59,0)","v":0},null,{"$f":"+IF($Q59=\"dudoso\",$Y59,0)","v":0},null,{"$f":"+IF($Q59=\"NO CUMPLE\",$Y59,0)","v":0},null,{"$f":"+IF($Q59=\"no aplica\",2,0)","v":0}]
[]
[null,null,null,"El porcentaje de superficie ajardinada ocupado por plantas autóctonas es superior al 75%",null,null,null,null,null,null,null,null,null,null,null,null,null,null,null,null,null,null,null,null,1,{"$f":"+IF($Q61=\"seguro\",$Y61,0)","v":0},null,{"$f":"+IF($Q61=\"probable\",$Y61,0)","v":0},null,{"$f":"+IF($Q61=\"dudoso\",$Y61,0)","v":0},null,{"$f":"+IF($Q61=\"NO CUMPLE\",$Y61,0)","v":0},null,{"$f":"+IF($Q61=\"no aplica\",2,0)","v":0}]
[null,null,null,null,null,null,null,null,null,null,null,null,null,null,null,null,null,null,null,null,null,null,null,null,{"$f":"MAX(Y56:Y61)","v":1},{"$f":"IF($O55=\"\",0,MAX(Z59:Z61)*$O55/$Y62)","v":0},null,{"$f":"IF($O55=\"\",0,MAX(AB59:AB61)*$O55/$Y62)","v":0},null,{"$f":"IF($O55=\"\",0,MAX(AD59:AD61)*$O55/$Y62)","v":0},null,{"$f":"IF($O55=\"\",0,MAX(AF59:AF61)*$O55/$Y62)","v":0}]
[]
[]
[null,null,null,{"$f":"'Matriz VERDE-GBCe'!H11","v":"PyE 07"},null,{"$f":"VLOOKUP($D65,'Matriz VERDE-GBCe'!$H$4:$K$49,2,FALSE)","v":"Uso de plantas para crear sombras."},null,null,null,null,null,null,null,null,{"$f":"VLOOKUP($D65,'Matriz VERDE-GBCe'!$H$4:$K$49,3,FALSE)","v":2.3420308079220367E-2},null,null,null,null,null,null,null,null,null,"Target","SEGURO",null,"PROBABLE",null,"DUDOSO",null,"NO CUMPLE",null,"NO APLICA"]
[]
[null,null,null,"NOTA: Este criterio se evalúa por fórmulas lineales, la puntuación puede variar en la evaluación final. Ver la guía."]
[]
[null,null,null,"Se cumplen los requisitos de sombreamiento para la fachada este",null,null,null,null,null,null,null,null,null,null,null,null,null,null,null,null,null,null,null,null,0.3,{"$f":"+IF($Q69=\"seguro\",$Y69,0)","v":0},null,{"$f":"+IF($Q69=\"probable\",$Y69,0)","v":0},null,{"$f":"+IF($Q69=\"dudoso\",$Y69,0)","v":0},null,{"$f":"+IF($Q69=\"NO CUMPLE\",$Y69,0)","v":0},null,{"$f":"+IF($Q69=\"no aplica\",2,0)","v":0}]
[]
[null,null,null,"Se cumplen los requisitos de sombreamiento de la fachada oeste",null,null,null,null,null,null,null,null,null,null,null,null,null,null,null,null,null,null,null,null,0.7,{"$f":"+IF($Q71=\"seguro\",$Y71,0)","v":0},null,{"$f":"+IF($Q71=\"probable\",$Y71,0)","v":0},null,{"$f":"+IF($Q71=\"dudoso\",$Y71,0)","v":0},null,{"$f":"+IF($Q71=\"NO CUMPLE\",$Y71,0)","v":0},null,{"$f":"+IF($Q71=\"no aplica\",2,0)","v":0}]
[null,null,null,null,null,null,null,null,null,null,null,null,null,null,null,null,null,null,null,null,null,null,null,null,{"$f":"SUM(Y69:Y71)","v":1},{"$f":"IF($O65=\"\",0,SUM(Z69:Z71)*$O65/$Y72)","v":0},null,{"$f":"IF($O65=\"\",0,SUM(AB69:AB71)*$O65/$Y72)","v":0},null,{"$f":"IF($O65=\"\",0,SUM(AD69:AD71)*$O65/$Y72)","v":0},null,{"$f":"IF($O65=\"\",0,SUM(AF69:AF71)*$O65/$Y72)","v":0}]
[]
[]
[null,null,null,{"$f":"'Matriz VERDE-GBCe'!H12","v":"PyE 08"},{"$f":"VLOOKUP($D75,'Matriz VERDE-GBCe'!$H$4:$K$49,2,FALSE)","v":"Efecto isla de calor."},null,null,null,null,null,null,null,null,null,{"$f":"VLOOKUP($D75,'Matriz VERDE-GBCe'!$H$4:$K$49,3,FALSE)","v":1.6504243948443881E-2},null,null,null,null,null,null,null,null,null,"Target","SEGURO",null,"PROBABLE",null,"DUDOSO",null,"NO CUMPLE",null,"NO APLICA"]
[]
[null,null,null,"NOTA: Este criterio se evalúa por fórmulas lineales, la puntuación puede variar en la evaluación final. Ver la guía."]
[]
[null,null,null,"El porcentaje de superficie libre de parcela más cubierta, cubierto por zonas ajardinadas es superior al 50%",null,null,null,null,null,null,null,null,null,null,null,null,null,null,null,null,null,null,0.2,{"$f":"IF(AH79=2,0,W79)","v":0.2},{"$f":"X79/X$84","v":0.2},{"$f":"+IF($Q79=\"seguro\",$Y79,0)","v":0},null,{"$f":"+IF($Q79=\"probable\",$Y79,0)","v":0},null,{"$f":"+IF($Q79=\"dudoso\",$Y79,0)","v":0},null,{"$f":"+IF($Q79=\"NO CUMPLE\",$Y79,0)","v":0},null,{"$f":"+IF($Q79=\"no aplica\",2,0)","v":0}]
[]
[null,null,null,"El porcentaje de superficie libre de parcela más cubierta que evita la isla de calor es superior al 70%",null,null,null,null,null,null,null,null,null,null,null,null,null,null,null,null,null,null,0.5,{"$f":"IF(AH81=2,0,W81)","v":0.5},{"$f":"X81/X$84","v":0.5},{"$f":"+IF($Q81=\"seguro\",$Y81,0)","v":0},null,{"$f":"+IF($Q81=\"probable\",$Y81,0)","v":0},null,{"$f":"+IF($Q81=\"dudoso\",$Y81,0)","v":0},null,{"$f":"+IF($Q81=\"NO CUMPLE\",$Y81,0)","v":0},null,{"$f":"+IF($Q81=\"no aplica\",2,0)","v":0}]
[]
[null,null,null,"El porcentaje de superficie de fachadas este, sur y oeste que evita la isla de calor es superior al 50%",null,null,null,null,null,null,null,null,null,null,null,null,null,null,null,null,null,null,0.3,{"$f":"IF(AH83=2,0,W83)","v":0.3},{"$f":"X83/X$84","v":0.3},{"$f":"+IF($Q83=\"seguro\",$Y83,0)","v":0},null,{"$f":"+IF($Q83=\"probable\",$Y83,0)","v":0},null,{"$f":"+IF($Q83=\"dudoso\",$Y83,0)","v":0},null,{"$f":"+IF($Q83=\"NO CUMPLE\",$Y83,0)","v":0},null,{"$f":"+IF($Q83=\"no aplica\",2,0)","v":0}]
[null,null,null,null,null,null,null,null,null,null,null,null,null,null,null,null,null,null,null,null,null,null,null,{"$f":"SUM(X79:X83)","v":1},{"$f":"SUM(Y79:Y83)","v":1},{"$f":"IF($O75=\"\",0,SUM(Z79:Z83)*$O75/$Y84)","v":0},null,{"$f":"IF($O75=\"\",0,SUM(AB79:AB83)*$O75/$Y84)","v":0},null,{"$f":"IF($O75=\"\",0,SUM(AD79:AD83)*$O75/$Y84)","v":0},null,{"$f":"IF($O75=\"\",0,SUM(AF79:AF83)*$O75/$Y84)","v":0}]
[]
[]
[null,null,null,{"$f":"'Matriz VERDE-GBCe'!H13","v":"PyE 09"},{"$f":"VLOOKUP($D87,'Matriz VERDE-GBCe'!$H$4:$K$49,2,FALSE)","v":"Contaminación lumínica."},null,null,null,null,null,null,null,null,null,{"$f":"VLOOKUP($D87,'Matriz VERDE-GBCe'!$H$4:$K$49,3,FALSE)","v":1.2574662055957243E-2},null,null,null,null,null,null,null,null,null,"Target","SEGURO",null,"PROBABLE",null,"DUDOSO",null,"NO CUMPLE",null,"NO APLICA"]
[]
[null,null,null,"El FHS mayor de las luminarias instaladas no supera los límites de VERDE",null,null,null,null,null,null,null,null,null,null,null,null,null,null,null,null,null,null,null,null,1,{"$f":"+IF($Q89=\"seguro\",$Y89,0)","v":0},null,{"$f":"+IF($Q89=\"probable\",$Y89,0)","v":0},null,{"$f":"+IF($Q89=\"dudoso\",$Y89,0)","v":0},null,{"$f":"+IF($Q89=\"NO CUMPLE\",$Y89,0)","v":0},null,{"$f":"+IF($Q89=\"no aplica\",2,0)","v":0}]
[null,null,null,null,null,null,null,null,null,null,null,null,null,null,null,null,null,null,null,null,null,null,null,null,{"$f":"SUM(Y89:Y89)","v":1},{"$f":"IF($O87=\"\",0,SUM(Z89:Z89)*$O87/$Y90)","v":0},null,{"$f":"IF($O87=\"\",0,SUM(AB89:AB89)*$O87/$Y90)","v":0},null,{"$f":"IF($O87=\"\",0,SUM(AD89:AD89)*$O87/$Y90)","v":0},null,{"$f":"IF($O87=\"\",0,SUM(AF89:AF89)*$O87/$Y90)","v":0}]
[]
[null,null,null,null,null,"SEGURO",null,"PROBABLE",null,"DUDOSO",null,"NO CUMPLE"]
[]
[null,null,"SUBTOTAL PyE",null,null,{"$f":"Z11+Z17+Z26+Z38+Z52+Z62+Z72+Z84+Z90","v":0},null,{"$f":"AB11+AB17+AB26+AB38+AB52+AB62+AB72+AB84+AB90","v":0},null,{"$f":"AD11+AD17+AD26+AD38+AD52+AD62+AD72+AD84+AD90","v":0},null,{"$f":"AF11+AF17+AF26+AF38+AF52+AF62+AF72+AF84+AF90","v":0}]
[]
[]
[null,"EyA",null,"ENERGÍA Y ATMÓSFERA",null,null,null,null,null,null,null,null,null,null,null,null,null,null,null,null,null,null,"El porcentaje de ahorro de la demanda energética conjunta sobre el mínimo exigido es superior al 50%"]
[]
[]
[null,null,null,{"$f":"'Matriz VERDE-GBCe'!H15","v":"EyA 01"},{"$f":"VLOOKUP($D100,'Matriz VERDE-GBCe'!$H$4:$K$49,2,FALSE)","v":"Demanda de calefacción y refrigeración."},null,null,null,null,null,null,null,null,null,{"$f":"VLOOKUP($D100,'Matriz VERDE-GBCe'!$H$4:$K$49,3,FALSE)","v":8.4878968877711389E-2},null,null,null,null,null,null,null,{"$f":"IF(DG!E27=\"Rehabilitación\",\"RH\",IF(OR(DG!E27=\"Nueva Edificación\",DG!E27=\"Edificio existente\"),\"NE\",\"\"))","v":""}]
[]
[null,null,null,{"$f":"IF(DG!$E$27=0,\"\",DG!$E$27)","v":""},null,null,null,null,null,null,null,null,null,null,null,null,null,null,null,null,null,null,null,null,"Target","SEGURO",null,"PROBABLE",null,"DUDOSO",null,"NO CUMPLE",null,"NO APLICA"]
[]
[null,null,null,{"$f":"IF(W100=\"ne\",\"El porcentaje de ahorro de la demanda energética conjunta sobre el mínimo exigido es del 20%\",\"El porcentaje de ahorro de la demanda energética conjunta sobre el mínimo exigido es del 5%\")","v":"El porcentaje de ahorro de la demanda energética conjunta sobre el mínimo exigido es del 5%"},null,null,null,null,null,null,null,null,null,null,null,null,null,null,null,null,null,null,null,null,{"$f":"IF(W100=\"ne\",0.2)","v":false},{"$f":"+IF($Q104=\"seguro\",$Y104,0)","v":0},null,{"$f":"+IF($Q104=\"probable\",$Y104,0)","v":0},null,{"$f":"+IF($Q104=\"dudoso\",$Y104,0)","v":0},null,{"$f":"+IF($Q104=\"NO CUMPLE\",$Y104,0)","v":0},null,{"$f":"+IF($Q104=\"no aplica\",2,0)","v":0}]
[]
[null,null,null,{"$f":"IF(W100=\"ne\",\"El porcentaje de ahorro de la demanda energética conjunta sobre el mínimo exigido es del 30%\",\"El porcentaje de ahorro de la demanda energética conjunta sobre el mínimo exigido es del 7%\")","v":"El porcentaje de ahorro de la demanda energética conjunta sobre el mínimo exigido es del 7%"},null,null,null,null,null,null,null,null,null,null,null,null,null,null,null,null,null,null,null,null,{"$f":"IF(W100=\"ne\",0.4)","v":false},{"$f":"+IF($Q106=\"seguro\",$Y106,0)","v":0},null,{"$f":"+IF($Q106=\"probable\",$Y106,0)","v":0},null,{"$f":"+IF($Q106=\"dudoso\",$Y106,0)","v":0},null,{"$f":"+IF($Q106=\"NO CUMPLE\",$Y106,0)","v":0},null,{"$f":"+IF($Q106=\"no aplica\",2,0)","v":0}]
[]
[null,null,null,{"$f":"IF(W100=\"ne\",\"El porcentaje de ahorro de la demanda energética conjunta sobre el mínimo exigido es del 40%\",\"El porcentaje de ahorro de la demanda energética conjunta sobre el mínimo exigido es del 8,5%\")","v":"El porcentaje de ahorro de la demanda energética conjunta sobre el mínimo exigido es del 8,5%"},null,null,null,null,null,null,null,null,null,null,null,null,null,null,null,null,null,null,null,null,{"$f":"IF(W100=\"ne\",0.6)","v":false},{"$f":"+IF($Q108=\"seguro\",$Y108,0)","v":0},null,{"$f":"+IF($Q108=\"probable\",$Y108,0)","v":0},null,{"$f":"+IF($Q108=\"dudoso\",$Y108,0)","v":0},null,{"$f":"+IF($Q108=\"NO CUMPLE\",$Y108,0)","v":0},null,{"$f":"+IF($Q108=\"no aplica\",2,0)","v":0}]
[]
[null,null,null,{"$f":"IF(W100=\"ne\",\"El porcentaje de ahorro de la demanda energética conjunta sobre el mínimo exigido es del 45%\",\"El porcentaje de ahorro de la demanda energética conjunta sobre el mínimo exigido es del 9,5%\")","v":"El porcentaje de ahorro de la demanda energética conjunta sobre el mínimo exigido es del 9,5%"},null,null,null,null,null,null,null,null,null,null,null,null,null,null,null,null,null,null,null,null,{"$f":"IF(W100=\"ne\",0.8)","v":false},{"$f":"+IF($Q110=\"seguro\",$Y110,0)","v":0},null,{"$f":"+IF($Q110=\"probable\",$Y110,0)","v":0},null,{"$f":"+IF($Q110=\"dudoso\",$Y110,0)","v":0},null,{"$f":"+IF($Q110=\"NO CUMPLE\",$Y110,0)","v":0},null,{"$f":"+IF($Q110=\"no aplica\",2,0)","v":0}]
[]
[null,null,null,{"$f":"IF(W100=\"ne\",\"El porcentaje de ahorro de la demanda energética conjunta sobre el mínimo exigido es superior al 50%\",\"El porcentaje de ahorro de la demanda energética conjunta sobre el mínimo exigido es superior al 10%\")","v":"El porcentaje de ahorro de la demanda energética conjunta sobre el mínimo exigido es superior al 10%"},null,null,null,null,null,null,null,null,null,null,null,null,null,null,null,null,null,null,null,null,1,{"$f":"+IF($Q112=\"seguro\",$Y112,0)","v":0},null,{"$f":"+IF($Q112=\"probable\",$Y112,0)","v":0},null,{"$f":"+IF($Q112=\"dudoso\",$Y112,0)","v":0},null,{"$f":"+IF($Q112=\"NO CUMPLE\",$Y112,0)","v":0},null,{"$f":"+IF($Q112=\"no aplica\",2,0)","v":0}]
[null,null,null,null,null,null,null,null,null,null,null,null,null,null,null,null,null,null,null,null,null,null,null,null,{"$f":"MAX(Y110:Y112)","v":1},{"$f":"IF($O100=\"\",0,(MAX(Z110:Z112)*$O100)+Z109)","v":0},null,{"$f":"IF($O100=\"\",0,(MAX(AB110:AB112)*$O100)+AB109)","v":0},null,{"$f":"IF($O100=\"\",0,(MAX(AD110:AD112)*$O100)+AD109)","v":0},null,{"$f":"IF($O100=\"\",0,(MAX(AF110:AF112)*$O100)+AF109)","v":0}]
[]
[]
[null,null,null,{"$f":"'Matriz VERDE-GBCe'!H16","v":"EyA 02"},{"$f":"VLOOKUP($D116,'Matriz VERDE-GBCe'!$H$4:$K$49,2,FALSE)","v":"Consumo de energía primaria no renovable."},null,null,null,null,null,null,null,null,null,{"$f":"VLOOKUP($D116,'Matriz VERDE-GBCe'!$H$4:$K$49,3,FALSE)","v":5.0298648223828971E-2}]
[]
[null,null,null,{"$f":"IF(DG!$E$27=0,\"\",DG!$E$27)","v":""}]
[]
[null,null,null,{"$f":"IF(W100=\"ne\",\"El porcentaje de reducción del consumo de energía primaria no renovable respecto de la clasificación B es superior al 20%\",\"El porcentaje de reducción del consumo de energía primaria no renovable respecto al edificio de referencia es superior al 20%\")","v":"El porcentaje de reducción del consumo de energía primaria no renovable respecto al edificio de referencia es superior al 20%"},null,null,null,null,null,null,null,null,null,null,null,null,null,null,null,null,null,null,null,null,"Target","SEGURO",null,"PROBABLE",null,"DUDOSO",null,"NO CUMPLE",null,"NO APLICA"]
[]
[null,null,null,{"$f":"IF(W100=\"ne\",\"El porcentaje de reducción del consumo de energía primaria no renovable respecto de la clasificación B es superior al 30%\",\"El porcentaje de reducción del consumo de energía primaria no renovable respecto al edificio de referencia es del 30%\")","v":"El porcentaje de reducción del consumo de energía primaria no renovable respecto al edificio de referencia es del 30%"},null,null,null,null,null,null,null,null,null,null,null,null,null,null,null,null,null,null,null,null,{"$f":"IF(W98=\"ne\",IF(Q$120=15,0.2,0.1),0.1)","v":0.1},{"$f":"+IF($Q122=\"seguro\",$Y122,0)","v":0},null,{"$f":"+IF($Q122=\"probable\",$Y122,0)","v":0},null,{"$f":"+IF($Q122=\"dudoso\",$Y122,0)","v":0},null,{"$f":"+IF($Q122=\"NO CUMPLE\",$Y122,0)","v":0},null,{"$f":"+IF($Q122=\"no aplica\",2,0)","v":0}]
[]
[null,null,null,{"$f":"IF(W100=\"ne\",\"El porcentaje de reducción del consumo de energía primaria no renovable respecto de la clasificación B es superior al 40%\",\"El porcentaje de reducción del consumo de energía primaria no renovable respecto  al edificio de referencia es superior al 40%\")","v":"El porcentaje de reducción del consumo de energía primaria no renovable respecto  al edificio de referencia es superior al 40%"},null,null,null,null,null,null,null,null,null,null,null,null,null,null,null,null,null,null,null,null,{"$f":"IF(W100=\"ne\",IF(Q$120=15,0.2,0.1),0.1)","v":0.1},{"$f":"+IF($Q124=\"seguro\",$Y124,0)","v":0},null,{"$f":"+IF($Q124=\"probable\",$Y124,0)","v":0},null,{"$f":"+IF($Q124=\"dudoso\",$Y124,0)","v":0},null,{"$f":"+IF($Q124=\"NO CUMPLE\",$Y124,0)","v":0},null,{"$f":"+IF($Q124=\"no aplica\",2,0)","v":0}]
[]
[null,null,null,{"$f":"IF(W100=\"ne\",\"El porcentaje de reducción del consumo de energía primaria no renovable respecto de la clasificación B es superior al 45%\",\"El porcentaje de reducción del consumo de energía primaria no renovable respecto  al edificio de referencia es superior al 45%\")","v":"El porcentaje de reducción del consumo de energía primaria no renovable respecto  al edificio de referencia es superior al 45%"},null,null,null,null,null,null,null,null,null,null,null,null,null,null,null,null,null,null,null,null,{"$f":"IF(W116=\"ne\",IF(#REF!=15,0.2,0.4),0.4)","v":0.4},{"$f":"+IF($Q126=\"seguro\",$Y126,0)","v":0},null,{"$f":"+IF($Q126=\"probable\",$Y126,0)","v":0},null,{"$f":"+IF($Q126=\"dudoso\",$Y126,0)","v":0},null,{"$f":"+IF($Q126=\"NO CUMPLE\",$Y126,0)","v":0},null,{"$f":"+IF($Q126=\"no aplica\",2,0)","v":0}]
[]
[null,null,null,{"$f":"IF(W100=\"ne\",\"El porcentaje de reducción del consumo de energía primaria no renovable respecto de la clasificación B es superior al 50%\",\"El porcentaje de reducción del consumo de energía primaria no renovable respecto  al edificio de referencia es superior al 50%\")","v":"El porcentaje de reducción del consumo de energía primaria no renovable respecto  al edificio de referencia es superior al 50%"},null,null,null,null,null,null,null,null,null,null,null,null,null,null,null,null,null,null,null,null,{"$f":"IF(W116=\"ne\",IF(#REF!=15,0,1),1)","v":1},{"$f":"+IF($Q128=\"seguro\",$Y128,0)","v":0},null,{"$f":"+IF($Q128=\"probable\",$Y128,0)","v":0},null,{"$f":"+IF($Q128=\"dudoso\",$Y128,0)","v":0},null,{"$f":"+IF($Q128=\"NO CUMPLE\",$Y128,0)","v":0},null,{"$f":"+IF($Q128=\"no aplica\",2,0)","v":0}]
[null,null,null,null,null,null,null,null,null,null,null,null,null,null,null,null,null,null,null,null,null,null,null,null,{"$f":"MAX(Y123:Y128)","v":1},{"$f":"IF($O116=\"\",0,MAX(Z123:Z128)*$O116)","v":0},null,{"$f":"IF($O116=\"\",0,MAX(AB123:AB128)*$O116)","v":0},null,{"$f":"IF($O116=\"\",0,MAX(AD123:AD128)*$O116)","v":0},null,{"$f":"IF($O116=\"\",0,MAX(AF123:AF128)*$O116)","v":0}]
[]
[]
[null,null,null,{"$f":"'Matriz VERDE-GBCe'!H17","v":"EyA 03"},{"$f":"VLOOKUP($D132,'Matriz VERDE-GBCe'!$H$4:$K$49,2,FALSE)","v":"Emisiones de CO2"},null,null,null,null,null,null,null,null,null,{"$f":"VLOOKUP($D132,'Matriz VERDE-GBCe'!$H$4:$K$49,3,FALSE)","v":3.1436655139893105E-2}]
[null,null,null,{"$f":"IF(DG!$E$27=0,\"\",DG!$E$27)","v":""},null,null,null,null,null,null,null,null,null,null,null,null,null,null,null,null,null,null,null,null,"Target","SEGURO",null,"PROBABLE",null,"DUDOSO",null,"NO CUMPLE",null,"NO APLICA"]
[]
[null,null,null,{"$f":"IF(W100=\"ne\",\"El porcentaje de reducción del consumo de energía primaria no renovable respecto de la clasificación B es superior al 20%\",\"El porcentaje de reducción del consumo de energía primaria no renovable respecto de la clasificación D es superior al 20%\")","v":"El porcentaje de reducción del consumo de energía primaria no renovable respecto de la clasificación D es superior al 20%"},null,null,null,null,null,null,null,null,null,null,null,null,null,null,null,null,null,null,null,null,{"$f":"IF(W100=\"ne\",IF(#REF!=15,0.2,0.1),0.1)","v":0.1},{"$f":"+IF($Q135=\"seguro\",$Y135,0)","v":0},null,{"$f":"+IF($Q135=\"probable\",$Y135,0)","v":0},null,{"$f":"+IF($Q135=\"dudoso\",$Y135,0)","v":0},null,{"$f":"+IF($Q135=\"NO CUMPLE\",$Y135,0)","v":0},null,{"$f":"+IF($Q135=\"no aplica\",2,0)","v":0}]
[]
[null,null,null,{"$f":"IF(W100=\"ne\",\"El porcentaje de reducción del consumo de energía primaria no renovable respecto de la clasificación B es superior al 30%\",\"El porcentaje de reducción del consumo de energía primaria no renovable respecto de la clasificación D es del 30%\")","v":"El porcentaje de reducción del consumo de energía primaria no renovable respecto de la clasificación D es del 30%"},null,null,null,null,null,null,null,null,null,null,null,null,null,null,null,null,null,null,null,null,{"$f":"IF(W100=\"ne\",IF(#REF!=15,0.2,0.4),0.4)","v":0.4},{"$f":"+IF($Q137=\"seguro\",$Y137,0)","v":0},null,{"$f":"+IF($Q137=\"probable\",$Y137,0)","v":0},null,{"$f":"+IF($Q137=\"dudoso\",$Y137,0)","v":0},null,{"$f":"+IF($Q137=\"NO CUMPLE\",$Y137,0)","v":0},null,{"$f":"+IF($Q137=\"no aplica\",2,0)","v":0}]
[]
[null,null,null,{"$f":"IF(W100=\"ne\",\"El porcentaje de reducción del consumo de energía primaria no renovable respecto de la clasificación B es superior al 40%\",\"El porcentaje de reducción del consumo de energía primaria no renovable respecto de la clasificación D es superior al 40%\")","v":"El porcentaje de reducción del consumo de energía primaria no renovable respecto de la clasificación D es superior al 40%"},null,null,null,null,null,null,null,null,null,null,null,null,null,null,null,null,null,null,null,null,{"$f":"IF(W104=\"ne\",IF(#REF!=15,0.2,0.1),0.1)","v":0.1},{"$f":"+IF($Q139=\"seguro\",$Y139,0)","v":0},null,{"$f":"+IF($Q139=\"probable\",$Y139,0)","v":0},null,{"$f":"+IF($Q139=\"dudoso\",$Y139,0)","v":0},null,{"$f":"+IF($Q139=\"NO CUMPLE\",$Y139,0)","v":0},null,{"$f":"+IF($Q139=\"no aplica\",2,0)","v":0}]
[]
[null,null,null,{"$f":"IF(W100=\"ne\",\"El porcentaje de reducción del consumo de energía primaria no renovable respecto de la clasificación B es superior al 45%\",\"El porcentaje de reducción del consumo de energía primaria no renovable respecto de la clasificación D es superior al 45%\")","v":"El porcentaje de reducción del consumo de energía primaria no renovable respecto de la clasificación D es superior al 45%"},null,null,null,null,null,null,null,null,null,null,null,null,null,null,null,null,null,null,null,null,{"$f":"IF(W104=\"ne\",IF(#REF!=15,0.2,0.4),0.4)","v":0.4},{"$f":"+IF($Q141=\"seguro\",$Y141,0)","v":0},null,{"$f":"+IF($Q141=\"probable\",$Y141,0)","v":0},null,{"$f":"+IF($Q141=\"dudoso\",$Y141,0)","v":0},null,{"$f":"+IF($Q141=\"NO CUMPLE\",$Y141,0)","v":0},null,{"$f":"+IF($Q141=\"no aplica\",2,0)","v":0}]
[]
[null,null,null,{"$f":"IF(W100=\"ne\",\"El porcentaje de reducción del consumo de energía primaria no renovable respecto de la clasificación B es superior al 50%\",\"El porcentaje de reducción del consumo de energía primaria no renovable respecto de la clasificación D es superior al 50%\")","v":"El porcentaje de reducción del consumo de energía primaria no renovable respecto de la clasificación D es superior al 50%"},null,null,null,null,null,null,null,null,null,null,null,null,null,null,null,null,null,null,null,null,{"$f":"IF(W100=\"ne\",IF(#REF!=15,0,1),1)","v":1},{"$f":"+IF($Q143=\"seguro\",$Y143,0)","v":0},null,{"$f":"+IF($Q143=\"probable\",$Y143,0)","v":0},null,{"$f":"+IF($Q143=\"dudoso\",$Y143,0)","v":0},null,{"$f":"+IF($Q143=\"NO CUMPLE\",$Y143,0)","v":0},null,{"$f":"+IF($Q143=\"no aplica\",2,0)","v":0}]
[null,null,null,null,null,null,null,null,null,null,null,null,null,null,null,null,null,null,null,null,null,null,null,null,{"$f":"MAX(Y134:Y143)","v":1},{"$f":"IF($O132=\"\",0,MAX(Z134:Z143)*$O132)","v":0},null,{"$f":"IF($O132=\"\",0,MAX(AB134:AB143)*$O132)","v":0},null,{"$f":"IF($O132=\"\",0,MAX(AD134:AD143)*$O132)","v":0},null,{"$f":"IF($O132=\"\",0,MAX(AF134:AF143)*$O132)","v":0}]
[]
[]
[null,null,null,{"$f":"'Matriz VERDE-GBCe'!H18","v":"EyA 04"},{"$f":"VLOOKUP($D147,'Matriz VERDE-GBCe'!$H$4:$K$49,2,FALSE)","v":"Consumo en sistemas de comunicación mecánicos."},null,null,null,null,null,null,null,null,null,{"$f":"VLOOKUP($D147,'Matriz VERDE-GBCe'!$H$4:$K$49,3,FALSE)","v":1.4146494812951898E-2},null,null,null,null,null,null,null,null,null,"Target","SEGURO",null,"PROBABLE",null,"DUDOSO",null,"NO CUMPLE",null,"NO APLICA"]
[]
[null,null,null,"Los elementos de comunicación mecánicos disponen de una clasificación energética B o superior según la UNE 25745-2",null,null,null,null,null,null,null,null,null,null,null,null,null,null,null,null,null,null,0.25,{"$f":"IF(AH149=2,0,W149)","v":0.25},1,{"$f":"+IF($Q149=\"seguro\",$Y149,0)","v":0},null,{"$f":"+IF($Q149=\"probable\",$Y149,0)","v":0},null,{"$f":"+IF($Q149=\"dudoso\",$Y149,0)","v":0},null,{"$f":"+IF($Q149=\"NO CUMPLE\",$Y149,0)","v":0},null,{"$f":"+IF($Q149=\"no aplica\",2,0)","v":0}]
[]
[null,null,null,"Los elementos de comunicación existentes tendrán implementadas, al menos 3 de las medidas descritas en el criterio.",null,null,null,null,null,null,null,null,null,null,null,null,null,null,null,null,null,null,0.3,{"$f":"IF(AH151=2,0,W151)","v":0.3},0.5,{"$f":"+IF($Q151=\"seguro\",$Y151,0)","v":0},null,{"$f":"+IF($Q151=\"probable\",$Y151,0)","v":0},null,{"$f":"+IF($Q151=\"dudoso\",$Y151,0)","v":0},null,{"$f":"+IF($Q151=\"NO CUMPLE\",$Y151,0)","v":0},null,{"$f":"+IF($Q151=\"no aplica\",2,0)","v":0}]
[null,null,null,null,null,null,null,null,null,null,null,null,null,null,null,null,null,null,null,null,null,null,{"$f":"SUM(#REF!)","v":{"$error":"#REF!"}},{"$f":"SUM(X148:X151)","v":0.55000000000000004},{"$f":"SUM(Y148:Y151)","v":1.5},{"$f":"IF($O147=\"\",0,MAX(Z148:Z151)*$O147)","v":0},null,{"$f":"IF($O147=\"\",0,MAX(AB148:AB151)*$O147)","v":0},null,{"$f":"IF($O147=\"\",0,MAX(AD148:AD151)*$O147)","v":0},null,{"$f":"IF($O147=\"\",0,MAX(AF148:AF151)*$O147)","v":0}]
[]
[]
[null,null,null,{"$f":"'Matriz VERDE-GBCe'!H19","v":"EyA 05"},{"$f":"VLOOKUP($D155,'Matriz VERDE-GBCe'!$H$4:$K$49,2,FALSE)","v":"Elección responsable de refrigerantes."},null,null,null,null,null,null,null,null,null,{"$f":"VLOOKUP($D155,'Matriz VERDE-GBCe'!$H$4:$K$49,3,FALSE)","v":2.5149324111914485E-2},null,null,null,null,null,null,null,null,null,"Target","SEGURO",null,"PROBABLE",null,"DUDOSO",null,"NO CUMPLE",null,"NO APLICA"]
[]
[null,null,null,"Todos los refrigerantes empleados tienen un potencial de calentamiento inferior a 400",null,null,null,null,null,null,null,null,null,null,null,null,null,null,null,null,null,null,null,null,0.1,{"$f":"+IF($Q157=\"seguro\",$Y157,0)","v":0},null,{"$f":"+IF($Q157=\"probable\",$Y157,0)","v":0},null,{"$f":"+IF($Q157=\"dudoso\",$Y157,0)","v":0},null,{"$f":"+IF($Q157=\"NO CUMPLE\",$Y157,0)","v":0},null,{"$f":"+IF($Q157=\"no aplica\",2,0)","v":0}]
[]
[null,null,null,"Todos los refrigerantes empleados tienen un potencial de calentamiento inferior a 200",null,null,null,null,null,null,null,null,null,null,null,null,null,null,null,null,null,null,null,null,0.3,{"$f":"+IF($Q159=\"seguro\",$Y159,0)","v":0},null,{"$f":"+IF($Q159=\"probable\",$Y159,0)","v":0},null,{"$f":"+IF($Q159=\"dudoso\",$Y159,0)","v":0},null,{"$f":"+IF($Q159=\"NO CUMPLE\",$Y159,0)","v":0},null,{"$f":"+IF($Q159=\"no aplica\",2,0)","v":0}]
[]
[null,null,null,"Todos los refrigerantes empleados tienen un potencial de calentamiento inferior a 10",null,null,null,null,null,null,null,null,null,null,null,null,null,null,null,null,null,null,null,null,0.6,{"$f":"+IF($Q161=\"seguro\",$Y161,0)","v":0},null,{"$f":"+IF($Q161=\"probable\",$Y161,0)","v":0},null,{"$f":"+IF($Q161=\"dudoso\",$Y161,0)","v":0},null,{"$f":"+IF($Q161=\"NO CUMPLE\",$Y161,0)","v":0},null,{"$f":"+IF($Q161=\"no aplica\",2,0)","v":0}]
[]
[null,null,null,"Existe un protocolo de actuación en caso de fugas",null,null,null,null,null,null,null,null,null,null,null,null,null,null,null,null,null,null,null,null,0.4,{"$f":"+IF($Q163=\"seguro\",$Y163,0)","v":0},null,{"$f":"+IF($Q163=\"probable\",$Y163,0)","v":0},null,{"$f":"+IF($Q163=\"dudoso\",$Y163,0)","v":0},null,{"$f":"+IF($Q163=\"NO CUMPLE\",$Y163,0)","v":0},null,{"$f":"+IF($Q163=\"no aplica\",2,0)","v":0}]
[null,null,null,null,null,null,null,null,null,null,null,null,null,null,null,null,null,null,null,null,null,null,null,null,{"$f":"SUM(Y161:Y163)","v":1},{"$f":"IF($O155=\"\",0,(MAX(Z157:Z161)+Z163)*$O155)","v":0},null,{"$f":"IF($O155=\"\",0,(MAX(AB157:AB161)+AB163)*$O155)","v":0},null,{"$f":"IF($O155=\"\",0,(MAX(AD157:AD161)+AD163)*$O155)","v":0},null,{"$f":"IF($O155=\"\",0,(MAX(AF157:AF161)+AF163)*$O155)","v":0}]
[]
[]
[null,null,null,{"$f":"'Matriz VERDE-GBCe'!H20","v":"EyA 06"},{"$f":"VLOOKUP($D167,'Matriz VERDE-GBCe'!$H$4:$K$49,2,FALSE)","v":"Frío industrial"},null,null,null,null,null,null,null,null,null,{"$f":"VLOOKUP($D167,'Matriz VERDE-GBCe'!$H$4:$K$49,3,FALSE)","v":2.5149324111914485E-2},null,null,null,null,null,null,null,null,null,"Target","SEGURO",null,"PROBABLE",null,"DUDOSO",null,"NO CUMPLE",null,"NO APLICA"]
[]
[null,null,null,"Por desarrollar",null,null,null,null,null,null,null,null,null,null,null,null,null,null,null,null,null,null,null,null,1,{"$f":"+IF($Q169=\"seguro\",$Y169,0)","v":0},null,{"$f":"+IF($Q169=\"probable\",$Y169,0)","v":0},null,{"$f":"+IF($Q169=\"dudoso\",$Y169,0)","v":0},null,{"$f":"+IF($Q169=\"NO CUMPLE\",$Y169,0)","v":0},null,{"$f":"+IF($Q169=\"no aplica\",2,0)","v":0}]
[]
[null,null,null,"Por desarrollar",null,null,null,null,null,null,null,null,null,null,null,null,null,null,null,null,null,null,null,null,1,{"$f":"+IF($Q171=\"seguro\",$Y171,0)","v":0},null,{"$f":"+IF($Q171=\"probable\",$Y171,0)","v":0},null,{"$f":"+IF($Q171=\"dudoso\",$Y171,0)","v":0},null,{"$f":"+IF($Q171=\"NO CUMPLE\",$Y171,0)","v":0},null,{"$f":"+IF($Q171=\"no aplica\",2,0)","v":0}]
[null,null,null,null,null,null,null,null,null,null,null,null,null,null,null,null,null,null,null,null,null,null,null,null,{"$f":"SUM(Y169:Y169)","v":1},{"$f":"IF($O167=\"\",0,SUM(Z169:Z169)*$O167)","v":0},null,{"$f":"IF($O167=\"\",0,SUM(AB169:AB169)*$O167)","v":0},null,{"$f":"IF($O167=\"\",0,SUM(AD169:AD169)*$O167)","v":0},null,{"$f":"IF($O167=\"\",0,SUM(AF169:AF169)*$O167)","v":0}]
[]
[null,null,null,null,null,"SEGURO",null,"PROBABLE",null,"DUDOSO",null,"NO CUMPLE"]
[]
[null,null,"SUBTOTAL EyA",null,null,{"$f":"Z113+Z129+Z144+Z152+Z164+Z172","v":0},null,{"$f":"AB113+AB129+AB144+AB152+AB164+AB172","v":0},null,{"$f":"AD113+AD129+AD144+AD152+AD164+AD172","v":0},null,{"$f":"AF113+AF129+AF144+AF152+AF164+AF172","v":0}]
[]
[]
[null,"RN",null,"RECURSOS NATURALES"]
[]
[]
[null,null,null,{"$f":"'Matriz VERDE-GBCe'!H22","v":"RN 01"},{"$f":"VLOOKUP($D182,'Matriz VERDE-GBCe'!$H$4:$K$49,2,FALSE)","v":"Consumo de agua en aparatos sanitarios."},null,null,null,null,null,null,null,null,null,{"$f":"VLOOKUP($D182,'Matriz VERDE-GBCe'!$H$4:$K$49,3,FALSE)","v":3.1436655139893105E-2},null,null,null,null,null,null,null,null,null,"Target","SEGURO",null,"PROBABLE",null,"DUDOSO",null,"NO CUMPLE",null,"NO APLICA"]
[]
[null,null,null,"El consumo de agua en sanitarios se reduce en un 20%",null,null,null,null,null,null,null,null,null,null,null,null,null,null,null,null,null,null,null,null,0.5,{"$f":"+IF($Q184=\"seguro\",$Y184,0)","v":0},null,{"$f":"+IF($Q184=\"probable\",$Y184,0)","v":0},null,{"$f":"+IF($Q184=\"dudoso\",$Y184,0)","v":0},null,{"$f":"+IF($Q184=\"NO CUMPLE\",$Y184,0)","v":0},null,{"$f":"+IF($Q184=\"no aplica\",2,0)","v":0}]
[]
[null,null,null,"El consumo de agua en sanitarios se reduce en un 30%",null,null,null,null,null,null,null,null,null,null,null,null,null,null,null,null,null,null,null,null,1,{"$f":"+IF($Q186=\"seguro\",$Y186,0)","v":0},null,{"$f":"+IF($Q186=\"probable\",$Y186,0)","v":0},null,{"$f":"+IF($Q186=\"dudoso\",$Y186,0)","v":0},null,{"$f":"+IF($Q186=\"NO CUMPLE\",$Y186,0)","v":0},null,{"$f":"+IF($Q186=\"no aplica\",2,0)","v":0}]
[null,null,null,null,null,null,null,null,null,null,null,null,null,null,null,null,null,null,null,null,null,null,null,null,{"$f":"MAX(Y184:Y186)","v":1},{"$f":"IF($O182=\"\",0,MAX(Z184:Z186)*$O182/$Y187)","v":0},null,{"$f":"IF($O182=\"\",0,MAX(AB184:AB186)*$O182/$Y187)","v":0},null,{"$f":"IF($O182=\"\",0,MAX(AD184:AD186)*$O182/$Y187)","v":0},null,{"$f":"IF($O182=\"\",0,MAX(AF184:AF186)*$O182/$Y187)","v":0}]
[]
[]
[null,null,null,{"$f":"'Matriz VERDE-GBCe'!H23","v":"RN 02"},{"$f":"VLOOKUP($D190,'Matriz VERDE-GBCe'!$H$4:$K$49,2,FALSE)","v":"Necesidades de riego en jardines."},null,null,null,null,null,null,null,null,null,{"$f":"VLOOKUP($D190,'Matriz VERDE-GBCe'!$H$4:$K$49,3,FALSE)","v":0},null,null,null,null,null,null,null,null,null,"Target","SEGURO",null,"PROBABLE",null,"DUDOSO",null,"NO CUMPLE",null,"NO APLICA"]
[]
[null,null,null,"Las necesidades de riego en jardines se reducen en un 40 %",null,null,null,null,null,null,null,null,null,null,null,null,null,null,null,null,null,null,null,null,0.35,{"$f":"+IF($Q192=\"seguro\",$Y192,0)","v":0},null,{"$f":"+IF($Q192=\"probable\",$Y192,0)","v":0},null,{"$f":"+IF($Q192=\"dudoso\",$Y192,0)","v":0},null,{"$f":"+IF($Q192=\"NO CUMPLE\",$Y192,0)","v":0},null,{"$f":"+IF($Q192=\"no aplica\",2,0)","v":0}]
[]
[null,null,null,"Las necesidades de riego en jardines se reducen en un 60 %",null,null,null,null,null,null,null,null,null,null,null,null,null,null,null,null,null,null,null,null,0.7,{"$f":"+IF($Q194=\"seguro\",$Y194,0)","v":0},null,{"$f":"+IF($Q194=\"probable\",$Y194,0)","v":0},null,{"$f":"+IF($Q194=\"dudoso\",$Y194,0)","v":0},null,{"$f":"+IF($Q194=\"NO CUMPLE\",$Y194,0)","v":0},null,{"$f":"+IF($Q194=\"no aplica\",2,0)","v":0}]
[]
[null,null,null,"Las necesidades de riego en jardines se reducen en un  80 %",null,null,null,null,null,null,null,null,null,null,null,null,null,null,null,null,null,null,null,null,1,{"$f":"+IF($Q196=\"seguro\",$Y196,0)","v":0},null,{"$f":"+IF($Q196=\"probable\",$Y196,0)","v":0},null,{"$f":"+IF($Q196=\"dudoso\",$Y196,0)","v":0},null,{"$f":"+IF($Q196=\"NO CUMPLE\",$Y196,0)","v":0},null,{"$f":"+IF($Q196=\"no aplica\",2,0)","v":0}]
[null,null,null,null,null,null,null,null,null,null,null,null,null,null,null,null,null,null,null,null,null,null,null,null,{"$f":"MAX(Y191:Y196)","v":1},{"$f":"IF($O190=\"\",0,MAX(Z191:Z196)*$O190/$Y197)","v":0},null,{"$f":"IF($O190=\"\",0,MAX(AB192:AB196)*$O190/$Y197)","v":0},null,{"$f":"IF($O190=\"\",0,MAX(AD191:AD196)*$O190/$Y197)","v":0},null,{"$f":"IF($O190=\"\",0,MAX(AF191:AF196)*$O190/$Y197)","v":0}]
[]
[]
[null,null,null,{"$f":"'Matriz VERDE-GBCe'!H24","v":"RN 03"},{"$f":"VLOOKUP($D200,'Matriz VERDE-GBCe'!$H$4:$K$49,2,FALSE)","v":"Consumo de agua en elementos singulares"},null,null,null,null,null,null,null,null,null,{"$f":"VLOOKUP($D200,'Matriz VERDE-GBCe'!$H$4:$K$49,3,FALSE)","v":1.8861993083935862E-2},null,null,null,null,null,null,null,null,null,"Target","SEGURO",null,"PROBABLE",null,"DUDOSO",null,"NO CUMPLE",null,"NO APLICA"]
[]
[null,null,null,"Se reutiliza el 80 % de las aguas grises producidas",null,null,null,null,null,null,null,null,null,null,null,null,null,null,null,null,null,null,0.6,{"$f":"IF(AH202=2,0,W202)","v":0.6},{"$f":"X202/X$203","v":1},{"$f":"+IF($Q202=\"seguro\",$Y202,0)","v":0},null,{"$f":"+IF($Q202=\"probable\",$Y202,0)","v":0},null,{"$f":"+IF($Q202=\"dudoso\",$Y202,0)","v":0},null,{"$f":"+IF($Q202=\"NO CUMPLE\",$Y202,0)","v":0},null,{"$f":"+IF($Q202=\"no aplica\",2,0)","v":0}]
[null,null,null,null,null,null,null,null,null,null,null,null,null,null,null,null,null,null,null,null,null,null,null,{"$f":"SUM(X201:X202)","v":0.6},{"$f":"SUM(Y201:Y202)","v":1},{"$f":"IF($O200=\"\",0,SUM(Z201:Z202)*$O200/$Y203)","v":0},null,{"$f":"IF($O200=\"\",0,SUM(AB201:AB202)*$O200/$Y203)","v":0},null,{"$f":"IF($O200=\"\",0,SUM(AD201:AD202)*$O200/$Y203)","v":0},null,{"$f":"IF($O200=\"\",0,SUM(AF201:AF202)*$O200/$Y203)","v":0}]
[]
[]
[null,null,null,{"$f":"'Matriz VERDE-GBCe'!H25","v":"RN 04"},{"$f":"VLOOKUP($D206,'Matriz VERDE-GBCe'!$H$4:$K$49,2,FALSE)","v":"Uso de agua no potable."},null,null,null,null,null,null,null,null,null,{"$f":"VLOOKUP($D206,'Matriz VERDE-GBCe'!$H$4:$K$49,3,FALSE)","v":1.8861993083935862E-2},null,null,null,null,null,null,null,null,null,"Target","SEGURO",null,"PROBABLE",null,"DUDOSO",null,"NO CUMPLE",null,"NO APLICA"]
[]
[null,null,null,"Las aguas recuperadas cubren el 30 % de las necesidades",null,null,null,null,null,null,null,null,null,null,null,null,null,null,null,null,null,null,null,null,0.35,{"$f":"+IF($Q208=\"seguro\",$Y208,0)","v":0},null,{"$f":"+IF($Q208=\"probable\",$Y208,0)","v":0},null,{"$f":"+IF($Q208=\"dudoso\",$Y208,0)","v":0},null,{"$f":"+IF($Q208=\"NO CUMPLE\",$Y208,0)","v":0},null,{"$f":"+IF($Q208=\"no aplica\",2,0)","v":0}]
[]
[null,null,null,"Las aguas recuperadas cubren el 60 % de las necesidades",null,null,null,null,null,null,null,null,null,null,null,null,null,null,null,null,null,null,null,null,0.7,{"$f":"+IF($Q210=\"seguro\",$Y210,0)","v":0},null,{"$f":"+IF($Q210=\"probable\",$Y210,0)","v":0},null,{"$f":"+IF($Q210=\"dudoso\",$Y210,0)","v":0},null,{"$f":"+IF($Q210=\"NO CUMPLE\",$Y210,0)","v":0},null,{"$f":"+IF($Q210=\"no aplica\",2,0)","v":0}]
[]
[null,null,null,"Las aguas recuperadas cubren el 90 % de las necesidades",null,null,null,null,null,null,null,null,null,null,null,null,null,null,null,null,null,null,null,null,1,{"$f":"+IF($Q212=\"seguro\",$Y212,0)","v":0},null,{"$f":"+IF($Q212=\"probable\",$Y212,0)","v":0},null,{"$f":"+IF($Q212=\"dudoso\",$Y212,0)","v":0},null,{"$f":"+IF($Q212=\"NO CUMPLE\",$Y212,0)","v":0},null,{"$f":"+IF($Q212=\"no aplica\",2,0)","v":0}]
[null,null,null,null,null,null,null,null,null,null,null,null,null,null,null,null,null,null,null,null,null,null,null,null,{"$f":"MAX(Y207:Y212)","v":1},{"$f":"IF($O206=\"\",0,MAX(Z207:Z212)*$O206/$Y213)","v":0},null,{"$f":"IF($O206=\"\",0,MAX(AB207:AB212)*$O206/$Y213)","v":0},null,{"$f":"IF($O206=\"\",0,MAX(AD207:AD212)*$O206/$Y213)","v":0},null,{"$f":"IF($O206=\"\",0,MAX(AF207:AF212)*$O206/$Y213)","v":0}]
[]
[]
[null,null,null,{"$f":"'Matriz VERDE-GBCe'!H26","v":"RN 05"},{"$f":"VLOOKUP($D216,'Matriz VERDE-GBCe'!$H$4:$K$49,2,FALSE)","v":"Uso de materiales reciclados."},null,null,null,null,null,null,null,null,null,{"$f":"VLOOKUP($D216,'Matriz VERDE-GBCe'!$H$4:$K$49,3,FALSE)","v":1.5718327569946552E-2},null,null,null,null,null,null,null,null,null,"Target","SEGURO",null,"PROBABLE",null,"DUDOSO",null,"NO CUMPLE",null,"NO APLICA"]
[]
[null,null,null,"Se ha instalado un 20 % de materiales reciclados",null,null,null,null,null,null,null,null,null,null,null,null,null,null,null,null,null,null,null,null,0.5,{"$f":"+IF($Q218=\"seguro\",$Y218,0)","v":0},null,{"$f":"+IF($Q218=\"probable\",$Y218,0)","v":0},null,{"$f":"+IF($Q218=\"dudoso\",$Y218,0)","v":0},null,{"$f":"+IF($Q218=\"NO CUMPLE\",$Y218,0)","v":0},null,{"$f":"+IF($Q218=\"no aplica\",2,0)","v":0}]
[]
[null,null,null,"Se ha instalado un 30 % de materiales reciclados",null,null,null,null,null,null,null,null,null,null,null,null,null,null,null,null,null,null,null,null,1,{"$f":"+IF($Q220=\"seguro\",$Y220,0)","v":0},null,{"$f":"+IF($Q220=\"probable\",$Y220,0)","v":0},null,{"$f":"+IF($Q220=\"dudoso\",$Y220,0)","v":0},null,{"$f":"+IF($Q220=\"NO CUMPLE\",$Y220,0)","v":0},null,{"$f":"+IF($Q220=\"no aplica\",2,0)","v":0}]
[null,null,null,null,null,null,null,null,null,null,null,null,null,null,null,null,null,null,null,null,null,null,null,null,{"$f":"MAX(Y217:Y220)","v":1},{"$f":"IF($O216=\"\",0,MAX(Z217:Z220)*$O216/$Y221)","v":0},null,{"$f":"IF($O216=\"\",0,MAX(AB217:AB220)*$O216/$Y221)","v":0},null,{"$f":"IF($O216=\"\",0,MAX(AD217:AD220)*$O216/$Y221)","v":0},null,{"$f":"IF($O216=\"\",0,MAX(AF217:AF220)*$O216/$Y221)","v":0}]
[]
[]
[null,null,null,{"$f":"'Matriz VERDE-GBCe'!H27","v":"RN 06"},{"$f":"VLOOKUP($D224,'Matriz VERDE-GBCe'!$H$4:$K$49,2,FALSE)","v":"Uso de materiales obtenidos de recursos sostenibles."},null,null,null,null,null,null,null,null,null,{"$f":"VLOOKUP($D224,'Matriz VERDE-GBCe'!$H$4:$K$49,3,FALSE)","v":1.2574662055957243E-2},null,null,null,null,null,null,null,null,null,"Target","SEGURO",null,"PROBABLE",null,"DUDOSO",null,"NO CUMPLE",null,"NO APLICA"]
[]
[null,null,null,"Al menos el 30 % de la maderas tienen certificado de procedencia",null,null,null,null,null,null,null,null,null,null,null,null,null,null,null,null,null,null,null,null,0.2,{"$f":"+IF($Q226=\"seguro\",$Y226,0)","v":0},null,{"$f":"+IF($Q226=\"probable\",$Y226,0)","v":0},null,{"$f":"+IF($Q226=\"dudoso\",$Y226,0)","v":0},null,{"$f":"+IF($Q226=\"NO CUMPLE\",$Y226,0)","v":0},null,{"$f":"+IF($Q226=\"no aplica\",2,0)","v":0}]
[]
[null,null,null,"Al menos el 50 % de la maderas tienen certificado de procedencia",null,null,null,null,null,null,null,null,null,null,null,null,null,null,null,null,null,null,null,null,0.7,{"$f":"+IF($Q228=\"seguro\",$Y228,0)","v":0},null,{"$f":"+IF($Q228=\"probable\",$Y228,0)","v":0},null,{"$f":"+IF($Q228=\"dudoso\",$Y228,0)","v":0},null,{"$f":"+IF($Q228=\"NO CUMPLE\",$Y228,0)","v":0},null,{"$f":"+IF($Q228=\"no aplica\",2,0)","v":0}]
[]
[null,null,null,"Al menos el 10 % de los materiales disponen de un documento de procedencia",null,null,null,null,null,null,null,null,null,null,null,null,null,null,null,null,null,null,null,null,0.1,{"$f":"+IF($Q230=\"seguro\",$Y230,0)","v":0},null,{"$f":"+IF($Q230=\"probable\",$Y230,0)","v":0},null,{"$f":"+IF($Q230=\"dudoso\",$Y230,0)","v":0},null,{"$f":"+IF($Q230=\"NO CUMPLE\",$Y230,0)","v":0},null,{"$f":"+IF($Q230=\"no aplica\",2,0)","v":0}]
[]
[null,null,null,"Al menos el 15 % de los materiales disponen de un documento de procedencia",null,null,null,null,null,null,null,null,null,null,null,null,null,null,null,null,null,null,null,null,0.3,{"$f":"+IF($Q232=\"seguro\",$Y232,0)","v":0},null,{"$f":"+IF($Q232=\"probable\",$Y232,0)","v":0},null,{"$f":"+IF($Q232=\"dudoso\",$Y232,0)","v":0},null,{"$f":"+IF($Q232=\"NO CUMPLE\",$Y232,0)","v":0},null,{"$f":"+IF($Q232=\"no aplica\",2,0)","v":0}]
[null,null,null,null,null,null,null,null,null,null,null,null,null,null,null,null,null,null,null,null,null,null,null,null,{"$f":"MAX(Y226:Y228)+MAX(Y230:Y232)","v":1},{"$f":"IF($O224=\"\",0,(MAX(Z225:Z228)+MAX(Z230:Z232))*O224/$Y233)","v":0},null,{"$f":"IF($O224=\"\",0,(MAX(AB225:AB228)+MAX(AB230:AB232))*Q224/$Y233)","v":0},null,{"$f":"IF($O224=\"\",0,(MAX(AD225:AD228)+MAX(AD230:AD232))*S224/$Y233)","v":0},null,{"$f":"IF($O224=\"\",0,(MAX(AF225:AF228)+MAX(AF230:AF232))*U224/$Y233)","v":0}]
[]
[]
[null,null,null,{"$f":"'Matriz VERDE-GBCe'!H28","v":"RN 07"},{"$f":"VLOOKUP($D236,'Matriz VERDE-GBCe'!$H$4:$K$49,2,FALSE)","v":"Uso de materiales locales."},null,null,null,null,null,null,null,null,null,{"$f":"VLOOKUP($D236,'Matriz VERDE-GBCe'!$H$4:$K$49,3,FALSE)","v":2.5149324111914485E-2},null,null,null,null,null,null,null,null,null,"Target","SEGURO",null,"PROBABLE",null,"DUDOSO",null,"NO CUMPLE",null,"NO APLICA"]
[]
[null,null,null,"El 50 % de los materiales son de origen local",null,null,null,null,null,null,null,null,null,null,null,null,null,null,null,null,null,null,null,null,0.35,{"$f":"+IF($Q238=\"seguro\",$Y238,0)","v":0},null,{"$f":"+IF($Q238=\"probable\",$Y238,0)","v":0},null,{"$f":"+IF($Q238=\"dudoso\",$Y238,0)","v":0},null,{"$f":"+IF($Q238=\"NO CUMPLE\",$Y238,0)","v":0},null,{"$f":"+IF($Q238=\"no aplica\",2,0)","v":0}]
[]
[null,null,null,"El 65 % de los materiales son de origen local",null,null,null,null,null,null,null,null,null,null,null,null,null,null,null,null,null,null,null,null,0.7,{"$f":"+IF($Q240=\"seguro\",$Y240,0)","v":0},null,{"$f":"+IF($Q240=\"probable\",$Y240,0)","v":0},null,{"$f":"+IF($Q240=\"dudoso\",$Y240,0)","v":0},null,{"$f":"+IF($Q240=\"NO CUMPLE\",$Y240,0)","v":0},null,{"$f":"+IF($Q240=\"no aplica\",2,0)","v":0}]
[]
[null,null,null,"El 80 % de los materiales son de origen local",null,null,null,null,null,null,null,null,null,null,null,null,null,null,null,null,null,null,null,null,1,{"$f":"+IF($Q242=\"seguro\",$Y242,0)","v":0},null,{"$f":"+IF($Q242=\"probable\",$Y242,0)","v":0},null,{"$f":"+IF($Q242=\"dudoso\",$Y242,0)","v":0},null,{"$f":"+IF($Q242=\"NO CUMPLE\",$Y242,0)","v":0},null,{"$f":"+IF($Q242=\"no aplica\",2,0)","v":0}]
[null,null,null,null,null,null,null,null,null,null,null,null,null,null,null,null,null,null,null,null,null,null,null,null,{"$f":"MAX(Y237:Y242)","v":1},{"$f":"IF($O236=\"\",0,MAX(Z237:Z242)*$O236/$Y243)","v":0},null,{"$f":"IF($O236=\"\",0,MAX(AB237:AB242)*$O236/$Y243)","v":0},null,{"$f":"IF($O236=\"\",0,MAX(AD237:AD242)*$O236/$Y243)","v":0},null,{"$f":"IF($O236=\"\",0,MAX(AF237:AF242)*$O236/$Y243)","v":0}]
[]
[]
[null,null,null,{"$f":"'Matriz VERDE-GBCe'!H29","v":"RN 08"},{"$f":"VLOOKUP($D246,'Matriz VERDE-GBCe'!$H$4:$K$49,2,FALSE)","v":"Planificación de una estrategia de demolición selectiva."},null,null,null,null,null,null,null,null,null,{"$f":"VLOOKUP($D246,'Matriz VERDE-GBCe'!$H$4:$K$49,3,FALSE)","v":1.5718327569946552E-2},null,null,null,null,null,null,null,null,null,"Target","SEGURO",null,"PROBABLE",null,"DUDOSO",null,"NO CUMPLE",null,"NO APLICA"]
[]
[null,null,null,"Existe un Plan de Demolición Selectivo",null,null,null,null,null,null,null,null,null,null,null,null,null,null,null,null,null,null,null,null,1,{"$f":"+IF($Q248=\"seguro\",$Y248,0)","v":0},null,{"$f":"+IF($Q248=\"probable\",$Y248,0)","v":0},null,{"$f":"+IF($Q248=\"dudoso\",$Y248,0)","v":0},null,{"$f":"+IF($Q248=\"NO CUMPLE\",$Y248,0)","v":0},null,{"$f":"+IF($Q248=\"no aplica\",2,0)","v":0}]
[null,null,null,null,null,null,null,null,null,null,null,null,null,null,null,null,null,null,null,null,null,null,null,null,{"$f":"SUM(Y248:Y248)","v":1},{"$f":"IF($O246=\"\",0,Z248*$O246/$Y249)","v":0},null,{"$f":"IF($O246=\"\",0,AB248*$O246/$Y249)","v":0},null,{"$f":"IF($O246=\"\",0,AD248*$O246/$Y249)","v":0},null,{"$f":"IF($O246=\"\",0,SUM(AF248:AF248)*$O246/$Y249)","v":0}]
[]
[]
[null,null,null,{"$f":"'Matriz VERDE-GBCe'!H30","v":"RN 09"},{"$f":"VLOOKUP($D252,'Matriz VERDE-GBCe'!$H$4:$K$49,2,FALSE)","v":"Gestión de los residuos de la construcción."},null,null,null,null,null,null,null,null,null,{"$f":"VLOOKUP($D252,'Matriz VERDE-GBCe'!$H$4:$K$49,3,FALSE)","v":1.2574662055957243E-2},null,null,null,null,null,null,null,null,null,"Target","SEGURO",null,"PROBABLE",null,"DUDOSO",null,"NO CUMPLE",null,"NO APLICA"]
[]
[null,null,null,"Se garantiza la revalorización del 60% de los residuos de la construcción",null,null,null,null,null,null,null,null,null,null,null,null,null,null,null,null,null,null,null,null,0.4,{"$f":"+IF($Q254=\"seguro\",$Y254,0)","v":0},null,{"$f":"+IF($Q254=\"probable\",$Y254,0)","v":0},null,{"$f":"+IF($Q254=\"dudoso\",$Y254,0)","v":0},null,{"$f":"+IF($Q254=\"NO CUMPLE\",$Y254,0)","v":0},null,{"$f":"+IF($Q254=\"no aplica\",2,0)","v":0}]
[]
[null,null,null,"Se garantiza la revalorización del 75% de los residuos de la construcción",null,null,null,null,null,null,null,null,null,null,null,null,null,null,null,null,null,null,null,null,1,{"$f":"+IF($Q256=\"seguro\",$Y256,0)","v":0},null,{"$f":"+IF($Q256=\"probable\",$Y256,0)","v":0},null,{"$f":"+IF($Q256=\"dudoso\",$Y256,0)","v":0},null,{"$f":"+IF($Q256=\"NO CUMPLE\",$Y256,0)","v":0},null,{"$f":"+IF($Q256=\"no aplica\",2,0)","v":0}]
[null,null,null,null,null,null,null,null,null,null,null,null,null,null,null,null,null,null,null,null,null,null,null,null,{"$f":"MAX(Y254:Y256)","v":1},{"$f":"IF($O252=\"\",0,MAX(Z254:Z256)*$O252/$Y257)","v":0},null,{"$f":"IF($O252=\"\",0,MAX(AB254:AB256)*$O252/$Y257)","v":0},null,{"$f":"IF($O252=\"\",0,MAX(AD254:AD256)*$O252/$Y257)","v":0},null,{"$f":"IF($O252=\"\",0,MAX(AF254:AF256)*$O252/$Y257)","v":0}]
[]
[]
[null,null,null,{"$f":"'Matriz VERDE-GBCe'!H31","v":"RN 10"},{"$f":"VLOOKUP($D260,'Matriz VERDE-GBCe'!$H$4:$K$49,2,FALSE)","v":"Impacto de los materiales de la construcción."},null,null,null,null,null,null,null,null,null,{"$f":"VLOOKUP($D260,'Matriz VERDE-GBCe'!$H$4:$K$49,3,FALSE)","v":6.9160641307764836E-2},null,null,null,null,null,null,null,null,null,"Target","SEGURO",null,"PROBABLE",null,"DUDOSO",null,"NO CUMPLE",null,"NO APLICA"]
[]
[null,null,null,"Existe un ACV que mide el consumo de energía no renovable y las emisiones de CO2 en la etapa de producto.",null,null,null,null,null,null,null,null,null,null,null,null,null,null,null,null,null,null,null,null,0.25,{"$f":"+IF($Q262=\"seguro\",$Y262,0)","v":0},null,{"$f":"+IF($Q262=\"probable\",$Y262,0)","v":0},null,{"$f":"+IF($Q262=\"dudoso\",$Y262,0)","v":0},null,{"$f":"+IF($Q262=\"NO CUMPLE\",$Y262,0)","v":0},null,{"$f":"+IF($Q262=\"no aplica\",2,0)","v":0}]
[]
[null,null,null,"Existe un ACV que mide el consumo de energía no renovable y las emisiones de CO2 en todas las etapa del ciclo de vida.",null,null,null,null,null,null,null,null,null,null,null,null,null,null,null,null,null,null,null,null,0.25,{"$f":"+IF($Q264=\"seguro\",$Y264,0)","v":0},null,{"$f":"+IF($Q264=\"probable\",$Y264,0)","v":0},null,{"$f":"+IF($Q264=\"dudoso\",$Y264,0)","v":0},null,{"$f":"+IF($Q264=\"NO CUMPLE\",$Y264,0)","v":0},null,{"$f":"+IF($Q264=\"no aplica\",2,0)","v":0}]
[]
[]
[null,null,null,"El ACV que demuestra una reducción del 15% en el consumo de energía no renovable en la fase de producto.",null,null,null,null,null,null,null,null,null,null,null,null,null,null,null,null,null,null,null,null,0.25,{"$f":"+IF($Q267=\"seguro\",$Y267,0)","v":0},null,{"$f":"+IF($Q267=\"probable\",$Y267,0)","v":0},null,{"$f":"+IF($Q267=\"dudoso\",$Y267,0)","v":0},null,{"$f":"+IF($Q267=\"NO CUMPLE\",$Y267,0)","v":0},null,{"$f":"+IF($Q267=\"no aplica\",2,0)","v":0}]
[]
[null,null,null,"El ACV que demuestra una reducción del 15% en otro indicador distinto del consumo de energía no renovable en la fase de producto.           \n",null,null,null,null,null,null,null,null,null,null,null,null,null,null,null,null,null,null,null,null,0.25,{"$f":"+IF($Q269=\"seguro\",$Y269,0)","v":0},null,{"$f":"+IF($Q269=\"probable\",$Y269,0)","v":0},null,{"$f":"+IF($Q269=\"dudoso\",$Y269,0)","v":0},null,{"$f":"+IF($Q269=\"NO CUMPLE\",$Y269,0)","v":0},null,{"$f":"+IF($Q269=\"no aplica\",2,0)","v":0}]
[]
[null,null,null,null,null,null,null,null,null,null,null,null,null,null,null,null,null,null,null,null,null,null,null,null,{"$f":"SUM(Y262:Y269)","v":1},{"$f":"IF($O260=\"\",0,SUM(Z262:Z269)*$O260/$Y271)","v":0},null,{"$f":"IF($O260=\"\",0,SUM(AB262:AB269)*$O260/$Y271)","v":0},null,{"$f":"IF($O260=\"\",0,SUM(AD262:AD269)*$O260/$Y271)","v":0},null,{"$f":"IF($O260=\"\",0,SUM(AF262:AF269)*$O260/$Y271)","v":0}]
[]
[]
[null,null,null,{"$f":"'Matriz VERDE-GBCe'!H32","v":"RN 11"},{"$f":"VLOOKUP($D274,'Matriz VERDE-GBCe'!$H$4:$K$49,2,FALSE)","v":"Ecoetiquetado de producto."},null,null,null,null,null,null,null,null,null,{"$f":"VLOOKUP($D274,'Matriz VERDE-GBCe'!$H$4:$K$49,3,FALSE)","v":2.5149324111914485E-2},null,null,null,null,null,null,null,null,null,"Target","SEGURO",null,"PROBABLE",null,"DUDOSO",null,"NO CUMPLE",null,"NO APLICA"]
[]
[null,null,null,"El porcentaje en masa de los materiales con ecoetiqueta tipo I está por encima del 15%",null,null,null,null,null,null,null,null,null,null,null,null,null,null,null,null,null,null,null,null,0.2,{"$f":"+IF($Q276=\"seguro\",$Y276,0)","v":0},null,{"$f":"+IF($Q276=\"probable\",$Y276,0)","v":0},null,{"$f":"+IF($Q276=\"dudoso\",$Y276,0)","v":0},null,{"$f":"+IF($Q276=\"NO CUMPLE\",$Y276,0)","v":0},null,{"$f":"+IF($Q276=\"no aplica\",2,0)","v":0}]
[]
[null,null,null,"Entre los materiales con DAPs se encuentran, al menos, las siguientes familias: elementos estructurales, aislamientos y revestimientos.",null,null,null,null,null,null,null,null,null,null,null,null,null,null,null,null,null,null,null,null,0.2,{"$f":"+IF($Q278=\"seguro\",$Y278,0)","v":0},null,{"$f":"+IF($Q278=\"probable\",$Y278,0)","v":0},null,{"$f":"+IF($Q278=\"dudoso\",$Y278,0)","v":0},null,{"$f":"+IF($Q278=\"NO CUMPLE\",$Y278,0)","v":0},null,{"$f":"+IF($Q278=\"no aplica\",2,0)","v":0}]
[]
[]
[null,null,null,"Se aportan cinco ecoetiquetas tipo I o tres DAPS de distintos fabricantes",null,null,null,null,null,null,null,null,null,null,null,null,null,null,null,null,null,null,null,null,0.8,{"$f":"+IF($Q281=\"seguro\",$Y281,0)","v":0},null,{"$f":"+IF($Q281=\"probable\",$Y281,0)","v":0},null,{"$f":"+IF($Q281=\"dudoso\",$Y281,0)","v":0},null,{"$f":"+IF($Q281=\"NO CUMPLE\",$Y281,0)","v":0},null,{"$f":"+IF($Q281=\"no aplica\",2,0)","v":0}]
[null,null,null,null,null,null,null,null,null,null,null,null,null,null,null,null,null,null,null,null,null,null,null,null,1,{"$f":"IF($O274=0,0,IF(SUM(Z276:Z281)>1,O274,SUM(Z276:Z281)*$O274))","v":0},null,{"$f":"IF($O274=\"\",0,MAX(AB276:AB281)*$O274/$Y282)","v":0},null,{"$f":"IF($O274=\"\",0,MAX(AD276:AD281)*$O274/$Y282)","v":0},null,{"$f":"IF($O274=\"\",0,MAX(AF276:AF281)*$O274/$Y282)","v":0}]
[]
[null,null,null,null,null,"SEGURO",null,"PROBABLE",null,"DUDOSO",null,"NO CUMPLE"]
[]
[null,null,"SUBTOTAL RN",null,null,{"$f":"Z187+Z197+Z203+Z213+Z221+Z233+Z243+Z249+Z257+Z271+Z282","v":0},null,{"$f":"AB187+AB197+AB203+AB213+AB221+AB233+AB243+AB249+AB257+AB271+AB282","v":0},null,{"$f":"AD187+AD197+AD203+AD213+AD221+AD233+AD243+AD249+AD257+AD271+AD282","v":0},null,{"$f":"AF187+AF197+AF203+AF213+AF221+AF233+AF243+AF249+AF257+AF271+AF282","v":0}]
[]
[]
[null,"CAI",null,{"$f":"'Matriz VERDE-GBCe'!H33","v":"Calidad del Ambiente Interior."}]
[]
[]
[null,null,null,{"$f":"'Matriz VERDE-GBCe'!H34","v":"CAI 01"},{"$f":"VLOOKUP($D292,'Matriz VERDE-GBCe'!$H$4:$K$49,2,FALSE)","v":"Limitación en las emisiones de COVs."},null,null,null,null,null,null,null,null,null,{"$f":"VLOOKUP($D292,'Matriz VERDE-GBCe'!$H$4:$K$49,3,FALSE)","v":3.1436655139893105E-2},null,null,null,null,null,null,null,null,null,"Target","SEGURO",null,"PROBABLE",null,"DUDOSO",null,"NO CUMPLE",null,"NO APLICA"]
[]
[null,null,null,"¿Se hace una medición del contenido en  COVs en el aire interior?",null,null,null,null,null,null,null,null,null,null,null,null,null,null,null,null,null,null,null,null,0.2,{"$f":"+IF($Q294=\"seguro\",$Y294,0)","v":0},null,{"$f":"+IF($Q294=\"probable\",$Y294,0)","v":0},null,{"$f":"+IF($Q294=\"dudoso\",$Y294,0)","v":0},null,{"$f":"+IF($Q294=\"NO CUMPLE\",$Y294,0)","v":0},null,{"$f":"+IF($Q294=\"no aplica\",2,0)","v":0}]
[]
[null,null,null,"La media de TCOVS y formaldehidos alcanza o está por debajo del punto medio entre el valor máximo y el mínimo.",null,null,null,null,null,null,null,null,null,null,null,null,null,null,null,null,null,null,null,null,0.6,{"$f":"+IF($Q296=\"seguro\",$Y296,0)","v":0},null,{"$f":"+IF($Q296=\"probable\",$Y296,0)","v":0},null,{"$f":"+IF($Q296=\"dudoso\",$Y296,0)","v":0},null,{"$f":"+IF($Q296=\"NO CUMPLE\",$Y296,0)","v":0},null,{"$f":"+IF($Q296=\"no aplica\",2,0)","v":0}]
[]
[null,null,null,"La media de TCOVS y formaldehidos es igual o inferior al valor mínimo.",null,null,null,null,null,null,null,null,null,null,null,null,null,null,null,null,null,null,null,null,1,{"$f":"+IF($Q298=\"seguro\",$Y298,0)","v":0},null,{"$f":"+IF($Q298=\"probable\",$Y298,0)","v":0},null,{"$f":"+IF($Q298=\"dudoso\",$Y298,0)","v":0},null,{"$f":"+IF($Q298=\"NO CUMPLE\",$Y298,0)","v":0},null,{"$f":"+IF($Q298=\"no aplica\",2,0)","v":0}]
[]
[null,null,null,"Las pinturas y barnices, sellantes y adhesivos y compuestos de la madera instalados no tienen emisiones de COVs",null,null,null,null,null,null,null,null,null,null,null,null,null,null,null,null,null,null,null,null,0.8,{"$f":"+IF($Q300=\"seguro\",$Y300,0)","v":0},null,{"$f":"+IF($Q300=\"probable\",$Y300,0)","v":0},null,{"$f":"+IF($Q300=\"dudoso\",$Y300,0)","v":0},null,{"$f":"+IF($Q300=\"NO CUMPLE\",$Y300,0)","v":0},null,{"$f":"+IF($Q300=\"no aplica\",2,0)","v":0}]
[]
[null,null,null,"Las pinturas y barnices, sellantes y adhesivos y compuestos de la madera instalados cumplen con la limitación normativa.",null,null,null,null,null,null,null,null,null,null,null,null,null,null,null,null,null,null,null,null,0.4,{"$f":"+IF($Q302=\"seguro\",$Y302,0)","v":0},null,{"$f":"+IF($Q302=\"probable\",$Y302,0)","v":0},null,{"$f":"+IF($Q302=\"dudoso\",$Y302,0)","v":0},null,{"$f":"+IF($Q302=\"NO CUMPLE\",$Y302,0)","v":0},null,{"$f":"+IF($Q302=\"no aplica\",2,0)","v":0}]
[]
[null,null,null,null,null,null,null,null,null,null,null,null,null,null,null,null,null,null,null,null,null,null,null,null,{"$f":"MAX(Y294:Y303)","v":1},{"$f":"+Z310+Z322+Z336+Z353","v":0},null,{"$f":"IF($O292=\"\",0,(MAX(AB294:AB298)+MAX(AB299:AB302))*$O292/$Y304)","v":0},null,{"$f":"IF($O292=\"\",0,(MAX(AD294:AD298)+MAX(AD299:AD302))*$O292/$Y304)","v":0},null,{"$f":"IF($O292=\"\",0,(MAX(AF294:AF298)+MAX(AF299:AF302))*$O292/$Y304)","v":0}]
[]
[]
[null,null,null,{"$f":"'Matriz VERDE-GBCe'!H35","v":"CAI 02"},{"$f":"VLOOKUP($D307,'Matriz VERDE-GBCe'!$H$4:$K$49,2,FALSE)","v":"Monitorización de la calidad del aire"},null,null,null,null,null,null,null,null,null,{"$f":"VLOOKUP($D307,'Matriz VERDE-GBCe'!$H$4:$K$49,3,FALSE)","v":3.1436655139893105E-2},null,null,null,null,null,null,null,null,null,"Target","SEGURO",null,"PROBABLE",null,"DUDOSO",null,"NO CUMPLE",null,"NO APLICA"]
[]
[null,null,null,"Se cuenta con detectores de CO2 en salas de alta ocupación",null,null,null,null,null,null,null,null,null,null,null,null,null,null,null,null,null,null,null,null,1,{"$f":"+IF($Q309=\"seguro\",$Y309,0)","v":0},null,{"$f":"+IF($O309=\"probable\",$Y309,0)","v":0},null,{"$f":"+IF($O309=\"dudoso\",$Y309,0)","v":0},null,{"$f":"+IF($O309=\"NO CUMPLE\",$Y309,0)","v":0},null,{"$f":"+IF($O309=\"no aplica\",2,0)","v":0}]
[null,null,null,null,null,null,null,null,null,null,null,null,null,null,null,null,null,null,null,null,null,null,null,null,{"$f":"SUM(Y309:Y309)","v":1},{"$f":"IF($O309=\"\",0,Z309*$O309/$Y310)","v":0},null,{"$f":"IF($O309=\"\",0,AB309*$O309/$Y310)","v":0},null,{"$f":"IF($O309=\"\",0,AD309*$O309/$Y310)","v":0},null,{"$f":"IF($O309=\"\",0,SUM(AF309:AF309)*$O309/$Y310)","v":0}]
[]
[]
[null,null,null,{"$f":"'Matriz VERDE-GBCe'!H36","v":"CAI 03"},{"$f":"VLOOKUP($D313,'Matriz VERDE-GBCe'!$H$4:$K$49,2,FALSE)","v":"Iluminación natural en los espacios de ocupación primaria."},null,null,null,null,null,null,null,null,null,{"$f":"VLOOKUP($D313,'Matriz VERDE-GBCe'!$H$4:$K$49,3,FALSE)","v":5.0298648223828971E-2}]
[]
[null,null,null,"NOTA: Este criterio se evalúa por fórmulas lineales, la puntuación puede variar en la evaluación final. Ver la guía.",null,null,null,null,null,null,null,null,null,null,null,null,null,null,null,null,null,null,null,null,"Target","SEGURO",null,"PROBABLE",null,"DUDOSO",null,"NO CUMPLE",null,"NO APLICA"]
[]
[null,null,null,"El porcentaje de espacios de trabajo que alcanzan un DF adecuado oscila entre el 70 y el 80 %",null,null,null,null,null,null,null,null,null,null,null,null,null,null,null,null,null,null,null,null,0.25,{"$f":"+IF($Q317=\"seguro\",$Y317,0)","v":0},null,{"$f":"+IF($Q317=\"probable\",$Y317,0)","v":0},null,{"$f":"+IF($Q317=\"dudoso\",$Y317,0)","v":0},null,{"$f":"+IF($Q317=\"NO CUMPLE\",$Y317,0)","v":0},null,{"$f":"+IF($Q317=\"no aplica\",2,0)","v":0}]
[]
[null,null,null,"El porcentaje de espacios de trabajo que alcanzan un DF adecuado oscila entre el 80 y el 90 %",null,null,null,null,null,null,null,null,null,null,null,null,null,null,null,null,null,null,null,null,0.6,{"$f":"+IF($Q319=\"seguro\",$Y319,0)","v":0},null,{"$f":"+IF($Q319=\"probable\",$Y319,0)","v":0},null,{"$f":"+IF($Q319=\"dudoso\",$Y319,0)","v":0},null,{"$f":"+IF($Q319=\"NO CUMPLE\",$Y319,0)","v":0},null,{"$f":"+IF($Q319=\"no aplica\",2,0)","v":0}]
[]
[null,null,null,"El porcentaje de espacios de trabajo que alcanzan un DF adecuado oscila entre el 90 y el 100 %",null,null,null,null,null,null,null,null,null,null,null,null,null,null,null,null,null,null,null,null,0.9,{"$f":"+IF($Q321=\"seguro\",$Y321,0)","v":0},null,{"$f":"+IF($Q321=\"probable\",$Y321,0)","v":0},null,{"$f":"+IF($Q321=\"dudoso\",$Y321,0)","v":0},null,{"$f":"+IF($Q321=\"NO CUMPLE\",$Y321,0)","v":0},null,{"$f":"+IF($Q321=\"no aplica\",2,0)","v":0}]
[null,null,null,null,null,null,null,null,null,null,null,null,null,null,null,null,null,null,null,null,null,null,null,null,{"$f":"MAX(Y316:Y321)","v":0.9},{"$f":"IF($O313=\"\",0,MAX(Z317:Z321)*$O313/$Y322)","v":0},null,{"$f":"IF($O313=\"\",0,MAX(AB317:AB321)*$O313/$Y322)","v":0},null,{"$f":"IF($O313=\"\",0,MAX(AD317:AD321)*$O313/$Y322)","v":0},null,{"$f":"IF($O313=\"\",0,MAX(AF317:AF321)*$O313/$Y322)","v":0}]
[]
[]
[null,null,null,{"$f":"'Matriz VERDE-GBCe'!H37","v":"CAI 04"},{"$f":"VLOOKUP($D325,'Matriz VERDE-GBCe'!$H$4:$K$49,2,FALSE)","v":"Iluminación artificial en los espacios de ocupación primaria."},null,null,null,null,null,null,null,null,null,{"$f":"VLOOKUP($D325,'Matriz VERDE-GBCe'!$H$4:$K$49,3,FALSE)","v":3.1436655139893105E-2}]
[]
[null,null,null,"NOTA: Este criterio se evalúa por fórmulas lineales, la puntuación puede variar en la evaluación final. Ver la guía.",null,null,null,null,null,null,null,null,null,null,null,null,null,null,null,null,null,null,null,null,"Target","SEGURO",null,"PROBABLE",null,"DUDOSO",null,"NO CUMPLE",null,"NO APLICA"]
[]
[null,null,null,"El porcentaje de espacios de trabajo que mejoran las recomendaciones en Em y Ra oscila entre el 70 y el 80 %",null,null,null,null,null,null,null,null,null,null,null,null,null,null,null,null,null,null,null,null,0.1,{"$f":"+IF($Q329=\"seguro\",$Y329,0)","v":0},null,{"$f":"+IF($Q329=\"probable\",$Y329,0)","v":0},null,{"$f":"+IF($Q329=\"dudoso\",$Y329,0)","v":0},null,{"$f":"+IF($Q329=\"NO CUMPLE\",$Y329,0)","v":0},null,{"$f":"+IF($Q329=\"no aplica\",2,0)","v":0}]
[]
[null,null,null,"El porcentaje de espacios de trabajo que mejoran las recomendaciones en Em y Ra oscila entre el 80 y el 90 %",null,null,null,null,null,null,null,null,null,null,null,null,null,null,null,null,null,null,null,null,0.3,{"$f":"+IF($Q331=\"seguro\",$Y331,0)","v":0},null,{"$f":"+IF($Q331=\"probable\",$Y331,0)","v":0},null,{"$f":"+IF($Q331=\"dudoso\",$Y331,0)","v":0},null,{"$f":"+IF($Q331=\"NO CUMPLE\",$Y331,0)","v":0},null,{"$f":"+IF($Q331=\"no aplica\",2,0)","v":0}]
[]
[null,null,null,"El porcentaje de espacios de trabajo que mejoran las recomendaciones en Em y Ra oscila entre el 90 y el 100 %",null,null,null,null,null,null,null,null,null,null,null,null,null,null,null,null,null,null,null,null,0.6,{"$f":"+IF($Q333=\"seguro\",$Y333,0)","v":0},null,{"$f":"+IF($Q333=\"probable\",$Y333,0)","v":0},null,{"$f":"+IF($Q333=\"dudoso\",$Y333,0)","v":0},null,{"$f":"+IF($Q333=\"NO CUMPLE\",$Y333,0)","v":0},null,{"$f":"+IF($Q333=\"no aplica\",2,0)","v":0}]
[]
[null,null,null,"Se cuenta con un Manual de mantenimiento de las luminarias.",null,null,null,null,null,null,null,null,null,null,null,null,null,null,null,null,null,null,null,null,0.4,{"$f":"+IF($Q335=\"seguro\",$Y335,0)","v":0},null,{"$f":"+IF($Q335=\"probable\",$Y335,0)","v":0},null,{"$f":"+IF($Q335=\"dudoso\",$Y335,0)","v":0},null,{"$f":"+IF($Q335=\"NO CUMPLE\",$Y335,0)","v":0},null,{"$f":"+IF($Q335=\"no aplica\",2,0)","v":0}]
[null,null,null,null,null,null,null,null,null,null,null,null,null,null,null,null,null,null,null,null,null,null,null,null,{"$f":"MAX(Y328:Y333)+Y335","v":1},{"$f":"IF($O325=\"\",0,(MAX(Z329:Z333)+Z335)*$O325/$Y336)","v":0},null,{"$f":"IF($O325=\"\",0,(MAX(AB329:AB333)+AB335)*$O325/$Y336)","v":0},null,{"$f":"IF($O325=\"\",0,(MAX(AD329:AD333)+AD335)*$O325/$Y336)","v":0},null,{"$f":"IF($O325=\"\",0,(MAX(AF329:AF333)+AF335)*$O325/$Y336)","v":0}]
[]
[]
[null,null,null,{"$f":"'Matriz VERDE-GBCe'!H38","v":"CAI 05"},{"$f":"VLOOKUP($D339,'Matriz VERDE-GBCe'!$H$4:$K$49,2,FALSE)","v":"Protección frente al ruido."},null,null,null,null,null,null,null,null,null,{"$f":"VLOOKUP($D339,'Matriz VERDE-GBCe'!$H$4:$K$49,3,FALSE)","v":4.4011317195850344E-2}]
[]
[null,null,null,{"$f":"IF(DG!$E$25=0,\"\",DG!$E$25)","v":""},null,null,null,null,null,null,null,null,null,null,null,null,null,null,null,null,null,null,null,null,"Target","SEGURO",null,"PROBABLE",null,"DUDOSO",null,"NO CUMPLE",null,"NO APLICA"]
[]
[null,null,null,"La protección de las viviendas frente al ruido procedente del exterior supera en 4 dB(A) la exigencia normativa",null,null,null,null,null,null,null,null,null,null,null,null,null,null,null,null,null,null,0.3,{"$f":"IF(AH343=2,0,W343)","v":0.3},{"$f":"X343/X$353","v":0.3},{"$f":"+IF($Q343=\"seguro\",$Y343,0)","v":0},null,{"$f":"+IF($Q343=\"probable\",$Y343,0)","v":0},null,{"$f":"+IF($Q343=\"dudoso\",$Y343,0)","v":0},null,{"$f":"+IF($Q343=\"NO CUMPLE\",$Y343,0)","v":0},null,{"$f":"+IF($Q343=\"no aplica\",2,0)","v":0}]
[]
[null,null,null,"La protección de las viviendas frente al ruido generado en recintos de instalaciones mejora las exigencias normativas en 4 dB o bien no hay ninguna vivienda contigua a un cuarto de instalaciones en el que se genere ruido",null,null,null,null,null,null,null,null,null,null,null,null,null,null,null,null,null,null,0.1,{"$f":"IF(AH345=2,0,W345)","v":0.1},{"$f":"X345/X$353","v":0.1},{"$f":"+IF($Q345=\"seguro\",$Y345,0)","v":0},null,{"$f":"+IF($Q345=\"probable\",$Y345,0)","v":0},null,{"$f":"+IF($Q345=\"dudoso\",$Y345,0)","v":0},null,{"$f":"+IF($Q345=\"NO CUMPLE\",$Y345,0)","v":0},null,{"$f":"+IF($Q345=\"no aplica\",2,0)","v":0}]
[]
[]
[null,null,null,"La protección de las viviendas frente al ruido generado en recintos no procedentes de la misma unidad funcional de uso mejora las exigencias normativas en 4 Db",null,null,null,null,null,null,null,null,null,null,null,null,null,null,null,null,null,null,0.2,{"$f":"IF(AH348=2,0,W348)","v":0.2},{"$f":"X348/X$353","v":0.2},{"$f":"+IF($Q348=\"seguro\",$Y348,0)","v":0},null,{"$f":"+IF($Q348=\"probable\",$Y348,0)","v":0},null,{"$f":"+IF($Q348=\"dudoso\",$Y348,0)","v":0},null,{"$f":"+IF($Q348=\"NO CUMPLE\",$Y348,0)","v":0},null,{"$f":"+IF($Q348=\"no aplica\",2,0)","v":0}]
[]
[]
[null,null,null,"Se han comprobado las condiciones acústicas en la obra terminada",null,null,null,null,null,null,null,null,null,null,null,null,null,null,null,null,null,null,0.4,{"$f":"IF(AH351=2,0,W351)","v":0.4},{"$f":"X351/X$353","v":0.4},{"$f":"+IF($Q351=\"seguro\",$Y351,0)","v":0},null,{"$f":"+IF($Q351=\"probable\",$Y351,0)","v":0},null,{"$f":"+IF($Q351=\"dudoso\",$Y351,0)","v":0},null,{"$f":"+IF($Q351=\"NO CUMPLE\",$Y351,0)","v":0},null,{"$f":"+IF($Q351=\"no aplica\",2,0)","v":0}]
[]
[null,null,null,null,null,null,null,null,null,null,null,null,null,null,null,null,null,null,null,null,null,null,null,{"$f":"SUM(X343:X352)","v":1},{"$f":"SUM(Y343:Y351)","v":1},{"$f":"IF($O339=\"\",0,SUM(Z343:Z351)*$O339)","v":0},null,{"$f":"IF($O339=\"\",0,SUM(AB343:AB351)*$O339)","v":0},null,{"$f":"IF($O339=\"\",0,SUM(AD343:AD351)*$O339)","v":0},null,{"$f":"IF($O339=\"\",0,SUM(AF343:AF351)*$O339)","v":0}]
[]
[null,null,null,null,null,"SEGURO",null,"PROBABLE",null,"DUDOSO",null,"NO CUMPLE"]
[]
[null,null,"SUBTOTAL CAI",null,null,{"$f":"Z304+Z310+Z322+Z336+Z353","v":0},null,{"$f":"AB304+AB310+AB322+AB336+AB353","v":0},null,{"$f":"AD304+AD310+AD322+AD336+AD353","v":0},null,{"$f":"AF304+AF310+AF322+AF336+AF353","v":0}]
[]
[]
[null,{"$f":"'Matriz VERDE-GBCe'!G39","v":"ASE"},null,{"$f":"'Matriz VERDE-GBCe'!H39","v":"Aspectos Sociales y Económicos."}]
[]
[]
[null,null,null,{"$f":"'Matriz VERDE-GBCe'!H40","v":"ASE 01"},{"$f":"VLOOKUP($D363,'Matriz VERDE-GBCe'!$H$4:$K$49,2,FALSE)","v":"Acceso universal."},null,null,null,null,null,null,null,null,null,{"$f":"VLOOKUP($D363,'Matriz VERDE-GBCe'!$H$4:$K$49,3,FALSE)","v":2.8292989625903795E-2}]
[]
[null,null,null,null,null,null,null,null,null,null,null,null,null,null,null,null,null,null,null,null,null,null,null,null,"Target","SEGURO",null,"PROBABLE",null,"DUDOSO",null,"NO CUMPLE",null,"NO APLICA"]
[]
[null,null,null,"Se prevé una señalización específica para personas con discapacidad visual o auditiva en todos los espacios comunes del edificio",null,null,null,null,null,null,null,null,null,null,null,null,null,null,null,null,null,null,0.25,{"$f":"IF(AH367=2,0,W367)","v":0.25},0.3,{"$f":"+IF($Q367=\"seguro\",$Y367,0)","v":0},null,{"$f":"+IF($Q367=\"probable\",$Y367,0)","v":0},null,{"$f":"+IF($Q367=\"dudoso\",$Y367,0)","v":0},null,{"$f":"+IF($Q367=\"NO CUMPLE\",$Y367,0)","v":0},null,{"$f":"+IF($Q367=\"no aplica\",2,0)","v":0}]
[]
[]
[null,null,null,"Se prevé itinerarios accesibles a todos los espacios de uso habitual del edificio.",null,null,null,null,null,null,null,null,null,null,null,null,null,null,null,null,null,null,0.25,{"$f":"IF(AH370=2,0,W370)","v":0.25},0.5,{"$f":"+IF($Q370=\"seguro\",$Y370,0)","v":0},null,{"$f":"+IF($Q370=\"probable\",$Y370,0)","v":0},null,{"$f":"+IF($Q370=\"dudoso\",$Y370,0)","v":0},null,{"$f":"+IF($Q370=\"NO CUMPLE\",$Y370,0)","v":0},null,{"$f":"+IF($Q370=\"no aplica\",2,0)","v":0}]
[]
[null,null,null,"Se ha contemplado alguna mejora sustancial en la accesibilidad.",null,null,null,null,null,null,null,null,null,null,null,null,null,null,null,null,null,null,0.25,{"$f":"IF(AH372=2,0,W372)","v":0.25},0.2,{"$f":"+IF($Q372=\"seguro\",$Y372,0)","v":0},null,{"$f":"+IF($Q372=\"probable\",$Y372,0)","v":0},null,{"$f":"+IF($Q372=\"dudoso\",$Y372,0)","v":0},null,{"$f":"+IF($Q372=\"NO CUMPLE\",$Y372,0)","v":0},null,{"$f":"+IF($Q372=\"no aplica\",2,0)","v":0}]
[null,null,null,null,null,null,null,null,null,null,null,null,null,null,null,null,null,null,null,null,null,null,null,{"$f":"SUM(X367:X372)","v":0.75},{"$f":"SUM(Y366:Y372)","v":1},{"$f":"IF($O363=\"\",0,SUM(Z366:Z372)*$O363)","v":0},null,{"$f":"IF($O363=\"\",0,SUM(AB366:AB372)*$O363)","v":0},null,{"$f":"IF($O363=\"\",0,SUM(AD366:AD372)*$O363)","v":0},null,{"$f":"IF($O363=\"\",0,SUM(AF366:AF372)*$O363)","v":0}]
[]
[]
[null,null,null,{"$f":"'Matriz VERDE-GBCe'!H41","v":"ASE 02"},{"$f":"VLOOKUP($D376,'Matriz VERDE-GBCe'!$H$4:$K$49,2,FALSE)","v":"Acceso visual desde las áreas de trabajo."},null,null,null,null,null,null,null,null,null,{"$f":"VLOOKUP($D376,'Matriz VERDE-GBCe'!$H$4:$K$49,3,FALSE)","v":1.8861993083935862E-2}]
[]
[null,null,null,"NOTA: Este criterio se evalúa por fórmulas lineales, la puntuación puede variar en la evaluación final. Ver la guía.",null,null,null,null,null,null,null,null,null,null,null,null,null,null,null,null,null,null,null,null,"Target","SEGURO",null,"PROBABLE",null,"DUDOSO",null,"NO CUMPLE",null,"NO APLICA"]
[]
[null,null,null,"El porcentaje de espacios de trabajo con acceso visual al exterior es del 70%",null,null,null,null,null,null,null,null,null,null,null,null,null,null,null,null,null,null,{"$f":"IF(DG!E25=\"Unifamiliar\",\"Uni\",IF(DG!E25=\"Multi-residencial\",\"Res\",\"\"))","v":""},null,{"$f":"IF(N378=\"Unifamiliar\",0.6,0.5)","v":0.5},{"$f":"+IF($Q380=\"seguro\",$Y380,0)","v":0},null,{"$f":"+IF($Q380=\"probable\",$Y380,0)","v":0},null,{"$f":"+IF($Q380=\"dudoso\",$Y380,0)","v":0},null,{"$f":"+IF($Q380=\"NO CUMPLE\",$Y380,0)","v":0},null,{"$f":"+IF($Q380=\"no aplica\",2,0)","v":0}]
[]
[null,null,null,"El porcentaje de espacios de trabajo con acceso visual al exterior es del 80% o superior.",null,null,null,null,null,null,null,null,null,null,null,null,null,null,null,null,null,null,null,null,{"$f":"IF(N378=\"Unifamiliar\",0.4,1)","v":1},{"$f":"+IF($Q382=\"seguro\",$Y382,0)","v":0},null,{"$f":"+IF($Q382=\"probable\",$Y382,0)","v":0},null,{"$f":"+IF($Q382=\"dudoso\",$Y382,0)","v":0},null,{"$f":"+IF($Q382=\"NO CUMPLE\",$Y382,0)","v":0},null,{"$f":"+IF($Q382=\"no aplica\",2,0)","v":0}]
[]
[null,null,null,null,null,null,null,null,null,null,null,null,null,null,null,null,null,null,null,null,null,null,null,null,{"$f":"IF(N378=\"Unifamiliar\",SUM(Y379:Y383),MAX(Y379:Y383))","v":1},{"$f":"IF($O376=\"\",0,IF(N378=\"Unifamiliar\",SUM(Z379:Z383),MAX(Z379:Z383))*$O376)","v":0},null,{"$f":"IF($O376=\"\",0,IF(N378=\"Unifamiliar\",SUM(AB379:AB383),MAX(AB379:AB383))*$O376)","v":0},null,{"$f":"IF($O376=\"\",0,IF(N378=\"Unifamiliar\",SUM(AD379:AD383),MAX(AD379:AD383))*$O376)","v":0},null,{"$f":"IF($O376=\"\",0,IF(N378=\"Unifamiliar\",SUM(AF379:AF383),MAX(AF379:AF383))*$O376)","v":0}]
[]
[null,null,null,null,null,"SEGURO",null,"PROBABLE",null,"DUDOSO",null,"NO CUMPLE"]
[]
[null,null,"SUBTOTAL AS",null,null,{"$f":"Z373+Z384","v":0},null,{"$f":"AB373+AB384","v":0},null,{"$f":"AD373+AD384","v":0},null,{"$f":"AF373+AF384","v":0}]
[]
[]
[null,"CC",null,{"$f":"'Matriz VERDE-GBCe'!H42","v":"Concepto de Calidad."}]
[]
[]
[null,null,null,{"$f":"'Matriz VERDE-GBCe'!H43","v":"CC 01"},{"$f":"VLOOKUP($D394,'Matriz VERDE-GBCe'!$H$4:$K$49,2,FALSE)","v":"Eficiencia de los espacios."},null,null,null,null,null,null,null,null,null,{"$f":"VLOOKUP($D394,'Matriz VERDE-GBCe'!$H$4:$K$49,3,FALSE)","v":1.8861993083935862E-2}]
[]
[null,null,null,"NOTA: Este criterio se evalúa por fórmulas lineales, la puntuación puede variar en la evaluación final. Ver la guía.",null,null,null,null,null,null,null,null,null,null,null,null,null,null,null,null,null,null,null,null,"Target","SEGURO",null,"PROBABLE",null,"DUDOSO",null,"NO CUMPLE",null,"NO APLICA"]
[]
[null,null,null,"La ratio ente la Superficie Útil Funcional y la Superficie Construida Sobre Rasante es inferior o igual a 1,25",null,null,null,null,null,null,null,null,null,null,null,null,null,null,null,null,null,null,null,null,0.4,{"$f":"+IF($Q398=\"seguro\",$Y398,0)","v":0},null,{"$f":"+IF($Q398=\"probable\",$Y398,0)","v":0},null,{"$f":"+IF($Q398=\"dudoso\",$Y398,0)","v":0},null,{"$f":"+IF($Q398=\"no cumple\",$Y398,0)","v":0},null,{"$f":"+IF($Q398=\"no aplica\",2,0)","v":0}]
[]
[null,null,null,"La ratio ente la Superficie Útil Funcional y la Superficie Construida Sobre Rasante es inferior o igual a 1,15",null,null,null,null,null,null,null,null,null,null,null,null,null,null,null,null,null,null,null,null,{"$f":"IF(N398=\"Unifamiliar\",0,1)","v":1},{"$f":"+IF($Q400=\"seguro\",$Y400,0)","v":0},null,{"$f":"+IF($Q400=\"probable\",$Y400,0)","v":0},null,{"$f":"+IF($Q400=\"dudoso\",$Y400,0)","v":0},null,{"$f":"+IF($Q400=\"no cumple\",$Y400,0)","v":0},null,{"$f":"+IF($Q400=\"no aplica\",2,0)","v":0}]
[null,null,null,null,null,null,null,null,null,null,null,null,null,null,null,null,null,null,null,null,null,null,null,null,{"$f":"MAX(Y397:Y400)","v":1},{"$f":"IF($O394=\"\",0,MAX(Z398:Z400)*$O394)","v":0},null,{"$f":"IF($O394=\"\",0,MAX(AB398:AB400)*$O394)","v":0},null,{"$f":"IF($O394=\"\",0,MAX(AD398:AD400)*$O394)","v":0},null,{"$f":"IF($O394=\"\",0,MAX(AF398:AF400)*$O394)","v":0}]
[]
[]
[null,null,null,{"$f":"'Matriz VERDE-GBCe'!H44","v":"CC 02"},{"$f":"VLOOKUP($D404,'Matriz VERDE-GBCe'!$H$4:$K$49,2,FALSE)","v":"Sistema de gestión del edificio (BMS)."},null,null,null,null,null,null,null,null,null,{"$f":"VLOOKUP($D404,'Matriz VERDE-GBCe'!$H$4:$K$49,3,FALSE)","v":3.4580320653882418E-2}]
[]
[null,null,null,{"$f":"IF(DG!$E$25=0,\"\",DG!$E$25)","v":""},null,null,null,null,null,null,null,null,null,null,null,null,null,null,null,null,null,null,null,null,"Target","SEGURO",null,"PROBABLE",null,"DUDOSO",null,"NO CUMPLE",null,"NO APLICA"]
[]
[null,null,null,"El edificio dispone de un sistema de gestión o BMS con alcance básico",null,null,null,null,null,null,null,null,null,null,null,null,null,null,null,null,null,null,null,null,0.6,{"$f":"+IF($Q408=\"seguro\",$Y408,0)","v":0},null,{"$f":"+IF($Q408=\"probable\",$Y408,0)","v":0},null,{"$f":"+IF($Q408=\"dudoso\",$Y408,0)","v":0},null,{"$f":"+IF($Q408=\"NO CUMPLE\",$Y408,0)","v":0},null,{"$f":"+IF($Q408=\"no aplica\",2,0)","v":0}]
[]
[null,null,null,"El edificio dispone de un sistema de gestión o BMS con alcance superior",null,null,null,null,null,null,null,null,null,null,null,null,null,null,null,null,null,null,null,null,0.4,{"$f":"+IF($Q410=\"seguro\",$Y410,0)","v":0},null,{"$f":"+IF($Q410=\"probable\",$Y410,0)","v":0},null,{"$f":"+IF($Q410=\"dudoso\",$Y410,0)","v":0},null,{"$f":"+IF($Q410=\"NO CUMPLE\",$Y410,0)","v":0},null,{"$f":"+IF($Q410=\"no aplica\",2,0)","v":0}]
[null,null,null,null,null,null,null,null,null,null,null,null,null,null,null,null,null,null,null,null,null,null,null,null,{"$f":"SUM(Y408:Y410)","v":1},{"$f":"IF($O404=\"\",0,(Z408*Y408*$O404)+(Z410*Y410*O404))","v":0},null,{"$f":"IF($O404=\"\",0,(AB408*AA408*$O404)+(AB410*AA410*Q404))","v":0},null,{"$f":"IF($O404=\"\",0,(AD408*AC408*$O404)+(AD410*AC410*S404))","v":0},null,{"$f":"IF($O404=\"\",0,(AF408*AE408*$O404)+(AF410*AE410*U404))","v":0}]
[]
[]
[null,null,null,{"$f":"'Matriz VERDE-GBCe'!H45","v":"CC 03"},{"$f":"VLOOKUP($D414,'Matriz VERDE-GBCe'!$H$4:$K$49,2,FALSE)","v":"Capacidad de funcionamiento parcial de las instalaciones."},null,null,null,null,null,null,null,null,null,{"$f":"VLOOKUP($D414,'Matriz VERDE-GBCe'!$H$4:$K$49,3,FALSE)","v":1.2574662055957243E-2},null,null,null,null,null,null,null,null,null,"Target","SEGURO",null,"PROBABLE",null,"DUDOSO",null,"NO CUMPLE",null,"NO APLICA"]
[]
[]
[null,null,null,"Se contempla el funcionamiento parcial de las instalaciones según la compartimentación de zonas.",null,null,null,null,null,null,null,null,null,null,null,null,null,null,null,null,null,null,null,null,1,{"$f":"+IF($Q417=\"seguro\",$Y417,0)","v":0},null,{"$f":"+IF($Q417=\"probable\",$Y417,0)","v":0},null,{"$f":"+IF($Q417=\"dudoso\",$Y417,0)","v":0},null,{"$f":"+IF($Q417=\"NO CUMPLE\",$Y417,0)","v":0},null,{"$f":"+IF($Q417=\"no aplica\",2,0)","v":0}]
[]
[null,null,null,null,null,null,null,null,null,null,null,null,null,null,null,null,null,null,null,null,null,null,null,null,{"$f":"MAX(Y416:Y418)","v":1},{"$f":"IF($O414=\"\",0,MAX(Z417:Z418)*$O414/Y419)","v":0},null,{"$f":"IF($O414=\"\",0,MAX(AB417:AB418)*$O414/Y419)","v":0},null,{"$f":"IF($O414=\"\",0,MAX(AD417:AD418)*$O414/Y419)","v":0},null,{"$f":"IF($O414=\"\",0,MAX(AF417:AF418)*$O414/Y419)","v":0}]
[]
[]
[null,null,null,{"$f":"'Matriz VERDE-GBCe'!H46","v":"CC 04"},{"$f":"VLOOKUP($D422,'Matriz VERDE-GBCe'!$H$4:$K$49,2,FALSE)","v":"Capacidad de control local de la iluminación."},null,null,null,null,null,null,null,null,null,{"$f":"VLOOKUP($D422,'Matriz VERDE-GBCe'!$H$4:$K$49,3,FALSE)","v":2.2634391700723039E-2},null,null,null,null,null,null,null,null,null,"Target","SEGURO",null,"PROBABLE",null,"DUDOSO",null,"NO CUMPLE",null,"NO APLICA"]
[]
[null,null,null,"NOTA: Este criterio se evalúa por fórmulas lineales, la puntuación puede variar en la evaluación final. Ver la guía."]
[]
[null,null,null,"El 80 % de los puestos de trabajo disponen de un control local de iluminación.",null,null,null,null,null,null,null,null,null,null,null,null,null,null,null,null,null,null,0.25,{"$f":"IF(AH426=2,0,W426)","v":0.25},0.2,{"$f":"+IF($Q426=\"seguro\",$Y426,0)","v":0},null,{"$f":"+IF($Q426=\"probable\",$Y426,0)","v":0},null,{"$f":"+IF($Q426=\"dudoso\",$Y426,0)","v":0},null,{"$f":"+IF($Q426=\"NO CUMPLE\",$Y426,0)","v":0},null,{"$f":"+IF($Q426=\"no aplica\",2,0)","v":0}]
[]
[null,null,null,"El 90 % de los puestos de trabajo disponen de un control local de iluminación.",null,null,null,null,null,null,null,null,null,null,null,null,null,null,null,null,null,null,0.25,{"$f":"IF(AH428=2,0,W428)","v":0.25},0.6,{"$f":"+IF($Q428=\"seguro\",$Y428,0)","v":0},null,{"$f":"+IF($Q428=\"probable\",$Y428,0)","v":0},null,{"$f":"+IF($Q428=\"dudoso\",$Y428,0)","v":0},null,{"$f":"+IF($Q428=\"NO CUMPLE\",$Y428,0)","v":0},null,{"$f":"+IF($Q428=\"no aplica\",2,0)","v":0}]
[]
[null,null,null,"El 100 % de los puestos de trabajo disponen de un control local de iluminación.",null,null,null,null,null,null,null,null,null,null,null,null,null,null,null,null,null,null,0.25,{"$f":"IF(AH430=2,0,W430)","v":0.25},1,{"$f":"+IF($Q430=\"seguro\",$Y430,0)","v":0},null,{"$f":"+IF($Q430=\"probable\",$Y430,0)","v":0},null,{"$f":"+IF($Q430=\"dudoso\",$Y430,0)","v":0},null,{"$f":"+IF($Q430=\"NO CUMPLE\",$Y430,0)","v":0},null,{"$f":"+IF($Q430=\"no aplica\",2,0)","v":0}]
[null,null,null,null,null,null,null,null,null,null,null,null,null,null,null,null,null,null,null,null,null,null,null,{"$f":"SUM(X424:X430)","v":0.75},{"$f":"MAX(Y423:Y430)","v":1},{"$f":"IF($O422=\"\",0,MAX(Z424:Z430)*$O422)","v":0},null,{"$f":"IF($O422=\"\",0,MAX(AB424:AB430)*$O422)","v":0},null,{"$f":"IF($O422=\"\",0,MAX(AD424:AD430)*$O422)","v":0},null,{"$f":"IF($O422=\"\",0,MAX(AF424:AF430)*$O422)","v":0}]
[]
[]
[null,null,null,{"$f":"'Matriz VERDE-GBCe'!H47","v":"CC 05"},{"$f":"VLOOKUP($D434,'Matriz VERDE-GBCe'!$H$4:$K$49,2,FALSE)","v":"Capacidad de control local de los sistemas de HVAC."},null,null,null,null,null,null,null,null,null,{"$f":"VLOOKUP($D434,'Matriz VERDE-GBCe'!$H$4:$K$49,3,FALSE)","v":1.8861993083935862E-2}]
[]
[null,null,null,"NOTA: Este criterio se evalúa por fórmulas lineales, la puntuación puede variar en la evaluación final. Ver la guía.",null,null,null,null,null,null,null,null,null,null,null,null,null,null,null,null,null,null,null,null,"Target","SEGURO",null,"PROBABLE",null,"DUDOSO",null,"NO CUMPLE",null,"NO APLICA"]
[]
[null,null,null,"El 80 % de las superficies de trabajo disponen de un control termostático.",null,null,null,null,null,null,null,null,null,null,null,null,null,null,null,null,null,null,0.25,{"$f":"IF(AH438=2,0,W438)","v":0.25},0.2,{"$f":"+IF($Q438=\"seguro\",$Y438,0)","v":0},null,{"$f":"+IF($Q438=\"probable\",$Y438,0)","v":0},null,{"$f":"+IF($Q438=\"dudoso\",$Y438,0)","v":0},null,{"$f":"+IF($Q438=\"NO CUMPLE\",$Y438,0)","v":0},null,{"$f":"+IF($Q438=\"no aplica\",2,0)","v":0}]
[]
[null,null,null,"El 90 % de las superficies de trabajo disponen de un control termostático.",null,null,null,null,null,null,null,null,null,null,null,null,null,null,null,null,null,null,0.25,{"$f":"IF(AH440=2,0,W440)","v":0.25},0.6,{"$f":"+IF($Q440=\"seguro\",$Y440,0)","v":0},null,{"$f":"+IF($Q440=\"probable\",$Y440,0)","v":0},null,{"$f":"+IF($Q440=\"dudoso\",$Y440,0)","v":0},null,{"$f":"+IF($Q440=\"NO CUMPLE\",$Y440,0)","v":0},null,{"$f":"+IF($Q440=\"no aplica\",2,0)","v":0}]
[]
[null,null,null,"El 100 % de las superficies de trabajo disponen de un control termostático.",null,null,null,null,null,null,null,null,null,null,null,null,null,null,null,null,null,null,0.25,{"$f":"IF(AH442=2,0,W442)","v":0.25},1,{"$f":"+IF($Q442=\"seguro\",$Y442,0)","v":0},null,{"$f":"+IF($Q442=\"probable\",$Y442,0)","v":0},null,{"$f":"+IF($Q442=\"dudoso\",$Y442,0)","v":0},null,{"$f":"+IF($Q442=\"NO CUMPLE\",$Y442,0)","v":0},null,{"$f":"+IF($Q442=\"no aplica\",2,0)","v":0}]
[null,null,null,null,null,null,null,null,null,null,null,null,null,null,null,null,null,null,null,null,null,null,null,null,{"$f":"MAX(Y435:Y442)","v":1},{"$f":"IF($O434=\"\",0,MAX(Z438:Z442)*$O434)","v":0},null,{"$f":"IF($O434=\"\",0,MAX(AB438:AB442)*$O434)","v":0},null,{"$f":"IF($O434=\"\",0,MAX(AD438:AD442)*$O434)","v":0},null,{"$f":"IF($O434=\"\",0,MAX(AF438:AF442)*$O434)","v":0}]
[]
[]
[null,null,null,{"$f":"'Matriz VERDE-GBCe'!H48","v":"CC 06"},{"$f":"VLOOKUP($D446,'Matriz VERDE-GBCe'!$H$4:$K$49,2,FALSE)","v":"Custodia de la documentación del proyecto."},null,null,null,null,null,null,null,null,null,{"$f":"VLOOKUP($D446,'Matriz VERDE-GBCe'!$H$4:$K$49,3,FALSE)","v":1.8861993083935862E-2},null,null,null,null,null,null,null,null,null,"Target","SEGURO",null,"PROBABLE",null,"DUDOSO",null,"NO CUMPLE",null,"NO APLICA"]
[]
[null,null,null,"El protocolo de custodio de la documentación del proyecto incluye apropietarios y, o equipo de proyecto, o promotores.",null,null,null,null,null,null,null,null,null,null,null,null,null,null,null,null,null,null,null,null,0.15,{"$f":"+IF($Q448=\"seguro\",$Y448,0)","v":0},null,{"$f":"+IF($Q448=\"probable\",$Y448,0)","v":0},null,{"$f":"+IF($Q448=\"dudoso\",$Y448,0)","v":0},null,{"$f":"+IF($Q448=\"NO CUMPLE\",$Y448,0)","v":0},null,{"$f":"+IF($Q448=\"no aplica\",2,0)","v":0}]
[]
[]
[null,null,null,"El protocolo de custodio de la documentación del proyecto incluye a propietarios, equipo de proyecto, y o bien promotor o bien constructora. ",null,null,null,null,null,null,null,null,null,null,null,null,null,null,null,null,null,null,null,null,0.6,{"$f":"+IF($Q451=\"seguro\",$Y451,0)","v":0},null,{"$f":"+IF($Q451=\"probable\",$Y451,0)","v":0},null,{"$f":"+IF($Q451=\"dudoso\",$Y451,0)","v":0},null,{"$f":"+IF($Q451=\"NO CUMPLE\",$Y451,0)","v":0},null,{"$f":"+IF($Q451=\"no aplica\",2,0)","v":0}]
[]
[]
[null,null,null,"El protocolo de custodio de la documentación del proyecto incluye a propietarios, equipo de proyecto, promotor y constructora.",null,null,null,null,null,null,null,null,null,null,null,null,null,null,null,null,null,null,null,null,1,{"$f":"+IF($Q454=\"seguro\",$Y454,0)","v":0},null,{"$f":"+IF($Q454=\"probable\",$Y454,0)","v":0},null,{"$f":"+IF($Q454=\"dudoso\",$Y454,0)","v":0},null,{"$f":"+IF($Q454=\"NO CUMPLE\",$Y454,0)","v":0},null,{"$f":"+IF($Q454=\"no aplica\",2,0)","v":0}]
[]
[null,null,null,null,null,null,null,null,null,null,null,null,null,null,null,null,null,null,null,null,null,null,null,null,{"$f":"MAX(Y447:Y455)","v":1},{"$f":"IF($O446=\"\",0,MAX(Z448:Z454)*$O446/Y456)","v":0},null,{"$f":"IF($O446=\"\",0,MAX(AB448:AB454)*$O446/Y456)","v":0},null,{"$f":"IF($O446=\"\",0,MAX(AD448:AD454)*$O446/Y456)","v":0},null,{"$f":"IF($O446=\"\",0,MAX(AF448:AF454)*$O446/Y456)","v":0}]
[]
[]
[null,null,null,{"$f":"'Matriz VERDE-GBCe'!H49","v":"CC 07"},{"$f":"VLOOKUP($D459,'Matriz VERDE-GBCe'!$H$4:$K$49,2,FALSE)","v":"El edificio como una herramienta para la educación."},null,null,null,null,null,null,null,null,null,{"$f":"VLOOKUP($D459,'Matriz VERDE-GBCe'!$H$4:$K$49,3,FALSE)","v":1.8861993083935862E-2},null,null,null,null,null,null,null,null,null,"Target","SEGURO",null,"PROBABLE",null,"DUDOSO",null,"NO CUMPLE",null,"NO APLICA"]
[]
[null,null,null,"Se ha elaborado un plan de comunicación",null,null,null,null,null,null,null,null,null,null,null,null,null,null,null,null,null,null,0.25,{"$f":"IF(AH461=2,0,W461)","v":0.25},0.25,{"$f":"+IF($Q461=\"seguro\",$Y461,0)","v":0},null,{"$f":"+IF($Q461=\"probable\",$Y461,0)","v":0},null,{"$f":"+IF($Q461=\"dudoso\",$Y461,0)","v":0},null,{"$f":"+IF($Q461=\"NO CUMPLE\",$Y461,0)","v":0},null,{"$f":"+IF($Q461=\"no aplica\",2,0)","v":0}]
[]
[null,null,null,"Hay un compromiso de hacer los datos de consumo generales del edificio público",null,null,null,null,null,null,null,null,null,null,null,null,null,null,null,null,null,null,0.25,{"$f":"IF(AH463=2,0,W463)","v":0.25},0.25,{"$f":"+IF($Q463=\"seguro\",$Y463,0)","v":0},null,{"$f":"+IF($Q463=\"probable\",$Y463,0)","v":0},null,{"$f":"+IF($Q463=\"dudoso\",$Y463,0)","v":0},null,{"$f":"+IF($Q463=\"NO CUMPLE\",$Y463,0)","v":0},null,{"$f":"+IF($Q463=\"no aplica\",2,0)","v":0}]
[]
[null,null,null,"Hay un compromiso de facilitar información sobre el funcionamiento del edificio a entidades educacionales",null,null,null,null,null,null,null,null,null,null,null,null,null,null,null,null,null,null,0.25,{"$f":"IF(AH465=2,0,W465)","v":0.25},0.25,{"$f":"+IF($Q465=\"seguro\",$Y465,0)","v":0},null,{"$f":"+IF($Q465=\"probable\",$Y465,0)","v":0},null,{"$f":"+IF($Q465=\"dudoso\",$Y465,0)","v":0},null,{"$f":"+IF($Q465=\"NO CUMPLE\",$Y465,0)","v":0},null,{"$f":"+IF($Q465=\"no aplica\",2,0)","v":0}]
[]
[null,null,null,"Hay un compromiso incentivar la comunicación del funcionamiento del edificio en foros representativos",null,null,null,null,null,null,null,null,null,null,null,null,null,null,null,null,null,null,0.25,{"$f":"IF(AH467=2,0,W467)","v":0.25},0.25,{"$f":"+IF($Q467=\"seguro\",$Y467,0)","v":0},null,{"$f":"+IF($Q467=\"probable\",$Y467,0)","v":0},null,{"$f":"+IF($Q467=\"dudoso\",$Y467,0)","v":0},null,{"$f":"+IF($Q467=\"NO CUMPLE\",$Y467,0)","v":0},null,{"$f":"+IF($Q467=\"no aplica\",2,0)","v":0}]
[null,null,null,null,null,null,null,null,null,null,null,null,null,null,null,null,null,null,null,null,null,null,null,{"$f":"SUM(X461:X467)","v":1},{"$f":"SUM(Y460:Y467)","v":1},{"$f":"IF($O459=\"\",0,SUM(Z461:Z467)*$O459)","v":0},null,{"$f":"IF($O459=\"\",0,SUM(AB461:AB467)*$O459)","v":0},null,{"$f":"IF($O459=\"\",0,SUM(AD461:AD467)*$O459)","v":0},null,{"$f":"IF($O459=\"\",0,SUM(AF461:AF467)*$O459)","v":0}]
[]
[]
[null,null,null,{"$f":"'Matriz VERDE-GBCe'!H50","v":"CC 08"},{"$f":"VLOOKUP($D471,'Matriz VERDE-GBCe'!$H$4:$K$50,2,FALSE)","v":"Certificaciones voluntarias del edificio."},null,null,null,null,null,null,null,null,null,{"$f":"VLOOKUP($D471,'Matriz VERDE-GBCe'!$H$4:$K$50,3,FALSE)","v":0},null,null,null,null,null,null,null,null,null,"Target","SEGURO",null,"PROBABLE",null,"DUDOSO",null,"NO CUMPLE",null,"NO APLICA"]
[]
[null,null,null,"El edificio cuenta con una certificación VERDE",null,null,null,null,null,null,null,null,null,null,null,null,null,null,null,null,null,null,0.25,{"$f":"IF(AH473=2,0,W473)","v":0.25},1,{"$f":"+IF($Q473=\"seguro\",$Y473,0)","v":0},null,{"$f":"+IF($Q473=\"probable\",$Y473,0)","v":0},null,{"$f":"+IF($Q473=\"dudoso\",$Y473,0)","v":0},null,{"$f":"+IF($Q473=\"NO CUMPLE\",$Y473,0)","v":0},null,{"$f":"+IF($Q473=\"no aplica\",2,0)","v":0}]
[]
[null,null,null,"El edificio cuenta con otra certificación voluntaria que valora la sostenibilidad en la edificación.",null,null,null,null,null,null,null,null,null,null,null,null,null,null,null,null,null,null,0.25,{"$f":"IF(AH475=2,0,W475)","v":0.25},0.5,{"$f":"+IF($Q475=\"seguro\",$Y475,0)","v":0},null,{"$f":"+IF($Q475=\"probable\",$Y475,0)","v":0},null,{"$f":"+IF($Q475=\"dudoso\",$Y475,0)","v":0},null,{"$f":"+IF($Q475=\"NO CUMPLE\",$Y475,0)","v":0},null,{"$f":"+IF($Q475=\"no aplica\",2,0)","v":0}]
[null,null,null,null,null,null,null,null,null,null,null,null,null,null,null,null,null,null,null,null,null,null,null,{"$f":"SUM(X473:X475)","v":0.5},1,{"$f":"IF($O471=\"\",0,MAX(Z473:Z475)*$O471)","v":0},null,{"$f":"IF($O471=\"\",0,MAX(AB473:AB475)*$O471)","v":0},null,{"$f":"IF($O471=\"\",0,MAX(AD473:AD475)*$O471)","v":0},null,{"$f":"IF($O471=\"\",0,MAX(AF473:AF475)*$O471)","v":0}]
[]
[]
[null,null,null,null,null,"SEGURO",null,"PROBABLE",null,"DUDOSO",null,"NO CUMPLE"]
[]
[null,null,"SUBTOTAL CS",null,null,{"$f":"$Z401+$Z411+$Z419+$Z431+Z443+Z456+Z468+Z476","v":0},null,{"$f":"$Z401+$Z411+$Z419+$Z431+AB443+AB456+AB468+AB476","v":0},null,{"$f":"$Z401+$Z411+$Z419+$Z431+AD443+AD456+AD468+AD476","v":0},null,{"$f":"$Z401+$Z411+$Z419+$Z431+AF443+AF456+AF468+AF476","v":0}]
[]
[]
[null,"IN",null,"Innovación",null,null,null,null,null,null,null,null,null,null,{"$f":"SUM(O487:O497)","v":0.05}]
[]
[]
[null,null,null,"IN 01","Criterio 1",null,null,null,null,null,null,null,null,null,0.05,null,null,null,null,null,null,null,null,null,"Target","SEGURO",null,"PROBABLE",null,"DUDOSO",null,"COMPLICADO",null,"NO APLICA"]
[]
[null,null,null,"medida de innovación aprobada por GCBe",null,null,null,null,null,null,null,null,null,null,null,null,null,null,null,null,null,null,null,null,1,{"$f":"+IF($Q489=\"seguro\",$Y489,0)","v":0},null,{"$f":"+IF($Q489=\"probable\",$Y489,0)","v":0},null,{"$f":"+IF($Q489=\"dudoso\",$Y489,0)","v":0},null,{"$f":"+IF($Q489=\"NO CUMPLE\",$Y489,0)","v":0},null,{"$f":"+IF($Q489=\"no aplica\",2,0)","v":0}]
[]
[null,null,null,"medida de innovación aprobada por GCBe",null,null,null,null,null,null,null,null,null,null,null,null,null,null,null,null,null,null,null,null,1,{"$f":"+IF($Q491=\"seguro\",$Y491,0)","v":0},null,{"$f":"+IF($Q491=\"probable\",$Y491,0)","v":0},null,{"$f":"+IF($Q491=\"dudoso\",$Y491,0)","v":0},null,{"$f":"+IF($Q491=\"NO CUMPLE\",$Y491,0)","v":0},null,{"$f":"+IF($Q491=\"no aplica\",2,0)","v":0}]
[]
[null,null,null,"medida de innovación aprobada por GCBe",null,null,null,null,null,null,null,null,null,null,null,null,null,null,null,null,null,null,null,null,1,{"$f":"+IF($Q493=\"seguro\",$Y493,0)","v":0},null,{"$f":"+IF($Q493=\"probable\",$Y493,0)","v":0},null,{"$f":"+IF($Q493=\"dudoso\",$Y493,0)","v":0},null,{"$f":"+IF($Q493=\"NO CUMPLE\",$Y493,0)","v":0},null,{"$f":"+IF($Q493=\"no aplica\",2,0)","v":0}]
[]
[null,null,null,"medida de innovación aprobada por GCBe",null,null,null,null,null,null,null,null,null,null,null,null,null,null,null,null,null,null,null,null,1,{"$f":"+IF($Q495=\"seguro\",$Y495,0)","v":0},null,{"$f":"+IF($Q495=\"probable\",$Y495,0)","v":0},null,{"$f":"+IF($Q495=\"dudoso\",$Y495,0)","v":0},null,{"$f":"+IF($Q495=\"NO CUMPLE\",$Y495,0)","v":0},null,{"$f":"+IF($Q495=\"no aplica\",2,0)","v":0}]
[]
[null,null,null,"medida de innovación aprobada por GCBe",null,null,null,null,null,null,null,null,null,null,null,null,null,null,null,null,null,null,null,null,1,{"$f":"+IF($Q497=\"seguro\",$Y497,0)","v":0},null,{"$f":"+IF($Q497=\"probable\",$Y497,0)","v":0},null,{"$f":"+IF($Q497=\"dudoso\",$Y497,0)","v":0},null,{"$f":"+IF($Q497=\"NO CUMPLE\",$Y497,0)","v":0},null,{"$f":"+IF($Q497=\"no aplica\",2,0)","v":0}]
[null,null,null,null,null,null,null,null,null,null,null,null,null,null,null,null,null,null,null,null,null,null,null,null,{"$f":"SUM(Y489:Y497)","v":5},{"$f":"IF($O487=\"\",0,SUM(Z489:Z497)*$O487/$Y498)","v":0},null,{"$f":"IF($O487=\"\",0,SUM(AB489:AB497)*$O487/$Y498)","v":0},null,{"$f":"IF($O487=\"\",0,SUM(AD489:AD497)*$O487/$Y498)","v":0},null,{"$f":"IF($O487=\"\",0,SUM(AF489:AF497)*$O487/$Y498)","v":0}]
[]
[null,null,null,null,null,"SEGURO",null,"PROBABLE",null,"DUDOSO",null,"NO CUMPLE"]
[]
[null,null,"SUBTOTAL AS",null,null,{"$f":"$Z498","v":0},null,{"$f":"$AB498","v":0},null,{"$f":"$AD498","v":0},null,{"$f":"$AF498","v":0}]
[]
[]
[]
[null,null,null,null,null,"SEGURO",null,"PROBABLE",null,"DUDOSO",null,"NO CUMPLE"]
[]
[null,null,"TOTAL",null,null,{"$f":"F94+F176+F286+F357+F388+F481+F502","v":0},null,{"$f":"H94+H176+H286+H357+H388+H481+H502","v":0},null,{"$f":"J94+J176+J286+J357+J388+J481+J502","v":0},null,{"$f":"L94+L176+L286+L357+L388+L481+L502","v":0},null,null,null,null,null,null,null,null,null,null,null,null,"S","S+P","S+P+D"]
[]
[null,null,null,null,null,null,null,null,null,null,null,null,null,null,null,null,null,null,null,null,null,null,null,null,{"$f":"F508","v":0},{"$f":"F508+H508","v":0},{"$f":"F508+H508+J508","v":0}," hoja"]
[null,null,"  Los criterios seguros darían un resultado de ",null,null,null,null,null,null,null,null,null,null,null,null,{"$f":"IFERROR(CONCATENATE(Y512,Y513),\"\")","v":"0 hojas"}]
[null,null,null,null,null,null,null,null,null,null,null,null,null,null,null,null,null,null,null,null,null,null,null,null,{"$f":"IF(Y510>80%,5,IF(Y510>60%,4,IF(Y510>50%,3,IF(Y510>40%,2,IF(Y510>30%,1,0)))))","v":0},{"$f":"IF(Z510>80%,5,IF(Z510>60%,4,IF(Z510>50%,3,IF(Z510>40%,2,IF(Z510>30%,1,0)))))","v":0},{"$f":"IF(AA510>80%,5,IF(AA510>60%,4,IF(AA510>50%,3,IF(AA510>40%,2,IF(AA510>30%,1,0)))))","v":0}," hojas"]
[null,null,"  Los criterios seguros más los probables darían un resultado de ",null,null,null,null,null,null,null,null,null,null,null,null,{"$f":"IFERROR(CONCATENATE(Z512,Z513),\"\")","v":"0 hojas"},null,null,null,null,null,null,null,null,{"$f":"IF(Y512=1,AB510,AB512)","v":" hojas"},{"$f":"IF(Z512=1,AB510,AB512)","v":" hojas"},{"$f":"IF(AA512=1,AB510,AB512)","v":" hojas"}]
[]
[null,null,"  Los criterios seguros más los probables más los dudosos darían un resultado de ",null,null,null,null,null,null,null,null,null,null,null,null,{"$f":"IFERROR(CONCATENATE(AA512,AA513),\"\")","v":"0 hojas"}]

{"sheet":"PyE","index":10,"n_rows":307,"n_cols":24,"rows_kept":307,"cut":false,"hidden":false,"merged":[[66,4,67,4],[95,4,95,5],[290,3,290,4],[258,4,258,5],[282,3,282,4],[282,5,282,6],[284,4,284,5],[286,4,286,5],[260,4,260,5],[262,4,262,5],[266,3,266,4],[157,4,157,5],[155,4,155,5],[165,3,165,4],[159,4,159,5],[75,4,76,4],[295,5,295,8],[26,3,26,4],[48,3,48,4],[161,4,161,5],[163,4,163,5],[182,3,182,4],[182,5,182,6],[184,4,184,5],[192,3,192,4],[186,4,186,5],[188,4,188,5],[250,5,250,6],[224,3,224,4],[240,3,240,4],[146,4,147,4],[288,4,288,5],[1,1,1,2],[44,3,44,4],[44,5,44,6],[46,4,46,5],[20,3,20,4],[20,5,20,6],[1,3,1,4],[1,5,1,6],[22,4,22,5],[24,4,24,5],[16,4,16,5],[8,5,8,7],[80,4,81,4],[151,3,151,4],[151,5,151,6],[117,3,117,4],[117,5,117,6],[119,4,119,5],[121,3,121,4],[127,3,127,4],[140,3,140,4],[144,3,144,4],[91,4,91,5],[133,3,133,4],[135,4,136,4],[97,3,97,4],[93,4,93,5],[69,4,70,4],[72,4,73,4],[190,4,190,5],[254,4,254,5],[256,4,256,5],[206,3,206,4],[206,5,206,6],[208,4,208,5],[210,4,210,5],[212,4,212,5],[218,3,218,4],[250,3,250,4],[252,4,252,5],[214,4,214,5],[216,4,216,5],[153,4,153,5],[264,4,264,5],[171,4,172,4],[89,4,89,5],[85,3,85,4],[85,5,85,6],[87,4,87,5]]}
[]
[null,{"$f":"'Matriz VERDE-GBCe'!G4","v":"PyE"},null,{"$f":"'Matriz VERDE-GBCe'!H4","v":"Parcela y Emplazamiento."},null,null,null,null,null,null,null,null,null,null,null,null,null,null,null,null,null,null,null,"EJEMPLO 1"]
[]
[]
[null,null,null,{"$f":"'Matriz VERDE-GBCe'!H5","v":"PyE 01"},{"$f":"VLOOKUP($D5,'Matriz VERDE-GBCe'!$H$5:$K$49,2,FALSE)","v":"Proximidad al transporte publico."},{"$f":"VLOOKUP($D5,'Matriz VERDE-GBCe'!$H$5:$K$49,3,FALSE)","v":2.2005658597925176E-2},null,null,null,null,null,null,null,"Municipio"]
[null,null,null,null,null,null,null,null,null,null,null,null,null,"Polígono no residencial"]
[null,null,null,null,{"$f":"IF(DG!$E$25=DG!$K$25,\"Comprueba las particularidades de este criterio para Naves industriales o logísticas en GEA.\",\"\")","v":""},null,null,null,null,null,null,null,null,null,null,null,null,null,"SE ADJUNTA",null,"SÍ","NO"]
[null,null,null,null,null,null,null,null,null,null,null,null,null,null,null,null,null,null,"NO SE ADJUNTA",null,"NO"]
[null,null,null,null,"¿Dónde se encuentra el edificio?",null,null,null,null,null,null,null,null,null,null,null,null,null,"NO APLICA"]
[]
[null,null,null,null,{"$f":"IF(F9=\"Polígono no residencial\",\"Número de ocupantes\",\"Número de habitantes del municipio\")","v":"Número de habitantes del municipio"},null,null,null,null,null,null,10000,null,null,null,null,null,null,null,null,null,null,null,10000]
[]
[null,null,null,null,{"$f":"IF(F9=\"Polígono no residencial\",\"\",\"Densidad del entorno de la parcela en viv./ha\")","v":"Densidad del entorno de la parcela en viv./ha"},null,null,null,null,null,null,1.5,null,null,null,null,null,null,null,null,null,null,null,150]
[]
[null,null,null,null,"Dispone de un servicio propio de desplazamiento de trabajadores"]
[]
[null,null,null,null,{"$f":"IF(H15=\"Sí\",\"\",IF(DG!$E$25=DG!$K$25,CONCATENATE(M19,N19,O19,P19,Q19),CONCATENATE(M17,N17,O17,P17,Q17)))","v":"Se cumple con el requisito de 2 líneas de transporte público en las paradas situadas en un radio de 1000 m"},null,null,null,null,null,null,"Sí","Se cumple con el requisito de ",{"$f":"IF(F9=\"Polígono no residencial\",IF($H$11>=50,6,IF($H$11<50,4,0)),IF(AND($H$13>100,$H$11>100000),6,IF(OR(AND($H$13>100,AND($H$11<100000,$H$11>20000)),AND($H$13<100,$H$11>20000)),4,2))\n)","v":2}," líneas de transporte público en las paradas situadas en un radio de ",{"$f":"IF(F9=\"Polígono no residencial\",IF($H$11>=50,300,IF($H$11<50,600,0)),IF(AND($H$13>100,$H$11>100000),300,IF(OR(AND($H$13>100,AND($H$11<100000,$H$11>20000)),AND($H$13<100,$H$11>20000)),600,1000)))","v":1000}," m",null,null,null,null,null,null,"SÍ"]
[]
[null,null,null,"NOTAS",null,null,null,null,null,null,null,null,"Se cumple con el requisito de ",{"$f":"IF(F11=\"Polígono no residencial\",IF($H$11>=50,3,IF($H$11<50,2,0)),IF(AND($H$13>100,$H$11>100000),3,IF(OR(AND($H$13>100,AND($H$11<100000,$H$11>20000)),AND($H$13<100,$H$11>20000)),2,1))\n)","v":1}," líneas de transporte público en las paradas situadas en un radio de ",{"$f":"IF(F11=\"Polígono no residencial\",IF($H$11>=50,300,IF($H$11<50,600,0)),IF(AND($H$13>100,$H$11>100000),300,IF(OR(AND($H$13>100,AND($H$11<100000,$H$11>20000)),AND($H$13<100,$H$11>20000)),600,1000)))","v":1000}," m"]
[]
[null,null,null,"DOCUMENTOS JUSTIFICATIVOS",null,null,null,null,null,null,null,null,"Valoración del criterio:"]
[]
[null,null,null,"PyE 01.01","Parcelario oficial del emplazamiento en formato dwg o dxf, indicando el círculo del diámetro adecuado para el caso de estudio y la situación de las paradas de transporte público.",null,null,null,null,null,null,null,{"$f":"IF(H17=\"sí\",F5,0)","v":0}]
[]
[null,null,null,"PyE 01.02",{"$f":"IF(DG!E100=DG!L98,CONCATENATE(PyE!M25,PyE!N25,PyE!O25),CONCATENATE(PyE!M25,PyE!N25,PyE!P25))","v":"Información de los tipos de transporte público y líneas de cada uno de ellos con los horarios de servicio en las paradas incluidas en el diámetro aplicable al caso de estudio vigentes a fecha depuesta en servicio del edificio."},null,null,null,null,null,null,null,"Información de los tipos de transporte público y líneas de cada uno de ellos con los horarios de servicio en las paradas incluidas en el diámetro aplicable al caso de estudio ","vigentes a fecha de"," visado del proyecto.","puesta en servicio del edificio."]
[]
[null,null,null,"VALORACIÓN DEL CRITERIO",null,{"$f":"IF(OR($H17=\"SÍ\",H15=\"SÍ\"),$F5,0)","v":0}]
[]
[]
[]
[null,null,null,{"$f":"'Matriz VERDE-GBCe'!H6","v":"PyE 02"},{"$f":"VLOOKUP($D31,'Matriz VERDE-GBCe'!$H$5:$K$49,2,FALSE)","v":"Proximidad a equipamiento y servicios."},{"$f":"VLOOKUP($D31,'Matriz VERDE-GBCe'!$H$5:$K$49,3,FALSE)","v":2.2005658597925176E-2}]
[]
[null,null,null,null,{"$f":"IF(DG!$E$25=DG!$K$26,\"Comprueba las particularidades de este criterio para urbanizaciones en GEA.\",IF(DG!$E$25=DG!K25,\"Comprueba las particularidades de este criterio para unifamiliares en GEA.\",\"\"))","v":""}]
[]
[null,null,null,null,"Número de habitantes del municipio",{"$f":"H11","v":0},null,null,null,null,null,null,{"$f":"IF(AND($H$37>100,$H$35>100000),\"A\",IF(OR(AND($H$37>100,AND($H$35<100000,$H$35>20000)),AND($H$37<100,$H$35>20000)),\"B\",\"C\"))","v":"C"},"A","B","C"]
[]
[null,null,null,null,"Densidad del entorno de la parcela en viv./ha",{"$f":"H13","v":0},null,null,null,null,null,null,null,{"$f":"IF(OR($H$39<3,$H$41<3),0,$F$31)","v":0},{"$f":"IF(OR($H$39<3,$H$41<2),0,$F$31)","v":0},{"$f":"IF(OR($H$39<2,$H$41<1),0,$F$31)","v":0}]
[]
[null,null,null,null,"Número de equipamientos de PRIORIDAD 1",null,null,null,null,null,null,5,null,null,null,null,null,null,null,null,null,null,null,5]
[]
[null,null,null,null,"Número de equipamientos de PRIORIDAD 2",null,null,null,null,null,null,3,null,null,null,null,null,null,null,null,null,null,null,3]
[]
[null,null,null,"NOTAS"]
[]
[null,null,null,"DOCUMENTOS JUSTIFICATIVOS"]
[]
[null,null,null,"PyE 02.01",{"$f":"CONCATENATE(M47,N47,O47)","v":"Parcelario oficial del emplazamiento en formato dwg o dxf, indicando el círculo de diámetro 800 y la situación de Los equipamientos indicando su prioridad y su función."},null,null,null,null,null,null,null,"Parcelario oficial del emplazamiento en formato dwg o dxf, indicando el círculo de diámetro ",{"$f":"IF(DG!E25=\"unifamiliar\",1000,800)","v":800}," y la situación de Los equipamientos indicando su prioridad y su función."]
[]
[null,null,null,"VALORACIÓN DEL CRITERIO",null,{"$f":"IF($M35=\"A\",$N37,IF($M35=\"B\",$O37,IF($M35=\"C\",$P37,0)))","v":0}]
[]
[]
[]
[null,null,null,{"$f":"'Matriz VERDE-GBCe'!H7","v":"PyE 03"},{"$f":"VLOOKUP($D53,'Matriz VERDE-GBCe'!$H$5:$K$49,2,FALSE)","v":"Facilidades para la bicicleta."},{"$f":"VLOOKUP($D53,'Matriz VERDE-GBCe'!$H$5:$K$49,3,FALSE)","v":2.2005658597925176E-2}]
[]
[null,null,null,null,{"$f":"IF(DG!E27=DG!K66,\"Comprueba las particularidades de este criterio para rehabilitaciones en GEA.\",IF(DG!E27=DG!K67,\"Comprueba las particularidades de este criterio para edificios existentes en GEA.\",\"\"))","v":""}]
[]
[null,null,null,null,{"$f":"DG!$E$25","v":0}]
[]
[null,null,null,null,"¿Se dispone de superficie libre de parcela o espacio de aparcamiento?","NO"]
[]
[null,null,null,null,"Número de aparcabicis requerido"]
[]
[null,null,null,null,"Número de aparcabicis del proyecto",null,null,null,null,null,null,75,null,null,null,null,null,null,null,null,null,null,null,75]
[]
[null,null,null,null,{"$f":"IF(F59=\"no\",\"¿Existe un aparcamiento de bicicletas en vía pública a menos de 300 m de la entrada principal?\",\"\")","v":"¿Existe un aparcamiento de bicicletas en vía pública a menos de 300 m de la entrada principal?"},null,null,null,null,null,null,null,null,"Oficinas o administratico"]
[null,null,null,null,null,null,null,null,null,null,null,null,null,"Naves industriales o logísticas"]
[null,null,null,null,"Se reserva una franja de 0,5 m de ancho entre el espacio ocupados por las bicis y los viales de circulación tanto peatonal, cómo de vehículos",null,null,null,null,null,null,null,null,"Edificios comerciales",null,null,null,null,null,null,null,null,null,"SÍ"]
[null,null,null,null,null,null,null,null,null,null,null,null,null,"Edificios educacionales"]
[null,null,null,null,null,null,null,null,null,null,null,null,null,"Edificios de equipamiento público"]
[null,null,null,null,"Se ofrece un entorno cómodo para los ciclistas con espacio suficiente para realizar las maniobras necesarias",null,null,null,null,null,null,null,null,"Hotelero",null,null,null,null,null,null,null,null,null,"SÍ"]
[null,null,null,null,null,null,null,null,null,null,null,null,null,"Servicios de restauración"]
[null,null,null,null,null,null,null,null,null,null,null,null,null,"Mixtos"]
[null,null,null,null,"La instalación cumple con las normativas de accesibilidad de peatones y personas con movilidad reducida.",null,null,null,null,null,null,null,null,null,null,null,null,null,null,null,null,null,null,"SÍ"]
[]
[]
[null,null,null,null,"Los paracabaicis están anclados a una estructura permanente y permiten el anclaje de la bicicleta en dos puntos, al menos una rueda y un bastidor.",null,null,null,null,null,null,null,null,null,null,null,null,null,null,null,null,null,null,"SÍ"]
[]
[]
[null,null,null,null,"El espacio de aparcamiento está debidamente iluminado y ofrece sensación de seguridad.",null,null,null,null,null,null,null,null,null,null,null,null,null,null,null,null,null,null,"SÍ"]
[]
[null,null,null,null,"El aparcabicis previene robos o actos de vandalismo, en caso de desanclar el elemento de aparcamiento del suelo, las bicicletas no podrán ser separadas de él sin romper el candado.",null,null,null,null,null,null,null,null,null,null,null,null,null,null,null,null,null,null,"SÍ"]
[]
[]
[null,null,null,"NOTAS"]
[]
[null,null,null,"DOCUMENTOS JUSTIFICATIVOS"]
[]
[null,null,null,"PyE 03.01","Plano con la situación de los aparcabicis y la justificación de que se cumplen las distancias de seguridad"]
[]
[null,null,null,"PyE 03.02","Detalle o ficha técnica de los aparcabicis seleccionados"]
[]
[null,null,null,"PyE 03.03","Copia de las facturas de los aparcabicis (pudiendo ocultar el precio)"]
[]
[null,null,null,"PyE 03.04","Fotografías de obra construida de los aparcabicis y su relación con el entorno"]
[]
[null,null,null,"PyE 03.05","Memoria de cálculos justificativos del número de aparcamientos en función de los ocupantes del edificio"]
[]
[null,null,null,"VALORACIÓN DEL CRITERIO",null,{"$f":"IF(AND(F59=\"No\",H65=\"Sí\"),F53*0.5,IF(AND(H63>=F61,H67=\"Sí\",H70=\"Sí\",H73=\"Sí\",H76=\"Sí\",H79=\"Sí\",H81=\"Sí\"),F53,0))","v":0}]
[]
[]
[]
[null,null,null,{"$f":"'Matriz VERDE-GBCe'!H8","v":"PyE 04"},{"$f":"VLOOKUP($D102,'Matriz VERDE-GBCe'!$H$5:$K$49,2,FALSE)","v":"Capacidad de carga de vehículos eléctricos."},{"$f":"VLOOKUP($D102,'Matriz VERDE-GBCe'!$H$5:$K$49,3,FALSE)","v":1.1631562401760449E-2}]
[]
[null,null,null,null,{"$f":"IF(DG!E25=DG!K25,\"¿Se cuenta en la parcela con, al menos, una plaza con carga para vehículos eléctricos?\",IF(DG!E25=DG!K26,\"¿Se cuenta con una plaza con carga para vehículos eléctricos para cada vivienda?\",\"¿El edificio cuenta con aparcamiento privado?\"))","v":"¿El edificio cuenta con aparcamiento privado?"}]
[]
[null,null,null,null,"Número de plazas de aparcamiento"]
[]
[null,null,null,null,"Número de plazas con carga para vehículos eléctricos"]
[]
[null,null,null,null,"Número de plazas con preinstalación para cargar vehículos eléctricos"]
[]
[null,null,null,null,"Porcentaje de plazas con carga para vehículos eléctricos",{"$f":"IF(H106=\"\",0,(H108/H106))","v":0},null,null,null,null,null,null,{"$f":"IF(F112=\"\",0,IF(F$112<0.2,0,IF(F$112>=0.4,F102/2,(F$112*100-20)/20*F102/2)))","v":0}]
[]
[null,null,null,null,"Porcentaje de plazas con pre-instalación para cargar vehículos eléctricos",{"$f":"IF(H106=\"\",0,(H110/H106))","v":0},null,null,null,null,null,null,{"$f":"IF(F114=\"\",0,IF(F$114<=0.4,0,IF(F$114>=0.7,F102/2,(F$114*100-40)/30*F102/2)))","v":0}]
[]
[null,null,null,"NOTAS"]
[]
[null,null,null,"DOCUMENTOS JUSTIFICATIVOS"]
[]
[null,null,null,"PyE 04.01","Extracto de la memoria del proyecto donde se indique el número de plazas de aparcamiento y cuántas de ellas tienen carga para vehículos eléctricos o preinstalación."]
[]
[null,null,null,"VALORACIÓN DEL CRITERIO",null,{"$f":"M112+M114","v":0}]
[]
[]
[]
[null,null,null,{"$f":"'Matriz VERDE-GBCe'!H9","v":"PyE 05"},{"$f":"VLOOKUP($D126,'Matriz VERDE-GBCe'!$H$5:$K$49,2,FALSE)","v":"Clasificación de RSU."},{"$f":"VLOOKUP($D126,'Matriz VERDE-GBCe'!$H$5:$K$49,3,FALSE)","v":1.2574662055957243E-2}]
[]
[null,null,null,"Espacio en planta baja para almacen de trastos:"]
[]
[null,null,null,null,"Superficie mínima del almacen de trastos",null,null,null,null,null,null,23,{"$f":"IF(DG!E27=\"rehabilitación\",\"RH\",IF(DG!E27=\"NUEVA EDIFICACIÓN\",\"NE\",\"\"))","v":""},{"$f":"IF(DG!E25=\"unifamiliar\",\"Uni\", \"Res\")","v":"Res"},null,null,"NE",null,null,null,null,null,null,23]
[]
[null,null,null,null,"Diámetro del mayor círculo que se puede inscribir en el almacén",null,null,null,null,null,null,null,{"$f":"IF(AND($H130>=7,$H132>=1.5),1,0)","v":0},{"$f":"IF(M132=0,0,F126*0.25)","v":0},null,null,null,null,null,null,null,null,null,30]
[]
[null,null,null,"Espacio en cada planta para conenedores de residuos:"]
[]
[null,null,null,null,"Existe en cada planta un espacio reservado para contenedores de aquellas fracciones de residuos generados habitualmente en el edificio",null,null,null,null,null,null,null,null,{"$f":"IF(OR(H$136=\"\",H$139=\"\",H$136=\"No\",H$139=\"No\"),0,(F126*0.25))","v":0}]
[]
[]
[null,null,null,null,"Estos contenedores disponen de la señalética adecuada"]
[]
[null,null,null,"Sistema de revalorización de residuos en la parcela:"]
[]
[null,null,null,null,"Existe un sistema de revalorización de los residuos generados en el edificio",null,null,null,null,null,null,null,{"$f":"IF(H143=\"sí\",1,0)","v":0},{"$f":"IF(M$143=0,0,F126*0.25)","v":0},null,null,null,null,null,null,null,null,null,"NO"]
[]
[null,null,null,"Otras medidas de mejora"]
[]
[null,null,null,null,"Se han diseñado medidas de mejora en el edificio que favorezcan la reducción, clasificación o recogida de resíduos.",null,null,null,null,null,null,null,{"$f":"IF(H147=\"sí\",1,0)","v":0},{"$f":"IF(M$147=0,0,F126*0.25)","v":0},null,null,null,null,null,null,null,null,null,"NO"]
[]
[]
[null,null,null,"NOTAS"]
[]
[null,null,null,"DOCUMENTOS JUSTIFICATIVOS"]
[]
[null,null,null,"PyE 05.01","Plano de la planta de edificio donde se sitúe el espacio para contenedores, su superficie y el círculo inscrito del radio solicitado."]
[]
[null,null,null,"PyE 05.02","Descripción y fichas técnicas del sistema de revalorización de residuos"]
[]
[null,null,null,"PyE 05.03","Plano en el que se sitúe el local destinado al almacenamiento de muebles y enseres hasta su traslado."]
[]
[null,null,null,"PyE 05.04","Memoria justificativa de la medida adoptada para incentivar la reducción, separación o reciclado de RSU"]
[]
[null,null,null,"PyE 05.05","Copia de las facturas de los sistemas implantados (pudiendo ocultar el precio)."]
[]
[null,null,null,"PyE 05.06","Fotografías de obra construida que justifiquen el cumplimiento de las medidas. Deberán aparecer los espacios para contenedores o almacenaje con sus correspondientes carteles y, si hubiera, los sistemas de revalorización instalados, así como la señalética adecuada como espacio para contenedores de residuos."]
[]
[null,null,null,"VALORACIÓN DEL CRITERIO",null,{"$f":"SUM($N132+N136+$N143+$N147)","v":0}]
[]
[]
[]
[null,null,null,{"$f":"'Matriz VERDE-GBCe'!H10","v":"PyE 06"},{"$f":"VLOOKUP($D170,'Matriz VERDE-GBCe'!$H$5:$K$49,2,FALSE)","v":"Gestión y Restauración del hábitat."},{"$f":"VLOOKUP($D170,'Matriz VERDE-GBCe'!$H$5:$K$49,3,FALSE)","v":0}]
[]
[null,null,null,null,"¿Alguna de las especies vegetales plantadas en la parcela o el edificio está recogida en el catálogo de especies invasoras del Ministerio de Medio Ambiente?",null,null,null,null,null,null,1000,null,null,null,null,null,null,null,null,null,null,null,1000]
[]
[]
[null,null,null,null,"Superficie ajardinada de la parcela y el edificio",{"$f":"DG!$E43","v":0},null,null,null,null,null,1000,null,null,null,null,null,null,null,null,null,null,null,1000]
[]
[null,null,null,null,"Superficie cubierta por plantas autóctonas",null,null,null,null,null,null,700,null,null,null,null,null,null,null,null,null,null,null,800]
[]
[null,null,null,null,"Porcentaje de la superficie ajardinada ocupada por plantas autóctonas",{"$f":"IF(OR(F175=0,F175=\"\"),0,H177/F175)","v":0}]
[]
[null,null,null,"NOTAS"]
[]
[null,null,null,"DOCUMENTOS JUSTIFICATIVOS"]
[]
[null,null,null,"PyE 06.01","Plano de jardinería en el que se incluya el cuadro de cálculo indicando las especies utilizadas, la superficie ocupada por las mismas y si son autóctonas o adaptadas o no."]
[]
[null,null,null,"PyE 06.02","Copia de las facturas (pudiendo ocultar el precio) donde se indique la o las especies plantadas y la superficie ocupadas por las mismas o las unidades entregadas"]
[]
[null,null,null,"PyE 06.03","Fotografías de la superficie ajardinada donde se puedan apreciar las especies plantadas y la superficie ocupada por las mismas, serán necesarias fotografías generales y de detalle"]
[]
[null,null,null,"PyE 06.04","Informe de Evaluador en el que se garantice que ninguna especie de las plantadas está recogida en el listado de especies invasoras del Ministerio de Medio Ambiente."]
[]
[null,null,null,"VALORACIÓN DEL CRITERIO",null,{"$f":"IF(OR(H172=\"Sí\",F179=\"\"),0,IF(F179<0.3,0,IF(F179>0.8,F170,F170*((F179-0.3)*100/50))))","v":0}]
[]
[]
[]
[null,null,null,{"$f":"'Matriz VERDE-GBCe'!H11","v":"PyE 07"},{"$f":"VLOOKUP($D197,'Matriz VERDE-GBCe'!$H$5:$K$49,2,FALSE)","v":"Uso de plantas para crear sombras."},{"$f":"VLOOKUP($D197,'Matriz VERDE-GBCe'!$H$5:$K$49,3,FALSE)","v":2.3420308079220367E-2}]
[]
[null,null,null,null,"¿Existen elementos vegetales que sombreen las fachadas este y/u oeste?",null,null,null,null,null,null,"SÍ"]
[]
[null,null,null,null,"Porcentaje de fachada OESTE sombreada",null,null,null,null,null,null,50,{"$f":"IF(OR(H199=\"\",H199=\"no\"),0,IF(H201<0.2,0,IF(H201>0.6,0.7*F197,F197*0.7*((H201-0.2)*100/40))))","v":0}]
[]
[null,null,null,null,"Porcentaje de fachada ESTE sombreada",null,null,null,null,null,null,60,{"$f":"IF(OR(H199=\"\",H199=\"no\"),0,IF(H203<0.2,0,IF(H203>0.6,0.3*F197,F197*0.3*((H203-0.2)*100/40))))","v":0}]
[]
[null,null,null,"NOTAS"]
[]
[null,null,null,"DOCUMENTOS JUSTIFICATIVOS"]
[]
[null,null,null,"PyE 07.01","Plano de planta de la parcela donde se sitúen los árboles con potencial de sombreamiento para las fachadas este y oeste indicando las especies de que se trata."]
[]
[null,null,null,"PyE 07.02","Plano de fachada este y oeste en el que se indique la superficie sombreada por los árboles."]
[]
[null,null,null,"PyE 07.03","Memoria de sombreamiento donde se justifique el cumplimiento de los criterios establecidos.."]
[]
[null,null,null,"PyE 07.04","Copia de las facturas (pudiendo ocultar el precio) donde se indique la o las especies plantadas y la superficie ocupadas por las mismas o las unidades entregadas."]
[]
[null,null,null,"PyE 07.05","Fotografías de la superficie ajardinada donde se puedan apreciar las especies plantadas y la superficie ocupada por las mismas, serán necesarias fotografías generales y de detalle."]
[]
[null,null,null,"VALORACIÓN DEL CRITERIO",null,{"$f":"M203+M201","v":0}]
[]
[]
[]
[null,null,null,{"$f":"'Matriz VERDE-GBCe'!H12","v":"PyE 08"},{"$f":"VLOOKUP($D223,'Matriz VERDE-GBCe'!$H$5:$K$49,2,FALSE)","v":"Efecto isla de calor."},{"$f":"VLOOKUP($D223,'Matriz VERDE-GBCe'!$H$5:$K$49,3,FALSE)","v":1.6504243948443881E-2}]
[]
[null,null,null,"Porcentaje de superficie libre de parcela y cubierta que evita la isla de calor"]
[]
[null,null,null,null,"Superficie libre de parcela",{"$f":"DG!$E41","v":0},null,null,null,null,null,1500]
[]
[null,null,null,null,"Superficie de cubierta",null,null,null,null,null,null,700]
[]
[null,null,null,null,"Superficie con pavimento permeable",null,null,null,null,null,null,500]
[]
[null,null,null,null,"Superficies sombreadas por elementos de acabados de color claro",null,null,null,null,null,null,300]
[]
[null,null,null,null,"Superficies que cumplen el límite de ISR",null,null,null,null,null,null,500]
[]
[null,null,null,null,"¿Se aportan documentos que justifiquen el ISR?",null,null,null,null,null,null,500]
[]
[null,null,null,null,"Porcentaje de superficie libre de parcela más cubierta que evitan la isla de calor",{"$f":"IF(F227+H229=0,0,(H231+H233+H235)/(F227+H229))","v":0},null,null,null,null,null,null,{"$f":"IF(F239=\"\",\"\",IF(F239<0.4,0,IF(F239>0.7,0.7*F223,F223*0.7*((F239-0.4)*100/30))))","v":0}]
[]
[null,null,null,"Porcentaje de superficie de fachadas este, sur y oeste que evita la isla de calor"]
[]
[null,null,null,null,"Superficies de fachada E-S-O",null,null,null,null,null,null,700]
[]
[null,null,null,null,"Superficies de fachada E-S-O de colores claros, sombreadas o cubiertas por vegetación",null,null,null,null,null,null,500]
[]
[null,null,null,null,null,{"$f":"IF(OR(H243=0,H243=\"\"),0,H245/H243)","v":0},null,null,null,null,null,null,{"$f":"IF(F247=\"\",0,IF(F247<0.4,0,IF(F247>0.7,0.3*F223,F223*0.3*((F247-0.4)*100/30))))","v":0}]
[]
[null,null,null,"NOTAS"]
[]
[null,null,null,"DOCUMENTOS JUSTIFICATIVOS"]
[]
[null,null,null,"PyE 08.01","Plano de urbanización indicando el límite de las superficies en parcela y cubierta que estén ajardinadas, sombreadas, con un acabado permeable o con un ISR superior a 70."]
[]
[null,null,null,"PyE 08.02","Memoria del cálculo del porcentaje de la superficie que evita la isla de calor en zona libre de parcela y cubierta."]
[]
[null,null,null,"PyE 08.03","Detalle constructivo de las zonas ajardinadas donde se detalle el espesor de tierra previsto."]
[]
[null,null,null,"PyE 08.04","Detalle constructivo de las zonas con pavimento permeable donde se detalle el espesor y composición de la base del pavimento."]
[]
[null,null,null,"PyE 08.05","Memoria del cálculo del porcentaje de la superficie de fachadas este, sur y oeste que evita la isla de calor."]
[]
[null,null,null,"PyE 08.06","Estudio de soleamiento tanto de la superficie libre de parcela y cubiertas, como de las fachadas este, sur y oeste."]
[]
[null,null,null,"PyE 08.07","Justificación del IRS de los materiales de acabado"]
[]
[null,null,null,"VALORACIÓN DEL CRITERIO",null,{"$f":"IFERROR(IF(OR(H235=\"\",H235=0),M239+$M247,IF(H237=\"no\",0.9*(M239+M247),M239+M247)),0)","v":0}]
[]
[]
[null,null,"<"]
[null,null,null,{"$f":"'Matriz VERDE-GBCe'!H13","v":"PyE 09"},{"$f":"VLOOKUP($D271,'Matriz VERDE-GBCe'!$H$5:$K$49,2,FALSE)","v":"Contaminación lumínica."},{"$f":"VLOOKUP($D271,'Matriz VERDE-GBCe'!$H$5:$K$49,3,FALSE)","v":1.2574662055957243E-2},null,null,null,null,null,null,"E1","≤ 1%",0.01,0.01]
[null,null,null,null,null,null,null,null,null,null,null,null,"E2","≤ 5%",0.02,0.05]
[null,null,null,null,"Zona de protección lumínica de la parcela",null,null,null,null,null,null,"E2","E3","≤ 15%",0.03,0.15]
[null,null,null,null,null,null,null,null,null,null,null,null,"E4","≤ 25%",0.05,0.25]
[null,null,null,null,"FHS límite para el área de protección lumínica",{"$f":"IF(H273=\"\",\"\",VLOOKUP(H273,M271:N274,2,FALSE))","v":""}]
[]
[null,null,null,null,null,null,null,null,null,null,null,3,null,null,null,{"$f":"VLOOKUP(H273,M271:P274,4,FALSE)","v":{"$error":"#N/A"}}]
[null,null,null,null,null,null,null,null,null,null,null,null,null,null,0.05]
[null,null,null,null,"Porcentaje de mejora respecto a la exigencia normativa",{"$f":"IF(OR(H277=\"\",H277>P277),0,1-(H277/P277))","v":{"$error":"#N/A"}}]
[]
[null,null,null,"NOTAS"]
[]
[null,null,null,"DOCUMENTOS JUSTIFICATIVOS"]
[]
[null,null,null,"PyE 09.01","Plano de parcela con localización de la luminarias exteriores e indicación del tipo de luminaria."]
[]
[null,null,null,"PyE 09.02","Curvas fotométricas de las luminarias empleadas o documento técnico donde aparezca el FHS."]
[]
[null,null,null,"PyE 09.03","Identificación y justificación de la zona de protección lumínica."]
[]
[null,null,null,"VALORACIÓN DEL CRITERIO",null,{"$f":"IF(F275=\"\",0,IF(F279<0.2,0,IF(F279>0.6,F271,F271*((F279-0.2)*100/40))))","v":0}]
[]
[]
[]
[]
[null,null,null,null,null,"VALORACIÓN ÁREA"]
[]
[null,null,null,null,null,"SUBTOTAL",null,{"$f":"IFERROR(F27+F49+F98+F122+F166+F193+F219+F267+F291,\"\")","v":0}]
[]
[null,null,null,null,null,"SOBRE",null,{"$f":"VLOOKUP(B$2,'Matriz VERDE-GBCe'!$G$2:$K$49,4,FALSE)","v":0.14272241433511471}]
[]
[]
[]
[]
[]
[null,null,null,null,null,"SÍ",null,"x"]
[null,null,null,null,null,"NO"]

{"sheet":"EyA","index":11,"n_rows":159,"n_cols":22,"rows_kept":159,"cut":false,"hidden":false,"merged":[[139,4,139,5],[141,4,141,5],[95,4,95,5],[99,3,99,4],[87,3,87,4],[87,5,87,6],[89,4,89,5],[91,4,91,5],[93,4,93,5],[97,4,97,5],[75,12,77,12],[77,3,77,4],[79,12,81,12],[85,5,85,6],[44,12,46,12],[53,5,53,6],[55,3,55,4],[55,5,55,6],[57,4,57,5],[50,4,51,4],[59,4,59,5],[61,4,61,5],[63,4,63,5],[67,3,67,4],[65,4,65,5],[10,12,12,12],[14,12,16,12],[40,12,42,12],[42,3,42,4],[1,1,1,2],[1,3,1,4],[1,5,1,6],[22,3,22,4],[22,5,22,6],[12,3,12,4],[20,5,20,6],[24,4,24,5],[26,4,26,5],[32,3,32,4],[147,5,147,8],[28,4,28,5],[30,4,30,5],[143,3,143,4],[115,4,115,5],[117,4,117,5],[137,4,137,5],[119,3,119,4],[135,3,135,4],[135,5,135,6],[105,3,105,4],[113,3,113,4],[113,5,113,6],[133,5,133,6],[134,5,134,6],[111,5,111,6]]}
[]
[null,{"$f":"'Matriz VERDE-GBCe'!G14","v":"EyA"},null,{"$f":"'Matriz VERDE-GBCe'!H14","v":"Energía y Atmósfera."}]
[]
[]
[null,null,null,{"$f":"'Matriz VERDE-GBCe'!H15","v":"EyA 01"},{"$f":"VLOOKUP($D5,'Matriz VERDE-GBCe'!$H$5:$K$49,2,FALSE)","v":"Demanda de calefacción y refrigeración."},{"$f":"VLOOKUP($D5,'Matriz VERDE-GBCe'!$H$5:$K$49,3,FALSE)","v":8.4878968877711389E-2},null,null,null,null,null,null,null,null,null,"Sí",null,null,"SE ADJUNTA",null,"SÍ","NO"]
[null,null,null,null,null,null,null,null,null,null,null,null,null,null,null,"No",null,null,"NO SE ADJUNTA"]
[null,null,null,null,{"$f":"IF(DG!E$27=DG!K$68,\"Ponte en contacto con GBCe para fijar los datos a introducir.\",\"\")","v":""},null,null,null,null,null,null,null,null,null,null,null,null,null,"NO APLICA"]
[]
[null,null,null,null,"¿Se ha utilizado un método simplificado para la calificación energética del edificio?"]
[null,null,null,null,null,null,null,null,null,null,null,null,null,null,null,null,null,null,null,null,"NO"]
[null,null,null,null,"Zona climática de la localidad",{"$f":"DG!$E$16","v":""},null,null,null,null,null,null,"NE",0,0.2,0.32,0.39,0.44600000000000001,0.5]
[]
[null,null,null,{"$f":"DG!E27","v":0},null,null,null,null,null,null,null,null,null,0,0.2,0.4,0.6,0.8,1]
[]
[null,null,null,null,"Demanda del edificio de referencia en kWh/m2",null,null,null,null,null,null,null,"RH y EX",0,0.05,7.1999999999999995E-2,8.5000000000000006E-2,9.2999999999999999E-2,0.1]
[]
[null,null,null,null,"Demanda del proyecto en kWh/m2",null,null,null,null,null,null,null,null,0,0.2,0.4,0.6,0.8,1]
[]
[null,null,null,null,"Porcentaje de reducción de la demanda de calefacción",{"$f":"IF(OR($H15=\"\",$H17=\"\"),0,1-($H17/$H15))","v":0},null,null,null,null,null,{"$f":"IFERROR(IF(F19>N11,IF(F19>O11,IF(F19>P11,IF(F19>Q11,IF(F19>R11,IF(F19>S11,S13,R13+((S13-R13)*(F19-R11)/(S11-R11))),Q13+((R13-Q13)*(F19-Q11)/(R11-Q11))),P13+((Q13-P13)*(F19-P11)/(Q11-P11))),O13+((P13-O13)*(F19-O11)/(P11-O11))),N13+((O13-N13)*(F19-N11)/(O11-N11))),0),\"\")","v":0}]
[]
[null,null,null,"NOTAS",null,null,null,null,null,null,null,null,null,{"$f":"IF(H15=\"\",\"\",IF(D13=\"Nueva Edificación\",L19*F5,L23*F5))","v":""}]
[]
[null,null,null,"DOCUMENTOS JUSTIFICATIVOS",null,null,null,null,null,null,null,{"$f":"IFERROR(IF(F19>N15,IF(F19>O15,IF(F19>P15,IF(F19>Q15,IF(F19>R15,IF(F19>S15,S17,R17+((S17-R17)*(F19-R15)/(S15-R15))),Q17+((R17-Q17)*(F19-Q15)/(R15-Q15))),P17+((Q17-P17)*(F19-P15)/(Q15-P15))),O17+((P17-O17)*(F19-O15)/(P15-O15))),N17+((O17-N17)*(F19-N15)/(O15-N15))),0),\"\")","v":0}]
[]
[null,null,null,"EyA 01.01","Documento justificativo con los parámetros empleados en la simulación energética. "]
[]
[null,null,null,"EyA 01.02","Archivos completos del programa de simulación empleado para realizar la justificación del criterio, incluyendo la simulación del edificio de referencia definido en el apéndice D del CTE DB HE 1\n"]
[]
[null,null,null,"EyA 01.03 ","Informe de verificación de requisitos de CTE-HE1 generado por la herramienta de calificación energética empleada o resultado de una simulación horaria realizada con un programa alternativo junto con el justificante de registro en la comunidad autónoma en que se encuentra el edificio."]
[]
[null,null,null,"EyA 01.04","Ensayo Blower-door test conforme a la norma UNE-EN 13829 de 2002 del edificio en fase de uso que justifique que la estanqueidad al aire presenta una desviación inferior al  5% respecto a la indicada en la calificación energética.\n"]
[]
[null,null,null,"VALORACIÓN DEL CRITERIO",null,{"$f":"IF(H15=\"\",0,IF(OR(H31=\"\",H31=\"No se entrega\"),0.9*(IF(H9=\"Sí\",N21*0.8,N21)),IF(H9=\"Sí\",N21*0.8,N21)))","v":0}]
[]
[null,"33:6633:7133:7333:7433:7333:72E6433:6333:7133:7033:6933:6833:6733:6633:6533:6633:67"]
[]
[null,null,null,{"$f":"'Matriz VERDE-GBCe'!H16","v":"EyA 02"},{"$f":"VLOOKUP($D37,'Matriz VERDE-GBCe'!$H$5:$K$49,2,FALSE)","v":"Consumo de energía primaria no renovable."},{"$f":"VLOOKUP($D37,'Matriz VERDE-GBCe'!$H$5:$K$49,3,FALSE)","v":5.0298648223828971E-2},null,null,null,null,null,null,null,null,null,null,null,null,null,null,null,"NO"]
[]
[null,null,null,null,{"$f":"IF(DG!E$27=DG!K$68,\"Introduce los datos de la simulación de la ampliación en OBRA NUEVA y del edificio existente o rehabilitado en REHABILITACIÓN.\",\"\")","v":""}]
[null,null,null,null,null,null,null,null,null,null,null,null,null,null,null,null,null,null,null,null,"NO"]
[null,null,null,null,"Zona climática de la localidad",{"$f":"DG!$E$16","v":""},null,null,null,null,null,null,"TODOS",0,0.2,0.32,0.39,0.44600000000000001,0.5]
[]
[null,null,null,{"$f":"DG!E27","v":0},null,null,null,null,null,null,null,null,null,0,0.2,0.4,0.6,0.8,1]
[]
[null,null,null,null,{"$f":"IF(D43=\"Nueva edificación\", \"Nivel inferior de la calificación B de consumo de energía primaria no renovable en kWh/m2\", \"Consumo de energía primaria no renovable del edificio de referencia en kWh/m2.\")","v":"Consumo de energía primaria no renovable del edificio de referencia en kWh/m2."}]
[]
[null,null,null,null,"Consumo de energía primaria no renovable del proyecto en kWh/m2"]
[]
[null,null,null,null,"Porcentaje de reducción del consumo de energía primaria no renovable.",{"$f":"IF(OR($H45=\"\",$H47=\"\"),0,1-($H47/$H45))","v":0},null,null,null,null,null,{"$f":"IFERROR(IF(F49>N41,IF(F49>O41,IF(F49>P41,IF(F49>Q41,IF(F49>R41,IF(F49>S41,S43,R43+((S43-R43)*(F49-R41)/(S41-R41))),Q43+((R43-Q43)*(F49-Q41)/(R41-Q41))),P43+((Q43-P43)*(F49-P41)/(Q41-P41))),O43+((P43-O43)*(F49-O41)/(P41-O41))),N43+((O43-N43)*(F49-N41)/(O41-N41))),0),\"\")","v":0},null,{"$f":"IF(H45=\"\",\"\",IF(H9=\"Sí\",0.8*L49*F37,L49*F37))","v":""}]
[]
[null,null,null,null,"¿Se ha realizado la puesta en marcha de las instalaciones según RITE  y los resultados de consumo difieren en menos de un 10% los de la calificación energética?"]
[]
[]
[null,null,null,"NOTAS"]
[]
[null,null,null,"DOCUMENTOS JUSTIFICATIVOS"]
[]
[null,null,null,"EyA 01.01","Archivos completos del programa de simulación empleado para realizar la justificación del criterio."]
[]
[null,null,null,"EyA 01.02","Informe de verificación de requisitos de CTE DB HE0 generado por la herramienta de calificación energética empleada o resultado de una simulación horaria realizada con un programa alternativo junto con el justificante de registro en la comunidad autónoma en la que se encuentra el edificio.\n"]
[]
[null,null,null,"EyA 01.03 SOLO NE","Archivos completos del programa de simulación empleado para el edificio de referencia según el anexo D del CTE DB HE1."]
[]
[null,null,null,"EyA 01.04","Esquemas de principio de las instalaciones del edificio con mención expresa de todos y cada uno de los equipos, anexando las correspondientes fichas técnicas de los fabricantes.\n"]
[]
[null,null,null,"EyA 01.05","Protocolo de puesta en marcha de las instalaciones, incluidas las de producción de energía, debidamente cumplimentado según artículo 22 del RITE 2007 tal y cómo se indica en la guía.\n"]
[]
[null,null,null,"VALORACIÓN DEL CRITERIO",null,{"$f":"IF(H45=\"\",0,IF(DG!E27=DG!K37,N49,IF(OR(H51=\"No\",H51=\"\"),0,IF(H9=\"Sí\",N49*0.8,N49))))","v":0}]
[]
[null,"33:6633:7133:7333:7433:7333:72E6433:6333:7133:7033:6933:6833:6733:6633:6533:6633:67"]
[]
[null,null,null,{"$f":"'Matriz VERDE-GBCe'!H17","v":"EyA 03"},{"$f":"VLOOKUP($D72,'Matriz VERDE-GBCe'!$H$5:$K$49,2,FALSE)","v":"Emisiones de CO2"},{"$f":"VLOOKUP($D72,'Matriz VERDE-GBCe'!$H$5:$K$49,3,FALSE)","v":3.1436655139893105E-2},null,null,null,null,null,null,null,null,null,null,null,null,null,null,"SÍ","NO"]
[]
[null,null,null,null,{"$f":"IF(DG!E$27=DG!K$68,\"Introduce los datos de la simulación de la ampliación en OBRA NUEVA y del edificio existente o rehabilitado en REHABILITACIÓN.\",\"\")","v":""}]
[null,null,null,null,null,null,null,null,null,null,null,null,null,null,null,null,null,null,null,null,"NO"]
[null,null,null,null,"Zona climática de la localidad",{"$f":"DG!$E$16","v":""},null,null,null,null,null,null,"TODOS",0,0.2,0.32,0.39,0.44600000000000001,0.5]
[]
[null,null,null,{"$f":"DG!E27","v":0},null,null,null,null,null,null,null,null,null,0,0.2,0.4,0.6,0.8,1]
[]
[null,null,null,null,{"$f":"IF(D78=\"Nueva edificación\", \"Nivel inferior de la calificación B de emisiones de CO2 en kgCO2 eq./m2\", \"Emisiones de CO2 en kgCO2 eq./m2.\")","v":"Emisiones de CO2 en kgCO2 eq./m2."}]
[]
[null,null,null,null,"Emisiones de CO2 del proyecto en kgCO2 eq./m2."]
[]
[null,null,null,null,"Porcentaje de reducción de las emisiones de CO2.",{"$f":"IF(OR($H80=\"\",$H82=\"\"),0,1-($H82/$H80))","v":0},null,null,null,null,null,{"$f":"IF(F84>N76,IF(F84>O76,IF(F84>P76,IF(F84>Q76,IF(F84>R76,IF(F84>S76,S78,R78+((S78-R78)*(F84-R76)/(S76-R76))),Q78+((R78-Q78)*(F84-Q76)/(R76-Q76))),P78+((Q78-P78)*(F84-P76)/(Q76-P76))),O78+((P78-O78)*(F84-O76)/(P76-O76))),N78+((O78-N78)*(F84-N76)/(O76-N76))),0)","v":0},null,{"$f":"IF(H80=\"\",\"\",L84*F72)","v":""}]
[]
[null,null,null,"NOTAS"]
[]
[null,null,null,"DOCUMENTOS JUSTIFICATIVOS"]
[]
[null,null,null,"EyA 01.01","Archivos completos del programa de simulación empleado para realizar la justificación del criterio."]
[]
[null,null,null,"EyA 01.02","Informe de verificación de requisitos de CTE DB HE0 generado por la herramienta de calificación energética empleada o resultado de una simulación horaria realizada con un programa alternativo junto con el justificante de registro en la comunidad autónoma en la que se encuentra el edificio.\n"]
[]
[null,null,null,"EyA 01.03 SOLO NE","Archivos completos del programa de simulación empleado para el edificio de referencia según el anexo D del CTE DB HE1."]
[]
[null,null,null,"EyA 01.04","Esquemas de principio de las instalaciones del edificio con mención expresa de todos y cada uno de los equipos, anexando las correspondientes fichas técnicas de los fabricantes.\n"]
[]
[null,null,null,"EyA 01.05","Protocolo de puesta en marcha de las instalaciones, incluidas las de producción de energía, debidamente cumplimentado según artículo 22 del RITE 2007 tal y cómo se indica en la guía.\n"]
[]
[null,null,null,"VALORACIÓN DEL CRITERIO",null,{"$f":"IF(H80=\"\",0,IF(H9=\"Sí\",N84*0.8,N84))","v":0}]
[]
[]
[]
[null,null,null,{"$f":"'Matriz VERDE-GBCe'!H18","v":"EyA 04"},{"$f":"VLOOKUP($D104,'Matriz VERDE-GBCe'!$H$5:$K$49,2,FALSE)","v":"Consumo en sistemas de comunicación mecánicos."},{"$f":"VLOOKUP($D104,'Matriz VERDE-GBCe'!$H$5:$K$49,3,FALSE)","v":1.4146494812951898E-2}]
[]
[null,null,null,"Ascensores y montacargas:"]
[]
[null,null,null,null,"El ascensor cuenta con una clasificación, al menos B, según la norma UNE 25745-2"]
[]
[null,null,null,null,"Se cuenta con un paquete de eficiencia energética para los sistemas de comunicación mecánicos."]
[]
[null,null,null,"NOTAS"]
[]
[null,null,null,"DOCUMENTOS JUSTIFICATIVOS"]
[]
[null,null,null,"EyA 04.01","Clasificación del ascensor según la norma UNE 25745-2"]
[]
[null,null,null,"EyA 04.02","Justificación de la existencia de un paquete ahorro conforme el método de cálculo "]
[]
[null,null,null,"VALORACIÓN DEL CRITERIO",null,{"$f":"IF($H108=\"sí\",$F104,IF(H110=\"Sí\",F104*0.5,0))","v":0}]
[]
[]
[]
[null,null,null,{"$f":"'Matriz VERDE-GBCe'!H19","v":"EyA 05"},{"$f":"VLOOKUP($D124,'Matriz VERDE-GBCe'!$H$5:$K$49,2,FALSE)","v":"Elección responsable de refrigerantes."},{"$f":"VLOOKUP($D124,'Matriz VERDE-GBCe'!$H$5:$K$49,3,FALSE)","v":2.5149324111914485E-2}]
[]
[null,null,null,null,"Valor TEWI de la instalación de referencia."]
[]
[null,null,null,null,"Valor TEWI de la instalación proyectada."]
[]
[null,null,null,null,"Porcentaje en que el TEWI proyectado supera al de referencia",{"$f":"IF(OR($H126=\"\",$H128=\"\"),0,(($H128/$H126)-1))","v":0},null,null,null,null,null,{"$f":"IF(OR(H126=\"\",H128=\"\"),\"\",IF(F130>=0.4,0,IF(F130<=0,1,((F130/0.4)))))","v":""}]
[]
[null,null,null,null,"Existe un protocolo de actuación en caso de fugas."]
[]
[null,null,null,"NOTAS"]
[]
[null,null,null,"DOCUMENTOS JUSTIFICATIVOS"]
[]
[null,null,null,"PyE 05.01","Documentación técnica del refrigerante empleado que justifique su potencial de calentamiento global (GWP)"]
[]
[null,null,null,"PyE 05.02","Cálculo del TEWI (Total Equivalent Warming Impact)"]
[]
[null,null,null,"PyE 05.03","Protocolo de actuación en caso de fugas"]
[]
[null,null,null,"VALORACIÓN DEL CRITERIO",null,{"$f":"IF(AND(H126=\"\",H132=\"\"),0,(L130*F124*0.6)+IF(H132=\"sí\",F124*0.4,0))","v":0}]
[]
[]
[]
[null,null,null,null,null,"VALORACIÓN ÁREA"]
[]
[null,null,null,null,null,"SUBTOTAL",null,{"$f":"F33+F68+F100+F120+F144","v":0}]
[]
[null,null,null,null,null,"SOBRE",null,{"$f":"VLOOKUP(B$2,'Matriz VERDE-GBCe'!$G$5:$K$49,4,FALSE)","v":0.23105941527821433}]
[]
[]
[]
[]
[]
[null,null,null,null,null,"SÍ",null,"x"]
[null,null,null,null,null,"NO"]

{"sheet":"RN","index":12,"n_rows":327,"n_cols":22,"rows_kept":327,"cut":false,"hidden":false,"merged":[[265,3,265,4],[271,3,271,4],[273,3,273,4],[233,4,234,4],[255,3,255,4],[257,3,257,4],[263,3,263,4],[241,3,241,4],[243,3,243,4],[249,3,249,4],[279,5,279,6],[303,5,303,6],[124,5,124,6],[150,5,150,6],[174,5,174,6],[192,5,192,6],[212,5,212,6],[132,4,132,5],[160,4,160,5],[162,4,162,5],[134,3,134,4],[154,4,154,5],[158,4,158,5],[140,4,141,4],[238,4,239,4],[176,3,176,4],[214,5,214,6],[198,3,198,4],[222,3,222,4],[216,4,216,5],[218,4,218,5],[196,4,196,5],[220,4,220,5],[214,3,214,4],[93,4,93,5],[164,3,164,4],[194,5,194,6],[182,4,182,5],[184,3,184,4],[152,3,152,4],[152,5,152,6],[95,3,95,4],[156,4,156,5],[126,3,126,4],[126,5,126,6],[128,4,128,5],[130,4,130,5],[108,4,109,5],[103,4,104,5],[111,4,112,5],[176,5,176,6],[178,4,178,5],[180,4,180,5],[194,3,194,4],[315,5,315,8],[281,3,281,4],[281,5,281,6],[283,4,283,5],[285,4,285,5],[287,4,287,5],[291,3,291,4],[305,3,305,4],[305,5,305,6],[307,4,307,5],[289,4,289,5],[311,3,311,4],[299,4,299,5],[309,4,309,5],[18,5,18,6],[44,4,44,5],[48,3,48,4],[46,4,46,5],[20,4,20,5],[22,4,22,5],[24,3,24,4],[42,3,42,4],[42,5,42,6],[40,5,40,6],[204,4,205,4],[207,4,208,4],[54,4,55,4],[59,3,59,4],[59,5,59,6],[230,4,231,4],[1,1,1,2],[1,3,1,4],[1,5,1,6],[6,3,6,4],[16,5,16,6],[143,4,144,4],[101,4,102,5],[57,5,57,6],[83,5,83,6],[105,4,106,5],[91,4,91,5],[89,4,89,5],[61,4,61,5],[63,3,63,4],[85,3,85,4],[85,5,85,6],[87,4,87,5],[18,3,18,4]]}
[]
[null,{"$f":"'Matriz VERDE-GBCe'!G21","v":"RN"},null,{"$f":"'Matriz VERDE-GBCe'!H21","v":"Recursos Naturales."}]
[null,null,null,null,null,null,null,null,null,null,null,null,"Coste"]
[]
[null,null,null,{"$f":"'Matriz VERDE-GBCe'!H22","v":"RN 01"},{"$f":"VLOOKUP($D5,'Matriz VERDE-GBCe'!$H$5:$K$49,2,FALSE)","v":"Consumo de agua en aparatos sanitarios."},{"$f":"VLOOKUP($D5,'Matriz VERDE-GBCe'!$H$5:$K$49,3,FALSE)","v":3.1436655139893105E-2},null,null,null,null,null,null,null,null,null,null,null,null,"SE ADJUNTA",null,"SÍ","NO"]
[null,null,null,null,null,null,null,null,null,null,null,null,null,null,null,null,null,null,"NO SE ADJUNTA",null,"NO"]
[null,null,null,null,null,null,null,null,null,null,null,null,null,null,null,null,null,null,"NO APLICA"]
[null,null,null,null,null,null,null,null,null,null,null,null,null,null,null,null,null,null,null,null,"NO"]
[null,null,null,null,"Ir a la hoja de cálculo del criterio"]
[null,null,null,null,null,null,null,null,null,null,null,null,null,null,null,null,null,null,null,null,"NO"]
[null,null,null,null,"Consumo de agua en sanitarios de referencia",null,null,{"$f":"'RN 01'!S42","v":0}]
[null,null,null,null,null,null,null,null,null,null,null,null,null,null,null,null,null,null,null,null,"NO"]
[null,null,null,null,"Consumo de agua en sanitarios del proyecto",null,null,{"$f":"'RN 01'!S26","v":0}]
[null,null,null,null,null,null,null,null,null,null,null,null,null,null,null,null,null,null,null,null,"NO"]
[null,null,null,null,"Porentaje de reducción del consumo de agua en aparatos sanitarios",null,null,{"$f":"'RN 01'!I45","v":0}]
[]
[null,null,null,"NOTAS"]
[]
[null,null,null,"DOCUMENTOS JUSTIFICATIVOS"]
[]
[null,null,null,"RN 01.01","Fichas técnicas con los caudales de los aparatos sanitarios aportados por el fabricante."]
[]
[null,null,null,"RN 01.02","Pestaña de ayuda RN 01"]
[]
[null,null,null,"VALORACIÓN DEL CRITERIO",null,{"$f":"IF($H15=\"\",0,IF($H15<0.1,0,IF($H15>0.3,$F5,(((($H15*100)-10)/20)*$F5))))","v":0}]
[]
[]
[]
[null,null,null,{"$f":"'Matriz VERDE-GBCe'!H23","v":"RN 02"},{"$f":"VLOOKUP($D29,'Matriz VERDE-GBCe'!$H$5:$K$49,2,FALSE)","v":"Necesidades de riego en jardines."},{"$f":"VLOOKUP($D29,'Matriz VERDE-GBCe'!$H$5:$K$49,3,FALSE)","v":0}]
[]
[null,null,null,null,"Ir a la hoja de cálculo del criterio"]
[]
[null,null,null,null,"¿Existen zonas ajardinadas con una superficie mayor a 20 m2?",null,null,null,null,null,null,"SI"]
[]
[null,null,null,null,"Necesidades de agua para riego de referencia (l/m2 año)",null,null,{"$f":"'RN 02'!R29","v":{"$error":"#VALUE!"}}]
[]
[null,null,null,null,"Necesidades de agua para riego del proyecto (l/m2 año)",null,null,{"$f":"'RN 02'!F29","v":{"$error":"#DIV/0!"}}]
[]
[null,null,null,null,"Porcentaje de reducción de las necesidades de riego",null,null,{"$f":"'RN 02'!Z29","v":{"$error":"#VALUE!"}}]
[]
[null,null,null,"NOTAS"]
[]
[null,null,null,"DOCUMENTOS JUSTIFICATIVOS"]
[null,null,null,null,null,null,null,null,null,null,null,0.4]
[null,null,null,"RN 02.01","Plano de jardinería con indicación clara de las especies vegetales a plantar y su superficie de ocupación y sistema de riego empleado en cada zona"]
[null,null,null,null,null,null,null,null,null,null,null,0.4]
[null,null,null,"RN 02.02","Pestaña de ayuda RN 02"]
[]
[null,null,null,"VALORACIÓN DEL CRITERIO",null,{"$f":"IF(OR($H39=\"\",H33=\"No\",H33=\"\"),0,IF($H39<0.2,0,IF($H39>0.8,$F29,(((($H39*100)-20)/60)*$F29))))","v":{"$error":"#VALUE!"}}]
[]
[]
[]
[null,null,null,{"$f":"'Matriz VERDE-GBCe'!H24","v":"RN 03"},{"$f":"VLOOKUP($D53,'Matriz VERDE-GBCe'!$H$5:$K$49,2,FALSE)","v":"Consumo de agua en elementos singulares"},{"$f":"VLOOKUP($D53,'Matriz VERDE-GBCe'!$H$5:$K$49,3,FALSE)","v":1.8861993083935862E-2}]
[]
[null,null,null,null,"¿Existe un sistema de recogida y reutilización de aguas grises que cubra el 80% de las aguas grises producidas?",null,null,null,null,null,null,"SI"]
[]
[]
[null,null,null,"NOTAS"]
[]
[null,null,null,"DOCUMENTOS JUSTIFICATIVOS"]
[]
[null,null,null,"RN 03.01","Memoria de proyecto del sistema de recogida de aguas grises y pluviales donde se justifique que los sistemas de piscinas, jacuzzis y otros elementos consumidores de agua, están conectados y abastecen al sistema que debe cubrir al menos, el 80% de las necesidades de agua susceptibles de ser cubiertas con aguas no potables.\n"]
[]
[null,null,null,"VALORACIÓN DEL CRITERIO",null,{"$f":"IF($H55=\"sí\",$F53,0)","v":0}]
[]
[]
[]
[null,null,null,{"$f":"'Matriz VERDE-GBCe'!H25","v":"RN 04"},{"$f":"VLOOKUP($D68,'Matriz VERDE-GBCe'!$H$5:$K$49,2,FALSE)","v":"Uso de agua no potable."},{"$f":"VLOOKUP($D68,'Matriz VERDE-GBCe'!$H$5:$K$49,3,FALSE)","v":1.8861993083935862E-2}]
[]
[null,null,null,null,"Recuperación mensual de aguas grises del sistema (m3)"]
[]
[null,null,null,null,"Volumen de acumulación de aguas grises (m3)"]
[]
[null,null,null,null,"Superficie de captación de aguas pluviales en m2"]
[]
[null,null,null,null,"Coeficiente de rendimiento de la superficie de captación (e)"]
[]
[null,null,null,null,"Rendimiento hidráulico del filtro (h)"]
[]
[null,null,null,null,"Volumen del aljibe de aguas pluviales (m3)"]
[]
[null,null,null,null,"Porcentaje de necesidades de agua cubiertas con agua no potable",null,null,{"$f":"'RN 04'!R31","v":0}]
[]
[null,null,null,"NOTAS"]
[]
[null,null,null,"DOCUMENTOS JUSTIFICATIVOS"]
[]
[null,null,null,"RN 04.01","Proyecto del sistema de recogida, almacenamiento y distribución del aguas pluviales."]
[]
[null,null,null,"RN 04.02","Proyecto del sistema de recogida, almacenamiento y distribución de aguas grises"]
[]
[null,null,null,"RN 04.03","Memoria del cálculo realizado para obtención de los datos necesarios para evaluar el criterio siguiendo el método de evaluación descrito en la guía."]
[]
[null,null,null,"RN 04.04","Informe de puesta en marcha de las instalaciones de recogida, almacenamiento y distribución de aguas grises y/o pluviales."]
[]
[null,null,null,"VALORACIÓN DEL CRITERIO",null,{"$f":"IF($H82=0,0,IF(H82<0.2,0,IF(H82>0.9,$F68,((((H82*100)-20)/70)*$F68))))","v":0}]
[]
[]
[]
[null,null,null,null,"Materiales"]
[]
[null,null,null,null,"Vida útil de referencia en años",null,null,null,null,null,null,null,{"$f":"IF(OR(H102=\"\",H102<50,H102>75),50,H102)","v":50}]
[]
[null,null,null,null,"Unidad Funcional Equivalente (UFE)",null,null,null,null,null,null,null,"masa"]
[null,null,null,null,null,null,null,null,null,null,null,null,"coste"]
[null,null,null,null,{"$f":"IF(H104=\"coste\", \"Coste en € total de los materiales de la obra, sin incluir componentes mecánicos, eléctricos o de fontanería, etc. y elementos especiales como ascensores u otro equipamiento.\",\"Kilogramos totales de los materiales de la obra, sin incluir componentes mecánicos, eléctricos o de fontanería, etc. y elementos especiales como ascensores u otro equipamiento.\")","v":"Kilogramos totales de los materiales de la obra, sin incluir componentes mecánicos, eléctricos o de fontanería, etc. y elementos especiales como ascensores u otro equipamiento."}]
[]
[]
[null,null,null,null,{"$f":"IF(H104=\"coste\", \"Coste en € total de los materiales de la obra incluyendo componentes mecánicos, eléctricos o de fontanería, etc. y elementos especiales como ascensores u otro equipamiento.\",\"Kilogramos totales de los materiales de la obra incluyendo componentes mecánicos, eléctricos o de fontanería, etc. y elementos especiales como ascensores u otro equipamiento.\")","v":"Kilogramos totales de los materiales de la obra incluyendo componentes mecánicos, eléctricos o de fontanería, etc. y elementos especiales como ascensores u otro equipamiento."}]
[]
[]
[null,null,null,null,{"$f":"IF(H104=\"coste\", \"Coste en €  total de madera o derivados de madera materiales empleados en la obra como encofrados de hormigón o palets.\",\"Kilogramos totales de madera o derivados de madera materiales empleados en la obra como encofrados de hormigón o palets.\")","v":"Kilogramos totales de madera o derivados de madera materiales empleados en la obra como encofrados de hormigón o palets."}]
[]
[null,null,null,null,null,null,null,null,null,null,null,null,"coste"]
[]
[]
[null,null,null,{"$f":"'Matriz VERDE-GBCe'!H26","v":"RN 05"},{"$f":"VLOOKUP($D117,'Matriz VERDE-GBCe'!$H$5:$K$49,2,FALSE)","v":"Uso de materiales reciclados."},{"$f":"VLOOKUP($D117,'Matriz VERDE-GBCe'!$H$5:$K$49,3,FALSE)","v":1.5718327569946552E-2}]
[]
[null,null,null,null,{"$f":"CONCATENATE(\"Contenido en \",H104,\" de materiales reciclados pre-consumo.\")","v":"Contenido en  de materiales reciclados pre-consumo."},null,null,null,null,null,null,0.12,"de materiales reciclados pre-consumo."]
[]
[null,null,null,null,{"$f":"CONCATENATE(\"Contenido en \",H106,\" de materiales reciclados post-consumo.\")","v":"Contenido en  de materiales reciclados post-consumo."},null,null,null,null,null,null,0.12,"de materiales reciclados post-consumo."]
[]
[null,null,null,null,{"$f":"CONCATENATE(\"Porcentaje en \",H104,\" de materiales reciclados\")","v":"Porcentaje en  de materiales reciclados"},null,null,{"$f":"IF(OR(H106=0,H106=\"\"),\"\",((0.5*H119+H121)/H106))","v":""}]
[]
[null,null,null,"NOTAS"]
[]
[null,null,null,"DOCUMENTOS JUSTIFICATIVOS"]
[null,null,null,null,null,null,null,null,null,null,null,0.4]
[null,null,null,"RN 05.01","Documentos de presupuesto de contrata desglosado en materiales (descontando la mano de obra) donde se detallen los materiales reciclados."]
[null,null,null,null,null,null,null,null,null,null,null,0.4]
[null,null,null,"RN 05.02",{"$f":"CONCATENATE(M131,N131,O131)","v":"Memoria justificativa de la evaluación del criterio en la que se detallen los materiales reciclados, justificación del porcentaje de reciclado incorporado y su 0 sobre el total."},null,null,null,null,null,null,null,"Memoria justificativa de la evaluación del criterio en la que se detallen los materiales reciclados, justificación del porcentaje de reciclado incorporado y su ",{"$f":"H104","v":0}," sobre el total."]
[null,null,null,null,null,null,null,null,null,null,null,0.4]
[null,null,null,"RN 05.03","Certificado del fabricante de material indicando cuál es el contenido de material reciclado en el pre-consumo y post-consumo."]
[]
[null,null,null,"VALORACIÓN DEL CRITERIO",null,{"$f":"IF($H123=\"\",0,IF($H123<0.1,0,IF($H123>0.3,$F117,(((($H123*100)-10)/20))*$F117)))","v":0}]
[]
[]
[]
[null,null,null,{"$f":"'Matriz VERDE-GBCe'!H27","v":"RN 06"},{"$f":"VLOOKUP($D139,'Matriz VERDE-GBCe'!$H$5:$K$49,2,FALSE)","v":"Uso de materiales obtenidos de recursos sostenibles."},{"$f":"VLOOKUP($D139,'Matriz VERDE-GBCe'!$H$5:$K$49,3,FALSE)","v":1.2574662055957243E-2}]
[]
[null,null,null,null,{"$f":"CONCATENATE(\"Cantidad en \",H104,\" de maderas o productos derivados de la madera con certificado de origen en cadena de custodia.\")","v":"Cantidad en  de maderas o productos derivados de la madera con certificado de origen en cadena de custodia."},null,null,null,null,null,null,{"$f":"IF(H144=\"\",0,IF(H144<0.2,0,IF(H144>0.5,F139*0.7,((((H144*100)-20)/30))*F139*0.7)))","v":0},72]
[]
[]
[null,null,null,null,{"$f":"CONCATENATE(\"Porcentaje en \",H$104,\" de maderas o productos derivados de la madera con certificado de origen en cadena de custodia.\")","v":"Porcentaje en  de maderas o productos derivados de la madera con certificado de origen en cadena de custodia."},null,null,{"$f":"IF(OR(H112=0,H112=\"\"),\"\",(H141/H112))","v":""}]
[]
[]
[null,null,null,null,{"$f":"CONCATENATE(\"Contenido en \",H104,\" de materiales con documento reconocido de procedencia de materias primas.\")","v":"Contenido en  de materiales con documento reconocido de procedencia de materias primas."},null,null,null,null,null,null,{"$f":"IF(H147=\"\",0,IF(H147<0.05,0,IF(H147>0.15,F139*0.3,((((H147*100)-5)/15))*F139*0.3)))","v":0},40]
[]
[null,null,null,null,{"$f":"CONCATENATE(\"Porcentaje en \",H$104,\" de materiales con documento reconocido de procedencia de materias primas.\")","v":"Porcentaje en  de materiales con documento reconocido de procedencia de materias primas."},null,null,{"$f":"IF(OR(H$106=0,H$106=\"\"),\"\",(H$147/H$106))","v":""}]
[]
[null,null,null,"NOTAS"]
[]
[null,null,null,"DOCUMENTOS JUSTIFICATIVOS"]
[null,null,null,null,null,null,null,null,null,null,null,0.4]
[null,null,null,"RN 06.01","Pliego de condiciones dónde se especifique la necesidad de comprar maderas o productos derivados de la madera con CoC."]
[null,null,null,null,null,null,null,null,null,null,null,0.4]
[null,null,null,"RN 06.02","CoC de las maderas y productos derivados de la madera."]
[null,null,null,null,null,null,null,null,null,null,null,0.4]
[null,null,null,"RN 06.03","Pliego de condiciones donde se especifique la necesidad de comprar productos con documentación que avale la procedencia de las materias primas tal y cómo se especifica en el criterio."]
[null,null,null,null,null,null,null,null,null,null,null,0.4]
[null,null,null,"RN 06.04","Documento acreditativo de la procedencia de las materias primas empleadas según las indicaciones del criterio."]
[null,null,null,null,null,null,null,null,null,null,null,0.4]
[null,null,null,"RN 06.05",{"$f":"CONCATENATE(M163,N163,O163)","v":"Memoria justificativa de la evaluación del criterio en la que se detallen los materiales procedentes de recursos sostenibles, justificación de su procedencia y su 0 sobre el total."},null,null,null,null,null,null,null,"Memoria justificativa de la evaluación del criterio en la que se detallen los materiales procedentes de recursos sostenibles, justificación de su procedencia y su ",{"$f":"H104","v":0}," sobre el total."]
[]
[null,null,null,"VALORACIÓN DEL CRITERIO",null,{"$f":"$L141+$L147","v":0}]
[]
[]
[]
[null,null,null,{"$f":"'Matriz VERDE-GBCe'!H28","v":"RN 07"},{"$f":"VLOOKUP($D169,'Matriz VERDE-GBCe'!$H$5:$K$49,2,FALSE)","v":"Uso de materiales locales."},{"$f":"VLOOKUP($D169,'Matriz VERDE-GBCe'!$H$5:$K$49,3,FALSE)","v":2.5149324111914485E-2}]
[]
[null,null,null,null,"Ir a la hoja de cálculo del criterio"]
[]
[null,null,null,null,"Porcentaje de materiales locales",null,null,{"$f":"'RN 07'!G10","v":""},null,null,null,1]
[]
[null,null,null,"NOTAS"]
[]
[null,null,null,"DOCUMENTOS JUSTIFICATIVOS"]
[null,null,null,null,null,null,null,null,null,null,null,0.4]
[null,null,null,"RN 07.01","Pliego de condiciones donde se detallen las condiciones de aceptación y procedencia de los materiales de obra."]
[null,null,null,null,null,null,null,null,null,null,null,0.4]
[null,null,null,"RN 07.02","Extracto del presupuesto de contrata material desglosado en materiales (descontando la mano de obra) donde se detalle la procedencia de los materiales a emplear."]
[null,null,null,null,null,null,null,null,null,null,null,0.4]
[null,null,null,"RN 07.03","Certificado de la procedencia de los materiales con la dirección de la planta de producción."]
[]
[null,null,null,"VALORACIÓN DEL CRITERIO",null,{"$f":"IF($H173=\"\",0,IF($H173<0.4,0,IF($H173>0.8,$F169,(((($H173*100)-40)/40))*$F169)))","v":0}]
[]
[]
[]
[null,null,null,{"$f":"'Matriz VERDE-GBCe'!H29","v":"RN 08"},{"$f":"VLOOKUP($D189,'Matriz VERDE-GBCe'!$H$5:$K$49,2,FALSE)","v":"Planificación de una estrategia de demolición selectiva."},{"$f":"VLOOKUP($D189,'Matriz VERDE-GBCe'!$H$5:$K$49,3,FALSE)","v":1.5718327569946552E-2}]
[]
[null,null,null,null,"Existe un plan de Demolición Selectiva que cumple con los requisitos del criterio",null,null,null,null,null,null,"NO"]
[]
[null,null,null,"NOTAS"]
[]
[null,null,null,"DOCUMENTOS JUSTIFICATIVOS"]
[null,null,null,null,null,null,null,null,null,null,null,0.4]
[null,null,null,"RN 08.01","Plan de demolición selectiva que justifique el cumplimiento de las exigencias del criterio."]
[]
[null,null,null,"VALORACIÓN DEL CRITERIO",null,{"$f":"IF($H191=\"\",0,IF($H191=\"no\",0,$F189))","v":0}]
[]
[]
[]
[null,null,null,{"$f":"'Matriz VERDE-GBCe'!H30","v":"RN 09"},{"$f":"VLOOKUP($D203,'Matriz VERDE-GBCe'!$H$5:$K$49,2,FALSE)","v":"Gestión de los residuos de la construcción."},{"$f":"VLOOKUP($D203,'Matriz VERDE-GBCe'!$H$5:$K$49,3,FALSE)","v":1.2574662055957243E-2}]
[]
[null,null,null,null,"Existe un Estudio de los Residuos de Construcción o Demolición que cumple con los requisitos del criterio",null,null,null,null,null,null,"SI","SÍ"]
[]
[null,null,null,null,null,null,null,null,null,null,null,null,"NO"]
[null,null,null,null,"Existe un Plan de Gestión de los Residuos de Construcción o Demolición que cumple con los requisitos del criterio",null,null,null,null,null,null,"SI"]
[]
[]
[null,null,null,null,"Porcentaje de residuos de la construcción a los que se garantiza su revalorización.",null,null,null,null,null,null,100]
[]
[null,null,null,"NOTAS"]
[null,null,null,null,null,null,null,null,null,null,null,0.4]
[null,null,null,"DOCUMENTOS JUSTIFICATIVOS"]
[null,null,null,null,null,null,null,null,null,null,null,0.4]
[null,null,null,"RN 09.01","Estudio y plan de Gestión de Residuos de la Construcción."]
[null,null,null,null,null,null,null,null,null,null,null,0.4]
[null,null,null,"RN 09.02","Resumen del estudio y plan que demuestre el cumplimiento de las condiciones exigidas por el criterio."]
[]
[null,null,null,"RN 09.03","Certificado otorgado por el gestor autorizado de residuos que demuestre que se han revalorizado los materiales en las cantidades indicadas en el Plan de Gestión de Residuos."]
[]
[null,null,null,"VALORACIÓN DEL CRITERIO",null,{"$f":"IF($H211=\"\",0,IF(OR(H205=\"NO\",H208=\"NO\"),0,IF($H211<0.5,0,IF($H211>0.75,$F203,(((($H211*100)-50)/25))*$F203))))","v":0}]
[]
[]
[]
[null,null,null,{"$f":"'Matriz VERDE-GBCe'!H31","v":"RN 10"},{"$f":"VLOOKUP($D227,'Matriz VERDE-GBCe'!$H$5:$K$49,2,FALSE)","v":"Impacto de los materiales de la construcción."},{"$f":"VLOOKUP($D227,'Matriz VERDE-GBCe'!$H$5:$K$49,3,FALSE)","v":6.9160641307764836E-2}]
[]
[null,null,null,null,"Ir a la hoja de cálculo del criterio"]
[]
[null,null,null,null,"Existe un ACV que contempla el consumo de energía no renovable y las emisiones de CO2 de los materiales en la fase de producto.",null,null,null,null,null,null,"SI"]
[]
[]
[null,null,null,null,"Existe un ACV que contempla el consumo de energía no renovable y las emisiones de CO2 de los materiales en todas las fases del ciclo de vida del edificio.",null,null,null,null,null,null,"SI"]
[]
[]
[null,null,null,null,"Porcentaje de reducción del consumo de energía primaria no renovable en la fase de construcción.",null,null,{"$f":"IF(F248=0,\"\",F254/F248)","v":""},null,null,null,{"$f":"IF(H237=\"\",0,IF(H237<0.05,0,IF(H237>0.15,F227*0.25,((((H237*100)-5)/10))*F227*0.25)))","v":0}]
[]
[null,null,null,null,"La evaluación del ACV demuestra que se han reducido en un 10 % los valores de otros impactos además de los de consumo de energía no renovable y las emisiones de CO2 de los materiales en la fase de producto.",null,null,{"$f":"IF(F246=0,\"\",F252/F246)","v":""},null,null,null,{"$f":"IF(H239=\"\",0,IF(H239<0.05,0,IF(H239>0.15,F227*0.25,((((H239*100)-5)/10))*F227*0.25)))","v":0}]
[]
[]
[null,null,null,"Resumen de resultados del ACV. Etapa de producto:"]
[]
[null,null,null,"Edificio de referencia"]
[]
[null,null,null,null,"Emisiones de CO2 (kg CO2 eq.)",{"$f":"IF('RN 10'!G10='RN 10'!R10,'RN 10'!I29,'RN 10'!G31)","v":0}]
[]
[null,null,null,null,"Consumo de energía primaria no renovable (MJ)",{"$f":"IF('RN 10'!G10='RN 10'!R10,'RN 10'!I31,'RN 10'!G29)","v":0}]
[]
[null,null,null,"Edificio objeto"]
[]
[null,null,null,null,"Emisiones de CO2 (kg CO2 eq.)"]
[]
[null,null,null,null,"Consumo de energía primaria no renovable (MJ)"]
[]
[null,null,null,"Resumen de resultados del ACV. Etapa de proceso de construcción:"]
[]
[null,null,null,"Edificio objeto"]
[]
[null,null,null,null,"Emisiones de CO2 (kg CO2 eq.)"]
[]
[null,null,null,null,"Consumo de energía primaria no renovable (MJ)"]
[]
[null,null,null,"Resumen de resultados del ACV. Etapa de uso:"]
[]
[null,null,null,"Edificio objeto"]
[]
[null,null,null,null,"Emisiones de CO2 (kg CO2 eq.)"]
[]
[null,null,null,null,"Consumo de energía primaria no renovable (MJ)"]
[]
[null,null,null,"Resumen de resultados del ACV. Etapa de fin de vida:"]
[]
[null,null,null,"Edificio objeto"]
[]
[null,null,null,null,"Emisiones de CO2 (kg CO2 eq.)"]
[]
[null,null,null,null,"Consumo de energía primaria no renovable (MJ)"]
[]
[null,null,null,"NOTAS"]
[null,null,null,null,null,null,null,null,null,null,null,0.4]
[null,null,null,"DOCUMENTOS JUSTIFICATIVOS"]
[null,null,null,null,null,null,null,null,null,null,null,0.4]
[null,null,null,"RN 10.01","Descripción de los sistemas constructivos"]
[null,null,null,null,null,null,null,null,null,null,null,0.4]
[null,null,null,"RN 10.02","Descripción del método de ACV empleado"]
[]
[null,null,null,"RN 10.03","Resultados del edificio objeto con descripción de las hipótesis y aproximaciones realizadas."]
[]
[null,null,null,"RN 10.04","Resultados del edificio de referencia con descripción de las hipótesis y aproximaciones realizadas."]
[]
[null,null,null,"VALORACIÓN DEL CRITERIO",null,{"$f":"IF($H231=\"sí\",0.25*$F227,0)+IF($H234=\"sí\",0.25*$F227,0)+$L237+$L239","v":0}]
[]
[]
[]
[null,null,null,{"$f":"'Matriz VERDE-GBCe'!H32","v":"RN 11"},{"$f":"VLOOKUP($D296,'Matriz VERDE-GBCe'!$H$5:$K$49,2,FALSE)","v":"Ecoetiquetado de producto."},{"$f":"VLOOKUP($D296,'Matriz VERDE-GBCe'!$H$5:$K$49,3,FALSE)","v":2.5149324111914485E-2}]
[]
[null,null,null,null,"Porcentaje de materiales con ecoetiqueta tipo I",null,null,null,null,null,null,{"$f":"IF(H298=\"\",0,IF(H298<0.1,0,IF(H298>0.2,F296*0.2,((((H298*100)-10)/10))*F296*0.2)))","v":0},100]
[]
[null,null,null,null,"Entre los materiales con DAPs se encuentran elementos estructurales, aislamientos y revestimientos.",null,null,null,null,null,null,null,"NO"]
[]
[null,null,null,null,"Porcentaje de materiales con DAP",null,null,null,null,null,null,{"$f":"IF(H302=\"\",0,IF(H302<0.1,0,IF(H302>0.2,F296*0.8,((((H302*100)-10)/10))*F296*0.8)))","v":0},100]
[]
[null,null,null,"NOTAS"]
[null,null,null,null,null,null,null,null,null,null,null,0.4]
[null,null,null,"DOCUMENTOS JUSTIFICATIVOS"]
[null,null,null,null,null,null,null,null,null,null,null,0.4]
[null,null,null,"RN 11.01","Eco etiquetas ya sean tipo I o tipo III de los materiales definidos en obra."]
[]
[null,null,null,"RN 11.02","Justificación del porcentaje en masa de los productos con ecoetiqueta Tipo III (DAP)"]
[]
[null,null,null,"VALORACIÓN DEL CRITERIO",null,{"$f":"IF(($L298+IF($H300=\"sí\",0.2*$F296,0)+$L302)>F296,F296,$L298+IF($H300=\"sí\",0.2*$F296,0)+$L302)","v":0}]
[]
[]
[]
[null,null,null,null,null,"VALORACIÓN ÁREA"]
[]
[null,null,null,null,null,"SUBTOTAL",null,{"$f":"F25+F49+F64+F96+F135+F165+F185+F199+F223+F292+F312","v":{"$error":"#VALUE!"}}]
[]
[null,null,null,null,null,"SOBRE",null,{"$f":"VLOOKUP(B$2,'Matriz VERDE-GBCe'!$G$2:$K$49,4,FALSE)","v":0.24520591009116624}]
[]
[]
[]
[]
[]
[null,null,null,null,null,"SÍ",null,"x"]
[null,null,null,null,null,"NO"]

{"sheet":"RN 01","index":13,"n_rows":45,"n_cols":29,"rows_kept":45,"cut":false,"hidden":false,"merged":[[44,2,44,6],[37,2,37,4],[41,12,42,16],[41,2,42,6],[1,2,1,18],[2,2,2,18],[4,6,4,9],[35,12,35,14],[35,2,35,4],[17,2,17,4],[17,12,17,14],[19,12,19,14],[25,2,26,6],[19,2,19,4],[33,2,33,4],[33,12,33,14],[25,12,26,16],[21,2,21,4]]}
[]
[null,null,"Consumo de agua en aparatos sanitarios",null,null,null,null,null,null,null,null,null,null,null,null,null,null,null,null,null,null,null,null,null,null,null,"SÍ"]
[null,null,"VERDE W Equipamiento",null,null,null,null,null,null,null,null,null,null,null,null,null,null,null,null,null,null,null,null,null,null,null,"NO"]
[]
[null,null,"Tipo de actuación",null,null,null,{"$f":"DG!E27","v":0}]
[]
[]
[null,null,"Número de ocupantes"]
[]
[null,null,"Nº de ocupantes del edificio",null,null,null,null,{"$f":"SUM($I9:$I9)+SUM($S9:$S9)","v":0}]
[]
[null,null,"¿Hay duchas en el edificio?",null,null,null,null,{"$f":"SUM($I11:$I11)+SUM($S11:$S11)","v":0},null,null,null,null,"¿Hay urinarios en el edificio?"]
[]
[]
[null,null,"Consumo del edificio objeto"]
[null,null,null,null,null,null,"Caudal",null,"Consumo (l/pers. Día) Ocupantes",null,null,null,null,null,null,null,"Caudal",null,"Consumo (l/pers. Día) Ocupantes",null,null,null,null,null,null,null,null,"consumo/uso","uso/persona"]
[]
[null,null,"Grifería lavabo",null,null,null,null,null,{"$f":"AC18","v":13.5},null,null,null,"Grifería ducha",null,null,null,null,null,{"$f":"AC20","v":""},null,null,null,null,null,null,null,"Lavavo",{"$f":"IF(OR(G18=\"\",G18=0),G34*0.5,G18*0.5)","v":2.25},{"$f":"AB18*6","v":13.5}]
[]
[null,null,"Inodoros descarga larga",null,null,null,null,null,{"$f":"AC22","v":6},null,null,null,"Inodoros descarga corta",null,null,null,null,null,{"$f":"AC24","v":6},null,null,null,null,null,null,null,"ducha",{"$f":"IF(OR(Q18=\"\",Q18=0),Q34*3,Q18*3)","v":24},{"$f":"IF(G12=\"sí\",AB20*0.1,\"\")","v":""}]
[]
[null,null,"Urinarios",null,null,null,null,null,{"$f":"AC26","v":""},null,null,null,null,null,null,null,null,null,null,null,null,null,null,null,null,null,"descarga larga",{"$f":"IF(OR(G20=\"\",G20=0),G36,G20)","v":6},{"$f":"AB22*1","v":6}]
[]
[null,null,null,null,null,null,null,null,null,null,null,null,null,null,null,null,null,null,null,null,null,null,null,null,null,null,"descarga corta",{"$f":"IF(OR(Q20=\"\",Q20=0),Q36,Q20)","v":3},{"$f":"IF(Q12=\"sí\",AB24*1,AB24*2)","v":6}]
[]
[null,null,"CONSUMO TOTAL POR PERSONA Y DÍA (l/p día) OCUPANTES",null,null,null,null,null,{"$f":"AC27","v":25.5},null,null,null,"CONSUMO TOTAL EN EL EDIFICIO (l/día)",null,null,null,null,null,{"$f":"I26*G10","v":0},null,null,null,null,null,null,null,"urinario",{"$f":"IF(OR(G22=\"\",G22=0),G38,G22)","v":4},{"$f":"IF(Q12=\"sí\",AB26*1,\"\")","v":""}]
[null,null,null,null,null,null,null,null,null,null,null,null,null,null,null,null,null,null,null,null,null,null,null,null,null,null,null,null,{"$f":"SUM(AC18:AC25)","v":25.5}]
[]
[]
[null,null,"Consumo del edificio de referencia"]
[]
[null,null,null,null,null,null,"Caudal",null,"Consumo (l/pers. Día) Ocupantes",null,null,null,null,null,null,null,null,null,"Consumo (l/pers. Día) Ocupantes",null,null,null,null,null,null,null,null,"consumo/uso","uso/persona"]
[]
[null,null,"Grifería lavabo",null,null,null,4.5,null,{"$f":"AC34","v":13.5},null,null,null,"Grifería ducha",null,null,null,8,null,{"$f":"AC36","v":""},null,null,null,null,null,null,null,"Lavavo",{"$f":"G34*0.5","v":2.25},{"$f":"AB34*6","v":13.5}]
[]
[null,null,"Inodoros descarga larga",null,null,null,6,null,{"$f":"AC38","v":6},null,null,null,"Inodoros descarga corta",null,null,null,3,null,{"$f":"AC40","v":6},null,null,null,null,null,null,null,"ducha",{"$f":"Q34*3","v":24},{"$f":"IF(G12=\"sí\",AB36*0.1,\"\")","v":""}]
[]
[null,null,"Urinarios",null,null,null,4,null,{"$f":"AC42","v":""},null,null,null,null,null,null,null,null,null,null,null,null,null,null,null,null,null,"descarga larga",{"$f":"G36","v":6},{"$f":"AB38*1","v":6}]
[]
[null,null,null,null,null,null,null,null,null,null,null,null,null,null,null,null,null,null,null,null,null,null,null,null,null,null,"descarga corta",{"$f":"Q36","v":3},{"$f":"IF(Q12=\"sí\",AB40*1,AB40*2)","v":6}]
[]
[null,null,"CONSUMO TOTAL POR PERSONA Y DÍA (l/p día) OCUPANTES",null,null,null,null,null,{"$f":"AC43","v":25.5},null,null,null,"CONSUMO TOTAL EN EL EDIFICIO (l/día)",null,null,null,null,null,{"$f":"I42*G10","v":0},null,null,null,null,null,null,null,"urinario",{"$f":"G38","v":4},{"$f":"IF(Q12=\"sí\",AB42*1,\"\")","v":""}]
[null,null,null,null,null,null,null,null,null,null,null,null,null,null,null,null,null,null,null,null,null,null,null,null,null,null,null,null,{"$f":"SUM(AC34:AC41)","v":25.5}]
[]
[null,null,"Porcentaje de ahorro",null,null,null,null,null,{"$f":"IFERROR(IF(I26=0,\"\",1-(S26/S42)),0)","v":0}]

{"sheet":"BD","index":14,"n_rows":52,"n_cols":7,"rows_kept":52,"cut":false,"hidden":true,"merged":[]}
["Provincia","estación meteorológica"]
["Albacete","Albacete - Los Llanos / B. Aérea",null,null,null,"Tipo de riego","EA"]
["Alicante","Alicante",null,null,null,"Riego localizado subterráneo",0.95]
["Almería","Almería / Aeropuerto",null,null,null,"Riego localizado en superficie",0.9]
["Ávila","Ávila",null,null,null,"Difusores y microaspersores",0.8]
["Badajoz","Badajoz - Talavera la Real / B. Aérea",null,null,null,"Aspersores","0,7-0,8"]
["Barcelona","Barcelona / Aeropuerto","Barcelona / Montseny -Turo De L'Home",null,null,"Superficie","0,5-0,65"]
["Bilbao","Bilbao / Aeropuerto"]
["Burgos","Burgos / B. Aérea"]
["Cáceres","Cáceres"]
["Cádiz","Cádiz - Jerez de la Frontera / Aeropuerto","Cádiz - Tarifa"]
["Castellón","Castellón"]
["Ciudad Real","Ciudad Real"]
["Córdoba","Córdoba / Aeropuerto"]
["Cuenca","Cuenca"]
["Gerona","Girona / Aeropuerto"]
["Granada","Granada / Aeropuerto","Granada / B. Aérea"]
["Guadalajara","Guadalajara - Molina De Aragón"]
["Huelva","Huelva"]
["Huesca","Huesca - Monflorite / Aeropuerto"]
["Ibiza","Ibiza / Aeropuerto"]
["Jaén"]
["La Coruña","A Coruña","A Coruña - Santiago Compostela / Aeropuerto"]
["Las Palmas","La Palma / Aeropuerto"]
["León","León - Ponferrada","León - Virgen del Camino / B. Aérea"]
["Lérida","Lleida / Estación 2"]
["Logroño ","Logroño - Agoncillo / Aeropuerto"]
["Lugo","Lugo - Rozas / Aeródromo"]
["Madrid","Madrid","Madrid - Barajas / Aeropuerto"]
["Málaga","Málaga / Aeropuerto"]
["Murcia","Murcia - Alcantarilla / Aeropuerto","Murcia - San Javier / Aeropuerto"]
["Orense","Ourense"]
["Oviedo","Oviedo / Aeropuerto","Oviedo"]
["Palencia"]
["Palma de Mallorca","Palma de Mallorca","Palma de Mallorca / Aeropuerto"]
["Pamplona","Pamplona / Aeropuerto"]
["Pontevedra","Pontevedra - Mourente","Pontevedra - Vigo / Aeropuerto"]
["Salamanca","Salamanca - Matacán / B. Aérea"]
["San Sebastián","San Sebastián / Aeropuerto","San Sebastián / Igueldo"]
["Sta. Cruz de Tenerife","Santa Cruz De Tenerife","Tenerife / Aeropuerto Tenerife Sur"]
["Santander","Santander / Aeropuerto"]
["Segovia","Segovia"]
["Sevilla","Sevilla / Aeropuerto","Sevilla / Morón de la Frontera / B. Aérea","Sevilla - Tablada"]
["Soria","Soria"]
["Tarragona","Tarragona / Tortosa","Tarragona - Reus / Aeropuerto"]
["Teruel","Teruel"]
["Toledo","Toledo"]
["Valencia","Valencia","Valencia - Manises"]
["Valladolid","Valladolid","Valladolid / Aeropuerto"]
["Vitoria","Vitoria / Aeropuerto"]
["Zamora","Zamora"]
["Zaragoza","Zaragoza / Aeropuerto"]

{"sheet":"P","index":15,"n_rows":103,"n_cols":14,"rows_kept":103,"cut":false,"hidden":true,"merged":[[0,1,0,13]]}
[null,"Precipitación (mm)"]
[null,"Localidad","Ene","Feb","Mar","Abr","May","Jun","Jul","Ago","Sep","Oct","Nov","Dic"]
[null,"ANDALUCIA"]
[null,"Almería",24,25,16,17,12,5,1,1,14,27,28,30]
[null,"Cádiz",69,58,35,45,27,7,0,2,24,67,98,92]
[null," Jerez de la Frontera",78,56,37,49,30,9,1,2,27,72,96,109]
[null,"Cádiz / Tarifa",83,73,60,61,31,9,2,4,14,67,77,118]
[null,"Jaén",55,50,44,54,43,18,2,9,26,55,62,75]
[null,"Córdoba",66,55,49,55,40,13,2,5,35,86,80,111]
[null,"Granada",42,38,32,36,28,11,2,4,19,40,54,56]
[null,"Huelva",71,50,38,48,29,8,3,4,26,68,79,99]
[null,"Málaga",69,60,52,44,20,6,0,6,20,57,100,100]
[null,"Sevilla / Aeropuerto",66,50,36,54,30,10,2,5,27,68,91,99]
[null,"Sevilla / Morón de la Frontera / B. Aérea",68,53,42,60,39,9,2,4,27,67,86,94]
[null,"Sevilla / Tablada",78,52,40,58,36,13,2,5,20,66,81,103]
[null,"ARAGON"]
[null,"Huesca",31,28,30,53,52,33,22,29,48,60,47,44]
[null,"Teruel",19,15,21,39,57,46,26,34,36,47,22,19]
[null,"Zaragoza",21,22,19,39,44,26,17,17,30,36,30,21]
[null,"ASTURIAS"]
[null,"Asturias / Aeropuerto",103,88,82,99,79,61,47,60,73,116,134,117]
[null,"Oviedo",84,81,78,100,82,57,45,56,66,98,115,98]
[null,"BALEARES"]
[null,"Ibiza",37,36,27,31,27,11,5,18,57,58,53,52]
[null,"Menorca / Mahón",52,54,38,45,37,14,3,20,61,78,88,61]
[null,"Palma de Mallorca",42,37,28,39,36,11,6,22,52,69,59,48]
[null,"Palma de Mallorca / Aeropuerto",37,32,26,34,32,12,5,17,50,62,55,48]
[null,"CANARIAS"]
[null,"Fuerteventura",14,16,12,5,1,0,0,0,2,8,13,26]
[null,"Hierro",28,38,25,13,2,1,0,1,3,14,37,44]
[null,"Lanzarote",16,18,12,5,2,0,0,0,2,10,15,29]
[null,"Las Palmas de Gran Canaria",25,24,12,6,1,0,0,0,9,16,22,31]
[null,"Santa Cruz De Tenerife",32,35,38,12,4,1,0,2,7,19,34,43]
[null,"Tenerife / Norte",80,70,61,39,19,11,6,5,16,47,81,82]
[null,"Tenerife / Aeropuerto Tenerife Sur",17,20,15,7,1,0,0,1,4,12,26,30]
[null,"Tenerife / Izaña",47,67,58,18,7,0,0,5,13,37,54,60]
[null,"CANTABRIA"]
[null,"Santander",106,92,88,102,78,58,52,73,83,120,157,118]
[null,"CASTILLA LA MANCHA"]
[null,"Albacete",21,25,27,40,43,35,9,11,34,42,34,31]
[null,"Ciudad Real",35,30,28,48,41,25,6,5,26,53,45,59]
[null,"Cuenca",40,38,35,58,52,41,10,20,42,60,48,58]
[null,"Guadalajara",35,32,25,50,53,25,12,5,28,68,42,46]
[null,"Toledo",26,25,23,39,44,24,7,9,18,48,39,41]
[null,"CASTILLA LEON"]
[null,"Ávila",34,24,23,40,55,33,12,19,30,53,48,42]
[null,"Burgos",44,35,34,61,63,41,23,23,38,60,60,63]
[null,"Palencia",67,54,46,50,54,32,23,25,49,81,82,89]
[null,"León",50,34,32,45,56,31,19,23,39,61,59,66]
[null,"León / Virgen del Camino",58,46,29,50,58,39,28,24,39,56,58,70]
[null,"Salamanca",30,25,21,38,47,29,11,12,32,46,40,42]
[null,"Segovia",38,31,30,44,66,43,17,20,28,59,52,46]
[null,"Soria",37,36,30,55,67,40,30,30,33,55,50,50]
[null,"Valladolid",40,27,22,46,49,29,13,16,31,55,52,53]
[null,"Valladolid / Aeropuerto",36,26,23,43,53,30,15,21,32,52,51,53]
[null,"Zamora",32,25,22,39,43,23,12,13,28,50,45,46]
[null,"CATALUÑA"]
[null,"Barcelona",37,35,36,40,47,30,21,62,81,91,59,40]
[null,"Barcelona / Fabra",50,43,44,53,58,30,24,41,75,91,66,46]
[null,"Girona",62,51,50,67,71,60,32,46,70,88,70,56]
[null,"Lleida",26,15,21,39,42,27,12,18,41,43,30,24]
[null,"Tarragona",33,28,30,48,58,25,15,33,59,78,60,41]
[null,"Tarragona / Reus",29,28,28,37,54,25,15,42,77,75,53,36]
[null,"CEUTA"]
[null,"Ceuta",122,145,90,57,21,3,1,3,37,82,127,161]
[null,"COMUNIDAD DE MADRID"]
[null,"Colmenar Viejo",52,41,36,52,57,28,14,16,36,76,78,68]
[null,"Madrid",33,34,25,45,50,21,12,10,22,60,58,51]
[null,"Barajas",29,32,22,38,44,22,9,10,24,51,49,42]
[null,"Cuatro Vientos",34,35,25,43,50,24,12,11,24,60,57,53]
[null,"Getafe",30,32,24,38,39,19,9,9,22,50,48,45]
[null,"Puerto Navacerrada",124,96,84,127,124,64,23,26,60,156,176,163]
[null,"Torrejón De Ardoz",29,31,23,40,48,19,13,9,25,50,49,42]
[null,"COMUNIDAD VALENCIANA"]
[null,"Alicante",23,22,23,29,28,12,4,7,56,47,36,25]
[null,"Castellón",36,31,31,42,44,19,9,24,71,70,49,42]
[null,"Valencia",37,36,33,38,39,22,8,20,70,77,47,48]
[null,"Valencia - Manises",37,34,30,40,38,18,12,16,63,72,51,48]
[null,"EXTREMADURA"]
[null,"Badajoz",50,42,30,49,36,14,4,5,24,61,65,69]
[null,"Cáceres",54,48,36,52,50,20,6,7,30,77,89,77]
[null,"GALICIA"]
[null,"A Coruña",112,88,75,88,74,44,34,35,64,130,138,131]
[null,"Lugo",114,87,80,102,81,52,34,36,68,137,144,134]
[null,"Ourense",89,66,59,72,64,36,20,22,57,112,103,112]
[null,"Pontevedra",178,133,120,143,118,64,44,56,95,224,222,216]
[null,"Santiago de Compostela",210,167,146,146,135,72,43,57,107,226,217,261]
[null,"Vigo",208,162,141,157,127,62,44,45,102,231,246,262]
[null,"LA RIOJA"]
[null,"Logroño",28,23,26,46,47,44,30,21,26,37,40,38]
[null,"MELILLA"]
[null,"Melilla",58,57,44,36,20,7,1,4,16,40,57,50]
[null,"MURCIA"]
[null,"Murcia",27,27,30,25,28,18,3,8,32,36,32,29]
[null,"Alcantarilla",26,28,31,25,28,18,2,10,29,34,33,25]
[null,"San Javier",42,27,24,23,25,7,2,7,39,39,47,30]
[null,"NAVARRA"]
[null,"Pamplona",57,50,54,74,60,46,33,38,44,68,75,72]
[null,"PAÍS VASCO"]
[null,"Bilbao",120,86,90,107,78,60,50,76,73,111,147,122]
[null,"San Sebastián / Aeropuerto",168,150,144,168,138,96,98,112,138,174,186,167]
[null,"San Sebastián / Igueldo",141,110,113,138,120,90,86,117,111,159,169,151]
[null,"Vitoria",75,63,63,73,70,43,38,39,41,71,91,82]

{"sheet":"ETo","index":16,"n_rows":77,"n_cols":14,"rows_kept":77,"cut":false,"hidden":true,"merged":[]}
[null,"Evapotranspiración Potencial","Ene","Feb","Mar","Abr","May","Jun","Jul","Ago","Sep","Oct","Nov","Dic"]
["Albacete - Los Llanos ","Albacete",15.1,29.2,60.4,95.7,122.5,157.1,179.7,156,87.3,51.4,19.899999999999999,16.8]
["Alicante","Alicante",16.399999999999999,37.4,68.900000000000006,91.9,130.1,149.4,169.8,154.19999999999999,95.5,62.2,30.1,22.9]
["Almería ","Almería",27.9,37.200000000000003,72.599999999999994,98.5,140.9,132.5,177.9,182.5,100.5,65.8,31.1,31.2]
["Ávila","Ávila",11.2,21.5,52.5,78.3,116.2,143.9,161.5,142.9,77.099999999999994,42.7,15,9.6]
["Badajoz","Badajoz",13.8,24.1,57,82.7,116.9,141,182.1,146,81.099999999999994,49,21.3,11.6]
["Barcelona / Aeropuerto","Barcelona",18.600000000000001,27.7,53.2,76,107,135.9,155.19999999999999,130.1,75.400000000000006,47.4,22,16.600000000000001]
["Barcelona / Montseny -Turo De L'Home","Bilbao",13.9,21.8,49.2,62.4,92.9,98,96.9,96.9,57.2,35.299999999999997,17.5,14.6]
["Bilbao","Burgos",9.9,24.9,45.5,67.5,104.3,119.5,146.4,124.5,68,36,12.5,8.1999999999999993]
["Burgos","Cáceres",13.8,24.1,57,82.7,116.9,141,182.1,146,81.099999999999994,49,21.3,11.6]
["Cáceres","Cádiz",25.7,34.6,84.3,102.1,156.69999999999999,182.4,196.3,185.5,115.4,74.900000000000006,34.6,22.4]
["Cádiz - Jerez de la Frontera / Aeropuerto","Castellón de la Plana",15.4,26.6,54.1,75.7,115.1,133.30000000000001,148.5,129.4,75.8,45.8,19.8,12.1]
["Cádiz - Tarifa","Ceuta",16.5,28.5,59.1,84.4,128.30000000000001,153.80000000000001,169.9,154.19999999999999,83.5,50.7,22,13.4]
["Castellón de la Plana","Ciudad Real",12.9,25.2,51.2,77.099999999999994,120.3,155.69999999999999,172.1,149.80000000000001,82,43.3,17.899999999999999,12.3]
["Ceuta","Córdoba",17.3,28.5,56.3,82.3,128.1,157.69999999999999,182.7,162.6,94.5,55,21.7,14.3]
["Ciudad Real","Cuenca",10.6,19,43.8,66.2,106.2,129.6,149.9,144.30000000000001,71.099999999999994,39.299999999999997,14.5,8.5]
["Córdoba","Gerona",11.2,22,45.5,72,110.6,123.6,144,122.9,71.2,39.799999999999997,14.7,8.5]
["Cuenca","Granada",16,26.5,54.7,74.400000000000006,111.2,140.9,168.1,148.5,85.9,48.3,20.2,12.7]
["Gerona","Guadalajara",16.100000000000001,23.5,53.9,74.7,109.2,139.19999999999999,164.9,143.4,80.8,43.6,18.5,11]
["Granada","Huelva",19.2,28.2,53.6,80.7,125.4,145.30000000000001,161.69999999999999,146.5,89.5,53.4,24.1,14.8]
["Guadalajara","Huesca",15.2,26.5,60.1,83.2,118.5,139.9,162,137.30000000000001,77,48.4,20.100000000000001,13.9]
["Huelva","Ibiza",19,30.5,61.3,82.6,130,146.69999999999999,169.9,152,89.5,56.1,26,19.3]
["Huesca","Jaén",15.6,25.5,54.5,76.400000000000006,111.3,145,154,151,87,49.5,20.100000000000001,12.9]
["Ibiza","La Coruña",23.1,30.7,55.9,76.599999999999994,701,110.7,125.7,109,57.2,42.7,23.6,23.7]
["Jaén","Las Palmas de Gran Canaria",45.4,51.7,91.5,104.4,130.69999999999999,133.5,131.4,132.1,103.8,82.4,50.9,42.2]
["La Coruña","León",8.1999999999999993,19.5,50.8,75.8,110.5,129,157.69999999999999,129.5,72.7,37.799999999999997,13.3,7.3]
["Las Palmas de Gran Canaria","Lérida",16.100000000000001,29,65.2,91.8,127.1,158.19999999999999,182.4,153.9,89.2,52.5,22.3,13.9]
["León - Ponferrada","Logroño ",14.8,22.9,54.4,71.900000000000006,109.6,122.4,149.1,128.9,70.900000000000006,37.299999999999997,15.7,12.4]
["León - Virgen del Camino / B. Aérea","Lugo",10.3,18.3,41.1,63.6,87.6,98.7,105.3,92.1,56.7,34.9,11.9,8.4]
["Lérida","Madrid",13.3,24.5,55.7,83,120.6,149.1,171.4,153.19999999999999,85.2,45.7,16.7,10.5]
["Logroño","Málaga",27.1,36,66.099999999999994,84.3,135.4,155.9,169.1,153.5,90.5,59.6,29.3,23.3]
["Lugo","Melilla",16.5,28.5,59.1,84.4,128.30000000000001,153.80000000000001,169.9,154.19999999999999,83.5,50.7,22,13.4]
["Madrid","Murcia",16.5,28.5,59.1,84.4,128.30000000000001,153.80000000000001,169.9,154.19999999999999,83.5,50.7,22,13.4]
[" Barajas","Orense",10.1,17.600000000000001,39.700000000000003,58.4,94.2,112.2,123.5,108.1,63.2,29.6,11.4,9.3000000000000007]
[" Cuatro Vientos","Oviedo",9.9,18.2,38.799999999999997,56.8,82.6,86.2,87.3,82,52.1,33.700000000000003,11.5,8.1999999999999993]
[" Getafe","Palencia",9.4,20.8,48,75.7,114,134.9,160.1,134.9,71.7,37.1,14.2,8.6999999999999993]
["Puerto Navacerrada","Palma de Mallorca",18.399999999999999,30.3,59.7,82.4,128.5,145.6,169.1,150.6,88.2,55.4,25.2,18.7]
[" Torrejón De Ardoz","Pamplona",11.2,18.3,44.5,61.7,94.8,110.8,130,112.3,63.7,33.799999999999997,13.1,9.6999999999999993]
["Málaga","Pontevedra",19,28.5,57,77.900000000000006,105.3,129,146.9,111.7,87.4,45.1,15,14.9]
["Melilla","Salamanca",11,18.8,47.2,72.400000000000006,91.3,133.30000000000001,157.69999999999999,115.7,78.8,39.4,19,9.4]
["Murcia - Alcantarilla","San Sebastián",25.7,28.5,64.5,75.7,98.2,105.2,110.2,100,63.4,46,26.5,19.5]
["Murcia - San Javier","Sta. Cruz de Tenerife",53.5,62.2,101.5,99.4,164.3,174.5,188.8,178.1,120.3,93.8,55.4,46.6]
["Pamplona","Santander",17.5,23.1,48.1,61.1,86.4,94,101.9,93.6,48.3,38.299999999999997,18.5,16.600000000000001]
["Orense","Segovia",21.1,25.3,53.8,71.900000000000006,105.6,117.9,142.5,132.4,76.400000000000006,43.5,21.9,16.600000000000001]
["Oviedo","Sevilla",18.399999999999999,30.5,59,83.3,126.7,154.6,166.9,148.6,87,53.4,22.1,12.2]
["Gijón","Soria",14.4,22.2,48.5,71.5,106.1,131.1,149.1,131.6,69.900000000000006,39.299999999999997,15.9,7.8]
["Asturias / Aeropuerto","Tarragona",18.2,30.6,57.5,76.8,112,135.19999999999999,149.9,127,77,49.4,24.2,15.7]
["Palencia","Teruel",9.6,17.100000000000001,41.1,61.8,100.4,117.7,141.6,125.4,63,33.4,12,73]
["Palma de Mallorca","Toledo",14.8,28.3,63.5,91.2,136.9,176.5,193.4,167.4,92.3,51.8,19.600000000000001,9.5]
["Palma de Mallorca / Aeropuerto","Valencia",23.8,32.200000000000003,63.8,82.6,111.9,149.1,155.80000000000001,138.9,83.9,52.6,27,21.9]
["Pontevedra - Mourente","Valladolid",11.2,21.5,52.5,78.3,116.2,143.9,161.5,142.9,77.099999999999994,42.7,15,9.6]
["Pontevedra - Vigo","Vitoria",7.8,13.4,38.1,51.1,77.900000000000006,90.4,104.4,87.5,49.7,28.6,9.1999999999999993,7.8]
["Santiago Compostela ","Zamora",16.3,26.7,60.5,80.900000000000006,122,142.30000000000001,173.6,138.1,94.2,43.3,16,12]
["Salamanca","Zaragoza",20.399999999999999,32.6,71.400000000000006,97.4,143.4,170.4,194.5,164.7,94.9,54.2,22.4,15]
["Santa Cruz De Tenerife"]
["Tenerife / Telde"]
["Tenerife / Aeropuerto Tenerife Sur"]
["Tenerife - Izaña"]
["Santander"]
["Segovia"]
["Sevilla / Aeropuerto"]
["Sevilla / Morón de la Frontera / B. Aérea"]
["Sevilla - Tablada"]
["Soria"]
["Tarragona / Tortosa"]
["Tarragona - Reus / Aeropuerto"]
["Teruel"]
["Toledo"]
["Valencia"]
["Valencia - Manises"]
["Valladolid"]
["Valladolid / Aeropuerto"]
["Vitoria"]
["San Sebastián / Aeropuerto"]
["San Sebastián / Igueldo"]
["Zamora"]
["Zaragoza"]

{"sheet":"JR","index":17,"n_rows":62,"n_cols":17,"rows_kept":62,"cut":false,"hidden":true,"merged":[[49,2,60,2],[49,8,60,8],[49,9,60,9],[9,2,9,4],[11,8,15,8],[18,8,18,9],[19,2,30,2],[19,8,30,8],[19,9,30,9],[33,8,33,9],[34,2,45,2],[34,8,45,8],[34,9,45,9],[48,8,48,9]]}
[]
[null,"NECESIDADES DE RIEGO JARDÍN DE REFERENCIA"]
[null,{"$f":"IF(C13+D13+E13=0,\"\",(L32*C13+L47*D13+L62*E13))","v":""}]
[]
[]
[]
[]
[]
[]
[null,null,"Tipos de vegetación"]
[null,"CAPITAL DE PROVINCIA",{"$f":"'RN 02'!D5","v":0},"ESTACIÓN METEOROLÓGICA",{"$f":"'RN 02'!R5","v":"Albacete"},null,null,null,"NECESIDADES DE RIEGO JARDÍN DE REFERENCIA"]
[null,"NOMBRE ESPECIE","pradera","tapizante","arbolado",null,null,null,{"$f":"(L32+L47+L62)/365","v":{"$error":"#VALUE!"}}]
[null,"Area (m2)",{"$f":"IF($C17=\"\",0,IF($C17=1,'RN 02'!$D$27*0.5,IF($C17=2,'RN 02'!$D$27*0.4,IF($C17=3,'RN 02'!$D$27*0.3,'RN 02'!$D$27*0.1))))","v":0},{"$f":"IF($C17=\"\",0,IF($C17=1,'RN 02'!$D$27*0.2,IF($C17=2,'RN 02'!$D$27*0.3,IF($C17=3,'RN 02'!$D$27*0.3,'RN 02'!$D$27*0.5))))","v":0},{"$f":"IF($C17=\"\",0,IF($C17=1,'RN 02'!$D$27*0.3,IF($C17=2,'RN 02'!$D$27*0.3,IF($C17=3,'RN 02'!$D$27*0.4,'RN 02'!$D$27*0.4))))","v":0}]
[null,"Ks",0.7,0.5,0.5]
[null,"Km",{"$f":"'RN 02'!D17","v":""},1,1]
[null,"Kj",{"$f":"C14*C15","v":{"$error":"#VALUE!"}},{"$f":"D14*D15","v":0.5},{"$f":"E14*E15","v":0.5}]
[null,"Zona de verano",{"$f":"'zona clima'!C11","v":""}]
[]
[null,null,"Kj","Eto (mm)","Etj (mm)","P (mm)","Pe (mm)","N (mm)","EA",null,"Nf (mm)","Nf (l/m2)"]
[null,"ENE",{"$f":"C16","v":{"$error":"#VALUE!"}},{"$f":"SUMIFS(ETo!B$2:B$54,ETo!$B$2:$B$54,'RN 02'!$D$5)","v":0},{"$f":"D20*C20","v":{"$error":"#VALUE!"}},{"$f":"SUMIFS(P!C$4:C$103,P!$B$4:$B$103,'RN 02'!$R$5)","v":21},{"$f":"IF(F20<75,(0.6*F20-10),(0.8*F20-25))","v":2.5999999999999996},{"$f":"IF((E20-G20)<0,0,E20-G20)","v":{"$error":"#VALUE!"}},"Aspersores",0.75,{"$f":"$H20/$J$20","v":{"$error":"#VALUE!"}},{"$f":"K20","v":{"$error":"#VALUE!"}}]
[null,"FEB",null,{"$f":"SUMIFS(ETo!C$2:C$54,ETo!$B$2:$B$54,'RN 02'!$D$5)","v":0},{"$f":"D21*C20","v":{"$error":"#VALUE!"}},{"$f":"SUMIFS(P!D$4:D$103,P!$B$4:$B$103,'RN 02'!$R$5)","v":25},{"$f":"IF(F21<75,0.6*F21-10,0.8*F21-25)","v":5},{"$f":"IF((E21-G21)<0,0,E21-G21)","v":{"$error":"#VALUE!"}},null,null,{"$f":"$H21/$J$20","v":{"$error":"#VALUE!"}},{"$f":"K21","v":{"$error":"#VALUE!"}},null,null,null,"Riego localizado subterráneo",0.95]
[null,"MAR",null,{"$f":"SUMIFS(ETo!D$2:D$54,ETo!$B$2:$B$54,'RN 02'!$D$5)","v":0},{"$f":"D22*C20","v":{"$error":"#VALUE!"}},{"$f":"SUMIFS(P!E$4:E$103,P!$B$4:$B$103,'RN 02'!$R$5)","v":27},6.1999999999999993,{"$error":"#VALUE!"},null,null,{"$error":"#VALUE!"},{"$error":"#VALUE!"},null,null,null,"Riego localizado en superficie",0.9]
[null,"ABR",null,{"$f":"SUMIFS(ETo!E$2:E$54,ETo!$B$2:$B$54,'RN 02'!$D$5)","v":0},{"$f":"D23*C20","v":{"$error":"#VALUE!"}},{"$f":"SUMIFS(P!F$4:F$103,P!$B$4:$B$103,'RN 02'!$R$5)","v":40},14,{"$error":"#VALUE!"},null,null,{"$error":"#VALUE!"},{"$error":"#VALUE!"},null,null,null,"Difusores y microaspersores",0.8]
[null,"MAY",null,{"$f":"SUMIFS(ETo!F$2:F$54,ETo!$B$2:$B$54,'RN 02'!$D$5)","v":0},{"$f":"D24*C20","v":{"$error":"#VALUE!"}},{"$f":"SUMIFS(P!G$4:G$103,P!$B$4:$B$103,'RN 02'!$R$5)","v":43},15.8,{"$error":"#VALUE!"},null,null,{"$error":"#VALUE!"},{"$error":"#VALUE!"},null,null,null,"Aspersores",0.75]
[null,"JUN",null,{"$f":"SUMIFS(ETo!G$2:G$54,ETo!$B$2:$B$54,'RN 02'!$D$5)","v":0},{"$f":"D25*C20","v":{"$error":"#VALUE!"}},{"$f":"SUMIFS(P!H$4:H$103,P!$B$4:$B$103,'RN 02'!$R$5)","v":35},11,{"$error":"#VALUE!"},null,null,{"$error":"#VALUE!"},{"$error":"#VALUE!"}]
[null,"JUL",null,{"$f":"SUMIFS(ETo!H$2:H$54,ETo!$B$2:$B$54,'RN 02'!$D$5)","v":0},{"$f":"D26*C20","v":{"$error":"#VALUE!"}},{"$f":"SUMIFS(P!I$4:I$103,P!$B$4:$B$103,'RN 02'!$R$5)","v":9},-4.6000000000000005,{"$error":"#VALUE!"},null,null,{"$error":"#VALUE!"},{"$error":"#VALUE!"}]
[null,"AGO",null,{"$f":"SUMIFS(ETo!I$2:I$54,ETo!$B$2:$B$54,'RN 02'!$D$5)","v":0},{"$f":"D27*C20","v":{"$error":"#VALUE!"}},{"$f":"SUMIFS(P!J$4:J$103,P!$B$4:$B$103,'RN 02'!$R$5)","v":11},-3.4000000000000004,{"$error":"#VALUE!"},null,null,{"$error":"#VALUE!"},{"$error":"#VALUE!"}]
[null,"SEP",null,{"$f":"SUMIFS(ETo!J$2:J$54,ETo!$B$2:$B$54,'RN 02'!$D$5)","v":0},{"$f":"D28*C20","v":{"$error":"#VALUE!"}},{"$f":"SUMIFS(P!K$4:K$103,P!$B$4:$B$103,'RN 02'!$R$5)","v":34},10.399999999999999,{"$error":"#VALUE!"},null,null,{"$error":"#VALUE!"},{"$error":"#VALUE!"}]
[null,"OCT",null,{"$f":"SUMIFS(ETo!K$2:K$54,ETo!$B$2:$B$54,'RN 02'!$D$5)","v":0},{"$f":"D29*C20","v":{"$error":"#VALUE!"}},{"$f":"SUMIFS(P!L$4:L$103,P!$B$4:$B$103,'RN 02'!$R$5)","v":42},15.2,{"$error":"#VALUE!"},null,null,{"$error":"#VALUE!"},{"$error":"#VALUE!"}]
[null,"NOV",null,{"$f":"SUMIFS(ETo!L$2:L$54,ETo!$B$2:$B$54,'RN 02'!$D$5)","v":0},{"$f":"D30*C20","v":{"$error":"#VALUE!"}},{"$f":"SUMIFS(P!M$4:M$103,P!$B$4:$B$103,'RN 02'!$R$5)","v":34},10.399999999999999,{"$error":"#VALUE!"},null,null,{"$error":"#VALUE!"},{"$error":"#VALUE!"}]
[null,"DIC",null,{"$f":"SUMIFS(ETo!M$2:M$54,ETo!$B$2:$B$54,'RN 02'!$D$5)","v":0},{"$f":"D31*C20","v":{"$error":"#VALUE!"}},{"$f":"SUMIFS(P!N$4:N$103,P!$B$4:$B$103,'RN 02'!$R$5)","v":31},8.5999999999999979,{"$error":"#VALUE!"},null,null,{"$error":"#VALUE!"},{"$error":"#VALUE!"}]
[null,null,null,null,null,null,null,null,null,null,{"$f":"SUM(K20:K31)","v":{"$error":"#VALUE!"}},{"$f":"SUM(L20:L31)","v":{"$error":"#VALUE!"}}]
[]
[null,null,"Kj","Eto (mm)","Etj (mm)","P (mm)","Pe (mm)","N (mm)","EA",null,"Nf (mm)","Nf (l/m2)"]
[null,"ENE",{"$f":"D16","v":0.5},{"$f":"SUMIFS(ETo!B$2:B$54,ETo!$B$2:$B$54,'RN 02'!$D$5)","v":0},{"$f":"D35*C35","v":0},{"$f":"SUMIFS(P!C$4:C$103,P!$B$4:$B$103,'RN 02'!$R$5)","v":21},{"$f":"IF(F35<75,(0.6*F35-10),(0.8*F35-25))","v":2.5999999999999996},{"$f":"IF((E35-G35)<0,0,E35-G35)","v":0},"Riego localizado en superficie",0.9,{"$f":"$H35/$J$35","v":0},{"$f":"K35","v":0}]
[null,"FEB",null,{"$f":"SUMIFS(ETo!C$2:C$54,ETo!$B$2:$B$54,'RN 02'!$D$5)","v":0},{"$f":"D36*C35","v":0},{"$f":"SUMIFS(P!D$4:D$103,P!$B$4:$B$103,'RN 02'!$R$5)","v":25},{"$f":"IF(F36<75,0.6*F36-10,0.8*F36-25)","v":5},{"$f":"IF((E36-G36)<0,0,E36-G36)","v":0},null,null,{"$f":"$H36/$J$20","v":0},{"$f":"K36","v":0}]
[null,"MAR",null,{"$f":"SUMIFS(ETo!D$2:D$54,ETo!$B$2:$B$54,'RN 02'!$D$5)","v":0},{"$f":"D37*C35","v":0},{"$f":"SUMIFS(P!E$4:E$103,P!$B$4:$B$103,'RN 02'!$R$5)","v":27},6.1999999999999993,0,null,null,0,0]
[null,"ABR",null,{"$f":"SUMIFS(ETo!E$2:E$54,ETo!$B$2:$B$54,'RN 02'!$D$5)","v":0},{"$f":"D38*C35","v":0},{"$f":"SUMIFS(P!F$4:F$103,P!$B$4:$B$103,'RN 02'!$R$5)","v":40},14,0,null,null,0,0]
[null,"MAY",null,{"$f":"SUMIFS(ETo!F$2:F$54,ETo!$B$2:$B$54,'RN 02'!$D$5)","v":0},{"$f":"D39*C35","v":0},{"$f":"SUMIFS(P!G$4:G$103,P!$B$4:$B$103,'RN 02'!$R$5)","v":43},15.8,0,null,null,0,0]
[null,"JUN",null,{"$f":"SUMIFS(ETo!G$2:G$54,ETo!$B$2:$B$54,'RN 02'!$D$5)","v":0},{"$f":"D40*C35","v":0},{"$f":"SUMIFS(P!H$4:H$103,P!$B$4:$B$103,'RN 02'!$R$5)","v":35},11,0,null,null,0,0]
[null,"JUL",null,{"$f":"SUMIFS(ETo!H$2:H$54,ETo!$B$2:$B$54,'RN 02'!$D$5)","v":0},{"$f":"D41*C35","v":0},{"$f":"SUMIFS(P!I$4:I$103,P!$B$4:$B$103,'RN 02'!$R$5)","v":9},-4.6000000000000005,4.6000000000000005,null,null,6.1333333333333337,6.1333333333333337]
[null,"AGO",null,{"$f":"SUMIFS(ETo!I$2:I$54,ETo!$B$2:$B$54,'RN 02'!$D$5)","v":0},{"$f":"D42*C35","v":0},{"$f":"SUMIFS(P!J$4:J$103,P!$B$4:$B$103,'RN 02'!$R$5)","v":11},-3.4000000000000004,3.4000000000000004,null,null,4.5333333333333341,4.5333333333333341]
[null,"SEP",null,{"$f":"SUMIFS(ETo!J$2:J$54,ETo!$B$2:$B$54,'RN 02'!$D$5)","v":0},{"$f":"D43*C35","v":0},{"$f":"SUMIFS(P!K$4:K$103,P!$B$4:$B$103,'RN 02'!$R$5)","v":34},10.399999999999999,0,null,null,0,0]
[null,"OCT",null,{"$f":"SUMIFS(ETo!K$2:K$54,ETo!$B$2:$B$54,'RN 02'!$D$5)","v":0},{"$f":"D44*C35","v":0},{"$f":"SUMIFS(P!L$4:L$103,P!$B$4:$B$103,'RN 02'!$R$5)","v":42},15.2,0,null,null,0,0]
[null,"NOV",null,{"$f":"SUMIFS(ETo!L$2:L$54,ETo!$B$2:$B$54,'RN 02'!$D$5)","v":0},{"$f":"D45*C35","v":0},{"$f":"SUMIFS(P!M$4:M$103,P!$B$4:$B$103,'RN 02'!$R$5)","v":34},10.399999999999999,0,null,null,0,0]
[null,"DIC",null,{"$f":"SUMIFS(ETo!M$2:M$54,ETo!$B$2:$B$54,'RN 02'!$D$5)","v":0},{"$f":"D46*C35","v":0},{"$f":"SUMIFS(P!N$4:N$103,P!$B$4:$B$103,'RN 02'!$R$5)","v":31},8.5999999999999979,0,null,null,0,0]
[null,null,null,null,null,null,null,null,null,null,{"$f":"SUM(K35:K46)","v":10.666666666666668},{"$f":"SUM(L35:L46)","v":10.666666666666668}]
[]
[null,null,"Kj","Eto (mm)","Etj (mm)","P (mm)","Pe (mm)","N (mm)","EA",null,"Nf (mm)","Nf (l/m2)"]
[null,"ENE",{"$f":"E16","v":0.5},{"$f":"SUMIFS(ETo!B$2:B$54,ETo!$B$2:$B$54,'RN 02'!$D$5)","v":0},{"$f":"D50*C50","v":0},{"$f":"SUMIFS(P!C$4:C$103,P!$B$4:$B$103,'RN 02'!$R$5)","v":21},{"$f":"IF(F50<75,(0.6*F50-10),(0.8*F50-25))","v":2.5999999999999996},{"$f":"IF((E50-G50)<0,0,E50-G50)","v":0},"Riego localizado subterráneo",0.95,{"$f":"$H50/$J$50","v":0},{"$f":"K50","v":0}]
[null,"FEB",null,{"$f":"SUMIFS(ETo!C$2:C$54,ETo!$B$2:$B$54,'RN 02'!$D$5)","v":0},{"$f":"D51*C50","v":0},{"$f":"SUMIFS(P!D$4:D$103,P!$B$4:$B$103,'RN 02'!$R$5)","v":25},{"$f":"IF(F51<75,0.6*F51-10,0.8*F51-25)","v":5},{"$f":"IF((E51-G51)<0,0,E51-G51)","v":0},null,null,{"$f":"$H51/$J$20","v":0},{"$f":"K51","v":0}]
[null,"MAR",null,{"$f":"SUMIFS(ETo!D$2:D$54,ETo!$B$2:$B$54,'RN 02'!$D$5)","v":0},{"$f":"D52*C50","v":0},{"$f":"SUMIFS(P!E$4:E$103,P!$B$4:$B$103,'RN 02'!$R$5)","v":27},6.1999999999999993,0,null,null,0,0]
[null,"ABR",null,{"$f":"SUMIFS(ETo!E$2:E$54,ETo!$B$2:$B$54,'RN 02'!$D$5)","v":0},{"$f":"D53*C50","v":0},{"$f":"SUMIFS(P!F$4:F$103,P!$B$4:$B$103,'RN 02'!$R$5)","v":40},14,0,null,null,0,0]
[null,"MAY",null,{"$f":"SUMIFS(ETo!F$2:F$54,ETo!$B$2:$B$54,'RN 02'!$D$5)","v":0},{"$f":"D54*C50","v":0},{"$f":"SUMIFS(P!G$4:G$103,P!$B$4:$B$103,'RN 02'!$R$5)","v":43},15.8,0,null,null,0,0]
[null,"JUN",null,{"$f":"SUMIFS(ETo!G$2:G$54,ETo!$B$2:$B$54,'RN 02'!$D$5)","v":0},{"$f":"D55*C50","v":0},{"$f":"SUMIFS(P!H$4:H$103,P!$B$4:$B$103,'RN 02'!$R$5)","v":35},11,0,null,null,0,0]
[null,"JUL",null,{"$f":"SUMIFS(ETo!H$2:H$54,ETo!$B$2:$B$54,'RN 02'!$D$5)","v":0},{"$f":"D56*C50","v":0},{"$f":"SUMIFS(P!I$4:I$103,P!$B$4:$B$103,'RN 02'!$R$5)","v":9},-4.6000000000000005,4.6000000000000005,null,null,6.1333333333333337,6.1333333333333337]
[null,"AGO",null,{"$f":"SUMIFS(ETo!I$2:I$54,ETo!$B$2:$B$54,'RN 02'!$D$5)","v":0},{"$f":"D57*C50","v":0},{"$f":"SUMIFS(P!J$4:J$103,P!$B$4:$B$103,'RN 02'!$R$5)","v":11},-3.4000000000000004,3.4000000000000004,null,null,4.5333333333333341,4.5333333333333341]
[null,"SEP",null,{"$f":"SUMIFS(ETo!J$2:J$54,ETo!$B$2:$B$54,'RN 02'!$D$5)","v":0},{"$f":"D58*C50","v":0},{"$f":"SUMIFS(P!K$4:K$103,P!$B$4:$B$103,'RN 02'!$R$5)","v":34},10.399999999999999,0,null,null,0,0]
[null,"OCT",null,{"$f":"SUMIFS(ETo!K$2:K$54,ETo!$B$2:$B$54,'RN 02'!$D$5)","v":0},{"$f":"D59*C50","v":0},{"$f":"SUMIFS(P!L$4:L$103,P!$B$4:$B$103,'RN 02'!$R$5)","v":42},15.2,0,null,null,0,0]
[null,"NOV",null,{"$f":"SUMIFS(ETo!L$2:L$54,ETo!$B$2:$B$54,'RN 02'!$D$5)","v":0},{"$f":"D60*C50","v":0},{"$f":"SUMIFS(P!M$4:M$103,P!$B$4:$B$103,'RN 02'!$R$5)","v":34},10.399999999999999,0,null,null,0,0]
[null,"DIC",null,{"$f":"SUMIFS(ETo!M$2:M$54,ETo!$B$2:$B$54,'RN 02'!$D$5)","v":0},{"$f":"D61*C50","v":0},{"$f":"SUMIFS(P!N$4:N$103,P!$B$4:$B$103,'RN 02'!$R$5)","v":31},8.5999999999999979,0,null,null,0,0]
[null,null,null,null,null,null,null,null,null,null,{"$f":"SUM(K50:K61)","v":10.666666666666668},{"$f":"SUM(L50:L61)","v":10.666666666666668}]

{"sheet":"Nf","index":18,"n_rows":339,"n_cols":32,"rows_kept":339,"cut":false,"hidden":true,"merged":[[314,4,336,4],[314,16,336,16],[258,4,280,4],[258,16,280,16],[284,4,284,17],[286,4,308,4],[286,16,308,16],[312,4,312,17],[256,4,256,17],[146,4,168,4],[146,16,168,16],[172,4,172,17],[174,4,196,4],[174,16,196,16],[200,4,200,17],[202,4,224,4],[202,16,224,16],[228,4,228,17],[230,4,252,4],[230,16,252,16],[144,4,144,17],[34,4,56,4],[34,16,56,16],[60,4,60,17],[62,4,84,4],[62,16,84,16],[88,4,88,17],[90,4,112,4],[90,16,112,16],[116,4,116,17],[118,4,140,4],[118,16,140,16],[32,4,32,17],[1,2,1,18],[2,2,2,18],[4,4,4,17],[6,4,28,4],[6,16,28,16]]}
[]
[null,null,"VERDE HACES Consumo de riego"]
[null,null,"VERDE Residencial v 1.W"]
[null,null,null,null,null,null,null,null,null,null,null,null,null,null,null,null,null,null,null,null,null,null,null,null,"Albacete",null,"ANDALUCIA"]
[null,null,null,null,{"$f":"IF('RN 02'!D7>0,'RN 02'!D7,\"\")","v":""}]
[null,null,null,null,"Kj",null,"Eto (mm)",null,"Etj (mm)",null,"P (mm)",null,"Pe (mm)",null,"N (mm)",null,null,"Nf (l/m2)"]
[null,null,null,"ENE",{"$f":"'RN 02'!D19","v":""},null,{"$f":"SUMIFS(ETo!C$2:C$54,ETo!$B$2:$B$54,'RN 02'!$D$5)","v":0},null,{"$f":"IF(E$7=\"\",\"\",G7*E$7)","v":""},null,{"$f":"SUMIFS(P!C$4:C$103,P!$B$4:$B$103,'RN 02'!$R$5)","v":21},null,{"$f":"IF(K7<75,(0.6*K7-10),(0.8*K7-25))","v":2.5999999999999996},null,{"$f":"IF(I7=\"\",\"\",IF((I7-M7)<0,0,I7-M7))","v":""},null,{"$f":"VLOOKUP('RN 02'!D$21,$W$11:$X$19,2,FALSE)","v":{"$error":"#N/A"}},{"$f":"IF(O7=\"\",0,O7/$Q$7)","v":0},null,null,{"$f":"SUMIFS(P!C$4:C$103,P!$B$4:$B$103,'RN 02'!$R$5)","v":21},{"$f":"SUMIFS(P!D$4:D$103,P!$B$4:$B$103,'RN 02'!$R$5)","v":25},{"$f":"SUMIFS(P!E$4:E$103,P!$B$4:$B$103,'RN 02'!$R$5)","v":27},{"$f":"SUMIFS(P!F$4:F$103,P!$B$4:$B$103,'RN 02'!$R$5)","v":40},{"$f":"SUMIFS(P!G$4:G$103,P!$B$4:$B$103,'RN 02'!$R$5)","v":43},{"$f":"SUMIFS(P!H$4:H$103,P!$B$4:$B$103,'RN 02'!$R$5)","v":35},{"$f":"SUMIFS(P!I$4:I$103,P!$B$4:$B$103,'RN 02'!$R$5)","v":9},{"$f":"SUMIFS(P!J$4:J$103,P!$B$4:$B$103,'RN 02'!$R$5)","v":11},{"$f":"SUMIFS(P!K$4:K$103,P!$B$4:$B$103,'RN 02'!$R$5)","v":34},{"$f":"SUMIFS(P!L$4:L$103,P!$B$4:$B$103,'RN 02'!$R$5)","v":42},{"$f":"SUMIFS(P!M$4:M$103,P!$B$4:$B$103,'RN 02'!$R$5)","v":34},{"$f":"SUMIFS(P!N$4:N$103,P!$B$4:$B$103,'RN 02'!$R$5)","v":31}]
[]
[null,null,null,"FEB",null,null,{"$f":"SUMIFS(ETo!D$2:D$54,ETo!$B$2:$B$54,'RN 02'!$D$5)","v":0},null,{"$f":"IF(E$7=\"\",\"\",G9*E$7)","v":""},null,{"$f":"SUMIFS(P!D$4:D$103,P!$B$4:$B$103,'RN 02'!$R$5)","v":25},null,{"$f":"IF(K9<75,(0.6*K9-10),(0.8*K9-25))","v":5},null,{"$f":"IF(I9=\"\",\"\",IF((I9-M9)<0,0,I9-M9))","v":""},null,null,{"$f":"IF(O9=\"\",0,O9/$Q$7)","v":0}]
[]
[null,null,null,"MAR",null,null,{"$f":"SUMIFS(ETo!E$2:E$54,ETo!$B$2:$B$54,'RN 02'!$D$5)","v":0},null,{"$f":"IF(E$7=\"\",\"\",G11*E$7)","v":""},null,{"$f":"SUMIFS(P!E$4:E$103,P!$B$4:$B$103,'RN 02'!$R$5)","v":27},null,6.1999999999999993,null,{"$f":"IF(I11=\"\",\"\",IF((I11-M11)<0,0,I11-M11))","v":""},null,null,{"$f":"IF(O11=\"\",0,O11/$Q$7)","v":0},null,null,null,null,"Riego localizado subterráneo",0.95]
[]
[null,null,null,"ABR",null,null,{"$f":"SUMIFS(ETo!F$2:F$54,ETo!$B$2:$B$54,'RN 02'!$D$5)","v":0},null,{"$f":"IF(E$7=\"\",\"\",G13*E$7)","v":""},null,{"$f":"SUMIFS(P!F$4:F$103,P!$B$4:$B$103,'RN 02'!$R$5)","v":40},null,14,null,{"$f":"IF(I13=\"\",\"\",IF((I13-M13)<0,0,I13-M13))","v":""},null,null,{"$f":"IF(O13=\"\",0,O13/$Q$7)","v":0},null,null,null,null,"Riego localizado en superficie",0.9]
[]
[null,null,null,"MAY",null,null,{"$f":"SUMIFS(ETo!G$2:G$54,ETo!$B$2:$B$54,'RN 02'!$D$5)","v":0},null,{"$f":"IF(E$7=\"\",\"\",G15*E$7)","v":""},null,{"$f":"SUMIFS(P!G$4:G$103,P!$B$4:$B$103,'RN 02'!$R$5)","v":43},null,15.8,null,{"$f":"IF(I15=\"\",\"\",IF((I15-M15)<0,0,I15-M15))","v":""},null,null,{"$f":"IF(O15=\"\",0,O15/$Q$7)","v":0},null,null,null,null,"Difusores y microaspersores",0.8]
[]
[null,null,null,"JUN",null,null,{"$f":"SUMIFS(ETo!H$2:H$54,ETo!$B$2:$B$54,'RN 02'!$D$5)","v":0},null,{"$f":"IF(E$7=\"\",\"\",G17*E$7)","v":""},null,{"$f":"SUMIFS(P!H$4:H$103,P!$B$4:$B$103,'RN 02'!$R$5)","v":35},null,11,null,{"$f":"IF(I17=\"\",\"\",IF((I17-M17)<0,0,I17-M17))","v":""},null,null,{"$f":"IF(O17=\"\",0,O17/$Q$7)","v":0},null,null,null,null,"Aspersores",0.75]
[]
[null,null,null,"JUL",null,null,{"$f":"SUMIFS(ETo!I$2:I$54,ETo!$B$2:$B$54,'RN 02'!$D$5)","v":0},null,{"$f":"IF(E$7=\"\",\"\",G19*E$7)","v":""},null,{"$f":"SUMIFS(P!I$4:I$103,P!$B$4:$B$103,'RN 02'!$R$5)","v":9},null,-4.6000000000000005,null,{"$f":"IF(I19=\"\",\"\",IF((I19-M19)<0,0,I19-M19))","v":""},null,null,{"$f":"IF(O19=\"\",0,O19/$Q$7)","v":0},null,null,null,null,"Superficie",0.55000000000000004]
[]
[null,null,null,"AGO",null,null,{"$f":"SUMIFS(ETo!J$2:J$54,ETo!$B$2:$B$54,'RN 02'!$D$5)","v":0},null,{"$f":"IF(E$7=\"\",\"\",G21*E$7)","v":""},null,{"$f":"SUMIFS(P!J$4:J$103,P!$B$4:$B$103,'RN 02'!$R$5)","v":11},null,-3.4000000000000004,null,{"$f":"IF(I21=\"\",\"\",IF((I21-M21)<0,0,I21-M21))","v":""},null,null,{"$f":"IF(O21=\"\",0,O21/$Q$7)","v":0}]
[]
[null,null,null,"SEP",null,null,{"$f":"SUMIFS(ETo!K$2:K$54,ETo!$B$2:$B$54,'RN 02'!$D$5)","v":0},null,{"$f":"IF(E$7=\"\",\"\",G23*E$7)","v":""},null,{"$f":"SUMIFS(P!K$4:K$103,P!$B$4:$B$103,'RN 02'!$R$5)","v":34},null,10.399999999999999,null,{"$f":"IF(I23=\"\",\"\",IF((I23-M23)<0,0,I23-M23))","v":""},null,null,{"$f":"IF(O23=\"\",0,O23/$Q$7)","v":0}]
[]
[null,null,null,"OCT",null,null,{"$f":"SUMIFS(ETo!L$2:L$54,ETo!$B$2:$B$54,'RN 02'!$D$5)","v":0},null,{"$f":"IF(E$7=\"\",\"\",G25*E$7)","v":""},null,{"$f":"SUMIFS(P!L$4:L$103,P!$B$4:$B$103,'RN 02'!$R$5)","v":42},null,15.2,null,{"$f":"IF(I25=\"\",\"\",IF((I25-M25)<0,0,I25-M25))","v":""},null,null,{"$f":"IF(O25=\"\",0,O25/$Q$7)","v":0}]
[]
[null,null,null,"NOV",null,null,{"$f":"SUMIFS(ETo!M$2:M$54,ETo!$B$2:$B$54,'RN 02'!$D$5)","v":0},null,{"$f":"IF(E$7=\"\",\"\",G27*E$7)","v":""},null,{"$f":"SUMIFS(P!M$4:M$103,P!$B$4:$B$103,'RN 02'!$R$5)","v":34},null,10.399999999999999,null,{"$f":"IF(I27=\"\",\"\",IF((I27-M27)<0,0,I27-M27))","v":""},null,null,{"$f":"IF(O27=\"\",0,O27/$Q$7)","v":0}]
[]
[null,null,null,"DIC",null,null,{"$f":"SUMIFS(ETo!N$2:N$54,ETo!$B$2:$B$54,'RN 02'!$D$5)","v":0},null,{"$f":"IF(E$7=\"\",\"\",G29*E$7)","v":""},null,{"$f":"SUMIFS(P!N$4:N$103,P!$B$4:$B$103,'RN 02'!$R$5)","v":31},null,8.5999999999999979,null,{"$f":"IF(I29=\"\",\"\",IF((I29-M29)<0,0,I29-M29))","v":""},null,null,{"$f":"IF(O29=\"\",0,O29/$Q$7)","v":0}]
[]
[null,null,null,null,null,null,null,null,null,null,null,null,null,null,null,null,null,{"$f":"SUM(R7:R29)","v":0}]
[]
[null,null,null,null,{"$f":"IF('RN 02'!F7>0,'RN 02'!F7,\"\")","v":""}]
[null,null,null,null,"Kj",null,"Eto (mm)",null,"Etj (mm)",null,"P (mm)",null,"Pe (mm)",null,"N (mm)",null,null,"Nf (mm)"]
[null,null,null,"ENE",{"$f":"'RN 02'!F19","v":""},null,{"$f":"SUMIFS(ETo!C$2:C$54,ETo!$B$2:$B$54,'RN 02'!$D$5)","v":0},null,{"$f":"IF(E$35=\"\",\"\",G35*E$35)","v":""},null,{"$f":"SUMIFS(P!C$4:C$103,P!$B$4:$B$103,'RN 02'!$R$5)","v":21},null,{"$f":"IF(K35<75,(0.6*K35-10),(0.8*K35-25))","v":2.5999999999999996},null,{"$f":"IF(I35=\"\",\"\",IF((I35-M35)<0,0,I35-M35))","v":""},null,{"$f":"VLOOKUP('RN 02'!F$21,$W$11:$X$19,2,FALSE)","v":{"$error":"#N/A"}},{"$f":"IF(O35=\"\",0,O35/$Q$7)","v":0}]
[]
[null,null,null,"FEB",null,null,{"$f":"SUMIFS(ETo!D$2:D$54,ETo!$B$2:$B$54,'RN 02'!$D$5)","v":0},null,{"$f":"IF(E$35=\"\",\"\",G37*E$35)","v":""},null,{"$f":"SUMIFS(P!D$4:D$103,P!$B$4:$B$103,'RN 02'!$R$5)","v":25},null,{"$f":"IF(K37<75,0.6*K37-10,0.8*K37-25)","v":5},null,{"$f":"IF(I37=\"\",\"\",IF((I37-M37)<0,0,I37-M37))","v":""},null,null,{"$f":"IF(O37=\"\",0,O37/$Q$7)","v":0}]
[]
[null,null,null,"MAR",null,null,{"$f":"SUMIFS(ETo!E$2:E$54,ETo!$B$2:$B$54,'RN 02'!$D$5)","v":0},null,{"$f":"IF(E$35=\"\",\"\",G39*E$35)","v":""},null,{"$f":"SUMIFS(P!E$4:E$103,P!$B$4:$B$103,'RN 02'!$R$5)","v":27},null,6.1999999999999993,null,{"$f":"IF(I39=\"\",\"\",IF((I39-M39)<0,0,I39-M39))","v":""},null,null,{"$f":"IF(O39=\"\",0,O39/$Q$7)","v":0},null,null,null,null,"Riego localizado subterráneo",0.95]
[]
[null,null,null,"ABR",null,null,{"$f":"SUMIFS(ETo!F$2:F$54,ETo!$B$2:$B$54,'RN 02'!$D$5)","v":0},null,{"$f":"IF(E$35=\"\",\"\",G41*E$35)","v":""},null,{"$f":"SUMIFS(P!F$4:F$103,P!$B$4:$B$103,'RN 02'!$R$5)","v":40},null,14,null,{"$f":"IF(I41=\"\",\"\",IF((I41-M41)<0,0,I41-M41))","v":""},null,null,{"$f":"IF(O41=\"\",0,O41/$Q$7)","v":0},null,null,null,null,"Riego localizado en superficie",0.9]
[]
[null,null,null,"MAY",null,null,{"$f":"SUMIFS(ETo!G$2:G$54,ETo!$B$2:$B$54,'RN 02'!$D$5)","v":0},null,{"$f":"IF(E$35=\"\",\"\",G43*E$35)","v":""},null,{"$f":"SUMIFS(P!G$4:G$103,P!$B$4:$B$103,'RN 02'!$R$5)","v":43},null,15.8,null,{"$f":"IF(I43=\"\",\"\",IF((I43-M43)<0,0,I43-M43))","v":""},null,null,{"$f":"IF(O43=\"\",0,O43/$Q$7)","v":0},null,null,null,null,"Difusores y microaspersores",0.8]
[]
[null,null,null,"JUN",null,null,{"$f":"SUMIFS(ETo!H$2:H$54,ETo!$B$2:$B$54,'RN 02'!$D$5)","v":0},null,{"$f":"IF(E$35=\"\",\"\",G45*E$35)","v":""},null,{"$f":"SUMIFS(P!H$4:H$103,P!$B$4:$B$103,'RN 02'!$R$5)","v":35},null,11,null,{"$f":"IF(I45=\"\",\"\",IF((I45-M45)<0,0,I45-M45))","v":""},null,null,{"$f":"IF(O45=\"\",0,O45/$Q$7)","v":0},null,null,null,null,"Aspersores",0.75]
[]
[null,null,null,"JUL",null,null,{"$f":"SUMIFS(ETo!I$2:I$54,ETo!$B$2:$B$54,'RN 02'!$D$5)","v":0},null,{"$f":"IF(E$35=\"\",\"\",G47*E$35)","v":""},null,{"$f":"SUMIFS(P!I$4:I$103,P!$B$4:$B$103,'RN 02'!$R$5)","v":9},null,-4.6000000000000005,null,{"$f":"IF(I47=\"\",\"\",IF((I47-M47)<0,0,I47-M47))","v":""},null,null,{"$f":"IF(O47=\"\",0,O47/$Q$7)","v":0},null,null,null,null,"Superficie",0.55000000000000004]
[]
[null,null,null,"AGO",null,null,{"$f":"SUMIFS(ETo!J$2:J$54,ETo!$B$2:$B$54,'RN 02'!$D$5)","v":0},null,{"$f":"IF(E$35=\"\",\"\",G49*E$35)","v":""},null,{"$f":"SUMIFS(P!J$4:J$103,P!$B$4:$B$103,'RN 02'!$R$5)","v":11},null,-3.4000000000000004,null,{"$f":"IF(I49=\"\",\"\",IF((I49-M49)<0,0,I49-M49))","v":""},null,null,{"$f":"IF(O49=\"\",0,O49/$Q$7)","v":0}]
[]
[null,null,null,"SEP",null,null,{"$f":"SUMIFS(ETo!K$2:K$54,ETo!$B$2:$B$54,'RN 02'!$D$5)","v":0},null,{"$f":"IF(E$35=\"\",\"\",G51*E$35)","v":""},null,{"$f":"SUMIFS(P!K$4:K$103,P!$B$4:$B$103,'RN 02'!$R$5)","v":34},null,10.399999999999999,null,{"$f":"IF(I51=\"\",\"\",IF((I51-M51)<0,0,I51-M51))","v":""},null,null,{"$f":"IF(O51=\"\",0,O51/$Q$7)","v":0}]
[]
[null,null,null,"OCT",null,null,{"$f":"SUMIFS(ETo!L$2:L$54,ETo!$B$2:$B$54,'RN 02'!$D$5)","v":0},null,{"$f":"IF(E$35=\"\",\"\",G53*E$35)","v":""},null,{"$f":"SUMIFS(P!L$4:L$103,P!$B$4:$B$103,'RN 02'!$R$5)","v":42},null,15.2,null,{"$f":"IF(I53=\"\",\"\",IF((I53-M53)<0,0,I53-M53))","v":""},null,null,{"$f":"IF(O53=\"\",0,O53/$Q$7)","v":0}]
[]
[null,null,null,"NOV",null,null,{"$f":"SUMIFS(ETo!M$2:M$54,ETo!$B$2:$B$54,'RN 02'!$D$5)","v":0},null,{"$f":"IF(E$35=\"\",\"\",G55*E$35)","v":""},null,{"$f":"SUMIFS(P!M$4:M$103,P!$B$4:$B$103,'RN 02'!$R$5)","v":34},null,10.399999999999999,null,{"$f":"IF(I55=\"\",\"\",IF((I55-M55)<0,0,I55-M55))","v":""},null,null,{"$f":"IF(O55=\"\",0,O55/$Q$7)","v":0}]
[]
[null,null,null,"DIC",null,null,{"$f":"SUMIFS(ETo!N$2:N$54,ETo!$B$2:$B$54,'RN 02'!$D$5)","v":0},null,{"$f":"IF(E$35=\"\",\"\",G57*E$35)","v":""},null,{"$f":"SUMIFS(P!N$4:N$103,P!$B$4:$B$103,'RN 02'!$R$5)","v":31},null,8.5999999999999979,null,{"$f":"IF(I57=\"\",\"\",IF((I57-M57)<0,0,I57-M57))","v":""},null,null,{"$f":"IF(O57=\"\",0,O57/$Q$7)","v":0}]
[]
[null,null,null,null,null,null,null,null,null,null,null,null,null,null,null,null,null,{"$f":"SUM(R35:R57)","v":0}]
[]
[null,null,null,null,{"$f":"IF('RN 02'!H7>0,'RN 02'!H7,\"\")","v":""}]
[null,null,null,null,"Kj",null,"Eto (mm)",null,"Etj (mm)",null,"P (mm)",null,"Pe (mm)",null,"N (mm)",null,null,"Nf (mm)"]
[null,null,null,"ENE",{"$f":"'RN 02'!H19","v":""},null,{"$f":"SUMIFS(ETo!C$2:C$54,ETo!$B$2:$B$54,'RN 02'!$D$5)","v":0},null,{"$f":"IF(E$63=\"\",\"\",G63*E$63)","v":""},null,{"$f":"SUMIFS(P!C$4:C$103,P!$B$4:$B$103,'RN 02'!$R$5)","v":21},null,{"$f":"IF(K63<75,(0.6*K63-10),(0.8*K63-25))","v":2.5999999999999996},null,{"$f":"IF(I63=\"\",\"\",IF((I63-M63)<0,0,I63-M63))","v":""},null,{"$f":"VLOOKUP('RN 02'!H$21,$W$11:$X$19,2,FALSE)","v":{"$error":"#N/A"}},{"$f":"IF(O63=\"\",0,O63/$Q$7)","v":0}]
[]
[null,null,null,"FEB",null,null,{"$f":"SUMIFS(ETo!D$2:D$54,ETo!$B$2:$B$54,'RN 02'!$D$5)","v":0},null,{"$f":"IF(E$63=\"\",\"\",G65*E$63)","v":""},null,{"$f":"SUMIFS(P!D$4:D$103,P!$B$4:$B$103,'RN 02'!$R$5)","v":25},null,{"$f":"IF(K65<75,0.6*K65-10,0.8*K65-25)","v":5},null,{"$f":"IF(I65=\"\",\"\",IF((I65-M65)<0,0,I65-M65))","v":""},null,null,{"$f":"IF(O65=\"\",0,O65/$Q$7)","v":0}]
[]
[null,null,null,"MAR",null,null,{"$f":"SUMIFS(ETo!E$2:E$54,ETo!$B$2:$B$54,'RN 02'!$D$5)","v":0},null,{"$f":"IF(E$63=\"\",\"\",G67*E$63)","v":""},null,{"$f":"SUMIFS(P!E$4:E$103,P!$B$4:$B$103,'RN 02'!$R$5)","v":27},null,6.1999999999999993,null,{"$f":"IF(I67=\"\",\"\",IF((I67-M67)<0,0,I67-M67))","v":""},null,null,{"$f":"IF(O67=\"\",0,O67/$Q$7)","v":0},null,null,null,null,"Riego localizado subterráneo",0.95]
[]
[null,null,null,"ABR",null,null,{"$f":"SUMIFS(ETo!F$2:F$54,ETo!$B$2:$B$54,'RN 02'!$D$5)","v":0},null,{"$f":"IF(E$63=\"\",\"\",G69*E$63)","v":""},null,{"$f":"SUMIFS(P!F$4:F$103,P!$B$4:$B$103,'RN 02'!$R$5)","v":40},null,14,null,{"$f":"IF(I69=\"\",\"\",IF((I69-M69)<0,0,I69-M69))","v":""},null,null,{"$f":"IF(O69=\"\",0,O69/$Q$7)","v":0},null,null,null,null,"Riego localizado en superficie",0.9]
[]
[null,null,null,"MAY",null,null,{"$f":"SUMIFS(ETo!G$2:G$54,ETo!$B$2:$B$54,'RN 02'!$D$5)","v":0},null,{"$f":"IF(E$63=\"\",\"\",G71*E$63)","v":""},null,{"$f":"SUMIFS(P!G$4:G$103,P!$B$4:$B$103,'RN 02'!$R$5)","v":43},null,15.8,null,{"$f":"IF(I71=\"\",\"\",IF((I71-M71)<0,0,I71-M71))","v":""},null,null,{"$f":"IF(O71=\"\",0,O71/$Q$7)","v":0},null,null,null,null,"Difusores y microaspersores",0.8]
[]
[null,null,null,"JUN",null,null,{"$f":"SUMIFS(ETo!H$2:H$54,ETo!$B$2:$B$54,'RN 02'!$D$5)","v":0},null,{"$f":"IF(E$63=\"\",\"\",G73*E$63)","v":""},null,{"$f":"SUMIFS(P!H$4:H$103,P!$B$4:$B$103,'RN 02'!$R$5)","v":35},null,11,null,{"$f":"IF(I73=\"\",\"\",IF((I73-M73)<0,0,I73-M73))","v":""},null,null,{"$f":"IF(O73=\"\",0,O73/$Q$7)","v":0},null,null,null,null,"Aspersores",0.75]
[]
[null,null,null,"JUL",null,null,{"$f":"SUMIFS(ETo!I$2:I$54,ETo!$B$2:$B$54,'RN 02'!$D$5)","v":0},null,{"$f":"IF(E$63=\"\",\"\",G75*E$63)","v":""},null,{"$f":"SUMIFS(P!I$4:I$103,P!$B$4:$B$103,'RN 02'!$R$5)","v":9},null,-4.6000000000000005,null,{"$f":"IF(I75=\"\",\"\",IF((I75-M75)<0,0,I75-M75))","v":""},null,null,{"$f":"IF(O75=\"\",0,O75/$Q$7)","v":0},null,null,null,null,"Superficie",0.55000000000000004]
[]
[null,null,null,"AGO",null,null,{"$f":"SUMIFS(ETo!J$2:J$54,ETo!$B$2:$B$54,'RN 02'!$D$5)","v":0},null,{"$f":"IF(E$63=\"\",\"\",G77*E$63)","v":""},null,{"$f":"SUMIFS(P!J$4:J$103,P!$B$4:$B$103,'RN 02'!$R$5)","v":11},null,-3.4000000000000004,null,{"$f":"IF(I77=\"\",\"\",IF((I77-M77)<0,0,I77-M77))","v":""},null,null,{"$f":"IF(O77=\"\",0,O77/$Q$7)","v":0}]
[]
[null,null,null,"SEP",null,null,{"$f":"SUMIFS(ETo!K$2:K$54,ETo!$B$2:$B$54,'RN 02'!$D$5)","v":0},null,{"$f":"IF(E$63=\"\",\"\",G79*E$63)","v":""},null,{"$f":"SUMIFS(P!K$4:K$103,P!$B$4:$B$103,'RN 02'!$R$5)","v":34},null,10.399999999999999,null,{"$f":"IF(I79=\"\",\"\",IF((I79-M79)<0,0,I79-M79))","v":""},null,null,{"$f":"IF(O79=\"\",0,O79/$Q$7)","v":0}]
[]
[null,null,null,"OCT",null,null,{"$f":"SUMIFS(ETo!L$2:L$54,ETo!$B$2:$B$54,'RN 02'!$D$5)","v":0},null,{"$f":"IF(E$63=\"\",\"\",G81*E$63)","v":""},null,{"$f":"SUMIFS(P!L$4:L$103,P!$B$4:$B$103,'RN 02'!$R$5)","v":42},null,15.2,null,{"$f":"IF(I81=\"\",\"\",IF((I81-M81)<0,0,I81-M81))","v":""},null,null,{"$f":"IF(O81=\"\",0,O81/$Q$7)","v":0}]
[]
[null,null,null,"NOV",null,null,{"$f":"SUMIFS(ETo!M$2:M$54,ETo!$B$2:$B$54,'RN 02'!$D$5)","v":0},null,{"$f":"IF(E$63=\"\",\"\",G83*E$63)","v":""},null,{"$f":"SUMIFS(P!M$4:M$103,P!$B$4:$B$103,'RN 02'!$R$5)","v":34},null,10.399999999999999,null,{"$f":"IF(I83=\"\",\"\",IF((I83-M83)<0,0,I83-M83))","v":""},null,null,{"$f":"IF(O83=\"\",0,O83/$Q$7)","v":0}]
[]
[null,null,null,"DIC",null,null,{"$f":"SUMIFS(ETo!N$2:N$54,ETo!$B$2:$B$54,'RN 02'!$D$5)","v":0},null,{"$f":"IF(E$63=\"\",\"\",G85*E$63)","v":""},null,{"$f":"SUMIFS(P!N$4:N$103,P!$B$4:$B$103,'RN 02'!$R$5)","v":31},null,8.5999999999999979,null,{"$f":"IF(I85=\"\",\"\",IF((I85-M85)<0,0,I85-M85))","v":""},null,null,{"$f":"IF(O85=\"\",0,O85/$Q$7)","v":0}]
[]
[null,null,null,null,null,null,null,null,null,null,null,null,null,null,null,null,null,{"$f":"SUM(R63:R85)","v":0}]
[]
[null,null,null,null,{"$f":"IF('RN 02'!J7>0,'RN 02'!J7,\"\")","v":""}]
[null,null,null,null,"Kj",null,"Eto (mm)",null,"Etj (mm)",null,"P (mm)",null,"Pe (mm)",null,"N (mm)",null,null,"Nf (mm)"]
[null,null,null,"ENE",{"$f":"'RN 02'!J19","v":""},null,{"$f":"SUMIFS(ETo!C$2:C$54,ETo!$B$2:$B$54,'RN 02'!$D$5)","v":0},null,{"$f":"IF(E$91=\"\",\"\",G91*E$91)","v":""},null,{"$f":"SUMIFS(P!C$4:C$103,P!$B$4:$B$103,'RN 02'!$R$5)","v":21},null,{"$f":"IF(K91<75,(0.6*K91-10),(0.8*K91-25))","v":2.5999999999999996},null,{"$f":"IF(I91=\"\",\"\",IF((I91-M91)<0,0,I91-M91))","v":""},null,{"$f":"VLOOKUP('RN 02'!J$21,$W$11:$X$19,2,FALSE)","v":{"$error":"#N/A"}},{"$f":"IF(O91=\"\",0,O91/$Q$7)","v":0}]
[]
[null,null,null,"FEB",null,null,{"$f":"SUMIFS(ETo!D$2:D$54,ETo!$B$2:$B$54,'RN 02'!$D$5)","v":0},null,{"$f":"IF(E$91=\"\",\"\",G93*E$91)","v":""},null,{"$f":"SUMIFS(P!D$4:D$103,P!$B$4:$B$103,'RN 02'!$R$5)","v":25},null,{"$f":"IF(K93<75,0.6*K93-10,0.8*K93-25)","v":5},null,{"$f":"IF(I93=\"\",\"\",IF((I93-M93)<0,0,I93-M93))","v":""},null,null,{"$f":"IF(O93=\"\",0,O93/$Q$7)","v":0}]
[]
[null,null,null,"MAR",null,null,{"$f":"SUMIFS(ETo!E$2:E$54,ETo!$B$2:$B$54,'RN 02'!$D$5)","v":0},null,{"$f":"IF(E$91=\"\",\"\",G95*E$91)","v":""},null,{"$f":"SUMIFS(P!E$4:E$103,P!$B$4:$B$103,'RN 02'!$R$5)","v":27},null,6.1999999999999993,null,{"$f":"IF(I95=\"\",\"\",IF((I95-M95)<0,0,I95-M95))","v":""},null,null,{"$f":"IF(O95=\"\",0,O95/$Q$7)","v":0},null,null,null,null,"Riego localizado subterráneo",0.95]
[]
[null,null,null,"ABR",null,null,{"$f":"SUMIFS(ETo!F$2:F$54,ETo!$B$2:$B$54,'RN 02'!$D$5)","v":0},null,{"$f":"IF(E$91=\"\",\"\",G97*E$91)","v":""},null,{"$f":"SUMIFS(P!F$4:F$103,P!$B$4:$B$103,'RN 02'!$R$5)","v":40},null,14,null,{"$f":"IF(I97=\"\",\"\",IF((I97-M97)<0,0,I97-M97))","v":""},null,null,{"$f":"IF(O97=\"\",0,O97/$Q$7)","v":0},null,null,null,null,"Riego localizado en superficie",0.9]
[]
[null,null,null,"MAY",null,null,{"$f":"SUMIFS(ETo!G$2:G$54,ETo!$B$2:$B$54,'RN 02'!$D$5)","v":0},null,{"$f":"IF(E$91=\"\",\"\",G99*E$91)","v":""},null,{"$f":"SUMIFS(P!G$4:G$103,P!$B$4:$B$103,'RN 02'!$R$5)","v":43},null,15.8,null,{"$f":"IF(I99=\"\",\"\",IF((I99-M99)<0,0,I99-M99))","v":""},null,null,{"$f":"IF(O99=\"\",0,O99/$Q$7)","v":0},null,null,null,null,"Difusores y microaspersores",0.8]
[]
[null,null,null,"JUN",null,null,{"$f":"SUMIFS(ETo!H$2:H$54,ETo!$B$2:$B$54,'RN 02'!$D$5)","v":0},null,{"$f":"IF(E$91=\"\",\"\",G101*E$91)","v":""},null,{"$f":"SUMIFS(P!H$4:H$103,P!$B$4:$B$103,'RN 02'!$R$5)","v":35},null,11,null,{"$f":"IF(I101=\"\",\"\",IF((I101-M101)<0,0,I101-M101))","v":""},null,null,{"$f":"IF(O101=\"\",0,O101/$Q$7)","v":0},null,null,null,null,"Aspersores",0.75]
[]
[null,null,null,"JUL",null,null,{"$f":"SUMIFS(ETo!I$2:I$54,ETo!$B$2:$B$54,'RN 02'!$D$5)","v":0},null,{"$f":"IF(E$91=\"\",\"\",G103*E$91)","v":""},null,{"$f":"SUMIFS(P!I$4:I$103,P!$B$4:$B$103,'RN 02'!$R$5)","v":9},null,-4.6000000000000005,null,{"$f":"IF(I103=\"\",\"\",IF((I103-M103)<0,0,I103-M103))","v":""},null,null,{"$f":"IF(O103=\"\",0,O103/$Q$7)","v":0},null,null,null,null,"Superficie",0.55000000000000004]
[]
[null,null,null,"AGO",null,null,{"$f":"SUMIFS(ETo!J$2:J$54,ETo!$B$2:$B$54,'RN 02'!$D$5)","v":0},null,{"$f":"IF(E$91=\"\",\"\",G105*E$91)","v":""},null,{"$f":"SUMIFS(P!J$4:J$103,P!$B$4:$B$103,'RN 02'!$R$5)","v":11},null,-3.4000000000000004,null,{"$f":"IF(I105=\"\",\"\",IF((I105-M105)<0,0,I105-M105))","v":""},null,null,{"$f":"IF(O105=\"\",0,O105/$Q$7)","v":0}]
[]
[null,null,null,"SEP",null,null,{"$f":"SUMIFS(ETo!K$2:K$54,ETo!$B$2:$B$54,'RN 02'!$D$5)","v":0},null,{"$f":"IF(E$91=\"\",\"\",G107*E$91)","v":""},null,{"$f":"SUMIFS(P!K$4:K$103,P!$B$4:$B$103,'RN 02'!$R$5)","v":34},null,10.399999999999999,null,{"$f":"IF(I107=\"\",\"\",IF((I107-M107)<0,0,I107-M107))","v":""},null,null,{"$f":"IF(O107=\"\",0,O107/$Q$7)","v":0}]
[]
[null,null,null,"OCT",null,null,{"$f":"SUMIFS(ETo!L$2:L$54,ETo!$B$2:$B$54,'RN 02'!$D$5)","v":0},null,{"$f":"IF(E$91=\"\",\"\",G109*E$91)","v":""},null,{"$f":"SUMIFS(P!L$4:L$103,P!$B$4:$B$103,'RN 02'!$R$5)","v":42},null,15.2,null,{"$f":"IF(I109=\"\",\"\",IF((I109-M109)<0,0,I109-M109))","v":""},null,null,{"$f":"IF(O109=\"\",0,O109/$Q$7)","v":0}]
[]
[null,null,null,"NOV",null,null,{"$f":"SUMIFS(ETo!M$2:M$54,ETo!$B$2:$B$54,'RN 02'!$D$5)","v":0},null,{"$f":"IF(E$91=\"\",\"\",G111*E$91)","v":""},null,{"$f":"SUMIFS(P!M$4:M$103,P!$B$4:$B$103,'RN 02'!$R$5)","v":34},null,10.399999999999999,null,{"$f":"IF(I111=\"\",\"\",IF((I111-M111)<0,0,I111-M111))","v":""},null,null,{"$f":"IF(O111=\"\",0,O111/$Q$7)","v":0}]
[]
[null,null,null,"DIC",null,null,{"$f":"SUMIFS(ETo!N$2:N$54,ETo!$B$2:$B$54,'RN 02'!$D$5)","v":0},null,{"$f":"IF(E$91=\"\",\"\",G113*E$91)","v":""},null,{"$f":"SUMIFS(P!N$4:N$103,P!$B$4:$B$103,'RN 02'!$R$5)","v":31},null,8.5999999999999979,null,{"$f":"IF(I113=\"\",\"\",IF((I113-M113)<0,0,I113-M113))","v":""},null,null,{"$f":"IF(O113=\"\",0,O113/$Q$7)","v":0}]
[]
[null,null,null,null,null,null,null,null,null,null,null,null,null,null,null,null,null,{"$f":"SUM(R91:R113)","v":0}]
[]
[null,null,null,null,{"$f":"IF('RN 02'!L7>0,'RN 02'!L7,\"\")","v":""}]
[null,null,null,null,"Kj",null,"Eto (mm)",null,"Etj (mm)",null,"P (mm)",null,"Pe (mm)",null,"N (mm)",null,null,"Nf (mm)"]
[null,null,null,"ENE",{"$f":"'RN 02'!L19","v":""},null,{"$f":"SUMIFS(ETo!C$2:C$54,ETo!$B$2:$B$54,'RN 02'!$D$5)","v":0},null,{"$f":"IF(E$119=\"\",\"\",G119*E$119)","v":""},null,{"$f":"SUMIFS(P!C$4:C$103,P!$B$4:$B$103,'RN 02'!$R$5)","v":21},null,{"$f":"IF(K119<75,0.6*K119-10,0.8*K119-25)","v":2.5999999999999996},null,{"$f":"IF(I119=\"\",\"\",IF((I119-M119)<0,0,I119-M119))","v":""},null,{"$f":"VLOOKUP('RN 02'!L$21,$W$11:$X$19,2,FALSE)","v":{"$error":"#N/A"}},{"$f":"IF(O119=\"\",0,O119/$Q$7)","v":0}]
[]
[null,null,null,"FEB",null,null,{"$f":"SUMIFS(ETo!D$2:D$54,ETo!$B$2:$B$54,'RN 02'!$D$5)","v":0},null,{"$f":"IF(E$119=\"\",\"\",G121*E$119)","v":""},null,{"$f":"SUMIFS(P!D$4:D$103,P!$B$4:$B$103,'RN 02'!$R$5)","v":25},null,5,null,{"$f":"IF(I121=\"\",\"\",IF((I121-M121)<0,0,I121-M121))","v":""},null,null,{"$f":"IF(O121=\"\",0,O121/$Q$7)","v":0}]
[]
[null,null,null,"MAR",null,null,{"$f":"SUMIFS(ETo!E$2:E$54,ETo!$B$2:$B$54,'RN 02'!$D$5)","v":0},null,{"$f":"IF(E$119=\"\",\"\",G123*E$119)","v":""},null,{"$f":"SUMIFS(P!E$4:E$103,P!$B$4:$B$103,'RN 02'!$R$5)","v":27},null,6.1999999999999993,null,{"$f":"IF(I123=\"\",\"\",IF((I123-M123)<0,0,I123-M123))","v":""},null,null,{"$f":"IF(O123=\"\",0,O123/$Q$7)","v":0},null,null,null,null,"Riego localizado subterráneo",0.95]
[]
[null,null,null,"ABR",null,null,{"$f":"SUMIFS(ETo!F$2:F$54,ETo!$B$2:$B$54,'RN 02'!$D$5)","v":0},null,{"$f":"IF(E$119=\"\",\"\",G125*E$119)","v":""},null,{"$f":"SUMIFS(P!F$4:F$103,P!$B$4:$B$103,'RN 02'!$R$5)","v":40},null,14,null,{"$f":"IF(I125=\"\",\"\",IF((I125-M125)<0,0,I125-M125))","v":""},null,null,{"$f":"IF(O125=\"\",0,O125/$Q$7)","v":0},null,null,null,null,"Riego localizado en superficie",0.9]
[]
[null,null,null,"MAY",null,null,{"$f":"SUMIFS(ETo!G$2:G$54,ETo!$B$2:$B$54,'RN 02'!$D$5)","v":0},null,{"$f":"IF(E$119=\"\",\"\",G127*E$119)","v":""},null,{"$f":"SUMIFS(P!G$4:G$103,P!$B$4:$B$103,'RN 02'!$R$5)","v":43},null,15.8,null,{"$f":"IF(I127=\"\",\"\",IF((I127-M127)<0,0,I127-M127))","v":""},null,null,{"$f":"IF(O127=\"\",0,O127/$Q$7)","v":0},null,null,null,null,"Difusores y microaspersores",0.8]
[]
[null,null,null,"JUN",null,null,{"$f":"SUMIFS(ETo!H$2:H$54,ETo!$B$2:$B$54,'RN 02'!$D$5)","v":0},null,{"$f":"IF(E$119=\"\",\"\",G129*E$119)","v":""},null,{"$f":"SUMIFS(P!H$4:H$103,P!$B$4:$B$103,'RN 02'!$R$5)","v":35},null,11,null,{"$f":"IF(I129=\"\",\"\",IF((I129-M129)<0,0,I129-M129))","v":""},null,null,{"$f":"IF(O129=\"\",0,O129/$Q$7)","v":0},null,null,null,null,"Aspersores",0.75]
[]
[null,null,null,"JUL",null,null,{"$f":"SUMIFS(ETo!I$2:I$54,ETo!$B$2:$B$54,'RN 02'!$D$5)","v":0},null,{"$f":"IF(E$119=\"\",\"\",G131*E$119)","v":""},null,{"$f":"SUMIFS(P!I$4:I$103,P!$B$4:$B$103,'RN 02'!$R$5)","v":9},null,-4.6000000000000005,null,{"$f":"IF(I131=\"\",\"\",IF((I131-M131)<0,0,I131-M131))","v":""},null,null,{"$f":"IF(O131=\"\",0,O131/$Q$7)","v":0},null,null,null,null,"Superficie",0.55000000000000004]
[]
[null,null,null,"AGO",null,null,{"$f":"SUMIFS(ETo!J$2:J$54,ETo!$B$2:$B$54,'RN 02'!$D$5)","v":0},null,{"$f":"IF(E$119=\"\",\"\",G133*E$119)","v":""},null,{"$f":"SUMIFS(P!J$4:J$103,P!$B$4:$B$103,'RN 02'!$R$5)","v":11},null,-3.4000000000000004,null,{"$f":"IF(I133=\"\",\"\",IF((I133-M133)<0,0,I133-M133))","v":""},null,null,{"$f":"IF(O133=\"\",0,O133/$Q$7)","v":0}]
[]
[null,null,null,"SEP",null,null,{"$f":"SUMIFS(ETo!K$2:K$54,ETo!$B$2:$B$54,'RN 02'!$D$5)","v":0},null,{"$f":"IF(E$119=\"\",\"\",G135*E$119)","v":""},null,{"$f":"SUMIFS(P!K$4:K$103,P!$B$4:$B$103,'RN 02'!$R$5)","v":34},null,10.399999999999999,null,{"$f":"IF(I135=\"\",\"\",IF((I135-M135)<0,0,I135-M135))","v":""},null,null,{"$f":"IF(O135=\"\",0,O135/$Q$7)","v":0}]
[]
[null,null,null,"OCT",null,null,{"$f":"SUMIFS(ETo!L$2:L$54,ETo!$B$2:$B$54,'RN 02'!$D$5)","v":0},null,{"$f":"IF(E$119=\"\",\"\",G137*E$119)","v":""},null,{"$f":"SUMIFS(P!L$4:L$103,P!$B$4:$B$103,'RN 02'!$R$5)","v":42},null,15.2,null,{"$f":"IF(I137=\"\",\"\",IF((I137-M137)<0,0,I137-M137))","v":""},null,null,{"$f":"IF(O137=\"\",0,O137/$Q$7)","v":0}]
[]
[null,null,null,"NOV",null,null,{"$f":"SUMIFS(ETo!M$2:M$54,ETo!$B$2:$B$54,'RN 02'!$D$5)","v":0},null,{"$f":"IF(E$119=\"\",\"\",G139*E$119)","v":""},null,{"$f":"SUMIFS(P!M$4:M$103,P!$B$4:$B$103,'RN 02'!$R$5)","v":34},null,10.399999999999999,null,{"$f":"IF(I139=\"\",\"\",IF((I139-M139)<0,0,I139-M139))","v":""},null,null,{"$f":"IF(O139=\"\",0,O139/$Q$7)","v":0}]
[]
[null,null,null,"DIC",null,null,{"$f":"SUMIFS(ETo!N$2:N$54,ETo!$B$2:$B$54,'RN 02'!$D$5)","v":0},null,{"$f":"IF(E$119=\"\",\"\",G141*E$119)","v":""},null,{"$f":"SUMIFS(P!N$4:N$103,P!$B$4:$B$103,'RN 02'!$R$5)","v":31},null,{"$f":"IF(K141<75,0.6*K141-10,0.8*K141-25)","v":8.5999999999999979},null,{"$f":"IF(I141=\"\",\"\",IF((I141-M141)<0,0,I141-M141))","v":""},null,null,{"$f":"IF(O141=\"\",0,O141/$Q$7)","v":0}]
[]
[null,null,null,null,null,null,null,null,null,null,null,null,null,null,null,null,null,{"$f":"SUM(R119:R141)","v":0}]
[]
[null,null,null,null,{"$f":"IF('RN 02'!N7>0,'RN 02'!N7,\"\")","v":""}]
[null,null,null,null,"Kj",null,"Eto (mm)",null,"Etj (mm)",null,"P (mm)",null,"Pe (mm)",null,"N (mm)",null,null,"Nf (mm)"]
[null,null,null,"ENE",{"$f":"'RN 02'!N19","v":""},null,{"$f":"SUMIFS(ETo!C$2:C$54,ETo!$B$2:$B$54,'RN 02'!$D$5)","v":0},null,{"$f":"IF(E$147=\"\",\"\",G147*E$147)","v":""},null,{"$f":"SUMIFS(P!C$4:C$103,P!$B$4:$B$103,'RN 02'!$R$5)","v":21},null,{"$f":"IF(K147<75,(0.6*K147-10),(0.8*K147-25))","v":2.5999999999999996},null,{"$f":"IF(I147=\"\",\"\",IF((I147-M147)<0,0,I147-M147))","v":""},null,{"$f":"VLOOKUP('RN 02'!N$21,$W$11:$X$19,2,FALSE)","v":{"$error":"#N/A"}},{"$f":"IF(O147=\"\",0,O147/$Q$7)","v":0}]
[]
[null,null,null,"FEB",null,null,{"$f":"SUMIFS(ETo!D$2:D$54,ETo!$B$2:$B$54,'RN 02'!$D$5)","v":0},null,{"$f":"IF(E$147=\"\",\"\",G149*E$147)","v":""},null,{"$f":"SUMIFS(P!D$4:D$103,P!$B$4:$B$103,'RN 02'!$R$5)","v":25},null,{"$f":"IF(K149<75,0.6*K149-10,0.8*K149-25)","v":5},null,{"$f":"IF(I149=\"\",\"\",IF((I149-M149)<0,0,I149-M149))","v":""},null,null,{"$f":"IF(O149=\"\",0,O149/$Q$7)","v":0}]
[]
[null,null,null,"MAR",null,null,{"$f":"SUMIFS(ETo!E$2:E$54,ETo!$B$2:$B$54,'RN 02'!$D$5)","v":0},null,{"$f":"IF(E$147=\"\",\"\",G151*E$147)","v":""},null,{"$f":"SUMIFS(P!E$4:E$103,P!$B$4:$B$103,'RN 02'!$R$5)","v":27},null,6.1999999999999993,null,{"$f":"IF(I151=\"\",\"\",IF((I151-M151)<0,0,I151-M151))","v":""},null,null,{"$f":"IF(O151=\"\",0,O151/$Q$7)","v":0},null,null,null,null,"Riego localizado subterráneo",0.95]
[]
[null,null,null,"ABR",null,null,{"$f":"SUMIFS(ETo!F$2:F$54,ETo!$B$2:$B$54,'RN 02'!$D$5)","v":0},null,{"$f":"IF(E$147=\"\",\"\",G153*E$147)","v":""},null,{"$f":"SUMIFS(P!F$4:F$103,P!$B$4:$B$103,'RN 02'!$R$5)","v":40},null,14,null,{"$f":"IF(I153=\"\",\"\",IF((I153-M153)<0,0,I153-M153))","v":""},null,null,{"$f":"IF(O153=\"\",0,O153/$Q$7)","v":0},null,null,null,null,"Riego localizado en superficie",0.9]
[]
[null,null,null,"MAY",null,null,{"$f":"SUMIFS(ETo!G$2:G$54,ETo!$B$2:$B$54,'RN 02'!$D$5)","v":0},null,{"$f":"IF(E$147=\"\",\"\",G155*E$147)","v":""},null,{"$f":"SUMIFS(P!G$4:G$103,P!$B$4:$B$103,'RN 02'!$R$5)","v":43},null,15.8,null,{"$f":"IF(I155=\"\",\"\",IF((I155-M155)<0,0,I155-M155))","v":""},null,null,{"$f":"IF(O155=\"\",0,O155/$Q$7)","v":0},null,null,null,null,"Difusores y microaspersores",0.8]
[]
[null,null,null,"JUN",null,null,{"$f":"SUMIFS(ETo!H$2:H$54,ETo!$B$2:$B$54,'RN 02'!$D$5)","v":0},null,{"$f":"IF(E$147=\"\",\"\",G157*E$147)","v":""},null,{"$f":"SUMIFS(P!H$4:H$103,P!$B$4:$B$103,'RN 02'!$R$5)","v":35},null,11,null,{"$f":"IF(I157=\"\",\"\",IF((I157-M157)<0,0,I157-M157))","v":""},null,null,{"$f":"IF(O157=\"\",0,O157/$Q$7)","v":0},null,null,null,null,"Aspersores",0.75]
[]
[null,null,null,"JUL",null,null,{"$f":"SUMIFS(ETo!I$2:I$54,ETo!$B$2:$B$54,'RN 02'!$D$5)","v":0},null,{"$f":"IF(E$147=\"\",\"\",G159*E$147)","v":""},null,{"$f":"SUMIFS(P!I$4:I$103,P!$B$4:$B$103,'RN 02'!$R$5)","v":9},null,-4.6000000000000005,null,{"$f":"IF(I159=\"\",\"\",IF((I159-M159)<0,0,I159-M159))","v":""},null,null,{"$f":"IF(O159=\"\",0,O159/$Q$7)","v":0},null,null,null,null,"Superficie",0.55000000000000004]
[]
[null,null,null,"AGO",null,null,{"$f":"SUMIFS(ETo!J$2:J$54,ETo!$B$2:$B$54,'RN 02'!$D$5)","v":0},null,{"$f":"IF(E$147=\"\",\"\",G161*E$147)","v":""},null,{"$f":"SUMIFS(P!J$4:J$103,P!$B$4:$B$103,'RN 02'!$R$5)","v":11},null,-3.4000000000000004,null,{"$f":"IF(I161=\"\",\"\",IF((I161-M161)<0,0,I161-M161))","v":""},null,null,{"$f":"IF(O161=\"\",0,O161/$Q$7)","v":0}]
[]
[null,null,null,"SEP",null,null,{"$f":"SUMIFS(ETo!K$2:K$54,ETo!$B$2:$B$54,'RN 02'!$D$5)","v":0},null,{"$f":"IF(E$147=\"\",\"\",G163*E$147)","v":""},null,{"$f":"SUMIFS(P!K$4:K$103,P!$B$4:$B$103,'RN 02'!$R$5)","v":34},null,10.399999999999999,null,{"$f":"IF(I163=\"\",\"\",IF((I163-M163)<0,0,I163-M163))","v":""},null,null,{"$f":"IF(O163=\"\",0,O163/$Q$7)","v":0}]
[]
[null,null,null,"OCT",null,null,{"$f":"SUMIFS(ETo!L$2:L$54,ETo!$B$2:$B$54,'RN 02'!$D$5)","v":0},null,{"$f":"IF(E$147=\"\",\"\",G165*E$147)","v":""},null,{"$f":"SUMIFS(P!L$4:L$103,P!$B$4:$B$103,'RN 02'!$R$5)","v":42},null,15.2,null,{"$f":"IF(I165=\"\",\"\",IF((I165-M165)<0,0,I165-M165))","v":""},null,null,{"$f":"IF(O165=\"\",0,O165/$Q$7)","v":0}]
[]
[null,null,null,"NOV",null,null,{"$f":"SUMIFS(ETo!M$2:M$54,ETo!$B$2:$B$54,'RN 02'!$D$5)","v":0},null,{"$f":"IF(E$147=\"\",\"\",G167*E$147)","v":""},null,{"$f":"SUMIFS(P!M$4:M$103,P!$B$4:$B$103,'RN 02'!$R$5)","v":34},null,10.399999999999999,null,{"$f":"IF(I167=\"\",\"\",IF((I167-M167)<0,0,I167-M167))","v":""},null,null,{"$f":"IF(O167=\"\",0,O167/$Q$7)","v":0}]
[]
[null,null,null,"DIC",null,null,{"$f":"SUMIFS(ETo!N$2:N$54,ETo!$B$2:$B$54,'RN 02'!$D$5)","v":0},null,{"$f":"IF(E$147=\"\",\"\",G169*E$147)","v":""},null,{"$f":"SUMIFS(P!N$4:N$103,P!$B$4:$B$103,'RN 02'!$R$5)","v":31},null,8.5999999999999979,null,{"$f":"IF(I169=\"\",\"\",IF((I169-M169)<0,0,I169-M169))","v":""},null,null,{"$f":"IF(O169=\"\",0,O169/$Q$7)","v":0}]
[]
[null,null,null,null,null,null,null,null,null,null,null,null,null,null,null,null,null,{"$f":"SUM(R147:R169)","v":0}]
[]
[null,null,null,null,{"$f":"IF('RN 02'!P7>0,'RN 02'!P7,\"\")","v":""}]
[null,null,null,null,"Kj",null,"Eto (mm)",null,"Etj (mm)",null,"P (mm)",null,"Pe (mm)",null,"N (mm)",null,null,"Nf (mm)"]
[null,null,null,"ENE",{"$f":"'RN 02'!P19","v":""},null,{"$f":"SUMIFS(ETo!C$2:C$54,ETo!$B$2:$B$54,'RN 02'!$D$5)","v":0},null,{"$f":"IF(E$175=\"\",\"\",G175*E$175)","v":""},null,{"$f":"SUMIFS(P!C$4:C$103,P!$B$4:$B$103,'RN 02'!$R$5)","v":21},null,{"$f":"IF(K175<75,(0.6*K175-10),(0.8*K175-25))","v":2.5999999999999996},null,{"$f":"IF(I175=\"\",\"\",IF((I175-M175)<0,0,I175-M175))","v":""},null,{"$f":"VLOOKUP('RN 02'!P$21,$W$11:$X$19,2,FALSE)","v":{"$error":"#N/A"}},{"$f":"IF(O175=\"\",0,O175/$Q$7)","v":0}]
[]
[null,null,null,"FEB",null,null,{"$f":"SUMIFS(ETo!D$2:D$54,ETo!$B$2:$B$54,'RN 02'!$D$5)","v":0},null,{"$f":"IF(E$175=\"\",\"\",G177*E$175)","v":""},null,{"$f":"SUMIFS(P!D$4:D$103,P!$B$4:$B$103,'RN 02'!$R$5)","v":25},null,{"$f":"IF(K177<75,0.6*K177-10,0.8*K177-25)","v":5},null,{"$f":"IF(I177=\"\",\"\",IF((I177-M177)<0,0,I177-M177))","v":""},null,null,{"$f":"IF(O177=\"\",0,O177/$Q$7)","v":0}]
[]
[null,null,null,"MAR",null,null,{"$f":"SUMIFS(ETo!E$2:E$54,ETo!$B$2:$B$54,'RN 02'!$D$5)","v":0},null,{"$f":"IF(E$175=\"\",\"\",G179*E$175)","v":""},null,{"$f":"SUMIFS(P!E$4:E$103,P!$B$4:$B$103,'RN 02'!$R$5)","v":27},null,6.1999999999999993,null,{"$f":"IF(I179=\"\",\"\",IF((I179-M179)<0,0,I179-M179))","v":""},null,null,{"$f":"IF(O179=\"\",0,O179/$Q$7)","v":0},null,null,null,null,"Riego localizado subterráneo",0.95]
[]
[null,null,null,"ABR",null,null,{"$f":"SUMIFS(ETo!F$2:F$54,ETo!$B$2:$B$54,'RN 02'!$D$5)","v":0},null,{"$f":"IF(E$175=\"\",\"\",G181*E$175)","v":""},null,{"$f":"SUMIFS(P!F$4:F$103,P!$B$4:$B$103,'RN 02'!$R$5)","v":40},null,14,null,{"$f":"IF(I181=\"\",\"\",IF((I181-M181)<0,0,I181-M181))","v":""},null,null,{"$f":"IF(O181=\"\",0,O181/$Q$7)","v":0},null,null,null,null,"Riego localizado en superficie",0.9]
[]
[null,null,null,"MAY",null,null,{"$f":"SUMIFS(ETo!G$2:G$54,ETo!$B$2:$B$54,'RN 02'!$D$5)","v":0},null,{"$f":"IF(E$175=\"\",\"\",G183*E$175)","v":""},null,{"$f":"SUMIFS(P!G$4:G$103,P!$B$4:$B$103,'RN 02'!$R$5)","v":43},null,15.8,null,{"$f":"IF(I183=\"\",\"\",IF((I183-M183)<0,0,I183-M183))","v":""},null,null,{"$f":"IF(O183=\"\",0,O183/$Q$7)","v":0},null,null,null,null,"Difusores y microaspersores",0.8]
[]
[null,null,null,"JUN",null,null,{"$f":"SUMIFS(ETo!H$2:H$54,ETo!$B$2:$B$54,'RN 02'!$D$5)","v":0},null,{"$f":"IF(E$175=\"\",\"\",G185*E$175)","v":""},null,{"$f":"SUMIFS(P!H$4:H$103,P!$B$4:$B$103,'RN 02'!$R$5)","v":35},null,11,null,{"$f":"IF(I185=\"\",\"\",IF((I185-M185)<0,0,I185-M185))","v":""},null,null,{"$f":"IF(O185=\"\",0,O185/$Q$7)","v":0},null,null,null,null,"Aspersores",0.75]
[]
[null,null,null,"JUL",null,null,{"$f":"SUMIFS(ETo!I$2:I$54,ETo!$B$2:$B$54,'RN 02'!$D$5)","v":0},null,{"$f":"IF(E$175=\"\",\"\",G187*E$175)","v":""},null,{"$f":"SUMIFS(P!I$4:I$103,P!$B$4:$B$103,'RN 02'!$R$5)","v":9},null,-4.6000000000000005,null,{"$f":"IF(I187=\"\",\"\",IF((I187-M187)<0,0,I187-M187))","v":""},null,null,{"$f":"IF(O187=\"\",0,O187/$Q$7)","v":0},null,null,null,null,"Superficie",0.55000000000000004]
[]
[null,null,null,"AGO",null,null,{"$f":"SUMIFS(ETo!J$2:J$54,ETo!$B$2:$B$54,'RN 02'!$D$5)","v":0},null,{"$f":"IF(E$175=\"\",\"\",G189*E$175)","v":""},null,{"$f":"SUMIFS(P!J$4:J$103,P!$B$4:$B$103,'RN 02'!$R$5)","v":11},null,-3.4000000000000004,null,{"$f":"IF(I189=\"\",\"\",IF((I189-M189)<0,0,I189-M189))","v":""},null,null,{"$f":"IF(O189=\"\",0,O189/$Q$7)","v":0}]
[]
[null,null,null,"SEP",null,null,{"$f":"SUMIFS(ETo!K$2:K$54,ETo!$B$2:$B$54,'RN 02'!$D$5)","v":0},null,{"$f":"IF(E$175=\"\",\"\",G191*E$175)","v":""},null,{"$f":"SUMIFS(P!K$4:K$103,P!$B$4:$B$103,'RN 02'!$R$5)","v":34},null,10.399999999999999,null,{"$f":"IF(I191=\"\",\"\",IF((I191-M191)<0,0,I191-M191))","v":""},null,null,{"$f":"IF(O191=\"\",0,O191/$Q$7)","v":0}]
[]
[null,null,null,"OCT",null,null,{"$f":"SUMIFS(ETo!L$2:L$54,ETo!$B$2:$B$54,'RN 02'!$D$5)","v":0},null,{"$f":"IF(E$175=\"\",\"\",G193*E$175)","v":""},null,{"$f":"SUMIFS(P!L$4:L$103,P!$B$4:$B$103,'RN 02'!$R$5)","v":42},null,15.2,null,{"$f":"IF(I193=\"\",\"\",IF((I193-M193)<0,0,I193-M193))","v":""},null,null,{"$f":"IF(O193=\"\",0,O193/$Q$7)","v":0}]
[]
[null,null,null,"NOV",null,null,{"$f":"SUMIFS(ETo!M$2:M$54,ETo!$B$2:$B$54,'RN 02'!$D$5)","v":0},null,{"$f":"IF(E$175=\"\",\"\",G195*E$175)","v":""},null,{"$f":"SUMIFS(P!M$4:M$103,P!$B$4:$B$103,'RN 02'!$R$5)","v":34},null,10.399999999999999,null,{"$f":"IF(I195=\"\",\"\",IF((I195-M195)<0,0,I195-M195))","v":""},null,null,{"$f":"IF(O195=\"\",0,O195/$Q$7)","v":0}]
[]
[null,null,null,"DIC",null,null,{"$f":"SUMIFS(ETo!N$2:N$54,ETo!$B$2:$B$54,'RN 02'!$D$5)","v":0},null,{"$f":"IF(E$175=\"\",\"\",G197*E$175)","v":""},null,{"$f":"SUMIFS(P!N$4:N$103,P!$B$4:$B$103,'RN 02'!$R$5)","v":31},null,8.5999999999999979,null,{"$f":"IF(I197=\"\",\"\",IF((I197-M197)<0,0,I197-M197))","v":""},null,null,{"$f":"IF(O197=\"\",0,O197/$Q$7)","v":0}]
[]
[null,null,null,null,null,null,null,null,null,null,null,null,null,null,null,null,null,{"$f":"SUM(R175:R197)","v":0}]
[]
[null,null,null,null,{"$f":"IF('RN 02'!R7>0,'RN 02'!R7,\"\")","v":""}]
[null,null,null,null,"Kj",null,"Eto (mm)",null,"Etj (mm)",null,"P (mm)",null,"Pe (mm)",null,"N (mm)",null,null,"Nf (mm)"]
[null,null,null,"ENE",{"$f":"'RN 02'!R19","v":""},null,{"$f":"SUMIFS(ETo!C$2:C$54,ETo!$B$2:$B$54,'RN 02'!$D$5)","v":0},null,{"$f":"IF(E$203=\"\",\"\",G203*E$203)","v":""},null,{"$f":"SUMIFS(P!C$4:C$103,P!$B$4:$B$103,'RN 02'!$R$5)","v":21},null,{"$f":"IF(K203<75,(0.6*K203-10),(0.8*K203-25))","v":2.5999999999999996},null,{"$f":"IF(I203=\"\",\"\",IF((I203-M203)<0,0,I203-M203))","v":""},null,{"$f":"VLOOKUP('RN 02'!R$21,$W$11:$X$19,2,FALSE)","v":{"$error":"#N/A"}},{"$f":"IF(O203=\"\",0,O203/$Q$7)","v":0}]
[]
[null,null,null,"FEB",null,null,{"$f":"SUMIFS(ETo!D$2:D$54,ETo!$B$2:$B$54,'RN 02'!$D$5)","v":0},null,{"$f":"IF(E$203=\"\",\"\",G205*E$203)","v":""},null,{"$f":"SUMIFS(P!D$4:D$103,P!$B$4:$B$103,'RN 02'!$R$5)","v":25},null,{"$f":"IF(K205<75,0.6*K205-10,0.8*K205-25)","v":5},null,{"$f":"IF(I205=\"\",\"\",IF((I205-M205)<0,0,I205-M205))","v":""},null,null,{"$f":"IF(O205=\"\",0,O205/$Q$7)","v":0}]
[]
[null,null,null,"MAR",null,null,{"$f":"SUMIFS(ETo!E$2:E$54,ETo!$B$2:$B$54,'RN 02'!$D$5)","v":0},null,{"$f":"IF(E$203=\"\",\"\",G207*E$203)","v":""},null,{"$f":"SUMIFS(P!E$4:E$103,P!$B$4:$B$103,'RN 02'!$R$5)","v":27},null,6.1999999999999993,null,{"$f":"IF(I207=\"\",\"\",IF((I207-M207)<0,0,I207-M207))","v":""},null,null,{"$f":"IF(O207=\"\",0,O207/$Q$7)","v":0},null,null,null,null,"Riego localizado subterráneo",0.95]
[]
[null,null,null,"ABR",null,null,{"$f":"SUMIFS(ETo!F$2:F$54,ETo!$B$2:$B$54,'RN 02'!$D$5)","v":0},null,{"$f":"IF(E$203=\"\",\"\",G209*E$203)","v":""},null,{"$f":"SUMIFS(P!F$4:F$103,P!$B$4:$B$103,'RN 02'!$R$5)","v":40},null,14,null,{"$f":"IF(I209=\"\",\"\",IF((I209-M209)<0,0,I209-M209))","v":""},null,null,{"$f":"IF(O209=\"\",0,O209/$Q$7)","v":0},null,null,null,null,"Riego localizado en superficie",0.9]
[]
[null,null,null,"MAY",null,null,{"$f":"SUMIFS(ETo!G$2:G$54,ETo!$B$2:$B$54,'RN 02'!$D$5)","v":0},null,{"$f":"IF(E$203=\"\",\"\",G211*E$203)","v":""},null,{"$f":"SUMIFS(P!G$4:G$103,P!$B$4:$B$103,'RN 02'!$R$5)","v":43},null,15.8,null,{"$f":"IF(I211=\"\",\"\",IF((I211-M211)<0,0,I211-M211))","v":""},null,null,{"$f":"IF(O211=\"\",0,O211/$Q$7)","v":0},null,null,null,null,"Difusores y microaspersores",0.8]
[]
[null,null,null,"JUN",null,null,{"$f":"SUMIFS(ETo!H$2:H$54,ETo!$B$2:$B$54,'RN 02'!$D$5)","v":0},null,{"$f":"IF(E$203=\"\",\"\",G213*E$203)","v":""},null,{"$f":"SUMIFS(P!H$4:H$103,P!$B$4:$B$103,'RN 02'!$R$5)","v":35},null,11,null,{"$f":"IF(I213=\"\",\"\",IF((I213-M213)<0,0,I213-M213))","v":""},null,null,{"$f":"IF(O213=\"\",0,O213/$Q$7)","v":0},null,null,null,null,"Aspersores",0.75]
[]
[null,null,null,"JUL",null,null,{"$f":"SUMIFS(ETo!I$2:I$54,ETo!$B$2:$B$54,'RN 02'!$D$5)","v":0},null,{"$f":"IF(E$203=\"\",\"\",G215*E$203)","v":""},null,{"$f":"SUMIFS(P!I$4:I$103,P!$B$4:$B$103,'RN 02'!$R$5)","v":9},null,-4.6000000000000005,null,{"$f":"IF(I215=\"\",\"\",IF((I215-M215)<0,0,I215-M215))","v":""},null,null,{"$f":"IF(O215=\"\",0,O215/$Q$7)","v":0},null,null,null,null,"Superficie",0.55000000000000004]
[]
[null,null,null,"AGO",null,null,{"$f":"SUMIFS(ETo!J$2:J$54,ETo!$B$2:$B$54,'RN 02'!$D$5)","v":0},null,{"$f":"IF(E$203=\"\",\"\",G217*E$203)","v":""},null,{"$f":"SUMIFS(P!J$4:J$103,P!$B$4:$B$103,'RN 02'!$R$5)","v":11},null,-3.4000000000000004,null,{"$f":"IF(I217=\"\",\"\",IF((I217-M217)<0,0,I217-M217))","v":""},null,null,{"$f":"IF(O217=\"\",0,O217/$Q$7)","v":0}]
[]
[null,null,null,"SEP",null,null,{"$f":"SUMIFS(ETo!K$2:K$54,ETo!$B$2:$B$54,'RN 02'!$D$5)","v":0},null,{"$f":"IF(E$203=\"\",\"\",G219*E$203)","v":""},null,{"$f":"SUMIFS(P!K$4:K$103,P!$B$4:$B$103,'RN 02'!$R$5)","v":34},null,10.399999999999999,null,{"$f":"IF(I219=\"\",\"\",IF((I219-M219)<0,0,I219-M219))","v":""},null,null,{"$f":"IF(O219=\"\",0,O219/$Q$7)","v":0}]
[]
[null,null,null,"OCT",null,null,{"$f":"SUMIFS(ETo!L$2:L$54,ETo!$B$2:$B$54,'RN 02'!$D$5)","v":0},null,{"$f":"IF(E$203=\"\",\"\",G221*E$203)","v":""},null,{"$f":"SUMIFS(P!L$4:L$103,P!$B$4:$B$103,'RN 02'!$R$5)","v":42},null,15.2,null,{"$f":"IF(I221=\"\",\"\",IF((I221-M221)<0,0,I221-M221))","v":""},null,null,{"$f":"IF(O221=\"\",0,O221/$Q$7)","v":0}]
[]
[null,null,null,"NOV",null,null,{"$f":"SUMIFS(ETo!M$2:M$54,ETo!$B$2:$B$54,'RN 02'!$D$5)","v":0},null,{"$f":"IF(E$203=\"\",\"\",G223*E$203)","v":""},null,{"$f":"SUMIFS(P!M$4:M$103,P!$B$4:$B$103,'RN 02'!$R$5)","v":34},null,10.399999999999999,null,{"$f":"IF(I223=\"\",\"\",IF((I223-M223)<0,0,I223-M223))","v":""},null,null,{"$f":"IF(O223=\"\",0,O223/$Q$7)","v":0}]
[]
[null,null,null,"DIC",null,null,{"$f":"SUMIFS(ETo!N$2:N$54,ETo!$B$2:$B$54,'RN 02'!$D$5)","v":0},null,{"$f":"IF(E$203=\"\",\"\",G225*E$203)","v":""},null,{"$f":"SUMIFS(P!N$4:N$103,P!$B$4:$B$103,'RN 02'!$R$5)","v":31},null,8.5999999999999979,null,{"$f":"IF(I225=\"\",\"\",IF((I225-M225)<0,0,I225-M225))","v":""},null,null,{"$f":"IF(O225=\"\",0,O225/$Q$7)","v":0}]
[]
[null,null,null,null,null,null,null,null,null,null,null,null,null,null,null,null,null,{"$f":"SUM(R203:R225)","v":0}]
[]
[null,null,null,null,{"$f":"IF('RN 02'!T7>0,'RN 02'!T7,\"\")","v":""}]
[null,null,null,null,"Kj",null,"Eto (mm)",null,"Etj (mm)",null,"P (mm)",null,"Pe (mm)",null,"N (mm)",null,null,"Nf (mm)"]
[null,null,null,"ENE",{"$f":"'RN 02'!T19","v":""},null,{"$f":"SUMIFS(ETo!C$2:C$54,ETo!$B$2:$B$54,'RN 02'!$D$5)","v":0},null,{"$f":"IF(E$231=\"\",\"\",G231*E$231)","v":""},null,{"$f":"SUMIFS(P!C$4:C$103,P!$B$4:$B$103,'RN 02'!$R$5)","v":21},null,{"$f":"IF(K231<75,(0.6*K231-10),(0.8*K231-25))","v":2.5999999999999996},null,{"$f":"IF(I231=\"\",\"\",IF((I231-M231)<0,0,I231-M231))","v":""},null,{"$f":"VLOOKUP('RN 02'!T$21,$W$11:$X$19,2,FALSE)","v":{"$error":"#N/A"}},{"$f":"IF(O231=\"\",0,O231/$Q$7)","v":0}]
[]
[null,null,null,"FEB",null,null,{"$f":"SUMIFS(ETo!D$2:D$54,ETo!$B$2:$B$54,'RN 02'!$D$5)","v":0},null,{"$f":"IF(E$231=\"\",\"\",G233*E$231)","v":""},null,{"$f":"SUMIFS(P!D$4:D$103,P!$B$4:$B$103,'RN 02'!$R$5)","v":25},null,{"$f":"IF(K233<75,0.6*K233-10,0.8*K233-25)","v":5},null,{"$f":"IF(I233=\"\",\"\",IF((I233-M233)<0,0,I233-M233))","v":""},null,null,{"$f":"IF(O233=\"\",0,O233/$Q$7)","v":0}]
[]
[null,null,null,"MAR",null,null,{"$f":"SUMIFS(ETo!E$2:E$54,ETo!$B$2:$B$54,'RN 02'!$D$5)","v":0},null,{"$f":"IF(E$231=\"\",\"\",G235*E$231)","v":""},null,{"$f":"SUMIFS(P!E$4:E$103,P!$B$4:$B$103,'RN 02'!$R$5)","v":27},null,6.1999999999999993,null,{"$f":"IF(I235=\"\",\"\",IF((I235-M235)<0,0,I235-M235))","v":""},null,null,{"$f":"IF(O235=\"\",0,O235/$Q$7)","v":0},null,null,null,null,"Riego localizado subterráneo",0.95]
[]
[null,null,null,"ABR",null,null,{"$f":"SUMIFS(ETo!F$2:F$54,ETo!$B$2:$B$54,'RN 02'!$D$5)","v":0},null,{"$f":"IF(E$231=\"\",\"\",G237*E$231)","v":""},null,{"$f":"SUMIFS(P!F$4:F$103,P!$B$4:$B$103,'RN 02'!$R$5)","v":40},null,14,null,{"$f":"IF(I237=\"\",\"\",IF((I237-M237)<0,0,I237-M237))","v":""},null,null,{"$f":"IF(O237=\"\",0,O237/$Q$7)","v":0},null,null,null,null,"Riego localizado en superficie",0.9]
[]
[null,null,null,"MAY",null,null,{"$f":"SUMIFS(ETo!G$2:G$54,ETo!$B$2:$B$54,'RN 02'!$D$5)","v":0},null,{"$f":"IF(E$231=\"\",\"\",G239*E$231)","v":""},null,{"$f":"SUMIFS(P!G$4:G$103,P!$B$4:$B$103,'RN 02'!$R$5)","v":43},null,15.8,null,{"$f":"IF(I239=\"\",\"\",IF((I239-M239)<0,0,I239-M239))","v":""},null,null,{"$f":"IF(O239=\"\",0,O239/$Q$7)","v":0},null,null,null,null,"Difusores y microaspersores",0.8]
[]
[null,null,null,"JUN",null,null,{"$f":"SUMIFS(ETo!H$2:H$54,ETo!$B$2:$B$54,'RN 02'!$D$5)","v":0},null,{"$f":"IF(E$231=\"\",\"\",G241*E$231)","v":""},null,{"$f":"SUMIFS(P!H$4:H$103,P!$B$4:$B$103,'RN 02'!$R$5)","v":35},null,11,null,{"$f":"IF(I241=\"\",\"\",IF((I241-M241)<0,0,I241-M241))","v":""},null,null,{"$f":"IF(O241=\"\",0,O241/$Q$7)","v":0},null,null,null,null,"Aspersores",0.75]
[]
[null,null,null,"JUL",null,null,{"$f":"SUMIFS(ETo!I$2:I$54,ETo!$B$2:$B$54,'RN 02'!$D$5)","v":0},null,{"$f":"IF(E$231=\"\",\"\",G243*E$231)","v":""},null,{"$f":"SUMIFS(P!I$4:I$103,P!$B$4:$B$103,'RN 02'!$R$5)","v":9},null,-4.6000000000000005,null,{"$f":"IF(I243=\"\",\"\",IF((I243-M243)<0,0,I243-M243))","v":""},null,null,{"$f":"IF(O243=\"\",0,O243/$Q$7)","v":0},null,null,null,null,"Superficie",0.55000000000000004]
[]
[null,null,null,"AGO",null,null,{"$f":"SUMIFS(ETo!J$2:J$54,ETo!$B$2:$B$54,'RN 02'!$D$5)","v":0},null,{"$f":"IF(E$231=\"\",\"\",G245*E$231)","v":""},null,{"$f":"SUMIFS(P!J$4:J$103,P!$B$4:$B$103,'RN 02'!$R$5)","v":11},null,-3.4000000000000004,null,{"$f":"IF(I245=\"\",\"\",IF((I245-M245)<0,0,I245-M245))","v":""},null,null,{"$f":"IF(O245=\"\",0,O245/$Q$7)","v":0}]
[]
[null,null,null,"SEP",null,null,{"$f":"SUMIFS(ETo!K$2:K$54,ETo!$B$2:$B$54,'RN 02'!$D$5)","v":0},null,{"$f":"IF(E$231=\"\",\"\",G247*E$231)","v":""},null,{"$f":"SUMIFS(P!K$4:K$103,P!$B$4:$B$103,'RN 02'!$R$5)","v":34},null,10.399999999999999,null,{"$f":"IF(I247=\"\",\"\",IF((I247-M247)<0,0,I247-M247))","v":""},null,null,{"$f":"IF(O247=\"\",0,O247/$Q$7)","v":0}]
[]
[null,null,null,"OCT",null,null,{"$f":"SUMIFS(ETo!L$2:L$54,ETo!$B$2:$B$54,'RN 02'!$D$5)","v":0},null,{"$f":"IF(E$231=\"\",\"\",G249*E$231)","v":""},null,{"$f":"SUMIFS(P!L$4:L$103,P!$B$4:$B$103,'RN 02'!$R$5)","v":42},null,15.2,null,{"$f":"IF(I249=\"\",\"\",IF((I249-M249)<0,0,I249-M249))","v":""},null,null,{"$f":"IF(O249=\"\",0,O249/$Q$7)","v":0}]
[]
[null,null,null,"NOV",null,null,{"$f":"SUMIFS(ETo!M$2:M$54,ETo!$B$2:$B$54,'RN 02'!$D$5)","v":0},null,{"$f":"IF(E$231=\"\",\"\",G251*E$231)","v":""},null,{"$f":"SUMIFS(P!M$4:M$103,P!$B$4:$B$103,'RN 02'!$R$5)","v":34},null,10.399999999999999,null,{"$f":"IF(I251=\"\",\"\",IF((I251-M251)<0,0,I251-M251))","v":""},null,null,{"$f":"IF(O251=\"\",0,O251/$Q$7)","v":0}]
[]
[null,null,null,"DIC",null,null,{"$f":"SUMIFS(ETo!N$2:N$54,ETo!$B$2:$B$54,'RN 02'!$D$5)","v":0},null,{"$f":"IF(E$231=\"\",\"\",G253*E$231)","v":""},null,{"$f":"SUMIFS(P!N$4:N$103,P!$B$4:$B$103,'RN 02'!$R$5)","v":31},null,8.5999999999999979,null,{"$f":"IF(I253=\"\",\"\",IF((I253-M253)<0,0,I253-M253))","v":""},null,null,{"$f":"IF(O253=\"\",0,O253/$Q$7)","v":0}]
[]
[null,null,null,null,null,null,null,null,null,null,null,null,null,null,null,null,null,{"$f":"SUM(R231:R253)","v":0}]
[]
[null,null,null,null,{"$f":"IF('RN 02'!V7>0,'RN 02'!V7,\"\")","v":""}]
[null,null,null,null,"Kj",null,"Eto (mm)",null,"Etj (mm)",null,"P (mm)",null,"Pe (mm)",null,"N (mm)",null,null,"Nf (mm)"]
[null,null,null,"ENE",{"$f":"'RN 02'!V19","v":""},null,{"$f":"SUMIFS(ETo!C$2:C$54,ETo!$B$2:$B$54,'RN 02'!$D$5)","v":0},null,{"$f":"IF(E$259=\"\",\"\",G259*E$259)","v":""},null,{"$f":"SUMIFS(P!C$4:C$103,P!$B$4:$B$103,'RN 02'!$R$5)","v":21},null,{"$f":"IF(K259<75,(0.6*K259-10),(0.8*K259-25))","v":2.5999999999999996},null,{"$f":"IF(I259=\"\",\"\",IF((I259-M259)<0,0,I259-M259))","v":""},null,{"$f":"VLOOKUP('RN 02'!V$21,$W$11:$X$19,2,FALSE)","v":{"$error":"#N/A"}},{"$f":"IF(O259=\"\",0,O259/$Q$7)","v":0}]
[]
[null,null,null,"FEB",null,null,{"$f":"SUMIFS(ETo!D$2:D$54,ETo!$B$2:$B$54,'RN 02'!$D$5)","v":0},null,{"$f":"IF(E$259=\"\",\"\",G261*E$259)","v":""},null,{"$f":"SUMIFS(P!D$4:D$103,P!$B$4:$B$103,'RN 02'!$R$5)","v":25},null,{"$f":"IF(K261<75,0.6*K261-10,0.8*K261-25)","v":5},null,{"$f":"IF(I261=\"\",\"\",IF((I261-M261)<0,0,I261-M261))","v":""},null,null,{"$f":"IF(O261=\"\",0,O261/$Q$7)","v":0}]
[]
[null,null,null,"MAR",null,null,{"$f":"SUMIFS(ETo!E$2:E$54,ETo!$B$2:$B$54,'RN 02'!$D$5)","v":0},null,{"$f":"IF(E$259=\"\",\"\",G263*E$259)","v":""},null,{"$f":"SUMIFS(P!E$4:E$103,P!$B$4:$B$103,'RN 02'!$R$5)","v":27},null,6.1999999999999993,null,{"$f":"IF(I263=\"\",\"\",IF((I263-M263)<0,0,I263-M263))","v":""},null,null,{"$f":"IF(O263=\"\",0,O263/$Q$7)","v":0},null,null,null,null,"Riego localizado subterráneo",0.95]
[]
[null,null,null,"ABR",null,null,{"$f":"SUMIFS(ETo!F$2:F$54,ETo!$B$2:$B$54,'RN 02'!$D$5)","v":0},null,{"$f":"IF(E$259=\"\",\"\",G265*E$259)","v":""},null,{"$f":"SUMIFS(P!F$4:F$103,P!$B$4:$B$103,'RN 02'!$R$5)","v":40},null,14,null,{"$f":"IF(I265=\"\",\"\",IF((I265-M265)<0,0,I265-M265))","v":""},null,null,{"$f":"IF(O265=\"\",0,O265/$Q$7)","v":0},null,null,null,null,"Riego localizado en superficie",0.9]
[]
[null,null,null,"MAY",null,null,{"$f":"SUMIFS(ETo!G$2:G$54,ETo!$B$2:$B$54,'RN 02'!$D$5)","v":0},null,{"$f":"IF(E$259=\"\",\"\",G267*E$259)","v":""},null,{"$f":"SUMIFS(P!G$4:G$103,P!$B$4:$B$103,'RN 02'!$R$5)","v":43},null,15.8,null,{"$f":"IF(I267=\"\",\"\",IF((I267-M267)<0,0,I267-M267))","v":""},null,null,{"$f":"IF(O267=\"\",0,O267/$Q$7)","v":0},null,null,null,null,"Difusores y microaspersores",0.8]
[]
[null,null,null,"JUN",null,null,{"$f":"SUMIFS(ETo!H$2:H$54,ETo!$B$2:$B$54,'RN 02'!$D$5)","v":0},null,{"$f":"IF(E$259=\"\",\"\",G269*E$259)","v":""},null,{"$f":"SUMIFS(P!H$4:H$103,P!$B$4:$B$103,'RN 02'!$R$5)","v":35},null,11,null,{"$f":"IF(I269=\"\",\"\",IF((I269-M269)<0,0,I269-M269))","v":""},null,null,{"$f":"IF(O269=\"\",0,O269/$Q$7)","v":0},null,null,null,null,"Aspersores",0.75]
[]
[null,null,null,"JUL",null,null,{"$f":"SUMIFS(ETo!I$2:I$54,ETo!$B$2:$B$54,'RN 02'!$D$5)","v":0},null,{"$f":"IF(E$259=\"\",\"\",G271*E$259)","v":""},null,{"$f":"SUMIFS(P!I$4:I$103,P!$B$4:$B$103,'RN 02'!$R$5)","v":9},null,-4.6000000000000005,null,{"$f":"IF(I271=\"\",\"\",IF((I271-M271)<0,0,I271-M271))","v":""},null,null,{"$f":"IF(O271=\"\",0,O271/$Q$7)","v":0},null,null,null,null,"Superficie",0.55000000000000004]
[]
[null,null,null,"AGO",null,null,{"$f":"SUMIFS(ETo!J$2:J$54,ETo!$B$2:$B$54,'RN 02'!$D$5)","v":0},null,{"$f":"IF(E$259=\"\",\"\",G273*E$259)","v":""},null,{"$f":"SUMIFS(P!J$4:J$103,P!$B$4:$B$103,'RN 02'!$R$5)","v":11},null,-3.4000000000000004,null,{"$f":"IF(I273=\"\",\"\",IF((I273-M273)<0,0,I273-M273))","v":""},null,null,{"$f":"IF(O273=\"\",0,O273/$Q$7)","v":0}]
[]
[null,null,null,"SEP",null,null,{"$f":"SUMIFS(ETo!K$2:K$54,ETo!$B$2:$B$54,'RN 02'!$D$5)","v":0},null,{"$f":"IF(E$259=\"\",\"\",G275*E$259)","v":""},null,{"$f":"SUMIFS(P!K$4:K$103,P!$B$4:$B$103,'RN 02'!$R$5)","v":34},null,10.399999999999999,null,{"$f":"IF(I275=\"\",\"\",IF((I275-M275)<0,0,I275-M275))","v":""},null,null,{"$f":"IF(O275=\"\",0,O275/$Q$7)","v":0}]
[]
[null,null,null,"OCT",null,null,{"$f":"SUMIFS(ETo!L$2:L$54,ETo!$B$2:$B$54,'RN 02'!$D$5)","v":0},null,{"$f":"IF(E$259=\"\",\"\",G277*E$259)","v":""},null,{"$f":"SUMIFS(P!L$4:L$103,P!$B$4:$B$103,'RN 02'!$R$5)","v":42},null,15.2,null,{"$f":"IF(I277=\"\",\"\",IF((I277-M277)<0,0,I277-M277))","v":""},null,null,{"$f":"IF(O277=\"\",0,O277/$Q$7)","v":0}]
[]
[null,null,null,"NOV",null,null,{"$f":"SUMIFS(ETo!M$2:M$54,ETo!$B$2:$B$54,'RN 02'!$D$5)","v":0},null,{"$f":"IF(E$259=\"\",\"\",G279*E$259)","v":""},null,{"$f":"SUMIFS(P!M$4:M$103,P!$B$4:$B$103,'RN 02'!$R$5)","v":34},null,10.399999999999999,null,{"$f":"IF(I279=\"\",\"\",IF((I279-M279)<0,0,I279-M279))","v":""},null,null,{"$f":"IF(O279=\"\",0,O279/$Q$7)","v":0}]
[]
[null,null,null,"DIC",null,null,{"$f":"SUMIFS(ETo!N$2:N$54,ETo!$B$2:$B$54,'RN 02'!$D$5)","v":0},null,{"$f":"IF(E$259=\"\",\"\",G281*E$259)","v":""},null,{"$f":"SUMIFS(P!N$4:N$103,P!$B$4:$B$103,'RN 02'!$R$5)","v":31},null,8.5999999999999979,null,{"$f":"IF(I281=\"\",\"\",IF((I281-M281)<0,0,I281-M281))","v":""},null,null,{"$f":"IF(O281=\"\",0,O281/$Q$7)","v":0}]
[]
[null,null,null,null,null,null,null,null,null,null,null,null,null,null,null,null,null,{"$f":"SUM(R259:R281)","v":0}]
[]
[null,null,null,null,{"$f":"IF('RN 02'!X7>0,'RN 02'!X7,\"\")","v":""}]
[null,null,null,null,"Kj",null,"Eto (mm)",null,"Etj (mm)",null,"P (mm)",null,"Pe (mm)",null,"N (mm)",null,null,"Nf (mm)"]
[null,null,null,"ENE",{"$f":"'RN 02'!X19","v":""},null,{"$f":"SUMIFS(ETo!C$2:C$54,ETo!$B$2:$B$54,'RN 02'!$D$5)","v":0},null,{"$f":"IF(E$287=\"\",\"\",G287*E$287)","v":""},null,{"$f":"SUMIFS(P!C$4:C$103,P!$B$4:$B$103,'RN 02'!$R$5)","v":21},null,{"$f":"IF(K287<75,(0.6*K287-10),(0.8*K287-25))","v":2.5999999999999996},null,{"$f":"IF(I287=\"\",\"\",IF((I287-M287)<0,0,I287-M287))","v":""},null,{"$f":"VLOOKUP('RN 02'!X$21,$W$11:$X$19,2,FALSE)","v":{"$error":"#N/A"}},{"$f":"IF(O287=\"\",0,O287/$Q$7)","v":0}]
[]
[null,null,null,"FEB",null,null,{"$f":"SUMIFS(ETo!D$2:D$54,ETo!$B$2:$B$54,'RN 02'!$D$5)","v":0},null,{"$f":"IF(E$287=\"\",\"\",G289*E$287)","v":""},null,{"$f":"SUMIFS(P!D$4:D$103,P!$B$4:$B$103,'RN 02'!$R$5)","v":25},null,{"$f":"IF(K289<75,0.6*K289-10,0.8*K289-25)","v":5},null,{"$f":"IF(I289=\"\",\"\",IF((I289-M289)<0,0,I289-M289))","v":""},null,null,{"$f":"IF(O289=\"\",0,O289/$Q$7)","v":0}]
[]
[null,null,null,"MAR",null,null,{"$f":"SUMIFS(ETo!E$2:E$54,ETo!$B$2:$B$54,'RN 02'!$D$5)","v":0},null,{"$f":"IF(E$287=\"\",\"\",G291*E$287)","v":""},null,{"$f":"SUMIFS(P!E$4:E$103,P!$B$4:$B$103,'RN 02'!$R$5)","v":27},null,6.1999999999999993,null,{"$f":"IF(I291=\"\",\"\",IF((I291-M291)<0,0,I291-M291))","v":""},null,null,{"$f":"IF(O291=\"\",0,O291/$Q$7)","v":0},null,null,null,null,"Riego localizado subterráneo",0.95]
[]
[null,null,null,"ABR",null,null,{"$f":"SUMIFS(ETo!F$2:F$54,ETo!$B$2:$B$54,'RN 02'!$D$5)","v":0},null,{"$f":"IF(E$287=\"\",\"\",G293*E$287)","v":""},null,{"$f":"SUMIFS(P!F$4:F$103,P!$B$4:$B$103,'RN 02'!$R$5)","v":40},null,14,null,{"$f":"IF(I293=\"\",\"\",IF((I293-M293)<0,0,I293-M293))","v":""},null,null,{"$f":"IF(O293=\"\",0,O293/$Q$7)","v":0},null,null,null,null,"Riego localizado en superficie",0.9]
[]
[null,null,null,"MAY",null,null,{"$f":"SUMIFS(ETo!G$2:G$54,ETo!$B$2:$B$54,'RN 02'!$D$5)","v":0},null,{"$f":"IF(E$287=\"\",\"\",G295*E$287)","v":""},null,{"$f":"SUMIFS(P!G$4:G$103,P!$B$4:$B$103,'RN 02'!$R$5)","v":43},null,15.8,null,{"$f":"IF(I295=\"\",\"\",IF((I295-M295)<0,0,I295-M295))","v":""},null,null,{"$f":"IF(O295=\"\",0,O295/$Q$7)","v":0},null,null,null,null,"Difusores y microaspersores",0.8]
[]
[null,null,null,"JUN",null,null,{"$f":"SUMIFS(ETo!H$2:H$54,ETo!$B$2:$B$54,'RN 02'!$D$5)","v":0},null,{"$f":"IF(E$287=\"\",\"\",G297*E$287)","v":""},null,{"$f":"SUMIFS(P!H$4:H$103,P!$B$4:$B$103,'RN 02'!$R$5)","v":35},null,11,null,{"$f":"IF(I297=\"\",\"\",IF((I297-M297)<0,0,I297-M297))","v":""},null,null,{"$f":"IF(O297=\"\",0,O297/$Q$7)","v":0},null,null,null,null,"Aspersores",0.75]
[]
[null,null,null,"JUL",null,null,{"$f":"SUMIFS(ETo!I$2:I$54,ETo!$B$2:$B$54,'RN 02'!$D$5)","v":0},null,{"$f":"IF(E$287=\"\",\"\",G299*E$287)","v":""},null,{"$f":"SUMIFS(P!I$4:I$103,P!$B$4:$B$103,'RN 02'!$R$5)","v":9},null,-4.6000000000000005,null,{"$f":"IF(I299=\"\",\"\",IF((I299-M299)<0,0,I299-M299))","v":""},null,null,{"$f":"IF(O299=\"\",0,O299/$Q$7)","v":0},null,null,null,null,"Superficie",0.55000000000000004]
[]
[null,null,null,"AGO",null,null,{"$f":"SUMIFS(ETo!J$2:J$54,ETo!$B$2:$B$54,'RN 02'!$D$5)","v":0},null,{"$f":"IF(E$287=\"\",\"\",G301*E$287)","v":""},null,{"$f":"SUMIFS(P!J$4:J$103,P!$B$4:$B$103,'RN 02'!$R$5)","v":11},null,-3.4000000000000004,null,{"$f":"IF(I301=\"\",\"\",IF((I301-M301)<0,0,I301-M301))","v":""},null,null,{"$f":"IF(O301=\"\",0,O301/$Q$7)","v":0}]
[]
[null,null,null,"SEP",null,null,{"$f":"SUMIFS(ETo!K$2:K$54,ETo!$B$2:$B$54,'RN 02'!$D$5)","v":0},null,{"$f":"IF(E$287=\"\",\"\",G303*E$287)","v":""},null,{"$f":"SUMIFS(P!K$4:K$103,P!$B$4:$B$103,'RN 02'!$R$5)","v":34},null,10.399999999999999,null,{"$f":"IF(I303=\"\",\"\",IF((I303-M303)<0,0,I303-M303))","v":""},null,null,{"$f":"IF(O303=\"\",0,O303/$Q$7)","v":0}]
[]
[null,null,null,"OCT",null,null,{"$f":"SUMIFS(ETo!L$2:L$54,ETo!$B$2:$B$54,'RN 02'!$D$5)","v":0},null,{"$f":"IF(E$287=\"\",\"\",G305*E$287)","v":""},null,{"$f":"SUMIFS(P!L$4:L$103,P!$B$4:$B$103,'RN 02'!$R$5)","v":42},null,15.2,null,{"$f":"IF(I305=\"\",\"\",IF((I305-M305)<0,0,I305-M305))","v":""},null,null,{"$f":"IF(O305=\"\",0,O305/$Q$7)","v":0}]
[]
[null,null,null,"NOV",null,null,{"$f":"SUMIFS(ETo!M$2:M$54,ETo!$B$2:$B$54,'RN 02'!$D$5)","v":0},null,{"$f":"IF(E$287=\"\",\"\",G307*E$287)","v":""},null,{"$f":"SUMIFS(P!M$4:M$103,P!$B$4:$B$103,'RN 02'!$R$5)","v":34},null,10.399999999999999,null,{"$f":"IF(I307=\"\",\"\",IF((I307-M307)<0,0,I307-M307))","v":""},null,null,{"$f":"IF(O307=\"\",0,O307/$Q$7)","v":0}]
[]
[null,null,null,"DIC",null,null,{"$f":"SUMIFS(ETo!N$2:N$54,ETo!$B$2:$B$54,'RN 02'!$D$5)","v":0},null,{"$f":"IF(E$287=\"\",\"\",G309*E$287)","v":""},null,{"$f":"SUMIFS(P!N$4:N$103,P!$B$4:$B$103,'RN 02'!$R$5)","v":31},null,8.5999999999999979,null,{"$f":"IF(I309=\"\",\"\",IF((I309-M309)<0,0,I309-M309))","v":""},null,null,{"$f":"IF(O309=\"\",0,O309/$Q$7)","v":0}]
[]
[null,null,null,null,null,null,null,null,null,null,null,null,null,null,null,null,null,{"$f":"SUM(R287:R309)","v":0}]
[]
[null,null,null,null,{"$f":"IF('RN 02'!Z7>0,'RN 02'!Z7,\"\")","v":""}]
[null,null,null,null,"Kj",null,"Eto (mm)",null,"Etj (mm)",null,"P (mm)",null,"Pe (mm)",null,"N (mm)",null,null,"Nf (mm)"]
[null,null,null,"ENE",{"$f":"'RN 02'!Z19","v":""},null,{"$f":"SUMIFS(ETo!C$2:C$54,ETo!$B$2:$B$54,'RN 02'!$D$5)","v":0},null,{"$f":"IF(E$315=\"\",\"\",G315*E$315)","v":""},null,{"$f":"SUMIFS(P!C$4:C$103,P!$B$4:$B$103,'RN 02'!$R$5)","v":21},null,{"$f":"IF(K315<75,(0.6*K315-10),(0.8*K315-25))","v":2.5999999999999996},null,{"$f":"IF(I315=\"\",\"\",IF((I315-M315)<0,0,I315-M315))","v":""},null,{"$f":"VLOOKUP('RN 02'!Z$21,$W$11:$X$19,2,FALSE)","v":{"$error":"#N/A"}},{"$f":"IF(O315=\"\",0,O315/$Q$7)","v":0}]
[]
[null,null,null,"FEB",null,null,{"$f":"SUMIFS(ETo!D$2:D$54,ETo!$B$2:$B$54,'RN 02'!$D$5)","v":0},null,{"$f":"IF(E$315=\"\",\"\",G317*E$315)","v":""},null,{"$f":"SUMIFS(P!D$4:D$103,P!$B$4:$B$103,'RN 02'!$R$5)","v":25},null,{"$f":"IF(K317<75,0.6*K317-10,0.8*K317-25)","v":5},null,{"$f":"IF(I317=\"\",\"\",IF((I317-M317)<0,0,I317-M317))","v":""},null,null,{"$f":"IF(O317=\"\",0,O317/$Q$7)","v":0}]
[]
[null,null,null,"MAR",null,null,{"$f":"SUMIFS(ETo!E$2:E$54,ETo!$B$2:$B$54,'RN 02'!$D$5)","v":0},null,{"$f":"IF(E$315=\"\",\"\",G319*E$315)","v":""},null,{"$f":"SUMIFS(P!E$4:E$103,P!$B$4:$B$103,'RN 02'!$R$5)","v":27},null,6.1999999999999993,null,{"$f":"IF(I319=\"\",\"\",IF((I319-M319)<0,0,I319-M319))","v":""},null,null,{"$f":"IF(O319=\"\",0,O319/$Q$7)","v":0},null,null,null,null,"Riego localizado subterráneo",0.95]
[]
[null,null,null,"ABR",null,null,{"$f":"SUMIFS(ETo!F$2:F$54,ETo!$B$2:$B$54,'RN 02'!$D$5)","v":0},null,{"$f":"IF(E$315=\"\",\"\",G321*E$315)","v":""},null,{"$f":"SUMIFS(P!F$4:F$103,P!$B$4:$B$103,'RN 02'!$R$5)","v":40},null,14,null,{"$f":"IF(I321=\"\",\"\",IF((I321-M321)<0,0,I321-M321))","v":""},null,null,{"$f":"IF(O321=\"\",0,O321/$Q$7)","v":0},null,null,null,null,"Riego localizado en superficie",0.9]
[]
[null,null,null,"MAY",null,null,{"$f":"SUMIFS(ETo!G$2:G$54,ETo!$B$2:$B$54,'RN 02'!$D$5)","v":0},null,{"$f":"IF(E$315=\"\",\"\",G323*E$315)","v":""},null,{"$f":"SUMIFS(P!G$4:G$103,P!$B$4:$B$103,'RN 02'!$R$5)","v":43},null,15.8,null,{"$f":"IF(I323=\"\",\"\",IF((I323-M323)<0,0,I323-M323))","v":""},null,null,{"$f":"IF(O323=\"\",0,O323/$Q$7)","v":0},null,null,null,null,"Difusores y microaspersores",0.8]
[]
[null,null,null,"JUN",null,null,{"$f":"SUMIFS(ETo!H$2:H$54,ETo!$B$2:$B$54,'RN 02'!$D$5)","v":0},null,{"$f":"IF(E$315=\"\",\"\",G325*E$315)","v":""},null,{"$f":"SUMIFS(P!H$4:H$103,P!$B$4:$B$103,'RN 02'!$R$5)","v":35},null,11,null,{"$f":"IF(I325=\"\",\"\",IF((I325-M325)<0,0,I325-M325))","v":""},null,null,{"$f":"IF(O325=\"\",0,O325/$Q$7)","v":0},null,null,null,null,"Aspersores",0.75]
[]
[null,null,null,"JUL",null,null,{"$f":"SUMIFS(ETo!I$2:I$54,ETo!$B$2:$B$54,'RN 02'!$D$5)","v":0},null,{"$f":"IF(E$315=\"\",\"\",G327*E$315)","v":""},null,{"$f":"SUMIFS(P!I$4:I$103,P!$B$4:$B$103,'RN 02'!$R$5)","v":9},null,-4.6000000000000005,null,{"$f":"IF(I327=\"\",\"\",IF((I327-M327)<0,0,I327-M327))","v":""},null,null,{"$f":"IF(O327=\"\",0,O327/$Q$7)","v":0},null,null,null,null,"Superficie",0.55000000000000004]
[]
[null,null,null,"AGO",null,null,{"$f":"SUMIFS(ETo!J$2:J$54,ETo!$B$2:$B$54,'RN 02'!$D$5)","v":0},null,{"$f":"IF(E$315=\"\",\"\",G329*E$315)","v":""},null,{"$f":"SUMIFS(P!J$4:J$103,P!$B$4:$B$103,'RN 02'!$R$5)","v":11},null,-3.4000000000000004,null,{"$f":"IF(I329=\"\",\"\",IF((I329-M329)<0,0,I329-M329))","v":""},null,null,{"$f":"IF(O329=\"\",0,O329/$Q$7)","v":0}]
[]
[null,null,null,"SEP",null,null,{"$f":"SUMIFS(ETo!K$2:K$54,ETo!$B$2:$B$54,'RN 02'!$D$5)","v":0},null,{"$f":"IF(E$315=\"\",\"\",G331*E$315)","v":""},null,{"$f":"SUMIFS(P!K$4:K$103,P!$B$4:$B$103,'RN 02'!$R$5)","v":34},null,10.399999999999999,null,{"$f":"IF(I331=\"\",\"\",IF((I331-M331)<0,0,I331-M331))","v":""},null,null,{"$f":"IF(O331=\"\",0,O331/$Q$7)","v":0}]
[]
[null,null,null,"OCT",null,null,{"$f":"SUMIFS(ETo!L$2:L$54,ETo!$B$2:$B$54,'RN 02'!$D$5)","v":0},null,{"$f":"IF(E$315=\"\",\"\",G333*E$315)","v":""},null,{"$f":"SUMIFS(P!L$4:L$103,P!$B$4:$B$103,'RN 02'!$R$5)","v":42},null,15.2,null,{"$f":"IF(I333=\"\",\"\",IF((I333-M333)<0,0,I333-M333))","v":""},null,null,{"$f":"IF(O333=\"\",0,O333/$Q$7)","v":0}]
[]
[null,null,null,"NOV",null,null,{"$f":"SUMIFS(ETo!M$2:M$54,ETo!$B$2:$B$54,'RN 02'!$D$5)","v":0},null,{"$f":"IF(E$315=\"\",\"\",G335*E$315)","v":""},null,{"$f":"SUMIFS(P!M$4:M$103,P!$B$4:$B$103,'RN 02'!$R$5)","v":34},null,10.399999999999999,null,{"$f":"IF(I335=\"\",\"\",IF((I335-M335)<0,0,I335-M335))","v":""},null,null,{"$f":"IF(O335=\"\",0,O335/$Q$7)","v":0}]
[]
[null,null,null,"DIC",null,null,{"$f":"SUMIFS(ETo!N$2:N$54,ETo!$B$2:$B$54,'RN 02'!$D$5)","v":0},null,{"$f":"IF(E$315=\"\",\"\",G337*E$315)","v":""},null,{"$f":"SUMIFS(P!N$4:N$103,P!$B$4:$B$103,'RN 02'!$R$5)","v":31},null,8.5999999999999979,null,{"$f":"IF(I337=\"\",\"\",IF((I337-M337)<0,0,I337-M337))","v":""},null,null,{"$f":"IF(O337=\"\",0,O337/$Q$7)","v":0}]
[]
[null,null,null,null,null,null,null,null,null,null,null,null,null,null,null,null,null,{"$f":"SUM(R315:R337)","v":0}]

{"sheet":"RN 02","index":19,"n_rows":54,"n_cols":83,"rows_kept":54,"cut":false,"hidden":false,"merged":[[14,3,14,25],[1,2,1,26],[2,2,2,26],[3,3,3,25],[4,3,4,11],[4,13,4,15],[4,17,4,25]]}
[]
[null,null,"Necesidades de riego en jardines"]
[null,null,"VERDE Equipamiento v 1.W"]
[null,null,"Tipos de vegetación"]
[null,null,"CAPITAL DE PROVINCIA",{"$f":"DG!E12","v":0},null,null,null,null,null,null,null,null,null,"ESTACIÓN METEOROLÓGICA",null,null,null,"Albacete"]
[]
[null,null,"NOMBRE ESPECIE"]
[]
[null,null,"Tipo de vegetación"]
[]
[null,null,"Area (m2)"]
[]
[null,null,"Ks"]
[]
[null,null,"Entorno"]
[]
[null,null,"Km",{"$f":"IF(D9=\"\",\"\",VLOOKUP(D9,$AF37:$AI42,MATCH($D15,$AG37:$AI37,0)+1,0))","v":""},null,{"$f":"IF(F9=\"\",\"\",VLOOKUP(F9,$AF37:$AI42,MATCH($D15,$AG37:$AI37,0)+1,0))","v":""},null,{"$f":"IF(H9=\"\",\"\",VLOOKUP(H9,$AF37:$AI42,MATCH($D15,$AG37:$AI37,0)+1,0))","v":""},null,{"$f":"IF(J9=\"\",\"\",VLOOKUP(J9,$AF37:$AI42,MATCH($D15,$AG37:$AI37,0)+1,0))","v":""},null,{"$f":"IF(L9=\"\",\"\",VLOOKUP(L9,$AF37:$AI42,MATCH($D15,$AG37:$AI37,0)+1,0))","v":""},null,{"$f":"IF(N9=\"\",\"\",VLOOKUP(N9,$AF37:$AI42,MATCH($D15,$AG37:$AI37,0)+1,0))","v":""},null,{"$f":"IF(P9=\"\",\"\",VLOOKUP(P9,$AF37:$AI42,MATCH($D15,$AG37:$AI37,0)+1,0))","v":""},null,{"$f":"IF(R9=\"\",\"\",VLOOKUP(R9,$AF37:$AI42,MATCH($D15,$AG37:$AI37,0)+1,0))","v":""},null,{"$f":"IF(T9=\"\",\"\",VLOOKUP(T9,$AF37:$AI42,MATCH($D15,$AG37:$AI37,0)+1,0))","v":""},null,{"$f":"IF(V9=\"\",\"\",VLOOKUP(V9,$AF37:$AI42,MATCH($D15,$AG37:$AI37,0)+1,0))","v":""},null,{"$f":"IF(X9=\"\",\"\",VLOOKUP(X9,$AF37:$AI42,MATCH($D15,$AG37:$AI37,0)+1,0))","v":""},null,{"$f":"IF(Z9=\"\",\"\",VLOOKUP(Z9,$AF37:$AI42,MATCH($D15,$AG37:$AI37,0)+1,0))","v":""}]
[]
[null,null,"Kj",{"$f":"IF(D17=\"\",\"\",D13*D17)","v":""},null,{"$f":"IF(F17=\"\",\"\",F13*F17)","v":""},null,{"$f":"IF(H17=\"\",\"\",H13*H17)","v":""},null,{"$f":"IF(J17=\"\",\"\",J13*J17)","v":""},null,{"$f":"IF(L17=\"\",\"\",L13*L17)","v":""},null,{"$f":"IF(N17=\"\",\"\",N13*N17)","v":""},null,{"$f":"IF(P17=\"\",\"\",P13*P17)","v":""},null,{"$f":"IF(R17=\"\",\"\",R13*R17)","v":""},null,{"$f":"IF(T17=\"\",\"\",T13*T17)","v":""},null,{"$f":"IF(V17=\"\",\"\",V13*V17)","v":""},null,{"$f":"IF(X17=\"\",\"\",X13*X17)","v":""},null,{"$f":"IF(Z17=\"\",\"\",Z13*Z17)","v":""}]
[]
[null,null,"Tipo de riego"]
[]
[null,null,"Nf (l/m2 año)",{"$f":"IF(Nf!R31>0,Nf!$R$31,0)","v":0},null,{"$f":"IF(Nf!$R$59>0,Nf!$R$59,0)","v":0},null,{"$f":"IF(Nf!$R$87>0,Nf!$R$87,0)","v":0},null,{"$f":"IF(Nf!$R$115>0,Nf!$R$115,0)","v":0},null,{"$f":"IF(Nf!$R$143>0,Nf!$R$143,0)","v":0},null,{"$f":"IF(Nf!$R$171>0,Nf!$R$171,0)","v":0},null,{"$f":"IF(Nf!$R$199>0,Nf!$R$199,0)","v":0},null,{"$f":"IF(Nf!$R$227>0,Nf!$R$227,0)","v":0},null,{"$f":"IF(Nf!$R$255>0,Nf!$R$255,0)","v":0},null,{"$f":"IF(Nf!$R$283>0,Nf!$R$283,0)","v":0},null,{"$f":"IF(Nf!$R$311>0,Nf!$R$311,0)","v":0},null,{"$f":"IF(Nf!$R$339>0,Nf!$R$339,0)","v":0}]
[]
[null,null,"Totales (l/año)",{"$f":"IF(D23>0,IF(D23>0,D11*D23,\"\"),\"\")","v":""},null,{"$f":"IF(F23>0,IF(F23>0,F11*F23,\"\"),\"\")","v":""},null,{"$f":"IF(H23>0,IF(H23>0,H11*H23,\"\"),\"\")","v":""},null,{"$f":"IF(J23>0,IF(J23>0,J11*J23,\"\"),\"\")","v":""},null,{"$f":"IF(L23>0,IF(L23>0,L11*L23,\"\"),\"\")","v":""},null,{"$f":"IF(N23>0,IF(N23>0,N11*N23,\"\"),\"\")","v":""},null,{"$f":"IF(P23>0,IF(P23>0,P11*P23,\"\"),\"\")","v":""},null,{"$f":"IF(R23>0,IF(R23>0,R11*R23,\"\"),\"\")","v":""},null,{"$f":"IF(T23>0,IF(T23>0,T11*T23,\"\"),\"\")","v":""},null,{"$f":"IF(V23>0,IF(V23>0,V11*V23,\"\"),\"\")","v":""},null,{"$f":"IF(X23>0,IF(X23>0,X11*X23,\"\"),\"\")","v":""},null,{"$f":"IF(Z23>0,IF(Z23>0,Z11*Z23,\"\"),\"\")","v":""}]
[]
[null,null,"Superficie de jardín (m2)",{"$f":"SUM(D11:Z11)","v":0}]
[]
[null,null,"Necesidades de riego anuales (l/m2 año)",null,null,{"$f":"SUM(D25:Z25)/D27","v":{"$error":"#DIV/0!"}},null,null,null,null,null,null,null,null,null,"Necesidades de riego anuales REFERENCIA (l/m2 año)",null,{"$f":"JR!$B$3/D27","v":{"$error":"#VALUE!"}},null,null,null,null,null,"Porcentaje de ahorro",null,{"$f":"IF(R29=\"\",\"\",1-(F29/R29))","v":{"$error":"#VALUE!"}}]
[]
[null,null,null,null,null,null,null,null,null,null,null,null,null,null,null,null,null,null,null,null,null,null,null,null,null,null,null,null,null,null,null,"Zona urbana compacta"]
[null,null,null,null,null,null,null,null,null,null,null,null,null,null,null,null,null,null,null,null,null,null,null,null,null,null,null,null,null,null,null,"Zona urbana de baja densidad"]
[null,null,null,null,null,null,null,null,null,null,null,null,null,null,null,null,null,null,null,null,null,null,null,null,null,null,null,null,null,null,null,"Zona rural, campo abierto"]
[]
[]
[]
[null,null,null,null,null,null,null,null,null,null,null,null,null,null,null,null,null,null,null,null,null,null,null,null,null,null,null,null,null,null,null,"Columna1","Zona urbana compacta","Zona urbana de baja densidad","Zona rural, campo abierto"]
[null,null,null,null,null,null,null,null,null,null,null,null,null,null,null,null,null,null,null,null,null,null,null,null,null,null,null,null,null,null,null,"Arboles",1.4,1,0.5]
[null,null,null,null,null,null,null,null,null,null,null,null,null,null,null,null,null,null,null,null,null,null,null,null,null,null,null,null,null,null,null,"Arbustos",1.3,1,0.5]
[null,null,null,null,null,null,null,null,null,null,null,null,null,null,null,null,null,null,null,null,null,null,null,null,null,null,null,null,null,null,null,"Tapizantes",1.2,1,0.5]
[null,null,null,null,null,null,null,null,null,null,null,null,null,null,null,null,null,null,null,null,null,null,null,null,null,null,null,null,null,null,null,"Plantación mixta",1.4,1,0.5,null,"tipo de riego","Ea"]
[null,null,null,null,null,null,null,null,null,null,null,null,null,null,null,null,null,null,null,null,null,null,null,null,null,null,null,null,null,null,null,"Césped",1.2,1,0.8,null,"Riego localizado subterráneo",0.95]
[null,null,null,null,null,null,null,null,null,null,null,null,null,null,null,null,null,null,null,null,null,null,null,null,null,null,null,null,null,null,null,null,null,null,null,null,"Riego localizado en superficie",0.9]
[null,null,null,null,null,null,null,null,null,null,null,null,null,null,null,null,null,null,null,null,null,null,null,null,null,null,null,null,null,null,null,null,null,null,null,null,"Difusores y microaspersores",0.8]
[null,null,null,null,null,null,null,null,null,null,null,null,null,null,null,null,null,null,null,null,null,null,null,null,null,null,null,null,null,null,null,null,null,null,null,null,"Aspersores",0.75]
[]
[null,null,null,null,null,null,null,null,null,null,null,null,null,null,null,null,null,null,null,null,null,null,null,null,null,null,null,null,null,null,null,"Albacete","Alicante","Almería","Ávila","Badajoz","Barcelona","Bilbao","Burgos","Cáceres","Cádiz","Castellón","Ceuta","Ciudad Real","Córdoba","Cuenca","Gerona","Granada","Guadalajara","Huelva","Huesca","Jaén","La Coruña","Las Palmas de Gran Canaria","León","Lérida","Logroño ","Lugo","Madrid","Málaga","Melilla","Murcia","Orense","Oviedo","Palencia","Palma de Mallorca","Pamplona","Pontevedra","Salamanca","San Sebastián","Santa Cruz De Tenerife","Santander","Segovia","Sevilla","Soria","Tarragona","Teruel","Toledo","Valencia","Valladolid","Vitoria","Zamora","Zaragoza"]
[null,null,null,null,null,null,null,null,null,null,null,null,null,null,null,null,null,null,null,null,null,null,null,null,null,null,null,null,null,null,null,"Albacete","Alicante","Almería","Ávila","Badajoz","Barcelona","Bilbao","Burgos","Cáceres","Cádiz","Castellón","Ceuta","Ciudad Real","Córdoba","Cuenca","Gerona","Granada","Guadalajara","Huelva","Huesca","Jaén","La Coruña","Las Palmas de Gran Canaria","León","Lérida","Logroño","Lugo","Colmenar Viejo","Málaga","Melilla","Alcantarilla","Orense","Asturias / Aeropuerto","Palencia","Ibiza","Pamplona","Pontevedra","Salamanca","San Sebastián / Aeropuerto","Hierro","Santander","Segovia","Sevilla / Aeropuerto","Soria","Tarragona","Teruel","Toledo","Valencia","Valladolid","Vitoria","Zamora","Zaragoza"]
[null,null,null,null,null,null,null,null,null,null,null,null,null,null,null,null,null,null,null,null,null,null,null,null,null,null,null,null,null,null,null,null,null,null,null,null,"Barcelona / Fabra",null,null,null,"Cádiz / Tarifa",null,null,null,null,null,null,null,null,null,null,null,"Santiago de Compostela","Lanzarote","León / Virgen del Camino",null,null,null,"Madrid",null,null,"Murcia",null,"Oviedo",null,"Menorca / Mahón",null,"Vigo",null,"San Sebastián / Igueldo","Santa Cruz De Tenerife",null,null,"Sevilla / Morón de la Frontera / B. Aérea",null,"Tarragona / Reus",null,null,"Valencia - Manises","Valladolid / Aeropuerto"]
[null,null,null,null,null,null,null,null,null,null,null,null,null,null,null,null,null,null,null,null,null,null,null,null,null,null,null,null,null,null,null,null,null,null,null,null,null,null,null,null," Jerez de la Frontera",null,null,null,null,null,null,null,null,null,null,null,"Santiago de Compostela","Fuerteventura","León / Virgen del Camino",null,null,null,"Barajas",null,null,"San Javier",null,null,null,"Palma de Mallorca",null,null,null,null,"Tenerife / Aeropuerto Tenerife Sur",null,null,"Sevilla / Tablada",null,null,null,null,null,"Valladolid / Aeropuerto"]
[null,null,null,null,null,null,null,null,null,null,null,null,null,null,null,null,null,null,null,null,null,null,null,null,null,null,null,null,null,null,null,null,null,null,null,null,null,null,null,null,null,null,null,null,null,null,null,null,null,null,null,null,null,null,null,null,null,null,"Cuatro Vientos",null,null,null,null,null,null,"Palma de Mallorca / Aeropuerto",null,null,null,null,"Tenerife / Izaña"]
[null,null,null,null,null,null,null,null,null,null,null,null,null,null,null,null,null,null,null,null,null,null,null,null,null,null,null,null,null,null,null,null,null,null,null,null,null,null,null,null,null,null,null,null,null,null,null,null,null,null,null,null,null,null,null,null,null,null,"Getafe",null,null,null,null,null,null,null,null,null,null,null,"Tenerife / Norte"]
[null,null,null,null,null,null,null,null,null,null,null,null,null,null,null,null,null,null,null,null,null,null,null,null,null,null,null,null,null,null,null,null,null,null,null,null,null,null,null,null,null,null,null,null,null,null,null,null,null,null,null,null,null,null,null,null,null,null,"Puerto Navacerrada"]
[null,null,null,null,null,null,null,null,null,null,null,null,null,null,null,null,null,null,null,null,null,null,null,null,null,null,null,null,null,null,null,null,null,null,null,null,null,null,null,null,null,null,null,null,null,null,null,null,null,null,null,null,null,null,null,null,null,null,"Torrejón De Ardoz"]

{"sheet":"RN 04","index":20,"n_rows":31,"n_cols":30,"rows_kept":31,"cut":false,"hidden":true,"merged":[[1,2,1,14],[2,2,2,14]]}
[]
[null,null,"VERDE HACES Volumen de aguas no potables"]
[null,null,"VERDE W equipamiento"]
[null,null,null,null,null,null,null,null,null,null,null,null,null,null,null,null,null,null,null,null,null,null,"Albacete",null,"ANDALUCIA"]
[null,null,null,null,null,"Demanda mensual de agua no potable (m3)",null,"Captación de aguas grises (m3)",null,"Precipitación (m)",null,"Captación de aguas pluviales",null,"Ahorro aguas pluviales",null,"Demanda sin cubrir"]
[]
[null,null,null,"ENE",null,{"$f":"(('RN 01'!$I$20+'RN 01'!$S$20)*365/12000)+(Nf!R7+Nf!R35+Nf!R63+Nf!R91+Nf!R119+Nf!R147+Nf!R175+Nf!R203+Nf!R231+Nf!R259+Nf!R287+Nf!R315)","v":0.36499999999999999},null,{"$f":"RN!$H$70","v":0},null,{"$f":"SUMIFS(P!C$4:C$103,P!$B$4:$B$103,'RN 02'!$R$5)","v":21},null,{"$f":"RN!$H$74*RN!$H$76*J7*0.01*RN!$H$78","v":0},null,{"$f":"IF(L7+H7-F7>RN!$H$80,RN!$H$80,IF(L7+H7-F7<0,0,L7+H7-F7))","v":0},null,{"$f":"IF(F7-H7-L7<0,0,F7-H7-L7)","v":0.36499999999999999},null,null,{"$f":"SUMIFS(P!C$4:C$103,P!$B$4:$B$103,'RN 02'!$R$5)","v":21},{"$f":"SUMIFS(P!D$4:D$103,P!$B$4:$B$103,'RN 02'!$R$5)","v":25},{"$f":"SUMIFS(P!E$4:E$103,P!$B$4:$B$103,'RN 02'!$R$5)","v":27},{"$f":"SUMIFS(P!F$4:F$103,P!$B$4:$B$103,'RN 02'!$R$5)","v":40},{"$f":"SUMIFS(P!G$4:G$103,P!$B$4:$B$103,'RN 02'!$R$5)","v":43},{"$f":"SUMIFS(P!H$4:H$103,P!$B$4:$B$103,'RN 02'!$R$5)","v":35},{"$f":"SUMIFS(P!I$4:I$103,P!$B$4:$B$103,'RN 02'!$R$5)","v":9},{"$f":"SUMIFS(P!J$4:J$103,P!$B$4:$B$103,'RN 02'!$R$5)","v":11},{"$f":"SUMIFS(P!K$4:K$103,P!$B$4:$B$103,'RN 02'!$R$5)","v":34},{"$f":"SUMIFS(P!L$4:L$103,P!$B$4:$B$103,'RN 02'!$R$5)","v":42},{"$f":"SUMIFS(P!M$4:M$103,P!$B$4:$B$103,'RN 02'!$R$5)","v":34},{"$f":"SUMIFS(P!N$4:N$103,P!$B$4:$B$103,'RN 02'!$R$5)","v":31}]
[]
[null,null,null,"FEB",null,{"$f":"(('RN 01'!$I$20+'RN 01'!$S$20)*365/12000)+(Nf!R9+Nf!R37+Nf!R65+Nf!R93+Nf!R121+Nf!R149+Nf!R177+Nf!R205+Nf!R233+Nf!R261+Nf!R289+Nf!R317)","v":0.36499999999999999},null,{"$f":"RN!$H$70","v":0},null,{"$f":"SUMIFS(P!D$4:D$103,P!$B$4:$B$103,'RN 02'!$R$5)","v":25},null,{"$f":"(RN!$H$74*RN!$H$76*J9*0.01*RN!$H$78)+N7","v":0},null,{"$f":"IF(L9+H9-F9>RN!$H$80,RN!$H$80,IF(L9+H9-F9<0,0,L9+H9-F9))","v":0},null,{"$f":"IF(F9-H9-L9<0,0,F9-H9-L9)","v":0.36499999999999999}]
[]
[null,null,null,"MAR",null,{"$f":"(('RN 01'!$I$20+'RN 01'!$S$20)*365/12000)+(Nf!R11+Nf!R39+Nf!R67+Nf!R95+Nf!R123+Nf!R151+Nf!R179+Nf!R207+Nf!R235+Nf!R263+Nf!R291+Nf!R319)","v":0.36499999999999999},null,{"$f":"RN!$H$70","v":0},null,{"$f":"SUMIFS(P!E$4:E$103,P!$B$4:$B$103,'RN 02'!$R$5)","v":27},null,{"$f":"(RN!$H$74*RN!$H$76*J11*0.01*RN!$H$78)+N9","v":0},null,{"$f":"IF(L11+H11-F11>RN!$H$80,RN!$H$80,IF(L11+H11-F11<0,0,L11+H11-F11))","v":0},null,{"$f":"IF(F11-H11-L11<0,0,F11-H11-L11)","v":0.36499999999999999},null,null,null,null,"Riego localizado subterráneo",0.95]
[]
[null,null,null,"ABR",null,{"$f":"(('RN 01'!$I$20+'RN 01'!$S$20)*365/12000)+(Nf!R13+Nf!R41+Nf!R69+Nf!R97+Nf!R125+Nf!R153+Nf!R181+Nf!R209+Nf!R237+Nf!R265+Nf!R293+Nf!R321)","v":0.36499999999999999},null,{"$f":"RN!$H$70","v":0},null,{"$f":"SUMIFS(P!F$4:F$103,P!$B$4:$B$103,'RN 02'!$R$5)","v":40},null,{"$f":"(RN!$H$74*RN!$H$76*J13*0.01*RN!$H$78)+N11","v":0},null,{"$f":"IF(L13+H13-F13>RN!$H$80,RN!$H$80,IF(L13+H13-F13<0,0,L13+H13-F13))","v":0},null,{"$f":"IF(F13-H13-L13<0,0,F13-H13-L13)","v":0.36499999999999999},null,null,null,null,"Riego localizado en superficie",0.9]
[]
[null,null,null,"MAY",null,{"$f":"(('RN 01'!$I$20+'RN 01'!$S$20)*365/12000)+(Nf!R15+Nf!R43+Nf!R71+Nf!R99+Nf!R127+Nf!R155+Nf!R183+Nf!R211+Nf!R239+Nf!R267+Nf!R295+Nf!R323)","v":0.36499999999999999},null,{"$f":"RN!$H$70","v":0},null,{"$f":"SUMIFS(P!G$4:G$103,P!$B$4:$B$103,'RN 02'!$R$5)","v":43},null,{"$f":"(RN!$H$74*RN!$H$76*J15*0.01*RN!$H$78)+N13","v":0},null,{"$f":"IF(L15+H15-F15>RN!$H$80,RN!$H$80,IF(L15+H15-F15<0,0,L15+H15-F15))","v":0},null,{"$f":"IF(F15-H15-L15<0,0,F15-H15-L15)","v":0.36499999999999999},null,null,null,null,"Difusores y microaspersores",0.8]
[]
[null,null,null,"JUN",null,{"$f":"(('RN 01'!$I$20+'RN 01'!$S$20)*365/12000)+(Nf!R17+Nf!R45+Nf!R73+Nf!R101+Nf!R129+Nf!R157+Nf!R185+Nf!R213+Nf!R241+Nf!R269+Nf!R297+Nf!R325)","v":0.36499999999999999},null,{"$f":"RN!$H$70","v":0},null,{"$f":"SUMIFS(P!H$4:H$103,P!$B$4:$B$103,'RN 02'!$R$5)","v":35},null,{"$f":"(RN!$H$74*RN!$H$76*J17*0.01*RN!$H$78)+N15","v":0},null,{"$f":"IF(L17+H17-F17>RN!$H$80,RN!$H$80,IF(L17+H17-F17<0,0,L17+H17-F17))","v":0},null,{"$f":"IF(F17-H17-L17<0,0,F17-H17-L17)","v":0.36499999999999999},null,null,null,null,"Aspersores",0.75]
[]
[null,null,null,"JUL",null,{"$f":"(('RN 01'!$I$20+'RN 01'!$S$20)*365/12000)+(Nf!R19+Nf!R47+Nf!R75+Nf!R103+Nf!R131+Nf!R159+Nf!R187+Nf!R215+Nf!R243+Nf!R271+Nf!R299+Nf!R327)","v":0.36499999999999999},null,{"$f":"RN!$H$70","v":0},null,{"$f":"SUMIFS(P!I$4:I$103,P!$B$4:$B$103,'RN 02'!$R$5)","v":9},null,{"$f":"(RN!$H$74*RN!$H$76*J19*0.01*RN!$H$78)+N17","v":0},null,{"$f":"IF(L19+H19-F19>RN!$H$80,RN!$H$80,IF(L19+H19-F19<0,0,L19+H19-F19))","v":0},null,{"$f":"IF(F19-H19-L19<0,0,F19-H19-L19)","v":0.36499999999999999},null,null,null,null,"Superficie",0.55000000000000004]
[]
[null,null,null,"AGO",null,{"$f":"(('RN 01'!$I$20+'RN 01'!$S$20)*365/12000)+(Nf!R21+Nf!R49+Nf!R77+Nf!R105+Nf!R133+Nf!R161+Nf!R189+Nf!R217+Nf!R245+Nf!R273+Nf!R301+Nf!R329)","v":0.36499999999999999},null,{"$f":"RN!$H$70","v":0},null,{"$f":"SUMIFS(P!J$4:J$103,P!$B$4:$B$103,'RN 02'!$R$5)","v":11},null,{"$f":"(RN!$H$74*RN!$H$76*J21*0.01*RN!$H$78)+N19","v":0},null,{"$f":"IF(L21+H21-F21>RN!$H$80,RN!$H$80,IF(L21+H21-F21<0,0,L21+H21-F21))","v":0},null,{"$f":"IF(F21-H21-L21<0,0,F21-H21-L21)","v":0.36499999999999999}]
[]
[null,null,null,"SEP",null,{"$f":"(('RN 01'!$I$20+'RN 01'!$S$20)*365/12000)+(Nf!R23+Nf!R51+Nf!R79+Nf!R107+Nf!R135+Nf!R163+Nf!R191+Nf!R219+Nf!R247+Nf!R275+Nf!R303+Nf!R331)","v":0.36499999999999999},null,{"$f":"RN!$H$70","v":0},null,{"$f":"SUMIFS(P!K$4:K$103,P!$B$4:$B$103,'RN 02'!$R$5)","v":34},null,{"$f":"(RN!$H$74*RN!$H$76*J23*0.01*RN!$H$78)+N21","v":0},null,{"$f":"IF(L23+H23-F23>RN!$H$80,RN!$H$80,IF(L23+H23-F23<0,0,L23+H23-F23))","v":0},null,{"$f":"IF(F23-H23-L23<0,0,F23-H23-L23)","v":0.36499999999999999}]
[]
[null,null,null,"OCT",null,{"$f":"(('RN 01'!$I$20+'RN 01'!$S$20)*365/12000)+(Nf!R25+Nf!R53+Nf!R81+Nf!R109+Nf!R137+Nf!R165+Nf!R193+Nf!R221+Nf!R249+Nf!R277+Nf!R305+Nf!R333)","v":0.36499999999999999},null,{"$f":"RN!$H$70","v":0},null,{"$f":"SUMIFS(P!L$4:L$103,P!$B$4:$B$103,'RN 02'!$R$5)","v":42},null,{"$f":"(RN!$H$74*RN!$H$76*J25*0.01*RN!$H$78)+N23","v":0},null,{"$f":"IF(L25+H25-F25>RN!$H$80,RN!$H$80,IF(L25+H25-F25<0,0,L25+H25-F25))","v":0},null,{"$f":"IF(F25-H25-L25<0,0,F25-H25-L25)","v":0.36499999999999999}]
[]
[null,null,null,"NOV",null,{"$f":"(('RN 01'!$I$20+'RN 01'!$S$20)*365/12000)+(Nf!R27+Nf!R55+Nf!R83+Nf!R111+Nf!R139+Nf!R167+Nf!R195+Nf!R223+Nf!R251+Nf!R279+Nf!R307+Nf!R335)","v":0.36499999999999999},null,{"$f":"RN!$H$70","v":0},null,{"$f":"SUMIFS(P!M$4:M$103,P!$B$4:$B$103,'RN 02'!$R$5)","v":34},null,{"$f":"(RN!$H$74*RN!$H$76*J27*0.01*RN!$H$78)+N25","v":0},null,{"$f":"IF(L27+H27-F27>RN!$H$80,RN!$H$80,IF(L27+H27-F27<0,0,L27+H27-F27))","v":0},null,{"$f":"IF(F27-H27-L27<0,0,F27-H27-L27)","v":0.36499999999999999}]
[]
[null,null,null,"DIC",null,{"$f":"(('RN 01'!$I$20+'RN 01'!$S$20)*365/12000)+(Nf!R29+Nf!R57+Nf!R85+Nf!R113+Nf!R141+Nf!R169+Nf!R197+Nf!R225+Nf!R253+Nf!R281+Nf!R309+Nf!R337)","v":0.36499999999999999},null,{"$f":"RN!$H$70","v":0},null,{"$f":"SUMIFS(P!N$4:N$103,P!$B$4:$B$103,'RN 02'!$R$5)","v":31},null,{"$f":"(RN!$H$74*RN!$H$76*J29*0.01*RN!$H$78)+N27","v":0},null,{"$f":"IF(L29+H29-F29>RN!$H$80,RN!$H$80,IF(L29+H29-F29<0,0,L29+H29-F29))","v":0},null,{"$f":"IF(F29-H29-L29<0,0,F29-H29-L29)","v":0.36499999999999999}]
[]
[null,null,null,null,null,{"$f":"SUM(F7:F29)","v":4.3800000000000008},null,null,null,null,null,{"$f":"SUM(L7:L29)","v":0},null,null,null,{"$f":"SUM(P7:P29)","v":4.3800000000000008},null,{"$f":"1-(P31/F31)","v":0}]

{"sheet":"RN 07","index":21,"n_rows":231,"n_cols":17,"rows_kept":231,"cut":false,"hidden":false,"merged":[[4,2,4,4],[1,2,1,12],[2,2,2,12],[7,2,7,4],[9,2,9,4]]}
[]
[null,null,"Uso de materiales locales"]
[null,null,"VERDE W Equipamiento"]
[]
[null,null,"Unidad Funcional Equivalente",null,null,null,{"$f":"RN!$H104","v":0}]
[]
[]
[null,null,"Total de materiales locales",null,null,null,{"$f":"SUM(M15:M232)","v":0}]
[]
[null,null,"Porcentaje de materiales locales",null,null,null,{"$f":"IF(OR(RN!H109=0,RN!H109=\"\"),\"\",(G8/RN!H109))","v":""}]
[]
[]
[null,null,"Código del material en las mediciones",null,"Descripción del material",null,{"$f":"CONCATENATE(G5,Q13)","v":"0 del material"},null,"Localización de la planta de producción.",null,"Distancia en Km a la obra",null,"Cantidad de material a considerar",null,null,null," del material"]
[]
[null,1,null,null,null,null,null,null,null,null,null,null,{"$f":"IF(K15<200,G15,IF(K15>400,0,G15*(1-(K15-200)/200)))","v":0}]
[]
[null,2,null,null,null,null,null,null,null,null,null,null,{"$f":"IF(K17<200,G17,IF(K17>400,0,G17*(1-(K17-200)/200)))","v":0}]
[]
[null,3,null,null,null,null,null,null,null,null,null,null,{"$f":"IF(K19<200,G19,IF(K19>400,0,G19*(1-(K19-200)/200)))","v":0}]
[]
[null,4,null,null,null,null,null,null,null,null,null,null,{"$f":"IF(K21<200,G21,IF(K21>400,0,G21*(1-(K21-200)/200)))","v":0}]
[]
[null,5,null,null,null,null,null,null,null,null,null,null,{"$f":"IF(K23<200,G23,IF(K23>400,0,G23*(1-(K23-200)/200)))","v":0}]
[]
[null,6,null,null,null,null,null,null,null,null,null,null,{"$f":"IF(K25<200,G25,IF(K25>400,0,G25*(1-(K25-200)/200)))","v":0}]
[]
[null,7,null,null,null,null,null,null,null,null,null,null,{"$f":"IF(K27<200,G27,IF(K27>400,0,G27*(1-(K27-200)/200)))","v":0}]
[]
[null,8,null,null,null,null,null,null,null,null,null,null,{"$f":"IF(K29<200,G29,IF(K29>400,0,G29*(1-(K29-200)/200)))","v":0}]
[]
[null,9,null,null,null,null,null,null,null,null,null,null,{"$f":"IF(K31<200,G31,IF(K31>400,0,G31*(1-(K31-200)/200)))","v":0}]
[]
[null,10,null,null,null,null,null,null,null,null,null,null,{"$f":"IF(K33<200,G33,IF(K33>400,0,G33*(1-(K33-200)/200)))","v":0}]
[]
[null,11,null,null,null,null,null,null,null,null,null,null,{"$f":"IF(K35<200,G35,IF(K35>400,0,G35*(1-(K35-200)/200)))","v":0}]
[]
[null,12,null,null,null,null,null,null,null,null,null,null,{"$f":"IF(K37<200,G37,IF(K37>400,0,G37*(1-(K37-200)/200)))","v":0}]
[]
[null,13,null,null,null,null,null,null,null,null,null,null,{"$f":"IF(K39<200,G39,IF(K39>400,0,G39*(1-(K39-200)/200)))","v":0}]
[]
[null,14,null,null,null,null,null,null,null,null,null,null,{"$f":"IF(K41<200,G41,IF(K41>400,0,G41*(1-(K41-200)/200)))","v":0}]
[]
[null,15,null,null,null,null,null,null,null,null,null,null,{"$f":"IF(K43<200,G43,IF(K43>400,0,G43*(1-(K43-200)/200)))","v":0}]
[]
[null,16,null,null,null,null,null,null,null,null,null,null,{"$f":"IF(K45<200,G45,IF(K45>400,0,G45*(1-(K45-200)/200)))","v":0}]
[]
[null,17,null,null,null,null,null,null,null,null,null,null,{"$f":"IF(K47<200,G47,IF(K47>400,0,G47*(1-(K47-200)/200)))","v":0}]
[]
[null,18,null,null,null,null,null,null,null,null,null,null,{"$f":"IF(K49<200,G49,IF(K49>400,0,G49*(1-(K49-200)/200)))","v":0}]
[]
[null,19,null,null,null,null,null,null,null,null,null,null,{"$f":"IF(K51<200,G51,IF(K51>400,0,G51*(1-(K51-200)/200)))","v":0}]
[]
[null,20,null,null,null,null,null,null,null,null,null,null,{"$f":"IF(K53<200,G53,IF(K53>400,0,G53*(1-(K53-200)/200)))","v":0}]
[]
[null,21,null,null,null,null,null,null,null,null,null,null,{"$f":"IF(K55<200,G55,IF(K55>400,0,G55*(1-(K55-200)/200)))","v":0}]
[]
[null,22,null,null,null,null,null,null,null,null,null,null,{"$f":"IF(K57<200,G57,IF(K57>400,0,G57*(1-(K57-200)/200)))","v":0}]
[]
[null,23,null,null,null,null,null,null,null,null,null,null,{"$f":"IF(K59<200,G59,IF(K59>400,0,G59*(1-(K59-200)/200)))","v":0}]
[]
[null,24,null,null,null,null,null,null,null,null,null,null,{"$f":"IF(K61<200,G61,IF(K61>400,0,G61*(1-(K61-200)/200)))","v":0}]
[]
[null,25,null,null,null,null,null,null,null,null,null,null,{"$f":"IF(K63<200,G63,IF(K63>400,0,G63*(1-(K63-200)/200)))","v":0}]
[]
[null,26,null,null,null,null,null,null,null,null,null,null,{"$f":"IF(K65<200,G65,IF(K65>400,0,G65*(1-(K65-200)/200)))","v":0}]
[]
[null,27,null,null,null,null,null,null,null,null,null,null,{"$f":"IF(K67<200,G67,IF(K67>400,0,G67*(1-(K67-200)/200)))","v":0}]
[]
[null,28,null,null,null,null,null,null,null,null,null,null,{"$f":"IF(K69<200,G69,IF(K69>400,0,G69*(1-(K69-200)/200)))","v":0}]
[]
[null,29,null,null,null,null,null,null,null,null,null,null,{"$f":"IF(K71<200,G71,IF(K71>400,0,G71*(1-(K71-200)/200)))","v":0}]
[]
[null,30,null,null,null,null,null,null,null,null,null,null,{"$f":"IF(K73<200,G73,IF(K73>400,0,G73*(1-(K73-200)/200)))","v":0}]
[]
[null,31,null,null,null,null,null,null,null,null,null,null,{"$f":"IF(K75<200,G75,G75*(1-(K75-200)/200))","v":0}]
[]
[null,32,null,null,null,null,null,null,null,null,null,null,{"$f":"IF(K77<200,G77,G77*(1-(K77-200)/200))","v":0}]
[]
[null,33,null,null,null,null,null,null,null,null,null,null,{"$f":"IF(K79<200,G79,G79*(1-(K79-200)/200))","v":0}]
[]
[null,34,null,null,null,null,null,null,null,null,null,null,{"$f":"IF(K81<200,G81,G81*(1-(K81-200)/200))","v":0}]
[]
[null,35,null,null,null,null,null,null,null,null,null,null,{"$f":"IF(K83<200,G83,G83*(1-(K83-200)/200))","v":0}]
[]
[null,36,null,null,null,null,null,null,null,null,null,null,{"$f":"IF(K85<200,G85,G85*(1-(K85-200)/200))","v":0}]
[]
[null,37,null,null,null,null,null,null,null,null,null,null,{"$f":"IF(K87<200,G87,G87*(1-(K87-200)/200))","v":0}]
[]
[null,38,null,null,null,null,null,null,null,null,null,null,{"$f":"IF(K89<200,G89,G89*(1-(K89-200)/200))","v":0}]
[]
[null,39,null,null,null,null,null,null,null,null,null,null,{"$f":"IF(K91<200,G91,G91*(1-(K91-200)/200))","v":0}]
[]
[null,40,null,null,null,null,null,null,null,null,null,null,{"$f":"IF(K93<200,G93,G93*(1-(K93-200)/200))","v":0}]
[]
[null,41,null,null,null,null,null,null,null,null,null,null,{"$f":"IF(K95<200,G95,G95*(1-(K95-200)/200))","v":0}]
[]
[null,42,null,null,null,null,null,null,null,null,null,null,{"$f":"IF(K97<200,G97,G97*(1-(K97-200)/200))","v":0}]
[]
[null,43,null,null,null,null,null,null,null,null,null,null,{"$f":"IF(K99<200,G99,G99*(1-(K99-200)/200))","v":0}]
[]
[null,44,null,null,null,null,null,null,null,null,null,null,{"$f":"IF(K101<200,G101,G101*(1-(K101-200)/200))","v":0}]
[]
[null,45,null,null,null,null,null,null,null,null,null,null,{"$f":"IF(K103<200,G103,G103*(1-(K103-200)/200))","v":0}]
[]
[null,46,null,null,null,null,null,null,null,null,null,null,{"$f":"IF(K105<200,G105,G105*(1-(K105-200)/200))","v":0}]
[]
[null,47,null,null,null,null,null,null,null,null,null,null,{"$f":"IF(K107<200,G107,G107*(1-(K107-200)/200))","v":0}]
[]
[null,48,null,null,null,null,null,null,null,null,null,null,{"$f":"IF(K109<200,G109,G109*(1-(K109-200)/200))","v":0}]
[]
[null,49,null,null,null,null,null,null,null,null,null,null,{"$f":"IF(K111<200,G111,G111*(1-(K111-200)/200))","v":0}]
[]
[null,50,null,null,null,null,null,null,null,null,null,null,{"$f":"IF(K113<200,G113,G113*(1-(K113-200)/200))","v":0}]
[]
[null,51,null,null,null,null,null,null,null,null,null,null,{"$f":"IF(K115<200,G115,G115*(1-(K115-200)/200))","v":0}]
[]
[null,52,null,null,null,null,null,null,null,null,null,null,{"$f":"IF(K117<200,G117,G117*(1-(K117-200)/200))","v":0}]
[]
[null,53,null,null,null,null,null,null,null,null,null,null,{"$f":"IF(K119<200,G119,G119*(1-(K119-200)/200))","v":0}]
[]
[null,54,null,null,null,null,null,null,null,null,null,null,{"$f":"IF(K121<200,G121,G121*(1-(K121-200)/200))","v":0}]
[]
[null,55,null,null,null,null,null,null,null,null,null,null,{"$f":"IF(K123<200,G123,G123*(1-(K123-200)/200))","v":0}]
[]
[null,56,null,null,null,null,null,null,null,null,null,null,{"$f":"IF(K125<200,G125,G125*(1-(K125-200)/200))","v":0}]
[]
[null,57,null,null,null,null,null,null,null,null,null,null,{"$f":"IF(K127<200,G127,G127*(1-(K127-200)/200))","v":0}]
[]
[null,58,null,null,null,null,null,null,null,null,null,null,{"$f":"IF(K129<200,G129,G129*(1-(K129-200)/200))","v":0}]
[]
[null,59,null,null,null,null,null,null,null,null,null,null,{"$f":"IF(K131<200,G131,G131*(1-(K131-200)/200))","v":0}]
[]
[null,60,null,null,null,null,null,null,null,null,null,null,{"$f":"IF(K133<200,G133,G133*(1-(K133-200)/200))","v":0}]
[]
[null,61,null,null,null,null,null,null,null,null,null,null,{"$f":"IF(K135<200,G135,G135*(1-(K135-200)/200))","v":0}]
[]
[null,62,null,null,null,null,null,null,null,null,null,null,{"$f":"IF(K137<200,G137,G137*(1-(K137-200)/200))","v":0}]
[]
[null,63,null,null,null,null,null,null,null,null,null,null,{"$f":"IF(K139<200,G139,G139*(1-(K139-200)/200))","v":0}]
[]
[null,64,null,null,null,null,null,null,null,null,null,null,{"$f":"IF(K141<200,G141,G141*(1-(K141-200)/200))","v":0}]
[]
[null,65,null,null,null,null,null,null,null,null,null,null,{"$f":"IF(K143<200,G143,G143*(1-(K143-200)/200))","v":0}]
[]
[null,66,null,null,null,null,null,null,null,null,null,null,{"$f":"IF(K145<200,G145,G145*(1-(K145-200)/200))","v":0}]
[]
[null,67,null,null,null,null,null,null,null,null,null,null,{"$f":"IF(K147<200,G147,G147*(1-(K147-200)/200))","v":0}]
[]
[null,68,null,null,null,null,null,null,null,null,null,null,{"$f":"IF(K149<200,G149,G149*(1-(K149-200)/200))","v":0}]
[]
[null,69,null,null,null,null,null,null,null,null,null,null,{"$f":"IF(K151<200,G151,G151*(1-(K151-200)/200))","v":0}]
[]
[null,70,null,null,null,null,null,null,null,null,null,null,{"$f":"IF(K153<200,G153,G153*(1-(K153-200)/200))","v":0}]
[]
[null,71,null,null,null,null,null,null,null,null,null,null,{"$f":"IF(K155<200,G155,G155*(1-(K155-200)/200))","v":0}]
[]
[null,72,null,null,null,null,null,null,null,null,null,null,{"$f":"IF(K157<200,G157,G157*(1-(K157-200)/200))","v":0}]
[]
[null,73,null,null,null,null,null,null,null,null,null,null,{"$f":"IF(K159<200,G159,G159*(1-(K159-200)/200))","v":0}]
[]
[null,74,null,null,null,null,null,null,null,null,null,null,{"$f":"IF(K161<200,G161,G161*(1-(K161-200)/200))","v":0}]
[]
[null,75,null,null,null,null,null,null,null,null,null,null,{"$f":"IF(K163<200,G163,G163*(1-(K163-200)/200))","v":0}]
[]
[null,76,null,null,null,null,null,null,null,null,null,null,{"$f":"IF(K165<200,G165,G165*(1-(K165-200)/200))","v":0}]
[]
[null,77,null,null,null,null,null,null,null,null,null,null,{"$f":"IF(K167<200,G167,G167*(1-(K167-200)/200))","v":0}]
[]
[null,78,null,null,null,null,null,null,null,null,null,null,{"$f":"IF(K169<200,G169,G169*(1-(K169-200)/200))","v":0}]
[]
[null,79,null,null,null,null,null,null,null,null,null,null,{"$f":"IF(K171<200,G171,G171*(1-(K171-200)/200))","v":0}]
[]
[null,80,null,null,null,null,null,null,null,null,null,null,{"$f":"IF(K173<200,G173,G173*(1-(K173-200)/200))","v":0}]
[]
[null,81,null,null,null,null,null,null,null,null,null,null,{"$f":"IF(K175<200,G175,G175*(1-(K175-200)/200))","v":0}]
[]
[null,82,null,null,null,null,null,null,null,null,null,null,{"$f":"IF(K177<200,G177,G177*(1-(K177-200)/200))","v":0}]
[]
[null,83,null,null,null,null,null,null,null,null,null,null,{"$f":"IF(K179<200,G179,G179*(1-(K179-200)/200))","v":0}]
[]
[null,84,null,null,null,null,null,null,null,null,null,null,{"$f":"IF(K181<200,G181,G181*(1-(K181-200)/200))","v":0}]
[]
[null,85,null,null,null,null,null,null,null,null,null,null,{"$f":"IF(K183<200,G183,G183*(1-(K183-200)/200))","v":0}]
[]
[null,86,null,null,null,null,null,null,null,null,null,null,{"$f":"IF(K185<200,G185,G185*(1-(K185-200)/200))","v":0}]
[]
[null,87,null,null,null,null,null,null,null,null,null,null,{"$f":"IF(K187<200,G187,G187*(1-(K187-200)/200))","v":0}]
[]
[null,88,null,null,null,null,null,null,null,null,null,null,{"$f":"IF(K189<200,G189,G189*(1-(K189-200)/200))","v":0}]
[]
[null,89,null,null,null,null,null,null,null,null,null,null,{"$f":"IF(K191<200,G191,G191*(1-(K191-200)/200))","v":0}]
[]
[null,90,null,null,null,null,null,null,null,null,null,null,{"$f":"IF(K193<200,G193,G193*(1-(K193-200)/200))","v":0}]
[]
[null,91,null,null,null,null,null,null,null,null,null,null,{"$f":"IF(K195<200,G195,G195*(1-(K195-200)/200))","v":0}]
[]
[null,92,null,null,null,null,null,null,null,null,null,null,{"$f":"IF(K197<200,G197,G197*(1-(K197-200)/200))","v":0}]
[]
[null,93,null,null,null,null,null,null,null,null,null,null,{"$f":"IF(K199<200,G199,G199*(1-(K199-200)/200))","v":0}]
[]
[null,94,null,null,null,null,null,null,null,null,null,null,{"$f":"IF(K201<200,G201,G201*(1-(K201-200)/200))","v":0}]
[]
[null,95,null,null,null,null,null,null,null,null,null,null,{"$f":"IF(K203<200,G203,G203*(1-(K203-200)/200))","v":0}]
[]
[null,96,null,null,null,null,null,null,null,null,null,null,{"$f":"IF(K205<200,G205,G205*(1-(K205-200)/200))","v":0}]
[]
[null,97,null,null,null,null,null,null,null,null,null,null,{"$f":"IF(K207<200,G207,G207*(1-(K207-200)/200))","v":0}]
[]
[null,98,null,null,null,null,null,null,null,null,null,null,{"$f":"IF(K209<200,G209,G209*(1-(K209-200)/200))","v":0}]
[]
[null,99,null,null,null,null,null,null,null,null,null,null,{"$f":"IF(K211<200,G211,G211*(1-(K211-200)/200))","v":0}]
[]
[null,100,null,null,null,null,null,null,null,null,null,null,{"$f":"IF(K213<200,G213,G213*(1-(K213-200)/200))","v":0}]
[]
[null,101,null,null,null,null,null,null,null,null,null,null,{"$f":"IF(K215<200,G215,G215*(1-(K215-200)/200))","v":0}]
[]
[null,102,null,null,null,null,null,null,null,null,null,null,{"$f":"IF(K217<200,G217,G217*(1-(K217-200)/200))","v":0}]
[]
[null,103,null,null,null,null,null,null,null,null,null,null,{"$f":"IF(K219<200,G219,G219*(1-(K219-200)/200))","v":0}]
[]
[null,104,null,null,null,null,null,null,null,null,null,null,{"$f":"IF(K221<200,G221,G221*(1-(K221-200)/200))","v":0}]
[]
[null,105,null,null,null,null,null,null,null,null,null,null,{"$f":"IF(K223<200,G223,G223*(1-(K223-200)/200))","v":0}]
[]
[null,106,null,null,null,null,null,null,null,null,null,null,{"$f":"IF(K225<200,G225,G225*(1-(K225-200)/200))","v":0}]
[]
[null,107,null,null,null,null,null,null,null,null,null,null,{"$f":"IF(K227<200,G227,G227*(1-(K227-200)/200))","v":0}]
[]
[null,108,null,null,null,null,null,null,null,null,null,null,{"$f":"IF(K229<200,G229,G229*(1-(K229-200)/200))","v":0}]
[]
[null,109,null,null,null,null,null,null,null,null,null,null,{"$f":"IF(K231<200,G231,G231*(1-(K231-200)/200))","v":0}]

{"sheet":"RN 10","index":22,"n_rows":31,"n_cols":18,"rows_kept":31,"cut":false,"hidden":false,"merged":[[1,2,1,12],[2,2,2,12],[4,2,4,4],[28,2,28,4],[30,2,30,4],[7,2,7,4],[9,2,9,4],[9,6,9,8]]}
[]
[null,null,"Impacto de los materiales"]
[null,null,"VERDE W Equipamiento"]
[]
[null,null,"Unidad Funcional Equivalente",null,null,null,{"$f":"RN!$H104","v":0}]
[]
[]
[null,null,"Construcción del edificio de referencia",null,null,null,null,null,null,null,null,null,null,null,null,null," del material","Base del banco de precios CYPE"]
[null,null,null,null,null,null,null,null,null,null,null,null,null,null,null,null,null,"Base del banco de precios BEDEC"]
[null,null,"Base de datos de impactos de materiales empleada:",null,null,null,"Base del banco de precios BEDEC",null,null,null,null,null,null,null,null,null,null,"Otra base de datos"]
[]
[null,null,"Superficie de fachada:",null,null,null,null,null,"Superficie de cubierta:"]
[]
[null,null,"Superficie particiones interiores horizontales:",null,null,null,null,null,"Superficie particiones interiores verticales:"]
[]
[null,null,"Superficie medianeras:"]
[]
[null,null,"Superficie suelos:",null,null,null,null,null,"Superficie muros de contención:"]
[]
[null,null,"Superficie huecos fachada norte:",null,null,null,null,null,"Porcentaje huecos fachada norte"]
[]
[null,null,"Superficie huecos fachada sur:",null,null,null,null,null,"Porcentaje huecos fachada sur"]
[]
[null,null,"Superficie huecos fachada este/oeste:",null,null,null,null,null,"Porcentaje huecos fachadaeste/oeste"]
[]
[null,null,"Superficie huecos fachada sureste/suroeste:",null,null,null,null,null,"Porcentaje huecos fachada sureste/suroeste"]
[]
[]
[null,null,"Energía embebida de Referencia (MJ)",null,null,null,{"$f":"'Mat Ref'!H36","v":0},null,1000]
[]
[null,null,"Emisiones de CO2 de Referencia (kg CO2 eq.)",null,null,null,{"$f":"'Mat Ref'!I36","v":0},null,1100]

{"sheet":"DATOSMat","index":23,"n_rows":30,"n_cols":11,"rows_kept":30,"cut":false,"hidden":true,"merged":[[1,9,1,10]]}
[]
[null,null,null,null,null,null,"Materias primas","Energía","Emisiones","Rsiduos"]
[null,"ELEMENTO","MATERIAL",null,"ESPESOR AISLAMIENTO","Ud.","kg/Ud","MJ/Ud","kgCO2/Ud","kg/Ud","m3"]
[]
[null,"CUBIERTA","TOTAL","A",0.04,"m2",897.67599999999993,1469.4690000000001,168.62540999999999,7.44,2.7E-2]
[null,null,null,"B",0.05,null,897.78599999999994,1481.759,170.44540999999998,7.44,2.7E-2]
[null,null,null,"C",0.06,null,897.88599999999997,1494.039,172.25540999999998,7.44,2.7E-2]
[null,null,null,"D",7.0000000000000007E-2,null,897.99599999999998,1506.329,174.06540999999999,7.44,2.7E-2]
[null,null,null,"E",0.08,null,898.096,1518.6089999999999,175.88540999999998,7.44,2.7E-2]
[]
[null,"FORJADOS INTERIORES","TOTAL",null,0,"m2",440.71000000000004,1055.72,103.99000000000001,8.76,1.6300000000000002E-2]
[]
[null,"MEDIANERA","TOTAL",null,0.02,"m2",167.46599999999998,634.68999999999994,45.93,6.01,1.6E-2]
[]
[null,"MURO EXTERIOR","TOTAL","A",0.02,"m2",372.38000000000005,586.16,58.87,16.88,1.9899999999999998E-2]
[null,null,null,"B",0.03,null,372.44000000000005,592.30999999999995,59.78,16.88,2.01E-2]
[null,null,null,"C",0.04,null,372.49,598.44999999999993,60.684999999999995,16.884999999999998,2.0399999999999998E-2]
[null,null,null,"D",0.04,null,372.96000000000004,596.32999999999993,55.57,16.899999999999999,2.1099999999999997E-2]
[null,null,null,"E",0.06,null,372.54,604.58999999999992,61.589999999999996,16.889999999999997,2.0699999999999996E-2]
[]
[null,"PARTICIÓN INTERIOR","TOTAL",null,0,"m2",62.52,250.43,17.97,2.13,4.8999999999999998E-3]
[]
[null,"SUELO","TOTAL","A",0.04,null,598.33500000000004,400.36500000000001,69.330000000000013,4.3,4.3E-3]
[null,null,null,"B",4.4999999999999998E-2,null,598.39,406.51,70.240000000000009,4.3,4.3E-3]
[null,null,null,"C",4.4999999999999998E-2,null,598.49,418.78999999999996,72.050000000000011,4.3,4.3E-3]
[null,null,null,"D",0.05,null,598.6,431.08000000000004,73.86,4.3,4.3E-3]
[null,null,null,"E",0.08,null,598.69999999999993,443.36,75.680000000000007,4.3,4.3E-3]
[]
[null,"HUECOS","TIPO I",null,null,"m2",48.040000000000006,3911,529.88,9.6900000000000003E-4,1.578E-3]
[null,null,"TIPO II",null,null,"m2",66.540000000000006,1221.3600000000001,74.42,8.8800000000000001E-4,1.2639999999999999E-3]

{"sheet":"Mat Ref","index":24,"n_rows":73,"n_cols":22,"rows_kept":73,"cut":false,"hidden":true,"merged":[[40,12,40,22],[41,20,41,21],[2,1,2,8],[35,2,35,4],[36,2,36,4],[37,2,37,4],[41,9,41,10],[40,1,40,11]]}
[]
[]
[null,"Datos de materiales para el Edificio de Referencia "]
[]
[]
[null,null,null,"Zona climática",{"$f":"'zona clima'!C10","v":""}]
[]
[null,null,"Porcentaje de huecos en las diferentes fachadas"]
[]
[null,null,null,"N",{"$f":"'RN 10'!M20","v":0},null,{"$f":"IF(AND(E6=\"A\",E10=\"0-10%\"),\"TIPO I\",IF(AND(E6=\"A\",E10=\"11-20%\"),\"TIPO I\",IF(AND(E6=\"B\",E10=\"0-10%\"),\"TIPO I\",\"TIPO II\")))","v":"TIPO II"}]
[]
[null,null,null,"E/O",{"$f":"'RN 10'!M24","v":0},null,{"$f":"IF(AND(E6=\"A\",E12=\"0-10%\"),\"TIPO I\",IF(AND(E6=\"A\",E12=\"11-20%\"),\"TIPO I\",IF(AND(E6=\"A\",E12=\"21-30%\"),\"TIPO I\",IF(AND(E6=\"A\",E12=\"31-40%\"),\"TIPO I\",IF(AND(E6=\"A\",E12=\"41-50%\"),\"TIPO I\",IF(AND(E6=\"B\",E12=\"0-10%\"),\"TIPO I\",IF(AND(E6=\"B\",E12=\"11-20%\"),\"TIPO I\",\"TIPO II\")))))))","v":"TIPO II"},null,null,null,null,"                                              "]
[]
[null,null,null,"S",{"$f":"'RN 10'!M22","v":0},null,{"$f":"IF(E6=\"A\",\"TIPO I\",IF(E6=\"B\",\"TIPO I\",\"TIPO II\"))","v":"TIPO II"}]
[]
[null,null,null,"SE/SO",{"$f":"'RN 10'!M26","v":0},null,{"$f":"IF(D9=\"A\",\"TIPO I\",IF(D9=\"B\",\"TIPO I\",\"TIPO II\"))","v":"TIPO II"}]
[]
[]
[null,null,"Elementos","Unidad",null,null,"kg materiales","MJ","kg CO2","Residuos kg","Residuos m3"]
[]
[null,null,"Cubierta","m2",{"$f":"'RN 10'!M12","v":0},null,{"$f":"IF('RN 10'!$G$10=\"Base del banco de precios BEDEC\",IF(E6=\"A\",E21*R46,IF(E6=\"B\",E21*R47,IF(E6=\"C\",E21*R48,IF(E6=\"D\",E21*R49,E21*R50)))),IF(E6=\"A\",E21*G46,IF(E6=\"B\",E21*G47,IF(E6=\"C\",E21*G48,IF(E6=\"D\",E21*G49,E21*G50)))))","v":0},{"$f":"IF('RN 10'!$G$10=\"Base del banco de precios BEDEC\",IF(E6=\"A\",E21*S46,IF(E6=\"B\",E21*S47,IF(E6=\"C\",E21*S48,IF(E6=\"D\",E21*S49,E21*S50)))),IF(E6=\"A\",E21*H46,IF(E6=\"B\",E21*H47,IF(E6=\"C\",E21*H48,IF(E6=\"D\",E21*H49,E21*H50)))))","v":0},{"$f":"IF('RN 10'!$G$10=\"Base del banco de precios BEDEC\",IF($E$6=\"A\",$E21*T46,IF($E$6=\"B\",$E21*T47,IF($E$6=\"C\",$E21*T48,IF($E$6=\"D\",$E21*T49,E21*T50)))),IF($E$6=\"A\",$E21*I46,IF($E$6=\"B\",$E21*I47,IF($E$6=\"C\",$E21*I48,IF($E$6=\"D\",$E21*I49,E21*I50)))))","v":0},{"$f":"IF('RN 10'!$G$10=\"Base del banco de precios BEDEC\",IF($E$6=\"A\",$E21*U46,IF($E$6=\"B\",$E21*U47,IF($E$6=\"C\",$E21*U48,IF($E$6=\"D\",$E21*U49,E21*U50)))),IF($E$6=\"A\",$E21*J46,IF($E$6=\"B\",$E21*J47,IF($E$6=\"C\",$E21*J48,IF($E$6=\"D\",$E21*J49,E21*J50)))))","v":0},{"$f":"IF('RN 10'!$G$10=\"Base del banco de precios BEDEC\",IF($E$6=\"A\",$E21*V46,IF($E$6=\"B\",$E21*V47,IF($E$6=\"C\",$E21*V48,IF($E$6=\"D\",$E21*V49,E21*V50)))),IF($E$6=\"A\",$E21*K46,IF($E$6=\"B\",$E21*K47,IF($E$6=\"C\",$E21*K48,IF($E$6=\"D\",$E21*K49,E21*K50)))))","v":0}]
[null,null,"Forjados interiores","m2",{"$f":"'RN 10'!G14","v":0},null,{"$f":"IF('RN 10'!$G$10=\"Base del banco de precios BEDEC\",(R52*E22),(G52*E22))","v":0},{"$f":"IF('RN 10'!$G$10=\"Base del banco de precios BEDEC\",(S52*E22),(H52*E22))","v":0},{"$f":"IF('RN 10'!$G$10=\"Base del banco de precios BEDEC\",(T52*E22),(I52*E22))","v":0},{"$f":"IF('RN 10'!$G$10=\"Base del banco de precios BEDEC\",(U52*E22),(J52*E22))","v":0},{"$f":"IF('RN 10'!$G$10=\"Base del banco de precios BEDEC\",(V52*E22),(K52*E22))","v":0}]
[null,null,"Medianera","m2",{"$f":"'RN 10'!G16","v":0},null,{"$f":"IF('RN 10'!$G$10=\"Base del banco de precios BEDEC\",(R54*E23),(G54*E23))","v":0},{"$f":"IF('RN 10'!$G$10=\"Base del banco de precios BEDEC\",(S54*E23),(H54*E23))","v":0},{"$f":"IF('RN 10'!$G$10=\"Base del banco de precios BEDEC\",(T54*E23),(I54*E23))","v":0},{"$f":"IF('RN 10'!$G$10=\"Base del banco de precios BEDEC\",(U54*E23),(J54*E23))","v":0},{"$f":"IF('RN 10'!$G$10=\"Base del banco de precios BEDEC\",(V54*E23),(K54*E23))","v":0}]
[null,null,"Muro exterior","m2",{"$f":"'RN 10'!G12","v":0},null,{"$f":"IF('RN 10'!$G$10=\"Base del banco de precios BEDEC\",IF(E6=\"A\",E24*R57,IF(E6=\"B\",E24*R58,IF(E6=\"C\",E24*R59,IF(E6=\"D\",E24*R60,E24*R61)))),IF(E6=\"A\",E24*G57,IF(E6=\"B\",E24*G58,IF(E6=\"C\",E24*G59,IF(E6=\"D\",E24*G60,E24*G61)))))","v":0},{"$f":"IF('RN 10'!$G$10=\"Base del banco de precios BEDEC\",IF(E6=\"A\",E24*S57,IF(E6=\"B\",E24*S58,IF(E6=\"C\",E24*S59,IF(E6=\"D\",E24*S60,E24*S61)))),IF(E6=\"A\",E24*H57,IF(E6=\"B\",E24*H58,IF(E6=\"C\",E24*H59,IF(E6=\"D\",E24*H60,E24*H61)))))","v":0},{"$f":"IF('RN 10'!$G$10=\"Base del banco de precios BEDEC\",IF(E6=\"A\",E24*T57,IF(E6=\"B\",E24*T58,IF(E6=\"C\",E24*T59,IF(E6=\"D\",E24*T60,E24*T61)))),IF(E6=\"A\",E24*I57,IF(E6=\"B\",E24*I58,IF(E6=\"C\",E24*I59,IF(E6=\"D\",E24*I60,E24*I61)))))","v":0},{"$f":"IF('RN 10'!$G$10=\"Base del banco de precios BEDEC\",IF(E6=\"A\",E24*U57,IF(E6=\"B\",E24*U58,IF(E6=\"C\",E24*U59,IF(E6=\"D\",E24*U60,E24*U61)))),IF(E6=\"A\",E24*J57,IF(E6=\"B\",E24*J58,IF(E6=\"C\",E24*J59,IF(E6=\"D\",E24*J60,E24*J61)))))","v":0},{"$f":"IF('RN 10'!$G$10=\"Base del banco de precios BEDEC\",IF(E6=\"A\",E24*V57,IF(E6=\"B\",E24*V58,IF(E6=\"C\",E24*V59,IF(E6=\"D\",E24*V60,E24*V61)))),IF(E6=\"A\",E24*K57,IF(E6=\"B\",E24*K58,IF(E6=\"C\",E24*K59,IF(E6=\"D\",E24*K60,E24*K61)))))","v":0}]
[null,null,"Partición interior","m2",{"$f":"'RN 10'!M14","v":0},null,{"$f":"IF('RN 10'!$G$10=\"Base del banco de precios BEDEC\",(R63*E25),(G63*E25))","v":0},{"$f":"IF('RN 10'!$G$10=\"Base del banco de precios BEDEC\",(S63*E25),(H63*E25))","v":0},{"$f":"IF('RN 10'!$G$10=\"Base del banco de precios BEDEC\",(T63*E25),(I63*E25))","v":0},{"$f":"IF('RN 10'!$G$10=\"Base del banco de precios BEDEC\",(U63*E25),(J63*E25))","v":0},{"$f":"IF('RN 10'!$G$10=\"Base del banco de precios BEDEC\",(V63*E25),(K63*E25))","v":0}]
[null,null,"Suelo","m2",{"$f":"'RN 10'!G18","v":0},null,{"$f":"IF('RN 10'!$G$10=\"Base del banco de precios BEDEC\",IF(E6=\"A\",E26*R66,IF(E6=\"B\",E26*R67,IF(E6=\"C\",E26*R68,IF(E6=\"D\",E26*R69,E26*R70)))),IF(E6=\"A\",E26*G66,IF(E6=\"B\",E26*G67,IF(E6=\"C\",E26*G68,IF(E6=\"D\",E26*G69,E26*G70)))))","v":0},{"$f":"IF('RN 10'!$G$10=\"Base del banco de precios BEDEC\",IF(E6=\"A\",E26*S66,IF(E6=\"B\",E26*S67,IF(E6=\"C\",E26*S68,IF(E6=\"D\",E26*S69,E26*S70)))),IF(E6=\"A\",E26*H66,IF(E6=\"B\",E26*H67,IF(E6=\"C\",E26*H68,IF(E6=\"D\",E26*H69,E26*H70)))))","v":0},{"$f":"IF('RN 10'!$G$10=\"Base del banco de precios BEDEC\",IF(E6=\"A\",E26*T66,IF(E6=\"B\",E26*T67,IF(E6=\"C\",E26*T68,IF(E6=\"D\",E26*T69,E26*T70)))),IF(E6=\"A\",E26*I66,IF(E6=\"B\",E26*I67,IF(E6=\"C\",E26*I68,IF(E6=\"D\",E26*I69,E26*I70)))))","v":0},{"$f":"IF('RN 10'!$G$10=\"Base del banco de precios BEDEC\",IF(E6=\"A\",E26*U66,IF(E6=\"B\",E26*U67,IF(E6=\"C\",E26*U68,IF(E6=\"D\",E26*U69,E26*U70)))),IF(E6=\"A\",E26*J66,IF(E6=\"B\",E26*J67,IF(E6=\"C\",E26*J68,IF(E6=\"D\",E26*J69,E26*J70)))))","v":0},{"$f":"IF('RN 10'!$G$10=\"Base del banco de precios BEDEC\",IF(E6=\"A\",E26*V66,IF(E6=\"B\",E26*V67,IF(E6=\"C\",E26*V68,IF(E6=\"D\",E26*V69,E26*V70)))),IF(E6=\"A\",E26*K66,IF(E6=\"B\",E26*K67,IF(E6=\"C\",E26*K68,IF(E6=\"D\",E26*K69,E26*K70)))))","v":0}]
[null,null,"Huecos"]
[null,null,"N","m2",{"$f":"'RN 10'!G20","v":0},null,{"$f":"IF('RN 10'!$G$10=\"Base del banco de precios BEDEC\",IF(G10=\"TIPO I\",$E28*$R$72,IF(G10=\"TIPO II\",$E28*$R$73)),IF(G10=\"TIPO I\",$E28*$G$72,IF(G10=\"TIPO II\",$E28*$G$73)))","v":0},{"$f":"IF('RN 10'!$G$10=\"Base del banco de precios BEDEC\",IF(G10=\"TIPO I\",E28*$S$72,IF(G10=\"TIPO II\",E28*$S$73)),IF(G10=\"TIPO I\",E28*$H$72,IF(G10=\"TIPO II\",E28*$H$73)))","v":0},{"$f":"IF('RN 10'!$G$10=\"Base del banco de precios BEDEC\",IF(G10=\"TIPO I\",E28*$T$72,IF(G10=\"TIPO II\",E28*$T$73)),IF(G10=\"TIPO I\",E28*$I$72,IF(G10=\"TIPO II\",E28*$I$73)))","v":0},{"$f":"IF('RN 10'!$G$10=\"Base del banco de precios BEDEC\",IF(G10=\"TIPO I\",E28*$U$72,IF(G10=\"TIPO II\",E28*$U$73)),IF(G10=\"TIPO I\",E28*$J$72,IF(G10=\"TIPO II\",E28*$J$73)))","v":0},{"$f":"IF('RN 10'!$G$10=\"Base del banco de precios BEDEC\",IF(G10=\"TIPO I\",$E28*$V$72,IF(G10=\"TIPO II\",$E28*$V$73)),IF(G10=\"TIPO I\",$E28*$K$72,IF(G10=\"TIPO II\",$E28*$K$73)))","v":0}]
[null,null,"E/O","m2",{"$f":"'RN 10'!G24","v":0},null,{"$f":"IF('RN 10'!$G$10=\"Base del banco de precios BEDEC\",IF(G12=\"TIPO I\",$E29*$R$72,IF(G12=\"TIPO II\",$E29*$R$73)),IF(G12=\"TIPO I\",$E29*$G$72,IF(G12=\"TIPO II\",$E29*$G$73)))","v":0},{"$f":"IF('RN 10'!$G$10=\"Base del banco de precios BEDEC\",IF(G12=\"TIPO I\",E29*$S$72,IF(G12=\"TIPO II\",E29*$S$73)),IF(G12=\"TIPO I\",E29*$H$72,IF(G12=\"TIPO II\",E29*$H$73)))","v":0},{"$f":"IF('RN 10'!$G$10=\"Base del banco de precios BEDEC\",IF(G12=\"TIPO I\",E29*$T$72,IF(G12=\"TIPO II\",E29*$T$73)),IF(G12=\"TIPO I\",E29*$I$72,IF(G12=\"TIPO II\",E29*$I$73)))","v":0},{"$f":"IF('RN 10'!$G$10=\"Base del banco de precios BEDEC\",IF(G12=\"TIPO I\",E29*$U$72,IF(G12=\"TIPO II\",E29*$U$73)),IF(G12=\"TIPO I\",E29*$J$72,IF(G12=\"TIPO II\",E29*$J$73)))","v":0},{"$f":"IF('RN 10'!$G$10=\"Base del banco de precios BEDEC\",IF(G12=\"TIPO I\",$E29*$V$72,IF(G12=\"TIPO II\",$E29*$V$73)),IF(G12=\"TIPO I\",$E29*$K$72,IF(G12=\"TIPO II\",$E29*$K$73)))","v":0}]
[null,null,"S","m2",{"$f":"'RN 10'!G22","v":0},null,{"$f":"IF('RN 10'!$G$10=\"Base del banco de precios BEDEC\",IF(G14=\"TIPO I\",$E30*$R$72,IF(G14=\"TIPO II\",$E30*$R$73)),IF(G14=\"TIPO I\",$E30*$G$72,IF(G14=\"TIPO II\",$E30*$G$73)))","v":0},{"$f":"IF('RN 10'!$G$10=\"Base del banco de precios BEDEC\",IF(G14=\"TIPO I\",E30*$S$72,IF(G14=\"TIPO II\",E30*$S$73)),IF(G14=\"TIPO I\",E30*$H$72,IF(G14=\"TIPO II\",E30*$H$73)))","v":0},{"$f":"IF('RN 10'!$G$10=\"Base del banco de precios BEDEC\",IF(G14=\"TIPO I\",E30*$T$72,IF(G14=\"TIPO II\",E30*$T$73)),IF(G14=\"TIPO I\",E30*$I$72,IF(G14=\"TIPO II\",E30*$I$73)))","v":0},{"$f":"IF('RN 10'!$G$10=\"Base del banco de precios BEDEC\",IF(G14=\"TIPO I\",E30*$U$72,IF(G14=\"TIPO II\",E30*$U$73)),IF(G14=\"TIPO I\",E30*$J$72,IF(G14=\"TIPO II\",E30*$J$73)))","v":0},{"$f":"IF('RN 10'!$G$10=\"Base del banco de precios BEDEC\",IF(G14=\"TIPO I\",$E30*$V$72,IF(G14=\"TIPO II\",$E30*$V$73)),IF(G14=\"TIPO I\",$E30*$K$72,IF(G14=\"TIPO II\",$E30*$K$73)))","v":0}]
[null,null,"SE/SO","m2",{"$f":"'RN 10'!G26","v":0},null,{"$f":"IF('RN 10'!$G$10=\"Base del banco de precios BEDEC\",IF(G16=\"TIPO I\",$E31*$R$72,IF(G16=\"TIPO II\",$E31*$R$73)),IF(G16=\"TIPO I\",$E31*$G$72,IF(G16=\"TIPO II\",$E31*$G$73)))","v":0},{"$f":"IF('RN 10'!$G$10=\"Base del banco de precios BEDEC\",IF(G16=\"TIPO I\",E31*$S$72,IF(G16=\"TIPO II\",E31*$S$73)),IF(G16=\"TIPO I\",E31*$H$72,IF(G16=\"TIPO II\",E31*$H$73)))","v":0},{"$f":"IF('RN 10'!$G$10=\"Base del banco de precios BEDEC\",IF(G16=\"TIPO I\",E31*$T$72,IF(G16=\"TIPO II\",E31*$T$73)),IF(G16=\"TIPO I\",E31*$I$72,IF(G16=\"TIPO II\",E31*$I$73)))","v":0},{"$f":"IF('RN 10'!$G$10=\"Base del banco de precios BEDEC\",IF(G16=\"TIPO I\",E31*$U$72,IF(G16=\"TIPO II\",E31*$U$73)),IF(G16=\"TIPO I\",E31*$J$72,IF(G16=\"TIPO II\",E31*$J$73)))","v":0},{"$f":"IF('RN 10'!$G$10=\"Base del banco de precios BEDEC\",IF(G16=\"TIPO I\",$E31*$V$72,IF(G16=\"TIPO II\",$E31*$V$73)),IF(G16=\"TIPO I\",$E31*$K$72,IF(G16=\"TIPO II\",$E31*$K$73)))","v":0}]
[null,null,"Cimetación"]
[null,null,"muro de contención","m2",{"$f":"'RN 10'!M18","v":0},null,{"$f":"E33*DATOSMat!G74","v":0},{"$f":"E33*DATOSMat!H74","v":0},{"$f":"E33*DATOSMat!I74","v":0},{"$f":"F33*DATOSMat!J74","v":0},{"$f":"G33*DATOSMat!K74","v":0}]
[]
[]
[null,null,"Valores del edificio de referencia Totales",null,null,null,{"$f":"SUM(G20:G33)","v":0},{"$f":"SUM(H20:H33)","v":0},{"$f":"SUM(I20:I33)","v":0},{"$f":"SUM(J20:J33)","v":0},{"$f":"SUM(K20:K33)","v":0}]
[]
[null,null,"Valores del edificio de referencia al m2",null,null,null,{"$f":"G36/DG!$E18","v":{"$error":"#DIV/0!"}},{"$f":"H36/DG!$E18","v":{"$error":"#DIV/0!"}},{"$f":"I36/DG!$E18","v":{"$error":"#DIV/0!"}},{"$f":"J36/DG!$E18","v":{"$error":"#DIV/0!"}},{"$f":"K36/DG!$E18","v":{"$error":"#DIV/0!"}}]
[]
[]
[null,"CYPE",null,null,null,null,null,null,null,null,null,null,"BEDEC"]
[null,null,null,null,null,null,"Materias primas","Energía","Emisiones","Rsiduos",null,null,null,null,null,null,null,"Materias primas","Energía","Emisiones","Rsiduos"]
[null,"ELEMENTO","MATERIAL",null,"ESPESOR AISLAMIENTO","Ud.","kg/Ud","MJ/Ud","kgCO2/Ud","kg/Ud","m3",null,"ELEMENTO","MATERIAL",null,"ESPESOR AISLAMIENTO","Ud.","kg/Ud","MJ/Ud","kgCO2/Ud","kg/Ud","m3"]
[]
[null,"CUBIERTA","TOTAL","A",0.04,"m2",459.11699999999996,1088.162,88.481999999999999,8.3049999999999997,6.731E-3,null,"CUBIERTA","TOTAL","A",0.04,"m2",897.67599999999993,1362.96,145.58000000000001,5.6269999999999998,2.7E-2]
[null,null,null,"A",0.04,"m2",459.11699999999996,1088.162,88.481999999999999,8.3049999999999997,6.731E-3,null,null,null,"A",0.04,"m2",897.67599999999993,1313.82,138.33000000000001,5.617,2.7E-2]
[null,null,null,"B",0.05,null,459.642,1096.002,89.037000000000006,8.3209999999999997,6.7580000000000001E-3,null,null,null,"B",0.05,null,897.78599999999994,1461.24,160.15,5.7270000000000003,2.7E-2]
[null,null,null,"C",0.06,null,460.16700000000003,1104.8220000000001,89.593000000000004,8.3719999999999999,6.842E-3,null,null,null,"C",0.06,null,897.88599999999997,1420.75,154.12,5.7670000000000003,2.7E-2]
[null,null,null,"D",7.0000000000000007E-2,null,460.69200000000001,1114.6220000000001,90.149000000000001,8.3879999999999999,6.8690000000000001E-3,null,null,null,"D",7.0000000000000007E-2,null,897.99599999999998,1420.75,154.12,5.7670000000000003,2.7E-2]
[null,null,null,"E",0.08,null,461.21699999999998,1124.422,90.704999999999998,8.4039999999999999,6.8959999999999994E-3,null,null,null,"E",0.08,null,898.096,1691.01,194.14,5.9470000000000001,2.7E-2]
[]
[null,"FORJADOS INTERIORES","TOTAL",null,0,"m2",369.803,950.33,74.833999999999989,4.8289999999999997,3.7890000000000003E-3,null,"FORJADOS INTERIORES","TOTAL",null,0,"m2",440.71000000000004,863.12,86.11,3.8690000000000002,1.6300000000000002E-2]
[]
[null,"MEDIANERA","TOTAL",null,0.02,"m2",295.79399999999998,674.39800000000002,51.424999999999997,7.9009999999999998,3.3300000000000001E-3,null,"MEDIANERA","TOTAL",null,0.02,"m2",167.46599999999998,634.68999999999994,45.93,6.01,1.6E-2]
[]
[null,"MURO EXTERIOR","TOTAL","A",0.02,"m2",189.31399999999996,831.45100000000002,60.470999999999997,15.406000000000001,1.0588E-2,null,"MURO EXTERIOR","TOTAL","A",0.02,"m2",372.38000000000005,833.21,76.08,16.268000000000001,1.9899999999999998E-2]
[null,null,null,"A",0.02,"m2",189.31399999999996,831.45100000000002,60.470999999999997,15.406000000000001,1.0588E-2,null,null,null,"A",0.02,"m2",372.38000000000005,870.07,81.52,16.3,1.9899999999999998E-2]
[null,null,null,"B",0.03,null,189.62899999999996,860.24200000000008,61.738,15.422000000000001,1.0614E-2,null,null,null,"B",0.03,null,372.44000000000005,894.64,85.15,16.329999999999998,2.01E-2]
[null,null,null,"C",0.04,null,189.94399999999996,889.03300000000002,63.004999999999995,15.436999999999999,1.0639000000000001E-2,null,null,null,"C",0.04,null,372.49,985.55,98.57,16.54,2.0399999999999998E-2]
[null,null,null,"D",0.04,null,190.25899999999999,917.82400000000007,64.271999999999991,15.452,1.0664E-2,null,null,null,"D",0.04,null,372.96000000000004,1078.9100000000001,112.35,16.510000000000002,2.1099999999999997E-2]
[null,null,null,"E",0.06,null,190.57399999999998,946.61500000000001,65.537999999999997,15.467000000000001,1.0689000000000001E-2,null,null,null,"E",0.06,null,372.54,1103.48,115.97,16.59,2.0699999999999996E-2]
[]
[null,"PARTICIÓN INTERIOR","TOTAL",null,0,"m2",197.398,232.98599999999999,18.257000000000001,1.7230000000000001,1.897E-3,null,"PARTICIÓN INTERIOR","TOTAL",null,0,"m2",62.52,544.65,40.020000000000003,1.59,4.8999999999999998E-3]
[]
[null,"SUELO","TOTAL","A",0.04,null,384.78,723.50099999999998,60.605999999999995,4.0720000000000001,1.1214E-2,null,"SUELO","TOTAL","A",0.04,null,598.33500000000004,252.84,60.62,1.2250000000000001,4.3E-3]
[null,null,null,"A",0.04,null,384.78,723.50099999999998,60.605999999999995,4.0720000000000001,1.1214E-2,null,null,null,"A",0.04,null,598.33500000000004,252.84,60.62,1.2250000000000001,4.3E-3]
[null,null,null,"B",4.4999999999999998E-2,null,385.30499999999995,731.34100000000001,61.160999999999994,4.0880000000000001,1.1240999999999999E-2,null,null,null,"B",4.4999999999999998E-2,null,598.39,265.12,62.44,1.2350000000000001,4.3E-3]
[null,null,null,"C",4.4999999999999998E-2,null,385.82999999999993,740.16099999999994,61.716999999999999,4.1390000000000002,1.1325E-2,null,null,null,"C",4.4999999999999998E-2,null,598.49,387.97,80.569999999999993,1.3149999999999999,4.3E-3]
[null,null,null,"D",0.05,null,386.35499999999996,749.96100000000001,62.272999999999996,4.1550000000000002,1.1351999999999999E-2,null,null,null,"D",0.05,null,598.6,338.83,73.31,1.345,4.3E-3]
[null,null,null,"E",0.08,null,386.87999999999994,759.76099999999997,62.828999999999994,4.1710000000000003,1.1379E-2,null,null,null,"E",0.08,null,598.69999999999993,368.32,77.67,1.4650000000000001,4.3E-3]
[]
[null,"HUECOS","TIPO I",null,null,"m2",31.268000000000001,2106.2399999999998,276.08199999999999,0.42499999999999999,4.7099999999999996E-4,null,"HUECOS","TIPO I",null,null,"m2",48.040000000000006,3463.77,481.24,9.7300000000000002E-4,1.578E-3]
[null,null,"TIPO II",null,null,"m2",30.654,2044.8400000000001,266.995,0.439,5.31E-4,null,null,"TIPO II",null,null,"m2",66.540000000000006,3501.46,488.85,9.7300000000000002E-4,1.2639999999999999E-3]

{"sheet":"CAI","index":25,"n_rows":157,"n_cols":22,"rows_kept":157,"cut":false,"hidden":false,"merged":[[1,1,1,2],[1,3,1,4],[1,5,1,6],[22,3,22,4],[22,5,22,6],[20,5,20,6],[14,4,15,4],[17,4,18,4],[24,4,24,5],[26,4,26,5],[28,3,28,4],[38,5,38,6],[40,3,40,4],[40,5,40,6],[44,4,44,5],[46,3,46,4],[34,4,35,4],[42,4,42,5],[63,3,63,4],[63,5,63,6],[61,5,61,6],[58,4,59,4],[121,4,122,4],[65,4,65,5],[67,3,67,4],[103,3,103,4],[113,4,114,4],[77,4,77,5],[79,5,79,6],[81,3,81,4],[81,5,81,6],[83,4,83,5],[85,4,85,5],[87,3,87,4],[132,5,132,6],[146,5,146,8],[95,3,95,4],[107,4,108,4],[110,4,111,4],[142,3,142,4],[134,3,134,4],[134,5,134,6],[136,4,136,5],[138,4,138,5],[140,4,140,5],[124,4,125,4],[127,3,127,4],[129,4,130,4],[116,3,116,4],[118,4,119,4]]}
[]
[null,{"$f":"'Matriz VERDE-GBCe'!G33","v":"CAI"},null,{"$f":"'Matriz VERDE-GBCe'!H33","v":"Calidad del Ambiente Interior."}]
[]
[]
[null,null,null,{"$f":"'Matriz VERDE-GBCe'!H34","v":"CAI 01"},{"$f":"VLOOKUP($D5,'Matriz VERDE-GBCe'!$H$5:$K$49,2,FALSE)","v":"Limitación en las emisiones de COVs."},{"$f":"VLOOKUP($D5,'Matriz VERDE-GBCe'!$H$5:$K$49,3,FALSE)","v":3.1436655139893105E-2},null,null,null,null,null,null,null,null,null,null,null,null,"SE ADJUNTA",null,"SÍ","NO"]
[null,null,null,null,null,null,null,null,null,null,null,null,null,null,null,null,null,null,"NO SE ADJUNTA",null,"NO"]
[null,null,null,null,"¿Se ha realizado un test de concentración de TCOVs?",null,null,null,null,null,null,null,null,null,null,null,null,null,"NO APLICA"]
[null,null,null,null,null,null,null,null,null,null,null,null,null,null,null,null,null,null,"NO SE ADJUNTA",null,"NO"]
[null,null,null,null,"Concentración resultante del test en TCOVs:",null,null,null,null,null,null,{"$f":"IF(H9=\"\",0,IF(H9>3000,0,IF(H9=0,1,(100-(H9/30))/100)))","v":0},null,null,null,null,null,null,"NO APLICA"]
[null,null,null,null,null,null,null,null,null,null,null,null,null,null,null,null,null,null,"NO SE ADJUNTA",null,"NO"]
[null,null,null,null,"Concentración resultante del test en formaldehidos:",null,null,null,null,null,null,{"$f":"IF(H11=\"\",0,IF(H11>120,0,IF(H11=0,1,(100-(H11/1.2))/100)))","v":0},null,null,null,null,null,null,"NO APLICA"]
[null,null,null,null,null,null,null,null,null,null,null,null,null,null,null,null,null,null,"NO SE ADJUNTA",null,"NO"]
[null,null,null,null,"¿Se cumple con las condiciones mínimas requeridas?",null,null,{"$f":"IF(OR(H9=\"\",H11=\"\",H9>3000,H11>120),\"No\",\"Sí\")","v":"No"},null,null,null,{"$f":"IF(H13=\"no\",0,((L9+L11)/2)*F5)","v":0},null,null,null,null,null,null,"NO APLICA"]
[null,null,null,null,null,null,null,null,null,null,null,null,null,null,null,null,null,null,"NO SE ADJUNTA",null,"NO"]
[null,null,null,null,"Todos los productos pertenecientes a las familias de pinturas y barnices, adhesivos y sellantes y derivados de la madera tienen emisiones nulas.",null,null,null,null,null,null,{"$f":"IF(H15=\"Sí\",0.6*F$5,0)","v":0},null,null,null,null,null,null,"NO APLICA"]
[]
[null,null,null,null,null,null,null,null,null,null,null,null,null,null,null,null,null,null,"NO SE ADJUNTA",null,"NO"]
[null,null,null,null,"Todos los productos pertenecientes a las familias de pinturas y barnices, adhesivos y sellantes y derivados de la madera tienen emisiones dentro de los rango indicados en el criterio.",null,null,null,null,null,null,{"$f":"IF(H18=\"Sí\",0.4*F$5,0)","v":0},null,null,null,null,null,null,"NO APLICA"]
[]
[]
[null,null,null,"NOTAS"]
[]
[null,null,null,"DOCUMENTOS JUSTIFICATIVOS"]
[]
[null,null,null,"CAI 01.01","Mediciones del proyecto marcando todos los materiales de acabado interior susceptibles de emitir COV."]
[]
[null,null,null,"CAI 01.02","Documentación técnica con las emisiones de COV para cada grupo de producto según GEA."]
[]
[null,null,null,"VALORACIÓN DEL CRITERIO",null,{"$f":"MAX($L13,$L15+$L18)","v":0}]
[]
[]
[]
[null,null,null,{"$f":"'Matriz VERDE-GBCe'!H35","v":"CAI 02"},{"$f":"VLOOKUP($D33,'Matriz VERDE-GBCe'!$H$5:$K$49,2,FALSE)","v":"Monitorización de la calidad del aire"},{"$f":"VLOOKUP($D33,'Matriz VERDE-GBCe'!$H$5:$K$49,3,FALSE)","v":3.1436655139893105E-2}]
[]
[null,null,null,null,"Al menos los espacios de alta densidad de ocupación y uso variable cuentan con un sistema de detección de CO2 conectado al sistema de control de ventilación."]
[]
[]
[]
[null,null,null,"NOTAS"]
[]
[null,null,null,"DOCUMENTOS JUSTIFICATIVOS"]
[]
[null,null,null,"CAI 02.01","Plano identificativo de los espacios de alta ocupación."]
[]
[null,null,null,"CAI 02.02","Proyecto de instalaciones, planos y memoria donde se detalle el tipo de sistema de medición de CO2 instalado, los requisitos de montaje e instalación con la definición de los valores de consigna."]
[]
[null,null,null,"VALORACIÓN DEL CRITERIO",null,{"$f":"IF(H35=\"sí\",F33,0)","v":0}]
[]
[]
[]
[null,null,null,{"$f":"'Matriz VERDE-GBCe'!H36","v":"CAI 03"},{"$f":"VLOOKUP($D51,'Matriz VERDE-GBCe'!$H$5:$K$49,2,FALSE)","v":"Iluminación natural en los espacios de ocupación primaria."},{"$f":"VLOOKUP($D51,'Matriz VERDE-GBCe'!$H$5:$K$49,3,FALSE)","v":5.0298648223828971E-2}]
[]
[null,null,null,null,"Ir a la hoja de cálculo del criterio"]
[]
[null,null,null,null,"¿Se ha empleado un sistema de cálculo alternativo al propuesto en GEA?"]
[]
[null,null,null,null,"Porcentaje de espacios de trabajo que alcanzan el DF requerido",null,null,{"$f":"IFERROR('CAI 03'!R1285/DG!E47,0)","v":0},null,null,null,{"$f":"IF($H57<0.6,0,IF($H57>0.9,$F51,(($H57-0.6)/0.3)*$F51))","v":0}]
[]
[null,null,null,null,"En caso de sistema de cálculo alternativo, porcentaje de espacios de trabajo que alcanzan el DF requerido",null,null,null,null,null,null,{"$f":"IF($H59<0.6,0,IF($H59>0.9,$F51,(($H59-0.6)/0.3)*$F51))","v":0}]
[]
[]
[null,null,null,"NOTAS"]
[]
[null,null,null,"DOCUMENTOS JUSTIFICATIVOS"]
[]
[null,null,null,"CAI 03.01","Memoria de cálculo para obtener el DF"]
[]
[null,null,null,"VALORACIÓN DEL CRITERIO",null,{"$f":"IF(H55=\"Sí\",L59,L57)","v":0}]
[]
[]
[]
[null,null,null,{"$f":"'Matriz VERDE-GBCe'!H37","v":"CAI 04"},{"$f":"VLOOKUP($D72,'Matriz VERDE-GBCe'!$H$5:$K$49,2,FALSE)","v":"Iluminación artificial en los espacios de ocupación primaria."},{"$f":"VLOOKUP($D72,'Matriz VERDE-GBCe'!$H$5:$K$49,3,FALSE)","v":3.1436655139893105E-2}]
[]
[null,null,null,null,"Porcentaje de espacios de trabajo que mejoran la norma en iluminancia mantenida",null,null,null,null,null,null,{"$f":"IF($H74<0.7,0,IF($H74=1,$F$72*0.3,(($H74-0.7)/0.3)*($F$72*0.3)))","v":0}]
[]
[null,null,null,null,"Porcentaje de espacios de trabajo que mejoran la norma en índice de reproducción cromática",null,null,null,null,null,null,{"$f":"IF($H76<0.7,0,IF($H76=1,$F$72*0.3,(($H76-0.7)/0.3)*($F$72*0.3)))","v":0}]
[]
[null,null,null,null,"¿Se cuenta con un manual de mantenimiento de luminarias?",null,null,null,null,null,null,{"$f":"IF(H78=\"sí\",F72*0.4,0)","v":0}]
[]
[null,null,null,"NOTAS"]
[]
[null,null,null,"DOCUMENTOS JUSTIFICATIVOS"]
[]
[null,null,null,"CAI 04.01","Pliego de condiciones donde se incluyan las características técnicas de las lámparas y su índice de reproducción cromática (Ra).."]
[]
[null,null,null,"CAI 04.02","Justificación del cálculo de la iluminancia mantenida media (Em) de las estancias de uso habitual. Si para la justificación del HE3 se ha utilizado el programa Dialux, se podrán tomar los resultados de cálculo de Em de cada estancia de uso habitual"]
[]
[null,null,null,"VALORACIÓN DEL CRITERIO",null,{"$f":"$L74+$L76+$L78","v":0}]
[]
[]
[]
[null,null,null,{"$f":"'Matriz VERDE-GBCe'!H38","v":"CAI 05"},{"$f":"VLOOKUP($D92,'Matriz VERDE-GBCe'!$H$5:$K$49,2,FALSE)","v":"Protección frente al ruido."},{"$f":"VLOOKUP($D92,'Matriz VERDE-GBCe'!$H$5:$K$49,3,FALSE)","v":4.4011317195850344E-2}]
[]
[null,null,null,null,"En caso de rehabilitación ¿se exige el cumplimiento del CTE DB HR?",null,null,null,null,null,null,null,"Con CTE","Sin CTE"]
[]
[null,null,null,"Protección al ruido procedentre del extrerior"]
[]
[null,null,null,null,"Ruido exterior o índice de ruido día (Ld) en dB"]
[]
[null,null,null,null,"Aislamiento acústico exigido por normativa (dB)"]
[]
[null,null,null,null,"Aislamiento acústico definido en proyecto",null,null,null,null,null,null,null,{"$f":"IF(H100=\"\",0,IF(H102>=(H100+4),1,0))","v":0},{"$f":"IF(H100=\"\",0,IF(H102>=H100,1,0))","v":0}]
[]
[null,null,null,"Protección al ruido generado en recintos de instalaciones"]
[]
[null,null,null,null,"¿Hay viviendas colindantes a recintos de instalaciones?",null,null,null,null,null,null,null,{"$f":"IF(H106=\"Sí\",1,IF(M108+M111+M114=3,1,0))","v":0},{"$f":"IF(H106=\"Sí\",1,IF(N108+N111+N114=3,1,0))","v":0}]
[]
[null,null,null,null,"Aislamiento acústico al ruido aéreo definido en proyecto en separaciones verticales entre recintos de instalaciones y viviendas  (DnT,A)",null,null,null,null,null,null,55,{"$f":"IF(H108>=59,1,0)","v":0},{"$f":"IF(H108>=55,1,0)","v":0}]
[]
[]
[null,null,null,null,"Aislamiento acústico al ruido aéreo definido en proyecto en separaciones horizontales entre recintos de instalaciones y viviendas  (DnT,A)",null,null,null,null,null,null,55,{"$f":"IF(H111>=59,1,0)","v":0},{"$f":"IF(H111>=55,1,0)","v":0}]
[]
[]
[null,null,null,null,"Aislamiento acústico al ruido de impacto definido en proyecto en separaciones horizontales entre recintos de instalaciones y viviendas  (LnT,W)",null,null,null,null,null,null,60,{"$f":"IF(H114=\"\",0,IF(H114<=56,1,0))","v":0},{"$f":"IF(H114=\"\",0,IF(H114<=60,1,0))","v":0}]
[]
[]
[null,null,null,"Protección al ruido generado en recintos de distinta unidad funcional de uso",null,null,null,null,null,null,null,null,{"$f":"IF(M119+M122+M125=3,1,0)","v":0},{"$f":"IF(N119+N122+N125=3,1,0)","v":0}]
[]
[null,null,null,null,"Aislamiento acústico al ruido aéreo definido en proyecto en separaciones verticales entre zonas recintos de distinta unidad funcional de uso y viviendas  (DnT,A)",null,null,null,null,null,null,50,{"$f":"IF(H119>=54,1,0)","v":0},{"$f":"IF(H119>=50,1,0)","v":0}]
[]
[]
[null,null,null,null,"Aislamiento acústico al ruido aéreo definido en proyecto en separaciones horizontales entre zonas recintos de distinta unidad funcional de us y viviendas  (DnT,A)",null,null,null,null,null,null,50,{"$f":"IF(H122>=54,1,0)","v":0},{"$f":"IF(H122>=50,1,0)","v":0}]
[]
[]
[null,null,null,null,"Aislamiento acústico al ruido de impacto definido en proyecto en separaciones horizontales entre zonas recintos de distinta unidad funcional de us y viviendas  (LnT,W)",null,null,null,null,null,null,65,{"$f":"IF(H125=\"\",0,IF(H125<=61,1,0))","v":0},{"$f":"IF(H125=\"\",0,IF(H125<=65,1,0))","v":0}]
[]
[]
[null,null,null,"Comprobación del cumplimiento en obra construida"]
[]
[null,null,null,null,"Se ha realizado una comprobación del cumplimineto del criterio en obra construida con las especificaciones indicadas en la guía.",null,null,null,null,null,null,null,{"$f":"IF($H130=\"sí\",1,0)","v":0},{"$f":"IF($H130=\"sí\",1,0)","v":0}]
[]
[]
[null,null,null,"NOTAS"]
[]
[null,null,null,"DOCUMENTOS JUSTIFICATIVOS"]
[]
[null,null,null,"CAI 04.01","Documento incluido en el proyecto de cumplimiento de las exigencia del CTE DB-HR, en el que aparezcan las caracteristicas acústicas de los elementos constructivos así como los valores estimados del D2m,nT,Atr para los diferentes grupos acústicamente equivalentes de recintos protegidos."]
[]
[null,null,null,"CAI 04.02","Memoria justificativa del cumplimiento de los valores establecidos por el criterio."]
[]
[null,null,null,"CAI 04.03","Comprobación in situ de las condiciones acústicas con la obra terminada.",null,null,null,null,null,null,null,{"$f":"0.3*M$102*F$92+0.1*M$106*F$92+0.2*M$117*F$92+0.4*M$130*F$92","v":0},{"$f":"IF(DG!E27=DG!K37,0.5*N$102*F$92+0.2*N$106*F$92+0.3*N$117*F$92,0.3*N$102*F$92+0.1*N$106*F$92+0.2*N$117*F$92+0.4*N$130*F$92)","v":0}]
[]
[null,null,null,"VALORACIÓN DEL CRITERIO",null,{"$f":"IF(OR($H94=\"no\",DG!E27=DG!K37),$M141,$N141)","v":0}]
[]
[]
[]
[null,null,null,null,null,"VALORACIÓN ÁREA"]
[]
[null,null,null,null,null,"SUBTOTAL",null,{"$f":"F29+F47+F68+F88+F143","v":0}]
[]
[null,null,null,null,null,"SOBRE",null,{"$f":"VLOOKUP(B$2,'Matriz VERDE-GBCe'!$G$2:$K$49,4,FALSE)","v":0.18861993083935863}]
[]
[]
[]
[]
[]
[null,null,null,null,null,"SÍ",null,"x"]

{"sheet":"CAI 03","index":26,"n_rows":1283,"n_cols":45,"rows_kept":1283,"cut":false,"hidden":false,"merged":[[152,5,152,7],[170,11,170,13],[200,3,200,5],[89,5,89,7],[137,3,137,5],[1282,3,1282,15],[991,3,991,5],[141,3,141,7],[144,3,144,5],[245,3,245,5],[263,3,263,5],[162,3,162,5],[225,3,225,5],[656,5,656,7],[593,5,593,7],[530,5,530,7],[467,5,467,7],[404,5,404,7],[341,5,341,7],[278,5,278,7],[215,5,215,7],[207,3,207,5],[1170,3,1170,5],[971,5,971,7],[926,11,926,13],[956,3,956,5],[960,3,960,7],[233,11,233,13],[296,11,296,13],[359,11,359,13],[422,11,422,13],[371,3,371,5],[389,3,389,5],[308,3,308,5],[326,3,326,5],[270,3,270,5],[855,3,855,5],[611,11,611,13],[771,3,771,7],[674,11,674,13],[676,3,676,5],[613,3,613,5],[623,3,623,5],[641,3,641,5],[560,3,560,5],[578,3,578,5],[603,3,603,5],[666,3,666,5],[1160,5,1160,7],[1178,11,1178,13],[1097,5,1097,7],[1115,11,1115,13],[1145,3,1145,5],[1149,3,1149,7],[1034,5,1034,7],[1052,11,1052,13],[1082,3,1082,5],[987,25,987,26],[988,23,988,24],[989,11,989,13],[1019,3,1019,5],[1023,3,1023,7],[1026,3,1026,5],[99,3,99,5],[105,25,105,26],[106,23,106,24],[107,11,107,13],[414,3,414,5],[729,3,729,5],[908,5,908,7],[845,5,845,7],[863,11,863,13],[865,3,865,5],[875,3,875,5],[893,3,893,5],[782,5,782,7],[800,11,800,13],[830,3,830,5],[834,3,834,7],[719,5,719,7],[735,25,735,26],[1176,25,1176,26],[1177,23,1177,24],[1253,3,1253,5],[1271,3,1271,5],[1275,3,1275,7],[1278,3,1278,5],[1239,25,1239,26],[1240,23,1240,24],[1243,3,1243,5],[1212,3,1212,7],[1215,3,1215,5],[1233,3,1233,5],[1208,3,1208,5],[1223,5,1223,7],[1241,11,1241,13],[645,3,645,7],[648,3,648,5],[1044,3,1044,5],[109,3,109,5],[357,25,357,26],[358,23,358,24],[938,3,938,5],[393,3,393,7],[361,3,361,5],[981,3,981,5],[522,3,522,5],[477,3,477,5],[483,25,483,26],[484,23,484,24],[519,3,519,7],[420,25,420,26],[421,23,421,24],[119,3,119,5],[1001,3,1001,5],[802,3,802,5],[736,23,736,24],[737,11,737,13],[739,3,739,5],[424,3,424,5],[459,3,459,5],[333,3,333,5],[288,3,288,5],[294,25,294,26],[295,23,295,24],[396,3,396,5],[351,3,351,5],[582,3,582,7],[585,3,585,5],[485,11,485,13],[548,11,548,13],[497,3,497,5],[515,3,515,5],[434,3,434,5],[452,3,452,5],[540,3,540,5],[837,3,837,5],[798,25,798,26],[799,23,799,24],[774,3,774,5],[767,3,767,5],[704,3,704,5],[708,3,708,7],[711,3,711,5],[749,3,749,5],[812,3,812,5],[792,3,792,5],[861,25,861,26],[963,3,963,5],[924,25,924,26],[925,23,925,24],[928,3,928,5],[897,3,897,7],[900,3,900,5],[862,23,862,24],[1284,3,1284,5],[918,3,918,5],[1180,3,1180,5],[1190,3,1190,5],[1064,3,1064,5],[1050,25,1050,26],[1051,23,1051,24],[1152,3,1152,5],[1113,25,1113,26],[1114,23,1114,24],[1117,3,1117,5],[1086,3,1086,7],[1089,3,1089,5],[1107,3,1107,5],[1054,3,1054,5],[1127,3,1127,5],[168,25,168,26],[169,23,169,24],[686,3,686,5],[204,3,204,7],[231,25,231,26],[232,23,232,24],[235,3,235,5],[13,25,15,25],[81,3,81,5],[78,3,78,7],[298,3,298,5],[172,3,172,5],[182,3,182,5],[550,3,550,5],[267,3,267,7],[330,3,330,7],[672,25,672,26],[673,23,673,24],[609,25,609,26],[610,23,610,24],[546,25,546,26],[547,23,547,24],[487,3,487,5],[456,3,456,7],[56,3,56,5],[74,3,74,5],[18,23,18,24],[10,25,12,25],[16,25,17,25],[43,23,43,24],[42,25,42,26],[44,11,44,13],[46,3,46,5],[26,5,26,7],[1,1,1,19],[2,1,2,19],[6,3,6,9],[6,11,6,18],[9,11,9,18],[36,3,36,5],[4,3,4,18],[8,3,8,18],[12,3,12,18],[10,3,10,18],[3,3,3,18],[13,11,15,15]]}
[]
[null,"Iluminación natural"]
[null,"VERDE W Equipamiento",null,null,null,null,null,null,null,null,null,null,null,null,null,null,null,null,null,null,null,null,null,null,null,"Vidrio simple",0.87]
[null,null,null,"Identificación del punto de referencia:",null,null,null,null,null,null,null,null,null,null,null,null,null,null,null,null,null,null,null,null,null,"Vidrio doble climalit",0.8,null,null,"hw/D1"]
[null,null,null,null,null,null,null,null,null,null,null,null,null,null,null,null,null,null,null,null,null,null,null,null,null,"Vidrio doble bajo emisivo",0.72,null,null,null,0.1,0.2,0.3,0.4,0.5,0.6,0.8,1,1.2,1.4,1.6,2,3,4,5]
[null,null,null,null,null,null,null,null,null,null,null,null,null,null,null,null,null,null,null,null,null,null,null,null,null,"Vidrio control solar claro",0.28000000000000003,null,null,5,1.6,3.1,4.5999999999999996,6.1,7.4,8.6,10.5,12,13.4,14.5,15.4,16.3,17.8,18.3,18.8]
[null,null,null,"Ubicación del punto de refrencia en sección.",null,null,null,null,null,null,null,"Ubicación del punto de referencia en planta",null,null,null,null,null,null,null,null,null,null,null,null,null,null,null,null,null,4,1.5,3,4.5,5.9,7.3,8.4,10.3,11.5,12.9,13.6,14.3,15.5,16.600000000000001,16.899999999999999,17.100000000000001]
[null,null,null,null,null,null,null,null,null,null,null,null,null,null,null,null,null,null,null,null,null,null,null,null,null,null,null,null,null,3,1.5,2.9,4.4000000000000004,5.6,6.9,8,9.8000000000000007,10.9,12.3,12.6,13.4,14.6,15.5,15.6,15.9]
[null,null,null,"Datos requeridos para los cálculos de las componentes",null,null,null,null,null,null,null,null,null,null,null,null,null,null,null,null,null,null,null,null,null,null,null,null,null,2,1.3,2.5,3.9,5,6,7,8.4,9.4,10.4,10.9,11.4,12.1,12.5,12.6,12.8]
[null,null,null,null,null,null,null,null,null,null,null,"donde:   \nhw es la altura efectiva de la parte superior de la ventana sobre el plano de trabajo, en caso de obstrucciones exteriores, se tomará la distancia desde el borde superior de la ventana hasta en punto en el que comienza a verse el cielo (intersección entre el vidrio y el lado inferior del ángulo azul en la siguiente figura)\nHwp es la altura del plano de trabajo sobre el suelo, en nuestro caso 0,8 m   \nW1, W2 son las anchuras efectivas de la ventana a cada lado de una línea desde el punto de refrencia normal al plano de la ventana, al igual que en hw, se considerarán las obstrucciones exteriores.  \nD1 distancia del punto de referencia al plano de la ventana.\n",null,null,null,null,null,null,null,null,null,null,null,null,null,null,"Color","Reflectancia (R)",null,1.8,1.2,2.4,3.6,4.8,5.8,6.6,7.9,8.9,9.8000000000000007,10.3,10.6,11.3,11.6,11.8,11.9]
[null,null,null,null,null,null,null,null,null,null,null,null,null,null,null,null,null,null,null,null,null,null,null,null,null,"Techo","Blanco o muy claro",0.8,null,1.6,1.1000000000000001,2.2999999999999998,3.4,4.4000000000000004,4.9000000000000004,6.1,7.3,8.1,9,9.4,9.8000000000000007,10.3,10.6,10.8,10.8]
[null,null,null,null,null,null,null,null,null,null,null,null,null,null,null,null,null,null,null,null,null,null,null,null,null,null,"claro",0.5,null,1.4,1,2,3,4,4.8,5.5,6.5,7.4,8,8.4,8.8000000000000007,9.1,9.4,9.4,9.5]
[null,null,null,"Datos requeridos para el cálculo del ERC",null,null,null,null,null,null,null,null,null,null,null,null,null,null,null,null,null,null,null,null,null,null,"medio",0.3,null,1.2,0.9,1.8,2.6,3.4,4.0999999999999996,4.8,5.6,6.3,6.8,7.1,7.4,7.6,7.8,7.9,7.9]
[null,null,null,null,null,null,null,null,null,null,null,"Calcular hw considerando que el lado superior de la ventana está situado en la intersección del lado superior del ángulo definido por la obstrucción exterior (en amarillo en la figura)\n",null,null,null,null,null,null,null,null,null,null,null,null,null,"Paredes","claro",0.5,null,1,0.7,1.4,2.1,2.8,3.3,3.8,4.5,5,5.4,5.6,5.8,5.9,6,6.1,6.3]
[null,null,null,null,null,null,null,null,null,null,null,null,null,null,null,null,null,null,null,null,null,null,null,null,null,null,"medio",0.3,null,0.9,0.6,1.2,1.9,2.4,2.8,3.3,3.9,4.3,4.5999999999999996,4.8,4.9000000000000004,5,5.0999999999999996,5.0999999999999996,5.2]
[null,null,null,null,null,null,null,null,null,null,null,null,null,null,null,null,null,null,null,null,null,null,null,null,null,null,"oscuro",0.1,null,0.8,0.5,1,1.5,2,2.4,2.8,3.3,3.6,3.9,4,4.0999999999999996,4.0999999999999996,4.3,4.3,4.3]
[null,null,null,null,null,null,null,null,null,null,null,null,null,null,null,null,null,null,null,null,null,null,null,null,null,"Suelo","claro",0.3,null,0.7,0.4,0.9,1.2,1.6,1.9,2.1,2.6,2.9,3.1,3.1,3.3,3.3,3.4,3.4,3.5]
[null,null,null,null,null,null,null,null,null,null,null,null,null,null,null,null,null,null,null,null,null,null,null,null,null,null,"oscuro",0.1,null,0.6,0.3,0.7,0.9,1.2,1.5,1.7,2,2.2999999999999998,2.4,2.4,2.5,2.5,2.6,2.6,2.6]
[null,null,null,null,null,null,null,null,null,null,null,null,null,null,null,null,null,null,null,null,null,null,null,null,null,null,null,null,null,0.5,0.2,0.5,0.6,0.9,1,1.2,1.4,1.7,1.8,1.8,1.8,1.9,1.9,1.9,1.9]
[null,null,null,null,null,null,null,null,null,null,null,null,null,null,null,null,null,null,null,null,null,null,null,null,null,null,null,null,null,0.4,0.1,0.4,0.4,0.6,0.7,0.8,1,1.1000000000000001,1.2,1.2,1.2,1.2,1.2,1.2,1.2]
[null,null,null,null,null,null,null,null,null,null,null,null,null,null,null,null,null,null,null,null,null,null,null,"Sí",null,null,null,null,null,0.3,0.1,0.2,0.2,0.3,0.4,0.4,0.6,0.6,0.6,0.6,0.6,0.6,0.7,0.7,0.7]
[null,null,null,"Espacio 1",null,null,null,"Multiplicador",null,null,null,null,null,null,null,null,null,null,null,null,null,null,null,"No","Zona de trabajo administrativo",2,null,null,null,0.2,0,0.1,0.1,0.1,0.2,0.2,0.3,0.3,0.3,0.3,0.3,0.3,0.3,0.3,0.3]
[null,null,null,null,null,null,null,null,null,null,null,null,null,null,null,null,null,null,null,null,null,null,null,null,"Aulas y espacios docentes",2,null,null,null,0.1,0,0,0.02,0,0,0.1,0.1,0.1,0.1,0.1,0.1,0.1,0.1,0.1,0.1]
[null,null,null,null,null,null,null,null,null,null,null,null,null,null,null,null,null,null,null,null,null,null,null,null,"Zona de trabajo especializado",2.5]
[null,null,null,"Uso del espacio",null,null,null,null,null,null,null,null,null,null,null,null,null,null,null,null,null,null,null,null,"Salas de lectura",1.5]
[null,null,null,null,null,null,null,null,null,null,null,null,null,null,null,null,null,null,null,null,null,null,null,null,"Espacios deportivos",3]
[null,null,null,"Uso del espacio",null,null,null,null,null,"DF requerido",null,{"$f":"IFERROR(VLOOKUP(F27,Y$22:Z$27,2,FALSE),\"\")","v":""},null,"Superficie útil",null,null,null,null,null,null,null,{"$f":"IF(J79=\"Sí\",P27*J22,0)","v":0},{"$f":"P27*J22","v":0},null,"Zona de atención al público",0.6]
[null,null,null,null,null,null,null,null,null,null,null,null,null,null,null,null,null,null,null,null,null,null,null,null,"Zona residencial",2]
[]
[]
[null,null,null,"¿Se cumplen las cuatro condiciones directas?"]
[]
[null,null,null,"¿Hay obstrucciones exteriores?",null,"Profundidad (m)",null,"Hw (m)",null,"Longitud (m)",null,"¿Es rectangular?",null,"Superficie útil (m)",null,"Longitud de la ventana (m)"]
[]
[null,null,null,null,null,null,null,null,null,null,null,null,null,{"$f":"P27","v":0}]
[]
[null,null,null,"Cumplimiento de las condiciones",null,null,null,{"$f":"IF(D35=\"\",\"\",IF(L27=2,IF(AND(D35=\"NO\",F35<2.5*H35,H35*P35>0.2*(IF(L35=\"SÍ\",J35*F35,N35)),P35>0.6*J35),\"Sí\",\"No\")))","v":""}]
[]
[]
[]
[null,null,null,"Cálculo de la componente SC"]
[]
[null,null,null,"hw para SC (m)",null,"W1",null,"W2",null,"D1",null,"Tipo de vidrio",null,null,null,"Transmitancia del vidrio"]
[null,null,null,null,null,null,null,null,null,null,null,null,null,null,null,null,null,null,null,null,null,null,null,"SC"]
[null,null,null,null,null,null,null,null,null,null,null,null,null,null,null,{"$f":"IFERROR(VLOOKUP(L45,Z3:AA6,2,FALSE),\"\")","v":""},null,null,null,null,null,null,null,{"$f":"INDEX($AE$6:$AS$29,MATCH(MIN(ABS($AD$6:$AD$29-(D45/J45))),$AD$6:$AD$29-(D45/J45),0),MATCH(MIN(ABS($AE$5:$AS$5-(F45/J45))),$AE$5:$AS$5-(F45/J45)))","v":{"$error":"#DIV/0!"}},{"$f":"INDEX($AE$6:$AS$29,MATCH(MIN(ABS($AD$6:$AD$29-(D45/J45))),$AD$6:$AD$29-(D45/J45),0),MATCH(MIN(ABS($AE$5:$AS$5-(H45/J45))),$AE$5:$AS$5-(H45/J45)))","v":{"$error":"#DIV/0!"}}]
[]
[null,null,null,"Componente SC",null,null,null,{"$f":"IFERROR((X45+Y45)*P45,\"\")","v":""}]
[]
[]
[]
[null,null,null,"Cálculo de la componente ERC"]
[]
[null,null,null,"hw para ERC (m)"]
[]
[]
[]
[null,null,null,"Componente ERC",null,null,null,{"$f":"IFERROR((X57+Y57)*P45,\"\")","v":""},null,null,null,null,null,null,null,null,null,null,null,null,null,null,null,{"$f":"INDEX($AE$6:$AS$29,MATCH(MIN(ABS($AD$6:$AD$29-(D55/J45))),$AD$6:$AD$29-(D55/J45),0),MATCH(MIN(ABS($AE$5:$AS$5-(F45/J45))),$AE$5:$AS$5-(F45/J45)))","v":{"$error":"#DIV/0!"}},{"$f":"INDEX($AE$6:$AS$29,MATCH(MIN(ABS($AD$6:$AD$29-(D55/J45))),$AD$6:$AD$29-(D55/J45),0),MATCH(MIN(ABS($AE$5:$AS$5-(H45/J45))),$AE$5:$AS$5-(H45/J45)))","v":{"$error":"#DIV/0!"}}]
[]
[]
[]
[null,null,null,"Cálculo de la componente IRC"]
[]
[null,null,null,"Área acristalada neta de ventanas",null,"Ángulo de cielo visible",null,"Altura del punto medio de las ventanas",null,"Longitud de paredes",null,"Altura de paredes",null,"Color de paredes",null,"Reflectancia de paredes"]
[]
[null,null,null,null,null,null,null,null,null,null,null,null,null,null,null,{"$f":"IFERROR(VLOOKUP(N65,AA$14:AB$16,2,FALSE),\"\")","v":""}]
[]
[null,null,null,"Superficie de techo",null,"Color de techo",null,"Reflectancia de techo",null,null,null,"Superficie de suelo",null,"Color de suelo",null,"Reflectancia de suelo"]
[]
[null,null,null,null,null,null,null,{"$f":"IFERROR(VLOOKUP(F69,AA$11:AB$13,2,FALSE),\"\")","v":""},null,null,null,null,null,null,null,{"$f":"IFERROR(VLOOKUP(N69,AA$17:AB$18,2,FALSE),\"\")","v":""}]
[]
[null,null,null,"Reflectancia media",null,"Reflectancia media superior",null,"Reflectancia media inferior"]
[]
[null,null,null,{"$f":"IFERROR(((((J65*L65)-D65)*P65)+(D69*H69)+(L69*P69))/(((J65*L65)-D65)+D69+L69),\"\")","v":""},null,{"$f":"IFERROR(((((J65*(L65-H65))-D65/2)*P65)+(D69*H69))/(((J65*L65)-D65)+D69),\"\")","v":""},null,{"$f":"IFERROR(((((J65*H65)-D65/2)*P65)+(L69*P69))/((J65*D65)+L69),\"\")","v":""}]
[]
[null,null,null,"Componente IRC",null,null,null,{"$f":"IFERROR((N45*D65*(((F65/2)-5)*H73+5*F73))/(((J65*L65)-D65)+D69+L69)*(1-D73),\"\")","v":""}]
[]
[]
[]
[null,null,null,"Cumplimiento del criterio",null,null,null,null,null,{"$f":"IFERROR(IF(H82=\"\",\"\",IF(H82>= P27,\"Sí\",\"No\")),\"\")","v":""}]
[]
[]
[null,null,null,"Factor luz de día de la estancia",null,null,null,{"$f":"IFERROR(H47+H57+H75,\"\")","v":""},null,{"$f":"IF(J22=\"\",\"No olvides rellenar el multiplicador\")","v":"No olvides rellenar el multiplicador"}]
[]
[null,null,null,null,null,null,null,null,null,null,null,null,null,null,null,null,null,null,null,null,null,null,null,"Sí"]
[null,null,null,"Espacio 2",null,null,null,"Multiplicador",null,null,null,null,null,null,null,null,null,null,null,null,null,null,null,"No"]
[]
[]
[null,null,null,"Uso del espacio"]
[]
[null,null,null,"Uso del espacio",null,null,null,null,null,"DF requerido",null,{"$f":"IFERROR(VLOOKUP(F90,Y$22:Z$27,2,FALSE),\"\")","v":""},null,"Superficie útil",null,null,null,null,null,null,null,{"$f":"IF(J142=\"Sí\",P90*J85,0)","v":0},{"$f":"P90*J85","v":0}]
[]
[]
[]
[null,null,null,"¿Se cumplen las cuatro condiciones directas?"]
[]
[null,null,null,"¿Hay obstrucciones exteriores?",null,"Profundidad (m)",null,"Hw (m)",null,"Longitud (m)",null,"¿Es rectangular?",null,"Superficie útil (m)",null,"Longitud de la ventana (m)"]
[]
[null,null,null,null,null,null,null,null,null,null,null,null,null,{"$f":"P90","v":0}]
[]
[null,null,null,"Cumplimiento de las condiciones",null,null,null,{"$f":"IF(D98=\"\",\"\",IF(L90=2,IF(AND(D98=\"NO\",F98<2.5*H98,H98*P98>0.2*(IF(L98=\"SÍ\",J98*F98,N98)),P98>0.6*J98),\"Sí\",\"No\")))","v":""}]
[]
[]
[]
[null,null,null,"Cálculo de la componente SC"]
[]
[null,null,null,"hw para SC (m)",null,"W1",null,"W2",null,"D1",null,"Tipo de vidrio",null,null,null,"Transmitancia del vidrio"]
[null,null,null,null,null,null,null,null,null,null,null,null,null,null,null,null,null,null,null,null,null,null,null,"SC"]
[null,null,null,null,null,null,null,null,null,null,null,null,null,null,null,{"$f":"IFERROR(VLOOKUP(L108,Z66:AA69,2,FALSE),\"\")","v":""},null,null,null,null,null,null,null,{"$f":"INDEX($AE$6:$AS$29,MATCH(MIN(ABS($AD$6:$AD$29-(D108/J108))),$AD$6:$AD$29-(D108/J108),0),MATCH(MIN(ABS($AE$5:$AS$5-(F108/J108))),$AE$5:$AS$5-(F108/J108)))","v":{"$error":"#DIV/0!"}},{"$f":"INDEX($AE$6:$AS$29,MATCH(MIN(ABS($AD$6:$AD$29-(D108/J108))),$AD$6:$AD$29-(D108/J108),0),MATCH(MIN(ABS($AE$5:$AS$5-(H108/J108))),$AE$5:$AS$5-(H108/J108)))","v":{"$error":"#DIV/0!"}}]
[]
[null,null,null,"Componente SC",null,null,null,{"$f":"IFERROR((X108+Y108)*P108,\"\")","v":""}]
[]
[]
[]
[null,null,null,"Cálculo de la componente ERC"]
[]
[null,null,null,"hw para ERC (m)"]
[]
[]
[]
[null,null,null,"Componente ERC",null,null,null,{"$f":"IFERROR((X120+Y120)*P108,\"\")","v":""},null,null,null,null,null,null,null,null,null,null,null,null,null,null,null,{"$f":"INDEX($AE$6:$AS$29,MATCH(MIN(ABS($AD$6:$AD$29-(D118/J108))),$AD$6:$AD$29-(D118/J108),0),MATCH(MIN(ABS($AE$5:$AS$5-(F108/J108))),$AE$5:$AS$5-(F108/J108)))","v":{"$error":"#DIV/0!"}},{"$f":"INDEX($AE$6:$AS$29,MATCH(MIN(ABS($AD$6:$AD$29-(D118/J108))),$AD$6:$AD$29-(D118/J108),0),MATCH(MIN(ABS($AE$5:$AS$5-(H108/J108))),$AE$5:$AS$5-(H108/J108)))","v":{"$error":"#DIV/0!"}}]
[]
[]
[]
[null,null,null,"Cálculo de la componente IRC"]
[]
[null,null,null,"Área acristalada neta de ventanas",null,"Ángulo de cielo visible",null,"Altura del punto medio de las ventanas",null,"Longitud de paredes",null,"Altura de paredes",null,"Color de paredes",null,"Reflectancia de paredes"]
[]
[null,null,null,null,null,null,null,null,null,null,null,null,null,null,null,{"$f":"IFERROR(VLOOKUP(N128,AA$14:AB$16,2,FALSE),\"\")","v":""}]
[]
[null,null,null,"Superficie de techo",null,"Color de techo",null,"Reflectancia de techo",null,null,null,"Superficie de suelo",null,"Color de suelo",null,"Reflectancia de suelo"]
[]
[null,null,null,null,null,null,null,{"$f":"IFERROR(VLOOKUP(F132,AA$11:AB$13,2,FALSE),\"\")","v":""},null,null,null,null,null,null,null,{"$f":"IFERROR(VLOOKUP(N132,AA$17:AB$18,2,FALSE),\"\")","v":""}]
[]
[null,null,null,"Reflectancia media",null,"Reflectancia media superior",null,"Reflectancia media inferior"]
[]
[null,null,null,{"$f":"IFERROR(((((J128*L128)-D128)*P128)+(D132*H132)+(L132*P132))/(((J128*L128)-D128)+D132+L132),\"\")","v":""},null,{"$f":"IFERROR(((((J128*(L128-H128))-D128/2)*P128)+(D132*H132))/(((J128*L128)-D128)+D132),\"\")","v":""},null,{"$f":"IFERROR(((((J128*H128)-D128/2)*P128)+(L132*P132))/((J128*D128)+L132),\"\")","v":""}]
[]
[null,null,null,"Componente IRC",null,null,null,{"$f":"IFERROR((N108*D128*(((F128/2)-5)*H136+5*F136))/(((J128*L128)-D128)+D132+L132)*(1-D136),\"\")","v":""}]
[]
[]
[]
[null,null,null,"Cumplimiento del criterio",null,null,null,null,null,{"$f":"IFERROR(IF(H145=\"\",\"\",IF(H145>= P90,\"Sí\",\"No\")),\"\")","v":""}]
[]
[]
[null,null,null,"Factor luz de día de la estancia",null,null,null,{"$f":"IFERROR(H110+H120+H138,\"\")","v":""},null,{"$f":"IF(J85=\"\",\"No olvides rellenar el multiplicador\")","v":"No olvides rellenar el multiplicador"}]
[]
[null,null,null,null,null,null,null,null,null,null,null,null,null,null,null,null,null,null,null,null,null,null,null,"Sí"]
[null,null,null,"Espacio 3",null,null,null,"Multiplicador",null,null,null,null,null,null,null,null,null,null,null,null,null,null,null,"No"]
[null,null,null,null,null,null,null,null,null,null,null,null,null,null,null,null,null,null,null,null,null,null,null,null,"Aulas y espacios docentes",2]
[null,null,null,null,null,null,null,null,null,null,null,null,null,null,null,null,null,null,null,null,null,null,null,null,"Zona de trabajo especializado",2.5]
[null,null,null,"Uso del espacio",null,null,null,null,null,null,null,null,null,null,null,null,null,null,null,null,null,null,null,null,"Salas de lectura",1.5]
[null,null,null,null,null,null,null,null,null,null,null,null,null,null,null,null,null,null,null,null,null,null,null,null,"Espacios deportivos",3]
[null,null,null,"Uso del espacio",null,null,null,null,null,"DF requerido",null,{"$f":"IFERROR(VLOOKUP(F153,Y$22:Z$27,2,FALSE),\"\")","v":""},null,"Superficie útil",null,null,null,null,null,null,null,{"$f":"IF(J205=\"Sí\",P153*J148,0)","v":0},{"$f":"P153*J148","v":0},null,"Zona de atención al público",0.6]
[]
[]
[]
[null,null,null,"¿Se cumplen las cuatro condiciones directas?"]
[]
[null,null,null,"¿Hay obstrucciones exteriores?",null,"Profundidad (m)",null,"Hw (m)",null,"Longitud (m)",null,"¿Es rectangular?",null,"Superficie útil (m)",null,"Longitud de la ventana (m)"]
[]
[null,null,null,null,null,null,null,null,null,null,null,null,null,{"$f":"P153","v":0}]
[]
[null,null,null,"Cumplimiento de las condiciones",null,null,null,{"$f":"IF(D161=\"\",\"\",IF(L153=2,IF(AND(D161=\"NO\",F161<2.5*H161,H161*P161>0.2*(IF(L161=\"SÍ\",J161*F161,N161)),P161>0.6*J161),\"Sí\",\"No\")))","v":""}]
[]
[]
[]
[null,null,null,"Cálculo de la componente SC"]
[]
[null,null,null,"hw para SC (m)",null,"W1",null,"W2",null,"D1",null,"Tipo de vidrio",null,null,null,"Transmitancia del vidrio"]
[null,null,null,null,null,null,null,null,null,null,null,null,null,null,null,null,null,null,null,null,null,null,null,"SC"]
[null,null,null,null,null,null,null,null,null,null,null,null,null,null,null,{"$f":"IFERROR(VLOOKUP(L171,Z129:AA132,2,FALSE),\"\")","v":""},null,null,null,null,null,null,null,{"$f":"INDEX($AE$6:$AS$29,MATCH(MIN(ABS($AD$6:$AD$29-(D171/J171))),$AD$6:$AD$29-(D171/J171),0),MATCH(MIN(ABS($AE$5:$AS$5-(F171/J171))),$AE$5:$AS$5-(F171/J171)))","v":{"$error":"#DIV/0!"}},{"$f":"INDEX($AE$6:$AS$29,MATCH(MIN(ABS($AD$6:$AD$29-(D171/J171))),$AD$6:$AD$29-(D171/J171),0),MATCH(MIN(ABS($AE$5:$AS$5-(H171/J171))),$AE$5:$AS$5-(H171/J171)))","v":{"$error":"#DIV/0!"}}]
[]
[null,null,null,"Componente SC",null,null,null,{"$f":"IFERROR((X171+Y171)*P171,\"\")","v":""}]
[]
[]
[]
[null,null,null,"Cálculo de la componente ERC"]
[]
[null,null,null,"hw para ERC (m)"]
[]
[]
[]
[null,null,null,"Componente ERC",null,null,null,{"$f":"IFERROR((X183+Y183)*P171,\"\")","v":""},null,null,null,null,null,null,null,null,null,null,null,null,null,null,null,{"$f":"INDEX($AE$6:$AS$29,MATCH(MIN(ABS($AD$6:$AD$29-(D181/J171))),$AD$6:$AD$29-(D181/J171),0),MATCH(MIN(ABS($AE$5:$AS$5-(F171/J171))),$AE$5:$AS$5-(F171/J171)))","v":{"$error":"#DIV/0!"}},{"$f":"INDEX($AE$6:$AS$29,MATCH(MIN(ABS($AD$6:$AD$29-(D181/J171))),$AD$6:$AD$29-(D181/J171),0),MATCH(MIN(ABS($AE$5:$AS$5-(H171/J171))),$AE$5:$AS$5-(H171/J171)))","v":{"$error":"#DIV/0!"}}]
[]
[]
[]
[null,null,null,"Cálculo de la componente IRC"]
[]
[null,null,null,"Área acristalada neta de ventanas",null,"Ángulo de cielo visible",null,"Altura del punto medio de las ventanas",null,"Longitud de paredes",null,"Altura de paredes",null,"Color de paredes",null,"Reflectancia de paredes"]
[]
[null,null,null,null,null,null,null,null,null,null,null,null,null,null,null,{"$f":"IFERROR(VLOOKUP(N191,AA$14:AB$16,2,FALSE),\"\")","v":""}]
[]
[null,null,null,"Superficie de techo",null,"Color de techo",null,"Reflectancia de techo",null,null,null,"Superficie de suelo",null,"Color de suelo",null,"Reflectancia de suelo"]
[]
[null,null,null,null,null,null,null,{"$f":"IFERROR(VLOOKUP(F195,AA$11:AB$13,2,FALSE),\"\")","v":""},null,null,null,null,null,null,null,{"$f":"IFERROR(VLOOKUP(N195,AA$17:AB$18,2,FALSE),\"\")","v":""}]
[]
[null,null,null,"Reflectancia media",null,"Reflectancia media superior",null,"Reflectancia media inferior"]
[]
[null,null,null,{"$f":"IFERROR(((((J191*L191)-D191)*P191)+(D195*H195)+(L195*P195))/(((J191*L191)-D191)+D195+L195),\"\")","v":""},null,{"$f":"IFERROR(((((J191*(L191-H191))-D191/2)*P191)+(D195*H195))/(((J191*L191)-D191)+D195),\"\")","v":""},null,{"$f":"IFERROR(((((J191*H191)-D191/2)*P191)+(L195*P195))/((J191*D191)+L195),\"\")","v":""}]
[]
[null,null,null,"Componente IRC",null,null,null,{"$f":"IFERROR((N171*D191*(((F191/2)-5)*H199+5*F199))/(((J191*L191)-D191)+D195+L195)*(1-D199),\"\")","v":""}]
[]
[]
[]
[null,null,null,"Cumplimiento del criterio",null,null,null,null,null,{"$f":"IFERROR(IF(H208=\"\",\"\",IF(H208>= P153,\"Sí\",\"No\")),\"\")","v":""}]
[]
[]
[null,null,null,"Factor luz de día de la estancia",null,null,null,{"$f":"IFERROR(H173+H183+H201,\"\")","v":""},null,{"$f":"IF(J148=\"\",\"No olvides rellenar el multiplicador\")","v":"No olvides rellenar el multiplicador"}]
[]
[null,null,null,null,null,null,null,null,null,null,null,null,null,null,null,null,null,null,null,null,null,null,null,"Sí"]
[null,null,null,"Espacio 4",null,null,null,"Multiplicador",null,null,null,null,null,null,null,null,null,null,null,null,null,null,null,"No"]
[null,null,null,null,null,null,null,null,null,null,null,null,null,null,null,null,null,null,null,null,null,null,null,null,"Aulas y espacios docentes",2]
[null,null,null,null,null,null,null,null,null,null,null,null,null,null,null,null,null,null,null,null,null,null,null,null,"Zona de trabajo especializado",2.5]
[null,null,null,"Uso del espacio",null,null,null,null,null,null,null,null,null,null,null,null,null,null,null,null,null,null,null,null,"Salas de lectura",1.5]
[null,null,null,null,null,null,null,null,null,null,null,null,null,null,null,null,null,null,null,null,null,null,null,null,"Espacios deportivos",3]
[null,null,null,"Uso del espacio",null,null,null,null,null,"DF requerido",null,{"$f":"IFERROR(VLOOKUP(F216,Y$22:Z$27,2,FALSE),\"\")","v":""},null,"Superficie útil",null,null,null,null,null,null,null,{"$f":"IF(J268=\"Sí\",P216*J211,0)","v":0},{"$f":"P216*J211","v":0},null,"Zona de atención al público",0.6]
[]
[]
[]
[null,null,null,"¿Se cumplen las cuatro condiciones directas?"]
[]
[null,null,null,"¿Hay obstrucciones exteriores?",null,"Profundidad (m)",null,"Hw (m)",null,"Longitud (m)",null,"¿Es rectangular?",null,"Superficie útil (m)",null,"Longitud de la ventana (m)"]
[]
[null,null,null,null,null,null,null,null,null,null,null,null,null,{"$f":"P216","v":0}]
[]
[null,null,null,"Cumplimiento de las condiciones",null,null,null,{"$f":"IF(D224=\"\",\"\",IF(L216=2,IF(AND(D224=\"NO\",F224<2.5*H224,H224*P224>0.2*(IF(L224=\"SÍ\",J224*F224,N224)),P224>0.6*J224),\"Sí\",\"No\")))","v":""}]
[]
[]
[]
[null,null,null,"Cálculo de la componente SC"]
[]
[null,null,null,"hw para SC (m)",null,"W1",null,"W2",null,"D1",null,"Tipo de vidrio",null,null,null,"Transmitancia del vidrio"]
[null,null,null,null,null,null,null,null,null,null,null,null,null,null,null,null,null,null,null,null,null,null,null,"SC"]
[null,null,null,null,null,null,null,null,null,null,null,null,null,null,null,{"$f":"IFERROR(VLOOKUP(L234,Z192:AA195,2,FALSE),\"\")","v":""},null,null,null,null,null,null,null,{"$f":"INDEX($AE$6:$AS$29,MATCH(MIN(ABS($AD$6:$AD$29-(D234/J234))),$AD$6:$AD$29-(D234/J234),0),MATCH(MIN(ABS($AE$5:$AS$5-(F234/J234))),$AE$5:$AS$5-(F234/J234)))","v":{"$error":"#DIV/0!"}},{"$f":"INDEX($AE$6:$AS$29,MATCH(MIN(ABS($AD$6:$AD$29-(D234/J234))),$AD$6:$AD$29-(D234/J234),0),MATCH(MIN(ABS($AE$5:$AS$5-(H234/J234))),$AE$5:$AS$5-(H234/J234)))","v":{"$error":"#DIV/0!"}}]
[]
[null,null,null,"Componente SC",null,null,null,{"$f":"IFERROR((X234+Y234)*P234,\"\")","v":""}]
[]
[]
[]
[null,null,null,"Cálculo de la componente ERC"]
[]
[null,null,null,"hw para ERC (m)"]
[]
[]
[]
[null,null,null,"Componente ERC",null,null,null,{"$f":"IFERROR((X246+Y246)*P234,\"\")","v":""},null,null,null,null,null,null,null,null,null,null,null,null,null,null,null,{"$f":"INDEX($AE$6:$AS$29,MATCH(MIN(ABS($AD$6:$AD$29-(D244/J234))),$AD$6:$AD$29-(D244/J234),0),MATCH(MIN(ABS($AE$5:$AS$5-(F234/J234))),$AE$5:$AS$5-(F234/J234)))","v":{"$error":"#DIV/0!"}},{"$f":"INDEX($AE$6:$AS$29,MATCH(MIN(ABS($AD$6:$AD$29-(D244/J234))),$AD$6:$AD$29-(D244/J234),0),MATCH(MIN(ABS($AE$5:$AS$5-(H234/J234))),$AE$5:$AS$5-(H234/J234)))","v":{"$error":"#DIV/0!"}}]
[]
[]
[]
[null,null,null,"Cálculo de la componente IRC"]
[]
[null,null,null,"Área acristalada neta de ventanas",null,"Ángulo de cielo visible",null,"Altura del punto medio de las ventanas",null,"Longitud de paredes",null,"Altura de paredes",null,"Color de paredes",null,"Reflectancia de paredes"]
[]
[null,null,null,null,null,null,null,null,null,null,null,null,null,null,null,{"$f":"IFERROR(VLOOKUP(N254,AA$14:AB$16,2,FALSE),\"\")","v":""}]
[]
[null,null,null,"Superficie de techo",null,"Color de techo",null,"Reflectancia de techo",null,null,null,"Superficie de suelo",null,"Color de suelo",null,"Reflectancia de suelo"]
[]
[null,null,null,null,null,null,null,{"$f":"IFERROR(VLOOKUP(F258,AA$11:AB$13,2,FALSE),\"\")","v":""},null,null,null,null,null,null,null,{"$f":"IFERROR(VLOOKUP(N258,AA$17:AB$18,2,FALSE),\"\")","v":""}]
[]
[null,null,null,"Reflectancia media",null,"Reflectancia media superior",null,"Reflectancia media inferior"]
[]
[null,null,null,{"$f":"IFERROR(((((J254*L254)-D254)*P254)+(D258*H258)+(L258*P258))/(((J254*L254)-D254)+D258+L258),\"\")","v":""},null,{"$f":"IFERROR(((((J254*(L254-H254))-D254/2)*P254)+(D258*H258))/(((J254*L254)-D254)+D258),\"\")","v":""},null,{"$f":"IFERROR(((((J254*H254)-D254/2)*P254)+(L258*P258))/((J254*D254)+L258),\"\")","v":""}]
[]
[null,null,null,"Componente IRC",null,null,null,{"$f":"IFERROR((N234*D254*(((F254/2)-5)*H262+5*F262))/(((J254*L254)-D254)+D258+L258)*(1-D262),\"\")","v":""}]
[]
[]
[]
[null,null,null,"Cumplimiento del criterio",null,null,null,null,null,{"$f":"IFERROR(IF(H271=\"\",\"\",IF(H271>= P216,\"Sí\",\"No\")),\"\")","v":""}]
[]
[]
[null,null,null,"Factor luz de día de la estancia",null,null,null,{"$f":"IFERROR(H236+H246+H264,\"\")","v":""},null,{"$f":"IF(J211=\"\",\"No olvides rellenar el multiplicador\")","v":"No olvides rellenar el multiplicador"}]
[]
[null,null,null,null,null,null,null,null,null,null,null,null,null,null,null,null,null,null,null,null,null,null,null,"Sí"]
[null,null,null,"Espacio 5",null,null,null,"Multiplicador",null,null,null,null,null,null,null,null,null,null,null,null,null,null,null,"No"]
[null,null,null,null,null,null,null,null,null,null,null,null,null,null,null,null,null,null,null,null,null,null,null,null,"Aulas y espacios docentes",2]
[null,null,null,null,null,null,null,null,null,null,null,null,null,null,null,null,null,null,null,null,null,null,null,null,"Zona de trabajo especializado",2.5]
[null,null,null,"Uso del espacio",null,null,null,null,null,null,null,null,null,null,null,null,null,null,null,null,null,null,null,null,"Salas de lectura",1.5]
[null,null,null,null,null,null,null,null,null,null,null,null,null,null,null,null,null,null,null,null,null,null,null,null,"Espacios deportivos",3]
[null,null,null,"Uso del espacio",null,null,null,null,null,"DF requerido",null,{"$f":"IFERROR(VLOOKUP(F279,Y$22:Z$27,2,FALSE),\"\")","v":""},null,"Superficie útil",null,null,null,null,null,null,null,{"$f":"IF(J331=\"Sí\",P279*J274,0)","v":0},{"$f":"P279*J274","v":0},null,"Zona de atención al público",0.6]
[]
[]
[]
[null,null,null,"¿Se cumplen las cuatro condiciones directas?"]
[]
[null,null,null,"¿Hay obstrucciones exteriores?",null,"Profundidad (m)",null,"Hw (m)",null,"Longitud (m)",null,"¿Es rectangular?",null,"Superficie útil (m)",null,"Longitud de la ventana (m)"]
[]
[null,null,null,null,null,null,null,null,null,null,null,null,null,{"$f":"P279","v":0}]
[]
[null,null,null,"Cumplimiento de las condiciones",null,null,null,{"$f":"IF(D287=\"\",\"\",IF(L279=2,IF(AND(D287=\"NO\",F287<2.5*H287,H287*P287>0.2*(IF(L287=\"SÍ\",J287*F287,N287)),P287>0.6*J287),\"Sí\",\"No\")))","v":""}]
[]
[]
[]
[null,null,null,"Cálculo de la componente SC"]
[]
[null,null,null,"hw para SC (m)",null,"W1",null,"W2",null,"D1",null,"Tipo de vidrio",null,null,null,"Transmitancia del vidrio"]
[null,null,null,null,null,null,null,null,null,null,null,null,null,null,null,null,null,null,null,null,null,null,null,"SC"]
[null,null,null,null,null,null,null,null,null,null,null,null,null,null,null,{"$f":"IFERROR(VLOOKUP(L297,Z255:AA258,2,FALSE),\"\")","v":""},null,null,null,null,null,null,null,{"$f":"INDEX($AE$6:$AS$29,MATCH(MIN(ABS($AD$6:$AD$29-(D297/J297))),$AD$6:$AD$29-(D297/J297),0),MATCH(MIN(ABS($AE$5:$AS$5-(F297/J297))),$AE$5:$AS$5-(F297/J297)))","v":{"$error":"#DIV/0!"}},{"$f":"INDEX($AE$6:$AS$29,MATCH(MIN(ABS($AD$6:$AD$29-(D297/J297))),$AD$6:$AD$29-(D297/J297),0),MATCH(MIN(ABS($AE$5:$AS$5-(H297/J297))),$AE$5:$AS$5-(H297/J297)))","v":{"$error":"#DIV/0!"}}]
[]
[null,null,null,"Componente SC",null,null,null,{"$f":"IFERROR((X297+Y297)*P297,\"\")","v":""}]
[]
[]
[]
[null,null,null,"Cálculo de la componente ERC"]
[]
[null,null,null,"hw para ERC (m)"]
[]
[]
[]
[null,null,null,"Componente ERC",null,null,null,{"$f":"IFERROR((X309+Y309)*P297,\"\")","v":""},null,null,null,null,null,null,null,null,null,null,null,null,null,null,null,{"$f":"INDEX($AE$6:$AS$29,MATCH(MIN(ABS($AD$6:$AD$29-(D307/J297))),$AD$6:$AD$29-(D307/J297),0),MATCH(MIN(ABS($AE$5:$AS$5-(F297/J297))),$AE$5:$AS$5-(F297/J297)))","v":{"$error":"#DIV/0!"}},{"$f":"INDEX($AE$6:$AS$29,MATCH(MIN(ABS($AD$6:$AD$29-(D307/J297))),$AD$6:$AD$29-(D307/J297),0),MATCH(MIN(ABS($AE$5:$AS$5-(H297/J297))),$AE$5:$AS$5-(H297/J297)))","v":{"$error":"#DIV/0!"}}]
[]
[]
[]
[null,null,null,"Cálculo de la componente IRC"]
[]
[null,null,null,"Área acristalada neta de ventanas",null,"Ángulo de cielo visible",null,"Altura del punto medio de las ventanas",null,"Longitud de paredes",null,"Altura de paredes",null,"Color de paredes",null,"Reflectancia de paredes"]
[]
[null,null,null,null,null,null,null,null,null,null,null,null,null,null,null,{"$f":"IFERROR(VLOOKUP(N317,AA$14:AB$16,2,FALSE),\"\")","v":""}]
[]
[null,null,null,"Superficie de techo",null,"Color de techo",null,"Reflectancia de techo",null,null,null,"Superficie de suelo",null,"Color de suelo",null,"Reflectancia de suelo"]
[]
[null,null,null,null,null,null,null,{"$f":"IFERROR(VLOOKUP(F321,AA$11:AB$13,2,FALSE),\"\")","v":""},null,null,null,null,null,null,null,{"$f":"IFERROR(VLOOKUP(N321,AA$17:AB$18,2,FALSE),\"\")","v":""}]
[]
[null,null,null,"Reflectancia media",null,"Reflectancia media superior",null,"Reflectancia media inferior"]
[]
[null,null,null,{"$f":"IFERROR(((((J317*L317)-D317)*P317)+(D321*H321)+(L321*P321))/(((J317*L317)-D317)+D321+L321),\"\")","v":""},null,{"$f":"IFERROR(((((J317*(L317-H317))-D317/2)*P317)+(D321*H321))/(((J317*L317)-D317)+D321),\"\")","v":""},null,{"$f":"IFERROR(((((J317*H317)-D317/2)*P317)+(L321*P321))/((J317*D317)+L321),\"\")","v":""}]
[]
[null,null,null,"Componente IRC",null,null,null,{"$f":"IFERROR((N297*D317*(((F317/2)-5)*H325+5*F325))/(((J317*L317)-D317)+D321+L321)*(1-D325),\"\")","v":""}]
[]
[]
[]
[null,null,null,"Cumplimiento del criterio",null,null,null,null,null,{"$f":"IFERROR(IF(H334=\"\",\"\",IF(H334>= P279,\"Sí\",\"No\")),\"\")","v":""}]
[]
[]
[null,null,null,"Factor luz de día de la estancia",null,null,null,{"$f":"IFERROR(H299+H309+H327,\"\")","v":""},null,{"$f":"IF(J274=\"\",\"No olvides rellenar el multiplicador\")","v":"No olvides rellenar el multiplicador"}]
[]
[null,null,null,null,null,null,null,null,null,null,null,null,null,null,null,null,null,null,null,null,null,null,null,"Sí"]
[null,null,null,"Espacio 6",null,null,null,"Multiplicador",null,null,null,null,null,null,null,null,null,null,null,null,null,null,null,"No"]
[null,null,null,null,null,null,null,null,null,null,null,null,null,null,null,null,null,null,null,null,null,null,null,null,"Aulas y espacios docentes",2]
[null,null,null,null,null,null,null,null,null,null,null,null,null,null,null,null,null,null,null,null,null,null,null,null,"Zona de trabajo especializado",2.5]
[null,null,null,"Uso del espacio",null,null,null,null,null,null,null,null,null,null,null,null,null,null,null,null,null,null,null,null,"Salas de lectura",1.5]
[null,null,null,null,null,null,null,null,null,null,null,null,null,null,null,null,null,null,null,null,null,null,null,null,"Espacios deportivos",3]
[null,null,null,"Uso del espacio",null,null,null,null,null,"DF requerido",null,{"$f":"IFERROR(VLOOKUP(F342,Y$22:Z$27,2,FALSE),\"\")","v":""},null,"Superficie útil",null,null,null,null,null,null,null,{"$f":"IF(J394=\"Sí\",P342*J337,0)","v":0},{"$f":"P342*J337","v":0},null,"Zona de atención al público",0.6]
[]
[]
[]
[null,null,null,"¿Se cumplen las cuatro condiciones directas?"]
[]
[null,null,null,"¿Hay obstrucciones exteriores?",null,"Profundidad (m)",null,"Hw (m)",null,"Longitud (m)",null,"¿Es rectangular?",null,"Superficie útil (m)",null,"Longitud de la ventana (m)"]
[]
[null,null,null,null,null,null,null,null,null,null,null,null,null,{"$f":"P342","v":0}]
[]
[null,null,null,"Cumplimiento de las condiciones",null,null,null,{"$f":"IF(D350=\"\",\"\",IF(L342=2,IF(AND(D350=\"NO\",F350<2.5*H350,H350*P350>0.2*(IF(L350=\"SÍ\",J350*F350,N350)),P350>0.6*J350),\"Sí\",\"No\")))","v":""}]
[]
[]
[]
[null,null,null,"Cálculo de la componente SC"]
[]
[null,null,null,"hw para SC (m)",null,"W1",null,"W2",null,"D1",null,"Tipo de vidrio",null,null,null,"Transmitancia del vidrio"]
[null,null,null,null,null,null,null,null,null,null,null,null,null,null,null,null,null,null,null,null,null,null,null,"SC"]
[null,null,null,null,null,null,null,null,null,null,null,null,null,null,null,{"$f":"IFERROR(VLOOKUP(L360,Z318:AA321,2,FALSE),\"\")","v":""},null,null,null,null,null,null,null,{"$f":"INDEX($AE$6:$AS$29,MATCH(MIN(ABS($AD$6:$AD$29-(D360/J360))),$AD$6:$AD$29-(D360/J360),0),MATCH(MIN(ABS($AE$5:$AS$5-(F360/J360))),$AE$5:$AS$5-(F360/J360)))","v":{"$error":"#DIV/0!"}},{"$f":"INDEX($AE$6:$AS$29,MATCH(MIN(ABS($AD$6:$AD$29-(D360/J360))),$AD$6:$AD$29-(D360/J360),0),MATCH(MIN(ABS($AE$5:$AS$5-(H360/J360))),$AE$5:$AS$5-(H360/J360)))","v":{"$error":"#DIV/0!"}}]
[]
[null,null,null,"Componente SC",null,null,null,{"$f":"IFERROR((X360+Y360)*P360,\"\")","v":""}]
[]
[]
[]
[null,null,null,"Cálculo de la componente ERC"]
[]
[null,null,null,"hw para ERC (m)"]
[]
[]
[]
[null,null,null,"Componente ERC",null,null,null,{"$f":"IFERROR((X372+Y372)*P360,\"\")","v":""},null,null,null,null,null,null,null,null,null,null,null,null,null,null,null,{"$f":"INDEX($AE$6:$AS$29,MATCH(MIN(ABS($AD$6:$AD$29-(D370/J360))),$AD$6:$AD$29-(D370/J360),0),MATCH(MIN(ABS($AE$5:$AS$5-(F360/J360))),$AE$5:$AS$5-(F360/J360)))","v":{"$error":"#DIV/0!"}},{"$f":"INDEX($AE$6:$AS$29,MATCH(MIN(ABS($AD$6:$AD$29-(D370/J360))),$AD$6:$AD$29-(D370/J360),0),MATCH(MIN(ABS($AE$5:$AS$5-(H360/J360))),$AE$5:$AS$5-(H360/J360)))","v":{"$error":"#DIV/0!"}}]
[]
[]
[]
[null,null,null,"Cálculo de la componente IRC"]
[]
[null,null,null,"Área acristalada neta de ventanas",null,"Ángulo de cielo visible",null,"Altura del punto medio de las ventanas",null,"Longitud de paredes",null,"Altura de paredes",null,"Color de paredes",null,"Reflectancia de paredes"]
[]
[null,null,null,null,null,null,null,null,null,null,null,null,null,null,null,{"$f":"IFERROR(VLOOKUP(N380,AA$14:AB$16,2,FALSE),\"\")","v":""}]
[]
[null,null,null,"Superficie de techo",null,"Color de techo",null,"Reflectancia de techo",null,null,null,"Superficie de suelo",null,"Color de suelo",null,"Reflectancia de suelo"]
[]
[null,null,null,null,null,null,null,{"$f":"IFERROR(VLOOKUP(F384,AA$11:AB$13,2,FALSE),\"\")","v":""},null,null,null,null,null,null,null,{"$f":"IFERROR(VLOOKUP(N384,AA$17:AB$18,2,FALSE),\"\")","v":""}]
[]
[null,null,null,"Reflectancia media",null,"Reflectancia media superior",null,"Reflectancia media inferior"]
[]
[null,null,null,{"$f":"IFERROR(((((J380*L380)-D380)*P380)+(D384*H384)+(L384*P384))/(((J380*L380)-D380)+D384+L384),\"\")","v":""},null,{"$f":"IFERROR(((((J380*(L380-H380))-D380/2)*P380)+(D384*H384))/(((J380*L380)-D380)+D384),\"\")","v":""},null,{"$f":"IFERROR(((((J380*H380)-D380/2)*P380)+(L384*P384))/((J380*D380)+L384),\"\")","v":""}]
[]
[null,null,null,"Componente IRC",null,null,null,{"$f":"IFERROR((N360*D380*(((F380/2)-5)*H388+5*F388))/(((J380*L380)-D380)+D384+L384)*(1-D388),\"\")","v":""}]
[]
[]
[]
[null,null,null,"Cumplimiento del criterio",null,null,null,null,null,{"$f":"IFERROR(IF(H397=\"\",\"\",IF(H397>= P342,\"Sí\",\"No\")),\"\")","v":""}]
[]
[]
[null,null,null,"Factor luz de día de la estancia",null,null,null,{"$f":"IFERROR(H362+H372+H390,\"\")","v":""},null,{"$f":"IF(J337=\"\",\"No olvides rellenar el multiplicador\")","v":"No olvides rellenar el multiplicador"}]
[]
[null,null,null,null,null,null,null,null,null,null,null,null,null,null,null,null,null,null,null,null,null,null,null,"Sí"]
[null,null,null,"Espacio 7",null,null,null,"Multiplicador",null,null,null,null,null,null,null,null,null,null,null,null,null,null,null,"No"]
[null,null,null,null,null,null,null,null,null,null,null,null,null,null,null,null,null,null,null,null,null,null,null,null,"Aulas y espacios docentes",2]
[null,null,null,null,null,null,null,null,null,null,null,null,null,null,null,null,null,null,null,null,null,null,null,null,"Zona de trabajo especializado",2.5]
[null,null,null,"Uso del espacio",null,null,null,null,null,null,null,null,null,null,null,null,null,null,null,null,null,null,null,null,"Salas de lectura",1.5]
[null,null,null,null,null,null,null,null,null,null,null,null,null,null,null,null,null,null,null,null,null,null,null,null,"Espacios deportivos",3]
[null,null,null,"Uso del espacio",null,null,null,null,null,"DF requerido",null,{"$f":"IFERROR(VLOOKUP(F405,Y$22:Z$27,2,FALSE),\"\")","v":""},null,"Superficie útil",null,null,null,null,null,null,null,{"$f":"IF(J457=\"Sí\",P405*J400,0)","v":0},{"$f":"P405*J400","v":0},null,"Zona de atención al público",0.6]
[]
[]
[]
[null,null,null,"¿Se cumplen las cuatro condiciones directas?"]
[]
[null,null,null,"¿Hay obstrucciones exteriores?",null,"Profundidad (m)",null,"Hw (m)",null,"Longitud (m)",null,"¿Es rectangular?",null,"Superficie útil (m)",null,"Longitud de la ventana (m)"]
[]
[null,null,null,null,null,null,null,null,null,null,null,null,null,{"$f":"P405","v":0}]
[]
[null,null,null,"Cumplimiento de las condiciones",null,null,null,{"$f":"IF(D413=\"\",\"\",IF(L405=2,IF(AND(D413=\"NO\",F413<2.5*H413,H413*P413>0.2*(IF(L413=\"SÍ\",J413*F413,N413)),P413>0.6*J413),\"Sí\",\"No\")))","v":""}]
[]
[]
[]
[null,null,null,"Cálculo de la componente SC"]
[]
[null,null,null,"hw para SC (m)",null,"W1",null,"W2",null,"D1",null,"Tipo de vidrio",null,null,null,"Transmitancia del vidrio"]
[null,null,null,null,null,null,null,null,null,null,null,null,null,null,null,null,null,null,null,null,null,null,null,"SC"]
[null,null,null,null,null,null,null,null,null,null,null,null,null,null,null,{"$f":"IFERROR(VLOOKUP(L423,Z381:AA384,2,FALSE),\"\")","v":""},null,null,null,null,null,null,null,{"$f":"INDEX($AE$6:$AS$29,MATCH(MIN(ABS($AD$6:$AD$29-(D423/J423))),$AD$6:$AD$29-(D423/J423),0),MATCH(MIN(ABS($AE$5:$AS$5-(F423/J423))),$AE$5:$AS$5-(F423/J423)))","v":{"$error":"#DIV/0!"}},{"$f":"INDEX($AE$6:$AS$29,MATCH(MIN(ABS($AD$6:$AD$29-(D423/J423))),$AD$6:$AD$29-(D423/J423),0),MATCH(MIN(ABS($AE$5:$AS$5-(H423/J423))),$AE$5:$AS$5-(H423/J423)))","v":{"$error":"#DIV/0!"}}]
[]
[null,null,null,"Componente SC",null,null,null,{"$f":"IFERROR((X423+Y423)*P423,\"\")","v":""}]
[]
[]
[]
[null,null,null,"Cálculo de la componente ERC"]
[]
[null,null,null,"hw para ERC (m)"]
[]
[]
[]
[null,null,null,"Componente ERC",null,null,null,{"$f":"IFERROR((X435+Y435)*P423,\"\")","v":""},null,null,null,null,null,null,null,null,null,null,null,null,null,null,null,{"$f":"INDEX($AE$6:$AS$29,MATCH(MIN(ABS($AD$6:$AD$29-(D433/J423))),$AD$6:$AD$29-(D433/J423),0),MATCH(MIN(ABS($AE$5:$AS$5-(F423/J423))),$AE$5:$AS$5-(F423/J423)))","v":{"$error":"#DIV/0!"}},{"$f":"INDEX($AE$6:$AS$29,MATCH(MIN(ABS($AD$6:$AD$29-(D433/J423))),$AD$6:$AD$29-(D433/J423),0),MATCH(MIN(ABS($AE$5:$AS$5-(H423/J423))),$AE$5:$AS$5-(H423/J423)))","v":{"$error":"#DIV/0!"}}]
[]
[]
[]
[null,null,null,"Cálculo de la componente IRC"]
[]
[null,null,null,"Área acristalada neta de ventanas",null,"Ángulo de cielo visible",null,"Altura del punto medio de las ventanas",null,"Longitud de paredes",null,"Altura de paredes",null,"Color de paredes",null,"Reflectancia de paredes"]
[]
[null,null,null,null,null,null,null,null,null,null,null,null,null,null,null,{"$f":"IFERROR(VLOOKUP(N443,AA$14:AB$16,2,FALSE),\"\")","v":""}]
[]
[null,null,null,"Superficie de techo",null,"Color de techo",null,"Reflectancia de techo",null,null,null,"Superficie de suelo",null,"Color de suelo",null,"Reflectancia de suelo"]
[]
[null,null,null,null,null,null,null,{"$f":"IFERROR(VLOOKUP(F447,AA$11:AB$13,2,FALSE),\"\")","v":""},null,null,null,null,null,null,null,{"$f":"IFERROR(VLOOKUP(N447,AA$17:AB$18,2,FALSE),\"\")","v":""}]
[]
[null,null,null,"Reflectancia media",null,"Reflectancia media superior",null,"Reflectancia media inferior"]
[]
[null,null,null,{"$f":"IFERROR(((((J443*L443)-D443)*P443)+(D447*H447)+(L447*P447))/(((J443*L443)-D443)+D447+L447),\"\")","v":""},null,{"$f":"IFERROR(((((J443*(L443-H443))-D443/2)*P443)+(D447*H447))/(((J443*L443)-D443)+D447),\"\")","v":""},null,{"$f":"IFERROR(((((J443*H443)-D443/2)*P443)+(L447*P447))/((J443*D443)+L447),\"\")","v":""}]
[]
[null,null,null,"Componente IRC",null,null,null,{"$f":"IFERROR((N423*D443*(((F443/2)-5)*H451+5*F451))/(((J443*L443)-D443)+D447+L447)*(1-D451),\"\")","v":""}]
[]
[]
[]
[null,null,null,"Cumplimiento del criterio",null,null,null,null,null,{"$f":"IFERROR(IF(H460=\"\",\"\",IF(H460>= P405,\"Sí\",\"No\")),\"\")","v":""}]
[]
[]
[null,null,null,"Factor luz de día de la estancia",null,null,null,{"$f":"IFERROR(H425+H435+H453,\"\")","v":""},null,{"$f":"IF(J400=\"\",\"No olvides rellenar el multiplicador\")","v":"No olvides rellenar el multiplicador"}]
[]
[null,null,null,null,null,null,null,null,null,null,null,null,null,null,null,null,null,null,null,null,null,null,null,"Sí"]
[null,null,null,"Espacio 8",null,null,null,"Multiplicador",null,null,null,null,null,null,null,null,null,null,null,null,null,null,null,"No"]
[null,null,null,null,null,null,null,null,null,null,null,null,null,null,null,null,null,null,null,null,null,null,null,null,"Aulas y espacios docentes",2]
[null,null,null,null,null,null,null,null,null,null,null,null,null,null,null,null,null,null,null,null,null,null,null,null,"Zona de trabajo especializado",2.5]
[null,null,null,"Uso del espacio",null,null,null,null,null,null,null,null,null,null,null,null,null,null,null,null,null,null,null,null,"Salas de lectura",1.5]
[null,null,null,null,null,null,null,null,null,null,null,null,null,null,null,null,null,null,null,null,null,null,null,null,"Espacios deportivos",3]
[null,null,null,"Uso del espacio",null,null,null,null,null,"DF requerido",null,{"$f":"IFERROR(VLOOKUP(F468,Y$22:Z$27,2,FALSE),\"\")","v":""},null,"Superficie útil",null,null,null,null,null,null,null,{"$f":"IF(J520=\"Sí\",P468*J463,0)","v":0},{"$f":"P468*J463","v":0},null,"Zona de atención al público",0.6]
[]
[]
[]
[null,null,null,"¿Se cumplen las cuatro condiciones directas?"]
[]
[null,null,null,"¿Hay obstrucciones exteriores?",null,"Profundidad (m)",null,"Hw (m)",null,"Longitud (m)",null,"¿Es rectangular?",null,"Superficie útil (m)",null,"Longitud de la ventana (m)"]
[]
[null,null,null,null,null,null,null,null,null,null,null,null,null,{"$f":"P468","v":0}]
[]
[null,null,null,"Cumplimiento de las condiciones",null,null,null,{"$f":"IF(D476=\"\",\"\",IF(L468=2,IF(AND(D476=\"NO\",F476<2.5*H476,H476*P476>0.2*(IF(L476=\"SÍ\",J476*F476,N476)),P476>0.6*J476),\"Sí\",\"No\")))","v":""}]
[]
[]
[]
[null,null,null,"Cálculo de la componente SC"]
[]
[null,null,null,"hw para SC (m)",null,"W1",null,"W2",null,"D1",null,"Tipo de vidrio",null,null,null,"Transmitancia del vidrio"]
[null,null,null,null,null,null,null,null,null,null,null,null,null,null,null,null,null,null,null,null,null,null,null,"SC"]
[null,null,null,null,null,null,null,null,null,null,null,null,null,null,null,{"$f":"IFERROR(VLOOKUP(L486,Z444:AA447,2,FALSE),\"\")","v":""},null,null,null,null,null,null,null,{"$f":"INDEX($AE$6:$AS$29,MATCH(MIN(ABS($AD$6:$AD$29-(D486/J486))),$AD$6:$AD$29-(D486/J486),0),MATCH(MIN(ABS($AE$5:$AS$5-(F486/J486))),$AE$5:$AS$5-(F486/J486)))","v":{"$error":"#DIV/0!"}},{"$f":"INDEX($AE$6:$AS$29,MATCH(MIN(ABS($AD$6:$AD$29-(D486/J486))),$AD$6:$AD$29-(D486/J486),0),MATCH(MIN(ABS($AE$5:$AS$5-(H486/J486))),$AE$5:$AS$5-(H486/J486)))","v":{"$error":"#DIV/0!"}}]
[]
[null,null,null,"Componente SC",null,null,null,{"$f":"IFERROR((X486+Y486)*P486,\"\")","v":""}]
[]
[]
[]
[null,null,null,"Cálculo de la componente ERC"]
[]
[null,null,null,"hw para ERC (m)"]
[]
[]
[]
[null,null,null,"Componente ERC",null,null,null,{"$f":"IFERROR((X498+Y498)*P486,\"\")","v":""},null,null,null,null,null,null,null,null,null,null,null,null,null,null,null,{"$f":"INDEX($AE$6:$AS$29,MATCH(MIN(ABS($AD$6:$AD$29-(D496/J486))),$AD$6:$AD$29-(D496/J486),0),MATCH(MIN(ABS($AE$5:$AS$5-(F486/J486))),$AE$5:$AS$5-(F486/J486)))","v":{"$error":"#DIV/0!"}},{"$f":"INDEX($AE$6:$AS$29,MATCH(MIN(ABS($AD$6:$AD$29-(D496/J486))),$AD$6:$AD$29-(D496/J486),0),MATCH(MIN(ABS($AE$5:$AS$5-(H486/J486))),$AE$5:$AS$5-(H486/J486)))","v":{"$error":"#DIV/0!"}}]
[]
[]
[]
[null,null,null,"Cálculo de la componente IRC"]
[]
[null,null,null,"Área acristalada neta de ventanas",null,"Ángulo de cielo visible",null,"Altura del punto medio de las ventanas",null,"Longitud de paredes",null,"Altura de paredes",null,"Color de paredes",null,"Reflectancia de paredes"]
[]
[null,null,null,null,null,null,null,null,null,null,null,null,null,null,null,{"$f":"IFERROR(VLOOKUP(N506,AA$14:AB$16,2,FALSE),\"\")","v":""}]
[]
[null,null,null,"Superficie de techo",null,"Color de techo",null,"Reflectancia de techo",null,null,null,"Superficie de suelo",null,"Color de suelo",null,"Reflectancia de suelo"]
[]
[null,null,null,null,null,null,null,{"$f":"IFERROR(VLOOKUP(F510,AA$11:AB$13,2,FALSE),\"\")","v":""},null,null,null,null,null,null,null,{"$f":"IFERROR(VLOOKUP(N510,AA$17:AB$18,2,FALSE),\"\")","v":""}]
[]
[null,null,null,"Reflectancia media",null,"Reflectancia media superior",null,"Reflectancia media inferior"]
[]
[null,null,null,{"$f":"IFERROR(((((J506*L506)-D506)*P506)+(D510*H510)+(L510*P510))/(((J506*L506)-D506)+D510+L510),\"\")","v":""},null,{"$f":"IFERROR(((((J506*(L506-H506))-D506/2)*P506)+(D510*H510))/(((J506*L506)-D506)+D510),\"\")","v":""},null,{"$f":"IFERROR(((((J506*H506)-D506/2)*P506)+(L510*P510))/((J506*D506)+L510),\"\")","v":""}]
[]
[null,null,null,"Componente IRC",null,null,null,{"$f":"IFERROR((N486*D506*(((F506/2)-5)*H514+5*F514))/(((J506*L506)-D506)+D510+L510)*(1-D514),\"\")","v":""}]
[]
[]
[]
[null,null,null,"Cumplimiento del criterio",null,null,null,null,null,{"$f":"IFERROR(IF(H523=\"\",\"\",IF(H523>= P468,\"Sí\",\"No\")),\"\")","v":""}]
[]
[]
[null,null,null,"Factor luz de día de la estancia",null,null,null,{"$f":"IFERROR(H488+H498+H516,\"\")","v":""},null,{"$f":"IF(J463=\"\",\"No olvides rellenar el multiplicador\")","v":"No olvides rellenar el multiplicador"}]
[]
[null,null,null,null,null,null,null,null,null,null,null,null,null,null,null,null,null,null,null,null,null,null,null,"Sí"]
[null,null,null,"Espacio 9",null,null,null,"Multiplicador",null,null,null,null,null,null,null,null,null,null,null,null,null,null,null,"No"]
[null,null,null,null,null,null,null,null,null,null,null,null,null,null,null,null,null,null,null,null,null,null,null,null,"Aulas y espacios docentes",2]
[null,null,null,null,null,null,null,null,null,null,null,null,null,null,null,null,null,null,null,null,null,null,null,null,"Zona de trabajo especializado",2.5]
[null,null,null,"Uso del espacio",null,null,null,null,null,null,null,null,null,null,null,null,null,null,null,null,null,null,null,null,"Salas de lectura",1.5]
[null,null,null,null,null,null,null,null,null,null,null,null,null,null,null,null,null,null,null,null,null,null,null,null,"Espacios deportivos",3]
[null,null,null,"Uso del espacio",null,null,null,null,null,"DF requerido",null,{"$f":"IFERROR(VLOOKUP(F531,Y$22:Z$27,2,FALSE),\"\")","v":""},null,"Superficie útil",null,null,null,null,null,null,null,{"$f":"IF(J583=\"Sí\",P531*J526,0)","v":0},{"$f":"P531*J526","v":0},null,"Zona de atención al público",0.6]
[]
[]
[]
[null,null,null,"¿Se cumplen las cuatro condiciones directas?"]
[]
[null,null,null,"¿Hay obstrucciones exteriores?",null,"Profundidad (m)",null,"Hw (m)",null,"Longitud (m)",null,"¿Es rectangular?",null,"Superficie útil (m)",null,"Longitud de la ventana (m)"]
[]
[null,null,null,null,null,null,null,null,null,null,null,null,null,{"$f":"P531","v":0}]
[]
[null,null,null,"Cumplimiento de las condiciones",null,null,null,{"$f":"IF(D539=\"\",\"\",IF(L531=2,IF(AND(D539=\"NO\",F539<2.5*H539,H539*P539>0.2*(IF(L539=\"SÍ\",J539*F539,N539)),P539>0.6*J539),\"Sí\",\"No\")))","v":""}]
[]
[]
[]
[null,null,null,"Cálculo de la componente SC"]
[]
[null,null,null,"hw para SC (m)",null,"W1",null,"W2",null,"D1",null,"Tipo de vidrio",null,null,null,"Transmitancia del vidrio"]
[null,null,null,null,null,null,null,null,null,null,null,null,null,null,null,null,null,null,null,null,null,null,null,"SC"]
[null,null,null,null,null,null,null,null,null,null,null,null,null,null,null,{"$f":"IFERROR(VLOOKUP(L549,Z507:AA510,2,FALSE),\"\")","v":""},null,null,null,null,null,null,null,{"$f":"INDEX($AE$6:$AS$29,MATCH(MIN(ABS($AD$6:$AD$29-(D549/J549))),$AD$6:$AD$29-(D549/J549),0),MATCH(MIN(ABS($AE$5:$AS$5-(F549/J549))),$AE$5:$AS$5-(F549/J549)))","v":{"$error":"#DIV/0!"}},{"$f":"INDEX($AE$6:$AS$29,MATCH(MIN(ABS($AD$6:$AD$29-(D549/J549))),$AD$6:$AD$29-(D549/J549),0),MATCH(MIN(ABS($AE$5:$AS$5-(H549/J549))),$AE$5:$AS$5-(H549/J549)))","v":{"$error":"#DIV/0!"}}]
[]
[null,null,null,"Componente SC",null,null,null,{"$f":"IFERROR((X549+Y549)*P549,\"\")","v":""}]
[]
[]
[]
[null,null,null,"Cálculo de la componente ERC"]
[]
[null,null,null,"hw para ERC (m)"]
[]
[]
[]
[null,null,null,"Componente ERC",null,null,null,{"$f":"IFERROR((X561+Y561)*P549,\"\")","v":""},null,null,null,null,null,null,null,null,null,null,null,null,null,null,null,{"$f":"INDEX($AE$6:$AS$29,MATCH(MIN(ABS($AD$6:$AD$29-(D559/J549))),$AD$6:$AD$29-(D559/J549),0),MATCH(MIN(ABS($AE$5:$AS$5-(F549/J549))),$AE$5:$AS$5-(F549/J549)))","v":{"$error":"#DIV/0!"}},{"$f":"INDEX($AE$6:$AS$29,MATCH(MIN(ABS($AD$6:$AD$29-(D559/J549))),$AD$6:$AD$29-(D559/J549),0),MATCH(MIN(ABS($AE$5:$AS$5-(H549/J549))),$AE$5:$AS$5-(H549/J549)))","v":{"$error":"#DIV/0!"}}]
[]
[]
[]
[null,null,null,"Cálculo de la componente IRC"]
[]
[null,null,null,"Área acristalada neta de ventanas",null,"Ángulo de cielo visible",null,"Altura del punto medio de las ventanas",null,"Longitud de paredes",null,"Altura de paredes",null,"Color de paredes",null,"Reflectancia de paredes"]
[]
[null,null,null,null,null,null,null,null,null,null,null,null,null,null,null,{"$f":"IFERROR(VLOOKUP(N569,AA$14:AB$16,2,FALSE),\"\")","v":""}]
[]
[null,null,null,"Superficie de techo",null,"Color de techo",null,"Reflectancia de techo",null,null,null,"Superficie de suelo",null,"Color de suelo",null,"Reflectancia de suelo"]
[]
[null,null,null,null,null,null,null,{"$f":"IFERROR(VLOOKUP(F573,AA$11:AB$13,2,FALSE),\"\")","v":""},null,null,null,null,null,null,null,{"$f":"IFERROR(VLOOKUP(N573,AA$17:AB$18,2,FALSE),\"\")","v":""}]
[]
[null,null,null,"Reflectancia media",null,"Reflectancia media superior",null,"Reflectancia media inferior"]
[]
[null,null,null,{"$f":"IFERROR(((((J569*L569)-D569)*P569)+(D573*H573)+(L573*P573))/(((J569*L569)-D569)+D573+L573),\"\")","v":""},null,{"$f":"IFERROR(((((J569*(L569-H569))-D569/2)*P569)+(D573*H573))/(((J569*L569)-D569)+D573),\"\")","v":""},null,{"$f":"IFERROR(((((J569*H569)-D569/2)*P569)+(L573*P573))/((J569*D569)+L573),\"\")","v":""}]
[]
[null,null,null,"Componente IRC",null,null,null,{"$f":"IFERROR((N549*D569*(((F569/2)-5)*H577+5*F577))/(((J569*L569)-D569)+D573+L573)*(1-D577),\"\")","v":""}]
[]
[]
[]
[null,null,null,"Cumplimiento del criterio",null,null,null,null,null,{"$f":"IFERROR(IF(H586=\"\",\"\",IF(H586>= P531,\"Sí\",\"No\")),\"\")","v":""}]
[]
[]
[null,null,null,"Factor luz de día de la estancia",null,null,null,{"$f":"IFERROR(H551+H561+H579,\"\")","v":""},null,{"$f":"IF(J526=\"\",\"No olvides rellenar el multiplicador\")","v":"No olvides rellenar el multiplicador"}]
[]
[null,null,null,null,null,null,null,null,null,null,null,null,null,null,null,null,null,null,null,null,null,null,null,"Sí"]
[null,null,null,"Espacio 10",null,null,null,"Multiplicador",null,null,null,null,null,null,null,null,null,null,null,null,null,null,null,"No"]
[null,null,null,null,null,null,null,null,null,null,null,null,null,null,null,null,null,null,null,null,null,null,null,null,"Aulas y espacios docentes",2]
[null,null,null,null,null,null,null,null,null,null,null,null,null,null,null,null,null,null,null,null,null,null,null,null,"Zona de trabajo especializado",2.5]
[null,null,null,"Uso del espacio",null,null,null,null,null,null,null,null,null,null,null,null,null,null,null,null,null,null,null,null,"Salas de lectura",1.5]
[null,null,null,null,null,null,null,null,null,null,null,null,null,null,null,null,null,null,null,null,null,null,null,null,"Espacios deportivos",3]
[null,null,null,"Uso del espacio",null,null,null,null,null,"DF requerido",null,{"$f":"IFERROR(VLOOKUP(F594,Y$22:Z$27,2,FALSE),\"\")","v":""},null,"Superficie útil",null,null,null,null,null,null,null,{"$f":"IF(J646=\"Sí\",P594*J589,0)","v":0},{"$f":"P594*J589","v":0},null,"Zona de atención al público",0.6]
[]
[]
[]
[null,null,null,"¿Se cumplen las cuatro condiciones directas?"]
[]
[null,null,null,"¿Hay obstrucciones exteriores?",null,"Profundidad (m)",null,"Hw (m)",null,"Longitud (m)",null,"¿Es rectangular?",null,"Superficie útil (m)",null,"Longitud de la ventana (m)"]
[]
[null,null,null,null,null,null,null,null,null,null,null,null,null,{"$f":"P594","v":0}]
[]
[null,null,null,"Cumplimiento de las condiciones",null,null,null,{"$f":"IF(D602=\"\",\"\",IF(L594=2,IF(AND(D602=\"NO\",F602<2.5*H602,H602*P602>0.2*(IF(L602=\"SÍ\",J602*F602,N602)),P602>0.6*J602),\"Sí\",\"No\")))","v":""}]
[]
[]
[]
[null,null,null,"Cálculo de la componente SC"]
[]
[null,null,null,"hw para SC (m)",null,"W1",null,"W2",null,"D1",null,"Tipo de vidrio",null,null,null,"Transmitancia del vidrio"]
[null,null,null,null,null,null,null,null,null,null,null,null,null,null,null,null,null,null,null,null,null,null,null,"SC"]
[null,null,null,null,null,null,null,null,null,null,null,null,null,null,null,{"$f":"IFERROR(VLOOKUP(L612,Z570:AA573,2,FALSE),\"\")","v":""},null,null,null,null,null,null,null,{"$f":"INDEX($AE$6:$AS$29,MATCH(MIN(ABS($AD$6:$AD$29-(D612/J612))),$AD$6:$AD$29-(D612/J612),0),MATCH(MIN(ABS($AE$5:$AS$5-(F612/J612))),$AE$5:$AS$5-(F612/J612)))","v":{"$error":"#DIV/0!"}},{"$f":"INDEX($AE$6:$AS$29,MATCH(MIN(ABS($AD$6:$AD$29-(D612/J612))),$AD$6:$AD$29-(D612/J612),0),MATCH(MIN(ABS($AE$5:$AS$5-(H612/J612))),$AE$5:$AS$5-(H612/J612)))","v":{"$error":"#DIV/0!"}}]
[]
[null,null,null,"Componente SC",null,null,null,{"$f":"IFERROR((X612+Y612)*P612,\"\")","v":""}]
[]
[]
[]
[null,null,null,"Cálculo de la componente ERC"]
[]
[null,null,null,"hw para ERC (m)"]
[]
[]
[]
[null,null,null,"Componente ERC",null,null,null,{"$f":"IFERROR((X624+Y624)*P612,\"\")","v":""},null,null,null,null,null,null,null,null,null,null,null,null,null,null,null,{"$f":"INDEX($AE$6:$AS$29,MATCH(MIN(ABS($AD$6:$AD$29-(D622/J612))),$AD$6:$AD$29-(D622/J612),0),MATCH(MIN(ABS($AE$5:$AS$5-(F612/J612))),$AE$5:$AS$5-(F612/J612)))","v":{"$error":"#DIV/0!"}},{"$f":"INDEX($AE$6:$AS$29,MATCH(MIN(ABS($AD$6:$AD$29-(D622/J612))),$AD$6:$AD$29-(D622/J612),0),MATCH(MIN(ABS($AE$5:$AS$5-(H612/J612))),$AE$5:$AS$5-(H612/J612)))","v":{"$error":"#DIV/0!"}}]
[]
[]
[]
[null,null,null,"Cálculo de la componente IRC"]
[]
[null,null,null,"Área acristalada neta de ventanas",null,"Ángulo de cielo visible",null,"Altura del punto medio de las ventanas",null,"Longitud de paredes",null,"Altura de paredes",null,"Color de paredes",null,"Reflectancia de paredes"]
[]
[null,null,null,null,null,null,null,null,null,null,null,null,null,null,null,{"$f":"IFERROR(VLOOKUP(N632,AA$14:AB$16,2,FALSE),\"\")","v":""}]
[]
[null,null,null,"Superficie de techo",null,"Color de techo",null,"Reflectancia de techo",null,null,null,"Superficie de suelo",null,"Color de suelo",null,"Reflectancia de suelo"]
[]
[null,null,null,null,null,null,null,{"$f":"IFERROR(VLOOKUP(F636,AA$11:AB$13,2,FALSE),\"\")","v":""},null,null,null,null,null,null,null,{"$f":"IFERROR(VLOOKUP(N636,AA$17:AB$18,2,FALSE),\"\")","v":""}]
[]
[null,null,null,"Reflectancia media",null,"Reflectancia media superior",null,"Reflectancia media inferior"]
[]
[null,null,null,{"$f":"IFERROR(((((J632*L632)-D632)*P632)+(D636*H636)+(L636*P636))/(((J632*L632)-D632)+D636+L636),\"\")","v":""},null,{"$f":"IFERROR(((((J632*(L632-H632))-D632/2)*P632)+(D636*H636))/(((J632*L632)-D632)+D636),\"\")","v":""},null,{"$f":"IFERROR(((((J632*H632)-D632/2)*P632)+(L636*P636))/((J632*D632)+L636),\"\")","v":""}]
[]
[null,null,null,"Componente IRC",null,null,null,{"$f":"IFERROR((N612*D632*(((F632/2)-5)*H640+5*F640))/(((J632*L632)-D632)+D636+L636)*(1-D640),\"\")","v":""}]
[]
[]
[]
[null,null,null,"Cumplimiento del criterio",null,null,null,null,null,{"$f":"IFERROR(IF(H649=\"\",\"\",IF(H649>= P594,\"Sí\",\"No\")),\"\")","v":""}]
[]
[]
[null,null,null,"Factor luz de día de la estancia",null,null,null,{"$f":"IFERROR(H614+H624+H642,\"\")","v":""},null,{"$f":"IF(J589=\"\",\"No olvides rellenar el multiplicador\")","v":"No olvides rellenar el multiplicador"}]
[]
[null,null,null,null,null,null,null,null,null,null,null,null,null,null,null,null,null,null,null,null,null,null,null,"Sí"]
[null,null,null,"Espacio 11",null,null,null,"Multiplicador",null,null,null,null,null,null,null,null,null,null,null,null,null,null,null,"No"]
[null,null,null,null,null,null,null,null,null,null,null,null,null,null,null,null,null,null,null,null,null,null,null,null,"Aulas y espacios docentes",2]
[null,null,null,null,null,null,null,null,null,null,null,null,null,null,null,null,null,null,null,null,null,null,null,null,"Zona de trabajo especializado",2.5]
[null,null,null,"Uso del espacio",null,null,null,null,null,null,null,null,null,null,null,null,null,null,null,null,null,null,null,null,"Salas de lectura",1.5]
[null,null,null,null,null,null,null,null,null,null,null,null,null,null,null,null,null,null,null,null,null,null,null,null,"Espacios deportivos",3]
[null,null,null,"Uso del espacio",null,null,null,null,null,"DF requerido",null,{"$f":"IFERROR(VLOOKUP(F657,Y$22:Z$27,2,FALSE),\"\")","v":""},null,"Superficie útil",null,null,null,null,null,null,null,{"$f":"IF(J709=\"Sí\",P657*J652,0)","v":0},{"$f":"P657*J652","v":0},null,"Zona de atención al público",0.6]
[]
[]
[]
[null,null,null,"¿Se cumplen las cuatro condiciones directas?"]
[]
[null,null,null,"¿Hay obstrucciones exteriores?",null,"Profundidad (m)",null,"Hw (m)",null,"Longitud (m)",null,"¿Es rectangular?",null,"Superficie útil (m)",null,"Longitud de la ventana (m)"]
[]
[null,null,null,null,null,null,null,null,null,null,null,null,null,{"$f":"P657","v":0}]
[]
[null,null,null,"Cumplimiento de las condiciones",null,null,null,{"$f":"IF(D665=\"\",\"\",IF(L657=2,IF(AND(D665=\"NO\",F665<2.5*H665,H665*P665>0.2*(IF(L665=\"SÍ\",J665*F665,N665)),P665>0.6*J665),\"Sí\",\"No\")))","v":""}]
[]
[]
[]
[null,null,null,"Cálculo de la componente SC"]
[]
[null,null,null,"hw para SC (m)",null,"W1",null,"W2",null,"D1",null,"Tipo de vidrio",null,null,null,"Transmitancia del vidrio"]
[null,null,null,null,null,null,null,null,null,null,null,null,null,null,null,null,null,null,null,null,null,null,null,"SC"]
[null,null,null,null,null,null,null,null,null,null,null,null,null,null,null,{"$f":"IFERROR(VLOOKUP(L675,Z633:AA636,2,FALSE),\"\")","v":""},null,null,null,null,null,null,null,{"$f":"INDEX($AE$6:$AS$29,MATCH(MIN(ABS($AD$6:$AD$29-(D675/J675))),$AD$6:$AD$29-(D675/J675),0),MATCH(MIN(ABS($AE$5:$AS$5-(F675/J675))),$AE$5:$AS$5-(F675/J675)))","v":{"$error":"#DIV/0!"}},{"$f":"INDEX($AE$6:$AS$29,MATCH(MIN(ABS($AD$6:$AD$29-(D675/J675))),$AD$6:$AD$29-(D675/J675),0),MATCH(MIN(ABS($AE$5:$AS$5-(H675/J675))),$AE$5:$AS$5-(H675/J675)))","v":{"$error":"#DIV/0!"}}]
[]
[null,null,null,"Componente SC",null,null,null,{"$f":"IFERROR((X675+Y675)*P675,\"\")","v":""}]
[]
[]
[]
[null,null,null,"Cálculo de la componente ERC"]
[]
[null,null,null,"hw para ERC (m)"]
[]
[]
[]
[null,null,null,"Componente ERC",null,null,null,{"$f":"IFERROR((X687+Y687)*P675,\"\")","v":""},null,null,null,null,null,null,null,null,null,null,null,null,null,null,null,{"$f":"INDEX($AE$6:$AS$29,MATCH(MIN(ABS($AD$6:$AD$29-(D685/J675))),$AD$6:$AD$29-(D685/J675),0),MATCH(MIN(ABS($AE$5:$AS$5-(F675/J675))),$AE$5:$AS$5-(F675/J675)))","v":{"$error":"#DIV/0!"}},{"$f":"INDEX($AE$6:$AS$29,MATCH(MIN(ABS($AD$6:$AD$29-(D685/J675))),$AD$6:$AD$29-(D685/J675),0),MATCH(MIN(ABS($AE$5:$AS$5-(H675/J675))),$AE$5:$AS$5-(H675/J675)))","v":{"$error":"#DIV/0!"}}]
[]
[]
[]
[null,null,null,"Cálculo de la componente IRC"]
[]
[null,null,null,"Área acristalada neta de ventanas",null,"Ángulo de cielo visible",null,"Altura del punto medio de las ventanas",null,"Longitud de paredes",null,"Altura de paredes",null,"Color de paredes",null,"Reflectancia de paredes"]
[]
[null,null,null,null,null,null,null,null,null,null,null,null,null,null,null,{"$f":"IFERROR(VLOOKUP(N695,AA$14:AB$16,2,FALSE),\"\")","v":""}]
[]
[null,null,null,"Superficie de techo",null,"Color de techo",null,"Reflectancia de techo",null,null,null,"Superficie de suelo",null,"Color de suelo",null,"Reflectancia de suelo"]
[]
[null,null,null,null,null,null,null,{"$f":"IFERROR(VLOOKUP(F699,AA$11:AB$13,2,FALSE),\"\")","v":""},null,null,null,null,null,null,null,{"$f":"IFERROR(VLOOKUP(N699,AA$17:AB$18,2,FALSE),\"\")","v":""}]
[]
[null,null,null,"Reflectancia media",null,"Reflectancia media superior",null,"Reflectancia media inferior"]
[]
[null,null,null,{"$f":"IFERROR(((((J695*L695)-D695)*P695)+(D699*H699)+(L699*P699))/(((J695*L695)-D695)+D699+L699),\"\")","v":""},null,{"$f":"IFERROR(((((J695*(L695-H695))-D695/2)*P695)+(D699*H699))/(((J695*L695)-D695)+D699),\"\")","v":""},null,{"$f":"IFERROR(((((J695*H695)-D695/2)*P695)+(L699*P699))/((J695*D695)+L699),\"\")","v":""}]
[]
[null,null,null,"Componente IRC",null,null,null,{"$f":"IFERROR((N675*D695*(((F695/2)-5)*H703+5*F703))/(((J695*L695)-D695)+D699+L699)*(1-D703),\"\")","v":""}]
[]
[]
[]
[null,null,null,"Cumplimiento del criterio",null,null,null,null,null,{"$f":"IFERROR(IF(H712=\"\",\"\",IF(H712>= P657,\"Sí\",\"No\")),\"\")","v":""}]
[]
[]
[null,null,null,"Factor luz de día de la estancia",null,null,null,{"$f":"IFERROR(H677+H687+H705,\"\")","v":""},null,{"$f":"IF(J652=\"\",\"No olvides rellenar el multiplicador\")","v":"No olvides rellenar el multiplicador"}]
[]
[null,null,null,null,null,null,null,null,null,null,null,null,null,null,null,null,null,null,null,null,null,null,null,"Sí"]
[null,null,null,"Espacio 12",null,null,null,"Multiplicador",null,null,null,null,null,null,null,null,null,null,null,null,null,null,null,"No"]
[null,null,null,null,null,null,null,null,null,null,null,null,null,null,null,null,null,null,null,null,null,null,null,null,"Aulas y espacios docentes",2]
[null,null,null,null,null,null,null,null,null,null,null,null,null,null,null,null,null,null,null,null,null,null,null,null,"Zona de trabajo especializado",2.5]
[null,null,null,"Uso del espacio",null,null,null,null,null,null,null,null,null,null,null,null,null,null,null,null,null,null,null,null,"Salas de lectura",1.5]
[null,null,null,null,null,null,null,null,null,null,null,null,null,null,null,null,null,null,null,null,null,null,null,null,"Espacios deportivos",3]
[null,null,null,"Uso del espacio",null,null,null,null,null,"DF requerido",null,{"$f":"IFERROR(VLOOKUP(F720,Y$22:Z$27,2,FALSE),\"\")","v":""},null,"Superficie útil",null,null,null,null,null,null,null,{"$f":"IF(J772=\"Sí\",P720*J715,0)","v":0},{"$f":"P720*J715","v":0},null,"Zona de atención al público",0.6]
[]
[]
[]
[null,null,null,"¿Se cumplen las cuatro condiciones directas?"]
[]
[null,null,null,"¿Hay obstrucciones exteriores?",null,"Profundidad (m)",null,"Hw (m)",null,"Longitud (m)",null,"¿Es rectangular?",null,"Superficie útil (m)",null,"Longitud de la ventana (m)"]
[]
[null,null,null,null,null,null,null,null,null,null,null,null,null,{"$f":"P720","v":0}]
[]
[null,null,null,"Cumplimiento de las condiciones",null,null,null,{"$f":"IF(D728=\"\",\"\",IF(L720=2,IF(AND(D728=\"NO\",F728<2.5*H728,H728*P728>0.2*(IF(L728=\"SÍ\",J728*F728,N728)),P728>0.6*J728),\"Sí\",\"No\")))","v":""}]
[]
[]
[]
[null,null,null,"Cálculo de la componente SC"]
[]
[null,null,null,"hw para SC (m)",null,"W1",null,"W2",null,"D1",null,"Tipo de vidrio",null,null,null,"Transmitancia del vidrio"]
[null,null,null,null,null,null,null,null,null,null,null,null,null,null,null,null,null,null,null,null,null,null,null,"SC"]
[null,null,null,null,null,null,null,null,null,null,null,null,null,null,null,{"$f":"IFERROR(VLOOKUP(L738,Z696:AA699,2,FALSE),\"\")","v":""},null,null,null,null,null,null,null,{"$f":"INDEX($AE$6:$AS$29,MATCH(MIN(ABS($AD$6:$AD$29-(D738/J738))),$AD$6:$AD$29-(D738/J738),0),MATCH(MIN(ABS($AE$5:$AS$5-(F738/J738))),$AE$5:$AS$5-(F738/J738)))","v":{"$error":"#DIV/0!"}},{"$f":"INDEX($AE$6:$AS$29,MATCH(MIN(ABS($AD$6:$AD$29-(D738/J738))),$AD$6:$AD$29-(D738/J738),0),MATCH(MIN(ABS($AE$5:$AS$5-(H738/J738))),$AE$5:$AS$5-(H738/J738)))","v":{"$error":"#DIV/0!"}}]
[]
[null,null,null,"Componente SC",null,null,null,{"$f":"IFERROR((X738+Y738)*P738,\"\")","v":""}]
[]
[]
[]
[null,null,null,"Cálculo de la componente ERC"]
[]
[null,null,null,"hw para ERC (m)"]
[]
[]
[]
[null,null,null,"Componente ERC",null,null,null,{"$f":"IFERROR((X750+Y750)*P738,\"\")","v":""},null,null,null,null,null,null,null,null,null,null,null,null,null,null,null,{"$f":"INDEX($AE$6:$AS$29,MATCH(MIN(ABS($AD$6:$AD$29-(D748/J738))),$AD$6:$AD$29-(D748/J738),0),MATCH(MIN(ABS($AE$5:$AS$5-(F738/J738))),$AE$5:$AS$5-(F738/J738)))","v":{"$error":"#DIV/0!"}},{"$f":"INDEX($AE$6:$AS$29,MATCH(MIN(ABS($AD$6:$AD$29-(D748/J738))),$AD$6:$AD$29-(D748/J738),0),MATCH(MIN(ABS($AE$5:$AS$5-(H738/J738))),$AE$5:$AS$5-(H738/J738)))","v":{"$error":"#DIV/0!"}}]
[]
[]
[]
[null,null,null,"Cálculo de la componente IRC"]
[]
[null,null,null,"Área acristalada neta de ventanas",null,"Ángulo de cielo visible",null,"Altura del punto medio de las ventanas",null,"Longitud de paredes",null,"Altura de paredes",null,"Color de paredes",null,"Reflectancia de paredes"]
[]
[null,null,null,null,null,null,null,null,null,null,null,null,null,null,null,{"$f":"IFERROR(VLOOKUP(N758,AA$14:AB$16,2,FALSE),\"\")","v":""}]
[]
[null,null,null,"Superficie de techo",null,"Color de techo",null,"Reflectancia de techo",null,null,null,"Superficie de suelo",null,"Color de suelo",null,"Reflectancia de suelo"]
[]
[null,null,null,null,null,null,null,{"$f":"IFERROR(VLOOKUP(F762,AA$11:AB$13,2,FALSE),\"\")","v":""},null,null,null,null,null,null,null,{"$f":"IFERROR(VLOOKUP(N762,AA$17:AB$18,2,FALSE),\"\")","v":""}]
[]
[null,null,null,"Reflectancia media",null,"Reflectancia media superior",null,"Reflectancia media inferior"]
[]
[null,null,null,{"$f":"IFERROR(((((J758*L758)-D758)*P758)+(D762*H762)+(L762*P762))/(((J758*L758)-D758)+D762+L762),\"\")","v":""},null,{"$f":"IFERROR(((((J758*(L758-H758))-D758/2)*P758)+(D762*H762))/(((J758*L758)-D758)+D762),\"\")","v":""},null,{"$f":"IFERROR(((((J758*H758)-D758/2)*P758)+(L762*P762))/((J758*D758)+L762),\"\")","v":""}]
[]
[null,null,null,"Componente IRC",null,null,null,{"$f":"IFERROR((N738*D758*(((F758/2)-5)*H766+5*F766))/(((J758*L758)-D758)+D762+L762)*(1-D766),\"\")","v":""}]
[]
[]
[]
[null,null,null,"Cumplimiento del criterio",null,null,null,null,null,{"$f":"IFERROR(IF(H775=\"\",\"\",IF(H775>= P720,\"Sí\",\"No\")),\"\")","v":""}]
[]
[]
[null,null,null,"Factor luz de día de la estancia",null,null,null,{"$f":"IFERROR(H740+H750+H768,\"\")","v":""},null,{"$f":"IF(J715=\"\",\"No olvides rellenar el multiplicador\")","v":"No olvides rellenar el multiplicador"}]
[]
[null,null,null,null,null,null,null,null,null,null,null,null,null,null,null,null,null,null,null,null,null,null,null,"Sí"]
[null,null,null,"Espacio 13",null,null,null,"Multiplicador",null,null,null,null,null,null,null,null,null,null,null,null,null,null,null,"No"]
[null,null,null,null,null,null,null,null,null,null,null,null,null,null,null,null,null,null,null,null,null,null,null,null,"Aulas y espacios docentes",2]
[null,null,null,null,null,null,null,null,null,null,null,null,null,null,null,null,null,null,null,null,null,null,null,null,"Zona de trabajo especializado",2.5]
[null,null,null,"Uso del espacio",null,null,null,null,null,null,null,null,null,null,null,null,null,null,null,null,null,null,null,null,"Salas de lectura",1.5]
[null,null,null,null,null,null,null,null,null,null,null,null,null,null,null,null,null,null,null,null,null,null,null,null,"Espacios deportivos",3]
[null,null,null,"Uso del espacio",null,null,null,null,null,"DF requerido",null,{"$f":"IFERROR(VLOOKUP(F783,Y$22:Z$27,2,FALSE),\"\")","v":""},null,"Superficie útil",null,null,null,null,null,null,null,{"$f":"IF(J835=\"Sí\",P783*J778,0)","v":0},{"$f":"P783*J778","v":0},null,"Zona de atención al público",0.6]
[]
[]
[]
[null,null,null,"¿Se cumplen las cuatro condiciones directas?"]
[]
[null,null,null,"¿Hay obstrucciones exteriores?",null,"Profundidad (m)",null,"Hw (m)",null,"Longitud (m)",null,"¿Es rectangular?",null,"Superficie útil (m)",null,"Longitud de la ventana (m)"]
[]
[null,null,null,null,null,null,null,null,null,null,null,null,null,{"$f":"P783","v":0}]
[]
[null,null,null,"Cumplimiento de las condiciones",null,null,null,{"$f":"IF(D791=\"\",\"\",IF(L783=2,IF(AND(D791=\"NO\",F791<2.5*H791,H791*P791>0.2*(IF(L791=\"SÍ\",J791*F791,N791)),P791>0.6*J791),\"Sí\",\"No\")))","v":""}]
[]
[]
[]
[null,null,null,"Cálculo de la componente SC"]
[]
[null,null,null,"hw para SC (m)",null,"W1",null,"W2",null,"D1",null,"Tipo de vidrio",null,null,null,"Transmitancia del vidrio"]
[null,null,null,null,null,null,null,null,null,null,null,null,null,null,null,null,null,null,null,null,null,null,null,"SC"]
[null,null,null,null,null,null,null,null,null,null,null,null,null,null,null,{"$f":"IFERROR(VLOOKUP(L801,Z759:AA762,2,FALSE),\"\")","v":""},null,null,null,null,null,null,null,{"$f":"INDEX($AE$6:$AS$29,MATCH(MIN(ABS($AD$6:$AD$29-(D801/J801))),$AD$6:$AD$29-(D801/J801),0),MATCH(MIN(ABS($AE$5:$AS$5-(F801/J801))),$AE$5:$AS$5-(F801/J801)))","v":{"$error":"#DIV/0!"}},{"$f":"INDEX($AE$6:$AS$29,MATCH(MIN(ABS($AD$6:$AD$29-(D801/J801))),$AD$6:$AD$29-(D801/J801),0),MATCH(MIN(ABS($AE$5:$AS$5-(H801/J801))),$AE$5:$AS$5-(H801/J801)))","v":{"$error":"#DIV/0!"}}]
[]
[null,null,null,"Componente SC",null,null,null,{"$f":"IFERROR((X801+Y801)*P801,\"\")","v":""}]
[]
[]
[]
[null,null,null,"Cálculo de la componente ERC"]
[]
[null,null,null,"hw para ERC (m)"]
[]
[]
[]
[null,null,null,"Componente ERC",null,null,null,{"$f":"IFERROR((X813+Y813)*P801,\"\")","v":""},null,null,null,null,null,null,null,null,null,null,null,null,null,null,null,{"$f":"INDEX($AE$6:$AS$29,MATCH(MIN(ABS($AD$6:$AD$29-(D811/J801))),$AD$6:$AD$29-(D811/J801),0),MATCH(MIN(ABS($AE$5:$AS$5-(F801/J801))),$AE$5:$AS$5-(F801/J801)))","v":{"$error":"#DIV/0!"}},{"$f":"INDEX($AE$6:$AS$29,MATCH(MIN(ABS($AD$6:$AD$29-(D811/J801))),$AD$6:$AD$29-(D811/J801),0),MATCH(MIN(ABS($AE$5:$AS$5-(H801/J801))),$AE$5:$AS$5-(H801/J801)))","v":{"$error":"#DIV/0!"}}]
[]
[]
[]
[null,null,null,"Cálculo de la componente IRC"]
[]
[null,null,null,"Área acristalada neta de ventanas",null,"Ángulo de cielo visible",null,"Altura del punto medio de las ventanas",null,"Longitud de paredes",null,"Altura de paredes",null,"Color de paredes",null,"Reflectancia de paredes"]
[]
[null,null,null,null,null,null,null,null,null,null,null,null,null,null,null,{"$f":"IFERROR(VLOOKUP(N821,AA$14:AB$16,2,FALSE),\"\")","v":""}]
[]
[null,null,null,"Superficie de techo",null,"Color de techo",null,"Reflectancia de techo",null,null,null,"Superficie de suelo",null,"Color de suelo",null,"Reflectancia de suelo"]
[]
[null,null,null,null,null,null,null,{"$f":"IFERROR(VLOOKUP(F825,AA$11:AB$13,2,FALSE),\"\")","v":""},null,null,null,null,null,null,null,{"$f":"IFERROR(VLOOKUP(N825,AA$17:AB$18,2,FALSE),\"\")","v":""}]
[]
[null,null,null,"Reflectancia media",null,"Reflectancia media superior",null,"Reflectancia media inferior"]
[]
[null,null,null,{"$f":"IFERROR(((((J821*L821)-D821)*P821)+(D825*H825)+(L825*P825))/(((J821*L821)-D821)+D825+L825),\"\")","v":""},null,{"$f":"IFERROR(((((J821*(L821-H821))-D821/2)*P821)+(D825*H825))/(((J821*L821)-D821)+D825),\"\")","v":""},null,{"$f":"IFERROR(((((J821*H821)-D821/2)*P821)+(L825*P825))/((J821*D821)+L825),\"\")","v":""}]
[]
[null,null,null,"Componente IRC",null,null,null,{"$f":"IFERROR((N801*D821*(((F821/2)-5)*H829+5*F829))/(((J821*L821)-D821)+D825+L825)*(1-D829),\"\")","v":""}]
[]
[]
[]
[null,null,null,"Cumplimiento del criterio",null,null,null,null,null,{"$f":"IFERROR(IF(H838=\"\",\"\",IF(H838>= P783,\"Sí\",\"No\")),\"\")","v":""}]
[]
[]
[null,null,null,"Factor luz de día de la estancia",null,null,null,{"$f":"IFERROR(H803+H813+H831,\"\")","v":""},null,{"$f":"IF(J778=\"\",\"No olvides rellenar el multiplicador\")","v":"No olvides rellenar el multiplicador"}]
[]
[null,null,null,null,null,null,null,null,null,null,null,null,null,null,null,null,null,null,null,null,null,null,null,"Sí"]
[null,null,null,"Espacio 14",null,null,null,"Multiplicador",null,null,null,null,null,null,null,null,null,null,null,null,null,null,null,"No"]
[null,null,null,null,null,null,null,null,null,null,null,null,null,null,null,null,null,null,null,null,null,null,null,null,"Aulas y espacios docentes",2]
[null,null,null,null,null,null,null,null,null,null,null,null,null,null,null,null,null,null,null,null,null,null,null,null,"Zona de trabajo especializado",2.5]
[null,null,null,"Uso del espacio",null,null,null,null,null,null,null,null,null,null,null,null,null,null,null,null,null,null,null,null,"Salas de lectura",1.5]
[null,null,null,null,null,null,null,null,null,null,null,null,null,null,null,null,null,null,null,null,null,null,null,null,"Espacios deportivos",3]
[null,null,null,"Uso del espacio",null,null,null,null,null,"DF requerido",null,{"$f":"IFERROR(VLOOKUP(F846,Y$22:Z$27,2,FALSE),\"\")","v":""},null,"Superficie útil",null,null,null,null,null,null,null,{"$f":"IF(J898=\"Sí\",P846*J841,0)","v":0},{"$f":"P846*J841","v":0},null,"Zona de atención al público",0.6]
[]
[]
[]
[null,null,null,"¿Se cumplen las cuatro condiciones directas?"]
[]
[null,null,null,"¿Hay obstrucciones exteriores?",null,"Profundidad (m)",null,"Hw (m)",null,"Longitud (m)",null,"¿Es rectangular?",null,"Superficie útil (m)",null,"Longitud de la ventana (m)"]
[]
[null,null,null,null,null,null,null,null,null,null,null,null,null,{"$f":"P846","v":0}]
[]
[null,null,null,"Cumplimiento de las condiciones",null,null,null,{"$f":"IF(D854=\"\",\"\",IF(L846=2,IF(AND(D854=\"NO\",F854<2.5*H854,H854*P854>0.2*(IF(L854=\"SÍ\",J854*F854,N854)),P854>0.6*J854),\"Sí\",\"No\")))","v":""}]
[]
[]
[]
[null,null,null,"Cálculo de la componente SC"]
[]
[null,null,null,"hw para SC (m)",null,"W1",null,"W2",null,"D1",null,"Tipo de vidrio",null,null,null,"Transmitancia del vidrio"]
[null,null,null,null,null,null,null,null,null,null,null,null,null,null,null,null,null,null,null,null,null,null,null,"SC"]
[null,null,null,null,null,null,null,null,null,null,null,null,null,null,null,{"$f":"IFERROR(VLOOKUP(L864,Z822:AA825,2,FALSE),\"\")","v":""},null,null,null,null,null,null,null,{"$f":"INDEX($AE$6:$AS$29,MATCH(MIN(ABS($AD$6:$AD$29-(D864/J864))),$AD$6:$AD$29-(D864/J864),0),MATCH(MIN(ABS($AE$5:$AS$5-(F864/J864))),$AE$5:$AS$5-(F864/J864)))","v":{"$error":"#DIV/0!"}},{"$f":"INDEX($AE$6:$AS$29,MATCH(MIN(ABS($AD$6:$AD$29-(D864/J864))),$AD$6:$AD$29-(D864/J864),0),MATCH(MIN(ABS($AE$5:$AS$5-(H864/J864))),$AE$5:$AS$5-(H864/J864)))","v":{"$error":"#DIV/0!"}}]
[]
[null,null,null,"Componente SC",null,null,null,{"$f":"IFERROR((X864+Y864)*P864,\"\")","v":""}]
[]
[]
[]
[null,null,null,"Cálculo de la componente ERC"]
[]
[null,null,null,"hw para ERC (m)"]
[]
[]
[]
[null,null,null,"Componente ERC",null,null,null,{"$f":"IFERROR((X876+Y876)*P864,\"\")","v":""},null,null,null,null,null,null,null,null,null,null,null,null,null,null,null,{"$f":"INDEX($AE$6:$AS$29,MATCH(MIN(ABS($AD$6:$AD$29-(D874/J864))),$AD$6:$AD$29-(D874/J864),0),MATCH(MIN(ABS($AE$5:$AS$5-(F864/J864))),$AE$5:$AS$5-(F864/J864)))","v":{"$error":"#DIV/0!"}},{"$f":"INDEX($AE$6:$AS$29,MATCH(MIN(ABS($AD$6:$AD$29-(D874/J864))),$AD$6:$AD$29-(D874/J864),0),MATCH(MIN(ABS($AE$5:$AS$5-(H864/J864))),$AE$5:$AS$5-(H864/J864)))","v":{"$error":"#DIV/0!"}}]
[]
[]
[]
[null,null,null,"Cálculo de la componente IRC"]
[]
[null,null,null,"Área acristalada neta de ventanas",null,"Ángulo de cielo visible",null,"Altura del punto medio de las ventanas",null,"Longitud de paredes",null,"Altura de paredes",null,"Color de paredes",null,"Reflectancia de paredes"]
[]
[null,null,null,null,null,null,null,null,null,null,null,null,null,null,null,{"$f":"IFERROR(VLOOKUP(N884,AA$14:AB$16,2,FALSE),\"\")","v":""}]
[]
[null,null,null,"Superficie de techo",null,"Color de techo",null,"Reflectancia de techo",null,null,null,"Superficie de suelo",null,"Color de suelo",null,"Reflectancia de suelo"]
[]
[null,null,null,null,null,null,null,{"$f":"IFERROR(VLOOKUP(F888,AA$11:AB$13,2,FALSE),\"\")","v":""},null,null,null,null,null,null,null,{"$f":"IFERROR(VLOOKUP(N888,AA$17:AB$18,2,FALSE),\"\")","v":""}]
[]
[null,null,null,"Reflectancia media",null,"Reflectancia media superior",null,"Reflectancia media inferior"]
[]
[null,null,null,{"$f":"IFERROR(((((J884*L884)-D884)*P884)+(D888*H888)+(L888*P888))/(((J884*L884)-D884)+D888+L888),\"\")","v":""},null,{"$f":"IFERROR(((((J884*(L884-H884))-D884/2)*P884)+(D888*H888))/(((J884*L884)-D884)+D888),\"\")","v":""},null,{"$f":"IFERROR(((((J884*H884)-D884/2)*P884)+(L888*P888))/((J884*D884)+L888),\"\")","v":""}]
[]
[null,null,null,"Componente IRC",null,null,null,{"$f":"IFERROR((N864*D884*(((F884/2)-5)*H892+5*F892))/(((J884*L884)-D884)+D888+L888)*(1-D892),\"\")","v":""}]
[]
[]
[]
[null,null,null,"Cumplimiento del criterio",null,null,null,null,null,{"$f":"IFERROR(IF(H901=\"\",\"\",IF(H901>= P846,\"Sí\",\"No\")),\"\")","v":""}]
[]
[]
[null,null,null,"Factor luz de día de la estancia",null,null,null,{"$f":"IFERROR(H866+H876+H894,\"\")","v":""},null,{"$f":"IF(J841=\"\",\"No olvides rellenar el multiplicador\")","v":"No olvides rellenar el multiplicador"}]
[]
[null,null,null,null,null,null,null,null,null,null,null,null,null,null,null,null,null,null,null,null,null,null,null,"Sí"]
[null,null,null,"Espacio 15",null,null,null,"Multiplicador",null,null,null,null,null,null,null,null,null,null,null,null,null,null,null,"No"]
[null,null,null,null,null,null,null,null,null,null,null,null,null,null,null,null,null,null,null,null,null,null,null,null,"Aulas y espacios docentes",2]
[null,null,null,null,null,null,null,null,null,null,null,null,null,null,null,null,null,null,null,null,null,null,null,null,"Zona de trabajo especializado",2.5]
[null,null,null,"Uso del espacio",null,null,null,null,null,null,null,null,null,null,null,null,null,null,null,null,null,null,null,null,"Salas de lectura",1.5]
[null,null,null,null,null,null,null,null,null,null,null,null,null,null,null,null,null,null,null,null,null,null,null,null,"Espacios deportivos",3]
[null,null,null,"Uso del espacio",null,null,null,null,null,"DF requerido",null,{"$f":"IFERROR(VLOOKUP(F909,Y$22:Z$27,2,FALSE),\"\")","v":""},null,"Superficie útil",null,null,null,null,null,null,null,{"$f":"IF(J961=\"Sí\",P909*J904,0)","v":0},{"$f":"P909*J904","v":0},null,"Zona de atención al público",0.6]
[]
[]
[]
[null,null,null,"¿Se cumplen las cuatro condiciones directas?"]
[]
[null,null,null,"¿Hay obstrucciones exteriores?",null,"Profundidad (m)",null,"Hw (m)",null,"Longitud (m)",null,"¿Es rectangular?",null,"Superficie útil (m)",null,"Longitud de la ventana (m)"]
[]
[null,null,null,null,null,null,null,null,null,null,null,null,null,{"$f":"P909","v":0}]
[]
[null,null,null,"Cumplimiento de las condiciones",null,null,null,{"$f":"IF(D917=\"\",\"\",IF(L909=2,IF(AND(D917=\"NO\",F917<2.5*H917,H917*P917>0.2*(IF(L917=\"SÍ\",J917*F917,N917)),P917>0.6*J917),\"Sí\",\"No\")))","v":""}]
[]
[]
[]
[null,null,null,"Cálculo de la componente SC"]
[]
[null,null,null,"hw para SC (m)",null,"W1",null,"W2",null,"D1",null,"Tipo de vidrio",null,null,null,"Transmitancia del vidrio"]
[null,null,null,null,null,null,null,null,null,null,null,null,null,null,null,null,null,null,null,null,null,null,null,"SC"]
[null,null,null,null,null,null,null,null,null,null,null,null,null,null,null,{"$f":"IFERROR(VLOOKUP(L927,Z885:AA888,2,FALSE),\"\")","v":""},null,null,null,null,null,null,null,{"$f":"INDEX($AE$6:$AS$29,MATCH(MIN(ABS($AD$6:$AD$29-(D927/J927))),$AD$6:$AD$29-(D927/J927),0),MATCH(MIN(ABS($AE$5:$AS$5-(F927/J927))),$AE$5:$AS$5-(F927/J927)))","v":{"$error":"#DIV/0!"}},{"$f":"INDEX($AE$6:$AS$29,MATCH(MIN(ABS($AD$6:$AD$29-(D927/J927))),$AD$6:$AD$29-(D927/J927),0),MATCH(MIN(ABS($AE$5:$AS$5-(H927/J927))),$AE$5:$AS$5-(H927/J927)))","v":{"$error":"#DIV/0!"}}]
[]
[null,null,null,"Componente SC",null,null,null,{"$f":"IFERROR((X927+Y927)*P927,\"\")","v":""}]
[]
[]
[]
[null,null,null,"Cálculo de la componente ERC"]
[]
[null,null,null,"hw para ERC (m)"]
[]
[]
[]
[null,null,null,"Componente ERC",null,null,null,{"$f":"IFERROR((X939+Y939)*P927,\"\")","v":""},null,null,null,null,null,null,null,null,null,null,null,null,null,null,null,{"$f":"INDEX($AE$6:$AS$29,MATCH(MIN(ABS($AD$6:$AD$29-(D937/J927))),$AD$6:$AD$29-(D937/J927),0),MATCH(MIN(ABS($AE$5:$AS$5-(F927/J927))),$AE$5:$AS$5-(F927/J927)))","v":{"$error":"#DIV/0!"}},{"$f":"INDEX($AE$6:$AS$29,MATCH(MIN(ABS($AD$6:$AD$29-(D937/J927))),$AD$6:$AD$29-(D937/J927),0),MATCH(MIN(ABS($AE$5:$AS$5-(H927/J927))),$AE$5:$AS$5-(H927/J927)))","v":{"$error":"#DIV/0!"}}]
[]
[]
[]
[null,null,null,"Cálculo de la componente IRC"]
[]
[null,null,null,"Área acristalada neta de ventanas",null,"Ángulo de cielo visible",null,"Altura del punto medio de las ventanas",null,"Longitud de paredes",null,"Altura de paredes",null,"Color de paredes",null,"Reflectancia de paredes"]
[]
[null,null,null,null,null,null,null,null,null,null,null,null,null,null,null,{"$f":"IFERROR(VLOOKUP(N947,AA$14:AB$16,2,FALSE),\"\")","v":""}]
[]
[null,null,null,"Superficie de techo",null,"Color de techo",null,"Reflectancia de techo",null,null,null,"Superficie de suelo",null,"Color de suelo",null,"Reflectancia de suelo"]
[]
[null,null,null,null,null,null,null,{"$f":"IFERROR(VLOOKUP(F951,AA$11:AB$13,2,FALSE),\"\")","v":""},null,null,null,null,null,null,null,{"$f":"IFERROR(VLOOKUP(N951,AA$17:AB$18,2,FALSE),\"\")","v":""}]
[]
[null,null,null,"Reflectancia media",null,"Reflectancia media superior",null,"Reflectancia media inferior"]
[]
[null,null,null,{"$f":"IFERROR(((((J947*L947)-D947)*P947)+(D951*H951)+(L951*P951))/(((J947*L947)-D947)+D951+L951),\"\")","v":""},null,{"$f":"IFERROR(((((J947*(L947-H947))-D947/2)*P947)+(D951*H951))/(((J947*L947)-D947)+D951),\"\")","v":""},null,{"$f":"IFERROR(((((J947*H947)-D947/2)*P947)+(L951*P951))/((J947*D947)+L951),\"\")","v":""}]
[]
[null,null,null,"Componente IRC",null,null,null,{"$f":"IFERROR((N927*D947*(((F947/2)-5)*H955+5*F955))/(((J947*L947)-D947)+D951+L951)*(1-D955),\"\")","v":""}]
[]
[]
[]
[null,null,null,"Cumplimiento del criterio",null,null,null,null,null,{"$f":"IFERROR(IF(H964=\"\",\"\",IF(H964>= P909,\"Sí\",\"No\")),\"\")","v":""}]
[]
[]
[null,null,null,"Factor luz de día de la estancia",null,null,null,{"$f":"IFERROR(H929+H939+H957,\"\")","v":""},null,{"$f":"IF(J904=\"\",\"No olvides rellenar el multiplicador\")","v":"No olvides rellenar el multiplicador"}]
[]
[null,null,null,null,null,null,null,null,null,null,null,null,null,null,null,null,null,null,null,null,null,null,null,"Sí"]
[null,null,null,"Espacio 16",null,null,null,"Multiplicador",null,null,null,null,null,null,null,null,null,null,null,null,null,null,null,"No"]
[null,null,null,null,null,null,null,null,null,null,null,null,null,null,null,null,null,null,null,null,null,null,null,null,"Aulas y espacios docentes",2]
[null,null,null,null,null,null,null,null,null,null,null,null,null,null,null,null,null,null,null,null,null,null,null,null,"Zona de trabajo especializado",2.5]
[null,null,null,"Uso del espacio",null,null,null,null,null,null,null,null,null,null,null,null,null,null,null,null,null,null,null,null,"Salas de lectura",1.5]
[null,null,null,null,null,null,null,null,null,null,null,null,null,null,null,null,null,null,null,null,null,null,null,null,"Espacios deportivos",3]
[null,null,null,"Uso del espacio",null,null,null,null,null,"DF requerido",null,{"$f":"IFERROR(VLOOKUP(F972,Y$22:Z$27,2,FALSE),\"\")","v":""},null,"Superficie útil",null,null,null,null,null,null,null,{"$f":"IF(J1024=\"Sí\",P972*J967,0)","v":0},{"$f":"P972*J967","v":0},null,"Zona de atención al público",0.6]
[]
[]
[]
[null,null,null,"¿Se cumplen las cuatro condiciones directas?"]
[]
[null,null,null,"¿Hay obstrucciones exteriores?",null,"Profundidad (m)",null,"Hw (m)",null,"Longitud (m)",null,"¿Es rectangular?",null,"Superficie útil (m)",null,"Longitud de la ventana (m)"]
[]
[null,null,null,null,null,null,null,null,null,null,null,null,null,{"$f":"P972","v":0}]
[]
[null,null,null,"Cumplimiento de las condiciones",null,null,null,{"$f":"IF(D980=\"\",\"\",IF(L972=2,IF(AND(D980=\"NO\",F980<2.5*H980,H980*P980>0.2*(IF(L980=\"SÍ\",J980*F980,N980)),P980>0.6*J980),\"Sí\",\"No\")))","v":""}]
[]
[]
[]
[null,null,null,"Cálculo de la componente SC"]
[]
[null,null,null,"hw para SC (m)",null,"W1",null,"W2",null,"D1",null,"Tipo de vidrio",null,null,null,"Transmitancia del vidrio"]
[null,null,null,null,null,null,null,null,null,null,null,null,null,null,null,null,null,null,null,null,null,null,null,"SC"]
[null,null,null,null,null,null,null,null,null,null,null,null,null,null,null,{"$f":"IFERROR(VLOOKUP(L990,Z948:AA951,2,FALSE),\"\")","v":""},null,null,null,null,null,null,null,{"$f":"INDEX($AE$6:$AS$29,MATCH(MIN(ABS($AD$6:$AD$29-(D990/J990))),$AD$6:$AD$29-(D990/J990),0),MATCH(MIN(ABS($AE$5:$AS$5-(F990/J990))),$AE$5:$AS$5-(F990/J990)))","v":{"$error":"#DIV/0!"}},{"$f":"INDEX($AE$6:$AS$29,MATCH(MIN(ABS($AD$6:$AD$29-(D990/J990))),$AD$6:$AD$29-(D990/J990),0),MATCH(MIN(ABS($AE$5:$AS$5-(H990/J990))),$AE$5:$AS$5-(H990/J990)))","v":{"$error":"#DIV/0!"}}]
[]
[null,null,null,"Componente SC",null,null,null,{"$f":"IFERROR((X990+Y990)*P990,\"\")","v":""}]
[]
[]
[]
[null,null,null,"Cálculo de la componente ERC"]
[]
[null,null,null,"hw para ERC (m)"]
[]
[]
[]
[null,null,null,"Componente ERC",null,null,null,{"$f":"IFERROR((X1002+Y1002)*P990,\"\")","v":""},null,null,null,null,null,null,null,null,null,null,null,null,null,null,null,{"$f":"INDEX($AE$6:$AS$29,MATCH(MIN(ABS($AD$6:$AD$29-(D1000/J990))),$AD$6:$AD$29-(D1000/J990),0),MATCH(MIN(ABS($AE$5:$AS$5-(F990/J990))),$AE$5:$AS$5-(F990/J990)))","v":{"$error":"#DIV/0!"}},{"$f":"INDEX($AE$6:$AS$29,MATCH(MIN(ABS($AD$6:$AD$29-(D1000/J990))),$AD$6:$AD$29-(D1000/J990),0),MATCH(MIN(ABS($AE$5:$AS$5-(H990/J990))),$AE$5:$AS$5-(H990/J990)))","v":{"$error":"#DIV/0!"}}]
[]
[]
[]
[null,null,null,"Cálculo de la componente IRC"]
[]
[null,null,null,"Área acristalada neta de ventanas",null,"Ángulo de cielo visible",null,"Altura del punto medio de las ventanas",null,"Longitud de paredes",null,"Altura de paredes",null,"Color de paredes",null,"Reflectancia de paredes"]
[]
[null,null,null,null,null,null,null,null,null,null,null,null,null,null,null,{"$f":"IFERROR(VLOOKUP(N1010,AA$14:AB$16,2,FALSE),\"\")","v":""}]
[]
[null,null,null,"Superficie de techo",null,"Color de techo",null,"Reflectancia de techo",null,null,null,"Superficie de suelo",null,"Color de suelo",null,"Reflectancia de suelo"]
[]
[null,null,null,null,null,null,null,{"$f":"IFERROR(VLOOKUP(F1014,AA$11:AB$13,2,FALSE),\"\")","v":""},null,null,null,null,null,null,null,{"$f":"IFERROR(VLOOKUP(N1014,AA$17:AB$18,2,FALSE),\"\")","v":""}]
[]
[null,null,null,"Reflectancia media",null,"Reflectancia media superior",null,"Reflectancia media inferior"]
[]
[null,null,null,{"$f":"IFERROR(((((J1010*L1010)-D1010)*P1010)+(D1014*H1014)+(L1014*P1014))/(((J1010*L1010)-D1010)+D1014+L1014),\"\")","v":""},null,{"$f":"IFERROR(((((J1010*(L1010-H1010))-D1010/2)*P1010)+(D1014*H1014))/(((J1010*L1010)-D1010)+D1014),\"\")","v":""},null,{"$f":"IFERROR(((((J1010*H1010)-D1010/2)*P1010)+(L1014*P1014))/((J1010*D1010)+L1014),\"\")","v":""}]
[]
[null,null,null,"Componente IRC",null,null,null,{"$f":"IFERROR((N990*D1010*(((F1010/2)-5)*H1018+5*F1018))/(((J1010*L1010)-D1010)+D1014+L1014)*(1-D1018),\"\")","v":""}]
[]
[]
[]
[null,null,null,"Cumplimiento del criterio",null,null,null,null,null,{"$f":"IFERROR(IF(H1027=\"\",\"\",IF(H1027>= P972,\"Sí\",\"No\")),\"\")","v":""}]
[]
[]
[null,null,null,"Factor luz de día de la estancia",null,null,null,{"$f":"IFERROR(H992+H1002+H1020,\"\")","v":""},null,{"$f":"IF(J967=\"\",\"No olvides rellenar el multiplicador\")","v":"No olvides rellenar el multiplicador"}]
[]
[]
[null,null,null,"Espacio 17",null,null,null,"Multiplicador",null,null,null,null,null,null,null,null,null,null,null,null,null,null,null,"No"]
[null,null,null,null,null,null,null,null,null,null,null,null,null,null,null,null,null,null,null,null,null,null,null,null,"Aulas y espacios docentes",2]
[null,null,null,null,null,null,null,null,null,null,null,null,null,null,null,null,null,null,null,null,null,null,null,null,"Zona de trabajo especializado",2.5]
[null,null,null,"Uso del espacio",null,null,null,null,null,null,null,null,null,null,null,null,null,null,null,null,null,null,null,null,"Salas de lectura",1.5]
[null,null,null,null,null,null,null,null,null,null,null,null,null,null,null,null,null,null,null,null,null,null,null,null,"Espacios deportivos",3]
[null,null,null,"Uso del espacio",null,null,null,null,null,"DF requerido",null,{"$f":"IFERROR(VLOOKUP(F1035,Y$22:Z$27,2,FALSE),\"\")","v":""},null,"Superficie útil",null,null,null,null,null,null,null,{"$f":"IF(J1087=\"Sí\",P1035*J1030,0)","v":0},{"$f":"P1035*J1030","v":0},null,"Zona de atención al público",0.6]
[]
[]
[]
[null,null,null,"¿Se cumplen las cuatro condiciones directas?"]
[]
[null,null,null,"¿Hay obstrucciones exteriores?",null,"Profundidad (m)",null,"Hw (m)",null,"Longitud (m)",null,"¿Es rectangular?",null,"Superficie útil (m)",null,"Longitud de la ventana (m)"]
[]
[null,null,null,null,null,null,null,null,null,null,null,null,null,{"$f":"P1035","v":0}]
[]
[null,null,null,"Cumplimiento de las condiciones",null,null,null,{"$f":"IF(D1043=\"\",\"\",IF(L1035=2,IF(AND(D1043=\"NO\",F1043<2.5*H1043,H1043*P1043>0.2*(IF(L1043=\"SÍ\",J1043*F1043,N1043)),P1043>0.6*J1043),\"Sí\",\"No\")))","v":""}]
[]
[]
[]
[null,null,null,"Cálculo de la componente SC"]
[]
[null,null,null,"hw para SC (m)",null,"W1",null,"W2",null,"D1",null,"Tipo de vidrio",null,null,null,"Transmitancia del vidrio"]
[null,null,null,null,null,null,null,null,null,null,null,null,null,null,null,null,null,null,null,null,null,null,null,"SC"]
[null,null,null,null,null,null,null,null,null,null,null,null,null,null,null,{"$f":"IFERROR(VLOOKUP(L1053,Z1011:AA1014,2,FALSE),\"\")","v":""},null,null,null,null,null,null,null,{"$f":"INDEX($AE$6:$AS$29,MATCH(MIN(ABS($AD$6:$AD$29-(D1053/J1053))),$AD$6:$AD$29-(D1053/J1053),0),MATCH(MIN(ABS($AE$5:$AS$5-(F1053/J1053))),$AE$5:$AS$5-(F1053/J1053)))","v":{"$error":"#DIV/0!"}},{"$f":"INDEX($AE$6:$AS$29,MATCH(MIN(ABS($AD$6:$AD$29-(D1053/J1053))),$AD$6:$AD$29-(D1053/J1053),0),MATCH(MIN(ABS($AE$5:$AS$5-(H1053/J1053))),$AE$5:$AS$5-(H1053/J1053)))","v":{"$error":"#DIV/0!"}}]
[]
[null,null,null,"Componente SC",null,null,null,{"$f":"IFERROR((X1053+Y1053)*P1053,\"\")","v":""}]
[]
[]
[]
[null,null,null,"Cálculo de la componente ERC"]
[]
[null,null,null,"hw para ERC (m)"]
[]
[]
[]
[null,null,null,"Componente ERC",null,null,null,{"$f":"IFERROR((X1065+Y1065)*P1053,\"\")","v":""},null,null,null,null,null,null,null,null,null,null,null,null,null,null,null,{"$f":"INDEX($AE$6:$AS$29,MATCH(MIN(ABS($AD$6:$AD$29-(D1063/J1053))),$AD$6:$AD$29-(D1063/J1053),0),MATCH(MIN(ABS($AE$5:$AS$5-(F1053/J1053))),$AE$5:$AS$5-(F1053/J1053)))","v":{"$error":"#DIV/0!"}},{"$f":"INDEX($AE$6:$AS$29,MATCH(MIN(ABS($AD$6:$AD$29-(D1063/J1053))),$AD$6:$AD$29-(D1063/J1053),0),MATCH(MIN(ABS($AE$5:$AS$5-(H1053/J1053))),$AE$5:$AS$5-(H1053/J1053)))","v":{"$error":"#DIV/0!"}}]
[]
[]
[]
[null,null,null,"Cálculo de la componente IRC"]
[]
[null,null,null,"Área acristalada neta de ventanas",null,"Ángulo de cielo visible",null,"Altura del punto medio de las ventanas",null,"Longitud de paredes",null,"Altura de paredes",null,"Color de paredes",null,"Reflectancia de paredes"]
[]
[null,null,null,null,null,null,null,null,null,null,null,null,null,null,null,{"$f":"IFERROR(VLOOKUP(N1073,AA$14:AB$16,2,FALSE),\"\")","v":""}]
[]
[null,null,null,"Superficie de techo",null,"Color de techo",null,"Reflectancia de techo",null,null,null,"Superficie de suelo",null,"Color de suelo",null,"Reflectancia de suelo"]
[]
[null,null,null,null,null,null,null,{"$f":"IFERROR(VLOOKUP(F1077,AA$11:AB$13,2,FALSE),\"\")","v":""},null,null,null,null,null,null,null,{"$f":"IFERROR(VLOOKUP(N1077,AA$17:AB$18,2,FALSE),\"\")","v":""}]
[]
[null,null,null,"Reflectancia media",null,"Reflectancia media superior",null,"Reflectancia media inferior"]
[]
[null,null,null,{"$f":"IFERROR(((((J1073*L1073)-D1073)*P1073)+(D1077*H1077)+(L1077*P1077))/(((J1073*L1073)-D1073)+D1077+L1077),\"\")","v":""},null,{"$f":"IFERROR(((((J1073*(L1073-H1073))-D1073/2)*P1073)+(D1077*H1077))/(((J1073*L1073)-D1073)+D1077),\"\")","v":""},null,{"$f":"IFERROR(((((J1073*H1073)-D1073/2)*P1073)+(L1077*P1077))/((J1073*D1073)+L1077),\"\")","v":""}]
[]
[null,null,null,"Componente IRC",null,null,null,{"$f":"IFERROR((N1053*D1073*(((F1073/2)-5)*H1081+5*F1081))/(((J1073*L1073)-D1073)+D1077+L1077)*(1-D1081),\"\")","v":""}]
[]
[]
[]
[null,null,null,"Cumplimiento del criterio",null,null,null,null,null,{"$f":"IFERROR(IF(H1090=\"\",\"\",IF(H1090>= P1035,\"Sí\",\"No\")),\"\")","v":""}]
[]
[]
[null,null,null,"Factor luz de día de la estancia",null,null,null,{"$f":"IFERROR(H1055+H1065+H1083,\"\")","v":""},null,{"$f":"IF(J1030=\"\",\"No olvides rellenar el multiplicador\")","v":"No olvides rellenar el multiplicador"}]
[]
[null,null,null,null,null,null,null,null,null,null,null,null,null,null,null,null,null,null,null,null,null,null,null,"Sí"]
[null,null,null,"Espacio 18",null,null,null,"Multiplicador",null,null,null,null,null,null,null,null,null,null,null,null,null,null,null,"No"]
[null,null,null,null,null,null,null,null,null,null,null,null,null,null,null,null,null,null,null,null,null,null,null,null,"Aulas y espacios docentes",2]
[null,null,null,null,null,null,null,null,null,null,null,null,null,null,null,null,null,null,null,null,null,null,null,null,"Zona de trabajo especializado",2.5]
[null,null,null,"Uso del espacio",null,null,null,null,null,null,null,null,null,null,null,null,null,null,null,null,null,null,null,null,"Salas de lectura",1.5]
[null,null,null,null,null,null,null,null,null,null,null,null,null,null,null,null,null,null,null,null,null,null,null,null,"Espacios deportivos",3]
[null,null,null,"Uso del espacio",null,null,null,null,null,"DF requerido",null,{"$f":"IFERROR(VLOOKUP(F1098,Y$22:Z$27,2,FALSE),\"\")","v":""},null,"Superficie útil",null,null,null,null,null,null,null,{"$f":"IF(J1150=\"Sí\",P1098*J1093,0)","v":0},{"$f":"P1098*J1093","v":0},null,"Zona de atención al público",0.6]
[]
[]
[]
[null,null,null,"¿Se cumplen las cuatro condiciones directas?"]
[]
[null,null,null,"¿Hay obstrucciones exteriores?",null,"Profundidad (m)",null,"Hw (m)",null,"Longitud (m)",null,"¿Es rectangular?",null,"Superficie útil (m)",null,"Longitud de la ventana (m)"]
[]
[null,null,null,null,null,null,null,null,null,null,null,null,null,{"$f":"P1098","v":0}]
[]
[null,null,null,"Cumplimiento de las condiciones",null,null,null,{"$f":"IF(D1106=\"\",\"\",IF(L1098=2,IF(AND(D1106=\"NO\",F1106<2.5*H1106,H1106*P1106>0.2*(IF(L1106=\"SÍ\",J1106*F1106,N1106)),P1106>0.6*J1106),\"Sí\",\"No\")))","v":""}]
[]
[]
[]
[null,null,null,"Cálculo de la componente SC"]
[]
[null,null,null,"hw para SC (m)",null,"W1",null,"W2",null,"D1",null,"Tipo de vidrio",null,null,null,"Transmitancia del vidrio"]
[null,null,null,null,null,null,null,null,null,null,null,null,null,null,null,null,null,null,null,null,null,null,null,"SC"]
[null,null,null,null,null,null,null,null,null,null,null,null,null,null,null,{"$f":"IFERROR(VLOOKUP(L1116,Z1074:AA1077,2,FALSE),\"\")","v":""},null,null,null,null,null,null,null,{"$f":"INDEX($AE$6:$AS$29,MATCH(MIN(ABS($AD$6:$AD$29-(D1116/J1116))),$AD$6:$AD$29-(D1116/J1116),0),MATCH(MIN(ABS($AE$5:$AS$5-(F1116/J1116))),$AE$5:$AS$5-(F1116/J1116)))","v":{"$error":"#DIV/0!"}},{"$f":"INDEX($AE$6:$AS$29,MATCH(MIN(ABS($AD$6:$AD$29-(D1116/J1116))),$AD$6:$AD$29-(D1116/J1116),0),MATCH(MIN(ABS($AE$5:$AS$5-(H1116/J1116))),$AE$5:$AS$5-(H1116/J1116)))","v":{"$error":"#DIV/0!"}}]
[]
[null,null,null,"Componente SC",null,null,null,{"$f":"IFERROR((X1116+Y1116)*P1116,\"\")","v":""}]
[]
[]
[]
[null,null,null,"Cálculo de la componente ERC"]
[]
[null,null,null,"hw para ERC (m)"]
[]
[]
[]
[null,null,null,"Componente ERC",null,null,null,{"$f":"IFERROR((X1128+Y1128)*P1116,\"\")","v":""},null,null,null,null,null,null,null,null,null,null,null,null,null,null,null,{"$f":"INDEX($AE$6:$AS$29,MATCH(MIN(ABS($AD$6:$AD$29-(D1126/J1116))),$AD$6:$AD$29-(D1126/J1116),0),MATCH(MIN(ABS($AE$5:$AS$5-(F1116/J1116))),$AE$5:$AS$5-(F1116/J1116)))","v":{"$error":"#DIV/0!"}},{"$f":"INDEX($AE$6:$AS$29,MATCH(MIN(ABS($AD$6:$AD$29-(D1126/J1116))),$AD$6:$AD$29-(D1126/J1116),0),MATCH(MIN(ABS($AE$5:$AS$5-(H1116/J1116))),$AE$5:$AS$5-(H1116/J1116)))","v":{"$error":"#DIV/0!"}}]
[]
[]
[]
[null,null,null,"Cálculo de la componente IRC"]
[]
[null,null,null,"Área acristalada neta de ventanas",null,"Ángulo de cielo visible",null,"Altura del punto medio de las ventanas",null,"Longitud de paredes",null,"Altura de paredes",null,"Color de paredes",null,"Reflectancia de paredes"]
[]
[null,null,null,null,null,null,null,null,null,null,null,null,null,null,null,{"$f":"IFERROR(VLOOKUP(N1136,AA$14:AB$16,2,FALSE),\"\")","v":""}]
[]
[null,null,null,"Superficie de techo",null,"Color de techo",null,"Reflectancia de techo",null,null,null,"Superficie de suelo",null,"Color de suelo",null,"Reflectancia de suelo"]
[]
[null,null,null,null,null,null,null,{"$f":"IFERROR(VLOOKUP(F1140,AA$11:AB$13,2,FALSE),\"\")","v":""},null,null,null,null,null,null,null,{"$f":"IFERROR(VLOOKUP(N1140,AA$17:AB$18,2,FALSE),\"\")","v":""}]
[]
[null,null,null,"Reflectancia media",null,"Reflectancia media superior",null,"Reflectancia media inferior"]
[]
[null,null,null,{"$f":"IFERROR(((((J1136*L1136)-D1136)*P1136)+(D1140*H1140)+(L1140*P1140))/(((J1136*L1136)-D1136)+D1140+L1140),\"\")","v":""},null,{"$f":"IFERROR(((((J1136*(L1136-H1136))-D1136/2)*P1136)+(D1140*H1140))/(((J1136*L1136)-D1136)+D1140),\"\")","v":""},null,{"$f":"IFERROR(((((J1136*H1136)-D1136/2)*P1136)+(L1140*P1140))/((J1136*D1136)+L1140),\"\")","v":""}]
[]
[null,null,null,"Componente IRC",null,null,null,{"$f":"IFERROR((N1116*D1136*(((F1136/2)-5)*H1144+5*F1144))/(((J1136*L1136)-D1136)+D1140+L1140)*(1-D1144),\"\")","v":""}]
[]
[]
[]
[null,null,null,"Cumplimiento del criterio",null,null,null,null,null,{"$f":"IFERROR(IF(H1153=\"\",\"\",IF(H1153>= P1098,\"Sí\",\"No\")),\"\")","v":""}]
[]
[]
[null,null,null,"Factor luz de día de la estancia",null,null,null,{"$f":"IFERROR(H1118+H1128+H1146,\"\")","v":""},null,{"$f":"IF(J1093=\"\",\"No olvides rellenar el multiplicador\")","v":"No olvides rellenar el multiplicador"}]
[]
[null,null,null,null,null,null,null,null,null,null,null,null,null,null,null,null,null,null,null,null,null,null,null,"Sí"]
[null,null,null,"Espacio 19",null,null,null,"Multiplicador",null,null,null,null,null,null,null,null,null,null,null,null,null,null,null,"No"]
[null,null,null,null,null,null,null,null,null,null,null,null,null,null,null,null,null,null,null,null,null,null,null,null,"Aulas y espacios docentes",2]
[null,null,null,null,null,null,null,null,null,null,null,null,null,null,null,null,null,null,null,null,null,null,null,null,"Zona de trabajo especializado",2.5]
[null,null,null,"Uso del espacio",null,null,null,null,null,null,null,null,null,null,null,null,null,null,null,null,null,null,null,null,"Salas de lectura",1.5]
[null,null,null,null,null,null,null,null,null,null,null,null,null,null,null,null,null,null,null,null,null,null,null,null,"Espacios deportivos",3]
[null,null,null,"Uso del espacio",null,null,null,null,null,"DF requerido",null,{"$f":"IFERROR(VLOOKUP(F1161,Y$22:Z$27,2,FALSE),\"\")","v":""},null,"Superficie útil",null,null,null,null,null,null,null,{"$f":"IF(J1213=\"Sí\",P1161*J1156,0)","v":0},{"$f":"P1161*J1156","v":0},null,"Zona de atención al público",0.6]
[]
[]
[]
[null,null,null,"¿Se cumplen las cuatro condiciones directas?"]
[]
[null,null,null,"¿Hay obstrucciones exteriores?",null,"Profundidad (m)",null,"Hw (m)",null,"Longitud (m)",null,"¿Es rectangular?",null,"Superficie útil (m)",null,"Longitud de la ventana (m)"]
[]
[null,null,null,null,null,null,null,null,null,null,null,null,null,{"$f":"P1161","v":0}]
[]
[null,null,null,"Cumplimiento de las condiciones",null,null,null,{"$f":"IF(D1169=\"\",\"\",IF(L1161=2,IF(AND(D1169=\"NO\",F1169<2.5*H1169,H1169*P1169>0.2*(IF(L1169=\"SÍ\",J1169*F1169,N1169)),P1169>0.6*J1169),\"Sí\",\"No\")))","v":""}]
[]
[]
[]
[null,null,null,"Cálculo de la componente SC"]
[]
[null,null,null,"hw para SC (m)",null,"W1",null,"W2",null,"D1",null,"Tipo de vidrio",null,null,null,"Transmitancia del vidrio"]
[null,null,null,null,null,null,null,null,null,null,null,null,null,null,null,null,null,null,null,null,null,null,null,"SC"]
[null,null,null,null,null,null,null,null,null,null,null,null,null,null,null,{"$f":"IFERROR(VLOOKUP(L1179,Z1137:AA1140,2,FALSE),\"\")","v":""},null,null,null,null,null,null,null,{"$f":"INDEX($AE$6:$AS$29,MATCH(MIN(ABS($AD$6:$AD$29-(D1179/J1179))),$AD$6:$AD$29-(D1179/J1179),0),MATCH(MIN(ABS($AE$5:$AS$5-(F1179/J1179))),$AE$5:$AS$5-(F1179/J1179)))","v":{"$error":"#DIV/0!"}},{"$f":"INDEX($AE$6:$AS$29,MATCH(MIN(ABS($AD$6:$AD$29-(D1179/J1179))),$AD$6:$AD$29-(D1179/J1179),0),MATCH(MIN(ABS($AE$5:$AS$5-(H1179/J1179))),$AE$5:$AS$5-(H1179/J1179)))","v":{"$error":"#DIV/0!"}}]
[]
[null,null,null,"Componente SC",null,null,null,{"$f":"IFERROR((X1179+Y1179)*P1179,\"\")","v":""}]
[]
[]
[]
[null,null,null,"Cálculo de la componente ERC"]
[]
[null,null,null,"hw para ERC (m)"]
[]
[]
[]
[null,null,null,"Componente ERC",null,null,null,{"$f":"IFERROR((X1191+Y1191)*P1179,\"\")","v":""},null,null,null,null,null,null,null,null,null,null,null,null,null,null,null,{"$f":"INDEX($AE$6:$AS$29,MATCH(MIN(ABS($AD$6:$AD$29-(D1189/J1179))),$AD$6:$AD$29-(D1189/J1179),0),MATCH(MIN(ABS($AE$5:$AS$5-(F1179/J1179))),$AE$5:$AS$5-(F1179/J1179)))","v":{"$error":"#DIV/0!"}},{"$f":"INDEX($AE$6:$AS$29,MATCH(MIN(ABS($AD$6:$AD$29-(D1189/J1179))),$AD$6:$AD$29-(D1189/J1179),0),MATCH(MIN(ABS($AE$5:$AS$5-(H1179/J1179))),$AE$5:$AS$5-(H1179/J1179)))","v":{"$error":"#DIV/0!"}}]
[]
[]
[]
[null,null,null,"Cálculo de la componente IRC"]
[]
[null,null,null,"Área acristalada neta de ventanas",null,"Ángulo de cielo visible",null,"Altura del punto medio de las ventanas",null,"Longitud de paredes",null,"Altura de paredes",null,"Color de paredes",null,"Reflectancia de paredes"]
[]
[null,null,null,null,null,null,null,null,null,null,null,null,null,null,null,{"$f":"IFERROR(VLOOKUP(N1199,AA$14:AB$16,2,FALSE),\"\")","v":""}]
[]
[null,null,null,"Superficie de techo",null,"Color de techo",null,"Reflectancia de techo",null,null,null,"Superficie de suelo",null,"Color de suelo",null,"Reflectancia de suelo"]
[]
[null,null,null,null,null,null,null,{"$f":"IFERROR(VLOOKUP(F1203,AA$11:AB$13,2,FALSE),\"\")","v":""},null,null,null,null,null,null,null,{"$f":"IFERROR(VLOOKUP(N1203,AA$17:AB$18,2,FALSE),\"\")","v":""}]
[]
[null,null,null,"Reflectancia media",null,"Reflectancia media superior",null,"Reflectancia media inferior"]
[]
[null,null,null,{"$f":"IFERROR(((((J1199*L1199)-D1199)*P1199)+(D1203*H1203)+(L1203*P1203))/(((J1199*L1199)-D1199)+D1203+L1203),\"\")","v":""},null,{"$f":"IFERROR(((((J1199*(L1199-H1199))-D1199/2)*P1199)+(D1203*H1203))/(((J1199*L1199)-D1199)+D1203),\"\")","v":""},null,{"$f":"IFERROR(((((J1199*H1199)-D1199/2)*P1199)+(L1203*P1203))/((J1199*D1199)+L1203),\"\")","v":""}]
[]
[null,null,null,"Componente IRC",null,null,null,{"$f":"IFERROR((N1179*D1199*(((F1199/2)-5)*H1207+5*F1207))/(((J1199*L1199)-D1199)+D1203+L1203)*(1-D1207),\"\")","v":""}]
[]
[]
[]
[null,null,null,"Cumplimiento del criterio",null,null,null,null,null,{"$f":"IFERROR(IF(H1216=\"\",\"\",IF(H1216>= P1161,\"Sí\",\"No\")),\"\")","v":""}]
[]
[]
[null,null,null,"Factor luz de día de la estancia",null,null,null,{"$f":"IFERROR(H1181+H1191+H1209,\"\")","v":""},null,{"$f":"IF(J1156=\"\",\"No olvides rellenar el multiplicador\")","v":"No olvides rellenar el multiplicador"}]
[]
[null,null,null,null,null,null,null,null,null,null,null,null,null,null,null,null,null,null,null,null,null,null,null,"Sí"]
[null,null,null,"Espacio 20",null,null,null,"Multiplicador",null,null,null,null,null,null,null,null,null,null,null,null,null,null,null,"No"]
[null,null,null,null,null,null,null,null,null,null,null,null,null,null,null,null,null,null,null,null,null,null,null,null,"Aulas y espacios docentes",2]
[null,null,null,null,null,null,null,null,null,null,null,null,null,null,null,null,null,null,null,null,null,null,null,null,"Zona de trabajo especializado",2.5]
[null,null,null,"Uso del espacio",null,null,null,null,null,null,null,null,null,null,null,null,null,null,null,null,null,null,null,null,"Salas de lectura",1.5]
[null,null,null,null,null,null,null,null,null,null,null,null,null,null,null,null,null,null,null,null,null,null,null,null,"Espacios deportivos",3]
[null,null,null,"Uso del espacio",null,null,null,null,null,"DF requerido",null,{"$f":"IFERROR(VLOOKUP(F1224,Y$22:Z$27,2,FALSE),\"\")","v":""},null,"Superficie útil",null,null,null,null,null,null,null,{"$f":"IF(J1276=\"Sí\",P1224*J1219,0)","v":0},{"$f":"P1224*J1219","v":0},null,"Zona de atención al público",0.6]
[]
[]
[]
[null,null,null,"¿Se cumplen las cuatro condiciones directas?"]
[]
[null,null,null,"¿Hay obstrucciones exteriores?",null,"Profundidad (m)",null,"Hw (m)",null,"Longitud (m)",null,"¿Es rectangular?",null,"Superficie útil (m)",null,"Longitud de la ventana (m)"]
[]
[null,null,null,null,null,null,null,null,null,null,null,null,null,{"$f":"P1224","v":0}]
[]
[null,null,null,"Cumplimiento de las condiciones",null,null,null,{"$f":"IF(D1232=\"\",\"\",IF(L1224=2,IF(AND(D1232=\"NO\",F1232<2.5*H1232,H1232*P1232>0.2*(IF(L1232=\"SÍ\",J1232*F1232,N1232)),P1232>0.6*J1232),\"Sí\",\"No\")))","v":""}]
[]
[]
[]
[null,null,null,"Cálculo de la componente SC"]
[]
[null,null,null,"hw para SC (m)",null,"W1",null,"W2",null,"D1",null,"Tipo de vidrio",null,null,null,"Transmitancia del vidrio"]
[null,null,null,null,null,null,null,null,null,null,null,null,null,null,null,null,null,null,null,null,null,null,null,"SC"]
[null,null,null,null,null,null,null,null,null,null,null,null,null,null,null,{"$f":"IFERROR(VLOOKUP(L1242,Z1200:AA1203,2,FALSE),\"\")","v":""},null,null,null,null,null,null,null,{"$f":"INDEX($AE$6:$AS$29,MATCH(MIN(ABS($AD$6:$AD$29-(D1242/J1242))),$AD$6:$AD$29-(D1242/J1242),0),MATCH(MIN(ABS($AE$5:$AS$5-(F1242/J1242))),$AE$5:$AS$5-(F1242/J1242)))","v":{"$error":"#DIV/0!"}},{"$f":"INDEX($AE$6:$AS$29,MATCH(MIN(ABS($AD$6:$AD$29-(D1242/J1242))),$AD$6:$AD$29-(D1242/J1242),0),MATCH(MIN(ABS($AE$5:$AS$5-(H1242/J1242))),$AE$5:$AS$5-(H1242/J1242)))","v":{"$error":"#DIV/0!"}}]
[]
[null,null,null,"Componente SC",null,null,null,{"$f":"IFERROR((X1242+Y1242)*P1242,\"\")","v":""}]
[]
[]
[]
[null,null,null,"Cálculo de la componente ERC"]
[]
[null,null,null,"hw para ERC (m)"]
[]
[]
[]
[null,null,null,"Componente ERC",null,null,null,{"$f":"IFERROR((X1254+Y1254)*P1242,\"\")","v":""},null,null,null,null,null,null,null,null,null,null,null,null,null,null,null,{"$f":"INDEX($AE$6:$AS$29,MATCH(MIN(ABS($AD$6:$AD$29-(D1252/J1242))),$AD$6:$AD$29-(D1252/J1242),0),MATCH(MIN(ABS($AE$5:$AS$5-(F1242/J1242))),$AE$5:$AS$5-(F1242/J1242)))","v":{"$error":"#DIV/0!"}},{"$f":"INDEX($AE$6:$AS$29,MATCH(MIN(ABS($AD$6:$AD$29-(D1252/J1242))),$AD$6:$AD$29-(D1252/J1242),0),MATCH(MIN(ABS($AE$5:$AS$5-(H1242/J1242))),$AE$5:$AS$5-(H1242/J1242)))","v":{"$error":"#DIV/0!"}}]
[]
[]
[]
[null,null,null,"Cálculo de la componente IRC"]
[]
[null,null,null,"Área acristalada neta de ventanas",null,"Ángulo de cielo visible",null,"Altura del punto medio de las ventanas",null,"Longitud de paredes",null,"Altura de paredes",null,"Color de paredes",null,"Reflectancia de paredes"]
[]
[null,null,null,null,null,null,null,null,null,null,null,null,null,null,null,{"$f":"IFERROR(VLOOKUP(N1262,AA$14:AB$16,2,FALSE),\"\")","v":""}]
[]
[null,null,null,"Superficie de techo",null,"Color de techo",null,"Reflectancia de techo",null,null,null,"Superficie de suelo",null,"Color de suelo",null,"Reflectancia de suelo"]
[]
[null,null,null,null,null,null,null,{"$f":"IFERROR(VLOOKUP(F1266,AA$11:AB$13,2,FALSE),\"\")","v":""},null,null,null,null,null,null,null,{"$f":"IFERROR(VLOOKUP(N1266,AA$17:AB$18,2,FALSE),\"\")","v":""}]
[]
[null,null,null,"Reflectancia media",null,"Reflectancia media superior",null,"Reflectancia media inferior"]
[]
[null,null,null,{"$f":"IFERROR(((((J1262*L1262)-D1262)*P1262)+(D1266*H1266)+(L1266*P1266))/(((J1262*L1262)-D1262)+D1266+L1266),\"\")","v":""},null,{"$f":"IFERROR(((((J1262*(L1262-H1262))-D1262/2)*P1262)+(D1266*H1266))/(((J1262*L1262)-D1262)+D1266),\"\")","v":""},null,{"$f":"IFERROR(((((J1262*H1262)-D1262/2)*P1262)+(L1266*P1266))/((J1262*D1262)+L1266),\"\")","v":""}]
[]
[null,null,null,"Componente IRC",null,null,null,{"$f":"IFERROR((N1242*D1262*(((F1262/2)-5)*H1270+5*F1270))/(((J1262*L1262)-D1262)+D1266+L1266)*(1-D1270),\"\")","v":""}]
[]
[]
[]
[null,null,null,"Cumplimiento del criterio",null,null,null,null,null,{"$f":"IFERROR(IF(H1279=\"\",\"\",IF(H1279>= P1224,\"Sí\",\"No\")),\"\")","v":""}]
[]
[]
[null,null,null,"Factor luz de día de la estancia",null,null,null,{"$f":"IFERROR(H1244+H1254+H1272,\"\")","v":""},null,{"$f":"IF(J1219=\"\",\"No olvides rellenar el multiplicador\")","v":"No olvides rellenar el multiplicador"}]
[]
[]
[]
[null,null,null,"Porcentaje de superficie de trabajo que cumple con el criterio",null,null,null,null,null,null,null,null,null,null,null,null,null,{"$f":"IFERROR(SUM(V25:V1279)/SUM(W25:W1279),\"\")","v":""}]

{"sheet":"ASE","index":27,"n_rows":54,"n_cols":22,"rows_kept":54,"cut":false,"hidden":false,"merged":[[35,4,35,5],[37,4,37,5],[39,3,39,4],[43,5,43,8],[33,3,33,4],[33,5,33,6],[1,1,1,2],[1,3,1,4],[1,5,1,6],[15,3,15,4],[15,5,15,6],[13,5,13,6],[8,4,9,5],[31,5,31,6],[17,4,17,5],[23,3,23,4],[21,4,21,5],[11,4,11,5],[19,4,19,5]]}
[]
[null,{"$f":"'Matriz VERDE-GBCe'!G39","v":"ASE"},null,{"$f":"'Matriz VERDE-GBCe'!H39","v":"Aspectos Sociales y Económicos."}]
[]
[]
[null,null,null,{"$f":"'Matriz VERDE-GBCe'!H40","v":"ASE 01"},{"$f":"VLOOKUP($D5,'Matriz VERDE-GBCe'!$H$5:$K$49,2,FALSE)","v":"Acceso universal."},{"$f":"VLOOKUP($D5,'Matriz VERDE-GBCe'!$H$5:$K$49,3,FALSE)","v":2.8292989625903795E-2},null,null,null,null,null,null,null,null,null,null,null,null,"SE ADJUNTA",null,"SÍ","NO"]
[null,null,null,null,null,null,null,null,null,null,null,null,null,null,null,null,null,null,"NO SE ADJUNTA",null,"NO"]
[null,null,null,null,"Se prevé una señalización específica para personas con discapacidad cognitiva",null,null,null,null,null,null,null,null,null,null,null,null,null,"NO APLICA"]
[null,null,null,null,null,null,null,null,null,null,null,null,null,null,null,null,null,null,"NO SE ADJUNTA",null,"NO"]
[null,null,null,null,"Se prevé el libre acceso mediante itinerarios accesibles a personas con movilidad reducida a todos los espacios del edificio incluidos cuartos de instalaciones.",null,null,null,null,null,null,null,null,null,null,null,null,null,"NO APLICA"]
[]
[null,null,null,null,null,null,null,null,null,null,null,null,null,null,null,null,null,null,"NO SE ADJUNTA",null,"NO"]
[null,null,null,null,"Se prevén una mejora sustancial de la accesibilidad no contemplada en las medidas anteriores",null,null,null,null,null,null,null,null,null,null,null,null,null,"NO APLICA"]
[]
[null,null,null,"NOTAS"]
[]
[null,null,null,"DOCUMENTOS JUSTIFICATIVOS"]
[]
[null,null,null,"ASE 01.01","Memoria de accesibilidad con indicación de las señales cognitivas insataladas, su ubicación y características."]
[]
[null,null,null,"ASE 01.02","Planos del edificio en formato dwg o dxf válido para AUTOCAD 2007 dibujado a una escala de 1 unidad de dibujo = 1 metro y con escala gráfica. Este plano debe contener las medidas adoptadas para mejorar la accesibilidad al edificio y los itinerarios accesibles."]
[]
[null,null,null,"ASE 01.03","Breve memoria justificativa del cumplimiento de las medidas puntuadas."]
[]
[null,null,null,"VALORACIÓN DEL CRITERIO",null,{"$f":"(IF($H7=\"sí\",$F5*0.3))+(IF($H9=\"sí\",$F5*0.5))+(IF($H12=\"sí\",$F5*0.2))","v":0}]
[]
[]
[]
[null,null,null,{"$f":"'Matriz VERDE-GBCe'!H41","v":"ASE 02"},{"$f":"VLOOKUP($D28,'Matriz VERDE-GBCe'!$H$5:$K$49,2,FALSE)","v":"Acceso visual desde las áreas de trabajo."},{"$f":"VLOOKUP($D28,'Matriz VERDE-GBCe'!$H$5:$K$49,3,FALSE)","v":1.8861993083935862E-2}]
[]
[null,null,null,null,"Porcentaje de espacios de trabajo que tienen acceso visual al exterior"]
[]
[null,null,null,"NOTAS"]
[]
[null,null,null,"DOCUMENTOS JUSTIFICATIVOS"]
[]
[null,null,null,"ASE 03.01","Planos de planta en formato dwg o dxf válido para AUTOCAD 2007 dibujado a una escala de 1 unidad de dibujo = 1 metro y con escala gráfica. En él deben figurar los polígonos que determinan la superficie del espacio de trabajo que tiene acceso a las vistas del exterior, así como el valor de dicha superficie."]
[]
[null,null,null,"ASE 03.02","Memoria de cálculo"]
[]
[null,null,null,"VALORACIÓN DEL CRITERIO",null,{"$f":"IF($H30<0.6,0,IF(H30>0.8,F28,(($H30-0.6)/0.2)*$F28))","v":0}]
[]
[]
[]
[null,null,null,null,null,"VALORACIÓN ÁREA"]
[]
[null,null,null,null,null,"SUBTOTAL",null,{"$f":"F24+F40","v":0}]
[]
[null,null,null,null,null,"SOBRE",null,{"$f":"VLOOKUP(B$2,'Matriz VERDE-GBCe'!$G$2:$K$49,4,FALSE)","v":4.7154982709839657E-2}]
[]
[]
[]
[]
[]
[null,null,null,null,null,"SÍ",null,"x"]

{"sheet":"CC","index":28,"n_rows":163,"n_cols":22,"rows_kept":163,"cut":false,"hidden":false,"merged":[[141,5,141,6],[143,3,143,4],[143,5,143,6],[145,4,145,5],[147,3,147,4],[99,4,100,5],[102,4,103,5],[111,3,111,4],[105,5,105,6],[107,3,107,4],[107,5,107,6],[109,4,109,5],[1,1,1,2],[1,3,1,4],[1,5,1,6],[14,3,14,4],[14,5,14,6],[12,5,12,6],[16,4,16,5],[18,3,18,4],[30,3,30,4],[30,5,30,6],[28,5,28,6],[32,4,32,5],[34,4,34,5],[36,3,36,4],[44,5,44,6],[46,3,46,4],[46,5,46,6],[42,4,42,5],[48,4,48,5],[50,4,50,5],[54,3,54,4],[63,5,63,6],[152,5,152,8],[131,3,131,4],[127,3,127,4],[127,5,127,6],[129,4,129,5],[125,5,125,6],[52,4,52,5],[58,4,59,4],[75,4,76,4],[96,4,97,5],[65,3,65,4],[65,5,65,6],[86,4,86,5],[88,4,88,5],[90,3,90,4],[67,4,67,5],[69,4,69,5],[71,3,71,4],[82,5,82,6],[84,3,84,4],[84,5,84,6]]}
[]
[null,{"$f":"'Matriz VERDE-GBCe'!G42","v":"CC"},null,{"$f":"'Matriz VERDE-GBCe'!H42","v":"Concepto de Calidad."}]
[]
[]
[null,null,null,{"$f":"'Matriz VERDE-GBCe'!H43","v":"CC 01"},{"$f":"VLOOKUP($D5,'Matriz VERDE-GBCe'!$H$5:$K$49,2,FALSE)","v":"Eficiencia de los espacios."},{"$f":"VLOOKUP($D5,'Matriz VERDE-GBCe'!$H$5:$K$49,3,FALSE)","v":1.8861993083935862E-2},null,null,null,null,null,null,null,null,null,null,null,null,"SE ADJUNTA",null,"SÍ","NO"]
[null,null,null,null,null,null,null,null,null,null,null,null,null,null,null,null,null,null,"NO SE ADJUNTA",null,"NO"]
[null,null,null,null,"Superficie construida sobre rasante",null,null,null,null,null,null,null,null,null,null,null,null,null,"NO APLICA"]
[null,null,null,null,null,null,null,null,null,null,null,null,null,null,null,null,null,null,"NO SE ADJUNTA",null,"NO"]
[null,null,null,null,"Superficie útil funcional",null,null,null,null,null,null,null,null,null,null,null,null,null,"NO APLICA"]
[null,null,null,null,null,null,null,null,null,null,null,null,null,null,null,null,null,null,"NO SE ADJUNTA",null,"NO"]
[null,null,null,null,"Ratio de la Superficie útil funcional",null,null,{"$f":"IF(OR(H7=0,H7=\"\"),0,(H7/H9))","v":0},null,null,null,null,null,null,null,null,null,null,"NO APLICA"]
[]
[null,null,null,"NOTAS"]
[]
[null,null,null,"DOCUMENTOS JUSTIFICATIVOS"]
[]
[null,null,null,"CC 01.01","Resumen de superficies dónde se indique la superficie construida sobre rasante y las superficies útiles de las zonas de ocupación y usos primarios"]
[]
[null,null,null,"VALORACIÓN DEL CRITERIO",null,{"$f":"IF($H11=0,0,IF($H11>1.3,0,IF(H11<1.1,0,1-(($H11-1.1)/0.2))*F5))","v":0}]
[]
[]
[]
[null,null,null,{"$f":"'Matriz VERDE-GBCe'!H44","v":"CC 02"},{"$f":"VLOOKUP($D23,'Matriz VERDE-GBCe'!$H$5:$K$49,2,FALSE)","v":"Sistema de gestión del edificio (BMS)."},{"$f":"VLOOKUP($D23,'Matriz VERDE-GBCe'!$H$5:$K$49,3,FALSE)","v":3.4580320653882418E-2}]
[]
[null,null,null,null,"El edificio dispone de un sistema de gestión o BMS con alcance básico",null,null,null,null,null,null,{"$f":"IF(H25=\"sí\",F23*0.6,0)","v":0}]
[]
[null,null,null,null,"El edificio dispone de un sistema de gestión o BMS con alcance superior",null,null,null,null,null,null,{"$f":"IF(H27=\"sí\",F23*0.4,0)","v":0}]
[]
[null,null,null,"NOTAS"]
[]
[null,null,null,"DOCUMENTOS JUSTIFICATIVOS"]
[]
[null,null,null,"CC 02.01","Documentación técnica (memorias y planos) de los procesos considerados con la siguiente información: consumo energético de cada sistema y potencias y métodos de medición para cada instalación.Si es de aplicación, el alcance del BMS (Building Management System) y su capacidad de control de energía..\n"]
[]
[null,null,null,"CC 02.02","Memoria descriptiva del sistema de gestión energética que justifique el cumplimiento de las exigencias para el cumplimiento del criterio.\n"]
[]
[null,null,null,"VALORACIÓN DEL CRITERIO",null,{"$f":"L25+L27","v":0}]
[]
[]
[]
[null,null,null,{"$f":"'Matriz VERDE-GBCe'!H45","v":"CC 03"},{"$f":"VLOOKUP($D41,'Matriz VERDE-GBCe'!$H$5:$K$49,2,FALSE)","v":"Capacidad de funcionamiento parcial de las instalaciones."},{"$f":"VLOOKUP($D41,'Matriz VERDE-GBCe'!$H$5:$K$49,3,FALSE)","v":1.2574662055957243E-2}]
[]
[null,null,null,null,"El edificio permite el funcionamiento parcial de las instalaciones según la compartimentación por zonas."]
[]
[null,null,null,"NOTAS"]
[]
[null,null,null,"DOCUMENTOS JUSTIFICATIVOS"]
[]
[null,null,null,"CC 03.01","Planos en formato dwg o dxf válido para AUTOCAD 2007 dibujado a una escala de 1 unidad de dibujo = 1 metro y con escala gráfica. En él deberán aparecer señalada la sectorización del sistema de climatización.\n"]
[]
[null,null,null,"CC 03.02","Proyecto de las instalaciones de climatización del edificio y su independencia según las zonas de uso."]
[]
[null,null,null,"CC 03.03","Memoria justificativa del cumplimiento de las exigencias del criterio."]
[]
[null,null,null,"VALORACIÓN DEL CRITERIO",null,{"$f":"IF($H43=\"sí\",$F41,0)","v":0}]
[]
[]
[]
[null,null,null,{"$f":"'Matriz VERDE-GBCe'!H46","v":"CC 04"},{"$f":"VLOOKUP($D59,'Matriz VERDE-GBCe'!$H$5:$K$49,2,FALSE)","v":"Capacidad de control local de la iluminación."},{"$f":"VLOOKUP($D59,'Matriz VERDE-GBCe'!$H$5:$K$49,3,FALSE)","v":2.2634391700723039E-2}]
[]
[]
[null,null,null,null,"Porcentaje de puestos de trabajo que cuentan con un control local de la iluminación."]
[]
[null,null,null,"NOTAS"]
[]
[null,null,null,"DOCUMENTOS JUSTIFICATIVOS"]
[]
[null,null,null,"CC 04.01","Plano de plantas del proyecto en formato dwg o dxf válido para AUTOCAD 2007 dibujado a una escala de 1 unidad de dibujo = 1 metro y con escala gráfica. En él debe figurar la localización de los puestos de trabajo individuales señalizando aquellos que dispongan de un control personal de la iluminación."]
[]
[null,null,null,"CC 04.02","Memoria de cálculo del porcentaje de puestos de trabajo individuales que dispongan de un control personal de la iluminación."]
[]
[null,null,null,"VALORACIÓN DEL CRITERIO",null,{"$f":"IF($H62<=0.7,0,IF(H62>1,\"ERROR\",(($H62-0.7)/0.3)*F59))","v":0}]
[]
[]
[]
[null,null,null,{"$f":"'Matriz VERDE-GBCe'!H47","v":"CC 05"},{"$f":"VLOOKUP($D76,'Matriz VERDE-GBCe'!$H$5:$K$49,2,FALSE)","v":"Capacidad de control local de los sistemas de HVAC."},{"$f":"VLOOKUP($D76,'Matriz VERDE-GBCe'!$H$5:$K$49,3,FALSE)","v":1.8861993083935862E-2}]
[]
[]
[null,null,null,null,"¿Se respeta la limitación de los rangos de temperatura?"]
[]
[null,null,null,null,"Porcentaje de áreas térmicas con control termostático"]
[]
[null,null,null,"NOTAS"]
[]
[null,null,null,"DOCUMENTOS JUSTIFICATIVOS"]
[]
[null,null,null,"CC 05.01","Plano de plantas del proyecto en formato dwg o dxf válido para AUTOCAD 2007 dibujado a una escala de 1 unidad de dibujo = 1 metro y con escala gráfica. En él deben figurar las áreas térmicas diferenciadas que deberían tener el edificio según lo establecido en el criterio, así como la señalización de aquellas áreas térmicas diferenciadas que cuenten con control accesible termostático.\n"]
[]
[null,null,null,"CC 05.02","Memoria de cálculo del porcentaje de áreas térmicas diferenciadas que cuentan con un control accesible termostático."]
[]
[null,null,null,"VALORACIÓN DEL CRITERIO",null,{"$f":"IF(H79=\"sí\",IF($H81<=0.7,0,IF(H81>1,\"ERROR\",(($H81-0.7)/0.3)*F76)),0)","v":0}]
[]
[]
[]
[null,null,null,{"$f":"'Matriz VERDE-GBCe'!H48","v":"CC 06"},{"$f":"VLOOKUP($D95,'Matriz VERDE-GBCe'!$H$5:$K$49,2,FALSE)","v":"Custodia de la documentación del proyecto."},{"$f":"VLOOKUP($D95,'Matriz VERDE-GBCe'!$H$5:$K$49,3,FALSE)","v":1.8861993083935862E-2}]
[]
[null,null,null,null,"El protocolo de custodia de la documentación del proyecto incluye a propietarios y, o equipo de proyecto, o promotores."]
[]
[]
[null,null,null,null,"El protocolo de custodia de la documentación del proyecto incluye a propietarios, equipo de proyecto, y o bien promotor o bien constructora. "]
[]
[]
[null,null,null,null,"El protocolo de custodia de la documentación del proyecto incluye a propietarios, equipo de proyecto, promotor y constructora."]
[]
[]
[null,null,null,"NOTAS"]
[]
[null,null,null,"DOCUMENTOS JUSTIFICATIVOS"]
[]
[null,null,null,"CC 06.01","Libro del edificio que incluya el protocolo de custodia de la documentación del proyecto.\n"]
[]
[null,null,null,"VALORACIÓN DEL CRITERIO",null,{"$f":"IF(H103=\"SÍ\",F95,IF(H100=\"SÍ\",F95*0.6,IF(H97=\"SÍ\",F95*0.15,0)))","v":0}]
[]
[]
[]
[null,null,null,{"$f":"'Matriz VERDE-GBCe'!H49","v":"CC 07"},{"$f":"VLOOKUP($D116,'Matriz VERDE-GBCe'!$H$5:$K$49,2,FALSE)","v":"El edificio como una herramienta para la educación."},{"$f":"VLOOKUP($D116,'Matriz VERDE-GBCe'!$H$5:$K$49,3,FALSE)","v":1.8861993083935862E-2}]
[]
[null,null,null,null,"Se ha definido un plan de comunicación conforme al criterio"]
[]
[null,null,null,null,"Se garantiza que los datos de consumo general del edificio serán públicos"]
[]
[null,null,null,null,"Hay un compromiso de facilitar información sobre el edificio a entidades educacionales."]
[]
[null,null,null,null,"Se incentivará la difución del conocimiento del funcionamiento del edificio"]
[]
[null,null,null,"NOTAS"]
[]
[null,null,null,"DOCUMENTOS JUSTIFICATIVOS"]
[]
[null,null,null,"CC 04.01","Declaración de intenciones donde se recoja el compromiso de promotor y proyectistas de cumplir con las medidas descritas. Esta declaración de intenciones debe detallar cómo se adoptarán las medidas, cada cuánto tiempo y a través de qué medio se harán públicos los consumos; al menos, con una previsión de un año vista."]
[]
[null,null,null,"VALORACIÓN DEL CRITERIO",null,{"$f":"(IF($H118=\"sí\",$F116*0.25,0))+(IF($H120=\"sí\",$F116*0.25,0))+(IF($H122=\"sí\",$F116*0.25,0))+(IF($H124=\"sí\",$F116*0.25,0))","v":0}]
[]
[]
[]
[null,null,null,{"$f":"'Matriz VERDE-GBCe'!H50","v":"CC 08"},{"$f":"VLOOKUP($D136,'Matriz VERDE-GBCe'!$H$5:$K$50,2,FALSE)","v":"Certificaciones voluntarias del edificio."},{"$f":"VLOOKUP($D136,'Matriz VERDE-GBCe'!$H$5:$K$50,3,FALSE)","v":0}]
[]
[null,null,null,null,"El edificio cuenta con una certificación VERDE"]
[]
[null,null,null,null,"El edificio cuenta con otra certificación voluntaria que valora la sostenibilidad en la edificación."]
[]
[null,null,null,"NOTAS"]
[]
[null,null,null,"DOCUMENTOS JUSTIFICATIVOS"]
[]
[null,null,null,"CC 04.01","Declaración de intenciones donde se recoja el compromiso de promotor y proyectistas de cumplir con las medidas descritas. Esta declaración de intenciones debe detallar cómo se adoptarán las medidas, cada cuánto tiempo y a través de qué medio se harán públicos los consumos; al menos, con una previsión de un año vista."]
[]
[null,null,null,"VALORACIÓN DEL CRITERIO",null,{"$f":"IF($H138=\"sí\",$F136,IF(H140=\"Sí\",F136*0.5,0))","v":0}]
[]
[]
[]
[]
[null,null,null,null,null,"VALORACIÓN ÁREA"]
[]
[null,null,null,null,null,"SUBTOTAL",null,{"$f":"F19+F37+F55+F72+F91+F112+F132","v":0}]
[]
[null,null,null,null,null,"SOBRE",null,{"$f":"VLOOKUP(B$2,'Matriz VERDE-GBCe'!$G$2:$K$49,4,FALSE)","v":0.14523734674630615}]
[]
[]
[]
[]
[]
[null,null,null,null,null,"SÍ",null,"x"]

{"sheet":"INN","index":29,"n_rows":47,"n_cols":22,"rows_kept":47,"cut":false,"hidden":false,"merged":[[1,1,1,2],[1,3,1,4],[1,5,1,6],[28,3,28,4],[28,5,28,6],[20,2,20,3],[24,2,24,3],[8,5,8,6],[12,5,12,6],[16,5,16,6],[20,5,20,6],[24,5,24,6],[36,5,36,8],[8,2,8,3],[12,2,12,3],[16,2,16,3],[30,4,30,5],[32,3,32,4],[26,5,26,6]]}
[]
[null,"INN",null,"INNOVACIÓN",null,null,null,null,null,null,null,null,null,"SÍ"]
[null,null,null,null,null,null,null,null,null,null,null,null,null,"NO"]
[]
[null,null,null,"INN","Medidas de innovación propuestas",0.05,null,null,null,null,null,null,null,null,null,null,null,null,"SE ADJUNTA",null,"SÍ","NO"]
[null,null,null,null,null,null,null,null,null,null,null,null,null,null,null,null,null,null,"NO SE ADJUNTA",null,"NO"]
[null,null,null,null,"medida de innovación 1",null,null,null,null,null,null,null,null,null,null,null,null,null,"NO APLICA"]
[null,null,null,null,null,null,null,null,null,null,null,null,null,null,null,null,null,null,"NO SE ADJUNTA",null,"NO"]
[null,null,"Descripción:",null,null,null,null,null,null,null,null,null,null,null,null,null,null,null,"NO APLICA"]
[null,null,null,null,null,null,null,null,null,null,null,null,null,null,null,null,null,null,"NO SE ADJUNTA",null,"NO"]
[null,null,null,null,"medida de innovación 2",null,null,null,null,null,null,null,null,null,null,null,null,null,"NO APLICA"]
[null,null,null,null,null,null,null,null,null,null,null,null,null,null,null,null,null,null,"NO SE ADJUNTA",null,"NO"]
[null,null,"Descripción:",null,null,null,null,null,null,null,null,null,null,null,null,null,null,null,"NO APLICA"]
[null,null,null,null,null,null,null,null,null,null,null,null,null,null,null,null,null,null,"NO SE ADJUNTA",null,"NO"]
[null,null,null,null,"medida de innovación 3",null,null,null,null,null,null,null,null,null,null,null,null,null,"NO APLICA"]
[null,null,null,null,null,null,null,null,null,null,null,null,null,null,null,null,null,null,"NO SE ADJUNTA",null,"NO"]
[null,null,"Descripción:",null,null,null,null,null,null,null,null,null,null,null,null,null,null,null,"NO APLICA"]
[null,null,null,null,null,null,null,null,null,null,null,null,null,null,null,null,null,null,"NO SE ADJUNTA",null,"NO"]
[null,null,null,null,"medida de innovación 4",null,null,null,null,null,null,null,null,null,null,null,null,null,"NO APLICA"]
[null,null,null,null,null,null,null,null,null,null,null,null,null,null,null,null,null,null,"NO SE ADJUNTA",null,"NO"]
[null,null,"Descripción:",null,null,null,null,null,null,null,null,null,null,null,null,null,null,null,"NO APLICA"]
[null,null,null,null,null,null,null,null,null,null,null,null,null,null,null,null,null,null,"NO SE ADJUNTA",null,"NO"]
[null,null,null,null,"medida de innovación 5",null,null,null,null,null,null,null,null,null,null,null,null,null,"NO APLICA"]
[null,null,null,null,null,null,null,null,null,null,null,null,null,null,null,null,null,null,"NO SE ADJUNTA",null,"NO"]
[null,null,"Descripción:",null,null,null,null,null,null,null,null,null,null,null,null,null,null,null,"NO APLICA"]
[]
[null,null,null,"NOTAS"]
[]
[null,null,null,"DOCUMENTOS JUSTIFICATIVOS"]
[]
[]
[]
[null,null,null,"VALORACIÓN DEL CRITERIO",null,null,null,{"$f":"(IF(H7=\"SÍ\",0.01,0))+(IF(H11=\"SÍ\",0.01,0))+(IF(H15=\"SÍ\",0.01,0))+(IF(H19=\"SÍ\",0.01,0))+(IF(H23=\"SÍ\",0.01,0))","v":0}]
[]
[]
[]
[null,null,null,null,null,"VALORACIÓN ÁREA"]
[]
[null,null,null,null,null,"SUBTOTAL",null,{"$f":"H33","v":0}]
[]
[null,null,null,null,null,"SOBRE",null,0.05]
[]
[]
[]
[]
[]
[null,null,null,null,null,"SÍ",null,"x"]

{"sheet":"Informe resultados","index":30,"n_rows":72,"n_cols":16,"rows_kept":72,"cut":false,"hidden":false,"merged":[[59,11,66,11],[59,13,66,13],[68,9,68,10],[68,11,68,12],[33,5,33,8],[34,5,34,8],[38,5,38,8],[39,5,39,8],[40,5,40,8],[43,5,43,8],[44,5,44,8],[42,5,42,8],[45,5,45,8],[46,5,46,8],[52,5,52,8],[52,9,56,9],[59,9,66,9],[57,9,58,9],[58,5,58,8],[42,9,51,9],[51,5,51,8],[4,3,4,13],[3,3,3,13],[37,3,41,3],[37,5,37,8],[41,5,41,8],[28,3,36,3],[28,5,28,8],[28,9,36,9],[35,5,35,8],[36,5,36,8],[27,5,27,8],[27,3,27,4],[29,5,29,8],[6,3,26,14],[71,4,71,8],[28,13,36,13],[37,13,41,13],[42,13,51,13],[52,13,56,13],[57,13,58,13],[28,11,36,11],[37,11,41,11],[42,11,51,11],[52,11,56,11],[57,11,58,11],[59,5,59,8],[54,5,54,8],[53,5,53,8],[68,3,68,8],[37,9,41,9],[59,15,65,15],[28,14,36,14],[37,14,41,14],[42,14,51,14],[52,14,56,14],[57,14,58,14],[28,15,36,15],[37,15,41,15],[42,15,51,15],[52,15,56,15],[57,15,58,15],[59,14,66,14],[52,2,56,2],[57,2,58,2],[59,2,65,2],[64,5,64,8],[60,5,60,8],[61,5,61,8],[62,5,62,8],[63,5,63,8],[65,5,65,8],[52,3,56,3],[55,5,55,8],[56,5,56,8],[57,3,58,3],[57,5,57,8],[59,3,66,3],[66,5,66,8],[28,2,36,2],[37,2,41,2],[42,2,51,2],[31,5,31,8],[30,5,30,8],[32,5,32,8],[42,3,51,3],[47,5,47,8],[48,5,48,8],[49,5,49,8],[50,5,50,8]]}
[]
[]
[]
[null,null,null,"INFORME DEL COMPORTAMIENTO SOSTENIBLE PARA VERDE W Equipamiento"]
[null,null,null,"CONJUNTO DE CRITERIOS"]
[]
[]
[]
[]
[]
[]
[]
[]
[]
[]
[]
[]
[]
[]
[]
[]
[]
[]
[]
[]
[]
[]
[null,null,"Áreas de criterios","Áreas de criterios",null,"Criterio",null,null,null,"Peso del área","Peso del criterio","Puntuación del área","Puntuación del criterio","Porcentaje de cumplimiento","Nota relativa","Porcentaje por cumplir"]
[null,null,{"$f":"'Matriz VERDE-GBCe'!G4","v":"PyE"},{"$f":"'Matriz VERDE-GBCe'!H4","v":"Parcela y Emplazamiento."},{"$f":"'Matriz VERDE-GBCe'!H5","v":"PyE 01"},{"$f":"VLOOKUP($E29,'Matriz VERDE-GBCe'!$H$5:$K$49,2,FALSE)","v":"Proximidad al transporte publico."},null,null,null,{"$f":"SUM(K29:K37)","v":0.14272241433511471},{"$f":"VLOOKUP($E29,'Matriz VERDE-GBCe'!$H$5:$K$49,3,FALSE)","v":2.2005658597925176E-2},{"$f":"SUM(M29:M37)","v":0},{"$f":"PyE!F27","v":0},{"$f":"IF(J29=0,0,L29/J29)","v":0},{"$f":"IF(N29>80%,5,IF(N29>60%,4,IF(N29>50%,3,IF(N29>40%,2,IF(N29>30%,1,0)))))","v":0},{"$f":"1-N29","v":1}]
[null,null,null,null,{"$f":"'Matriz VERDE-GBCe'!H6","v":"PyE 02"},{"$f":"VLOOKUP($E30,'Matriz VERDE-GBCe'!$H$5:$K$49,2,FALSE)","v":"Proximidad a equipamiento y servicios."},null,null,null,null,{"$f":"VLOOKUP($E30,'Matriz VERDE-GBCe'!$H$5:$K$49,3,FALSE)","v":2.2005658597925176E-2},null,{"$f":"PyE!F49","v":0}]
[null,null,null,null,{"$f":"'Matriz VERDE-GBCe'!H7","v":"PyE 03"},{"$f":"VLOOKUP($E31,'Matriz VERDE-GBCe'!$H$5:$K$49,2,FALSE)","v":"Facilidades para la bicicleta."},null,null,null,null,{"$f":"VLOOKUP($E31,'Matriz VERDE-GBCe'!$H$5:$K$49,3,FALSE)","v":2.2005658597925176E-2},null,{"$f":"PyE!F98","v":0}]
[null,null,null,null,{"$f":"'Matriz VERDE-GBCe'!H8","v":"PyE 04"},{"$f":"VLOOKUP($E32,'Matriz VERDE-GBCe'!$H$5:$K$49,2,FALSE)","v":"Capacidad de carga de vehículos eléctricos."},null,null,null,null,{"$f":"VLOOKUP($E32,'Matriz VERDE-GBCe'!$H$5:$K$49,3,FALSE)","v":1.1631562401760449E-2},null,{"$f":"PyE!F122","v":0}]
[null,null,null,null,{"$f":"'Matriz VERDE-GBCe'!H9","v":"PyE 05"},{"$f":"VLOOKUP($E33,'Matriz VERDE-GBCe'!$H$5:$K$49,2,FALSE)","v":"Clasificación de RSU."},null,null,null,null,{"$f":"VLOOKUP($E33,'Matriz VERDE-GBCe'!$H$5:$K$49,3,FALSE)","v":1.2574662055957243E-2},null,{"$f":"PyE!F166","v":0}]
[null,null,null,null,{"$f":"'Matriz VERDE-GBCe'!H10","v":"PyE 06"},{"$f":"VLOOKUP($E34,'Matriz VERDE-GBCe'!$H$5:$K$49,2,FALSE)","v":"Gestión y Restauración del hábitat."},null,null,null,null,{"$f":"VLOOKUP($E34,'Matriz VERDE-GBCe'!$H$5:$K$49,3,FALSE)","v":0},null,{"$f":"PyE!F193","v":0}]
[null,null,null,null,{"$f":"'Matriz VERDE-GBCe'!H11","v":"PyE 07"},{"$f":"VLOOKUP($E35,'Matriz VERDE-GBCe'!$H$5:$K$49,2,FALSE)","v":"Uso de plantas para crear sombras."},null,null,null,null,{"$f":"VLOOKUP($E35,'Matriz VERDE-GBCe'!$H$5:$K$49,3,FALSE)","v":2.3420308079220367E-2},null,{"$f":"PyE!F219","v":0}]
[null,null,null,null,{"$f":"'Matriz VERDE-GBCe'!H12","v":"PyE 08"},{"$f":"VLOOKUP($E36,'Matriz VERDE-GBCe'!$H$5:$K$49,2,FALSE)","v":"Efecto isla de calor."},null,null,null,null,{"$f":"VLOOKUP($E36,'Matriz VERDE-GBCe'!$H$5:$K$49,3,FALSE)","v":1.6504243948443881E-2},null,{"$f":"PyE!F267","v":0}]
[null,null,null,null,{"$f":"'Matriz VERDE-GBCe'!H13","v":"PyE 09"},{"$f":"VLOOKUP($E37,'Matriz VERDE-GBCe'!$H$5:$K$49,2,FALSE)","v":"Contaminación lumínica."},null,null,null,null,{"$f":"VLOOKUP($E37,'Matriz VERDE-GBCe'!$H$5:$K$49,3,FALSE)","v":1.2574662055957243E-2},null,{"$f":"PyE!F291","v":0}]
[null,null,{"$f":"'Matriz VERDE-GBCe'!G14","v":"EyA"},{"$f":"'Matriz VERDE-GBCe'!H14","v":"Energía y Atmósfera."},{"$f":"'Matriz VERDE-GBCe'!H15","v":"EyA 01"},{"$f":"VLOOKUP($E38,'Matriz VERDE-GBCe'!$H$5:$K$49,2,FALSE)","v":"Demanda de calefacción y refrigeración."},null,null,null,{"$f":"SUM(K38:K42)","v":0.20591009116629985},{"$f":"VLOOKUP($E38,'Matriz VERDE-GBCe'!$H$5:$K$49,3,FALSE)","v":8.4878968877711389E-2},{"$f":"SUM(M38:M42)","v":0},{"$f":"EyA!F33","v":0},{"$f":"IF(J38=0,0,L38/J38)","v":0},{"$f":"IF(N38>80%,5,IF(N38>60%,4,IF(N38>50%,3,IF(N38>40%,2,IF(N38>30%,1,0)))))","v":0},{"$f":"1-N38","v":1}]
[null,null,null,null,{"$f":"'Matriz VERDE-GBCe'!H16","v":"EyA 02"},{"$f":"VLOOKUP($E39,'Matriz VERDE-GBCe'!$H$5:$K$49,2,FALSE)","v":"Consumo de energía primaria no renovable."},null,null,null,null,{"$f":"VLOOKUP($E39,'Matriz VERDE-GBCe'!$H$5:$K$49,3,FALSE)","v":5.0298648223828971E-2},null,{"$f":"EyA!F68","v":0}]
[null,null,null,null,{"$f":"'Matriz VERDE-GBCe'!H17","v":"EyA 03"},{"$f":"VLOOKUP($E40,'Matriz VERDE-GBCe'!$H$5:$K$49,2,FALSE)","v":"Emisiones de CO2"},null,null,null,null,{"$f":"VLOOKUP($E40,'Matriz VERDE-GBCe'!$H$5:$K$49,3,FALSE)","v":3.1436655139893105E-2},null,{"$f":"EyA!F100","v":0}]
[null,null,null,null,{"$f":"'Matriz VERDE-GBCe'!H18","v":"EyA 04"},{"$f":"VLOOKUP($E41,'Matriz VERDE-GBCe'!$H$5:$K$49,2,FALSE)","v":"Consumo en sistemas de comunicación mecánicos."},null,null,null,null,{"$f":"VLOOKUP($E41,'Matriz VERDE-GBCe'!$H$5:$K$49,3,FALSE)","v":1.4146494812951898E-2},null,{"$f":"EyA!F120","v":0}]
[null,null,null,null,{"$f":"'Matriz VERDE-GBCe'!H19","v":"EyA 05"},{"$f":"VLOOKUP($E42,'Matriz VERDE-GBCe'!$H$5:$K$49,2,FALSE)","v":"Elección responsable de refrigerantes."},null,null,null,null,{"$f":"VLOOKUP($E42,'Matriz VERDE-GBCe'!$H$5:$K$49,3,FALSE)","v":2.5149324111914485E-2},null,{"$f":"EyA!F144","v":0}]
[null,null,{"$f":"'Matriz VERDE-GBCe'!G21","v":"RN"},{"$f":"'Matriz VERDE-GBCe'!H21","v":"Recursos Naturales."},{"$f":"'Matriz VERDE-GBCe'!H22","v":"RN 01"},{"$f":"VLOOKUP($E43,'Matriz VERDE-GBCe'!$H$5:$K$49,2,FALSE)","v":"Consumo de agua en aparatos sanitarios."},null,null,null,{"$f":"SUM(K43:K52)","v":0.22634391700723036},{"$f":"VLOOKUP($E43,'Matriz VERDE-GBCe'!$H$5:$K$49,3,FALSE)","v":3.1436655139893105E-2},{"$f":"SUM(M43:M52)","v":{"$error":"#VALUE!"}},{"$f":"RN!F25","v":0},{"$f":"IF(J43=0,0,L43/J43)","v":{"$error":"#VALUE!"}},{"$f":"IF(N43>80%,5,IF(N43>60%,4,IF(N43>50%,3,IF(N43>40%,2,IF(N43>30%,1,0)))))","v":{"$error":"#VALUE!"}},{"$f":"1-N43","v":{"$error":"#VALUE!"}}]
[null,null,null,null,{"$f":"'Matriz VERDE-GBCe'!H23","v":"RN 02"},{"$f":"VLOOKUP($E44,'Matriz VERDE-GBCe'!$H$5:$K$49,2,FALSE)","v":"Necesidades de riego en jardines."},null,null,null,null,{"$f":"VLOOKUP($E44,'Matriz VERDE-GBCe'!$H$5:$K$49,3,FALSE)","v":0},null,{"$f":"RN!F49","v":{"$error":"#VALUE!"}}]
[null,null,null,null,{"$f":"'Matriz VERDE-GBCe'!H25","v":"RN 04"},{"$f":"VLOOKUP($E45,'Matriz VERDE-GBCe'!$H$5:$K$49,2,FALSE)","v":"Uso de agua no potable."},null,null,null,null,{"$f":"VLOOKUP($E45,'Matriz VERDE-GBCe'!$H$5:$K$49,3,FALSE)","v":1.8861993083935862E-2},null,{"$f":"RN!F96","v":0}]
[null,null,null,null,{"$f":"'Matriz VERDE-GBCe'!H26","v":"RN 05"},{"$f":"VLOOKUP($E46,'Matriz VERDE-GBCe'!$H$5:$K$49,2,FALSE)","v":"Uso de materiales reciclados."},null,null,null,null,{"$f":"VLOOKUP($E46,'Matriz VERDE-GBCe'!$H$5:$K$49,3,FALSE)","v":1.5718327569946552E-2},null,{"$f":"RN!F135","v":0}]
[null,null,null,null,{"$f":"'Matriz VERDE-GBCe'!H27","v":"RN 06"},{"$f":"VLOOKUP($E47,'Matriz VERDE-GBCe'!$H$5:$K$49,2,FALSE)","v":"Uso de materiales obtenidos de recursos sostenibles."},null,null,null,null,{"$f":"VLOOKUP($E47,'Matriz VERDE-GBCe'!$H$5:$K$49,3,FALSE)","v":1.2574662055957243E-2},null,{"$f":"RN!F165","v":0}]
[null,null,null,null,{"$f":"'Matriz VERDE-GBCe'!H28","v":"RN 07"},{"$f":"VLOOKUP($E48,'Matriz VERDE-GBCe'!$H$5:$K$49,2,FALSE)","v":"Uso de materiales locales."},null,null,null,null,{"$f":"VLOOKUP($E48,'Matriz VERDE-GBCe'!$H$5:$K$49,3,FALSE)","v":2.5149324111914485E-2},null,{"$f":"RN!F185","v":0}]
[null,null,null,null,{"$f":"'Matriz VERDE-GBCe'!H29","v":"RN 08"},{"$f":"VLOOKUP($E49,'Matriz VERDE-GBCe'!$H$5:$K$49,2,FALSE)","v":"Planificación de una estrategia de demolición selectiva."},null,null,null,null,{"$f":"VLOOKUP($E49,'Matriz VERDE-GBCe'!$H$5:$K$49,3,FALSE)","v":1.5718327569946552E-2},null,{"$f":"RN!F199","v":0}]
[null,null,null,null,{"$f":"'Matriz VERDE-GBCe'!H30","v":"RN 09"},{"$f":"VLOOKUP($E50,'Matriz VERDE-GBCe'!$H$5:$K$49,2,FALSE)","v":"Gestión de los residuos de la construcción."},null,null,null,null,{"$f":"VLOOKUP($E50,'Matriz VERDE-GBCe'!$H$5:$K$49,3,FALSE)","v":1.2574662055957243E-2},null,{"$f":"RN!F223","v":0}]
[null,null,null,null,{"$f":"'Matriz VERDE-GBCe'!H31","v":"RN 10"},{"$f":"VLOOKUP($E51,'Matriz VERDE-GBCe'!$H$5:$K$49,2,FALSE)","v":"Impacto de los materiales de la construcción."},null,null,null,null,{"$f":"VLOOKUP($E51,'Matriz VERDE-GBCe'!$H$5:$K$49,3,FALSE)","v":6.9160641307764836E-2},null,{"$f":"RN!F292","v":0}]
[null,null,null,null,{"$f":"'Matriz VERDE-GBCe'!H32","v":"RN 11"},{"$f":"VLOOKUP($E52,'Matriz VERDE-GBCe'!$H$5:$K$49,2,FALSE)","v":"Ecoetiquetado de producto."},null,null,null,null,{"$f":"VLOOKUP($E52,'Matriz VERDE-GBCe'!$H$5:$K$49,3,FALSE)","v":2.5149324111914485E-2},null,{"$f":"RN!F312","v":0}]
[null,null,{"$f":"'Matriz VERDE-GBCe'!G33","v":"CAI"},{"$f":"'Matriz VERDE-GBCe'!H33","v":"Calidad del Ambiente Interior."},{"$f":"'Matriz VERDE-GBCe'!H34","v":"CAI 01"},{"$f":"VLOOKUP($E53,'Matriz VERDE-GBCe'!$H$5:$K$49,2,FALSE)","v":"Limitación en las emisiones de COVs."},null,null,null,{"$f":"SUM(K53:K57)","v":0.18861993083935863},{"$f":"VLOOKUP($E53,'Matriz VERDE-GBCe'!$H$5:$K$49,3,FALSE)","v":3.1436655139893105E-2},{"$f":"SUM(M53:M57)","v":0},{"$f":"CAI!F29","v":0},{"$f":"IF(J53=0,0,L53/J53)","v":0},{"$f":"IF(N53>80%,5,IF(N53>60%,4,IF(N53>50%,3,IF(N53>40%,2,IF(N53>30%,1,0)))))","v":0},{"$f":"1-N53","v":1}]
[null,null,null,null,{"$f":"'Matriz VERDE-GBCe'!H35","v":"CAI 02"},{"$f":"VLOOKUP($E54,'Matriz VERDE-GBCe'!$H$5:$K$49,2,FALSE)","v":"Monitorización de la calidad del aire"},null,null,null,null,{"$f":"VLOOKUP($E54,'Matriz VERDE-GBCe'!$H$5:$K$49,3,FALSE)","v":3.1436655139893105E-2},null,{"$f":"CAI!F47","v":0}]
[null,null,null,null,{"$f":"'Matriz VERDE-GBCe'!H36","v":"CAI 03"},{"$f":"VLOOKUP($E55,'Matriz VERDE-GBCe'!$H$5:$K$49,2,FALSE)","v":"Iluminación natural en los espacios de ocupación primaria."},null,null,null,null,{"$f":"VLOOKUP($E55,'Matriz VERDE-GBCe'!$H$5:$K$49,3,FALSE)","v":5.0298648223828971E-2},null,{"$f":"CAI!F68","v":0}]
[null,null,null,null,{"$f":"'Matriz VERDE-GBCe'!H37","v":"CAI 04"},{"$f":"VLOOKUP($E56,'Matriz VERDE-GBCe'!$H$5:$K$49,2,FALSE)","v":"Iluminación artificial en los espacios de ocupación primaria."},null,null,null,null,{"$f":"VLOOKUP($E56,'Matriz VERDE-GBCe'!$H$5:$K$49,3,FALSE)","v":3.1436655139893105E-2},null,{"$f":"CAI!F88","v":0}]
[null,null,null,null,{"$f":"'Matriz VERDE-GBCe'!H38","v":"CAI 05"},{"$f":"VLOOKUP($E57,'Matriz VERDE-GBCe'!$H$5:$K$49,2,FALSE)","v":"Protección frente al ruido."},null,null,null,null,{"$f":"VLOOKUP($E57,'Matriz VERDE-GBCe'!$H$5:$K$49,3,FALSE)","v":4.4011317195850344E-2},null,{"$f":"CAI!F143","v":0}]
[null,null,{"$f":"'Matriz VERDE-GBCe'!G39","v":"ASE"},{"$f":"'Matriz VERDE-GBCe'!H39","v":"Aspectos Sociales y Económicos."},{"$f":"'Matriz VERDE-GBCe'!H40","v":"ASE 01"},{"$f":"VLOOKUP($E58,'Matriz VERDE-GBCe'!$H$5:$K$49,2,FALSE)","v":"Acceso universal."},null,null,null,{"$f":"SUM(K58:K59)","v":4.7154982709839657E-2},{"$f":"VLOOKUP($E58,'Matriz VERDE-GBCe'!$H$5:$K$49,3,FALSE)","v":2.8292989625903795E-2},{"$f":"SUM(M58:M59)","v":0},{"$f":"ASE!F24","v":0},{"$f":"IF(J58=0,0,L58/J58)","v":0},{"$f":"IF(N58>80%,5,IF(N58>60%,4,IF(N58>50%,3,IF(N58>40%,2,IF(N58>30%,1,0)))))","v":0},{"$f":"1-N58","v":1}]
[null,null,null,null,{"$f":"'Matriz VERDE-GBCe'!H41","v":"ASE 02"},{"$f":"VLOOKUP($E59,'Matriz VERDE-GBCe'!$H$5:$K$49,2,FALSE)","v":"Acceso visual desde las áreas de trabajo."},null,null,null,null,{"$f":"VLOOKUP($E59,'Matriz VERDE-GBCe'!$H$5:$K$49,3,FALSE)","v":1.8861993083935862E-2},null,{"$f":"ASE!F40","v":0}]
[null,null,{"$f":"'Matriz VERDE-GBCe'!G42","v":"CC"},{"$f":"'Matriz VERDE-GBCe'!H42","v":"Concepto de Calidad."},{"$f":"'Matriz VERDE-GBCe'!H43","v":"CC 01"},{"$f":"VLOOKUP($E60,'Matriz VERDE-GBCe'!$H$5:$K$49,2,FALSE)","v":"Eficiencia de los espacios."},null,null,null,{"$f":"SUM(K60:K67)","v":0.14523734674630615},{"$f":"VLOOKUP($E60,'Matriz VERDE-GBCe'!$H$5:$K$49,3,FALSE)","v":1.8861993083935862E-2},{"$f":"SUM(M60:M67)","v":0},{"$f":"CC!F19","v":0},{"$f":"IF(J60=0,0,L60/J60)","v":0},{"$f":"IF(N60>80%,5,IF(N60>60%,4,IF(N60>50%,3,IF(N60>40%,2,IF(N60>30%,1,0)))))","v":0},{"$f":"1-N60","v":1}]
[null,null,null,null,{"$f":"'Matriz VERDE-GBCe'!H44","v":"CC 02"},{"$f":"VLOOKUP($E61,'Matriz VERDE-GBCe'!$H$5:$K$49,2,FALSE)","v":"Sistema de gestión del edificio (BMS)."},null,null,null,null,{"$f":"VLOOKUP($E61,'Matriz VERDE-GBCe'!$H$5:$K$49,3,FALSE)","v":3.4580320653882418E-2},null,{"$f":"CC!F37","v":0}]
[null,null,null,null,{"$f":"'Matriz VERDE-GBCe'!H45","v":"CC 03"},{"$f":"VLOOKUP($E62,'Matriz VERDE-GBCe'!$H$5:$K$49,2,FALSE)","v":"Capacidad de funcionamiento parcial de las instalaciones."},null,null,null,null,{"$f":"VLOOKUP($E62,'Matriz VERDE-GBCe'!$H$5:$K$49,3,FALSE)","v":1.2574662055957243E-2},null,{"$f":"CC!F55","v":0}]
[null,null,null,null,{"$f":"'Matriz VERDE-GBCe'!H46","v":"CC 04"},{"$f":"VLOOKUP($E63,'Matriz VERDE-GBCe'!$H$5:$K$49,2,FALSE)","v":"Capacidad de control local de la iluminación."},null,null,null,null,{"$f":"VLOOKUP($E63,'Matriz VERDE-GBCe'!$H$5:$K$49,3,FALSE)","v":2.2634391700723039E-2},null,{"$f":"CC!F72","v":0}]
[null,null,null,null,{"$f":"'Matriz VERDE-GBCe'!H47","v":"CC 05"},{"$f":"VLOOKUP($E64,'Matriz VERDE-GBCe'!$H$5:$K$49,2,FALSE)","v":"Capacidad de control local de los sistemas de HVAC."},null,null,null,null,{"$f":"VLOOKUP($E64,'Matriz VERDE-GBCe'!$H$5:$K$49,3,FALSE)","v":1.8861993083935862E-2},null,{"$f":"CC!F91","v":0}]
[null,null,null,null,{"$f":"'Matriz VERDE-GBCe'!H48","v":"CC 06"},{"$f":"VLOOKUP($E65,'Matriz VERDE-GBCe'!$H$5:$K$49,2,FALSE)","v":"Custodia de la documentación del proyecto."},null,null,null,null,{"$f":"VLOOKUP($E65,'Matriz VERDE-GBCe'!$H$5:$K$49,3,FALSE)","v":1.8861993083935862E-2},null,{"$f":"CC!F112","v":0}]
[null,null,null,null,{"$f":"'Matriz VERDE-GBCe'!H49","v":"CC 07"},{"$f":"VLOOKUP($E66,'Matriz VERDE-GBCe'!$H$5:$K$49,2,FALSE)","v":"El edificio como una herramienta para la educación."},null,null,null,null,{"$f":"VLOOKUP($E66,'Matriz VERDE-GBCe'!$H$5:$K$49,3,FALSE)","v":1.8861993083935862E-2},null,{"$f":"CC!F132","v":0}]
[null,null,null,null,{"$f":"'Matriz VERDE-GBCe'!H50","v":"CC 08"},{"$f":"VLOOKUP($E67,'Matriz VERDE-GBCe'!$H$5:$K$50,2,FALSE)","v":"Certificaciones voluntarias del edificio."},null,null,null,null,{"$f":"VLOOKUP($E67,'Matriz VERDE-GBCe'!$H$5:$K$50,3,FALSE)","v":0},null,{"$f":"CC!F148","v":0}]
[null,null,"INN","Innovación","IN","Propuestas de innovación aceptadas",null,null,null,"+ 5%","+ 1%",{"$f":"INN!H33","v":0}]
[null,null,null,"TOTAL",null,null,null,null,null,{"$f":"SUM(J29:J66)","v":0.95598868280414928},null,{"$f":"SUM(L29:L68)","v":{"$error":"#VALUE!"}},null,null,{"$f":"IF(L69>80%,5,IF(L69>60%,4,IF(L69>50%,3,IF(L69>40%,2,IF(L69>30%,1,0)))))","v":{"$error":"#VALUE!"}}]
[]
[]
[null,null,null,null,"RESULTADO",null,null,null,null,{"$f":"IF(L69>80%,5,IF(L69>60%,4,IF(L69>50%,3,IF(L69>40%,2,IF(L69>30%,1,0)))))","v":{"$error":"#VALUE!"}}]

{"sheet":"Resultados por impactos","index":31,"n_rows":26,"n_cols":11,"rows_kept":26,"cut":false,"hidden":false,"merged":[[5,1,7,1],[18,3,18,5],[19,3,19,5],[24,3,24,5],[21,3,21,5],[22,3,22,5],[23,3,23,5],[15,3,15,5],[16,3,16,5],[25,3,25,5],[17,3,17,5],[20,2,20,5],[2,2,2,9],[1,2,1,9],[4,2,4,5],[5,3,5,5],[6,3,6,5],[7,3,7,5],[8,3,8,5],[9,3,9,5],[10,3,10,5],[11,3,11,5],[12,3,12,5],[13,3,13,5],[14,3,14,5]]}
[]
[null,null,"INFORME DEL COMPORTAMIENTO SOSTENIBLE PARA VERDE W Equipamiento"]
[null,null,"CONJUNTO DE INDICADORES DE IMPACTOS"]
[]
[null,null,"Impactos negativos",null,null,null,"Peso del impacto","Puntuación máxima a obtener","Puntuación obtenida","Impacto evitado","Impacto residual"]
[null,null,"IN 01",{"$f":"'Matriz VERDE-GBCe'!M1","v":"Cambio climático"},null,null,{"$f":"HLOOKUP(D6,'Matriz VERDE-GBCe'!$M$1:$X$3,3,FALSE)","v":0.12},{"$f":"'Matriz VERDE-GBCe'!Z50","v":0},{"$f":"'Matriz VERDE-GBCe'!AM50","v":0},{"$f":"IFERROR(IF(H6=0,0,I6/H6),\"\")","v":0},{"$f":"1-J6","v":1}]
[null,null,null,"Potencial de agotamiento de la capara de ozono estratosférica",null,null,0,0,0,{"$f":"IF(H7=0,0,I7/H7)","v":0},0]
[null,null,"IN 02",{"$f":"'Matriz VERDE-GBCe'!N1","v":"Emisiones a la atmósfera, tierra y agua"},null,null,{"$f":"HLOOKUP(D8,'Matriz VERDE-GBCe'!$M$1:$X$3,3,FALSE)","v":0.08},{"$f":"'Matriz VERDE-GBCe'!AA50","v":0},{"$f":"'Matriz VERDE-GBCe'!AN50","v":0},{"$f":"IFERROR(IF(H8=0,0,I8/H8),\"\")","v":0},{"$f":"1-J8","v":1}]
[null,null,"IN 03",{"$f":"'Matriz VERDE-GBCe'!O1","v":"Cambios en la biodiversidad"},null,null,{"$f":"HLOOKUP(D9,'Matriz VERDE-GBCe'!$M$1:$X$3,3,FALSE)","v":0.04},{"$f":"'Matriz VERDE-GBCe'!AB50","v":0},{"$f":"'Matriz VERDE-GBCe'!AO50","v":0},{"$f":"IFERROR(IF(H9=0,0,I9/H9),\"\")","v":0},{"$f":"1-J9","v":1}]
[null,null,"IN 04",{"$f":"'Matriz VERDE-GBCe'!P1","v":"Agotamiento de energía no renovable"},null,null,{"$f":"HLOOKUP(D10,'Matriz VERDE-GBCe'!$M$1:$X$3,3,FALSE)","v":0.12},{"$f":"'Matriz VERDE-GBCe'!AC50","v":0},{"$f":"'Matriz VERDE-GBCe'!AP50","v":0},{"$f":"IFERROR(IF(H10=0,0,I10/H10),\"\")","v":0},{"$f":"1-J10","v":1}]
[null,null,null,"Agotamiento de recursos abióticos de elementos",null,null,0,0,0,0,0]
[null,null,"IN 05",{"$f":"'Matriz VERDE-GBCe'!Q1","v":"Agotamiento de agua potable"},null,null,{"$f":"HLOOKUP(D12,'Matriz VERDE-GBCe'!$M$1:$X$3,3,FALSE)","v":0.08},{"$f":"'Matriz VERDE-GBCe'!AD50","v":0},{"$f":"'Matriz VERDE-GBCe'!AQ50","v":0},{"$f":"IFERROR(IF(H12=0,0,I12/H12),\"\")","v":0},{"$f":"1-J12","v":1}]
[null,null,"IN 06",{"$f":"'Matriz VERDE-GBCe'!R1","v":"Agotamiento de recursos materiales"},null,null,{"$f":"HLOOKUP(D13,'Matriz VERDE-GBCe'!$M$1:$X$3,3,FALSE)","v":0.08},{"$f":"'Matriz VERDE-GBCe'!AE50","v":0},{"$f":"'Matriz VERDE-GBCe'!AR50","v":0},{"$f":"IFERROR(IF(H13=0,0,I13/H13),\"\")","v":0},{"$f":"1-J13","v":1}]
[null,null,null,"Uso de energía primaria renovable utilizados como materia prima",null,null,0,0,0,0,0]
[null,null,null,"Uso de energía primaria NO renovable excluyendo los recursos de energía utilizados como materia prima",null,null,0,0,0,0,0]
[null,null,null,"Uso de recursos de energía primaria no renovable utilizados como materia prima",null,null,0,0,0,0,0]
[null,null,"IN 07",{"$f":"'Matriz VERDE-GBCe'!S1","v":"Generación de residuos"},null,null,{"$f":"HLOOKUP(D17,'Matriz VERDE-GBCe'!$M$1:$X$3,3,FALSE)","v":0.04},{"$f":"'Matriz VERDE-GBCe'!AF50","v":0},{"$f":"'Matriz VERDE-GBCe'!AS50","v":0},{"$f":"IFERROR(IF(H17=0,0,I17/H17),\"\")","v":0},{"$f":"1-J17","v":1}]
[null,null,null,"Uso de combustibles secundarios renovables",null,null,0,0,0,0,0]
[null,null,null,"Uso de combustibles secundarios NO renovables",null,null,0,0,0,0,0]
[null,null,"I18","Residuos radioactivos vertidos",null,null,0,0,0,0,0]
[null,null,"Impactos positivos",null,null,null,"Peso del impacto","Puntuación máxima a obtener","Puntuación obtenida","Beneficio obtenido","Beneficio perdido"]
[null,null,"IP 01",{"$f":"'Matriz VERDE-GBCe'!T1","v":"Impactos sobre el vecindario"},null,null,{"$f":"HLOOKUP(D22,'Matriz VERDE-GBCe'!$M$1:$X$3,3,FALSE)","v":0.08},{"$f":"'Matriz VERDE-GBCe'!AG50","v":0},{"$f":"'Matriz VERDE-GBCe'!AT50","v":0},{"$f":"IFERROR(IF(H22=0,0,I22/H22),\"\")","v":0},{"$f":"1-J22","v":1}]
[null,null,"IP 02",{"$f":"'Matriz VERDE-GBCe'!U1","v":"Accesibilidad"},null,null,{"$f":"HLOOKUP(D23,'Matriz VERDE-GBCe'!$M$1:$X$3,3,FALSE)","v":0.04},{"$f":"'Matriz VERDE-GBCe'!AH50","v":0},{"$f":"'Matriz VERDE-GBCe'!AU50","v":0},{"$f":"IFERROR(IF(H23=0,0,I23/H23),\"\")","v":0},{"$f":"1-J23","v":1}]
[null,null,"IP 03",{"$f":"'Matriz VERDE-GBCe'!V1","v":"Salud y confort"},null,null,{"$f":"HLOOKUP(D24,'Matriz VERDE-GBCe'!$M$1:$X$3,3,FALSE)","v":0.16},{"$f":"'Matriz VERDE-GBCe'!AI50","v":0},{"$f":"'Matriz VERDE-GBCe'!AV50","v":0},{"$f":"IFERROR(IF(H24=0,0,I24/H24),\"\")","v":0},{"$f":"1-J24","v":1}]
[null,null,"IP 04",{"$f":"'Matriz VERDE-GBCe'!W1","v":"Aspectos económicos del resultado"},null,null,{"$f":"HLOOKUP(D25,'Matriz VERDE-GBCe'!$M$1:$X$3,3,FALSE)","v":0.08},{"$f":"'Matriz VERDE-GBCe'!AJ50","v":0},{"$f":"'Matriz VERDE-GBCe'!AW50","v":0},{"$f":"IFERROR(IF(H25=0,0,I25/H25),\"\")","v":0},{"$f":"1-J25","v":1}]
[null,null,"IP 05",{"$f":"'Matriz VERDE-GBCe'!X1","v":"Ahorro en el coste del ciclo de vida"},null,null,{"$f":"HLOOKUP(D26,'Matriz VERDE-GBCe'!$M$1:$X$3,3,FALSE)","v":0.08},{"$f":"'Matriz VERDE-GBCe'!AK50","v":0},{"$f":"'Matriz VERDE-GBCe'!AX50","v":0},{"$f":"IFERROR(IF(H26=0,0,I26/H26),\"\")","v":0},{"$f":"1-J26","v":1}]

{"sheet":"Indicadores","index":32,"n_rows":18,"n_cols":8,"rows_kept":18,"cut":false,"hidden":false,"merged":[[16,1,17,1],[16,2,17,2],[16,3,17,3],[9,1,13,1],[9,2,13,2],[9,3,13,3],[14,1,15,1],[14,2,15,2],[14,3,15,3],[13,4,13,5],[15,4,15,5],[1,1,1,7],[3,1,3,2],[4,1,8,1],[4,2,8,2],[4,3,8,3],[8,4,8,5],[2,2,2,4]]}
[]
[null,"INFORME DEL COMPORTAMIENTO SOSTENIBLE PARA VERDE W Equipamiento"]
[null,null,"INDICADORES AMBIENTALES"]
[null,"Impacto",null,"Indicador anual","Etapa","Alcance","Referencia","Objeto"]
[null,"IA 01","Cambio climático","Kg CO2 eq/m2","Etapa de producto","Materiales empleados en envolvente y particiones interiores",{"$f":"IFERROR(0,RN!F246/(DG!$E$18*RN!M102))","v":0},{"$f":"IF(DG!$E$18=0,0,RN!F252/DG!$E$18)","v":0}]
[null,null,null,null,"Etapa de proceso de construcción","Proceso constructivo del edificio",{"$f":"IFERROR(0,RN!F247/(DG!$E$18*RN!M102))","v":0},{"$f":"IF(DG!$E$18=0,0,RN!F253/DG!$E$18)","v":0}]
[null,null,null,null,"Etapa de uso","Calefacción, refrigeración y ACS en uso",{"$f":"IFERROR(0,IF(DG!E27=\"Rehabilitación\",EyA!#REF!,EyA!#REF!))","v":0},{"$f":"IF(DG!$E$18=0,0,EyA!H82)","v":0}]
[null,null,null,null,"Etapa de fin de vida","Materiales empleados en envolvente y particiones interiores",null,{"$f":"IF(DG!$E$18=0,0,RN!F256/DG!$E$18)","v":0}]
[null,null,null,null,"TOTAL",null,{"$f":"SUM(G5:G7)","v":0},{"$f":"SUM(H5:H8)","v":0}]
[null,"IA 04","Agotamiento de energía","kWh/m2","Etapa de producto","Materiales empleados en envolvente y particiones interiores",{"$f":"IF(DG!$E$18=0,0,RN!F248/(DG!$E$18*RN!M102))","v":0},{"$f":"IF(DG!$E$18=0,0,RN!F254/DG!$E$18)","v":0}]
[null,null,null,null,"Etapa de proceso de construcción","Materiales empleados en envolvente y particiones interiores",{"$f":"IF(DG!$E$18=0,0,RN!F253/(DG!$E$18*RN!M102))","v":0},{"$f":"IF(DG!$E$18=0,0,RN!F259/DG!$E$18)","v":0}]
[null,null,null,null,"Etapa de uso","Calefacción, refrigeración y ACS en uso",{"$f":"IF(DG!$E$18=0,0,EyA!H45)","v":0},{"$f":"IF(DG!$E$18=0,0,EyA!H47)","v":0}]
[null,null,null,null,"Etapa de fin de vida","Materiales empleados en envolvente y particiones interiores",{"$f":"IF(DG!$E$18=0,0,RN!F255/(DG!$E$18*RN!M102))","v":0},{"$f":"IF(DG!$E$18=0,0,RN!F261/DG!$E$18)","v":0}]
[null,null,null,null,"TOTAL",null,{"$f":"SUM(G10:G12)","v":0},{"$f":"SUM(H10:H12)","v":0}]
[null,"IA 05","Consumo de agua potable","m3/m2","Etapa de uso","Uso de sanitarios y necesidades de riego.",{"$f":"IFERROR(0,(RN!H11+RN!H35)/DG!$E$18)","v":0},{"$f":"IF(DG!$E$18=0,0,(RN!H13+RN!H37)/DG!$E$18)","v":0}]
[null,null,null,null,"TOTAL",null,{"$f":"SUM(G15:G15)","v":0},{"$f":"SUM(H15:H15)","v":0}]
[null,"IN 07","Generación de residuos no peligrosos","kg/m2","Etapa de producto","Materiales empleados en obra",{"$f":"IF(DG!$E$18=0,0,(RN!#REF!)/(DG!$E$18*RN!$M$102))","v":0},{"$f":"IF(DG!$E$18=0,0,(RN!#REF!)/(DG!$E$18*RN!$M$102))","v":0}]
[null,null,null,null,"TOTAL",null,{"$f":"SUM(G17:G17)","v":0},{"$f":"SUM(H17:H17)","v":0}]

{"sheet":"hojitas","index":33,"n_rows":9,"n_cols":2,"rows_kept":9,"cut":false,"hidden":true,"merged":[]}
[]
[]
[null,"FOTO"]
[0]
[1]
[2]
[3]
[4]
[5]